{"text_format":"1","workbook":"xlsx","n_sheets":43,"sheets":["Instructions","kT à TJ","Bilan initial","Croissance","Info Pays","Bilan 2025","Bilan 2030","Bilan 2035","Bilan 2050","Hypothèses","coordinates","Graphique","macros","principale25","principale30","principale35","principale50","MRV","Agriculture","Energie biomasse","Capture et stockage","Ciment","Mine de charbon","EE ménages","EE industries","EE chaleur résiduelle","EE services","EE offre","Distribution énergie","Foresterie","Changement combustible fossile","Emissions fugitives","Géothermique","HFC PFC SF6","Hydro","Décharge","Marine","Evitement méthane","N2O","Solaire","Transport","Eolien","LCOE & LCOT"],"not_rendered":{"charts":11,"images":10,"macros":1,"external_links":1,"defined_names":151,"comments":10,"pivot_tables":0},"unopened":[{"sheet":"macros","index":12,"reason":"part_missing"}],"bounds":{"document_bytes":16777216,"sheet_cells":100000,"rows_first":2000,"rows_last":500,"rows_between":2000,"halvings":0,"cell_chars":16384,"cell_head_chars":4096},"cells_cut":0,"cells_raw":0,"read":"whole","date_system":"1900"}

{"sheet":"Instructions","index":0,"n_rows":33,"n_cols":8,"rows_kept":33,"cut":false,"hidden":false,"merged":[]}
[]
[]
[]
[]
[]
[]
[]
[]
[]
[]
[]
[]
[]
[]
[]
[]
[]
[]
[]
[]
[]
[]
[]
[]
[]
[]
[]
[]
[]
[]
[]
[]
[null,null,null,null,null,null,null,8109]

{"sheet":"kT à TJ","index":1,"n_rows":57,"n_cols":14,"rows_kept":57,"cut":false,"hidden":false,"merged":[]}
["Conversion du bilan énergétique des unités de masse (Mt et millions de mètres cubes) en unités d'énergie (TJ)"]
[{"$f":"+Hypothèses!B2","v":"Pays X"},{"$f":"+Hypothèses!B3","v":2015}]
[]
["Unités de masse","GPL","Essence","Essence pour carburéacteurs","Diesel","Fiouls lourds","Kérosène et autres","Total produits pétroliers","Charbon","Lignite","Gaz","Coke","Coke de pétrole"]
["Unités","Mt","Mt","Mt","Mt","Mt","Mt","Mt","Mt","Mt","mcm","Mt","Mt"]
["Total",{"$f":"+B7+B8","v":3.9950000000000001},{"$f":"+C7+C8","v":2.028},1.319,20.131,0.46799999999999997,5.8000000000000003E-2,27.998999999999999,28.263000000000002,56.405999999999999,44508,4.9350000000000005,4.0919999999999996]
["Centrales fossiles",null,null,null,0.23799999999999999,0.22700000000000001,null,{"$f":"SUM(B7:G7)","v":0.46499999999999997},16.071000000000002,{"$f":"48.755+0.492","v":49.247},19607]
["CONSOMMATION FINALE",{"$f":"SUM(B9:B28)","v":3.9950000000000001},{"$f":"SUM(C9:C28)","v":2.028},1.319,19.893000000000001,0.24099999999999999,5.8000000000000003E-2,27.533999999999999,{"$f":"SUM(I9:I28)","v":12.192},{"$f":"SUM(J9:J28)","v":7.1590000000000007},{"$f":"SUM(K9:K28)","v":24901},{"$f":"SUM(L9:L28)","v":4.9350000000000005},{"$f":"SUM(M9:M28)","v":4.0919999999999996}]
["    Industrie - acier",null,null,null,{"$f":"0.016+0.001","v":1.7000000000000001E-2},null,null,{"$f":"SUM(B9:G9)","v":1.7000000000000001E-2},{"$f":"0.017","v":1.7000000000000001E-2},2.5999999999999999E-2,{"$f":"203+27","v":230}]
["    Industrie - chimique",8.9999999999999993E-3,null,null,4.0000000000000001E-3,3.0000000000000001E-3,null,1.6E-2,0.39400000000000002,0.32500000000000001,2590]
["    Industrie - minerai non metallique",3.0000000000000001E-3,null,null,2.4E-2,1.7999999999999999E-2,null,4.4999999999999998E-2,3.3069999999999999,{"$f":"1.106+0.3","v":1.4060000000000001},1884,null,4.085]
["    Industrie - transformation des aliments et boissons",0.02,null,null,6.0000000000000001E-3,3.6999999999999998E-2,null,6.3E-2,0.22800000000000001,0.78700000000000003,982,4.9000000000000002E-2,7.0000000000000001E-3]
["    Industrie - construction",null,null,null,0.14699999999999999,null,null,0.14699999999999999,1E-3,3.0000000000000001E-3,360]
["    Industrie - exploitation minière",null,null,null,0.376,null,null,0.376,1.9E-2,9.4E-2,130]
["    Industrie - machinerie",5.0000000000000001E-3,null,null,3.0000000000000001E-3,null,null,8.0000000000000002E-3,3.0000000000000001E-3,1.7000000000000001E-2,69]
["    Industrie - métaux non-ferreux",3.6999999999999998E-2,null,null,1.2999999999999999E-2,null,null,4.9999999999999996E-2,1.0860000000000001,6.8000000000000005E-2,2057,4.8380000000000001]
["    Industrie - pâtes et papiers",1E-3,null,null,0.01,null,null,1.0999999999999999E-2,4.2999999999999997E-2,0.20200000000000001,222]
["    Industrie - transport d'équipment",2.3E-2,null,null,7.0000000000000001E-3,null,null,0.03,null,8.0000000000000002E-3,178]
["    Industrie - cuir et textile",1.2E-2,null,null,6.0000000000000001E-3,null,null,1.8000000000000002E-2,0.35499999999999998,1.0860000000000001,1198]
["    Industrie - divers",null,null,null,null,null,null,0,null,1E-3,621]
["    Transport - route",3.069,2.028,null,16.428000000000001,null,null,21.524999999999999,null,null,86]
["    Transport - rail",null,null,null,0.13500000000000001,null,null,0.13500000000000001]
["    Transport - air domestique",null,null,1.319,null,null,null,1.319]
["    Transport - navigation",null,null,null,null,0.183,null,0.183]
["    Ménages",0.245,null,null,null,null,5.8000000000000003E-2,0.30299999999999999,1.516,{"$f":"2.084+0.242","v":2.3260000000000001},11000]
["    Services",0.57099999999999995,null,null,null,null,null,0.57099999999999995,5.2229999999999999,0.81,3161,4.8000000000000001E-2]
["    Agriculture & Pêches",null,null,null,2.7170000000000001,null,null,2.7170000000000001,null,null,133]
["    Non énergétique - matières premières chimiques",null,null,null,null,null,null,0]
[]
[]
[]
[]
["TJ units","GPL","Essence","Essence pour carburéacteurs","Diesel","Fiouls lourds","Kérosène et autres","Total produits pétroliers","Charbon","Lignite","Gaz","Coke","Coke de pétrole","Énergie totale"]
["TJ/(kT or Mm3)",47.3,44.8,44.59,43.33,40.19,44.75,null,28,18.3,39,28,31,"TJ"]
["Total",{"$f":"+B36+B37","v":188963.49999999997},{"$f":"+C36+C37","v":90854.399999999994},58814.210000000006,872276.2300000001,18808.919999999998,2595.5,1232312.76,791364,1032229.8,1735812,138180,126852,{"$f":"SUM(H35:M35)","v":5056750.5600000005}]
["Centrales fossiles",{"$f":"B7*B$34*1000","v":0},0,0,10312.539999999999,9123.1299999999992,0,{"$f":"SUM(B36:G36)","v":19435.669999999998},{"$f":"I7*I$34*1000","v":449988.00000000006},{"$f":"J7*J$34*1000","v":901220.1},{"$f":"K7*K$34","v":764673},{"$f":"L7*L$34*1000","v":0},{"$f":"M7*M$34*1000","v":0},{"$f":"SUM(H36:M36)","v":2135316.77}]
["CONSOMMATION FINALE",{"$f":"SUM(B38:B57)","v":188963.49999999997},{"$f":"SUM(C38:C57)","v":90854.399999999994},58814.210000000006,861963.69000000006,9685.7899999999991,2595.5,1212877.0900000001,341376,{"$f":"SUM(J38:J57)","v":131009.70000000001},971139,{"$f":"SUM(L38:L57)","v":138180},{"$f":"SUM(M38:M57)","v":126852},2921433.79]
["    Industrie - acier",{"$f":"B9*B$34*1000","v":0},0,0,736.61,0,0,{"$f":"SUM(B38:G38)","v":736.61},{"$f":"I9*I$34*1000","v":476.00000000000006},475.8,{"$f":"K9*K$34","v":8970},{"$f":"L9*L$34*1000","v":0},0,10658.41]
["    Industrie - chimique",425.7,0,0,173.32,120.57,0,719.58999999999992,11032,5947.5000000000009,101010,0,0,118709.09]
["    Industrie - minerai non metallique",141.9,0,0,1039.9199999999998,723.42,0,1905.2399999999998,92596,25729.800000000003,73476,0,126635,320342.04000000004]
["    Industrie - transformation des aliments et boissons",946,0,0,259.97999999999996,1487.0299999999997,0,2693.0099999999998,6384,14402.1,38298,{"$f":"L12*L$34*1000","v":1372},{"$f":"M12*M$34*1000","v":217},63366.11]
["    Industrie - construction",0,0,0,6369.5099999999993,0,0,6369.5099999999993,28,54.900000000000006,14040,{"$f":"L13*L$34*1000","v":0},0,20492.41]
["    Industrie - exploitation minière",0,0,0,16292.079999999998,0,0,16292.079999999998,532,1720.2000000000003,5070,0,0,23614.28]
["    Industrie - machinerie",236.5,0,0,129.98999999999998,0,0,366.49,84,311.10000000000002,2691,0,0,3452.59]
["    Industrie - métaux non-ferreux",1750.0999999999997,0,0,563.29,0,0,2313.3899999999994,30408,1244.4000000000001,80223,135464,0,249652.79]
["    Industrie - pâtes et papiers",47.3,0,0,433.3,0,0,480.6,1204,3696.6000000000004,8658,0,0,14039.2]
["    Industrie - transport d'équipment",1087.8999999999999,0,0,303.30999999999995,0,0,1391.2099999999998,0,146.4,6942,0,0,8479.61]
["    Industrie - cuir et textile",567.6,0,0,259.97999999999996,0,0,827.57999999999993,9940,19873.800000000003,46722,0,0,77363.38]
["    Industrie - divers",0,0,0,0,0,0,0,0,18.3,24219,0,0,24237.3]
["    Transport - route",145163.69999999998,{"$f":"C21*C$34*1000","v":90854.399999999994},0,711825.24,0,0,947843.34,0,0,3354,0,0,951197.34]
["    Transport - rail",0,0,0,5849.55,0,0,5849.55,0,0,0,0,0,5849.55]
["    Transport - air domestique",0,0,{"$f":"D23*D$34*1000","v":58814.210000000006},0,0,0,58814.210000000006,0,0,0,0,0,58814.210000000006]
["    Transport - navigation",0,0,0,0,7354.7699999999995,0,7354.7699999999995,0,0,0,0,0,7354.7699999999995]
["    Ménages",{"$f":"B25*B$34*1000","v":11588.5},0,0,0,0,2595.5,14184,42448,42565.8,429000,0,0,528197.80000000005]
["    Services",27008.299999999996,0,0,0,0,0,27008.299999999996,146244,14823.000000000002,123279,1344,0,312698.3]
["    Agriculture & Pêches",0,0,0,117727.61,0,0,117727.61,0,0,5187,0,0,122914.61]
["    Non énergétique - matières premières chimiques",0,0,0,0,0,0,0,0,0,0,0,0,0]

{"sheet":"Bilan initial","index":2,"n_rows":99,"n_cols":19,"rows_kept":99,"cut":false,"hidden":false,"merged":[[84,2,84,7],[0,0,1,0]]}
["Bilan énergétique des combustibles fossiles en TJ",{"$f":"+Hypothèses!$B$2","v":"Pays X"},null,{"$f":"+Hypothèses!$B$3","v":2015}]
[]
["Unité de TJ","GPL","Essence","Essence pour carburéacteurs","Diesel","Fiouls lourds","Kérosène et autres","Total produits pétroliers","Charbon","Lignite","Gaz","Coke","Coke de pétrole","Énergie totale (fossile)"]
["Unité","TJ","TJ","TJ","TJ","TJ","TJ","TJ","TJ","TJ","TJ","TJ","TJ","TJ"]
["Total",{"$f":"+B6+B7","v":188963.49999999997},90854.399999999994,58814.210000000006,872276.2300000001,18808.919999999998,2595.5,{"$f":"+H6+H7","v":1232312.76},791364,1032229.8,1735812,138180,126852,{"$f":"SUM(H5:M5)","v":5056750.5600000005}]
["    Centrales fossiles",0,0,0,10312.539999999999,9123.1299999999992,0,{"$f":"SUM(B6:G6)","v":19435.669999999998},449988.00000000006,901220.1,764673,0,0,{"$f":"SUM(H6:M6)","v":2135316.77}]
["CONSOMMATION FINALE",{"$f":"SUM(B8:B27)","v":188963.49999999997},90854.399999999994,58814.210000000006,861963.69000000006,9685.7899999999991,2595.5,1212877.0900000001,341376,131009.70000000001,971139,138180,126852,2921433.79]
["    Industrie - acier",0,0,0,736.61,0,0,{"$f":"SUM(B8:G8)","v":736.61},476.00000000000006,475.8,8970,0,0,10658.41]
["    Industrie - chimique",425.7,0,0,173.32,120.57,0,719.58999999999992,11032,5947.5000000000009,101010,0,0,118709.09]
["    Industrie - minerai non metallique",141.9,0,0,1039.9199999999998,723.42,0,1905.2399999999998,92596,25729.800000000003,73476,0,126635,320342.04000000004]
["    Industrie - transformation des aliments et boissons",946,0,0,259.97999999999996,1487.0299999999997,0,2693.0099999999998,6384,14402.1,38298,1372,217,63366.11]
["    Industrie - construction",0,0,0,6369.5099999999993,0,0,6369.5099999999993,28,54.900000000000006,14040,0,0,20492.41]
["    Industrie - exploitation minière",0,0,0,16292.079999999998,0,0,16292.079999999998,532,1720.2000000000003,5070,0,0,23614.28]
["    Industrie - machinerie",236.5,0,0,129.98999999999998,0,0,366.49,84,311.10000000000002,2691,0,0,3452.59]
["    Industrie - métaux non-ferreux",1750.0999999999997,0,0,563.29,0,0,2313.3899999999994,30408,1244.4000000000001,80223,135464,0,249652.79]
["    Industrie - pâtes et papiers",47.3,0,0,433.3,0,0,480.6,1204,3696.6000000000004,8658,0,0,14039.2]
["    Industrie - transport d'équipment",1087.8999999999999,0,0,303.30999999999995,0,0,1391.2099999999998,0,146.4,6942,0,0,8479.61]
["    Industrie - cuir et textile",567.6,0,0,259.97999999999996,0,0,827.57999999999993,9940,19873.800000000003,46722,0,0,77363.38]
["    Industrie - divers",0,0,0,0,0,0,0,0,18.3,24219,0,0,24237.3]
["    Transport - route",145163.69999999998,90854.399999999994,0,711825.24,0,0,947843.34,0,0,3354,0,0,951197.34]
["    Transport - rail",0,0,0,5849.55,0,0,5849.55,0,0,0,0,0,5849.55]
["    Transport - air domestique",0,0,58814.210000000006,0,0,0,58814.210000000006,0,0,0,0,0,58814.210000000006]
["    Transport - navigation",0,0,0,0,7354.7699999999995,0,7354.7699999999995,0,0,0,0,0,7354.7699999999995]
["    Ménages",11588.5,0,0,0,0,2595.5,14184,42448,42565.8,429000,0,0,528197.80000000005]
["    Services",27008.299999999996,0,0,0,0,0,27008.299999999996,146244,14823.000000000002,123279,1344,0,312698.3]
["    Agriculture & Pêches",0,0,0,117727.61,0,0,117727.61,0,0,5187,0,0,122914.61]
["    Non énergétique - matières premières chimiques",0,0,0,0,0,0,0,0,0,0,0,0,0]
[]
[]
["Bilan énergétique des combustibles fossiles en ktoe"]
["1 ktoe=41.868 TJ",{"$f":"+B1","v":"Pays X"},null,{"$f":"+D1","v":2015}]
["ktoe per TJ",null,{"$f":"1/41.868","v":2.3884589662749593E-2},{"$f":"1/41.868","v":2.3884589662749593E-2},2.3884589662749593E-2,2.3884589662749593E-2,2.3884589662749593E-2,2.3884589662749593E-2,2.3884589662749593E-2,2.3884589662749593E-2,2.3884589662749593E-2,2.3884589662749593E-2,2.3884589662749593E-2,2.3884589662749593E-2]
["Unité : ktoe","Total","GPL","Essence","Essence pour carburéacteurs","Diesel","Fiouls lourds","Kérosène et autres","Total produits pétroliers","Charbon","Lignite","Gaz","Coke","Coke de pétrole","Consommation d'électricité Gwh",null,"Production d'électricité Gwh","Part de la production","Efficacité"]
["Total",{"$f":"+B35+B36","v":120778.4121524792},{"$f":"+C35+C36","v":4513.3156587369822},2170.0200630553163,1404.753272188784,20833.959826120183,449.24333619948402,61.992452469666567,29433.284608770417,18901.404413872173,24654.385210662076,41459.157351676695,3300.3725995987388,3029.8079678991116,null,"Total",{"$f":"+Q36+Q51","v":261785}]
["Centrales fossiles",{"$f":"SUM(I35:N35)","v":51001.164851437847},{"$f":"B6*C$32","v":0},0,0,246.31078628069167,217.90221648992068,0,{"$f":"SUM(C35:H35)","v":464.21300277061232},{"$f":"I6*J$32","v":10747.778733161365},{"$f":"J6*K$32","v":21525.272284322153},{"$f":"K6*L$32","v":18263.900831183721},{"$f":"L6*M$32","v":0},{"$f":"M6*N$32","v":0},null,"Pertes",{"$f":"Q34-O36","v":44733},{"$f":"IF(Q$34=0,1,Q35/Q$34)","v":0.17087686460263193}]
["CONSOMMATION FINALE",{"$f":"SUM(I36:N36)","v":69777.247301041352},{"$f":"SUM(C37:C56)","v":4513.3156587369822},{"$f":"SUM(D37:D56)","v":2170.0200630553163},1404.753272188784,20587.649039839493,231.34111970956334,61.992452469666567,28969.071605999805,8153.6256807108057,3129.1129263399253,23195.256520492978,3300.3725995987388,3029.8079678991116,{"$f":"SUM(O37:O56)","v":217052},"Fossile",{"$f":"SUM(Q37:Q49)","v":177609},{"$f":"SUM(R37:R50)","v":0.67845369291594249}]
["    Industrie - acier",254.57174930734689,{"$f":"B8*C$32","v":0},0,0,17.593627591477979,0,0,17.593627591477979,{"$f":"I8*J$32","v":11.369064679468808},11.364287761536257,214.24476927486384,0,0,{"$f":"1418+115","v":1533},"Lignite",{"$f":"31336+1079","v":32415},{"$f":"IF(Q$34=0,1,Q37/Q$34)","v":0.12382298451018967},{"$f":"IF(K35>0,Q37/11.63/K35,0)","v":0.12948446223070259}]
["    Industrie - chimique",2835.3179038884109,10.167669819432501,0,0,4.1396770803477594,2.8797649756377184,0,17.18711187541798,263.49479315945348,142.05359701920321,2412.5824018343365,0,0,15155,"Charbon",43751,0.1671256947495082,{"$f":"IF( J35>0,Q38/11.63/J35,0)","v":0.35001733379556782}]
["    Industrie - minerai non metallique",7651.2381771281171,3.3892232731441672,0,0,24.838062482086553,17.278589853826308,0,45.505875609057028,2211.6174644119615,614.54571510461449,1754.9441100601891,0,{"$f":"M10*N$32","v":3024.6250119422948},18543,"Pétrole",{"$f":"980+1244","v":2224},8.4955211337547996E-3,{"$f":"IF( I35>0,Q39/11.63/I35,0)","v":0.41194360678072844}]
["    Industrie - transformation des aliments et boissons",1513.4735358746536,22.594821820961116,0,0,6.2095156205216382,35.517101366198517,0,64.321438807681275,152.47922040699339,343.98824878188594,914.7320149039839,32.769657017292438,5.1829559568166612,7100,"Gaz naturel",99219,0.37900949252248983,{"$f":"IF( L35>0,Q40/11.63/L35,0)","v":0.46711260891910655}]
["    Industrie - construction",489.45280405082639,0,0,0,152.13313270278013,0,0,152.13313270278013,0.6687685105569886,1.3112639724849529,335.3396388650043,0,0,2866,"Nucléaire",null,0]
["    Industrie - exploitation minière",564.0173879812744,0,0,0,389.12964555268934,0,0,389.12964555268934,12.706601700582784,41.086271137861857,121.09486959014043,0,0,2205,"Importation net",null,0]
["    Industrie - machinerie",82.463695423712622,5.6487054552402789,0,0,3.1047578102608191,0,0,8.7534632655010984,2.0063055316709657,7.4304958440813991,64.273430782459158,0,0,2154]
["    Industrie - métaux non-ferreux",5962.8544473105949,41.800420368778056,0,0,13.453950511130216,0,0,55.254370879908272,726.28260246488958,29.721983376325596,1916.0934365147605,{"$f":"L15*M$32","v":3235.5020540747109},0,25263]
["    Industrie - pâtes et papiers",335.32053119327406,1.1297410910480556,0,0,10.349192700869398,0,0,11.478933791917454,28.757045953950509,88.291774147320154,206.79277730008596,0,0,4018]
["    Industrie - transport d'équipment",202.53200535014807,25.98404509410528,0,0,7.244434890608578,0,0,33.228479984713857,0,3.4967039266265405,165.80682143880767,0,0,2656]
["    Industrie - cuir et textile",1847.7925862233687,13.556893092576669,0,0,6.2095156205216382,0,0,19.766408713098308,237.41282124773096,474.67755803955293,1115.9357982229865,0,0,17371]
["    Industrie - divers",578.89796503296077,0,0,0,0,0,0,0,0,0.43708799082831756,578.46087704213244,0,0,4669]
["    Transport - route",22718.958154198906,3467.1754084264826,2170.0200630553163,0,17001.653768988246,0,0,22638.849240470045,0,0,80.108913728862134,0,0]
["    Transport - rail",139.71410146173687,0,0,0,139.71410146173687,0,0,139.71410146173687,0,0,0,0,0,803]
["    Transport - air domestique",1404.753272188784,0,0,1404.753272188784,0,0,0,1404.753272188784,0,0,0,0,0,null,"Renouvelable",{"$f":"SUM(Q52:Q56)","v":84176},{"$f":"SUM(R52:R56)","v":0.32154630708405757}]
["    Transport - navigation",175.6656635139008,0,0,0,0,175.6656635139008,0,175.6656635139008,0,0,0,0,0,null,"Hydro",67146,{"$f":"IF(Q$34=0,1,Q52/Q$34)","v":0.256492923582329}]
["    Ménages",12615.787713767077,{"$f":"B24*C$32","v":276.78656730677363},0,0,0,0,61.992452469666567,338.77901977644018,{"$f":"I24*J$32","v":1013.8530620043947},1016.6666666666666,10246.488965319575,0,0,47901,"Éolien",11653,{"$f":"IF(Q$34=0,1,Q53/Q$34)","v":4.4513627595163974E-2}]
["    Services",7468.670583739372,645.08216298843968,0,0,0,0,0,645.08216298843968,3492.9779306391515,354.04127257093728,2944.4683290341072,32.100888506735451,0,59934,"Solaire",194,{"$f":"IF(Q$34=0,1,Q54/Q$34)","v":7.4106614206314344E-4}]
["    Agriculture & Pêches",2935.7650234068979,0,0,0,2811.8756568262156,0,0,2811.8756568262156,0,0,123.88936658068214,0,0,4881,"Biomasse",1758,{"$f":"IF(Q$34=0,1,Q55/Q$34)","v":6.7154344213763203E-3}]
["    Non énergétique - matières premières chimiques",0,0,0,0,0,0,0,0,0,0,0,0,0,null,"Géothermie",3425,{"$f":"IF(Q$34=0,1,Q56/Q$34)","v":1.3083255343125084E-2}]
[null,null,null,null,null,null,null,null,null,null,null,null,null,null,null,null,null,{"$f":"+R36+R51","v":1}]
["Balance GES"]
["1 toe = 10 GCal= 41.868 GJ",{"$f":"+B31","v":"Pays X"},null,{"$f":"+D31","v":2015},null,null,"            Fraction de carbone oxydé:",null,null,0.99]
["Ton CO2/Toe (IPCC):",null,{"$f":"41.868*Hypothèses!C41/1000*J59","v":2.6140704480000001},{"$f":"41.868*Hypothèses!C38/1000*J59","v":2.8724378760000002},{"$f":"41.868*Hypothèses!C39/1000*J59","v":2.9636263800000004},{"$f":"41.868*Hypothèses!C37/1000*J59","v":3.0700129680000003},{"$f":"41.868*Hypothèses!C36/1000*J59","v":3.2067957240000005},{"$f":"41.868*Hypothèses!C40/1000*J59","v":2.9788244640000006},null,{"$f":"41.868*Hypothèses!C43/1000*J59","v":3.9211056720000004},{"$f":"41.868*Hypothèses!C44/1000*J59","v":4.1946711840000006},{"$f":"41.868*Hypothèses!C42/1000*J59","v":2.3253068520000002},{"$f":"41.868*108.2/1000*J59","v":4.4848164240000008},{"$f":"41.868*100.3/1000*J59","v":4.1573667960000007}]
["Unité : ktCO2-e","Total","GPL","Essence","Essence pour carburéacteurs","Diesel","Fiouls lourds","Kérosène et autres","Total produits pétroliers","Charbon","Lignite","Gaz","Coke","Coke de pétrole"]
["Total",{"$f":"+B63+B64","v":389114.65405659005},{"$f":"+C63+C64","v":11798.125085999998},6233.2478207999993,4163.1638548500014,63960.526840980005,1440.63160956,184.66463400000004,87780.359846189996,74114.404056000014,103417.0392024,96405.26266800001,14801.565240000004,12596.023044000001]
["Centrales fossiles",{"$f":"SUM(I63:N63)","v":176358.73448193003},{"$f":"C35*C$60","v":0},0,0,756.17730803999996,698.76789609000002,0,{"$f":"SUM(C63:H63)","v":1454.9452041300001},{"$f":"J35*J$60","v":42143.176152000007},90291.439378800002,42469.173747000008,0,0]
["CONSOMMATION FINALE",{"$f":"SUM(I64:N64)","v":212755.91957465999},{"$f":"SUM(C65:C84)","v":11798.125085999998},{"$f":"SUM(D65:D84)","v":6233.2478207999993},4163.1638548500014,63204.349532940003,741.86371346999999,184.66463400000004,86325.414642060001,31971.227904000003,13125.599823600001,{"$f":"SUM(L65:L84)","v":53936.088920999995},{"$f":"SUM(M65:M84)","v":14801.565240000004},{"$f":"SUM(N65:N84)","v":12596.023044000001}]
["    Industrie - acier",644.44624926000006,0,0,0,54.012664860000008,0,0,54.012664860000008,44.579304000000008,47.669450400000009,498.18483000000003,0,0]
["    Industrie - chimique",7287.5761335300012,26.579005199999997,0,0,12.708862320000001,9.2348180100000015,0,48.522685530000004,1033.190928,595.86813000000006,5609.9943900000007,0,0]
["    Industrie - minerai non metallique",28045.583895780001,8.8596684000000003,0,0,76.253173919999995,55.408908059999995,0,140.52175037999999,8671.9857840000004,2577.8172024000005,4080.7835640000003,0,12574.475595000002]
["    Industrie - transformation des aliments et boissons",4528.3745360699995,59.064456,0,0,19.063293479999999,113.89608878999998,0,192.02383827,597.88713599999994,1442.9175948000002,2127.0326220000002,146.96589600000001,21.547449]
["    Industrie - construction",1254.9408834600001,0,0,0,467.05069025999995,0,0,467.05069025999995,2.622312,5.500321200000001,779.76756000000012,0,0]
["    Industrie - exploitation minière",1698.3831136800002,0,0,0,1194.63305808,0,0,1194.63305808,49.823928000000002,172.34339760000006,281.58273000000003,0,0]
["    Industrie - machinerie",212.78863254000004,14.766114,0,0,9.5316467399999993,0,0,24.297760740000001,7.8669359999999999,31.168486800000007,149.45544900000002,0,0]
["    Industrie - métaux non-ferreux",22089.215774340002,109.26924359999998,0,0,41.30380254,0,0,150.57304613999997,2847.8308320000001,124.67394720000003,4455.5051969999995,14510.632752000003,0]
["    Industrie - pâtes et papiers",998.69641739999997,2.9532227999999998,0,0,31.7721558,0,0,34.725378599999999,112.759416,370.35496080000007,480.85666199999997,0,0]
["    Industrie - transport d'équipment",490.38389466000001,67.924124399999997,0,0,22.240509059999997,0,0,90.16463345999999,0,14.667523200000002,385.551738,0,0]
["    Industrie - cuir et textile",5571.4321594800003,35.438673600000001,0,0,19.063293479999999,0,0,54.50196708,930.92076000000009,1991.1162744000005,2594.8931580000003,0,0]
["    Industrie - divers",1346.9324814000001,0,0,0,0,0,0,0,0,1.8334404000000002,1345.0990410000002,0,0]
["    Transport - route",67678.263948239997,9063.4407731999981,6233.2478207999993,0,52195.29754824,0,0,67491.986142239999,0,0,186.277806,0,0]
["    Transport - rail",428.92410330000001,0,0,0,428.92410330000001,0,0,428.92410330000001,0,0,0,0,0]
["    Transport - air domestique",4163.1638548500014,{"$f":"C51*C$60","v":0},0,4163.1638548500014,0,0,0,4163.1638548500014,{"$f":"J51*J$60","v":0},0,0,0,0]
["    Transport - navigation",563.32389861000001,0,0,0,0,563.32389861000001,0,563.32389861000001,0,0,0,0,0]
["    Ménages",{"$f":"SUM(I81:N81)","v":32974.442582399999},723.53958599999999,0,0,0,0,184.66463400000004,908.20422000000008,3975.4249920000002,4264.5823704000004,23826.231,0,0]
["    Services",23858.471491799999,1686.2902187999996,0,0,0,0,0,1686.2902187999996,13696.335576000001,1485.0867240000005,6846.7923810000011,143.96659200000002,0]
["    Agriculture & Pêches",8920.5755238599995,0,0,0,8632.4947308600003,0,0,8632.4947308600003,0,0,288.08079300000003,0,0]
["    Non énergétique - matières premières chimiques",0,0,0,0,0,0,0,0,0,0,{"$f":"L56*L$60","v":0},0,0]
["CH4 provenant de la combustion d'énergie",5061]
["N2O provenant de la combustion d'énergie",3875]
["Total Agriculture",{"$f":"SUM(B88:B92)","v":56612}]
["  Fermentation entérique",26888]
["  Gestion du fumier",6304]
["  Cultivation du riz",200]
["  N2O provenant de sols agricole",22878]
["  Brûlage de résidus agricoles",342]
["Émissions fugitive (CH4)",4131]
["Foresterie",-64020]
["Déchets - solides",16880]
["Déchets - liquide"]
["Processus industriels",60720]
["Émission total GES (excl. Foresterie)",{"$f":"B62+B85+B86+B87+B93+B95+B96+B97","v":536393.65405659005}]
["Émission total GES (incl. Foresterie)",{"$f":"+B85+B86+B87+B93+B94+B95+B96+B97+B62","v":472373.65405659005}]

{"sheet":"Croissance","index":3,"n_rows":119,"n_cols":10,"rows_kept":119,"cut":false,"hidden":false,"merged":[[108,0,108,5],[78,0,78,5],[2,1,2,4],[2,5,2,8],[47,1,47,2],[50,1,50,2],[51,1,51,2],[53,1,53,2],[54,1,54,2],[48,1,48,2],[57,1,57,2],[58,1,58,2],[49,1,49,2],[52,1,52,2],[55,1,55,2]]}
[]
["Année de départ:",{"$f":"+Hypothèses!B3","v":2015}]
["Croissance depuis l'année de départ","Augmentation annuelle en % sur la période",null,null,null,"% d'augmentation depuis l'année de départ"]
["Facteurs de croissance et de multiplication",{"$f":"+Hypothèses!B3 &  \" to 2025\"","v":"2015 to 2025"},"2025 to 2030","2030 to 2035","2035 to 2050",2025,2030,2035,2050]
["Croissance de la population ",8.3000000000000001E-3,{"$f":"B5","v":8.3000000000000001E-3},{"$f":"C5","v":8.3000000000000001E-3},5.0000000000000001E-3,{"$f":"(1+B5)^(2025-B$2)-1","v":8.6169671060107422E-2},{"$f":"(1+F5)*(1+C5)^5-1","v":0.13200021108915116},{"$f":"(1+G5)*(1+D5)^5-1","v":0.17976455433082172},{"$f":"(1+H5)*(1+E5)^15-1","v":0.2714118946206221}]
["Croissance du PIB",4.1000000000000002E-2,{"$f":"B6","v":4.1000000000000002E-2},{"$f":"C6","v":4.1000000000000002E-2},0.03,{"$f":"(1+B6)^(2025-B$2)-1","v":0.49453914682766364},{"$f":"(1+F6)*(1+C6)^5-1","v":0.82709421551469053},{"$f":"(1+G6)*(1+D6)^5-1","v":1.2336472614003604},{"$f":"(1+H6)*(1+E6)^15-1","v":2.4799496534412917}]
[]
["Industrie - carburant en acier",0.06,0.06,0.04,0.02,{"$f":"(1+B8)^(2025-B$2)-1","v":0.79084769654285458},{"$f":"(1+F8)*(1+C8)^5-1","v":1.396558193099692},{"$f":"(1+G8)*(1+D8)^5-1","v":1.9157794814052407},{"$f":"(1+H8)*(1+E8)^15-1","v":2.9242552855584627}]
["Insudtrie - carburant en produit chimique",0.06,{"$f":"+C8","v":0.06},{"$f":"+D8","v":0.04},{"$f":"+E8","v":0.02},0.79084769654285458,1.396558193099692,1.9157794814052407,2.9242552855584627]
["Industrie - carburant en minerai non métallique",0.06,{"$f":"+C9","v":0.06},{"$f":"+D9","v":0.04},0.02,0.79084769654285458,1.396558193099692,1.9157794814052407,2.9242552855584627]
["Industrie - carburant en aliments et boissons",0.06,0.06,0.04,0.02,0.79084769654285458,1.396558193099692,1.9157794814052407,2.9242552855584627]
["Industrie - carburant en construction",0.06,0.06,0.04,0.02,0.79084769654285458,1.396558193099692,1.9157794814052407,2.9242552855584627]
["Industrie - carburant en mines",0.06,0.06,0.04,0.02,0.79084769654285458,1.396558193099692,1.9157794814052407,2.9242552855584627]
["Industrie - carburant en machinerie",0.06,0.06,0.04,0.02,0.79084769654285458,1.396558193099692,1.9157794814052407,2.9242552855584627]
["Industrie - carburant en métaux non ferreux",0.06,0.06,0.04,0.02,0.79084769654285458,1.396558193099692,1.9157794814052407,2.9242552855584627]
["Industrie - carburant en pâtes et papiers",0.06,0.06,0.04,0.02,0.79084769654285458,1.396558193099692,1.9157794814052407,2.9242552855584627]
["Industrie - carburant en  transport dequipment",0.06,0.06,0.04,0.02,0.79084769654285458,1.396558193099692,1.9157794814052407,2.9242552855584627]
["Industrie - carburant en cuir et textile",0.06,0.06,0.04,0.02,0.79084769654285458,1.396558193099692,1.9157794814052407,2.9242552855584627]
["Industrie - carburant en divers",0.06,0.06,0.04,0.02,0.79084769654285458,1.396558193099692,1.9157794814052407,2.9242552855584627]
["Industrie - consommation d'électricité",0.06,0.06,0.04,0.02,0.79084769654285458,1.396558193099692,1.9157794814052407,2.9242552855584627]
["Transport - carburant en route",0.06,0.06,0.04,0.02,0.79084769654285458,1.396558193099692,1.9157794814052407,2.9242552855584627]
["Transport - carburant en rail",0.06,0.06,0.04,0.02,0.79084769654285458,1.396558193099692,1.9157794814052407,2.9242552855584627]
["Transport - carburant en air",0.06,0.06,0.04,0.02,0.79084769654285458,1.396558193099692,1.9157794814052407,2.9242552855584627]
["Transport - carburant en navigation",0.06,0.06,0.04,0.02,0.79084769654285458,1.396558193099692,1.9157794814052407,2.9242552855584627]
["Transport - consommation d'électricité",0.06,0.06,0.04,0.02,0.79084769654285458,1.396558193099692,1.9157794814052407,2.9242552855584627]
["Ménages - LPG",0.06,0.06,0.04,0.02,0.79084769654285458,1.396558193099692,1.9157794814052407,2.9242552855584627]
["Ménages - Kérosène",0.06,0.06,0.04,0.02,0.79084769654285458,1.396558193099692,1.9157794814052407,2.9242552855584627]
["Households - consommation d'électricité",0.06,0.06,0.04,0.02,0.79084769654285458,1.396558193099692,1.9157794814052407,2.9242552855584627]
["Services - carburant",0.06,0.06,0.04,0.02,0.79084769654285458,1.396558193099692,1.9157794814052407,2.9242552855584627]
["Services - consommation d'électricité",0.06,0.06,0.04,0.02,0.79084769654285458,1.396558193099692,1.9157794814052407,2.9242552855584627]
["Agriculture - carburant",0.06,{"$f":"+C30","v":0.06},0.04,0.02,0.79084769654285458,1.396558193099692,1.9157794814052407,2.9242552855584627]
["Agriculture - consommation d'électricité",0.06,{"$f":"+C31","v":0.06},0.04,0.02,0.79084769654285458,1.396558193099692,1.9157794814052407,2.9242552855584627]
["Non énergétique - carburant dans les matières premières chimiques",0.06,{"$f":"+C32","v":0.06},0.04,0.02,0.79084769654285458,1.396558193099692,1.9157794814052407,2.9242552855584627]
["Émissions du bétail",0.03,{"$f":"+B34","v":0.03},0.02,0.01,0.34391637934412178,0.55796741660076421,0.72012191668000081,0.99700814471702004]
["Émissions de riz",{"$f":"+B34","v":0.03},{"$f":"+B35","v":0.03},{"$f":"+D34","v":0.02},0.01,0.34391637934412178,0.55796741660076421,0.72012191668000081,0.99700814471702004]
["N2O des sols agricoles",{"$f":"+B35","v":0.03},0.03,{"$f":"+D35","v":0.02},0.01,0.34391637934412178,0.55796741660076421,0.72012191668000081,0.99700814471702004]
["Brûlage de biomasse",{"$f":"+B36","v":0.03},0.03,{"$f":"+D36","v":0.02},0.01,0.34391637934412178,0.55796741660076421,0.72012191668000081,0.99700814471702004]
["Émissions forestières",0,0,0,0,0,0,0,0]
["Émissions de déchets solides",0,{"$f":"+B39","v":0},0,{"$f":"+C39","v":0},0,0,0,0]
["Émissions de déchets liquides",0,0,0,{"$f":"+C40","v":0},0,0,0,0]
["Processus industriels",0,{"$f":"+B41","v":0},{"$f":"+C41","v":0},{"$f":"+C41","v":0},0,0,0,0]
[]
[]
[]
[null,null,null,{"$f":"+Hypothèses!B3","v":2015},2025,2030,2035,2050]
["Population (milliers)",null,null,1876.633,{"$f":"+D46*(1+F5)","v":2038.3418483105427},{"$f":"+D46*(1+G5)","v":2124.348952136867},{"$f":"+E46*(1+H5)","v":2404.7634622459509},{"$f":"+D46*(1+I5)","v":2385.9735180375819}]
["PIB (Actuelle MUS$)",null,null,{"$f":"562.5/Hypothèses!B5","v":140.625},{"$f":"+D47*(1+F6)","v":210.16956752264019},{"$f":"+D47*(1+G6)","v":256.93512405675335},{"$f":"+E47*(1+H6)","v":469.44467892664341},{"$f":"+D47*(1+I6)","v":489.36792001518165}]
["Emissions CO2 énergie BAU (ktCO2)","Émissions de combustibles fossiles",null,{"$f":"+'Bilan initial'!B62","v":389114.65405659005},{"$f":"+'Bilan 2025'!B62","v":696845.08190831391},{"$f":"+'Bilan 2030'!B62","v":932535.91223447316},{"$f":"+'Bilan 2035'!B62","v":1134572.5242123036},{"$f":"+'Bilan 2050'!B62","v":1526985.2378698261}]
["Emissions GES autres gaz BAU(ktCO2e)","Autre émissions",null,{"$f":"+'Bilan initial'!B99-D48","v":83259},{"$f":"'Bilan 2025'!B99-E48","v":113062.80091815488},{"$f":"+'Bilan 2030'!B99-F48","v":133095.4772978361},{"$f":"+'Bilan 2035'!B99-G48","v":149060.03243061062},{"$f":"'Bilan 2050'!B99-H48","v":177912.86890511238}]
["Emissions GES BAU (ktCO2e)","Toutes les émissions de GES",null,{"$f":"+D48+D49","v":472373.65405659005},{"$f":"+E48+E49","v":809907.88282646879},{"$f":"+F48+F49","v":1065631.3895323093},{"$f":"+G48+G49","v":1283632.5566429142},{"$f":"+H48+H49","v":1704898.1067749385}]
["Mitigation Conditionnel (ktCO2e)","Toutes les émissions de GES",null,0,{"$f":"+principale25!J123","v":136445.09468208411},{"$f":"+principale30!J123","v":247220.04749240665},{"$f":"+principale35!J123","v":303258.77676256641},{"$f":"principale50!J123","v":440217.00817286415}]
["Scénario Conditionnel (ktCO2e)","Toutes les émissions de GES",null,{"$f":"+D50-D51","v":472373.65405659005},{"$f":"+E50-E51","v":673462.78814438474},{"$f":"+F50-F51","v":818411.34203990258},{"$f":"+G50-G51","v":980373.77988034778},{"$f":"+H50-H51","v":1264681.0986020744}]
["Réduction scenario Conditionnel (%)","Toutes les émissions de GES",null,0,{"$f":"E51/E48","v":0.19580405778057369},{"$f":"F51/F48","v":0.26510512276147774},{"$f":"G51/G48","v":0.26728901880742179},{"$f":"H51/H48","v":0.28829159395605902}]
["Mitigation Inconditionnel (ktCO2e)","Toutes les émissions de GES",null,0,0,0,0,0,null,"Cette ligne peut-être copiée/collée après avoir appliqué GACMO pour un scénario inconditionnel"]
["Scénario Inconditionnel (ktCO2e)","Toutes les émissions de GES",null,{"$f":"+D50-D54","v":472373.65405659005},{"$f":"+E50-E54","v":809907.88282646879},{"$f":"+F50-F54","v":1065631.3895323093},{"$f":"+G50-G54","v":1283632.5566429142},{"$f":"+H50-H54","v":1704898.1067749385}]
["Réduction scenario Inconditionnel (%)","Toutes les émissions de GES",null,0,{"$f":"+E54/E48","v":0},{"$f":"+F54/F48","v":0},{"$f":"+G54/G48","v":0},{"$f":"+H54/H48","v":0}]
[]
["Total tCO2-e/capita dans BAU","Toutes les émissions de GES",null,{"$f":"D50/D46","v":251.71338991512462},{"$f":"E50/E46","v":397.33663099629342},{"$f":"F50/F46","v":501.62728136561486},{"$f":"G50/G46","v":533.78745011538626},{"$f":"H50/H46","v":714.55030572895248}]
["Total tCO2-e/US$ dans BAU","Toutes les émissions de GES",null,{"$f":"D50/D47","v":3359.1015399579737},{"$f":"E50/E47","v":3853.5925651520538},{"$f":"F50/F47","v":4147.4726098442125},{"$f":"G50/G47","v":2734.3638436329957},{"$f":"H50/H47","v":3483.8779516279847}]
[]
[]
[]
[]
[]
[]
[]
[]
[]
[]
[]
[]
[]
[]
[]
[]
[]
[]
[]
["Subdivision sectorielle des émissions BAU"]
["ktCO2e/year",{"$f":"+D45","v":2015},2025,2030,2035,2050]
["Total",{"$f":"SUM(B82:B89)","v":472373.65405658999},{"$f":"SUM(C82:C89)","v":809907.88282646879},{"$f":"SUM(D82:D89)","v":1065631.3895323095},{"$f":"SUM(E82:E89)","v":1283632.556642914},{"$f":"SUM(F82:F89)","v":1704898.1067749385}]
["Énergie",{"$f":"'Bilan initial'!B63+'Bilan initial'!B85+'Bilan initial'!B86","v":185294.73448193003},{"$f":"+principale25!J131","v":331834.64842848422},{"$f":"+principale30!J131","v":444069.61406090145},{"$f":"+principale35!J131","v":540278.58481484349},{"$f":"+principale50!J131","v":727143.84117686597}]
["Industrie",{"$f":"SUM('Bilan initial'!B65:B76)+'Bilan initial'!B84+'Bilan initial'!B93+'Bilan initial'!B97","v":139019.75417160001},{"$f":"+principale25!J132","v":200942.93439808162},{"$f":"+principale30!J132","v":248369.91737763979},{"$f":"+principale35!J132","v":289024.81661262573},{"$f":"+principale50!J132","v":367988.2241658296}]
["Transport",{"$f":"+'Bilan initial'!B77+'Bilan initial'!B78+'Bilan initial'!B79+'Bilan initial'!B80","v":72833.675805000006},{"$f":"+principale25!J133","v":130434.02054613331},{"$f":"+principale30!J133","v":174550.14248403953},{"$f":"+principale35!J133","v":212366.93746754032},{"$f":"+principale50!J133","v":285817.93724442273}]
["Ménages",{"$f":"+'Bilan initial'!B81","v":32974.442582399999},{"$f":"+principale25!J134","v":59052.204543475658},{"$f":"+principale30!J134","v":79025.170533746073},{"$f":"+principale35!J134","v":96146.203092537166},{"$f":"+principale50!J134","v":129400.13059232724}]
["Services",{"$f":"+'Bilan initial'!B82","v":23858.471491799999},{"$f":"+principale25!J135","v":42726.888714123394},{"$f":"+principale30!J135","v":57178.215328508726},{"$f":"+principale35!J135","v":69566.041633482324},{"$f":"+principale50!J135","v":93626.73285704205}]
["Agriculture & Pêches",{"$f":"+'Bilan initial'!B83+'Bilan initial'!B87","v":65532.575523859996},{"$f":"+principale25!J136","v":92057.186196170675},{"$f":"+principale30!J136","v":109578.32974747372},{"$f":"+principale35!J136","v":123389.973021885},{"$f":"+principale50!J136","v":148061.24073845102}]
["Foresterie",{"$f":"'Bilan initial'!B94","v":-64020},{"$f":"+principale25!J137","v":-64020},{"$f":"+principale30!J137","v":-64020},{"$f":"+principale35!J137","v":-64020},{"$f":"+principale50!J137","v":-64020}]
["Décharge",{"$f":"'Bilan initial'!B95+'Bilan initial'!B96","v":16880},{"$f":"+principale25!J138","v":16880},{"$f":"+principale30!J138","v":16880},{"$f":"+principale35!J138","v":16880},{"$f":"+principale50!J138","v":16880}]
[]
[]
[]
[]
[]
[]
[]
[]
[]
[]
[]
[]
[]
[]
[]
[]
[]
[]
[]
["Subdivision sectorielle des émissions scenario de reduction"]
["ktCO2e/year",{"$f":"+B80","v":2015},2025,2030,2035,2050]
["Total",{"$f":"SUM(B112:B119)","v":472373.65405658999},{"$f":"SUM(C112:C119)","v":673462.78814438474},{"$f":"SUM(D112:D119)","v":818411.34203990258},{"$f":"SUM(E112:E119)","v":980373.77988034766},{"$f":"SUM(F112:F119)","v":1264681.0986020744}]
["Énergie",{"$f":"'Bilan initial'!B63+'Bilan initial'!B85+'Bilan initial'!B86","v":185294.73448193003},{"$f":"+principale25!L131","v":210059.11092848424},{"$f":"+principale30!L131","v":258450.82656090145},{"$f":"+principale35!L131","v":311761.01731484348},{"$f":"+principale50!L131","v":411641.66617686598}]
["Industrie",{"$f":"SUM('Bilan initial'!B65:B76)+'Bilan initial'!B84+'Bilan initial'!B93+'Bilan initial'!B97","v":139019.75417160001},{"$f":"+principale25!L132","v":187660.44014171531},{"$f":"+principale30!L132","v":223484.9544101675},{"$f":"+principale35!L132","v":258748.45419213403},{"$f":"+principale50!L132","v":309776.79904959205}]
["Transport",{"$f":"+'Bilan initial'!B77+'Bilan initial'!B78+'Bilan initial'!B79+'Bilan initial'!B80","v":72833.675805000006},{"$f":"+principale25!L133","v":131218.17145933406},{"$f":"+principale30!L133","v":145899.32700830876},{"$f":"+principale35!L133","v":177701.86785736558},{"$f":"+principale50!L133","v":238074.74516241692}]
["Ménages",{"$f":"+'Bilan initial'!B81","v":32974.442582399999},{"$f":"+principale25!L134","v":59052.204543475658},{"$f":"+principale30!L134","v":79025.170533746073},{"$f":"+principale35!L134","v":96146.203092537166},{"$f":"+principale50!L134","v":129400.13059232724}]
["Services",{"$f":"+'Bilan initial'!B82","v":23858.471491799999},{"$f":"+principale25!L135","v":40555.674875204844},{"$f":"+principale30!L135","v":49138.395779305123},{"$f":"+principale35!L135","v":59791.926401582423},{"$f":"+principale50!L135","v":74866.51688242126}]
["Agriculture & Pêches",{"$f":"+'Bilan initial'!B83+'Bilan initial'!B87","v":65532.575523859996},{"$f":"+principale25!L136","v":92057.186196170675},{"$f":"+principale30!L136","v":109552.66774747372},{"$f":"+principale35!L136","v":123364.31102188501},{"$f":"+principale50!L136","v":148061.24073845102}]
["Foresterie",{"$f":"'Bilan initial'!B94","v":-64020},{"$f":"+principale25!L137","v":-64020},{"$f":"+principale30!L137","v":-64020},{"$f":"+principale35!L137","v":-64020},{"$f":"+principale50!L137","v":-64020}]
["Décharge",{"$f":"'Bilan initial'!B95+'Bilan initial'!B96","v":16880},{"$f":"+principale25!L138","v":16880},{"$f":"+principale30!L138","v":16880},{"$f":"+principale35!L138","v":16880},{"$f":"+principale50!L138","v":16880}]

{"sheet":"Info Pays","index":4,"n_rows":2,"n_cols":1,"rows_kept":2,"cut":false,"hidden":false,"merged":[]}
[]
["Cette feuille est uniquement destinée à collecter des informations et des données spécifiques sur un pays en question utilisant GACMO"]

{"sheet":"Bilan 2025","index":5,"n_rows":99,"n_cols":19,"rows_kept":99,"cut":false,"hidden":false,"merged":[]}
["Bilan combustibles fossiles",{"$f":"+Hypothèses!$B$2","v":"Pays X"},null,2025]
[]
["Unité (TJ)","GPL","Essence","Essence pour carburéacteurs","Diesel","Fiouls lourds","Kérosène et autres","Total produits pétroliers","Charbon","Lignite","Gaz","Coke","Coke de pétrole","Énergie totale (fossile)"]
["Unité","TJ","TJ","TJ","TJ","TJ","TJ","TJ","TJ","TJ","TJ","TJ","TJ","TJ"]
["Total",{"$f":"+B6+B7","v":338404.84870567569},162706.39296078312,105327.29250248773,1562113.8772445854,33683.911056458826,4648.1451963769787,2206884.467666368,1417212.3965269397,1848566.3596328916,3108574.9218314458,247459.33470829166,227172.6120018542,{"$f":"SUM(H5:M5)","v":9055870.0923677925}]
["    Centrales fossiles",{"$f":"C35/C32","v":0},0,0,18468.188504506052,16338.136345761015,0,{"$f":"SUM(B6:G6)","v":34806.324850267069},{"$f":"J35/J32","v":805859.97327192617},{"$f":"K35/K32","v":1613947.9401631211},{"$f":"L35/L32","v":1369412.8806585143},{"$f":"M35/M32","v":0},{"$f":"N35/N32","v":0},{"$f":"SUM(H6:M6)","v":3824027.1189438286}]
["CONSOMMATION FINALE",{"$f":"SUM(B8:B27)","v":338404.84870567569},162706.39296078312,105327.29250248773,1543645.6887400793,17345.774710697813,4648.1451963769787,2172078.1428161007,611352.42325501353,234618.41946977042,1739162.0411729312,247459.33470829166,227172.6120018542,5231842.9734239625]
["    Industrie - acier",{"$f":"+'Bilan initial'!B8*(1+Croissance!$F8)","v":0},{"$f":"+'Bilan initial'!C8*(1+Croissance!$F8)","v":0},{"$f":"+'Bilan initial'!D8*(1+Croissance!$F8)","v":0},{"$f":"+'Bilan initial'!E8*(1+Croissance!$F8)","v":1319.1563217504322},{"$f":"+'Bilan initial'!F8*(1+Croissance!$F8)","v":0},{"$f":"+'Bilan initial'!G8*(1+Croissance!$F8)","v":0},{"$f":"SUM(B8:G8)","v":1319.1563217504322},{"$f":"+'Bilan initial'!I8*(1+Croissance!$F8)","v":852.44350355439883},{"$f":"+'Bilan initial'!J8*(1+Croissance!$F8)","v":852.08533401509021},{"$f":"+'Bilan initial'!K8*(1+Croissance!$F8)","v":16063.903837989406},{"$f":"+'Bilan initial'!L8*(1+Croissance!$F8)","v":0},{"$f":"+'Bilan initial'!M8*(1+Croissance!$F8)","v":0},19087.588997309329]
["    Industrie - chimique",{"$f":"+'Bilan initial'!B9*(1+Croissance!$F9)","v":762.36386441829313},{"$f":"+'Bilan initial'!C9*(1+Croissance!$F9)","v":0},{"$f":"+'Bilan initial'!D9*(1+Croissance!$F9)","v":0},{"$f":"+'Bilan initial'!E9*(1+Croissance!$F9)","v":310.38972276480752},{"$f":"+'Bilan initial'!F9*(1+Croissance!$F9)","v":215.92250677217197},{"$f":"+'Bilan initial'!G9*(1+Croissance!$F9)","v":0},{"$f":"SUM(B9:G9)","v":1288.6760939552726},{"$f":"+'Bilan initial'!I9*(1+Croissance!$F9)","v":19756.631788260773},{"$f":"+'Bilan initial'!J9*(1+Croissance!$F9)","v":10651.066675188629},{"$f":"+'Bilan initial'!K9*(1+Croissance!$F9)","v":180893.52582779375},{"$f":"+'Bilan initial'!L9*(1+Croissance!$F9)","v":0},{"$f":"+'Bilan initial'!M9*(1+Croissance!$F9)","v":0},212589.90038519842]
["    Industrie - minerai non metallique",{"$f":"+'Bilan initial'!B10*(1+Croissance!$F10)","v":254.12128813943107},{"$f":"+'Bilan initial'!C10*(1+Croissance!$F10)","v":0},{"$f":"+'Bilan initial'!D10*(1+Croissance!$F10)","v":0},{"$f":"+'Bilan initial'!E10*(1+Croissance!$F10)","v":1862.3383365888451},{"$f":"+'Bilan initial'!F10*(1+Croissance!$F10)","v":1295.5350406330317},{"$f":"+'Bilan initial'!G10*(1+Croissance!$F10)","v":0},3411.9946653613079,{"$f":"+'Bilan initial'!I10*(1+Croissance!$F10)","v":165825.33330908217},{"$f":"+'Bilan initial'!J10*(1+Croissance!$F10)","v":46078.153062508347},{"$f":"+'Bilan initial'!K10*(1+Croissance!$F10)","v":131584.32535118278},{"$f":"+'Bilan initial'!L10*(1+Croissance!$F10)","v":0},{"$f":"+'Bilan initial'!M10*(1+Croissance!$F10)","v":226783.9980517044},573683.80443983898]
["    Industrie - transformation des aliments et boissons",{"$f":"+'Bilan initial'!B11*(1+Croissance!$F11)","v":1694.1419209295404},{"$f":"+'Bilan initial'!C11*(1+Croissance!$F11)","v":0},{"$f":"+'Bilan initial'!D11*(1+Croissance!$F11)","v":0},{"$f":"+'Bilan initial'!E11*(1+Croissance!$F11)","v":465.58458414721127},{"$f":"+'Bilan initial'!F11*(1+Croissance!$F11)","v":2663.0442501901207},{"$f":"+'Bilan initial'!G11*(1+Croissance!$F11)","v":0},4822.7707552668726,{"$f":"+'Bilan initial'!I11*(1+Croissance!$F11)","v":11432.771694729583},{"$f":"+'Bilan initial'!J11*(1+Croissance!$F11)","v":25791.967610379848},{"$f":"+'Bilan initial'!K11*(1+Croissance!$F11)","v":68585.885082198249},{"$f":"+'Bilan initial'!L11*(1+Croissance!$F11)","v":2457.0430396567963},{"$f":"+'Bilan initial'!M11*(1+Croissance!$F11)","v":388.61395014979945},113479.05213238116]
["    Industrie - construction",{"$f":"+'Bilan initial'!B12*(1+Croissance!$F12)","v":0},{"$f":"+'Bilan initial'!C12*(1+Croissance!$F12)","v":0},{"$f":"+'Bilan initial'!D12*(1+Croissance!$F12)","v":0},{"$f":"+'Bilan initial'!E12*(1+Croissance!$F12)","v":11406.822311606677},{"$f":"+'Bilan initial'!F12*(1+Croissance!$F12)","v":0},{"$f":"+'Bilan initial'!G12*(1+Croissance!$F12)","v":0},11406.822311606677,{"$f":"+'Bilan initial'!I12*(1+Croissance!$F12)","v":50.143735503199927},{"$f":"+'Bilan initial'!J12*(1+Croissance!$F12)","v":98.317538540202733},{"$f":"+'Bilan initial'!K12*(1+Croissance!$F12)","v":25143.501659461679},{"$f":"+'Bilan initial'!L12*(1+Croissance!$F12)","v":0},{"$f":"+'Bilan initial'!M12*(1+Croissance!$F12)","v":0},36698.785245111758]
["    Industrie - exploitation minière",{"$f":"+'Bilan initial'!B13*(1+Croissance!$F13)","v":0},{"$f":"+'Bilan initial'!C13*(1+Croissance!$F13)","v":0},{"$f":"+'Bilan initial'!D13*(1+Croissance!$F13)","v":0},{"$f":"+'Bilan initial'!E13*(1+Croissance!$F13)","v":29176.633939891908},{"$f":"+'Bilan initial'!F13*(1+Croissance!$F13)","v":0},{"$f":"+'Bilan initial'!G13*(1+Croissance!$F13)","v":0},29176.633939891908,{"$f":"+'Bilan initial'!I13*(1+Croissance!$F13)","v":952.73097456079859},{"$f":"+'Bilan initial'!J13*(1+Croissance!$F13)","v":3080.6162075930188},{"$f":"+'Bilan initial'!K13*(1+Croissance!$F13)","v":9079.5978214722727},{"$f":"+'Bilan initial'!L13*(1+Croissance!$F13)","v":0},{"$f":"+'Bilan initial'!M13*(1+Croissance!$F13)","v":0},42289.578943517998]
["    Industrie - machinerie",{"$f":"+'Bilan initial'!B14*(1+Croissance!$F14)","v":423.53548023238511},{"$f":"+'Bilan initial'!C14*(1+Croissance!$F14)","v":0},{"$f":"+'Bilan initial'!D14*(1+Croissance!$F14)","v":0},{"$f":"+'Bilan initial'!E14*(1+Croissance!$F14)","v":232.79229207360564},{"$f":"+'Bilan initial'!F14*(1+Croissance!$F14)","v":0},{"$f":"+'Bilan initial'!G14*(1+Croissance!$F14)","v":0},656.32777230599072,{"$f":"+'Bilan initial'!I14*(1+Croissance!$F14)","v":150.43120650959978},{"$f":"+'Bilan initial'!J14*(1+Croissance!$F14)","v":557.13271839448214},{"$f":"+'Bilan initial'!K14*(1+Croissance!$F14)","v":4819.1711513968221},{"$f":"+'Bilan initial'!L14*(1+Croissance!$F14)","v":0},{"$f":"+'Bilan initial'!M14*(1+Croissance!$F14)","v":0},6183.0628486068945]
["    Industrie - métaux non-ferreux",{"$f":"+'Bilan initial'!B15*(1+Croissance!$F15)","v":3134.1625537196492},{"$f":"+'Bilan initial'!C15*(1+Croissance!$F15)","v":0},{"$f":"+'Bilan initial'!D15*(1+Croissance!$F15)","v":0},{"$f":"+'Bilan initial'!E15*(1+Croissance!$F15)","v":1008.7665989856245},{"$f":"+'Bilan initial'!F15*(1+Croissance!$F15)","v":0},{"$f":"+'Bilan initial'!G15*(1+Croissance!$F15)","v":0},4142.9291527052737,{"$f":"+'Bilan initial'!I15*(1+Croissance!$F15)","v":54456.096756475119},{"$f":"+'Bilan initial'!J15*(1+Croissance!$F15)","v":2228.5308735779286},{"$f":"+'Bilan initial'!K15*(1+Croissance!$F15)","v":143667.17475975741},{"$f":"+'Bilan initial'!L15*(1+Croissance!$F15)","v":242595.39236448126},{"$f":"+'Bilan initial'!M15*(1+Croissance!$F15)","v":0},447090.12390699703]
["    Industrie - pâtes et papiers",{"$f":"+'Bilan initial'!B16*(1+Croissance!$F16)","v":84.70709604647702},{"$f":"+'Bilan initial'!C16*(1+Croissance!$F16)","v":0},{"$f":"+'Bilan initial'!D16*(1+Croissance!$F16)","v":0},{"$f":"+'Bilan initial'!E16*(1+Croissance!$F16)","v":775.97430691201896},{"$f":"+'Bilan initial'!F16*(1+Croissance!$F16)","v":0},{"$f":"+'Bilan initial'!G16*(1+Croissance!$F16)","v":0},860.68140295849594,{"$f":"+'Bilan initial'!I16*(1+Croissance!$F16)","v":2156.180626637597},{"$f":"+'Bilan initial'!J16*(1+Croissance!$F16)","v":6620.047595040317},{"$f":"+'Bilan initial'!K16*(1+Croissance!$F16)","v":15505.159356668035},{"$f":"+'Bilan initial'!L16*(1+Croissance!$F16)","v":0},{"$f":"+'Bilan initial'!M16*(1+Croissance!$F16)","v":0},25142.068981304445]
["    Industrie - transport d'équipment",{"$f":"+'Bilan initial'!B17*(1+Croissance!$F17)","v":1948.2632090689713},{"$f":"+'Bilan initial'!C17*(1+Croissance!$F17)","v":0},{"$f":"+'Bilan initial'!D17*(1+Croissance!$F17)","v":0},{"$f":"+'Bilan initial'!E17*(1+Croissance!$F17)","v":543.18201483841312},{"$f":"+'Bilan initial'!F17*(1+Croissance!$F17)","v":0},{"$f":"+'Bilan initial'!G17*(1+Croissance!$F17)","v":0},2491.4452239073844,{"$f":"+'Bilan initial'!I17*(1+Croissance!$F17)","v":0},{"$f":"+'Bilan initial'!J17*(1+Croissance!$F17)","v":262.1801027738739},{"$f":"+'Bilan initial'!K17*(1+Croissance!$F17)","v":12432.064709400496},{"$f":"+'Bilan initial'!L17*(1+Croissance!$F17)","v":0},{"$f":"+'Bilan initial'!M17*(1+Croissance!$F17)","v":0},15185.690036081754]
["    Industrie - cuir et textile",{"$f":"+'Bilan initial'!B18*(1+Croissance!$F18)","v":1016.4851525577243},{"$f":"+'Bilan initial'!C18*(1+Croissance!$F18)","v":0},{"$f":"+'Bilan initial'!D18*(1+Croissance!$F18)","v":0},{"$f":"+'Bilan initial'!E18*(1+Croissance!$F18)","v":465.58458414721127},{"$f":"+'Bilan initial'!F18*(1+Croissance!$F18)","v":0},{"$f":"+'Bilan initial'!G18*(1+Croissance!$F18)","v":0},1482.0697367049356,{"$f":"+'Bilan initial'!I18*(1+Croissance!$F18)","v":17801.026103635973},{"$f":"+'Bilan initial'!J18*(1+Croissance!$F18)","v":35590.948951553386},{"$f":"+'Bilan initial'!K18*(1+Croissance!$F18)","v":83671.986077875248},{"$f":"+'Bilan initial'!L18*(1+Croissance!$F18)","v":0},{"$f":"+'Bilan initial'!M18*(1+Croissance!$F18)","v":0},138546.03086976954]
["    Industrie - divers",{"$f":"+'Bilan initial'!B19*(1+Croissance!$F19)","v":0},{"$f":"+'Bilan initial'!C19*(1+Croissance!$F19)","v":0},{"$f":"+'Bilan initial'!D19*(1+Croissance!$F19)","v":0},{"$f":"+'Bilan initial'!E19*(1+Croissance!$F19)","v":0},{"$f":"+'Bilan initial'!F19*(1+Croissance!$F19)","v":0},{"$f":"+'Bilan initial'!G19*(1+Croissance!$F19)","v":0},0,{"$f":"+'Bilan initial'!I19*(1+Croissance!$F19)","v":0},{"$f":"+'Bilan initial'!J19*(1+Croissance!$F19)","v":32.772512846734237},{"$f":"+'Bilan initial'!K19*(1+Croissance!$F19)","v":43372.540362571395},{"$f":"+'Bilan initial'!L19*(1+Croissance!$F19)","v":0},{"$f":"+'Bilan initial'!M19*(1+Croissance!$F19)","v":0},43405.312875418131]
["    Transport - route",{"$f":"+'Bilan initial'!B20*(1+Croissance!$F21)","v":259966.07776663796},{"$f":"+'Bilan initial'!C20*(1+Croissance!$F21)","v":162706.39296078312},{"$f":"+'Bilan initial'!D20*(1+Croissance!$F21)","v":0},{"$f":"+'Bilan initial'!E20*(1+Croissance!$F21)","v":1274770.5913950647},{"$f":"+'Bilan initial'!F20*(1+Croissance!$F21)","v":0},{"$f":"+'Bilan initial'!G20*(1+Croissance!$F21)","v":0},1697443.0621224858,{"$f":"+'Bilan initial'!I20*(1+Croissance!$F21)","v":0},{"$f":"+'Bilan initial'!J20*(1+Croissance!$F21)","v":0},{"$f":"+'Bilan initial'!K20*(1+Croissance!$F21)","v":6006.503174204734},{"$f":"+'Bilan initial'!L20*(1+Croissance!$F21)","v":0},{"$f":"+'Bilan initial'!M20*(1+Croissance!$F21)","v":0},1703449.5652966907]
["    Transport - rail",{"$f":"+'Bilan initial'!B21*(1+Croissance!$F22)","v":0},{"$f":"+'Bilan initial'!C21*(1+Croissance!$F22)","v":0},{"$f":"+'Bilan initial'!D21*(1+Croissance!$F22)","v":0},{"$f":"+'Bilan initial'!E21*(1+Croissance!$F22)","v":10475.653143312255},{"$f":"+'Bilan initial'!F21*(1+Croissance!$F22)","v":0},{"$f":"+'Bilan initial'!G21*(1+Croissance!$F22)","v":0},10475.653143312255,{"$f":"+'Bilan initial'!I21*(1+Croissance!$F22)","v":0},{"$f":"+'Bilan initial'!J21*(1+Croissance!$F22)","v":0},{"$f":"+'Bilan initial'!K21*(1+Croissance!$F22)","v":0},{"$f":"+'Bilan initial'!L21*(1+Croissance!$F22)","v":0},{"$f":"+'Bilan initial'!M21*(1+Croissance!$F22)","v":0},10475.653143312255]
["    Transport - air domestique",{"$f":"+'Bilan initial'!B22*(1+Croissance!$F23)","v":0},{"$f":"+'Bilan initial'!C22*(1+Croissance!$F23)","v":0},{"$f":"+'Bilan initial'!D22*(1+Croissance!$F23)","v":105327.29250248773},{"$f":"+'Bilan initial'!E22*(1+Croissance!$F23)","v":0},{"$f":"+'Bilan initial'!F22*(1+Croissance!$F23)","v":0},{"$f":"+'Bilan initial'!G22*(1+Croissance!$F23)","v":0},105327.29250248773,{"$f":"+'Bilan initial'!I22*(1+Croissance!$F23)","v":0},{"$f":"+'Bilan initial'!J22*(1+Croissance!$F23)","v":0},{"$f":"+'Bilan initial'!K22*(1+Croissance!$F23)","v":0},{"$f":"+'Bilan initial'!L22*(1+Croissance!$F23)","v":0},{"$f":"+'Bilan initial'!M22*(1+Croissance!$F23)","v":0},105327.29250248773]
["    Transport - navigation",{"$f":"+'Bilan initial'!B23*(1+Croissance!$F24)","v":0},{"$f":"+'Bilan initial'!C23*(1+Croissance!$F24)","v":0},{"$f":"+'Bilan initial'!D23*(1+Croissance!$F24)","v":0},{"$f":"+'Bilan initial'!E23*(1+Croissance!$F24)","v":0},{"$f":"+'Bilan initial'!F23*(1+Croissance!$F24)","v":13171.27291310249},{"$f":"+'Bilan initial'!G23*(1+Croissance!$F24)","v":0},13171.27291310249,{"$f":"+'Bilan initial'!I23*(1+Croissance!$F24)","v":0},{"$f":"+'Bilan initial'!J23*(1+Croissance!$F24)","v":0},{"$f":"+'Bilan initial'!K23*(1+Croissance!$F24)","v":0},{"$f":"+'Bilan initial'!L23*(1+Croissance!$F24)","v":0},{"$f":"+'Bilan initial'!M23*(1+Croissance!$F24)","v":0},13171.27291310249]
["    Ménages",{"$f":"+'Bilan initial'!B24*(1+Croissance!$F26)","v":20753.238531386869},{"$f":"+'Bilan initial'!C24*(1+Croissance!$F26)","v":0},{"$f":"+'Bilan initial'!D24*(1+Croissance!$F26)","v":0},{"$f":"+'Bilan initial'!E24*(1+Croissance!$F26)","v":0},{"$f":"+'Bilan initial'!F24*(1+Croissance!$F26)","v":0},{"$f":"+'Bilan initial'!G24*(1+Croissance!$F27)","v":4648.1451963769787},25401.383727763849,{"$f":"+'Bilan initial'!I24*(1+Croissance!$F26)","v":76017.903022851096},{"$f":"+'Bilan initial'!J24*(1+Croissance!$F26)","v":76228.864881503847},{"$f":"+'Bilan initial'!K24*(1+Croissance!$F26)","v":768273.66181688465},{"$f":"+'Bilan initial'!L24*(1+Croissance!$F26)","v":0},{"$f":"+'Bilan initial'!M24*(1+Croissance!$F26)","v":0},945921.8134490035]
["    Services",{"$f":"+'Bilan initial'!B25*(1+Croissance!$F29)","v":48367.751842538375},{"$f":"+'Bilan initial'!C25*(1+Croissance!$F29)","v":0},{"$f":"+'Bilan initial'!D25*(1+Croissance!$F29)","v":0},{"$f":"+'Bilan initial'!E25*(1+Croissance!$F29)","v":0},{"$f":"+'Bilan initial'!F25*(1+Croissance!$F29)","v":0},{"$f":"+'Bilan initial'!G25*(1+Croissance!$F29)","v":0},48367.751842538375,{"$f":"+'Bilan initial'!I25*(1+Croissance!$F29)","v":261900.73053321324},{"$f":"+'Bilan initial'!J25*(1+Croissance!$F29)","v":26545.735405854735},{"$f":"+'Bilan initial'!K25*(1+Croissance!$F29)","v":220773.91318210657},{"$f":"+'Bilan initial'!L25*(1+Croissance!$F29)","v":2406.8993041535964},{"$f":"+'Bilan initial'!M25*(1+Croissance!$F29)","v":0},559995.03026786656]
["    Agriculture & Pêches",{"$f":"+'Bilan initial'!B26*(1+Croissance!$F31)","v":0},{"$f":"+'Bilan initial'!C26*(1+Croissance!$F31)","v":0},{"$f":"+'Bilan initial'!D26*(1+Croissance!$F31)","v":0},{"$f":"+'Bilan initial'!E26*(1+Croissance!$F31)","v":210832.21918799554},{"$f":"+'Bilan initial'!F26*(1+Croissance!$F31)","v":0},{"$f":"+'Bilan initial'!G26*(1+Croissance!$F31)","v":0},210832.21918799554,{"$f":"+'Bilan initial'!I26*(1+Croissance!$F31)","v":0},{"$f":"+'Bilan initial'!J26*(1+Croissance!$F31)","v":0},{"$f":"+'Bilan initial'!K26*(1+Croissance!$F31)","v":9289.1270019677868},{"$f":"+'Bilan initial'!L26*(1+Croissance!$F31)","v":0},{"$f":"+'Bilan initial'!M26*(1+Croissance!$F31)","v":0},220121.34618996331]
["    Utilisations non énergétiques",{"$f":"+'Bilan initial'!B27*(1+Croissance!$F33)","v":0},{"$f":"+'Bilan initial'!C27*(1+Croissance!$F33)","v":0},{"$f":"+'Bilan initial'!D27*(1+Croissance!$F33)","v":0},{"$f":"+'Bilan initial'!E27*(1+Croissance!$F33)","v":0},{"$f":"+'Bilan initial'!F27*(1+Croissance!$F33)","v":0},{"$f":"+'Bilan initial'!G27*(1+Croissance!$F33)","v":0},0,{"$f":"+'Bilan initial'!I27*(1+Croissance!$F33)","v":0},{"$f":"+'Bilan initial'!J27*(1+Croissance!$F33)","v":0},{"$f":"+'Bilan initial'!K27*(1+Croissance!$F33)","v":0},{"$f":"+'Bilan initial'!L27*(1+Croissance!$F33)","v":0},{"$f":"+'Bilan initial'!M27*(1+Croissance!$F33)","v":0},0]
[]
[]
["Bilan combustibles fossiles",{"$f":"+Hypothèses!$B$2","v":"Pays X"},null,2025]
[{"$f":"+'Bilan initial'!A31","v":"1 ktoe=41.868 TJ"}]
[{"$f":"+'Bilan initial'!A32","v":"ktoe per TJ"},null,{"$f":"+'Bilan initial'!C32","v":2.3884589662749593E-2},{"$f":"+'Bilan initial'!D32","v":2.3884589662749593E-2},{"$f":"+'Bilan initial'!E32","v":2.3884589662749593E-2},{"$f":"+'Bilan initial'!F32","v":2.3884589662749593E-2},{"$f":"+'Bilan initial'!G32","v":2.3884589662749593E-2},{"$f":"+'Bilan initial'!H32","v":2.3884589662749593E-2},null,{"$f":"+'Bilan initial'!J32","v":2.3884589662749593E-2},{"$f":"+'Bilan initial'!K32","v":2.3884589662749593E-2},{"$f":"+'Bilan initial'!L32","v":2.3884589662749593E-2},2.3884589662749593E-2,2.3884589662749593E-2]
["Unité : ktoe","Total","GPL","Essence","Essence pour carburéacteurs","Diesel","Fiouls lourds","Kérosène et autres","Total produits pétroliers","Charbon","Lignite","Gaz","Coke","Coke de pétrole","Consommation d'électricité Gwh",null,"Production d'électricité Gwh","Part de la production","Efficacité"]
["Total",{"$f":"+B35+B36","v":216295.74119537091},{"$f":"+C35+C36","v":8082.6609512199193},3886.1754313743932,2515.6991617103213,37310.448964473704,804.52639382007328,111.01904070834478,52710.529943306756,33849.536556007923,44152.248964194405,74247.036443857971,5910.4646677245537,5425.9246202793101,null,"Total",{"$f":"IF(R35=1,0,O36/(1-R35))","v":468817.06423947116}]
["    Centrales fossiles",{"$f":"SUM(I35:N35)","v":91335.318595199875},{"$f":"IF(Q36=0,0,$I35*IF('Bilan initial'!$I35>0,'Bilan initial'!C35/'Bilan initial'!$I35,0))","v":0},{"$f":"IF(Q36=0,0,$I35*IF('Bilan initial'!$I35>0,'Bilan initial'!D35/'Bilan initial'!$I35,0))","v":0},{"$f":"IF(Q36=0,0,$I35*IF('Bilan initial'!$I35>0,'Bilan initial'!E35/'Bilan initial'!$I35,0))","v":0},{"$f":"IF(Q36=0,0,$I35*IF('Bilan initial'!$I35>0,'Bilan initial'!F35/'Bilan initial'!$I35,0))","v":441.10510424443612},{"$f":"IF(Q36=0,0,$I35*IF('Bilan initial'!$I35>0,'Bilan initial'!G35/'Bilan initial'!$I35,0))","v":390.22968247255693},{"$f":"IF(Q36=0,0,$I35*IF('Bilan initial'!$I35>0,'Bilan initial'!H35/'Bilan initial'!$I35,0))","v":0},{"$f":"IF(Q36=0,0,Q39/11.63/S39)","v":831.33478671699299},{"$f":"IF(S38>0,Q38/11.63/S38,0)","v":19247.63478723431},{"$f":"IF(S37>0,Q37/11.63/S37,0)","v":38548.48428783608},{"$f":"IF(S40>0,Q40/11.63/S40,0)","v":32707.864733412491},{"$f":"IF(T40>0,R40/11.63/T40,0)","v":0},{"$f":"IF(U40>0,S40/11.63/U40,0)","v":0},null,"Pertes",{"$f":"Q34*R35","v":80109.990009451518},{"$f":"+'Bilan initial'!R35","v":0.17087686460263193}]
["CONSOMMATION FINALE",{"$f":"SUM(B37:B56)","v":124960.42260017105},{"$f":"SUM(C37:C56)","v":8082.6609512199193},3886.1754313743932,2515.6991617103213,36869.343860229266,414.29671134751629,111.01904070834478,{"$f":"SUM(C36:H36)","v":51879.195156589762},{"$f":"SUM(J37:J56)","v":14601.901768773609},5603.7646763583271,41539.171710445473,5910.4646677245537,5425.9246202793101,388707.07423001964,"Fossile",{"$f":"SUM(Q37:Q49)","v":318070.66853527981},{"$f":"SUM(R37:R50)","v":0.67845369291594249}]
["    Industrie - acier",{"$f":"SUM(I37:N37)","v":455.89923085194721},{"$f":"+'Bilan initial'!C37*(1+Croissance!$F8)","v":0},{"$f":"+'Bilan initial'!D37*(1+Croissance!$F8)","v":0},{"$f":"+'Bilan initial'!E37*(1+Croissance!$F8)","v":0},{"$f":"+'Bilan initial'!F37*(1+Croissance!$F8)","v":31.507507446031148},{"$f":"+'Bilan initial'!G37*(1+Croissance!$F8)","v":0},{"$f":"+'Bilan initial'!H37*(1+Croissance!$F8)","v":0},{"$f":"SUM(C37:H37)","v":31.507507446031148},{"$f":"+'Bilan initial'!J37*(1+Croissance!$F8)","v":20.360263293073441},{"$f":"+'Bilan initial'!K37*(1+Croissance!$F8)","v":20.351708560597359},{"$f":"+'Bilan initial'!L37*(1+Croissance!$F8)","v":383.67975155224525},{"$f":"+'Bilan initial'!M37*(1+Croissance!$F8)","v":0},{"$f":"+'Bilan initial'!N37*(1+Croissance!$F8)","v":0},{"$f":"+'Bilan initial'!O37*(1+Croissance!F$20)","v":2745.3695188001961},"Lignite",{"$f":"Q$34*R37","v":58050.328083436631},{"$f":"+'Bilan initial'!R37","v":0.12382298451018967},{"$f":"+'Bilan initial'!S37","v":0.12948446223070259}]
["    Industrie - chimique",{"$f":"SUM(I38:N38)","v":5077.6225371452756},{"$f":"+'Bilan initial'!C38*(1+Croissance!$F9)","v":18.208748075338995},{"$f":"+'Bilan initial'!D38*(1+Croissance!$F9)","v":0},{"$f":"+'Bilan initial'!E38*(1+Croissance!$F9)","v":0},{"$f":"+'Bilan initial'!F38*(1+Croissance!$F9)","v":7.413531163772034},{"$f":"+'Bilan initial'!G38*(1+Croissance!$F9)","v":5.157220473205598},{"$f":"+'Bilan initial'!H38*(1+Croissance!$F9)","v":0},{"$f":"SUM(C38:H38)","v":30.779499712316628},{"$f":"+'Bilan initial'!J38*(1+Croissance!$F9)","v":471.87904338064317},{"$f":"+'Bilan initial'!K38*(1+Croissance!$F9)","v":254.39635700746697},{"$f":"+'Bilan initial'!L38*(1+Croissance!$F9)","v":4320.5676370448491},{"$f":"+'Bilan initial'!M38*(1+Croissance!$F9)","v":0},{"$f":"+'Bilan initial'!N38*(1+Croissance!$F9)","v":0},{"$f":"+'Bilan initial'!O38*(1+Croissance!F$20)","v":27140.29684110696},"Charbon",78351.377571446428,{"$f":"+'Bilan initial'!R38","v":0.1671256947495082},{"$f":"+'Bilan initial'!S38","v":0.35001733379556782}]
["    Industrie - minerai non metallique",13702.202265210639,{"$f":"+'Bilan initial'!C39*(1+Croissance!$F10)","v":6.069582691779666},{"$f":"+'Bilan initial'!D39*(1+Croissance!$F10)","v":0},{"$f":"+'Bilan initial'!E39*(1+Croissance!$F10)","v":0},{"$f":"+'Bilan initial'!F39*(1+Croissance!$F10)","v":44.481186982632202},{"$f":"+'Bilan initial'!G39*(1+Croissance!$F10)","v":30.943322839233581},{"$f":"+'Bilan initial'!H39*(1+Croissance!$F10)","v":0},81.494092513645455,{"$f":"+'Bilan initial'!J39*(1+Croissance!$F10)","v":3960.6700417761099},{"$f":"+'Bilan initial'!K39*(1+Croissance!$F10)","v":1100.5577783153801},{"$f":"+'Bilan initial'!L39*(1+Croissance!$F10)","v":3142.8376170627398},{"$f":"+'Bilan initial'!M39*(1+Croissance!$F10)","v":0},{"$f":"+'Bilan initial'!N39*(1+Croissance!$F10)","v":5416.6427355427622},{"$f":"+'Bilan initial'!O39*(1+Croissance!F$20)","v":33207.688836994152},"Pétrole",3982.8452771113089,{"$f":"+'Bilan initial'!R39","v":8.4955211337547996E-3},{"$f":"+'Bilan initial'!S39","v":0.41194360678072844}]
["    Industrie - transformation des aliments et boissons",2710.4005954996928,{"$f":"+'Bilan initial'!C40*(1+Croissance!$F11)","v":40.463884611864444},{"$f":"+'Bilan initial'!D40*(1+Croissance!$F11)","v":0},{"$f":"+'Bilan initial'!E40*(1+Croissance!$F11)","v":0},{"$f":"+'Bilan initial'!F40*(1+Croissance!$F11)","v":11.120296745658051},{"$f":"+'Bilan initial'!G40*(1+Croissance!$F11)","v":63.605719169535689},{"$f":"+'Bilan initial'!H40*(1+Croissance!$F11)","v":0},115.18990052705819,{"$f":"+'Bilan initial'!J40*(1+Croissance!$F11)","v":273.06706063651433},{"$f":"+'Bilan initial'!K40*(1+Croissance!$F11)","v":616.03056296885086},{"$f":"+'Bilan initial'!L40*(1+Croissance!$F11)","v":1638.1457218448036},{"$f":"+'Bilan initial'!M40*(1+Croissance!$F11)","v":58.685464785917553},{"$f":"+'Bilan initial'!N40*(1+Croissance!$F11)","v":9.281884736548184},{"$f":"+'Bilan initial'!O40*(1+Croissance!F$20)","v":12715.018645454267},"Gaz naturel",177686.11760328547,{"$f":"+'Bilan initial'!R40","v":0.37900949252248983},{"$f":"+'Bilan initial'!S40","v":0.46711260891910655}]
["    Industrie - construction",876.53542670086358,{"$f":"+'Bilan initial'!C41*(1+Croissance!$F12)","v":0},{"$f":"+'Bilan initial'!D41*(1+Croissance!$F12)","v":0},{"$f":"+'Bilan initial'!E41*(1+Croissance!$F12)","v":0},{"$f":"+'Bilan initial'!F41*(1+Croissance!$F12)","v":272.44727026862222},{"$f":"+'Bilan initial'!G41*(1+Croissance!$F12)","v":0},{"$f":"+'Bilan initial'!H41*(1+Croissance!$F12)","v":0},272.44727026862222,{"$f":"+'Bilan initial'!J41*(1+Croissance!$F12)","v":1.1976625466513788},{"$f":"+'Bilan initial'!K41*(1+Croissance!$F12)","v":2.3482740646843108},{"$f":"+'Bilan initial'!L41*(1+Croissance!$F12)","v":600.54221982090564},{"$f":"+'Bilan initial'!M41*(1+Croissance!$F12)","v":0},{"$f":"+'Bilan initial'!N41*(1+Croissance!$F12)","v":0},{"$f":"+'Bilan initial'!O41*(1+Croissance!F$20)","v":5132.5694982918212},"Nucléaire",0,{"$f":"+'Bilan initial'!R41","v":0}]
["    Industrie - exploitation minière",1010.0692400763827,{"$f":"+'Bilan initial'!C42*(1+Croissance!$F13)","v":0},{"$f":"+'Bilan initial'!D42*(1+Croissance!$F13)","v":0},{"$f":"+'Bilan initial'!E42*(1+Croissance!$F13)","v":0},{"$f":"+'Bilan initial'!F42*(1+Croissance!$F13)","v":696.87192939457111},{"$f":"+'Bilan initial'!G42*(1+Croissance!$F13)","v":0},{"$f":"+'Bilan initial'!H42*(1+Croissance!$F13)","v":0},696.87192939457111,{"$f":"+'Bilan initial'!J42*(1+Croissance!$F13)","v":22.755588386376196},{"$f":"+'Bilan initial'!K42*(1+Croissance!$F13)","v":73.579254026775075},{"$f":"+'Bilan initial'!L42*(1+Croissance!$F13)","v":216.86246826866036},{"$f":"+'Bilan initial'!M42*(1+Croissance!$F13)","v":0},{"$f":"+'Bilan initial'!N42*(1+Croissance!$F13)","v":0},{"$f":"+'Bilan initial'!O42*(1+Croissance!F$20)","v":3948.8191708769946},"Importation net",0,{"$f":"+'Bilan initial'!R42","v":0}]
["    Industrie - machinerie",147.67991899796729,{"$f":"+'Bilan initial'!C43*(1+Croissance!$F14)","v":10.115971152966111},{"$f":"+'Bilan initial'!D43*(1+Croissance!$F14)","v":0},{"$f":"+'Bilan initial'!E43*(1+Croissance!$F14)","v":0},{"$f":"+'Bilan initial'!F43*(1+Croissance!$F14)","v":5.5601483728290253},{"$f":"+'Bilan initial'!G43*(1+Croissance!$F14)","v":0},{"$f":"+'Bilan initial'!H43*(1+Croissance!$F14)","v":0},15.676119525795137,{"$f":"+'Bilan initial'!J43*(1+Croissance!$F14)","v":3.5929876399541363},{"$f":"+'Bilan initial'!K43*(1+Croissance!$F14)","v":13.306886366544427},{"$f":"+'Bilan initial'!L43*(1+Croissance!$F14)","v":115.10392546567358},{"$f":"+'Bilan initial'!M43*(1+Croissance!$F14)","v":0},{"$f":"+'Bilan initial'!N43*(1+Croissance!$F14)","v":0},{"$f":"+'Bilan initial'!O43*(1+Croissance!F$20)","v":3857.4859383533089}]
["    Industrie - métaux non-ferreux",10678.564151786495,{"$f":"+'Bilan initial'!C44*(1+Croissance!$F15)","v":74.858186531949201},{"$f":"+'Bilan initial'!D44*(1+Croissance!$F15)","v":0},{"$f":"+'Bilan initial'!E44*(1+Croissance!$F15)","v":0},{"$f":"+'Bilan initial'!F44*(1+Croissance!$F15)","v":24.09397628225911},{"$f":"+'Bilan initial'!G44*(1+Croissance!$F15)","v":0},{"$f":"+'Bilan initial'!H44*(1+Croissance!$F15)","v":0},98.952162814208307,{"$f":"+'Bilan initial'!J44*(1+Croissance!$F15)","v":1300.6615256633972},{"$f":"+'Bilan initial'!K44*(1+Croissance!$F15)","v":53.227545466177709},{"$f":"+'Bilan initial'!L44*(1+Croissance!$F15)","v":3431.4315171433414},{"$f":"+'Bilan initial'!M44*(1+Croissance!$F15)","v":5794.2914006993706},{"$f":"+'Bilan initial'!N44*(1+Croissance!$F15)","v":0},{"$f":"+'Bilan initial'!O44*(1+Croissance!F$20)","v":45242.185357762137}]
["    Industrie - pâtes et papiers",600.5080008910013,{"$f":"+'Bilan initial'!C45*(1+Croissance!$F16)","v":2.023194230593222},{"$f":"+'Bilan initial'!D45*(1+Croissance!$F16)","v":0},{"$f":"+'Bilan initial'!E45*(1+Croissance!$F16)","v":0},{"$f":"+'Bilan initial'!F45*(1+Croissance!$F16)","v":18.533827909430087},{"$f":"+'Bilan initial'!G45*(1+Croissance!$F16)","v":0},{"$f":"+'Bilan initial'!H45*(1+Croissance!$F16)","v":0},20.55702214002331,{"$f":"+'Bilan initial'!J45*(1+Croissance!$F16)","v":51.499489506009283},{"$f":"+'Bilan initial'!K45*(1+Croissance!$F16)","v":158.11712035541026},{"$f":"+'Bilan initial'!L45*(1+Croissance!$F16)","v":370.33436888955845},{"$f":"+'Bilan initial'!M45*(1+Croissance!$F16)","v":0},{"$f":"+'Bilan initial'!N45*(1+Croissance!$F16)","v":0},{"$f":"+'Bilan initial'!O45*(1+Croissance!F$20)","v":7195.62604470919}]
["    Industrie - transport d'équipment",362.70397525751775,{"$f":"+'Bilan initial'!C46*(1+Croissance!$F17)","v":46.533467303644102},{"$f":"+'Bilan initial'!D46*(1+Croissance!$F17)","v":0},{"$f":"+'Bilan initial'!E46*(1+Croissance!$F17)","v":0},{"$f":"+'Bilan initial'!F46*(1+Croissance!$F17)","v":12.973679536601059},{"$f":"+'Bilan initial'!G46*(1+Croissance!$F17)","v":0},{"$f":"+'Bilan initial'!H46*(1+Croissance!$F17)","v":0},59.507146840245163,{"$f":"+'Bilan initial'!J46*(1+Croissance!$F17)","v":0},{"$f":"+'Bilan initial'!K46*(1+Croissance!$F17)","v":6.2620641724914945},{"$f":"+'Bilan initial'!L46*(1+Croissance!$F17)","v":296.93476424478109},{"$f":"+'Bilan initial'!M46*(1+Croissance!$F17)","v":0},{"$f":"+'Bilan initial'!N46*(1+Croissance!$F17)","v":0},{"$f":"+'Bilan initial'!O46*(1+Croissance!F$20)","v":4756.4914820178219}]
["    Industrie - cuir et textile",3309.1150967270842,{"$f":"+'Bilan initial'!C47*(1+Croissance!$F18)","v":24.278330767118664},{"$f":"+'Bilan initial'!D47*(1+Croissance!$F18)","v":0},{"$f":"+'Bilan initial'!E47*(1+Croissance!$F18)","v":0},{"$f":"+'Bilan initial'!F47*(1+Croissance!$F18)","v":11.120296745658051},{"$f":"+'Bilan initial'!G47*(1+Croissance!$F18)","v":0},{"$f":"+'Bilan initial'!H47*(1+Croissance!$F18)","v":0},35.398627512776713,{"$f":"+'Bilan initial'!J47*(1+Croissance!$F18)","v":425.17020406123947},{"$f":"+'Bilan initial'!K47*(1+Croissance!$F18)","v":850.07521141572056},{"$f":"+'Bilan initial'!L47*(1+Croissance!$F18)","v":1998.4710537373471},{"$f":"+'Bilan initial'!M47*(1+Croissance!$F18)","v":0},{"$f":"+'Bilan initial'!N47*(1+Croissance!$F18)","v":0},{"$f":"+'Bilan initial'!O47*(1+Croissance!F$20)","v":31108.815336645926}]
["    Industrie - divers",1036.7180872126237,{"$f":"+'Bilan initial'!C48*(1+Croissance!$F19)","v":0},{"$f":"+'Bilan initial'!D48*(1+Croissance!$F19)","v":0},{"$f":"+'Bilan initial'!E48*(1+Croissance!$F19)","v":0},{"$f":"+'Bilan initial'!F48*(1+Croissance!$F19)","v":0},{"$f":"+'Bilan initial'!G48*(1+Croissance!$F19)","v":0},{"$f":"+'Bilan initial'!H48*(1+Croissance!$F19)","v":0},0,{"$f":"+'Bilan initial'!J48*(1+Croissance!$F19)","v":0},{"$f":"+'Bilan initial'!K48*(1+Croissance!$F19)","v":0.78275802156143681},{"$f":"+'Bilan initial'!L48*(1+Croissance!$F19)","v":1035.9353291910622},{"$f":"+'Bilan initial'!M48*(1+Croissance!$F19)","v":0},{"$f":"+'Bilan initial'!N48*(1+Croissance!$F19)","v":0},{"$f":"+'Bilan initial'!O48*(1+Croissance!F$20)","v":8361.4678951585884}]
["    Transport - route",40686.193878300619,{"$f":"+'Bilan initial'!C49*(1+Croissance!$F21)","v":6209.1830936905972},{"$f":"+'Bilan initial'!D49*(1+Croissance!$F21)","v":3886.1754313743932},{"$f":"+'Bilan initial'!E49*(1+Croissance!$F21)","v":0},{"$f":"+'Bilan initial'!F49*(1+Croissance!$F21)","v":30447.372489611742},{"$f":"+'Bilan initial'!G49*(1+Croissance!$F21)","v":0},{"$f":"+'Bilan initial'!H49*(1+Croissance!$F21)","v":0},40542.731014676734,{"$f":"+'Bilan initial'!J49*(1+Croissance!$F21)","v":0},{"$f":"+'Bilan initial'!K49*(1+Croissance!$F21)","v":0},{"$f":"+'Bilan initial'!L49*(1+Croissance!$F21)","v":143.46286362388301},{"$f":"+'Bilan initial'!M49*(1+Croissance!$F21)","v":0},{"$f":"+'Bilan initial'!N49*(1+Croissance!$F21)","v":0},{"$f":"+'Bilan initial'!O49*(1+Croissance!F$25)","v":0}]
["    Transport - rail",250.20667677730614,{"$f":"+'Bilan initial'!C50*(1+Croissance!$F22)","v":0},{"$f":"+'Bilan initial'!D50*(1+Croissance!$F22)","v":0},{"$f":"+'Bilan initial'!E50*(1+Croissance!$F22)","v":0},{"$f":"+'Bilan initial'!F50*(1+Croissance!$F22)","v":250.20667677730614},{"$f":"+'Bilan initial'!G50*(1+Croissance!$F22)","v":0},{"$f":"+'Bilan initial'!H50*(1+Croissance!$F22)","v":0},250.20667677730614,{"$f":"+'Bilan initial'!J50*(1+Croissance!$F22)","v":0},{"$f":"+'Bilan initial'!K50*(1+Croissance!$F22)","v":0},{"$f":"+'Bilan initial'!L50*(1+Croissance!$F22)","v":0},{"$f":"+'Bilan initial'!M50*(1+Croissance!$F22)","v":0},{"$f":"+'Bilan initial'!N50*(1+Croissance!$F22)","v":0},{"$f":"+'Bilan initial'!O50*(1+Croissance!F$25)","v":1438.0507003239122}]
["    Transport - air domestique",2515.6991617103213,{"$f":"+'Bilan initial'!C51*(1+Croissance!$F23)","v":0},{"$f":"+'Bilan initial'!D51*(1+Croissance!$F23)","v":0},{"$f":"+'Bilan initial'!E51*(1+Croissance!$F23)","v":2515.6991617103213},{"$f":"+'Bilan initial'!F51*(1+Croissance!$F23)","v":0},{"$f":"+'Bilan initial'!G51*(1+Croissance!$F23)","v":0},{"$f":"+'Bilan initial'!H51*(1+Croissance!$F23)","v":0},2515.6991617103213,{"$f":"+'Bilan initial'!J51*(1+Croissance!$F23)","v":0},{"$f":"+'Bilan initial'!K51*(1+Croissance!$F23)","v":0},{"$f":"+'Bilan initial'!L51*(1+Croissance!$F23)","v":0},{"$f":"+'Bilan initial'!M51*(1+Croissance!$F23)","v":0},{"$f":"+'Bilan initial'!N51*(1+Croissance!$F23)","v":0},{"$f":"+'Bilan initial'!O51*(1+Croissance!F$25)","v":0},"Renouvelable",{"$f":"SUM(Q52:Q56)","v":150746.39570419135},{"$f":"SUM(R52:R56)","v":0.32154630708405757}]
["    Transport - navigation",314.59044886554142,{"$f":"+'Bilan initial'!C52*(1+Croissance!$F24)","v":0},{"$f":"+'Bilan initial'!D52*(1+Croissance!$F24)","v":0},{"$f":"+'Bilan initial'!E52*(1+Croissance!$F24)","v":0},{"$f":"+'Bilan initial'!F52*(1+Croissance!$F24)","v":0},{"$f":"+'Bilan initial'!G52*(1+Croissance!$F24)","v":314.59044886554142},{"$f":"+'Bilan initial'!H52*(1+Croissance!$F24)","v":0},314.59044886554142,{"$f":"+'Bilan initial'!J52*(1+Croissance!$F24)","v":0},{"$f":"+'Bilan initial'!K52*(1+Croissance!$F24)","v":0},{"$f":"+'Bilan initial'!L52*(1+Croissance!$F24)","v":0},{"$f":"+'Bilan initial'!M52*(1+Croissance!$F24)","v":0},{"$f":"+'Bilan initial'!N52*(1+Croissance!$F24)","v":0},{"$f":"+'Bilan initial'!O52*(1+Croissance!F$25)","v":0},"Hydro",{"$f":"Q$34*R52","v":120248.25943206651},{"$f":"+'Bilan initial'!R52","v":0.256492923582329}]
["    Ménages",22592.954367273414,{"$f":"+'Bilan initial'!C53*(1+Croissance!$F26)","v":495.68258649533936},{"$f":"+'Bilan initial'!D53*(1+Croissance!$F26)","v":0},{"$f":"+'Bilan initial'!E53*(1+Croissance!$F26)","v":0},{"$f":"+'Bilan initial'!F53*(1+Croissance!$F26)","v":0},{"$f":"+'Bilan initial'!G53*(1+Croissance!$F26)","v":0},{"$f":"+'Bilan initial'!H53*(1+Croissance!$F27)","v":111.01904070834478},606.7016272036841,{"$f":"+'Bilan initial'!J53*(1+Croissance!$F26)","v":1815.6564207234901},{"$f":"+'Bilan initial'!K53*(1+Croissance!$F26)","v":1820.6951581519022},{"$f":"+'Bilan initial'!L53*(1+Croissance!$F26)","v":18349.901161194339},{"$f":"+'Bilan initial'!M53*(1+Croissance!$F26)","v":0},{"$f":"+'Bilan initial'!N53*(1+Croissance!$F26)","v":0},{"$f":"+'Bilan initial'!O53*(1+Croissance!F28)","v":85783.395512099276},"Éolien",{"$f":"Q$34*R53","v":20868.748207813886},{"$f":"+'Bilan initial'!R53","v":4.4513627595163974E-2}]
["    Services",13375.25151112703,{"$f":"+'Bilan initial'!C54*(1+Croissance!$F29)","v":1155.2439056687294},{"$f":"+'Bilan initial'!D54*(1+Croissance!$F29)","v":0},{"$f":"+'Bilan initial'!E54*(1+Croissance!$F29)","v":0},{"$f":"+'Bilan initial'!F54*(1+Croissance!$F29)","v":0},{"$f":"+'Bilan initial'!G54*(1+Croissance!$F29)","v":0},{"$f":"+'Bilan initial'!H54*(1+Croissance!$F29)","v":0},1155.2439056687294,{"$f":"+'Bilan initial'!J54*(1+Croissance!$F29)","v":6255.3914811601517},{"$f":"+'Bilan initial'!K54*(1+Croissance!$F29)","v":634.03399746476396},{"$f":"+'Bilan initial'!L54*(1+Croissance!$F29)","v":5273.0943245941189},{"$f":"+'Bilan initial'!M54*(1+Croissance!$F29)","v":57.48780223926618},{"$f":"+'Bilan initial'!N54*(1+Croissance!$F29)","v":0},{"$f":"+'Bilan initial'!O54*(1+Croissance!F30)","v":107332.66584459944},"Solaire",{"$f":"Q$34*R54","v":347.4244531293138},{"$f":"+'Bilan initial'!R54","v":7.4106614206314344E-4}]
["    Agriculture & Pêches",5257.5080297593222,{"$f":"+'Bilan initial'!C55*(1+Croissance!$F31)","v":0},{"$f":"+'Bilan initial'!D55*(1+Croissance!$F31)","v":0},{"$f":"+'Bilan initial'!E55*(1+Croissance!$F31)","v":0},{"$f":"+'Bilan initial'!F55*(1+Croissance!$F31)","v":5035.6410429921543},{"$f":"+'Bilan initial'!G55*(1+Croissance!$F31)","v":0},{"$f":"+'Bilan initial'!H55*(1+Croissance!$F31)","v":0},5035.6410429921543,{"$f":"+'Bilan initial'!J55*(1+Croissance!$F31)","v":0},{"$f":"+'Bilan initial'!K55*(1+Croissance!$F31)","v":0},{"$f":"+'Bilan initial'!L55*(1+Croissance!$F31)","v":221.8669867671679},{"$f":"+'Bilan initial'!M55*(1+Croissance!$F31)","v":0},{"$f":"+'Bilan initial'!N55*(1+Croissance!$F31)","v":0},{"$f":"+'Bilan initial'!O55*(1+Croissance!F32)","v":8741.1276068256739},"Biomasse",{"$f":"Q$34*R55","v":3148.3102505223383},{"$f":"+'Bilan initial'!R55","v":6.7154344213763203E-3}]
["    Utilisations non énergétiques",0,{"$f":"+'Bilan initial'!C56*(1+Croissance!$F33)","v":0},{"$f":"+'Bilan initial'!D56*(1+Croissance!$F33)","v":0},{"$f":"+'Bilan initial'!E56*(1+Croissance!$F33)","v":0},{"$f":"+'Bilan initial'!F56*(1+Croissance!$F33)","v":0},{"$f":"+'Bilan initial'!G56*(1+Croissance!$F33)","v":0},{"$f":"+'Bilan initial'!H56*(1+Croissance!$F33)","v":0},0,{"$f":"+'Bilan initial'!J56*(1+Croissance!$F33)","v":0},{"$f":"+'Bilan initial'!K56*(1+Croissance!$F33)","v":0},{"$f":"+'Bilan initial'!L56*(1+Croissance!$F33)","v":0},{"$f":"+'Bilan initial'!M56*(1+Croissance!$F33)","v":0},{"$f":"+'Bilan initial'!N56*(1+Croissance!$F33)","v":0},{"$f":"+'Bilan initial'!O56*(1+Croissance!F33)","v":0},"Géothermie",{"$f":"Q$34*R56","v":6133.6533606592766},{"$f":"+'Bilan initial'!R56","v":1.3083255343125084E-2}]
[null,null,null,null,null,null,null,null,null,null,null,null,null,null,null,null,null,{"$f":"+R36+R51","v":1}]
[]
["Bilan GES",{"$f":"+Hypothèses!$B$2","v":"Pays X"},null,2025]
["Ton CO2/Toe (IPCC):",null,{"$f":"+'Bilan initial'!C60","v":2.6140704480000001},{"$f":"+'Bilan initial'!D60","v":2.8724378760000002},{"$f":"+'Bilan initial'!E60","v":2.9636263800000004},{"$f":"+'Bilan initial'!F60","v":3.0700129680000003},{"$f":"+'Bilan initial'!G60","v":3.2067957240000005},{"$f":"+'Bilan initial'!H60","v":2.9788244640000006},null,{"$f":"+'Bilan initial'!J60","v":3.9211056720000004},{"$f":"+'Bilan initial'!K60","v":4.1946711840000006},{"$f":"+'Bilan initial'!L60","v":2.3253068520000002},{"$f":"+'Bilan initial'!M60","v":4.4848164240000008},{"$f":"+'Bilan initial'!N60","v":4.1573667960000007}]
["Unité : ktCO2-e","Total","GPL","Essence","Essence pour carburéacteurs","Diesel","Fiouls lourds","Kérosène et autres","Total produits pétroliers","Charbon","Lignite","Gaz","Coke","Coke de pétrole"]
["Total",{"$f":"+B63+B64","v":696845.08190831391},{"$f":"+C63+C64","v":21128.645133787562},11162.797501860447,7455.5923997885957,114543.56216283646,2579.9517995473511,330.70623443182939,157201.25523225221,132727.60978433402,185204.16643890017,172647.14258359664,26507.349015282791,22557.558853948121]
["    Centrales fossiles",{"$f":"SUM(I63:N63)","v":315831.63341217727},{"$f":"C60*C35","v":0},0,0,1354.1983902814109,1251.3868771308735,0,{"$f":"SUM(C63:H63)","v":2605.5852674122843},{"$f":"J60*J35","v":75472.009936808972},{"$f":"K60*K35","v":161698.21622906279},{"$f":"L60*L35","v":76055.821978893218},{"$f":"M60*M35","v":0},{"$f":"N60*N35","v":0}]
["CONSOMMATION FINALE",{"$f":"SUM(B65:B84)","v":381013.44849613664},{"$f":"SUM(C65:C84)","v":21128.645133787562},11162.797501860447,7455.5923997885957,113189.36377255505,1328.5649224164777,330.70623443182939,{"$f":"SUM(C64:H64)","v":154595.66996483994},{"$f":"SUM(J65:J84)","v":57255.599847525045},{"$f":"SUM(K65:K84)","v":23505.950209837363},{"$f":"SUM(L65:L84)","v":96591.320604703433},{"$f":"SUM(M65:M84)","v":26507.349015282791},{"$f":"SUM(N65:N84)","v":22557.558853948121}]
["    Industrie - acier",{"$f":"SUM(I65:N65)","v":1154.1050810329534},{"$f":"+'Bilan initial'!C65*(1+Croissance!$F8)","v":0},{"$f":"+'Bilan initial'!D65*(1+Croissance!$F8)","v":0},{"$f":"+'Bilan initial'!E65*(1+Croissance!$F8)","v":0},{"$f":"+'Bilan initial'!F65*(1+Croissance!$F8)","v":96.728456448672205},{"$f":"+'Bilan initial'!G65*(1+Croissance!$F8)","v":0},{"$f":"+'Bilan initial'!H65*(1+Croissance!$F8)","v":0},{"$f":"SUM(C65:H65)","v":96.728456448672205},{"$f":"+'Bilan initial'!J65*(1+Croissance!$F8)","v":79.834743881883682},{"$f":"+'Bilan initial'!K65*(1+Croissance!$F8)","v":85.368725444303877},{"$f":"+'Bilan initial'!L65*(1+Croissance!$F8)","v":892.17315525809363},{"$f":"+'Bilan initial'!M65*(1+Croissance!$F8)","v":0},{"$f":"+'Bilan initial'!N65*(1+Croissance!$F8)","v":0}]
["    Industrie - chimique",{"$f":"SUM(I66:N66)","v":13050.938932112884},{"$f":"+'Bilan initial'!C66*(1+Croissance!$F9)","v":47.598950238820549},{"$f":"+'Bilan initial'!D66*(1+Croissance!$F9)","v":0},{"$f":"+'Bilan initial'!E66*(1+Croissance!$F9)","v":0},{"$f":"+'Bilan initial'!F66*(1+Croissance!$F9)","v":22.759636811452282},{"$f":"+'Bilan initial'!G66*(1+Croissance!$F9)","v":16.53815256120097},{"$f":"+'Bilan initial'!H66*(1+Croissance!$F9)","v":0},86.896739611473805,{"$f":"+'Bilan initial'!J66*(1+Croissance!$F9)","v":1850.2875934977742},{"$f":"+'Bilan initial'!K66*(1+Croissance!$F9)","v":1067.1090680537984},{"$f":"+'Bilan initial'!L66*(1+Croissance!$F9)","v":10046.645530949838},{"$f":"+'Bilan initial'!M66*(1+Croissance!$F9)","v":0},{"$f":"+'Bilan initial'!N66*(1+Croissance!$F9)","v":0}]
["    Industrie - minerai non metallique",50225.369317956996,{"$f":"+'Bilan initial'!C67*(1+Croissance!$F10)","v":15.866316746273519},{"$f":"+'Bilan initial'!D67*(1+Croissance!$F10)","v":0},{"$f":"+'Bilan initial'!E67*(1+Croissance!$F10)","v":0},{"$f":"+'Bilan initial'!F67*(1+Croissance!$F10)","v":136.55782086871366},{"$f":"+'Bilan initial'!G67*(1+Croissance!$F10)","v":99.228915367205801},{"$f":"+'Bilan initial'!H67*(1+Croissance!$F10)","v":0},251.653052982193,{"$f":"+'Bilan initial'!J67*(1+Croissance!$F10)","v":15530.205765728782},{"$f":"+'Bilan initial'!K67*(1+Croissance!$F10)","v":4616.4779990265861},{"$f":"+'Bilan initial'!L67*(1+Croissance!$F10)","v":7308.0618456793409},{"$f":"+'Bilan initial'!M67*(1+Croissance!$F10)","v":0},{"$f":"+'Bilan initial'!N67*(1+Croissance!$F10)","v":22518.970654540095}]
["    Industrie - transformation des aliments et boissons",8109.6291070042771,{"$f":"+'Bilan initial'!C68*(1+Croissance!$F11)","v":105.77544497515679},{"$f":"+'Bilan initial'!D68*(1+Croissance!$F11)","v":0},{"$f":"+'Bilan initial'!E68*(1+Croissance!$F11)","v":0},{"$f":"+'Bilan initial'!F68*(1+Croissance!$F11)","v":34.139455217178416},{"$f":"+'Bilan initial'!G68*(1+Croissance!$F11)","v":203.97054825481192},{"$f":"+'Bilan initial'!H68*(1+Croissance!$F11)","v":0},343.88544844714716,{"$f":"+'Bilan initial'!J68*(1+Croissance!$F11)","v":1070.7248002982044},{"$f":"+'Bilan initial'!K68*(1+Croissance!$F11)","v":2584.0456509487362},{"$f":"+'Bilan initial'!L68*(1+Croissance!$F11)","v":3809.1914715802086},{"$f":"+'Bilan initial'!M68*(1+Croissance!$F11)","v":263.19353632195674},{"$f":"+'Bilan initial'!N68*(1+Croissance!$F11)","v":38.588199408024636}]
["    Industrie - construction",2247.4079904417958,{"$f":"+'Bilan initial'!C69*(1+Croissance!$F12)","v":0},{"$f":"+'Bilan initial'!D69*(1+Croissance!$F12)","v":0},{"$f":"+'Bilan initial'!E69*(1+Croissance!$F12)","v":0},{"$f":"+'Bilan initial'!F69*(1+Croissance!$F12)","v":836.41665282087115},{"$f":"+'Bilan initial'!G69*(1+Croissance!$F12)","v":0},{"$f":"+'Bilan initial'!H69*(1+Croissance!$F12)","v":0},836.41665282087115,{"$f":"+'Bilan initial'!J69*(1+Croissance!$F12)","v":4.696161404816686},{"$f":"+'Bilan initial'!K69*(1+Croissance!$F12)","v":9.8502375512658311},{"$f":"+'Bilan initial'!L69*(1+Croissance!$F12)","v":1396.4449386648423},{"$f":"+'Bilan initial'!M69*(1+Croissance!$F12)","v":0},{"$f":"+'Bilan initial'!N69*(1+Croissance!$F12)","v":0}]
["    Industrie - exploitation minière",3041.5454869811088,{"$f":"+'Bilan initial'!C70*(1+Croissance!$F13)","v":0},{"$f":"+'Bilan initial'!D70*(1+Croissance!$F13)","v":0},{"$f":"+'Bilan initial'!E70*(1+Croissance!$F13)","v":0},{"$f":"+'Bilan initial'!F70*(1+Croissance!$F13)","v":2139.405860276514},{"$f":"+'Bilan initial'!G70*(1+Croissance!$F13)","v":0},{"$f":"+'Bilan initial'!H70*(1+Croissance!$F13)","v":0},2139.405860276514,{"$f":"+'Bilan initial'!J70*(1+Croissance!$F13)","v":89.227066691517038},{"$f":"+'Bilan initial'!K70*(1+Croissance!$F13)","v":308.64077660632944},{"$f":"+'Bilan initial'!L70*(1+Croissance!$F13)","v":504.27178340674863},{"$f":"+'Bilan initial'!M70*(1+Croissance!$F13)","v":0},{"$f":"+'Bilan initial'!N70*(1+Croissance!$F13)","v":0}]
["    Industrie - machinerie",381.07203243476295,{"$f":"+'Bilan initial'!C71*(1+Croissance!$F14)","v":26.443861243789197},{"$f":"+'Bilan initial'!D71*(1+Croissance!$F14)","v":0},{"$f":"+'Bilan initial'!E71*(1+Croissance!$F14)","v":0},{"$f":"+'Bilan initial'!F71*(1+Croissance!$F14)","v":17.069727608589208},{"$f":"+'Bilan initial'!G71*(1+Croissance!$F14)","v":0},{"$f":"+'Bilan initial'!H71*(1+Croissance!$F14)","v":0},43.513588852378405,{"$f":"+'Bilan initial'!J71*(1+Croissance!$F14)","v":14.088484214450059},{"$f":"+'Bilan initial'!K71*(1+Croissance!$F14)","v":55.81801279050638},{"$f":"+'Bilan initial'!L71*(1+Croissance!$F14)","v":267.65194657742813},{"$f":"+'Bilan initial'!M71*(1+Croissance!$F14)","v":0},{"$f":"+'Bilan initial'!N71*(1+Croissance!$F14)","v":0}]
["    Industrie - métaux non-ferreux",39558.421187914879,{"$f":"+'Bilan initial'!C72*(1+Croissance!$F15)","v":195.68457320404002},{"$f":"+'Bilan initial'!D72*(1+Croissance!$F15)","v":0},{"$f":"+'Bilan initial'!E72*(1+Croissance!$F15)","v":0},{"$f":"+'Bilan initial'!F72*(1+Croissance!$F15)","v":73.968819637219909},{"$f":"+'Bilan initial'!G72*(1+Croissance!$F15)","v":0},{"$f":"+'Bilan initial'!H72*(1+Croissance!$F15)","v":0},269.65339284125992,{"$f":"+'Bilan initial'!J72*(1+Croissance!$F15)","v":5100.031285630921},{"$f":"+'Bilan initial'!K72*(1+Croissance!$F15)","v":223.27205116202552},{"$f":"+'Bilan initial'!L72*(1+Croissance!$F15)","v":7979.1312189821665},{"$f":"+'Bilan initial'!M72*(1+Croissance!$F15)","v":25986.33323929851},{"$f":"+'Bilan initial'!N72*(1+Croissance!$F15)","v":0}]
["    Industrie - pâtes et papiers",1788.5131786463912,{"$f":"+'Bilan initial'!C73*(1+Croissance!$F16)","v":5.288772248757839},{"$f":"+'Bilan initial'!D73*(1+Croissance!$F16)","v":0},{"$f":"+'Bilan initial'!E73*(1+Croissance!$F16)","v":0},{"$f":"+'Bilan initial'!F73*(1+Croissance!$F16)","v":56.899092028630697},{"$f":"+'Bilan initial'!G73*(1+Croissance!$F16)","v":0},{"$f":"+'Bilan initial'!H73*(1+Croissance!$F16)","v":0},62.187864277388535,{"$f":"+'Bilan initial'!J73*(1+Croissance!$F16)","v":201.93494040711749},{"$f":"+'Bilan initial'!K73*(1+Croissance!$F16)","v":663.24932845189937},{"$f":"+'Bilan initial'!L73*(1+Croissance!$F16)","v":861.14104550998593},{"$f":"+'Bilan initial'!M73*(1+Croissance!$F16)","v":0},{"$f":"+'Bilan initial'!N73*(1+Croissance!$F16)","v":0}]
["    Industrie - transport d'équipment",878.20286817357487,{"$f":"+'Bilan initial'!C74*(1+Croissance!$F17)","v":121.6417617214303},{"$f":"+'Bilan initial'!D74*(1+Croissance!$F17)","v":0},{"$f":"+'Bilan initial'!E74*(1+Croissance!$F17)","v":0},{"$f":"+'Bilan initial'!F74*(1+Croissance!$F17)","v":39.829364420041486},{"$f":"+'Bilan initial'!G74*(1+Croissance!$F17)","v":0},{"$f":"+'Bilan initial'!H74*(1+Croissance!$F17)","v":0},161.47112614147179,{"$f":"+'Bilan initial'!J74*(1+Croissance!$F17)","v":0},{"$f":"+'Bilan initial'!K74*(1+Croissance!$F17)","v":26.267300136708883},{"$f":"+'Bilan initial'!L74*(1+Croissance!$F17)","v":690.4644418953942},{"$f":"+'Bilan initial'!M74*(1+Croissance!$F17)","v":0},{"$f":"+'Bilan initial'!N74*(1+Croissance!$F17)","v":0}]
["    Industrie - cuir et textile",9977.5864492495421,{"$f":"+'Bilan initial'!C75*(1+Croissance!$F18)","v":63.465266985094075},{"$f":"+'Bilan initial'!D75*(1+Croissance!$F18)","v":0},{"$f":"+'Bilan initial'!E75*(1+Croissance!$F18)","v":0},{"$f":"+'Bilan initial'!F75*(1+Croissance!$F18)","v":34.139455217178416},{"$f":"+'Bilan initial'!G75*(1+Croissance!$F18)","v":0},{"$f":"+'Bilan initial'!H75*(1+Croissance!$F18)","v":0},97.604722202272484,{"$f":"+'Bilan initial'!J75*(1+Croissance!$F18)","v":1667.1372987099237},{"$f":"+'Bilan initial'!K75*(1+Croissance!$F18)","v":3565.7859935582314},{"$f":"+'Bilan initial'!L75*(1+Croissance!$F18)","v":4647.0584347791146},{"$f":"+'Bilan initial'!M75*(1+Croissance!$F18)","v":0},{"$f":"+'Bilan initial'!N75*(1+Croissance!$F18)","v":0}]
["    Industrie - divers",2412.1509317139416,{"$f":"+'Bilan initial'!C76*(1+Croissance!$F19)","v":0},{"$f":"+'Bilan initial'!D76*(1+Croissance!$F19)","v":0},{"$f":"+'Bilan initial'!E76*(1+Croissance!$F19)","v":0},{"$f":"+'Bilan initial'!F76*(1+Croissance!$F19)","v":0},{"$f":"+'Bilan initial'!G76*(1+Croissance!$F19)","v":0},{"$f":"+'Bilan initial'!H76*(1+Croissance!$F19)","v":0},0,{"$f":"+'Bilan initial'!J76*(1+Croissance!$F19)","v":0},{"$f":"+'Bilan initial'!K76*(1+Croissance!$F19)","v":3.2834125170886104},{"$f":"+'Bilan initial'!L76*(1+Croissance!$F19)","v":2408.8675191968532},{"$f":"+'Bilan initial'!M76*(1+Croissance!$F19)","v":0},{"$f":"+'Bilan initial'!N76*(1+Croissance!$F19)","v":0}]
["    Transport - route",121201.46309772493,{"$f":"+'Bilan initial'!C77*(1+Croissance!$F21)","v":16231.242031437805},{"$f":"+'Bilan initial'!D77*(1+Croissance!$F21)","v":11162.797501860447},{"$f":"+'Bilan initial'!E77*(1+Croissance!$F21)","v":0},{"$f":"+'Bilan initial'!F77*(1+Croissance!$F21)","v":93473.828384634515},{"$f":"+'Bilan initial'!G77*(1+Croissance!$F21)","v":0},{"$f":"+'Bilan initial'!H77*(1+Croissance!$F21)","v":0},120867.86791793277,{"$f":"+'Bilan initial'!J77*(1+Croissance!$F21)","v":0},{"$f":"+'Bilan initial'!K77*(1+Croissance!$F21)","v":0},{"$f":"+'Bilan initial'!L77*(1+Croissance!$F21)","v":333.59517979215673},{"$f":"+'Bilan initial'!M77*(1+Croissance!$F21)","v":0},{"$f":"+'Bilan initial'!N77*(1+Croissance!$F21)","v":0}]
["    Transport - rail",768.13774238651445,{"$f":"+'Bilan initial'!C78*(1+Croissance!$F22)","v":0},{"$f":"+'Bilan initial'!D78*(1+Croissance!$F22)","v":0},{"$f":"+'Bilan initial'!E78*(1+Croissance!$F22)","v":0},{"$f":"+'Bilan initial'!F78*(1+Croissance!$F22)","v":768.13774238651445},{"$f":"+'Bilan initial'!G78*(1+Croissance!$F22)","v":0},{"$f":"+'Bilan initial'!H78*(1+Croissance!$F22)","v":0},768.13774238651445,{"$f":"+'Bilan initial'!J78*(1+Croissance!$F22)","v":0},{"$f":"+'Bilan initial'!K78*(1+Croissance!$F22)","v":0},{"$f":"+'Bilan initial'!L78*(1+Croissance!$F22)","v":0},{"$f":"+'Bilan initial'!M78*(1+Croissance!$F22)","v":0},{"$f":"+'Bilan initial'!N78*(1+Croissance!$F22)","v":0}]
["    Transport - air domestique",7455.5923997885957,{"$f":"+'Bilan initial'!C79*(1+Croissance!$F23)","v":0},{"$f":"+'Bilan initial'!D79*(1+Croissance!$F23)","v":0},{"$f":"+'Bilan initial'!E79*(1+Croissance!$F23)","v":7455.5923997885957},{"$f":"+'Bilan initial'!F79*(1+Croissance!$F23)","v":0},{"$f":"+'Bilan initial'!G79*(1+Croissance!$F23)","v":0},{"$f":"+'Bilan initial'!H79*(1+Croissance!$F23)","v":0},7455.5923997885957,{"$f":"+'Bilan initial'!J79*(1+Croissance!$F23)","v":0},{"$f":"+'Bilan initial'!K79*(1+Croissance!$F23)","v":0},{"$f":"+'Bilan initial'!L79*(1+Croissance!$F23)","v":0},{"$f":"+'Bilan initial'!M79*(1+Croissance!$F23)","v":0},{"$f":"+'Bilan initial'!N79*(1+Croissance!$F23)","v":0}]
["    Transport - navigation",1008.827306233259,{"$f":"+'Bilan initial'!C80*(1+Croissance!$F24)","v":0},{"$f":"+'Bilan initial'!D80*(1+Croissance!$F24)","v":0},{"$f":"+'Bilan initial'!E80*(1+Croissance!$F24)","v":0},{"$f":"+'Bilan initial'!F80*(1+Croissance!$F24)","v":0},{"$f":"+'Bilan initial'!G80*(1+Croissance!$F24)","v":1008.827306233259},{"$f":"+'Bilan initial'!H80*(1+Croissance!$F24)","v":0},1008.827306233259,{"$f":"+'Bilan initial'!J80*(1+Croissance!$F24)","v":0},{"$f":"+'Bilan initial'!K80*(1+Croissance!$F24)","v":0},{"$f":"+'Bilan initial'!L80*(1+Croissance!$F24)","v":0},{"$f":"+'Bilan initial'!M80*(1+Croissance!$F24)","v":0},{"$f":"+'Bilan initial'!N80*(1+Croissance!$F24)","v":0}]
["    Ménages",59052.204543475658,{"$f":"+'Bilan initial'!C81*(1+Croissance!$F26)","v":1295.7492009456705},{"$f":"+'Bilan initial'!D81*(1+Croissance!$F26)","v":0},{"$f":"+'Bilan initial'!E81*(1+Croissance!$F26)","v":0},{"$f":"+'Bilan initial'!F81*(1+Croissance!$F26)","v":0},{"$f":"+'Bilan initial'!G81*(1+Croissance!$F26)","v":0},{"$f":"+'Bilan initial'!H81*(1+Croissance!$F27)","v":330.70623443182939},1626.4554353775,{"$f":"+'Bilan initial'!J81*(1+Croissance!$F26)","v":7119.3806897020968},{"$f":"+'Bilan initial'!K81*(1+Croissance!$F26)","v":7637.2175147481075},{"$f":"+'Bilan initial'!L81*(1+Croissance!$F26)","v":42669.150903647955},{"$f":"+'Bilan initial'!M81*(1+Croissance!$F26)","v":0},{"$f":"+'Bilan initial'!N81*(1+Croissance!$F26)","v":0}]
["    Services",42726.888714123394,{"$f":"+'Bilan initial'!C82*(1+Croissance!$F29)","v":3019.8889540407254},{"$f":"+'Bilan initial'!D82*(1+Croissance!$F29)","v":0},{"$f":"+'Bilan initial'!E82*(1+Croissance!$F29)","v":0},{"$f":"+'Bilan initial'!F82*(1+Croissance!$F29)","v":0},{"$f":"+'Bilan initial'!G82*(1+Croissance!$F29)","v":0},{"$f":"+'Bilan initial'!H82*(1+Croissance!$F29)","v":0},3019.8889540407254,{"$f":"+'Bilan initial'!J82*(1+Croissance!$F29)","v":24528.051017357553},{"$f":"+'Bilan initial'!K82*(1+Croissance!$F29)","v":2659.5641388417748},{"$f":"+'Bilan initial'!L82*(1+Croissance!$F29)","v":12261.562364221019},{"$f":"+'Bilan initial'!M82*(1+Croissance!$F29)","v":257.82223966232499},{"$f":"+'Bilan initial'!N82*(1+Croissance!$F29)","v":0}]
["    Agriculture & Pêches",15975.39212874125,{"$f":"+'Bilan initial'!C83*(1+Croissance!$F31)","v":0},{"$f":"+'Bilan initial'!D83*(1+Croissance!$F31)","v":0},{"$f":"+'Bilan initial'!E83*(1+Croissance!$F31)","v":0},{"$f":"+'Bilan initial'!F83*(1+Croissance!$F31)","v":15459.483304178961},{"$f":"+'Bilan initial'!G83*(1+Croissance!$F31)","v":0},{"$f":"+'Bilan initial'!H83*(1+Croissance!$F31)","v":0},15459.483304178961,{"$f":"+'Bilan initial'!J83*(1+Croissance!$F31)","v":0},{"$f":"+'Bilan initial'!K83*(1+Croissance!$F31)","v":0},{"$f":"+'Bilan initial'!L83*(1+Croissance!$F31)","v":515.90882456228894},{"$f":"+'Bilan initial'!M83*(1+Croissance!$F31)","v":0},{"$f":"+'Bilan initial'!N83*(1+Croissance!$F31)","v":0}]
["    Utilisations non énergétiques",0,{"$f":"+'Bilan initial'!C84*(1+Croissance!$F33)","v":0},{"$f":"+'Bilan initial'!D84*(1+Croissance!$F33)","v":0},{"$f":"+'Bilan initial'!E84*(1+Croissance!$F33)","v":0},{"$f":"+'Bilan initial'!F84*(1+Croissance!$F33)","v":0},{"$f":"+'Bilan initial'!G84*(1+Croissance!$F33)","v":0},{"$f":"+'Bilan initial'!H84*(1+Croissance!$F33)","v":0},0,{"$f":"+'Bilan initial'!J84*(1+Croissance!$F33)","v":0},{"$f":"+'Bilan initial'!K84*(1+Croissance!$F33)","v":0},{"$f":"+'Bilan initial'!L84*(1+Croissance!$F33)","v":0},{"$f":"+'Bilan initial'!M84*(1+Croissance!$F33)","v":0},{"$f":"+'Bilan initial'!N84*(1+Croissance!$F33)","v":0}]
["CH4 provenant de la combustion d'énergie",{"$f":"IF(B62=0,0,'Bilan initial'!B85*'Bilan 2025'!B64/'Bilan initial'!B64)","v":9063.4801922033857}]
["N2O provenant de la combustion d'énergie",{"$f":"IF(B62=0,0,'Bilan initial'!B86*'Bilan 2025'!B64/'Bilan initial'!B64)","v":6939.5348241035608}]
["Total Agriculture",{"$f":"SUM(B88:B92)","v":76081.794067429422}]
["  Fermentation entérique",{"$f":"+'Bilan initial'!B88*(1+Croissance!F$34)","v":36135.22360780475}]
["  Gestion du fumier",{"$f":"+'Bilan initial'!B89*(1+Croissance!F$34)","v":8472.0488553853429}]
["  Culture du riz",{"$f":"+'Bilan initial'!B90*(1+Croissance!F$35)","v":268.78327586882438}]
["  N2O provenant des sols agricoles",{"$f":"+'Bilan initial'!B91*(1+Croissance!F$36)","v":30746.118926634819}]
["  Brûlage de résidus agricoles",{"$f":"+'Bilan initial'!B92*(1+Croissance!F$37)","v":459.61940173568962}]
["Émissions fugitive (CH4)",{"$f":"IF('Bilan initial'!L62=0,0, 'Bilan initial'!B93*'Bilan 2025'!L62/'Bilan initial'!L62)","v":7397.9918344185298}]
["Foresterie",{"$f":"+'Bilan initial'!B94*(1+Croissance!F$38)","v":-64020}]
["Déchets - solides",{"$f":"+'Bilan initial'!B95*(1+Croissance!F39)","v":16880}]
["Déchets - liquide",{"$f":"+'Bilan initial'!B96*(1+Croissance!F40)","v":0}]
["Processus industriels",{"$f":"+'Bilan initial'!B97*(1+Croissance!F41)","v":60720}]
["Émission total GES (excl. Foresterie)",{"$f":"B62+B85+B86+B87+B93+B95+B96+B97","v":873927.88282646879}]
["Émission total GES (incl. Foresterie)",{"$f":"+B85+B86+B87+B93+B94+B95+B96+B97+B62","v":809907.88282646879}]

{"sheet":"Bilan 2030","index":6,"n_rows":99,"n_cols":19,"rows_kept":99,"cut":false,"hidden":false,"merged":[]}
["Bilan combustibles fossiles",{"$f":"+Hypothèses!$B$2","v":"Pays X"},null,2030]
[]
["Unité (TJ)","GPL","Essence","Essence pour carburéacteurs","Diesel","Fiouls lourds","Kérosène et autres","Total produits pétroliers","Charbon","Lignite","Gaz","Coke","Coke de pétrole","Énergie totale (fossile)"]
["Unité","TJ","TJ","TJ","TJ","TJ","TJ","TJ","TJ","TJ","TJ","TJ","TJ","TJ"]
["Total",{"$f":"+B6+B7","v":452862.02412179357},217737.85669915663,140951.67684618584,2090460.7456526114,45076.671329356665,6220.2667901902505,2953309.2414392941,1896549.877924145,2473798.7843516567,4159974.4702807628,{"$f":"+L6+L7","v":331156.41112251545},{"$f":"+M6+M7","v":304008.19991108211},{"$f":"SUM(H5:M5)","v":12118796.985029457}]
["    Centrales fossiles",{"$f":"C35/C32","v":0},0,0,24714.602228668307,21864.111948213598,0,{"$f":"SUM(B6:G6)","v":46578.714176881906},{"$f":"J35/J32","v":1078422.4281965445},{"$f":"K35/K32","v":2159826.4144411241},{"$f":"L35/L32","v":1832583.3431921212},{"$f":"M35/M32","v":0},{"$f":"N35/N32","v":0},{"$f":"SUM(H6:M6)","v":5117410.9000066714}]
["CONSOMMATION FINALE",{"$f":"SUM(B8:B27)","v":452862.02412179357},217737.85669915663,140951.67684618584,2065746.1434239431,23212.559381143066,6220.2667901902505,2906730.527262412,818127.44972760044,{"$f":"SUM(J8:J27)","v":313972.36991053273},2327391.1270886417,{"$f":"SUM(L8:L27)","v":331156.41112251545},{"$f":"SUM(M8:M27)","v":304008.19991108211},7001386.0850227848]
["    Industrie - acier",{"$f":"+'Bilan initial'!B8*(1+Croissance!$G8)","v":0},{"$f":"+'Bilan initial'!C8*(1+Croissance!$G8)","v":0},{"$f":"+'Bilan initial'!D8*(1+Croissance!$G8)","v":0},{"$f":"+'Bilan initial'!E8*(1+Croissance!$G8)","v":1765.3287306191642},{"$f":"+'Bilan initial'!F8*(1+Croissance!$G8)","v":0},{"$f":"+'Bilan initial'!G8*(1+Croissance!$G8)","v":0},{"$f":"SUM(B8:G8)","v":1765.3287306191642},{"$f":"+'Bilan initial'!I8*(1+Croissance!$G8)","v":1140.7616999154536},{"$f":"+'Bilan initial'!J8*(1+Croissance!$G8)","v":1140.2823882768334},{"$f":"+'Bilan initial'!K8*(1+Croissance!$G8)","v":21497.126992104237},{"$f":"+'Bilan initial'!L8*(1+Croissance!$G8)","v":0},{"$f":"+'Bilan initial'!M8*(1+Croissance!$G8)","v":0},25543.499810915688]
["    Industrie - chimique",{"$f":"+'Bilan initial'!B9*(1+Croissance!$G9)","v":1020.2148228025388},{"$f":"+'Bilan initial'!C9*(1+Croissance!$G9)","v":0},{"$f":"+'Bilan initial'!D9*(1+Croissance!$G9)","v":0},{"$f":"+'Bilan initial'!E9*(1+Croissance!$G9)","v":415.37146602803858},{"$f":"+'Bilan initial'!F9*(1+Croissance!$G9)","v":288.95302134202984},{"$f":"+'Bilan initial'!G9*(1+Croissance!$G9)","v":0},{"$f":"SUM(B9:G9)","v":1724.5393101726072},{"$f":"+'Bilan initial'!I9*(1+Croissance!$G9)","v":26438.829986275803},{"$f":"+'Bilan initial'!J9*(1+Croissance!$G9)","v":14253.529853460421},{"$f":"+'Bilan initial'!K9*(1+Croissance!$G9)","v":242076.34308499988},{"$f":"+'Bilan initial'!L9*(1+Croissance!$G9)","v":0},{"$f":"+'Bilan initial'!M9*(1+Croissance!$G9)","v":0},284493.24223490874]
["    Industrie - minerai non metallique",{"$f":"+'Bilan initial'!B10*(1+Croissance!$G10)","v":340.07160760084628},{"$f":"+'Bilan initial'!C10*(1+Croissance!$G10)","v":0},{"$f":"+'Bilan initial'!D10*(1+Croissance!$G10)","v":0},{"$f":"+'Bilan initial'!E10*(1+Croissance!$G10)","v":2492.2287961682314},{"$f":"+'Bilan initial'!F10*(1+Croissance!$G10)","v":1733.7181280521791},{"$f":"+'Bilan initial'!G10*(1+Croissance!$G10)","v":0},4566.0185318212571,{"$f":"+'Bilan initial'!I10*(1+Croissance!$G10)","v":221911.70244825908},{"$f":"+'Bilan initial'!J10*(1+Croissance!$G10)","v":61662.962996816459},{"$f":"+'Bilan initial'!K10*(1+Croissance!$G10)","v":176089.50979619296},{"$f":"+'Bilan initial'!L10*(1+Croissance!$G10)","v":0},{"$f":"+'Bilan initial'!M10*(1+Croissance!$G10)","v":303488.14678317949},767718.34055626928]
["    Industrie - transformation des aliments et boissons",{"$f":"+'Bilan initial'!B11*(1+Croissance!$G11)","v":2267.1440506723088},{"$f":"+'Bilan initial'!C11*(1+Croissance!$G11)","v":0},{"$f":"+'Bilan initial'!D11*(1+Croissance!$G11)","v":0},{"$f":"+'Bilan initial'!E11*(1+Croissance!$G11)","v":623.05719904205785},{"$f":"+'Bilan initial'!F11*(1+Croissance!$G11)","v":3563.7539298850343},{"$f":"+'Bilan initial'!G11*(1+Croissance!$G11)","v":0},6453.9551795994012,{"$f":"+'Bilan initial'!I11*(1+Croissance!$G11)","v":15299.627504748434},{"$f":"+'Bilan initial'!J11*(1+Croissance!$G11)","v":34515.470752841073},{"$f":"+'Bilan initial'!K11*(1+Croissance!$G11)","v":91783.385679332001},{"$f":"+'Bilan initial'!L11*(1+Croissance!$G11)","v":3288.0778409327772},{"$f":"+'Bilan initial'!M11*(1+Croissance!$G11)","v":520.05312790263315},151860.57008535636]
["    Industrie - construction",{"$f":"+'Bilan initial'!B12*(1+Croissance!$G12)","v":0},{"$f":"+'Bilan initial'!C12*(1+Croissance!$G12)","v":0},{"$f":"+'Bilan initial'!D12*(1+Croissance!$G12)","v":0},{"$f":"+'Bilan initial'!E12*(1+Croissance!$G12)","v":15264.901376530417},{"$f":"+'Bilan initial'!F12*(1+Croissance!$G12)","v":0},{"$f":"+'Bilan initial'!G12*(1+Croissance!$G12)","v":0},15264.901376530417,{"$f":"+'Bilan initial'!I12*(1+Croissance!$G12)","v":67.10362940679137},{"$f":"+'Bilan initial'!J12*(1+Croissance!$G12)","v":131.57104480117312},{"$f":"+'Bilan initial'!K12*(1+Croissance!$G12)","v":33647.677031119674},{"$f":"+'Bilan initial'!L12*(1+Croissance!$G12)","v":0},{"$f":"+'Bilan initial'!M12*(1+Croissance!$G12)","v":0},49111.253081858056]
["    Industrie - exploitation minière",{"$f":"+'Bilan initial'!B13*(1+Croissance!$G13)","v":0},{"$f":"+'Bilan initial'!C13*(1+Croissance!$G13)","v":0},{"$f":"+'Bilan initial'!D13*(1+Croissance!$G13)","v":0},{"$f":"+'Bilan initial'!E13*(1+Croissance!$G13)","v":39044.917806635625},{"$f":"+'Bilan initial'!F13*(1+Croissance!$G13)","v":0},{"$f":"+'Bilan initial'!G13*(1+Croissance!$G13)","v":0},39044.917806635625,{"$f":"+'Bilan initial'!I13*(1+Croissance!$G13)","v":1274.9689587290361},{"$f":"+'Bilan initial'!J13*(1+Croissance!$G13)","v":4122.5594037700912},{"$f":"+'Bilan initial'!K13*(1+Croissance!$G13)","v":12150.550039015438},{"$f":"+'Bilan initial'!L13*(1+Croissance!$G13)","v":0},{"$f":"+'Bilan initial'!M13*(1+Croissance!$G13)","v":0},56592.996208150187]
["    Industrie - machinerie",{"$f":"+'Bilan initial'!B14*(1+Croissance!$G14)","v":566.78601266807721},{"$f":"+'Bilan initial'!C14*(1+Croissance!$G14)","v":0},{"$f":"+'Bilan initial'!D14*(1+Croissance!$G14)","v":0},{"$f":"+'Bilan initial'!E14*(1+Croissance!$G14)","v":311.52859952102892},{"$f":"+'Bilan initial'!F14*(1+Croissance!$G14)","v":0},{"$f":"+'Bilan initial'!G14*(1+Croissance!$G14)","v":0},878.31461218910613,{"$f":"+'Bilan initial'!I14*(1+Croissance!$G14)","v":201.31088822037412},{"$f":"+'Bilan initial'!J14*(1+Croissance!$G14)","v":745.56925387331421},{"$f":"+'Bilan initial'!K14*(1+Croissance!$G14)","v":6449.1380976312712},{"$f":"+'Bilan initial'!L14*(1+Croissance!$G14)","v":0},{"$f":"+'Bilan initial'!M14*(1+Croissance!$G14)","v":0},8274.332851914065]
["    Industrie - métaux non-ferreux",{"$f":"+'Bilan initial'!B15*(1+Croissance!$G15)","v":4194.2164937437701},{"$f":"+'Bilan initial'!C15*(1+Croissance!$G15)","v":0},{"$f":"+'Bilan initial'!D15*(1+Croissance!$G15)","v":0},{"$f":"+'Bilan initial'!E15*(1+Croissance!$G15)","v":1349.9572645911253},{"$f":"+'Bilan initial'!F15*(1+Croissance!$G15)","v":0},{"$f":"+'Bilan initial'!G15*(1+Croissance!$G15)","v":0},5544.173758334895,{"$f":"+'Bilan initial'!I15*(1+Croissance!$G15)","v":72874.541535775439},{"$f":"+'Bilan initial'!J15*(1+Croissance!$G15)","v":2982.2770154932568},{"$f":"+'Bilan initial'!K15*(1+Croissance!$G15)","v":192259.08792503658},{"$f":"+'Bilan initial'!L15*(1+Croissance!$G15)","v":324647.3590700567},{"$f":"+'Bilan initial'!M15*(1+Croissance!$G15)","v":0},598307.43930469686]
["    Industrie - pâtes et papiers",{"$f":"+'Bilan initial'!B16*(1+Croissance!$G16)","v":113.35720253361542},{"$f":"+'Bilan initial'!C16*(1+Croissance!$G16)","v":0},{"$f":"+'Bilan initial'!D16*(1+Croissance!$G16)","v":0},{"$f":"+'Bilan initial'!E16*(1+Croissance!$G16)","v":1038.4286650700965},{"$f":"+'Bilan initial'!F16*(1+Croissance!$G16)","v":0},{"$f":"+'Bilan initial'!G16*(1+Croissance!$G16)","v":0},1151.7858676037119,{"$f":"+'Bilan initial'!I16*(1+Croissance!$G16)","v":2885.4560644920293},{"$f":"+'Bilan initial'!J16*(1+Croissance!$G16)","v":8859.1170166123229},{"$f":"+'Bilan initial'!K16*(1+Croissance!$G16)","v":20749.400835857134},{"$f":"+'Bilan initial'!L16*(1+Croissance!$G16)","v":0},{"$f":"+'Bilan initial'!M16*(1+Croissance!$G16)","v":0},33645.759784565198]
["    Industrie - transport d'équipment",{"$f":"+'Bilan initial'!B17*(1+Croissance!$G17)","v":2607.2156582731545},{"$f":"+'Bilan initial'!C17*(1+Croissance!$G17)","v":0},{"$f":"+'Bilan initial'!D17*(1+Croissance!$G17)","v":0},{"$f":"+'Bilan initial'!E17*(1+Croissance!$G17)","v":726.90006554906745},{"$f":"+'Bilan initial'!F17*(1+Croissance!$G17)","v":0},{"$f":"+'Bilan initial'!G17*(1+Croissance!$G17)","v":0},3334.1157238222222,{"$f":"+'Bilan initial'!I17*(1+Croissance!$G17)","v":0},{"$f":"+'Bilan initial'!J17*(1+Croissance!$G17)","v":350.85611946979492},{"$f":"+'Bilan initial'!K17*(1+Croissance!$G17)","v":16636.906976498063},{"$f":"+'Bilan initial'!L17*(1+Croissance!$G17)","v":0},{"$f":"+'Bilan initial'!M17*(1+Croissance!$G17)","v":0},20321.878819790079]
["    Industrie - cuir et textile",{"$f":"+'Bilan initial'!B18*(1+Croissance!$G18)","v":1360.2864304033851},{"$f":"+'Bilan initial'!C18*(1+Croissance!$G18)","v":0},{"$f":"+'Bilan initial'!D18*(1+Croissance!$G18)","v":0},{"$f":"+'Bilan initial'!E18*(1+Croissance!$G18)","v":623.05719904205785},{"$f":"+'Bilan initial'!F18*(1+Croissance!$G18)","v":0},{"$f":"+'Bilan initial'!G18*(1+Croissance!$G18)","v":0},1983.343629445443,{"$f":"+'Bilan initial'!I18*(1+Croissance!$G18)","v":23821.788439410939},{"$f":"+'Bilan initial'!J18*(1+Croissance!$G18)","v":47628.718218024667},{"$f":"+'Bilan initial'!K18*(1+Croissance!$G18)","v":111971.99189800381},{"$f":"+'Bilan initial'!L18*(1+Croissance!$G18)","v":0},{"$f":"+'Bilan initial'!M18*(1+Croissance!$G18)","v":0},185405.84218488485]
["    Industrie - divers",{"$f":"+'Bilan initial'!B19*(1+Croissance!$G19)","v":0},{"$f":"+'Bilan initial'!C19*(1+Croissance!$G19)","v":0},{"$f":"+'Bilan initial'!D19*(1+Croissance!$G19)","v":0},{"$f":"+'Bilan initial'!E19*(1+Croissance!$G19)","v":0},{"$f":"+'Bilan initial'!F19*(1+Croissance!$G19)","v":0},{"$f":"+'Bilan initial'!G19*(1+Croissance!$G19)","v":0},0,{"$f":"+'Bilan initial'!I19*(1+Croissance!$G19)","v":0},{"$f":"+'Bilan initial'!J19*(1+Croissance!$G19)","v":43.857014933724365},{"$f":"+'Bilan initial'!K19*(1+Croissance!$G19)","v":58042.242878681442},{"$f":"+'Bilan initial'!L19*(1+Croissance!$G19)","v":0},{"$f":"+'Bilan initial'!M19*(1+Croissance!$G19)","v":0},58086.099893615166]
["    Transport - route",{"$f":"+'Bilan initial'!B20*(1+Croissance!$G21)","v":347893.25457566569},{"$f":"+'Bilan initial'!C20*(1+Croissance!$G21)","v":217737.85669915663},{"$f":"+'Bilan initial'!D20*(1+Croissance!$G21)","v":0},{"$f":"+'Bilan initial'!E20*(1+Croissance!$G21)","v":1705930.6109771545},{"$f":"+'Bilan initial'!F20*(1+Croissance!$G21)","v":0},{"$f":"+'Bilan initial'!G20*(1+Croissance!$G21)","v":0},2271561.7222519768,{"$f":"+'Bilan initial'!I20*(1+Croissance!$G21)","v":0},{"$f":"+'Bilan initial'!J20*(1+Croissance!$G21)","v":0},{"$f":"+'Bilan initial'!K20*(1+Croissance!$G21)","v":8038.056179656367},{"$f":"+'Bilan initial'!L20*(1+Croissance!$G21)","v":0},{"$f":"+'Bilan initial'!M20*(1+Croissance!$G21)","v":0},2279599.778431633]
["    Transport - rail",{"$f":"+'Bilan initial'!B21*(1+Croissance!$G22)","v":0},{"$f":"+'Bilan initial'!C21*(1+Croissance!$G22)","v":0},{"$f":"+'Bilan initial'!D21*(1+Croissance!$G22)","v":0},{"$f":"+'Bilan initial'!E21*(1+Croissance!$G22)","v":14018.786978446304},{"$f":"+'Bilan initial'!F21*(1+Croissance!$G22)","v":0},{"$f":"+'Bilan initial'!G21*(1+Croissance!$G22)","v":0},14018.786978446304,{"$f":"+'Bilan initial'!I21*(1+Croissance!$G22)","v":0},{"$f":"+'Bilan initial'!J21*(1+Croissance!$G22)","v":0},{"$f":"+'Bilan initial'!K21*(1+Croissance!$G22)","v":0},{"$f":"+'Bilan initial'!L21*(1+Croissance!$G22)","v":0},{"$f":"+'Bilan initial'!M21*(1+Croissance!$G22)","v":0},14018.786978446304]
["    Transport - air domestique",{"$f":"+'Bilan initial'!B22*(1+Croissance!$G23)","v":0},{"$f":"+'Bilan initial'!C22*(1+Croissance!$G23)","v":0},{"$f":"+'Bilan initial'!D22*(1+Croissance!$G23)","v":140951.67684618584},{"$f":"+'Bilan initial'!E22*(1+Croissance!$G23)","v":0},{"$f":"+'Bilan initial'!F22*(1+Croissance!$G23)","v":0},{"$f":"+'Bilan initial'!G22*(1+Croissance!$G23)","v":0},140951.67684618584,{"$f":"+'Bilan initial'!I22*(1+Croissance!$G23)","v":0},{"$f":"+'Bilan initial'!J22*(1+Croissance!$G23)","v":0},{"$f":"+'Bilan initial'!K22*(1+Croissance!$G23)","v":0},{"$f":"+'Bilan initial'!L22*(1+Croissance!$G23)","v":0},{"$f":"+'Bilan initial'!M22*(1+Croissance!$G23)","v":0},140951.67684618584]
["    Transport - navigation",{"$f":"+'Bilan initial'!B23*(1+Croissance!$G24)","v":0},{"$f":"+'Bilan initial'!C23*(1+Croissance!$G24)","v":0},{"$f":"+'Bilan initial'!D23*(1+Croissance!$G24)","v":0},{"$f":"+'Bilan initial'!E23*(1+Croissance!$G24)","v":0},{"$f":"+'Bilan initial'!F23*(1+Croissance!$G24)","v":17626.134301863822},{"$f":"+'Bilan initial'!G23*(1+Croissance!$G24)","v":0},17626.134301863822,{"$f":"+'Bilan initial'!I23*(1+Croissance!$G24)","v":0},{"$f":"+'Bilan initial'!J23*(1+Croissance!$G24)","v":0},{"$f":"+'Bilan initial'!K23*(1+Croissance!$G24)","v":0},{"$f":"+'Bilan initial'!L23*(1+Croissance!$G24)","v":0},{"$f":"+'Bilan initial'!M23*(1+Croissance!$G24)","v":0},17626.134301863822]
["    Ménages",{"$f":"+'Bilan initial'!B24*(1+Croissance!$G26)","v":27772.514620735779},{"$f":"+'Bilan initial'!C24*(1+Croissance!$G26)","v":0},{"$f":"+'Bilan initial'!D24*(1+Croissance!$G26)","v":0},{"$f":"+'Bilan initial'!E24*(1+Croissance!$G26)","v":0},{"$f":"+'Bilan initial'!F24*(1+Croissance!$G26)","v":0},{"$f":"+'Bilan initial'!G24*(1+Croissance!$G27)","v":6220.2667901902505},33992.781410926029,{"$f":"+'Bilan initial'!I24*(1+Croissance!$G26)","v":101729.10218069573},{"$f":"+'Bilan initial'!J24*(1+Croissance!$G26)","v":102011.41673584288},{"$f":"+'Bilan initial'!K24*(1+Croissance!$G26)","v":1028123.4648397679},{"$f":"+'Bilan initial'!L24*(1+Croissance!$G26)","v":0},{"$f":"+'Bilan initial'!M24*(1+Croissance!$G26)","v":0},1265856.7651672326]
["    Services",{"$f":"+'Bilan initial'!B25*(1+Croissance!$G29)","v":64726.962646694403},{"$f":"+'Bilan initial'!C25*(1+Croissance!$G29)","v":0},{"$f":"+'Bilan initial'!D25*(1+Croissance!$G29)","v":0},{"$f":"+'Bilan initial'!E25*(1+Croissance!$G29)","v":0},{"$f":"+'Bilan initial'!F25*(1+Croissance!$G29)","v":0},{"$f":"+'Bilan initial'!G25*(1+Croissance!$G29)","v":0},64726.962646694403,{"$f":"+'Bilan initial'!I25*(1+Croissance!$G29)","v":350482.25639167137},{"$f":"+'Bilan initial'!J25*(1+Croissance!$G29)","v":35524.182096316741},{"$f":"+'Bilan initial'!K25*(1+Croissance!$G29)","v":295445.29748713691},{"$f":"+'Bilan initial'!L25*(1+Croissance!$G29)","v":3220.974211525986},{"$f":"+'Bilan initial'!M25*(1+Croissance!$G29)","v":0},749399.67283334536]
["    Agriculture & Pêches",{"$f":"+'Bilan initial'!B26*(1+Croissance!$G31)","v":0},{"$f":"+'Bilan initial'!C26*(1+Croissance!$G31)","v":0},{"$f":"+'Bilan initial'!D26*(1+Croissance!$G31)","v":0},{"$f":"+'Bilan initial'!E26*(1+Croissance!$G31)","v":282141.06829954521},{"$f":"+'Bilan initial'!F26*(1+Croissance!$G31)","v":0},{"$f":"+'Bilan initial'!G26*(1+Croissance!$G31)","v":0},282141.06829954521,{"$f":"+'Bilan initial'!I26*(1+Croissance!$G31)","v":0},{"$f":"+'Bilan initial'!J26*(1+Croissance!$G31)","v":0},{"$f":"+'Bilan initial'!K26*(1+Croissance!$G31)","v":12430.947347608102},{"$f":"+'Bilan initial'!L26*(1+Croissance!$G31)","v":0},{"$f":"+'Bilan initial'!M26*(1+Croissance!$G31)","v":0},294572.01564715331]
["    Utilisations non énergétiques",{"$f":"+'Bilan initial'!B27*(1+Croissance!$G33)","v":0},{"$f":"+'Bilan initial'!C27*(1+Croissance!$G33)","v":0},{"$f":"+'Bilan initial'!D27*(1+Croissance!$G33)","v":0},{"$f":"+'Bilan initial'!E27*(1+Croissance!$G33)","v":0},{"$f":"+'Bilan initial'!F27*(1+Croissance!$G33)","v":0},{"$f":"+'Bilan initial'!G27*(1+Croissance!$G33)","v":0},0,{"$f":"+'Bilan initial'!I27*(1+Croissance!$G33)","v":0},{"$f":"+'Bilan initial'!J27*(1+Croissance!$G33)","v":0},{"$f":"+'Bilan initial'!K27*(1+Croissance!$G33)","v":0},{"$f":"+'Bilan initial'!L27*(1+Croissance!$G33)","v":0},{"$f":"+'Bilan initial'!M27*(1+Croissance!$G33)","v":0},0]
[]
[]
["Bilan combustibles fossiles",{"$f":"+Hypothèses!$B$2","v":"Pays X"},null,2030]
[{"$f":"+'Bilan initial'!A31","v":"1 ktoe=41.868 TJ"}]
[{"$f":"+'Bilan initial'!A32","v":"ktoe per TJ"},null,{"$f":"+'Bilan initial'!C32","v":2.3884589662749593E-2},{"$f":"+'Bilan initial'!D32","v":2.3884589662749593E-2},{"$f":"+'Bilan initial'!E32","v":2.3884589662749593E-2},{"$f":"+'Bilan initial'!F32","v":2.3884589662749593E-2},{"$f":"+'Bilan initial'!G32","v":2.3884589662749593E-2},{"$f":"+'Bilan initial'!H32","v":2.3884589662749593E-2},null,{"$f":"+'Bilan initial'!J32","v":2.3884589662749593E-2},{"$f":"+'Bilan initial'!K32","v":2.3884589662749593E-2},{"$f":"+'Bilan initial'!L32","v":2.3884589662749593E-2},2.3884589662749593E-2,2.3884589662749593E-2]
["Unité : ktoe","Total","GPL","Essence","Essence pour carburéacteurs","Diesel","Fiouls lourds","Kérosène et autres","Total produits pétroliers","Charbon","Lignite","Gaz","Coke","Coke de pétrole","Consommation d'électricité Gwh",null,"Production d'électricité Gwh","Part de la production","Efficacité"]
["Total",{"$f":"+B35+B36","v":289452.4931935955},{"$f":"+C35+C36","v":10816.423619991248},5200.5793613059286,3366.572963747632,49929.797115998168,1076.6377980643131,148.56851987652266,70538.579378983835,45298.315609156038,59085.668872448085,99359.283230170113,7909.5349938500867,7261.1111089873439,null,"Total",{"$f":"IF(R35=1,0,O36/(1-R35))","v":627382.98658060294}]
["    Centrales fossiles",{"$f":"SUM(I35:N35)","v":122227.25948234144},{"$f":"IF(Q36=0,0,$I35*IF('Bilan initial'!$I35>0,'Bilan initial'!C35/'Bilan initial'!$I35,0))","v":0},{"$f":"IF(Q36=0,0,$I35*IF('Bilan initial'!$I35>0,'Bilan initial'!D35/'Bilan initial'!$I35,0))","v":0},{"$f":"IF(Q36=0,0,$I35*IF('Bilan initial'!$I35>0,'Bilan initial'!E35/'Bilan initial'!$I35,0))","v":0},{"$f":"IF(Q36=0,0,$I35*IF('Bilan initial'!$I35>0,'Bilan initial'!F35/'Bilan initial'!$I35,0))","v":590.29813290981906},{"$f":"IF(Q36=0,0,$I35*IF('Bilan initial'!$I35>0,'Bilan initial'!G35/'Bilan initial'!$I35,0))","v":522.21534222350238},{"$f":"IF(Q36=0,0,$I35*IF('Bilan initial'!$I35>0,'Bilan initial'!H35/'Bilan initial'!$I35,0))","v":0},{"$f":"IF(Q36=0,0,Q39/11.63/S39)","v":1112.5134751333212},{"$f":"IF(S38>0,Q38/11.63/S38,0)","v":25757.677180580504},{"$f":"IF(S37>0,Q37/11.63/S37,0)","v":51586.567651693986},{"$f":"IF(S40>0,Q40/11.63/S40,0)","v":43770.501174933626},{"$f":"IF(T40>0,R40/11.63/T40,0)","v":0},{"$f":"IF(U40>0,S40/11.63/U40,0)","v":0},null,"Pertes",{"$f":"Q34*R35","v":107205.23765192853},{"$f":"+'Bilan 2025'!R35","v":0.17087686460263193}]
["CONSOMMATION FINALE",{"$f":"SUM(B37:B56)","v":167225.23371125406},{"$f":"SUM(C37:C56)","v":10816.423619991248},5200.5793613059286,3366.572963747632,49339.49898308835,554.4224558408107,148.56851987652266,{"$f":"SUM(C36:H36)","v":69426.065903850511},{"$f":"SUM(J37:J56)","v":19540.638428575534},7499.1012207541007,55588.782055236486,7909.5349938500867,7261.1111089873439,520177.74892867438,"Fossile",{"$f":"SUM(Q37:Q49)","v":425650.30411824328},{"$f":"SUM(R37:R50)","v":0.67845369291594249}]
["    Industrie - acier",{"$f":"SUM(I37:N37)","v":610.09601153424308},{"$f":"+'Bilan initial'!C37*(1+Croissance!$G8)","v":0},{"$f":"+'Bilan initial'!D37*(1+Croissance!$G8)","v":0},{"$f":"+'Bilan initial'!E37*(1+Croissance!$G8)","v":0},{"$f":"+'Bilan initial'!F37*(1+Croissance!$G8)","v":42.16415235070135},{"$f":"+'Bilan initial'!G37*(1+Croissance!$G8)","v":0},{"$f":"+'Bilan initial'!H37*(1+Croissance!$G8)","v":0},{"$f":"SUM(C37:H37)","v":42.16415235070135},{"$f":"+'Bilan initial'!J37*(1+Croissance!$G8)","v":27.246625105461295},{"$f":"+'Bilan initial'!K37*(1+Croissance!$G8)","v":27.235176943652277},{"$f":"+'Bilan initial'!L37*(1+Croissance!$G8)","v":513.45005713442811},{"$f":"+'Bilan initial'!M37*(1+Croissance!$G8)","v":0},{"$f":"+'Bilan initial'!N37*(1+Croissance!$G8)","v":0},{"$f":"+'Bilan initial'!O37*(1+Croissance!G$20)","v":3673.9237100218279},"Lignite",{"$f":"Q$34*R37","v":77684.433829326532},{"$f":"+'Bilan 2025'!R37","v":0.12382298451018967},{"$f":"+'Bilan 2025'!S37","v":0.12948446223070259}]
["    Industrie - chimique",{"$f":"SUM(I38:N38)","v":6795.0043526060172},{"$f":"+'Bilan initial'!C38*(1+Croissance!$G9)","v":24.367412410493426},{"$f":"+'Bilan initial'!D38*(1+Croissance!$G9)","v":0},{"$f":"+'Bilan initial'!E38*(1+Croissance!$G9)","v":0},{"$f":"+'Bilan initial'!F38*(1+Croissance!$G9)","v":9.9209770236944355},{"$f":"+'Bilan initial'!G38*(1+Croissance!$G9)","v":6.9015243465661085},{"$f":"+'Bilan initial'!H38*(1+Croissance!$G9)","v":0},{"$f":"SUM(C38:H38)","v":41.189913780753969},{"$f":"+'Bilan initial'!J38*(1+Croissance!$G9)","v":631.48060538539687},{"$f":"+'Bilan initial'!K38*(1+Croissance!$G9)","v":340.43971179565341},{"$f":"+'Bilan initial'!L38*(1+Croissance!$G9)","v":5781.8941216442126},{"$f":"+'Bilan initial'!M38*(1+Croissance!$G9)","v":0},{"$f":"+'Bilan initial'!N38*(1+Croissance!$G9)","v":0},{"$f":"+'Bilan initial'!O38*(1+Croissance!G$20)","v":36319.839416425835},"Charbon",104851.81750630465,{"$f":"+'Bilan 2025'!R38","v":0.1671256947495082},{"$f":"+'Bilan 2025'!S38","v":0.35001733379556782}]
["    Industrie - minerai non metallique",18336.637540753542,{"$f":"+'Bilan initial'!C39*(1+Croissance!$G10)","v":8.1224708034978086},{"$f":"+'Bilan initial'!D39*(1+Croissance!$G10)","v":0},{"$f":"+'Bilan initial'!E39*(1+Croissance!$G10)","v":0},{"$f":"+'Bilan initial'!F39*(1+Croissance!$G10)","v":59.525862142166602},{"$f":"+'Bilan initial'!G39*(1+Croissance!$G10)","v":41.409146079396649},{"$f":"+'Bilan initial'!H39*(1+Croissance!$G10)","v":0},109.05747902506106,{"$f":"+'Bilan initial'!J39*(1+Croissance!$G10)","v":5300.2699543388526},{"$f":"+'Bilan initial'!K39*(1+Croissance!$G10)","v":1472.794568568273},{"$f":"+'Bilan initial'!L39*(1+Croissance!$G10)","v":4205.8256853967941},{"$f":"+'Bilan initial'!M39*(1+Croissance!$G10)","v":0},{"$f":"+'Bilan initial'!N39*(1+Croissance!$G10)","v":7248.6898534245602},{"$f":"+'Bilan initial'!O39*(1+Croissance!G$20)","v":44439.378574647591},"Pétrole",5329.9454214537163,{"$f":"+'Bilan 2025'!R39","v":8.4955211337547996E-3},{"$f":"+'Bilan 2025'!S39","v":0.41194360678072844}]
["    Industrie - transformation des aliments et boissons",3627.1274024399613,{"$f":"+'Bilan initial'!C40*(1+Croissance!$G11)","v":54.149805356652067},{"$f":"+'Bilan initial'!D40*(1+Croissance!$G11)","v":0},{"$f":"+'Bilan initial'!E40*(1+Croissance!$G11)","v":0},{"$f":"+'Bilan initial'!F40*(1+Croissance!$G11)","v":14.881465535541651},{"$f":"+'Bilan initial'!G40*(1+Croissance!$G11)","v":85.118800274315319},{"$f":"+'Bilan initial'!H40*(1+Croissance!$G11)","v":0},154.15007116650904,{"$f":"+'Bilan initial'!J40*(1+Croissance!$G11)","v":365.42532494383374},{"$f":"+'Bilan initial'!K40*(1+Croissance!$G11)","v":824.3878559482439},{"$f":"+'Bilan initial'!L40*(1+Croissance!$G11)","v":2192.208504808732},{"$f":"+'Bilan initial'!M40*(1+Croissance!$G11)","v":78.53439000985901},{"$f":"+'Bilan initial'!N40*(1+Croissance!$G11)","v":12.421255562783823},{"$f":"+'Bilan initial'!O40*(1+Croissance!G$20)","v":17015.563171007812},"Gaz naturel",237784.10736115836,{"$f":"+'Bilan 2025'!R40","v":0.37900949252248983},{"$f":"+'Bilan 2025'!S40","v":0.46711260891910655}]
["    Industrie - construction",1173.002127683626,{"$f":"+'Bilan initial'!C41*(1+Croissance!$G12)","v":0},{"$f":"+'Bilan initial'!D41*(1+Croissance!$G12)","v":0},{"$f":"+'Bilan initial'!E41*(1+Croissance!$G12)","v":0},{"$f":"+'Bilan initial'!F41*(1+Croissance!$G12)","v":364.5959056207704},{"$f":"+'Bilan initial'!G41*(1+Croissance!$G12)","v":0},{"$f":"+'Bilan initial'!H41*(1+Croissance!$G12)","v":0},364.5959056207704,{"$f":"+'Bilan initial'!J41*(1+Croissance!$G12)","v":1.6027426532624289},{"$f":"+'Bilan initial'!K41*(1+Croissance!$G12)","v":3.1425204165752629},{"$f":"+'Bilan initial'!L41*(1+Croissance!$G12)","v":803.66095899301797},{"$f":"+'Bilan initial'!M41*(1+Croissance!$G12)","v":0},{"$f":"+'Bilan initial'!N41*(1+Croissance!$G12)","v":0},{"$f":"+'Bilan initial'!O41*(1+Croissance!G$20)","v":6868.5357814237168},"Nucléaire",0,{"$f":"+'Bilan 2025'!R41","v":0}]
["    Industrie - exploitation minière",1351.7004922172109,{"$f":"+'Bilan initial'!C42*(1+Croissance!$G13)","v":0},{"$f":"+'Bilan initial'!D42*(1+Croissance!$G13)","v":0},{"$f":"+'Bilan initial'!E42*(1+Croissance!$G13)","v":0},{"$f":"+'Bilan initial'!F42*(1+Croissance!$G13)","v":932.57184022727677},{"$f":"+'Bilan initial'!G42*(1+Croissance!$G13)","v":0},{"$f":"+'Bilan initial'!H42*(1+Croissance!$G13)","v":0},932.57184022727677,{"$f":"+'Bilan initial'!J42*(1+Croissance!$G13)","v":30.452110411986151},{"$f":"+'Bilan initial'!K42*(1+Croissance!$G13)","v":98.465639719358236},{"$f":"+'Bilan initial'!L42*(1+Croissance!$G13)","v":290.21090185858981},{"$f":"+'Bilan initial'!M42*(1+Croissance!$G13)","v":0},{"$f":"+'Bilan initial'!N42*(1+Croissance!$G13)","v":0},{"$f":"+'Bilan initial'!O42*(1+Croissance!G$20)","v":5284.4108157848204},"Importation net",0,{"$f":"+'Bilan 2025'!R42","v":0}]
["    Industrie - machinerie",197.62904490097606,{"$f":"+'Bilan initial'!C43*(1+Croissance!$G14)","v":13.537451339163017},{"$f":"+'Bilan initial'!D43*(1+Croissance!$G14)","v":0},{"$f":"+'Bilan initial'!E43*(1+Croissance!$G14)","v":0},{"$f":"+'Bilan initial'!F43*(1+Croissance!$G14)","v":7.4407327677708253},{"$f":"+'Bilan initial'!G43*(1+Croissance!$G14)","v":0},{"$f":"+'Bilan initial'!H43*(1+Croissance!$G14)","v":0},20.978184106933842,{"$f":"+'Bilan initial'!J43*(1+Croissance!$G14)","v":4.8082279597872866},{"$f":"+'Bilan initial'!K43*(1+Croissance!$G14)","v":17.80761569392649},{"$f":"+'Bilan initial'!L43*(1+Croissance!$G14)","v":154.03501714032845},{"$f":"+'Bilan initial'!M43*(1+Croissance!$G14)","v":0},{"$f":"+'Bilan initial'!N43*(1+Croissance!$G14)","v":0},{"$f":"+'Bilan initial'!O43*(1+Croissance!G$20)","v":5162.1863479367366}]
["    Industrie - métaux non-ferreux",14290.327679963142,{"$f":"+'Bilan initial'!C44*(1+Croissance!$G15)","v":100.1771399098063},{"$f":"+'Bilan initial'!D44*(1+Croissance!$G15)","v":0},{"$f":"+'Bilan initial'!E44*(1+Croissance!$G15)","v":0},{"$f":"+'Bilan initial'!F44*(1+Croissance!$G15)","v":32.243175327006909},{"$f":"+'Bilan initial'!G44*(1+Croissance!$G15)","v":0},{"$f":"+'Bilan initial'!H44*(1+Croissance!$G15)","v":0},132.42031523681322,{"$f":"+'Bilan initial'!J44*(1+Croissance!$G15)","v":1740.5785214429977},{"$f":"+'Bilan initial'!K44*(1+Croissance!$G15)","v":71.230462775705959},{"$f":"+'Bilan initial'!L44*(1+Croissance!$G15)","v":4592.0294240239937},{"$f":"+'Bilan initial'!M44*(1+Croissance!$G15)","v":7754.0689564836312},{"$f":"+'Bilan initial'!N44*(1+Croissance!$G15)","v":0},{"$f":"+'Bilan initial'!O44*(1+Croissance!G$20)","v":60544.249632277519}]
["    Industrie - pâtes et papiers",803.61516634578186,{"$f":"+'Bilan initial'!C45*(1+Croissance!$G16)","v":2.7074902678326027},{"$f":"+'Bilan initial'!D45*(1+Croissance!$G16)","v":0},{"$f":"+'Bilan initial'!E45*(1+Croissance!$G16)","v":0},{"$f":"+'Bilan initial'!F45*(1+Croissance!$G16)","v":24.802442559236088},{"$f":"+'Bilan initial'!G45*(1+Croissance!$G16)","v":0},{"$f":"+'Bilan initial'!H45*(1+Croissance!$G16)","v":0},27.509932827068692,{"$f":"+'Bilan initial'!J45*(1+Croissance!$G16)","v":68.917934090284447},{"$f":"+'Bilan initial'!K45*(1+Croissance!$G16)","v":211.59637471606769},{"$f":"+'Bilan initial'!L45*(1+Croissance!$G16)","v":495.59092471236102},{"$f":"+'Bilan initial'!M45*(1+Croissance!$G16)","v":0},{"$f":"+'Bilan initial'!N45*(1+Croissance!$G16)","v":0},{"$f":"+'Bilan initial'!O45*(1+Croissance!G$20)","v":9629.3708198745626}]
["    Industrie - transport d'équipment",485.379736786808,{"$f":"+'Bilan initial'!C46*(1+Croissance!$G17)","v":62.272276160149865},{"$f":"+'Bilan initial'!D46*(1+Croissance!$G17)","v":0},{"$f":"+'Bilan initial'!E46*(1+Croissance!$G17)","v":0},{"$f":"+'Bilan initial'!F46*(1+Croissance!$G17)","v":17.361709791465259},{"$f":"+'Bilan initial'!G46*(1+Croissance!$G17)","v":0},{"$f":"+'Bilan initial'!H46*(1+Croissance!$G17)","v":0},79.633985951615131,{"$f":"+'Bilan initial'!J46*(1+Croissance!$G17)","v":0},{"$f":"+'Bilan initial'!K46*(1+Croissance!$G17)","v":8.3800544442007006},{"$f":"+'Bilan initial'!L46*(1+Croissance!$G17)","v":397.36569639099218},{"$f":"+'Bilan initial'!M46*(1+Croissance!$G17)","v":0},{"$f":"+'Bilan initial'!N46*(1+Croissance!$G17)","v":0},{"$f":"+'Bilan initial'!O46*(1+Croissance!G$20)","v":6365.2585608727823}]
["    Industrie - cuir et textile",4428.3424616624834,{"$f":"+'Bilan initial'!C47*(1+Croissance!$G18)","v":32.489883213991234},{"$f":"+'Bilan initial'!D47*(1+Croissance!$G18)","v":0},{"$f":"+'Bilan initial'!E47*(1+Croissance!$G18)","v":0},{"$f":"+'Bilan initial'!F47*(1+Croissance!$G18)","v":14.881465535541651},{"$f":"+'Bilan initial'!G47*(1+Croissance!$G18)","v":0},{"$f":"+'Bilan initial'!H47*(1+Croissance!$G18)","v":0},47.371348749532885,{"$f":"+'Bilan initial'!J47*(1+Croissance!$G18)","v":568.97364190816222},{"$f":"+'Bilan initial'!K47*(1+Croissance!$G18)","v":1137.5923908002451},{"$f":"+'Bilan initial'!L47*(1+Croissance!$G18)","v":2674.4050802045431},{"$f":"+'Bilan initial'!M47*(1+Croissance!$G18)","v":0},{"$f":"+'Bilan initial'!N47*(1+Croissance!$G18)","v":0},{"$f":"+'Bilan initial'!O47*(1+Croissance!G$20)","v":41630.612372334748}]
["    Industrie - divers",1387.362661068481,{"$f":"+'Bilan initial'!C48*(1+Croissance!$G19)","v":0},{"$f":"+'Bilan initial'!D48*(1+Croissance!$G19)","v":0},{"$f":"+'Bilan initial'!E48*(1+Croissance!$G19)","v":0},{"$f":"+'Bilan initial'!F48*(1+Croissance!$G19)","v":0},{"$f":"+'Bilan initial'!G48*(1+Croissance!$G19)","v":0},{"$f":"+'Bilan initial'!H48*(1+Croissance!$G19)","v":0},0,{"$f":"+'Bilan initial'!J48*(1+Croissance!$G19)","v":0},{"$f":"+'Bilan initial'!K48*(1+Croissance!$G19)","v":1.0475068055250876},{"$f":"+'Bilan initial'!L48*(1+Croissance!$G19)","v":1386.315154262956},{"$f":"+'Bilan initial'!M48*(1+Croissance!$G19)","v":0},{"$f":"+'Bilan initial'!N48*(1+Croissance!$G19)","v":0},{"$f":"+'Bilan initial'!O48*(1+Croissance!G$20)","v":11189.530203582462}]
["    Transport - route",54447.305303134453,{"$f":"+'Bilan initial'!C49*(1+Croissance!$G21)","v":8309.2876319782572},{"$f":"+'Bilan initial'!D49*(1+Croissance!$G21)","v":5200.5793613059286},{"$f":"+'Bilan initial'!E49*(1+Croissance!$G21)","v":0},{"$f":"+'Bilan initial'!F49*(1+Croissance!$G21)","v":40745.452636313043},{"$f":"+'Bilan initial'!G49*(1+Croissance!$G21)","v":0},{"$f":"+'Bilan initial'!H49*(1+Croissance!$G21)","v":0},54255.31962959723,{"$f":"+'Bilan initial'!J49*(1+Croissance!$G21)","v":0},{"$f":"+'Bilan initial'!K49*(1+Croissance!$G21)","v":0},{"$f":"+'Bilan initial'!L49*(1+Croissance!$G21)","v":191.98567353722095},{"$f":"+'Bilan initial'!M49*(1+Croissance!$G21)","v":0},{"$f":"+'Bilan initial'!N49*(1+Croissance!$G21)","v":0},{"$f":"+'Bilan initial'!O49*(1+Croissance!G$25)","v":0}]
["    Transport - rail",334.83297454968715,{"$f":"+'Bilan initial'!C50*(1+Croissance!$G22)","v":0},{"$f":"+'Bilan initial'!D50*(1+Croissance!$G22)","v":0},{"$f":"+'Bilan initial'!E50*(1+Croissance!$G22)","v":0},{"$f":"+'Bilan initial'!F50*(1+Croissance!$G22)","v":334.83297454968715},{"$f":"+'Bilan initial'!G50*(1+Croissance!$G22)","v":0},{"$f":"+'Bilan initial'!H50*(1+Croissance!$G22)","v":0},334.83297454968715,{"$f":"+'Bilan initial'!J50*(1+Croissance!$G22)","v":0},{"$f":"+'Bilan initial'!K50*(1+Croissance!$G22)","v":0},{"$f":"+'Bilan initial'!L50*(1+Croissance!$G22)","v":0},{"$f":"+'Bilan initial'!M50*(1+Croissance!$G22)","v":0},{"$f":"+'Bilan initial'!N50*(1+Croissance!$G22)","v":0},{"$f":"+'Bilan initial'!O50*(1+Croissance!G$25)","v":1924.4362290590527}]
["    Transport - air domestique",3366.572963747632,{"$f":"+'Bilan initial'!C51*(1+Croissance!$G23)","v":0},{"$f":"+'Bilan initial'!D51*(1+Croissance!$G23)","v":0},{"$f":"+'Bilan initial'!E51*(1+Croissance!$G23)","v":3366.572963747632},{"$f":"+'Bilan initial'!F51*(1+Croissance!$G23)","v":0},{"$f":"+'Bilan initial'!G51*(1+Croissance!$G23)","v":0},{"$f":"+'Bilan initial'!H51*(1+Croissance!$G23)","v":0},3366.572963747632,{"$f":"+'Bilan initial'!J51*(1+Croissance!$G23)","v":0},{"$f":"+'Bilan initial'!K51*(1+Croissance!$G23)","v":0},{"$f":"+'Bilan initial'!L51*(1+Croissance!$G23)","v":0},{"$f":"+'Bilan initial'!M51*(1+Croissance!$G23)","v":0},{"$f":"+'Bilan initial'!N51*(1+Croissance!$G23)","v":0},{"$f":"+'Bilan initial'!O51*(1+Croissance!G$25)","v":0},"Renouvelable",{"$f":"SUM(Q52:Q56)","v":201732.68246235966},{"$f":"SUM(R52:R56)","v":0.32154630708405757}]
["    Transport - navigation",420.9929851405326,{"$f":"+'Bilan initial'!C52*(1+Croissance!$G24)","v":0},{"$f":"+'Bilan initial'!D52*(1+Croissance!$G24)","v":0},{"$f":"+'Bilan initial'!E52*(1+Croissance!$G24)","v":0},{"$f":"+'Bilan initial'!F52*(1+Croissance!$G24)","v":0},{"$f":"+'Bilan initial'!G52*(1+Croissance!$G24)","v":420.9929851405326},{"$f":"+'Bilan initial'!H52*(1+Croissance!$G24)","v":0},420.9929851405326,{"$f":"+'Bilan initial'!J52*(1+Croissance!$G24)","v":0},{"$f":"+'Bilan initial'!K52*(1+Croissance!$G24)","v":0},{"$f":"+'Bilan initial'!L52*(1+Croissance!$G24)","v":0},{"$f":"+'Bilan initial'!M52*(1+Croissance!$G24)","v":0},{"$f":"+'Bilan initial'!N52*(1+Croissance!$G24)","v":0},{"$f":"+'Bilan initial'!O52*(1+Croissance!G$25)","v":0},"Hydro",{"$f":"Q$34*R52","v":160919.29643387193},{"$f":"+'Bilan 2025'!R52","v":0.256492923582329}]
["    Ménages",30234.46940783492,{"$f":"+'Bilan initial'!C53*(1+Croissance!$G26)","v":663.33511561898774},{"$f":"+'Bilan initial'!D53*(1+Croissance!$G26)","v":0},{"$f":"+'Bilan initial'!E53*(1+Croissance!$G26)","v":0},{"$f":"+'Bilan initial'!F53*(1+Croissance!$G26)","v":0},{"$f":"+'Bilan initial'!G53*(1+Croissance!$G26)","v":0},{"$f":"+'Bilan initial'!H53*(1+Croissance!$G27)","v":148.56851987652266},811.90363549551034,{"$f":"+'Bilan initial'!J53*(1+Croissance!$G26)","v":2429.7578623458421},{"$f":"+'Bilan initial'!K53*(1+Croissance!$G26)","v":2436.5008296513533},{"$f":"+'Bilan initial'!L53*(1+Croissance!$G26)","v":24556.307080342212},{"$f":"+'Bilan initial'!M53*(1+Croissance!$G26)","v":0},{"$f":"+'Bilan initial'!N53*(1+Croissance!$G26)","v":0},{"$f":"+'Bilan initial'!O53*(1+Croissance!G28)","v":114797.53400766835},"Éolien",{"$f":"Q$34*R53","v":27927.092624190715},{"$f":"+'Bilan 2025'!R53","v":4.4513627595163974E-2}]
["    Services",17899.103679023247,{"$f":"+'Bilan initial'!C54*(1+Croissance!$G29)","v":1545.976942932416},{"$f":"+'Bilan initial'!D54*(1+Croissance!$G29)","v":0},{"$f":"+'Bilan initial'!E54*(1+Croissance!$G29)","v":0},{"$f":"+'Bilan initial'!F54*(1+Croissance!$G29)","v":0},{"$f":"+'Bilan initial'!G54*(1+Croissance!$G29)","v":0},{"$f":"+'Bilan initial'!H54*(1+Croissance!$G29)","v":0},1545.976942932416,{"$f":"+'Bilan initial'!J54*(1+Croissance!$G29)","v":8371.1248779896669},{"$f":"+'Bilan initial'!K54*(1+Croissance!$G29)","v":848.48051247532101},{"$f":"+'Bilan initial'!L54*(1+Croissance!$G29)","v":7056.5896982692493},{"$f":"+'Bilan initial'!M54*(1+Croissance!$G29)","v":76.931647356596585},{"$f":"+'Bilan initial'!N54*(1+Croissance!$G29)","v":0},{"$f":"+'Bilan initial'!O54*(1+Croissance!G30)","v":143635.31874523693},"Solaire",{"$f":"Q$34*R54","v":464.9322894613403},{"$f":"+'Bilan 2025'!R54","v":7.4106614206314344E-4}]
["    Agriculture & Pêches",7035.7317198613091,{"$f":"+'Bilan initial'!C55*(1+Croissance!$G31)","v":0},{"$f":"+'Bilan initial'!D55*(1+Croissance!$G31)","v":0},{"$f":"+'Bilan initial'!E55*(1+Croissance!$G31)","v":0},{"$f":"+'Bilan initial'!F55*(1+Croissance!$G31)","v":6738.8236433444445},{"$f":"+'Bilan initial'!G55*(1+Croissance!$G31)","v":0},{"$f":"+'Bilan initial'!H55*(1+Croissance!$G31)","v":0},6738.8236433444445,{"$f":"+'Bilan initial'!J55*(1+Croissance!$G31)","v":0},{"$f":"+'Bilan initial'!K55*(1+Croissance!$G31)","v":0},{"$f":"+'Bilan initial'!L55*(1+Croissance!$G31)","v":296.90807651686492},{"$f":"+'Bilan initial'!M55*(1+Croissance!$G31)","v":0},{"$f":"+'Bilan initial'!N55*(1+Croissance!$G31)","v":0},{"$f":"+'Bilan initial'!O55*(1+Croissance!G32)","v":11697.600540519597},"Biomasse",{"$f":"Q$34*R55","v":4213.1493034692594},{"$f":"+'Bilan 2025'!R55","v":6.7154344213763203E-3}]
["    Utilisations non énergétiques",0,{"$f":"+'Bilan initial'!C56*(1+Croissance!$G33)","v":0},{"$f":"+'Bilan initial'!D56*(1+Croissance!$G33)","v":0},{"$f":"+'Bilan initial'!E56*(1+Croissance!$G33)","v":0},{"$f":"+'Bilan initial'!F56*(1+Croissance!$G33)","v":0},{"$f":"+'Bilan initial'!G56*(1+Croissance!$G33)","v":0},{"$f":"+'Bilan initial'!H56*(1+Croissance!$G33)","v":0},0,{"$f":"+'Bilan initial'!J56*(1+Croissance!$G33)","v":0},{"$f":"+'Bilan initial'!K56*(1+Croissance!$G33)","v":0},{"$f":"+'Bilan initial'!L56*(1+Croissance!$G33)","v":0},{"$f":"+'Bilan initial'!M56*(1+Croissance!$G33)","v":0},{"$f":"+'Bilan initial'!N56*(1+Croissance!$G33)","v":0},{"$f":"+'Bilan initial'!O56*(1+Croissance!G33)","v":0},"Géothermie",{"$f":"Q$34*R56","v":8208.2118113664455},{"$f":"+'Bilan 2025'!R56","v":1.3083255343125084E-2}]
[null,null,null,null,null,null,null,null,null,null,null,null,null,null,null,null,null,{"$f":"+R36+R51","v":1}]
[]
["Bilan GES",{"$f":"+Hypothèses!$B$2","v":"Pays X"},null,2030]
["Ton CO2/Toe (IPCC):",null,{"$f":"+'Bilan initial'!C60","v":2.6140704480000001},{"$f":"+'Bilan initial'!D60","v":2.8724378760000002},{"$f":"+'Bilan initial'!E60","v":2.9636263800000004},{"$f":"+'Bilan initial'!F60","v":3.0700129680000003},{"$f":"+'Bilan initial'!G60","v":3.2067957240000005},{"$f":"+'Bilan initial'!H60","v":2.9788244640000006},null,{"$f":"+'Bilan initial'!J60","v":3.9211056720000004},{"$f":"+'Bilan initial'!K60","v":4.1946711840000006},{"$f":"+'Bilan initial'!L60","v":2.3253068520000002},{"$f":"+'Bilan initial'!M60","v":4.4848164240000008},{"$f":"+'Bilan initial'!N60","v":4.1573667960000007}]
["Unité : ktCO2-e","Total","GPL","Essence","Essence pour carburéacteurs","Diesel","Fiouls lourds","Kérosène et autres","Total produits pétroliers","Charbon","Lignite","Gaz","Coke","Coke de pétrole"]
["Total",{"$f":"+B63+B64","v":932535.91223447316},{"$f":"+C63+C64","v":28274.893338068301},14938.341134559039,9977.2644455572681,153285.12463572336,3452.5574871294148,442.55954158845606,210370.74058262585,177619.48226710787,247844.95260662382,231040.82210492331,{"$f":"+M63+M64","v":35472.812446621618},{"$f":"+N63+N64","v":30187.102226570725}]
["    Centrales fossiles",{"$f":"SUM(I63:N63)","v":422653.97004736261},{"$f":"C60*C35","v":0},0,0,1812.2229230193323,1674.6379264495242,0,{"$f":"SUM(C63:H63)","v":3486.8608494688565},{"$f":"J60*J35","v":100998.57409031919},{"$f":"K60*K35","v":216388.68881002735},{"$f":"L60*L35","v":101779.84629754722},{"$f":"M60*M35","v":0},{"$f":"N60*N35","v":0}]
["CONSOMMATION FINALE",{"$f":"SUM(B65:B84)","v":509881.94218711054},{"$f":"SUM(C65:C84)","v":28274.893338068301},14938.341134559039,9977.2644455572681,151472.90171270404,1777.9195606798908,442.55954158845606,{"$f":"SUM(C64:H64)","v":206883.87973315699},{"$f":"SUM(J65:J84)","v":76620.908176788696},{"$f":"SUM(K65:K84)","v":31456.263796596457},{"$f":"SUM(L65:L84)","v":129260.97580737607},{"$f":"SUM(M65:M84)","v":35472.812446621618},{"$f":"SUM(N65:N84)","v":30187.102226570725}]
["    Industrie - acier",{"$f":"SUM(I65:N65)","v":1544.4529386764195},{"$f":"+'Bilan initial'!C65*(1+Croissance!$G8)","v":0},{"$f":"+'Bilan initial'!D65*(1+Croissance!$G8)","v":0},{"$f":"+'Bilan initial'!E65*(1+Croissance!$G8)","v":0},{"$f":"+'Bilan initial'!F65*(1+Croissance!$G8)","v":129.44449450138086},{"$f":"+'Bilan initial'!G65*(1+Croissance!$G8)","v":0},{"$f":"+'Bilan initial'!H65*(1+Croissance!$G8)","v":0},{"$f":"SUM(C65:H65)","v":129.44449450138086},{"$f":"+'Bilan initial'!J65*(1+Croissance!$G8)","v":106.8368962438819},{"$f":"+'Bilan initial'!K65*(1+Croissance!$G8)","v":114.24261191667941},{"$f":"+'Bilan initial'!L65*(1+Croissance!$G8)","v":1193.9289360144774},{"$f":"+'Bilan initial'!M65*(1+Croissance!$G8)","v":0},{"$f":"+'Bilan initial'!N65*(1+Croissance!$G8)","v":0}]
["    Industrie - chimique",{"$f":"SUM(I66:N66)","v":17465.100290649098},{"$f":"+'Bilan initial'!C66*(1+Croissance!$G9)","v":63.698132676499313},{"$f":"+'Bilan initial'!D66*(1+Croissance!$G9)","v":0},{"$f":"+'Bilan initial'!E66*(1+Croissance!$G9)","v":0},{"$f":"+'Bilan initial'!F66*(1+Croissance!$G9)","v":30.457528117971965},{"$f":"+'Bilan initial'!G66*(1+Croissance!$G9)","v":22.131778763650097},{"$f":"+'Bilan initial'!H66*(1+Croissance!$G9)","v":0},116.28743955812138,{"$f":"+'Bilan initial'!J66*(1+Croissance!$G9)","v":2476.1021835346737},{"$f":"+'Bilan initial'!K66*(1+Croissance!$G9)","v":1428.0326489584925},{"$f":"+'Bilan initial'!L66*(1+Croissance!$G9)","v":13444.678018597811},{"$f":"+'Bilan initial'!M66*(1+Croissance!$G9)","v":0},{"$f":"+'Bilan initial'!N66*(1+Croissance!$G9)","v":0}]
["    Industrie - minerai non metallique",67212.87386569634,{"$f":"+'Bilan initial'!C67*(1+Croissance!$G10)","v":21.232710892166441},{"$f":"+'Bilan initial'!D67*(1+Croissance!$G10)","v":0},{"$f":"+'Bilan initial'!E67*(1+Croissance!$G10)","v":0},{"$f":"+'Bilan initial'!F67*(1+Croissance!$G10)","v":182.74516870783174},{"$f":"+'Bilan initial'!G67*(1+Croissance!$G10)","v":132.79067258190054},{"$f":"+'Bilan initial'!H67*(1+Croissance!$G10)","v":0},336.76855218189871,{"$f":"+'Bilan initial'!J67*(1+Croissance!$G10)","v":20782.918581089256},{"$f":"+'Bilan initial'!K67*(1+Croissance!$G10)","v":6177.8889367250486},{"$f":"+'Bilan initial'!L67*(1+Croissance!$G10)","v":9779.8352845707614},{"$f":"+'Bilan initial'!M67*(1+Croissance!$G10)","v":0},{"$f":"+'Bilan initial'!N67*(1+Croissance!$G10)","v":30135.462511129379}]
["    Industrie - transformation des aliments et boissons",10852.513095842576,{"$f":"+'Bilan initial'!C68*(1+Croissance!$G11)","v":141.55140594777626},{"$f":"+'Bilan initial'!D68*(1+Croissance!$G11)","v":0},{"$f":"+'Bilan initial'!E68*(1+Croissance!$G11)","v":0},{"$f":"+'Bilan initial'!F68*(1+Croissance!$G11)","v":45.686292176957934},{"$f":"+'Bilan initial'!G68*(1+Croissance!$G11)","v":272.95860475168445},{"$f":"+'Bilan initial'!H68*(1+Croissance!$G11)","v":0},460.19630287641866,{"$f":"+'Bilan initial'!J68*(1+Croissance!$G11)","v":1432.8713143297095},{"$f":"+'Bilan initial'!K68*(1+Croissance!$G11)","v":3458.0359837856417},{"$f":"+'Bilan initial'!L68*(1+Croissance!$G11)","v":5097.5574572444202},{"$f":"+'Bilan initial'!M68*(1+Croissance!$G11)","v":352.21232216503728},{"$f":"+'Bilan initial'!N68*(1+Croissance!$G11)","v":51.639715441347768}]
["    Industrie - construction",3007.5388561118289,{"$f":"+'Bilan initial'!C69*(1+Croissance!$G12)","v":0},{"$f":"+'Bilan initial'!D69*(1+Croissance!$G12)","v":0},{"$f":"+'Bilan initial'!E69*(1+Croissance!$G12)","v":0},{"$f":"+'Bilan initial'!F69*(1+Croissance!$G12)","v":1119.3141583354693},{"$f":"+'Bilan initial'!G69*(1+Croissance!$G12)","v":0},{"$f":"+'Bilan initial'!H69*(1+Croissance!$G12)","v":0},1119.3141583354693,{"$f":"+'Bilan initial'!J69*(1+Croissance!$G12)","v":6.2845233084636396},{"$f":"+'Bilan initial'!K69*(1+Croissance!$G12)","v":13.181839836539933},{"$f":"+'Bilan initial'!L69*(1+Croissance!$G12)","v":1868.7583346313559},{"$f":"+'Bilan initial'!M69*(1+Croissance!$G12)","v":0},{"$f":"+'Bilan initial'!N69*(1+Croissance!$G12)","v":0}]
["    Industrie - exploitation minière",4070.2739661119695,{"$f":"+'Bilan initial'!C70*(1+Croissance!$G13)","v":0},{"$f":"+'Bilan initial'!D70*(1+Croissance!$G13)","v":0},{"$f":"+'Bilan initial'!E70*(1+Croissance!$G13)","v":0},{"$f":"+'Bilan initial'!F70*(1+Croissance!$G13)","v":2863.0076430893641},{"$f":"+'Bilan initial'!G70*(1+Croissance!$G13)","v":0},{"$f":"+'Bilan initial'!H70*(1+Croissance!$G13)","v":0},2863.0076430893641,{"$f":"+'Bilan initial'!J70*(1+Croissance!$G13)","v":119.40594286080916},{"$f":"+'Bilan initial'!K70*(1+Croissance!$G13)","v":413.03098154491795},{"$f":"+'Bilan initial'!L70*(1+Croissance!$G13)","v":674.82939861687851},{"$f":"+'Bilan initial'!M70*(1+Croissance!$G13)","v":0},{"$f":"+'Bilan initial'!N70*(1+Croissance!$G13)","v":0}]
["    Industrie - machinerie",509.96034071221681,{"$f":"+'Bilan initial'!C71*(1+Croissance!$G14)","v":35.387851486944065},{"$f":"+'Bilan initial'!D71*(1+Croissance!$G14)","v":0},{"$f":"+'Bilan initial'!E71*(1+Croissance!$G14)","v":0},{"$f":"+'Bilan initial'!F71*(1+Croissance!$G14)","v":22.843146088478967},{"$f":"+'Bilan initial'!G71*(1+Croissance!$G14)","v":0},{"$f":"+'Bilan initial'!H71*(1+Croissance!$G14)","v":0},58.230997575423032,{"$f":"+'Bilan initial'!J71*(1+Croissance!$G14)","v":18.853569925390918},{"$f":"+'Bilan initial'!K71*(1+Croissance!$G14)","v":74.697092407059614},{"$f":"+'Bilan initial'!L71*(1+Croissance!$G14)","v":358.17868080434323},{"$f":"+'Bilan initial'!M71*(1+Croissance!$G14)","v":0},{"$f":"+'Bilan initial'!N71*(1+Croissance!$G14)","v":0}]
["    Industrie - métaux non-ferreux",52938.091043141489,{"$f":"+'Bilan initial'!C72*(1+Croissance!$G15)","v":261.87010100338603},{"$f":"+'Bilan initial'!D72*(1+Croissance!$G15)","v":0},{"$f":"+'Bilan initial'!E72*(1+Croissance!$G15)","v":0},{"$f":"+'Bilan initial'!F72*(1+Croissance!$G15)","v":98.98696638340887},{"$f":"+'Bilan initial'!G72*(1+Croissance!$G15)","v":0},{"$f":"+'Bilan initial'!H72*(1+Croissance!$G15)","v":0},360.85706738679488,{"$f":"+'Bilan initial'!J72*(1+Croissance!$G15)","v":6824.9923129915123},{"$f":"+'Bilan initial'!K72*(1+Croissance!$G15)","v":298.78836962823846},{"$f":"+'Bilan initial'!L72*(1+Croissance!$G15)","v":10677.877484268605},{"$f":"+'Bilan initial'!M72*(1+Croissance!$G15)","v":34775.575808866335},{"$f":"+'Bilan initial'!N72*(1+Croissance!$G15)","v":0}]
["    Industrie - pâtes et papiers",2393.4340815392798,{"$f":"+'Bilan initial'!C73*(1+Croissance!$G16)","v":7.0775702973888128},{"$f":"+'Bilan initial'!D73*(1+Croissance!$G16)","v":0},{"$f":"+'Bilan initial'!E73*(1+Croissance!$G16)","v":0},{"$f":"+'Bilan initial'!F73*(1+Croissance!$G16)","v":76.143820294929895},{"$f":"+'Bilan initial'!G73*(1+Croissance!$G16)","v":0},{"$f":"+'Bilan initial'!H73*(1+Croissance!$G16)","v":0},83.221390592318713,{"$f":"+'Bilan initial'!J73*(1+Croissance!$G16)","v":270.23450226393652},{"$f":"+'Bilan initial'!K73*(1+Croissance!$G16)","v":887.57721566035548},{"$f":"+'Bilan initial'!L73*(1+Croissance!$G16)","v":1152.4009730226692},{"$f":"+'Bilan initial'!M73*(1+Croissance!$G16)","v":0},{"$f":"+'Bilan initial'!N73*(1+Croissance!$G16)","v":0}]
["    Industrie - transport d'équipment",1175.2335405115593,{"$f":"+'Bilan initial'!C74*(1+Croissance!$G17)","v":162.7841168399427},{"$f":"+'Bilan initial'!D74*(1+Croissance!$G17)","v":0},{"$f":"+'Bilan initial'!E74*(1+Croissance!$G17)","v":0},{"$f":"+'Bilan initial'!F74*(1+Croissance!$G17)","v":53.300674206450921},{"$f":"+'Bilan initial'!G74*(1+Croissance!$G17)","v":0},{"$f":"+'Bilan initial'!H74*(1+Croissance!$G17)","v":0},216.0847910463936,{"$f":"+'Bilan initial'!J74*(1+Croissance!$G17)","v":0},{"$f":"+'Bilan initial'!K74*(1+Croissance!$G17)","v":35.151572897439813},{"$f":"+'Bilan initial'!L74*(1+Croissance!$G17)","v":923.99717656772589},{"$f":"+'Bilan initial'!M74*(1+Croissance!$G17)","v":0},{"$f":"+'Bilan initial'!N74*(1+Croissance!$G17)","v":0}]
["    Industrie - cuir et textile",13352.261389100906,{"$f":"+'Bilan initial'!C75*(1+Croissance!$G18)","v":84.930843568665765},{"$f":"+'Bilan initial'!D75*(1+Croissance!$G18)","v":0},{"$f":"+'Bilan initial'!E75*(1+Croissance!$G18)","v":0},{"$f":"+'Bilan initial'!F75*(1+Croissance!$G18)","v":45.686292176957934},{"$f":"+'Bilan initial'!G75*(1+Croissance!$G18)","v":0},{"$f":"+'Bilan initial'!H75*(1+Croissance!$G18)","v":0},130.6171357456237,{"$f":"+'Bilan initial'!J75*(1+Croissance!$G18)","v":2231.0057745045924},{"$f":"+'Bilan initial'!K75*(1+Croissance!$G18)","v":4771.826020827456},{"$f":"+'Bilan initial'!L75*(1+Croissance!$G18)","v":6218.8124580232343},{"$f":"+'Bilan initial'!M75*(1+Croissance!$G18)","v":0},{"$f":"+'Bilan initial'!N75*(1+Croissance!$G18)","v":0}]
["    Industrie - divers",3228.002073851269,{"$f":"+'Bilan initial'!C76*(1+Croissance!$G19)","v":0},{"$f":"+'Bilan initial'!D76*(1+Croissance!$G19)","v":0},{"$f":"+'Bilan initial'!E76*(1+Croissance!$G19)","v":0},{"$f":"+'Bilan initial'!F76*(1+Croissance!$G19)","v":0},{"$f":"+'Bilan initial'!G76*(1+Croissance!$G19)","v":0},{"$f":"+'Bilan initial'!H76*(1+Croissance!$G19)","v":0},0,{"$f":"+'Bilan initial'!J76*(1+Croissance!$G19)","v":0},{"$f":"+'Bilan initial'!K76*(1+Croissance!$G19)","v":4.3939466121799766},{"$f":"+'Bilan initial'!L76*(1+Croissance!$G19)","v":3223.6081272390888},{"$f":"+'Bilan initial'!M76*(1+Croissance!$G19)","v":0},{"$f":"+'Bilan initial'!N76*(1+Croissance!$G19)","v":0}]
["    Transport - route",162194.89795991807,{"$f":"+'Bilan initial'!C77*(1+Croissance!$G21)","v":21721.063242686261},{"$f":"+'Bilan initial'!D77*(1+Croissance!$G21)","v":14938.341134559039},{"$f":"+'Bilan initial'!E77*(1+Croissance!$G21)","v":0},{"$f":"+'Bilan initial'!F77*(1+Croissance!$G21)","v":125089.06798051084},{"$f":"+'Bilan initial'!G77*(1+Croissance!$G21)","v":0},{"$f":"+'Bilan initial'!H77*(1+Croissance!$G21)","v":0},161748.47235775614,{"$f":"+'Bilan initial'!J77*(1+Croissance!$G21)","v":0},{"$f":"+'Bilan initial'!K77*(1+Croissance!$G21)","v":0},{"$f":"+'Bilan initial'!L77*(1+Croissance!$G21)","v":446.42560216193493},{"$f":"+'Bilan initial'!M77*(1+Croissance!$G21)","v":0},{"$f":"+'Bilan initial'!N77*(1+Croissance!$G21)","v":0}]
["    Transport - rail",1027.9415739815536,{"$f":"+'Bilan initial'!C78*(1+Croissance!$G22)","v":0},{"$f":"+'Bilan initial'!D78*(1+Croissance!$G22)","v":0},{"$f":"+'Bilan initial'!E78*(1+Croissance!$G22)","v":0},{"$f":"+'Bilan initial'!F78*(1+Croissance!$G22)","v":1027.9415739815536},{"$f":"+'Bilan initial'!G78*(1+Croissance!$G22)","v":0},{"$f":"+'Bilan initial'!H78*(1+Croissance!$G22)","v":0},1027.9415739815536,{"$f":"+'Bilan initial'!J78*(1+Croissance!$G22)","v":0},{"$f":"+'Bilan initial'!K78*(1+Croissance!$G22)","v":0},{"$f":"+'Bilan initial'!L78*(1+Croissance!$G22)","v":0},{"$f":"+'Bilan initial'!M78*(1+Croissance!$G22)","v":0},{"$f":"+'Bilan initial'!N78*(1+Croissance!$G22)","v":0}]
["    Transport - air domestique",9977.2644455572681,{"$f":"+'Bilan initial'!C79*(1+Croissance!$G23)","v":0},{"$f":"+'Bilan initial'!D79*(1+Croissance!$G23)","v":0},{"$f":"+'Bilan initial'!E79*(1+Croissance!$G23)","v":9977.2644455572681},{"$f":"+'Bilan initial'!F79*(1+Croissance!$G23)","v":0},{"$f":"+'Bilan initial'!G79*(1+Croissance!$G23)","v":0},{"$f":"+'Bilan initial'!H79*(1+Croissance!$G23)","v":0},9977.2644455572681,{"$f":"+'Bilan initial'!J79*(1+Croissance!$G23)","v":0},{"$f":"+'Bilan initial'!K79*(1+Croissance!$G23)","v":0},{"$f":"+'Bilan initial'!L79*(1+Croissance!$G23)","v":0},{"$f":"+'Bilan initial'!M79*(1+Croissance!$G23)","v":0},{"$f":"+'Bilan initial'!N79*(1+Croissance!$G23)","v":0}]
["    Transport - navigation",1350.0385045826558,{"$f":"+'Bilan initial'!C80*(1+Croissance!$G24)","v":0},{"$f":"+'Bilan initial'!D80*(1+Croissance!$G24)","v":0},{"$f":"+'Bilan initial'!E80*(1+Croissance!$G24)","v":0},{"$f":"+'Bilan initial'!F80*(1+Croissance!$G24)","v":0},{"$f":"+'Bilan initial'!G80*(1+Croissance!$G24)","v":1350.0385045826558},{"$f":"+'Bilan initial'!H80*(1+Croissance!$G24)","v":0},1350.0385045826558,{"$f":"+'Bilan initial'!J80*(1+Croissance!$G24)","v":0},{"$f":"+'Bilan initial'!K80*(1+Croissance!$G24)","v":0},{"$f":"+'Bilan initial'!L80*(1+Croissance!$G24)","v":0},{"$f":"+'Bilan initial'!M80*(1+Croissance!$G24)","v":0},{"$f":"+'Bilan initial'!N80*(1+Croissance!$G24)","v":0}]
["    Ménages",79025.170533746073,{"$f":"+'Bilan initial'!C81*(1+Croissance!$G26)","v":1734.0047228602591},{"$f":"+'Bilan initial'!D81*(1+Croissance!$G26)","v":0},{"$f":"+'Bilan initial'!E81*(1+Croissance!$G26)","v":0},{"$f":"+'Bilan initial'!F81*(1+Croissance!$G26)","v":0},{"$f":"+'Bilan initial'!G81*(1+Croissance!$G26)","v":0},{"$f":"+'Bilan initial'!H81*(1+Croissance!$G27)","v":442.55954158845606},2176.5642644487152,{"$f":"+'Bilan initial'!J81*(1+Croissance!$G26)","v":9527.3373356308784},{"$f":"+'Bilan initial'!K81*(1+Croissance!$G26)","v":10220.319819930626},{"$f":"+'Bilan initial'!L81*(1+Croissance!$G26)","v":57100.949113735864},{"$f":"+'Bilan initial'!M81*(1+Croissance!$G26)","v":0},{"$f":"+'Bilan initial'!N81*(1+Croissance!$G26)","v":0}]
["    Services",57178.215328508726,{"$f":"+'Bilan initial'!C82*(1+Croissance!$G29)","v":4041.2926398090112},{"$f":"+'Bilan initial'!D82*(1+Croissance!$G29)","v":0},{"$f":"+'Bilan initial'!E82*(1+Croissance!$G29)","v":0},{"$f":"+'Bilan initial'!F82*(1+Croissance!$G29)","v":0},{"$f":"+'Bilan initial'!G82*(1+Croissance!$G29)","v":0},{"$f":"+'Bilan initial'!H82*(1+Croissance!$G29)","v":0},4041.2926398090112,{"$f":"+'Bilan initial'!J82*(1+Croissance!$G29)","v":32824.065240105592},{"$f":"+'Bilan initial'!K82*(1+Croissance!$G29)","v":3559.0967558657821},{"$f":"+'Bilan initial'!L82*(1+Croissance!$G29)","v":16408.736377138099},{"$f":"+'Bilan initial'!M82*(1+Croissance!$G29)","v":345.02431559024063},{"$f":"+'Bilan initial'!N82*(1+Croissance!$G29)","v":0}]
["    Agriculture & Pêches",21378.678358871261,{"$f":"+'Bilan initial'!C83*(1+Croissance!$G31)","v":0},{"$f":"+'Bilan initial'!D83*(1+Croissance!$G31)","v":0},{"$f":"+'Bilan initial'!E83*(1+Croissance!$G31)","v":0},{"$f":"+'Bilan initial'!F83*(1+Croissance!$G31)","v":20688.275974132455},{"$f":"+'Bilan initial'!G83*(1+Croissance!$G31)","v":0},{"$f":"+'Bilan initial'!H83*(1+Croissance!$G31)","v":0},20688.275974132455,{"$f":"+'Bilan initial'!J83*(1+Croissance!$G31)","v":0},{"$f":"+'Bilan initial'!K83*(1+Croissance!$G31)","v":0},{"$f":"+'Bilan initial'!L83*(1+Croissance!$G31)","v":690.40238473880652},{"$f":"+'Bilan initial'!M83*(1+Croissance!$G31)","v":0},{"$f":"+'Bilan initial'!N83*(1+Croissance!$G31)","v":0}]
["    Utilisations non énergétiques",0,{"$f":"+'Bilan initial'!C84*(1+Croissance!$G33)","v":0},{"$f":"+'Bilan initial'!D84*(1+Croissance!$G33)","v":0},{"$f":"+'Bilan initial'!E84*(1+Croissance!$G33)","v":0},{"$f":"+'Bilan initial'!F84*(1+Croissance!$G33)","v":0},{"$f":"+'Bilan initial'!G84*(1+Croissance!$G33)","v":0},{"$f":"+'Bilan initial'!H84*(1+Croissance!$G33)","v":0},0,{"$f":"+'Bilan initial'!J84*(1+Croissance!$G33)","v":0},{"$f":"+'Bilan initial'!K84*(1+Croissance!$G33)","v":0},{"$f":"+'Bilan initial'!L84*(1+Croissance!$G33)","v":0},{"$f":"+'Bilan initial'!M84*(1+Croissance!$G33)","v":0},{"$f":"+'Bilan initial'!N84*(1+Croissance!$G33)","v":0}]
["CH4 provenant de la combustion d'énergie",{"$f":"IF(B62=0,0,'Bilan initial'!B85*'Bilan 2030'!B64/'Bilan initial'!B64)","v":12128.981015277543}]
["N2O provenant de la combustion d'énergie",{"$f":"IF(B62=0,0,'Bilan initial'!B86*'Bilan 2030'!B64/'Bilan initial'!B64)","v":9286.6629982613067}]
["Total Agriculture",{"$f":"SUM(B88:B92)","v":88199.651388602462}]
["  Fermentation entérique",{"$f":"+'Bilan initial'!B88*(1+Croissance!G$34)","v":41890.627897561346}]
["  Gestion du fumier",{"$f":"+'Bilan initial'!B89*(1+Croissance!G$34)","v":9821.4265942512175}]
["  Culture du riz",{"$f":"+'Bilan initial'!B90*(1+Croissance!G$35)","v":311.59348332015281}]
["  N2O provenant des sols agricoles",{"$f":"+'Bilan initial'!B91*(1+Croissance!G$36)","v":35643.178556992287}]
["  Brûlage de résidus agricoles",{"$f":"+'Bilan initial'!B92*(1+Croissance!G$37)","v":532.82485647746137}]
["Émissions fugitive (CH4)",{"$f":"IF('Bilan initial'!L62=0,0, 'Bilan initial'!B93*'Bilan 2030'!L62/'Bilan initial'!L62)","v":9900.1818956948282}]
["Foresterie",{"$f":"+'Bilan initial'!B94*(1+Croissance!G$38)","v":-64020}]
["Déchets - solides",{"$f":"+'Bilan initial'!B95*(1+Croissance!G39)","v":16880}]
["Déchets - liquide",{"$f":"+'Bilan initial'!B96*(1+Croissance!G40)","v":0}]
["Processus industriels",{"$f":"+'Bilan initial'!B97*(1+Croissance!G41)","v":60720}]
["Émission total GES (excl. Foresterie)",{"$f":"B62+B85+B86+B87+B93+B95+B96+B97","v":1129651.3895323093}]
["Émission total GES (incl. Foresterie)",{"$f":"+B85+B86+B87+B93+B94+B95+B96+B97+B62","v":1065631.3895323093}]

{"sheet":"Bilan 2035","index":7,"n_rows":99,"n_cols":19,"rows_kept":99,"cut":false,"hidden":false,"merged":[]}
["Bilan combustibles fossiles",{"$f":"+Hypothèses!$B$2","v":"Pays X"},null,2035]
[]
["Unité (TJ)","GPL","Essence","Essence pour carburéacteurs","Diesel","Fiouls lourds","Kérosène et autres","Total produits pétroliers","Charbon","Lignite","Gaz","Coke","Coke de pétrole","Énergie totale (fossile)"]
["Unité","TJ","TJ","TJ","TJ","TJ","TJ","TJ","TJ","TJ","TJ","TJ","TJ","TJ"]
["Total",{"$f":"+B6+B7","v":550975.89603451919},264911.39531538426,171489.26673305893,2543365.133551518,54842.663003392649,7567.905643987302,3593152.2602818594,2307442.9135227771,3009754.4709350346,5061245.0131769935,{"$f":"+L6+L7","v":402902.40874057612},{"$f":"+M6+M7","v":369872.45877521764},{"$f":"SUM(H5:M5)","v":14744369.52543246}]
["    Centrales fossiles",{"$f":"C35/C32","v":0},0,0,30069.092533170795,26601.035260192584,0,{"$f":"SUM(B6:G6)","v":56670.127793363383},{"$f":"J35/J32","v":1312065.7772785814},{"$f":"K35/K32","v":2627759.0758099784},{"$f":"L35/L32","v":2229617.8433845895},{"$f":"M35/M32","v":0},{"$f":"N35/N32","v":0},{"$f":"SUM(H6:M6)","v":6226112.8242665119}]
["CONSOMMATION FINALE",{"$f":"SUM(B8:B27)","v":550975.89603451919},264911.39531538426,171489.26673305893,2513296.0410183473,28241.627743200064,7567.905643987302,3536482.1324884961,995377.13624419551,{"$f":"SUM(J8:J27)","v":381995.39512505621},2831627.1697924039,{"$f":"SUM(L8:L27)","v":402902.40874057612},{"$f":"SUM(M8:M27)","v":369872.45877521764},8518256.7011659443]
["    Industrie - acier",{"$f":"+'Bilan initial'!B8*(1+Croissance!$H8)","v":0},{"$f":"+'Bilan initial'!C8*(1+Croissance!$H8)","v":0},{"$f":"+'Bilan initial'!D8*(1+Croissance!$H8)","v":0},{"$f":"+'Bilan initial'!E8*(1+Croissance!$H8)","v":2147.7923237979144},{"$f":"+'Bilan initial'!F8*(1+Croissance!$H8)","v":0},{"$f":"+'Bilan initial'!G8*(1+Croissance!$H8)","v":0},{"$f":"SUM(B8:G8)","v":2147.7923237979144},{"$f":"+'Bilan initial'!I8*(1+Croissance!$H8)","v":1387.9110331488948},{"$f":"+'Bilan initial'!J8*(1+Croissance!$H8)","v":1387.3278772526135},{"$f":"+'Bilan initial'!K8*(1+Croissance!$H8)","v":26154.541948205009},{"$f":"+'Bilan initial'!L8*(1+Croissance!$H8)","v":0},{"$f":"+'Bilan initial'!M8*(1+Croissance!$H8)","v":0},31077.573182404434]
["    Industrie - chimique",{"$f":"+'Bilan initial'!B9*(1+Croissance!$H9)","v":1241.2473252342108},{"$f":"+'Bilan initial'!C9*(1+Croissance!$H9)","v":0},{"$f":"+'Bilan initial'!D9*(1+Croissance!$H9)","v":0},{"$f":"+'Bilan initial'!E9*(1+Croissance!$H9)","v":505.36289971715627},{"$f":"+'Bilan initial'!F9*(1+Croissance!$H9)","v":351.55553207302984},{"$f":"+'Bilan initial'!G9*(1+Croissance!$H9)","v":0},{"$f":"SUM(B9:G9)","v":2098.165757024397},{"$f":"+'Bilan initial'!I9*(1+Croissance!$H9)","v":32166.879238862613},{"$f":"+'Bilan initial'!J9*(1+Croissance!$H9)","v":17341.598465657673},{"$f":"+'Bilan initial'!K9*(1+Croissance!$H9)","v":294522.88541674335},{"$f":"+'Bilan initial'!L9*(1+Croissance!$H9)","v":0},{"$f":"+'Bilan initial'!M9*(1+Croissance!$H9)","v":0},346129.52887828799]
["    Industrie - minerai non metallique",{"$f":"+'Bilan initial'!B10*(1+Croissance!$H10)","v":413.74910841140365},{"$f":"+'Bilan initial'!C10*(1+Croissance!$H10)","v":0},{"$f":"+'Bilan initial'!D10*(1+Croissance!$H10)","v":0},{"$f":"+'Bilan initial'!E10*(1+Croissance!$H10)","v":3032.1773983029375},{"$f":"+'Bilan initial'!F10*(1+Croissance!$H10)","v":2109.3331924381791},{"$f":"+'Bilan initial'!G10*(1+Croissance!$H10)","v":0},5555.2596991525206,{"$f":"+'Bilan initial'!I10*(1+Croissance!$H10)","v":269989.51686019968},{"$f":"+'Bilan initial'!J10*(1+Croissance!$H10)","v":75022.422900660575},{"$f":"+'Bilan initial'!K10*(1+Croissance!$H10)","v":214239.81317573145},{"$f":"+'Bilan initial'!L10*(1+Croissance!$H10)","v":0},{"$f":"+'Bilan initial'!M10*(1+Croissance!$H10)","v":369239.73462775268},934046.74726349686]
["    Industrie - transformation des aliments et boissons",{"$f":"+'Bilan initial'!B11*(1+Croissance!$H11)","v":2758.3273894093577},{"$f":"+'Bilan initial'!C11*(1+Croissance!$H11)","v":0},{"$f":"+'Bilan initial'!D11*(1+Croissance!$H11)","v":0},{"$f":"+'Bilan initial'!E11*(1+Croissance!$H11)","v":758.04434957573437},{"$f":"+'Bilan initial'!F11*(1+Croissance!$H11)","v":4335.8515622340346},{"$f":"+'Bilan initial'!G11*(1+Croissance!$H11)","v":0},7852.2233012191264,{"$f":"+'Bilan initial'!I11*(1+Croissance!$H11)","v":18614.336209291057},{"$f":"+'Bilan initial'!J11*(1+Croissance!$H11)","v":41993.347669146417},{"$f":"+'Bilan initial'!K11*(1+Croissance!$H11)","v":111668.52257885791},{"$f":"+'Bilan initial'!L11*(1+Croissance!$H11)","v":4000.4494484879901},{"$f":"+'Bilan initial'!M11*(1+Croissance!$H11)","v":632.72414746493723},184761.60335446743]
["    Industrie - construction",{"$f":"+'Bilan initial'!B12*(1+Croissance!$H12)","v":0},{"$f":"+'Bilan initial'!C12*(1+Croissance!$H12)","v":0},{"$f":"+'Bilan initial'!D12*(1+Croissance!$H12)","v":0},{"$f":"+'Bilan initial'!E12*(1+Croissance!$H12)","v":18572.086564605492},{"$f":"+'Bilan initial'!F12*(1+Croissance!$H12)","v":0},{"$f":"+'Bilan initial'!G12*(1+Croissance!$H12)","v":0},18572.086564605492,{"$f":"+'Bilan initial'!I12*(1+Croissance!$H12)","v":81.641825479346736},{"$f":"+'Bilan initial'!J12*(1+Croissance!$H12)","v":160.07629352914773},{"$f":"+'Bilan initial'!K12*(1+Croissance!$H12)","v":40937.543918929579},{"$f":"+'Bilan initial'!L12*(1+Croissance!$H12)","v":0},{"$f":"+'Bilan initial'!M12*(1+Croissance!$H12)","v":0},59751.348602543563]
["    Industrie - exploitation minière",{"$f":"+'Bilan initial'!B13*(1+Croissance!$H13)","v":0},{"$f":"+'Bilan initial'!C13*(1+Croissance!$H13)","v":0},{"$f":"+'Bilan initial'!D13*(1+Croissance!$H13)","v":0},{"$f":"+'Bilan initial'!E13*(1+Croissance!$H13)","v":47504.112573412691},{"$f":"+'Bilan initial'!F13*(1+Croissance!$H13)","v":0},{"$f":"+'Bilan initial'!G13*(1+Croissance!$H13)","v":0},47504.112573412691,{"$f":"+'Bilan initial'!I13*(1+Croissance!$H13)","v":1551.194684107588},{"$f":"+'Bilan initial'!J13*(1+Croissance!$H13)","v":5015.7238639132956},{"$f":"+'Bilan initial'!K13*(1+Croissance!$H13)","v":14783.00197072457},{"$f":"+'Bilan initial'!L13*(1+Croissance!$H13)","v":0},{"$f":"+'Bilan initial'!M13*(1+Croissance!$H13)","v":0},68854.033092158148]
["    Industrie - machinerie",{"$f":"+'Bilan initial'!B14*(1+Croissance!$H14)","v":689.58184735233942},{"$f":"+'Bilan initial'!C14*(1+Croissance!$H14)","v":0},{"$f":"+'Bilan initial'!D14*(1+Croissance!$H14)","v":0},{"$f":"+'Bilan initial'!E14*(1+Croissance!$H14)","v":379.02217478786719},{"$f":"+'Bilan initial'!F14*(1+Croissance!$H14)","v":0},{"$f":"+'Bilan initial'!G14*(1+Croissance!$H14)","v":0},1068.6040221402066,{"$f":"+'Bilan initial'!I14*(1+Croissance!$H14)","v":244.92547643804022},{"$f":"+'Bilan initial'!J14*(1+Croissance!$H14)","v":907.09899666517049},{"$f":"+'Bilan initial'!K14*(1+Croissance!$H14)","v":7846.3625844615026},{"$f":"+'Bilan initial'!L14*(1+Croissance!$H14)","v":0},{"$f":"+'Bilan initial'!M14*(1+Croissance!$H14)","v":0},10066.99107970492]
["    Industrie - métaux non-ferreux",{"$f":"+'Bilan initial'!B15*(1+Croissance!$H15)","v":5102.9056704073109},{"$f":"+'Bilan initial'!C15*(1+Croissance!$H15)","v":0},{"$f":"+'Bilan initial'!D15*(1+Croissance!$H15)","v":0},{"$f":"+'Bilan initial'!E15*(1+Croissance!$H15)","v":1642.4294240807578},{"$f":"+'Bilan initial'!F15*(1+Croissance!$H15)","v":0},{"$f":"+'Bilan initial'!G15*(1+Croissance!$H15)","v":0},6745.3350944880685,{"$f":"+'Bilan initial'!I15*(1+Croissance!$H15)","v":88663.022470570562},{"$f":"+'Bilan initial'!J15*(1+Croissance!$H15)","v":3628.395986660682},{"$f":"+'Bilan initial'!K15*(1+Croissance!$H15)","v":233912.57733677264},{"$f":"+'Bilan initial'!L15*(1+Croissance!$H15)","v":394983.1516690795},{"$f":"+'Bilan initial'!M15*(1+Croissance!$H15)","v":0},727932.48255757149]
["    Industrie - pâtes et papiers",{"$f":"+'Bilan initial'!B16*(1+Croissance!$H16)","v":137.91636947046788},{"$f":"+'Bilan initial'!C16*(1+Croissance!$H16)","v":0},{"$f":"+'Bilan initial'!D16*(1+Croissance!$H16)","v":0},{"$f":"+'Bilan initial'!E16*(1+Croissance!$H16)","v":1263.4072492928908},{"$f":"+'Bilan initial'!F16*(1+Croissance!$H16)","v":0},{"$f":"+'Bilan initial'!G16*(1+Croissance!$H16)","v":0},1401.3236187633588,{"$f":"+'Bilan initial'!I16*(1+Croissance!$H16)","v":3510.5984956119096},{"$f":"+'Bilan initial'!J16*(1+Croissance!$H16)","v":10778.470430962614},{"$f":"+'Bilan initial'!K16*(1+Croissance!$H16)","v":25244.818750006572},{"$f":"+'Bilan initial'!L16*(1+Croissance!$H16)","v":0},{"$f":"+'Bilan initial'!M16*(1+Croissance!$H16)","v":0},40935.211295344459]
["    Industrie - transport d'équipment",{"$f":"+'Bilan initial'!B17*(1+Croissance!$H17)","v":3172.0764978207608},{"$f":"+'Bilan initial'!C17*(1+Croissance!$H17)","v":0},{"$f":"+'Bilan initial'!D17*(1+Croissance!$H17)","v":0},{"$f":"+'Bilan initial'!E17*(1+Croissance!$H17)","v":884.38507450502334},{"$f":"+'Bilan initial'!F17*(1+Croissance!$H17)","v":0},{"$f":"+'Bilan initial'!G17*(1+Croissance!$H17)","v":0},4056.4615723257839,{"$f":"+'Bilan initial'!I17*(1+Croissance!$H17)","v":0},{"$f":"+'Bilan initial'!J17*(1+Croissance!$H17)","v":426.87011607772723},{"$f":"+'Bilan initial'!K17*(1+Croissance!$H17)","v":20241.34115991518},{"$f":"+'Bilan initial'!L17*(1+Croissance!$H17)","v":0},{"$f":"+'Bilan initial'!M17*(1+Croissance!$H17)","v":0},24724.672848318693]
["    Industrie - cuir et textile",{"$f":"+'Bilan initial'!B18*(1+Croissance!$H18)","v":1654.9964336456146},{"$f":"+'Bilan initial'!C18*(1+Croissance!$H18)","v":0},{"$f":"+'Bilan initial'!D18*(1+Croissance!$H18)","v":0},{"$f":"+'Bilan initial'!E18*(1+Croissance!$H18)","v":758.04434957573437},{"$f":"+'Bilan initial'!F18*(1+Croissance!$H18)","v":0},{"$f":"+'Bilan initial'!G18*(1+Croissance!$H18)","v":0},2413.0407832213491,{"$f":"+'Bilan initial'!I18*(1+Croissance!$H18)","v":28982.848045168092},{"$f":"+'Bilan initial'!J18*(1+Croissance!$H18)","v":57947.618257551483},{"$f":"+'Bilan initial'!K18*(1+Croissance!$H18)","v":136231.04893021565},{"$f":"+'Bilan initial'!L18*(1+Croissance!$H18)","v":0},{"$f":"+'Bilan initial'!M18*(1+Croissance!$H18)","v":0},225574.55601615657]
["    Industrie - divers",{"$f":"+'Bilan initial'!B19*(1+Croissance!$H19)","v":0},{"$f":"+'Bilan initial'!C19*(1+Croissance!$H19)","v":0},{"$f":"+'Bilan initial'!D19*(1+Croissance!$H19)","v":0},{"$f":"+'Bilan initial'!E19*(1+Croissance!$H19)","v":0},{"$f":"+'Bilan initial'!F19*(1+Croissance!$H19)","v":0},{"$f":"+'Bilan initial'!G19*(1+Croissance!$H19)","v":0},0,{"$f":"+'Bilan initial'!I19*(1+Croissance!$H19)","v":0},{"$f":"+'Bilan initial'!J19*(1+Croissance!$H19)","v":53.358764509715904},{"$f":"+'Bilan initial'!K19*(1+Croissance!$H19)","v":70617.26326015353},{"$f":"+'Bilan initial'!L19*(1+Croissance!$H19)","v":0},{"$f":"+'Bilan initial'!M19*(1+Croissance!$H19)","v":0},70670.622024663244]
["    Transport - route",{"$f":"+'Bilan initial'!B20*(1+Croissance!$H21)","v":423265.33790486591},{"$f":"+'Bilan initial'!C20*(1+Croissance!$H21)","v":264911.39531538426},{"$f":"+'Bilan initial'!D20*(1+Croissance!$H21)","v":0},{"$f":"+'Bilan initial'!E20*(1+Croissance!$H21)","v":2075525.429138361},{"$f":"+'Bilan initial'!F20*(1+Croissance!$H21)","v":0},{"$f":"+'Bilan initial'!G20*(1+Croissance!$H21)","v":0},2763702.1623586109,{"$f":"+'Bilan initial'!I20*(1+Croissance!$H21)","v":0},{"$f":"+'Bilan initial'!J20*(1+Croissance!$H21)","v":0},{"$f":"+'Bilan initial'!K20*(1+Croissance!$H21)","v":9779.5243806331764},{"$f":"+'Bilan initial'!L20*(1+Croissance!$H21)","v":0},{"$f":"+'Bilan initial'!M20*(1+Croissance!$H21)","v":0},2773481.686739244]
["    Transport - rail",{"$f":"+'Bilan initial'!B21*(1+Croissance!$H22)","v":0},{"$f":"+'Bilan initial'!C21*(1+Croissance!$H22)","v":0},{"$f":"+'Bilan initial'!D21*(1+Croissance!$H22)","v":0},{"$f":"+'Bilan initial'!E21*(1+Croissance!$H22)","v":17055.997865454025},{"$f":"+'Bilan initial'!F21*(1+Croissance!$H22)","v":0},{"$f":"+'Bilan initial'!G21*(1+Croissance!$H22)","v":0},17055.997865454025,{"$f":"+'Bilan initial'!I21*(1+Croissance!$H22)","v":0},{"$f":"+'Bilan initial'!J21*(1+Croissance!$H22)","v":0},{"$f":"+'Bilan initial'!K21*(1+Croissance!$H22)","v":0},{"$f":"+'Bilan initial'!L21*(1+Croissance!$H22)","v":0},{"$f":"+'Bilan initial'!M21*(1+Croissance!$H22)","v":0},17055.997865454025]
["    Transport - air domestique",{"$f":"+'Bilan initial'!B22*(1+Croissance!$H23)","v":0},{"$f":"+'Bilan initial'!C22*(1+Croissance!$H23)","v":0},{"$f":"+'Bilan initial'!D22*(1+Croissance!$H23)","v":171489.26673305893},{"$f":"+'Bilan initial'!E22*(1+Croissance!$H23)","v":0},{"$f":"+'Bilan initial'!F22*(1+Croissance!$H23)","v":0},{"$f":"+'Bilan initial'!G22*(1+Croissance!$H23)","v":0},171489.26673305893,{"$f":"+'Bilan initial'!I22*(1+Croissance!$H23)","v":0},{"$f":"+'Bilan initial'!J22*(1+Croissance!$H23)","v":0},{"$f":"+'Bilan initial'!K22*(1+Croissance!$H23)","v":0},{"$f":"+'Bilan initial'!L22*(1+Croissance!$H23)","v":0},{"$f":"+'Bilan initial'!M22*(1+Croissance!$H23)","v":0},171489.26673305893]
["    Transport - navigation",{"$f":"+'Bilan initial'!B23*(1+Croissance!$H24)","v":0},{"$f":"+'Bilan initial'!C23*(1+Croissance!$H24)","v":0},{"$f":"+'Bilan initial'!D23*(1+Croissance!$H24)","v":0},{"$f":"+'Bilan initial'!E23*(1+Croissance!$H24)","v":0},{"$f":"+'Bilan initial'!F23*(1+Croissance!$H24)","v":21444.88745645482},{"$f":"+'Bilan initial'!G23*(1+Croissance!$H24)","v":0},21444.88745645482,{"$f":"+'Bilan initial'!I23*(1+Croissance!$H24)","v":0},{"$f":"+'Bilan initial'!J23*(1+Croissance!$H24)","v":0},{"$f":"+'Bilan initial'!K23*(1+Croissance!$H24)","v":0},{"$f":"+'Bilan initial'!L23*(1+Croissance!$H24)","v":0},{"$f":"+'Bilan initial'!M23*(1+Croissance!$H24)","v":0},21444.88745645482]
["    Ménages",{"$f":"+'Bilan initial'!B24*(1+Croissance!$H26)","v":33789.51052026463},{"$f":"+'Bilan initial'!C24*(1+Croissance!$H26)","v":0},{"$f":"+'Bilan initial'!D24*(1+Croissance!$H26)","v":0},{"$f":"+'Bilan initial'!E24*(1+Croissance!$H26)","v":0},{"$f":"+'Bilan initial'!F24*(1+Croissance!$H26)","v":0},{"$f":"+'Bilan initial'!G24*(1+Croissance!$H27)","v":7567.905643987302},41357.416164251932,{"$f":"+'Bilan initial'!I24*(1+Croissance!$H26)","v":123769.00742668966},{"$f":"+'Bilan initial'!J24*(1+Croissance!$H26)","v":124112.4862495992},{"$f":"+'Bilan initial'!K24*(1+Croissance!$H26)","v":1250869.3975228483},{"$f":"+'Bilan initial'!L24*(1+Croissance!$H26)","v":0},{"$f":"+'Bilan initial'!M24*(1+Croissance!$H26)","v":0},1540108.3073633891]
["    Services",{"$f":"+'Bilan initial'!B25*(1+Croissance!$H29)","v":78750.246967637155},{"$f":"+'Bilan initial'!C25*(1+Croissance!$H29)","v":0},{"$f":"+'Bilan initial'!D25*(1+Croissance!$H29)","v":0},{"$f":"+'Bilan initial'!E25*(1+Croissance!$H29)","v":0},{"$f":"+'Bilan initial'!F25*(1+Croissance!$H29)","v":0},{"$f":"+'Bilan initial'!G25*(1+Croissance!$H29)","v":0},78750.246967637155,{"$f":"+'Bilan initial'!I25*(1+Croissance!$H29)","v":426415.25447862799},{"$f":"+'Bilan initial'!J25*(1+Croissance!$H29)","v":43220.599252869884},{"$f":"+'Bilan initial'!K25*(1+Croissance!$H29)","v":359454.37868815666},{"$f":"+'Bilan initial'!L25*(1+Croissance!$H29)","v":3918.8076230086435},{"$f":"+'Bilan initial'!M25*(1+Croissance!$H29)","v":0},911759.28701030032]
["    Agriculture & Pêches",{"$f":"+'Bilan initial'!B26*(1+Croissance!$H31)","v":0},{"$f":"+'Bilan initial'!C26*(1+Croissance!$H31)","v":0},{"$f":"+'Bilan initial'!D26*(1+Croissance!$H31)","v":0},{"$f":"+'Bilan initial'!E26*(1+Croissance!$H31)","v":343267.7496328784},{"$f":"+'Bilan initial'!F26*(1+Croissance!$H31)","v":0},{"$f":"+'Bilan initial'!G26*(1+Croissance!$H31)","v":0},343267.7496328784,{"$f":"+'Bilan initial'!I26*(1+Croissance!$H31)","v":0},{"$f":"+'Bilan initial'!J26*(1+Croissance!$H31)","v":0},{"$f":"+'Bilan initial'!K26*(1+Croissance!$H31)","v":15124.148170048984},{"$f":"+'Bilan initial'!L26*(1+Croissance!$H31)","v":0},{"$f":"+'Bilan initial'!M26*(1+Croissance!$H31)","v":0},358391.89780292741]
["    Utilisations non énergétiques",{"$f":"+'Bilan initial'!B27*(1+Croissance!$H33)","v":0},{"$f":"+'Bilan initial'!C27*(1+Croissance!$H33)","v":0},{"$f":"+'Bilan initial'!D27*(1+Croissance!$H33)","v":0},{"$f":"+'Bilan initial'!E27*(1+Croissance!$H33)","v":0},{"$f":"+'Bilan initial'!F27*(1+Croissance!$H33)","v":0},{"$f":"+'Bilan initial'!G27*(1+Croissance!$H33)","v":0},0,{"$f":"+'Bilan initial'!I27*(1+Croissance!$H33)","v":0},{"$f":"+'Bilan initial'!J27*(1+Croissance!$H33)","v":0},{"$f":"+'Bilan initial'!K27*(1+Croissance!$H33)","v":0},{"$f":"+'Bilan initial'!L27*(1+Croissance!$H33)","v":0},{"$f":"+'Bilan initial'!M27*(1+Croissance!$H33)","v":0},0]
[]
[]
["Bilan combustibles fossiles",{"$f":"+Hypothèses!$B$2","v":"Pays X"},null,2035]
[{"$f":"+'Bilan initial'!A31","v":"1 ktoe=41.868 TJ"}]
[{"$f":"+'Bilan initial'!A32","v":"ktoe per TJ"},null,{"$f":"+'Bilan initial'!C32","v":2.3884589662749593E-2},{"$f":"+'Bilan initial'!D32","v":2.3884589662749593E-2},{"$f":"+'Bilan initial'!E32","v":2.3884589662749593E-2},{"$f":"+'Bilan initial'!F32","v":2.3884589662749593E-2},{"$f":"+'Bilan initial'!G32","v":2.3884589662749593E-2},{"$f":"+'Bilan initial'!H32","v":2.3884589662749593E-2},null,{"$f":"+'Bilan initial'!J32","v":2.3884589662749593E-2},{"$f":"+'Bilan initial'!K32","v":2.3884589662749593E-2},{"$f":"+'Bilan initial'!L32","v":2.3884589662749593E-2},2.3884589662749593E-2,2.3884589662749593E-2]
["Unité : ktoe","Total","GPL","Essence","Essence pour carburéacteurs","Diesel","Fiouls lourds","Kérosène et autres","Total produits pétroliers","Charbon","Lignite","Gaz","Coke","Coke de pétrole","Consommation d'électricité Gwh",null,"Production d'électricité Gwh","Part de la production","Efficacité"]
["Total",{"$f":"+B35+B36","v":352163.2159509043},{"$f":"+C35+C36","v":13159.833190850268},6327.2999740943978,4095.9507674849274,60747.232577422321,1309.8945018484915,180.75632091304342,85820.967332613451,55112.32715971092,71886.750523909301,120885.76032237014,9623.158706902077,8834.2519053983378,null,"Total",{"$f":"IF(R35=1,0,O36/(1-R35))","v":763307.33153967082}]
["    Centrales fossiles",{"$f":"SUM(I35:N35)","v":148708.15000158863},{"$f":"IF(Q36=0,0,$J35*IF('Bilan initial'!$J35>0,'Bilan initial'!C35/'Bilan initial'!$J35,0))","v":0},{"$f":"IF(Q36=0,0,$J35*IF('Bilan initial'!$J35>0,'Bilan initial'!D35/'Bilan initial'!$J35,0))","v":0},{"$f":"IF(Q36=0,0,$J35*IF('Bilan initial'!$J35>0,'Bilan initial'!E35/'Bilan initial'!$J35,0))","v":0},{"$f":"IF(Q36=0,0,$J35*IF('Bilan initial'!$J35>0,'Bilan initial'!F35/'Bilan initial'!$J35,0))","v":718.18793668603212},{"$f":"IF(Q36=0,0,$J35*IF('Bilan initial'!$J35>0,'Bilan initial'!G35/'Bilan initial'!$J35,0))","v":635.35481179403325},{"$f":"IF(Q36=0,0,$J35*IF('Bilan initial'!$J35>0,'Bilan initial'!H35/'Bilan initial'!$J35,0))","v":0},{"$f":"IF(Q36=0,0,Q39/11.63/S39)","v":1353.5427484800655},{"$f":"IF(S38>0,Q38/11.63/S38,0)","v":31338.152700835515},{"$f":"IF(S37>0,Q37/11.63/S37,0)","v":62762.947258287437},{"$f":"IF(S40>0,Q40/11.63/S40,0)","v":53253.507293985604},{"$f":"IF(T40>0,R40/11.63/T40,0)","v":0},{"$f":"IF(U40>0,S40/11.63/U40,0)","v":0},null,"Pertes",{"$f":"Q34*R35","v":130431.56354170061},{"$f":"+'Bilan 2025'!R35","v":0.17087686460263193}]
["CONSOMMATION FINALE",{"$f":"SUM(B37:B56)","v":203455.06594931564},{"$f":"SUM(C37:C56)","v":13159.833190850268},6327.2999740943978,4095.9507674849274,60029.044640736291,674.53969005445822,180.75632091304342,{"$f":"SUM(C36:H36)","v":84467.42458413339},{"$f":"SUM(J37:J56)","v":23774.174458875405},9123.8032656218638,67632.253028384541,9623.158706902077,8834.2519053983378,632875.76799797022,"Fossile",{"$f":"SUM(Q37:Q49)","v":517868.67791290337},{"$f":"SUM(R37:R50)","v":0.67845369291594249}]
["    Industrie - acier",{"$f":"SUM(I37:N37)","v":742.27508317580089},{"$f":"+'Bilan initial'!C37*(1+Croissance!$H8)","v":0},{"$f":"+'Bilan initial'!D37*(1+Croissance!$H8)","v":0},{"$f":"+'Bilan initial'!E37*(1+Croissance!$H8)","v":0},{"$f":"+'Bilan initial'!F37*(1+Croissance!$H8)","v":51.299138334716595},{"$f":"+'Bilan initial'!G37*(1+Croissance!$H8)","v":0},{"$f":"+'Bilan initial'!H37*(1+Croissance!$H8)","v":0},{"$f":"SUM(C37:H37)","v":51.299138334716595},{"$f":"+'Bilan initial'!J37*(1+Croissance!$H8)","v":33.149685515164201},{"$f":"+'Bilan initial'!K37*(1+Croissance!$H8)","v":33.135757075872114},{"$f":"+'Bilan initial'!L37*(1+Croissance!$H8)","v":624.69050225004798},{"$f":"+'Bilan initial'!M37*(1+Croissance!$H8)","v":0},{"$f":"+'Bilan initial'!N37*(1+Croissance!$H8)","v":0},{"$f":"+'Bilan initial'!O37*(1+Croissance!H$20)","v":4469.8899449942337},"Lignite",{"$f":"Q$34*R37","v":94514.991889750861},{"$f":"+'Bilan 2025'!R37","v":0.12382298451018967},{"$f":"+'Bilan 2025'!S37","v":0.12948446223070259}]
["    Industrie - chimique",{"$f":"SUM(I38:N38)","v":8267.1617674187455},{"$f":"+'Bilan initial'!C38*(1+Croissance!$H9)","v":29.646683033204614},{"$f":"+'Bilan initial'!D38*(1+Croissance!$H9)","v":0},{"$f":"+'Bilan initial'!E38*(1+Croissance!$H9)","v":0},{"$f":"+'Bilan initial'!F38*(1+Croissance!$H9)","v":12.07038549052155},{"$f":"+'Bilan initial'!G38*(1+Croissance!$H9)","v":8.3967596272339229},{"$f":"+'Bilan initial'!H38*(1+Croissance!$H9)","v":0},{"$f":"SUM(C38:H38)","v":50.113828150960089},{"$f":"+'Bilan initial'!J38*(1+Croissance!$H9)","v":768.29271135145245},{"$f":"+'Bilan initial'!K38*(1+Croissance!$H9)","v":414.19696344840139},{"$f":"+'Bilan initial'!L38*(1+Croissance!$H9)","v":7034.5582644679316},{"$f":"+'Bilan initial'!M38*(1+Croissance!$H9)","v":0},{"$f":"+'Bilan initial'!N38*(1+Croissance!$H9)","v":0},{"$f":"+'Bilan initial'!O38*(1+Croissance!H$20)","v":44188.638040696424},"Charbon",127568.26809096067,{"$f":"+'Bilan 2025'!R38","v":0.1671256947495082},{"$f":"+'Bilan 2025'!S38","v":0.35001733379556782}]
["    Industrie - minerai non metallique",22309.323284214603,{"$f":"+'Bilan initial'!C39*(1+Croissance!$H10)","v":9.882227677734873},{"$f":"+'Bilan initial'!D39*(1+Croissance!$H10)","v":0},{"$f":"+'Bilan initial'!E39*(1+Croissance!$H10)","v":0},{"$f":"+'Bilan initial'!F39*(1+Croissance!$H10)","v":72.422312943129299},{"$f":"+'Bilan initial'!G39*(1+Croissance!$H10)","v":50.380557763403523},{"$f":"+'Bilan initial'!H39*(1+Croissance!$H10)","v":0},132.68509838426769,{"$f":"+'Bilan initial'!J39*(1+Croissance!$H10)","v":6448.5888234498825},{"$f":"+'Bilan initial'!K39*(1+Croissance!$H10)","v":1791.8797864875455},{"$f":"+'Bilan initial'!L39*(1+Croissance!$H10)","v":5117.0300271264796},{"$f":"+'Bilan initial'!M39*(1+Croissance!$H10)","v":0},{"$f":"+'Bilan initial'!N39*(1+Croissance!$H10)","v":8819.1395487664249},{"$f":"+'Bilan initial'!O39*(1+Croissance!H$20)","v":54067.298923697381},"Pétrole",6484.6935666452546,{"$f":"+'Bilan 2025'!R39","v":8.4955211337547996E-3},{"$f":"+'Bilan 2025'!S39","v":0.41194360678072844}]
["    Industrie - transformation des aliments et boissons",4412.9550815531529,{"$f":"+'Bilan initial'!C40*(1+Croissance!$H11)","v":65.881517851565818},{"$f":"+'Bilan initial'!D40*(1+Croissance!$H11)","v":0},{"$f":"+'Bilan initial'!E40*(1+Croissance!$H11)","v":0},{"$f":"+'Bilan initial'!F40*(1+Croissance!$H11)","v":18.105578235782325},{"$f":"+'Bilan initial'!G40*(1+Croissance!$H11)","v":103.56003540255168},{"$f":"+'Bilan initial'!H40*(1+Croissance!$H11)","v":0},187.54713148989981,{"$f":"+'Bilan initial'!J40*(1+Croissance!$H11)","v":444.59578220337858},{"$f":"+'Bilan initial'!K40*(1+Croissance!$H11)","v":1002.9938776427443},{"$f":"+'Bilan initial'!L40*(1+Croissance!$H11)","v":2667.156840041509},{"$f":"+'Bilan initial'!M40*(1+Croissance!$H11)","v":95.549093543708551},{"$f":"+'Bilan initial'!N40*(1+Croissance!$H11)","v":15.112356631913087},{"$f":"+'Bilan initial'!O40*(1+Croissance!H$20)","v":20702.03431797721},"Gaz naturel",289300.72436554654,{"$f":"+'Bilan 2025'!R40","v":0.37900949252248983},{"$f":"+'Bilan 2025'!S40","v":0.46711260891910655}]
["    Industrie - construction",1427.1364431676595,{"$f":"+'Bilan initial'!C41*(1+Croissance!$H12)","v":0},{"$f":"+'Bilan initial'!D41*(1+Croissance!$H12)","v":0},{"$f":"+'Bilan initial'!E41*(1+Croissance!$H12)","v":0},{"$f":"+'Bilan initial'!F41*(1+Croissance!$H12)","v":443.5866667766669},{"$f":"+'Bilan initial'!G41*(1+Croissance!$H12)","v":0},{"$f":"+'Bilan initial'!H41*(1+Croissance!$H12)","v":0},443.5866667766669,{"$f":"+'Bilan initial'!J41*(1+Croissance!$H12)","v":1.9499815008920114},{"$f":"+'Bilan initial'!K41*(1+Croissance!$H12)","v":3.8233565856775518},{"$f":"+'Bilan initial'!L41*(1+Croissance!$H12)","v":977.77643830442298},{"$f":"+'Bilan initial'!M41*(1+Croissance!$H12)","v":0},{"$f":"+'Bilan initial'!N41*(1+Croissance!$H12)","v":0},{"$f":"+'Bilan initial'!O41*(1+Croissance!H$20)","v":8356.6239937074206},"Nucléaire",0,{"$f":"+'Bilan 2025'!R41","v":0}]
["    Industrie - exploitation minière",1644.5503270315789,{"$f":"+'Bilan initial'!C42*(1+Croissance!$H13)","v":0},{"$f":"+'Bilan initial'!D42*(1+Croissance!$H13)","v":0},{"$f":"+'Bilan initial'!E42*(1+Croissance!$H13)","v":0},{"$f":"+'Bilan initial'!F42*(1+Croissance!$H13)","v":1134.6162361090257},{"$f":"+'Bilan initial'!G42*(1+Croissance!$H13)","v":0},{"$f":"+'Bilan initial'!H42*(1+Croissance!$H13)","v":0},1134.6162361090257,{"$f":"+'Bilan initial'!J42*(1+Croissance!$H13)","v":37.049648516948217},{"$f":"+'Bilan initial'!K42*(1+Croissance!$H13)","v":119.79850635122996},{"$f":"+'Bilan initial'!L42*(1+Croissance!$H13)","v":353.08593605437494},{"$f":"+'Bilan initial'!M42*(1+Croissance!$H13)","v":0},{"$f":"+'Bilan initial'!N42*(1+Croissance!$H13)","v":0},{"$f":"+'Bilan initial'!O42*(1+Croissance!H$20)","v":6429.2937564985559},"Importation net",0,{"$f":"+'Bilan 2025'!R42","v":0}]
["    Industrie - machinerie",240.44595107731251,{"$f":"+'Bilan initial'!C43*(1+Croissance!$H14)","v":16.470379462891454},{"$f":"+'Bilan initial'!D43*(1+Croissance!$H14)","v":0},{"$f":"+'Bilan initial'!E43*(1+Croissance!$H14)","v":0},{"$f":"+'Bilan initial'!F43*(1+Croissance!$H14)","v":9.0527891178911624},{"$f":"+'Bilan initial'!G43*(1+Croissance!$H14)","v":0},{"$f":"+'Bilan initial'!H43*(1+Croissance!$H14)","v":0},25.523168580782617,{"$f":"+'Bilan initial'!J43*(1+Croissance!$H14)","v":5.8499445026760339},{"$f":"+'Bilan initial'!K43*(1+Croissance!$H14)","v":21.665687318839456},{"$f":"+'Bilan initial'!L43*(1+Croissance!$H14)","v":187.40715067501441},{"$f":"+'Bilan initial'!M43*(1+Croissance!$H14)","v":0},{"$f":"+'Bilan initial'!N43*(1+Croissance!$H14)","v":0},{"$f":"+'Bilan initial'!O43*(1+Croissance!H$20)","v":6280.5890029468883}]
["    Industrie - métaux non-ferreux",17386.368648074218,{"$f":"+'Bilan initial'!C44*(1+Croissance!$H15)","v":121.88080802539675},{"$f":"+'Bilan initial'!D44*(1+Croissance!$H15)","v":0},{"$f":"+'Bilan initial'!E44*(1+Croissance!$H15)","v":0},{"$f":"+'Bilan initial'!F44*(1+Croissance!$H15)","v":39.228752844195036},{"$f":"+'Bilan initial'!G44*(1+Croissance!$H15)","v":0},{"$f":"+'Bilan initial'!H44*(1+Croissance!$H15)","v":0},161.10956086959177,{"$f":"+'Bilan initial'!J44*(1+Croissance!$H15)","v":2117.6799099687241},{"$f":"+'Bilan initial'!K44*(1+Croissance!$H15)","v":86.662749275357825},{"$f":"+'Bilan initial'!L44*(1+Croissance!$H15)","v":5586.905926644994},{"$f":"+'Bilan initial'!M44*(1+Croissance!$H15)","v":9434.0105013155517},{"$f":"+'Bilan initial'!N44*(1+Croissance!$H15)","v":0},{"$f":"+'Bilan initial'!O44*(1+Croissance!H$20)","v":73661.337038740588}]
["    Industrie - pâtes et papiers",977.72072454725458,{"$f":"+'Bilan initial'!C45*(1+Croissance!$H16)","v":3.2940758925782907},{"$f":"+'Bilan initial'!D45*(1+Croissance!$H16)","v":0},{"$f":"+'Bilan initial'!E45*(1+Croissance!$H16)","v":0},{"$f":"+'Bilan initial'!F45*(1+Croissance!$H16)","v":30.175963726303877},{"$f":"+'Bilan initial'!G45*(1+Croissance!$H16)","v":0},{"$f":"+'Bilan initial'!H45*(1+Croissance!$H16)","v":0},33.470039618882168,{"$f":"+'Bilan initial'!J45*(1+Croissance!$H16)","v":83.849204538356489},{"$f":"+'Bilan initial'!K45*(1+Croissance!$H16)","v":257.43934343562182},{"$f":"+'Bilan initial'!L45*(1+Croissance!$H16)","v":602.96213695439405},{"$f":"+'Bilan initial'!M45*(1+Croissance!$H16)","v":0},{"$f":"+'Bilan initial'!N45*(1+Croissance!$H16)","v":0},{"$f":"+'Bilan initial'!O45*(1+Croissance!H$20)","v":11715.601956286257}]
["    Industrie - transport d'équipment",590.53866552781824,{"$f":"+'Bilan initial'!C46*(1+Croissance!$H17)","v":75.763745529300678},{"$f":"+'Bilan initial'!D46*(1+Croissance!$H17)","v":0},{"$f":"+'Bilan initial'!E46*(1+Croissance!$H17)","v":0},{"$f":"+'Bilan initial'!F46*(1+Croissance!$H17)","v":21.123174608412711},{"$f":"+'Bilan initial'!G46*(1+Croissance!$H17)","v":0},{"$f":"+'Bilan initial'!H46*(1+Croissance!$H17)","v":0},96.886920137713389,{"$f":"+'Bilan initial'!J46*(1+Croissance!$H17)","v":0},{"$f":"+'Bilan initial'!K46*(1+Croissance!$H17)","v":10.195617561806802},{"$f":"+'Bilan initial'!L46*(1+Croissance!$H17)","v":483.45612782829801},{"$f":"+'Bilan initial'!M46*(1+Croissance!$H17)","v":0},{"$f":"+'Bilan initial'!N46*(1+Croissance!$H17)","v":0},{"$f":"+'Bilan initial'!O46*(1+Croissance!H$20)","v":7744.310302612319}]
["    Industrie - cuir et textile",5387.7557088028225,{"$f":"+'Bilan initial'!C47*(1+Croissance!$H18)","v":39.528910710939492},{"$f":"+'Bilan initial'!D47*(1+Croissance!$H18)","v":0},{"$f":"+'Bilan initial'!E47*(1+Croissance!$H18)","v":0},{"$f":"+'Bilan initial'!F47*(1+Croissance!$H18)","v":18.105578235782325},{"$f":"+'Bilan initial'!G47*(1+Croissance!$H18)","v":0},{"$f":"+'Bilan initial'!H47*(1+Croissance!$H18)","v":0},57.634488946721817,{"$f":"+'Bilan initial'!J47*(1+Croissance!$H18)","v":692.24343281666404},{"$f":"+'Bilan initial'!K47*(1+Croissance!$H18)","v":1384.0550840152737},{"$f":"+'Bilan initial'!L47*(1+Croissance!$H18)","v":3253.8227030241628},{"$f":"+'Bilan initial'!M47*(1+Croissance!$H18)","v":0},{"$f":"+'Bilan initial'!N47*(1+Croissance!$H18)","v":0},{"$f":"+'Bilan initial'!O47*(1+Croissance!H$20)","v":50650.005371490435}]
["    Industrie - divers",1687.9388082703556,{"$f":"+'Bilan initial'!C48*(1+Croissance!$H19)","v":0},{"$f":"+'Bilan initial'!D48*(1+Croissance!$H19)","v":0},{"$f":"+'Bilan initial'!E48*(1+Croissance!$H19)","v":0},{"$f":"+'Bilan initial'!F48*(1+Croissance!$H19)","v":0},{"$f":"+'Bilan initial'!G48*(1+Croissance!$H19)","v":0},{"$f":"+'Bilan initial'!H48*(1+Croissance!$H19)","v":0},0,{"$f":"+'Bilan initial'!J48*(1+Croissance!$H19)","v":0},{"$f":"+'Bilan initial'!K48*(1+Croissance!$H19)","v":1.2744521952258503},{"$f":"+'Bilan initial'!L48*(1+Croissance!$H19)","v":1686.6643560751297},{"$f":"+'Bilan initial'!M48*(1+Croissance!$H19)","v":0},{"$f":"+'Bilan initial'!N48*(1+Croissance!$H19)","v":0},{"$f":"+'Bilan initial'!O48*(1+Croissance!H$20)","v":13613.774398681069}]
["    Transport - route",66243.472024917442,{"$f":"+'Bilan initial'!C49*(1+Croissance!$H21)","v":10109.518914322773},{"$f":"+'Bilan initial'!D49*(1+Croissance!$H21)","v":6327.2999740943978},{"$f":"+'Bilan initial'!E49*(1+Croissance!$H21)","v":0},{"$f":"+'Bilan initial'!F49*(1+Croissance!$H21)","v":49573.073209572001},{"$f":"+'Bilan initial'!G49*(1+Croissance!$H21)","v":0},{"$f":"+'Bilan initial'!H49*(1+Croissance!$H21)","v":0},66009.89209798917,{"$f":"+'Bilan initial'!J49*(1+Croissance!$H21)","v":0},{"$f":"+'Bilan initial'!K49*(1+Croissance!$H21)","v":0},{"$f":"+'Bilan initial'!L49*(1+Croissance!$H21)","v":233.57992692827881},{"$f":"+'Bilan initial'!M49*(1+Croissance!$H21)","v":0},{"$f":"+'Bilan initial'!N49*(1+Croissance!$H21)","v":0},{"$f":"+'Bilan initial'!O49*(1+Croissance!H$25)","v":0}]
["    Transport - rail",407.3755103051023,{"$f":"+'Bilan initial'!C50*(1+Croissance!$H22)","v":0},{"$f":"+'Bilan initial'!D50*(1+Croissance!$H22)","v":0},{"$f":"+'Bilan initial'!E50*(1+Croissance!$H22)","v":0},{"$f":"+'Bilan initial'!F50*(1+Croissance!$H22)","v":407.3755103051023},{"$f":"+'Bilan initial'!G50*(1+Croissance!$H22)","v":0},{"$f":"+'Bilan initial'!H50*(1+Croissance!$H22)","v":0},407.3755103051023,{"$f":"+'Bilan initial'!J50*(1+Croissance!$H22)","v":0},{"$f":"+'Bilan initial'!K50*(1+Croissance!$H22)","v":0},{"$f":"+'Bilan initial'!L50*(1+Croissance!$H22)","v":0},{"$f":"+'Bilan initial'!M50*(1+Croissance!$H22)","v":0},{"$f":"+'Bilan initial'!N50*(1+Croissance!$H22)","v":0},{"$f":"+'Bilan initial'!O50*(1+Croissance!H$25)","v":2341.3709235684082}]
["    Transport - air domestique",4095.9507674849274,{"$f":"+'Bilan initial'!C51*(1+Croissance!$H23)","v":0},{"$f":"+'Bilan initial'!D51*(1+Croissance!$H23)","v":0},{"$f":"+'Bilan initial'!E51*(1+Croissance!$H23)","v":4095.9507674849274},{"$f":"+'Bilan initial'!F51*(1+Croissance!$H23)","v":0},{"$f":"+'Bilan initial'!G51*(1+Croissance!$H23)","v":0},{"$f":"+'Bilan initial'!H51*(1+Croissance!$H23)","v":0},4095.9507674849274,{"$f":"+'Bilan initial'!J51*(1+Croissance!$H23)","v":0},{"$f":"+'Bilan initial'!K51*(1+Croissance!$H23)","v":0},{"$f":"+'Bilan initial'!L51*(1+Croissance!$H23)","v":0},{"$f":"+'Bilan initial'!M51*(1+Croissance!$H23)","v":0},{"$f":"+'Bilan initial'!N51*(1+Croissance!$H23)","v":0},{"$f":"+'Bilan initial'!O51*(1+Croissance!H$25)","v":0},"Renouvelable",{"$f":"SUM(Q52:Q56)","v":245438.65362676751},{"$f":"SUM(R52:R56)","v":0.32154630708405757}]
["    Transport - navigation",512.20233726126912,{"$f":"+'Bilan initial'!C52*(1+Croissance!$H24)","v":0},{"$f":"+'Bilan initial'!D52*(1+Croissance!$H24)","v":0},{"$f":"+'Bilan initial'!E52*(1+Croissance!$H24)","v":0},{"$f":"+'Bilan initial'!F52*(1+Croissance!$H24)","v":0},{"$f":"+'Bilan initial'!G52*(1+Croissance!$H24)","v":512.20233726126912},{"$f":"+'Bilan initial'!H52*(1+Croissance!$H24)","v":0},512.20233726126912,{"$f":"+'Bilan initial'!J52*(1+Croissance!$H24)","v":0},{"$f":"+'Bilan initial'!K52*(1+Croissance!$H24)","v":0},{"$f":"+'Bilan initial'!L52*(1+Croissance!$H24)","v":0},{"$f":"+'Bilan initial'!M52*(1+Croissance!$H24)","v":0},{"$f":"+'Bilan initial'!N52*(1+Croissance!$H24)","v":0},{"$f":"+'Bilan initial'!O52*(1+Croissance!H$25)","v":0},"Hydro",{"$f":"Q$34*R52","v":195782.92905843625},{"$f":"+'Bilan 2025'!R52","v":0.256492923582329}]
["    Ménages",36784.854957566371,{"$f":"+'Bilan initial'!C53*(1+Croissance!$H26)","v":807.04859368168115},{"$f":"+'Bilan initial'!D53*(1+Croissance!$H26)","v":0},{"$f":"+'Bilan initial'!E53*(1+Croissance!$H26)","v":0},{"$f":"+'Bilan initial'!F53*(1+Croissance!$H26)","v":0},{"$f":"+'Bilan initial'!G53*(1+Croissance!$H26)","v":0},{"$f":"+'Bilan initial'!H53*(1+Croissance!$H27)","v":180.75632091304342},987.80491459472455,{"$f":"+'Bilan initial'!J53*(1+Croissance!$H26)","v":2956.1719553522894},{"$f":"+'Bilan initial'!K53*(1+Croissance!$H26)","v":2964.3758060953278},{"$f":"+'Bilan initial'!L53*(1+Croissance!$H26)","v":29876.50228152403},{"$f":"+'Bilan initial'!M53*(1+Croissance!$H26)","v":0},{"$f":"+'Bilan initial'!N53*(1+Croissance!$H26)","v":0},{"$f":"+'Bilan initial'!O53*(1+Croissance!H28)","v":139668.75293879243},"Éolien",{"$f":"Q$34*R53","v":33977.578296815271},{"$f":"+'Bilan 2025'!R53","v":4.4513627595163974E-2}]
["    Services",21776.996441442156,{"$f":"+'Bilan initial'!C54*(1+Croissance!$H29)","v":1880.9173346622035},{"$f":"+'Bilan initial'!D54*(1+Croissance!$H29)","v":0},{"$f":"+'Bilan initial'!E54*(1+Croissance!$H29)","v":0},{"$f":"+'Bilan initial'!F54*(1+Croissance!$H29)","v":0},{"$f":"+'Bilan initial'!G54*(1+Croissance!$H29)","v":0},{"$f":"+'Bilan initial'!H54*(1+Croissance!$H29)","v":0},1880.9173346622035,{"$f":"+'Bilan initial'!J54*(1+Croissance!$H29)","v":10184.753379158976},{"$f":"+'Bilan initial'!K54*(1+Croissance!$H29)","v":1032.306278132939},{"$f":"+'Bilan initial'!L54*(1+Croissance!$H29)","v":8585.4203374452245},{"$f":"+'Bilan initial'!M54*(1+Croissance!$H29)","v":93.599112042816543},{"$f":"+'Bilan initial'!N54*(1+Croissance!$H29)","v":0},{"$f":"+'Bilan initial'!O54*(1+Croissance!H30)","v":174754.32743854169},"Solaire",{"$f":"Q$34*R54","v":565.66121939261666},{"$f":"+'Bilan 2025'!R54","v":7.4106614206314344E-4}]
["    Agriculture & Pêches",8560.0434174770089,{"$f":"+'Bilan initial'!C55*(1+Croissance!$H31)","v":0},{"$f":"+'Bilan initial'!D55*(1+Croissance!$H31)","v":0},{"$f":"+'Bilan initial'!E55*(1+Croissance!$H31)","v":0},{"$f":"+'Bilan initial'!F55*(1+Croissance!$H31)","v":8198.8093444367641},{"$f":"+'Bilan initial'!G55*(1+Croissance!$H31)","v":0},{"$f":"+'Bilan initial'!H55*(1+Croissance!$H31)","v":0},8198.8093444367641,{"$f":"+'Bilan initial'!J55*(1+Croissance!$H31)","v":0},{"$f":"+'Bilan initial'!K55*(1+Croissance!$H31)","v":0},{"$f":"+'Bilan initial'!L55*(1+Croissance!$H31)","v":361.23407304024511},{"$f":"+'Bilan initial'!M55*(1+Croissance!$H31)","v":0},{"$f":"+'Bilan initial'!N55*(1+Croissance!$H31)","v":0},{"$f":"+'Bilan initial'!O55*(1+Croissance!H32)","v":14231.91964873898},"Biomasse",{"$f":"Q$34*R55","v":5125.940328310412},{"$f":"+'Bilan 2025'!R55","v":6.7154344213763203E-3}]
["    Utilisations non énergétiques",0,{"$f":"+'Bilan initial'!C56*(1+Croissance!$H33)","v":0},{"$f":"+'Bilan initial'!D56*(1+Croissance!$H33)","v":0},{"$f":"+'Bilan initial'!E56*(1+Croissance!$H33)","v":0},{"$f":"+'Bilan initial'!F56*(1+Croissance!$H33)","v":0},{"$f":"+'Bilan initial'!G56*(1+Croissance!$H33)","v":0},{"$f":"+'Bilan initial'!H56*(1+Croissance!$H33)","v":0},0,{"$f":"+'Bilan initial'!J56*(1+Croissance!$H33)","v":0},{"$f":"+'Bilan initial'!K56*(1+Croissance!$H33)","v":0},{"$f":"+'Bilan initial'!L56*(1+Croissance!$H33)","v":0},{"$f":"+'Bilan initial'!M56*(1+Croissance!$H33)","v":0},{"$f":"+'Bilan initial'!N56*(1+Croissance!$H33)","v":0},{"$f":"+'Bilan initial'!O56*(1+Croissance!H33)","v":0},"Géothermie",{"$f":"Q$34*R56","v":9986.5447238129491},{"$f":"+'Bilan 2025'!R56","v":1.3083255343125084E-2}]
[null,null,null,null,null,null,null,null,null,null,null,null,null,null,null,null,null,{"$f":"+R36+R51","v":1}]
[]
["Bilan GES",{"$f":"+Hypothèses!$B$2","v":"Pays X"},null,2035]
["Ton CO2/Toe (IPCC):",null,{"$f":"+'Bilan initial'!C60","v":2.6140704480000001},{"$f":"+'Bilan initial'!D60","v":2.8724378760000002},{"$f":"+'Bilan initial'!E60","v":2.9636263800000004},{"$f":"+'Bilan initial'!F60","v":3.0700129680000003},{"$f":"+'Bilan initial'!G60","v":3.2067957240000005},{"$f":"+'Bilan initial'!H60","v":2.9788244640000006},null,{"$f":"+'Bilan initial'!J60","v":3.9211056720000004},{"$f":"+'Bilan initial'!K60","v":4.1946711840000006},{"$f":"+'Bilan initial'!L60","v":2.3253068520000002},{"$f":"+'Bilan initial'!M60","v":4.4848164240000008},{"$f":"+'Bilan initial'!N60","v":4.1573667960000007}]
["Unité : ktCO2-e","Total","GPL","Essence","Essence pour carburéacteurs","Diesel","Fiouls lourds","Kérosène et autres","Total produits pétroliers","Charbon","Lignite","Gaz","Coke","Coke de pétrole"]
["Total",{"$f":"+B63+B64","v":1134572.5242123036},{"$f":"+C63+C64","v":34400.731044811233},18174.77609840257,12138.867745699579,186494.79178279862,4200.5640874188539,538.4413507584087,255948.17210988924,216101.25862306214,301541.28093403927,281096.48678683699,{"$f":"+M63+M64","v":43158.100219473054},{"$f":"+N63+N64","v":36727.225539002786}]
["    Centrales fossiles",{"$f":"SUM(I63:N63)","v":514223.17936900631},{"$f":"C60*C35","v":0},0,0,2204.8462790872818,2037.453093683931,0,{"$f":"SUM(C63:H63)","v":4242.2993727712128},{"$f":"J60*J35","v":122880.20830524826},{"$f":"K60*K35","v":263269.92628725013},{"$f":"L60*L35","v":123830.74540373671},{"$f":"M60*M35","v":0},{"$f":"N60*N35","v":0}]
["CONSOMMATION FINALE",{"$f":"SUM(B65:B84)","v":620349.34484329727},{"$f":"SUM(C65:C84)","v":34400.731044811233},18174.77609840257,12138.867745699579,184289.94550371135,2163.1109937349229,538.4413507584087,{"$f":"SUM(C64:H64)","v":251705.87273711804},{"$f":"SUM(J65:J84)","v":93221.050317813875},{"$f":"SUM(K65:K84)","v":38271.354646789136},{"$f":"SUM(L65:L84)","v":157265.74138310031},{"$f":"SUM(M65:M84)","v":43158.100219473054},{"$f":"SUM(N65:N84)","v":36727.225539002786}]
["    Industrie - acier",{"$f":"SUM(I65:N65)","v":1879.0631504608755},{"$f":"+'Bilan initial'!C65*(1+Croissance!$H8)","v":0},{"$f":"+'Bilan initial'!D65*(1+Croissance!$H8)","v":0},{"$f":"+'Bilan initial'!E65*(1+Croissance!$H8)","v":0},{"$f":"+'Bilan initial'!F65*(1+Croissance!$H8)","v":157.4890199348059},{"$f":"+'Bilan initial'!G65*(1+Croissance!$H8)","v":0},{"$f":"+'Bilan initial'!H65*(1+Croissance!$H8)","v":0},{"$f":"SUM(C65:H65)","v":157.4890199348059},{"$f":"+'Bilan initial'!J65*(1+Croissance!$H8)","v":129.98341989852659},{"$f":"+'Bilan initial'!K65*(1+Croissance!$H8)","v":138.99360536618488},{"$f":"+'Bilan initial'!L65*(1+Croissance!$H8)","v":1452.5971052613581},{"$f":"+'Bilan initial'!M65*(1+Croissance!$H8)","v":0},{"$f":"+'Bilan initial'!N65*(1+Croissance!$H8)","v":0}]
["    Industrie - chimique",{"$f":"SUM(I66:N66)","v":21248.964959325313},{"$f":"+'Bilan initial'!C66*(1+Croissance!$H9)","v":77.498517998323194},{"$f":"+'Bilan initial'!D66*(1+Croissance!$H9)","v":0},{"$f":"+'Bilan initial'!E66*(1+Croissance!$H9)","v":0},{"$f":"+'Bilan initial'!F66*(1+Croissance!$H9)","v":37.056239984660209},{"$f":"+'Bilan initial'!G66*(1+Croissance!$H9)","v":26.92669286806958},{"$f":"+'Bilan initial'!H66*(1+Croissance!$H9)","v":0},141.48145085105298,{"$f":"+'Bilan initial'!J66*(1+Croissance!$H9)","v":3012.5569082364395},{"$f":"+'Bilan initial'!K66*(1+Croissance!$H9)","v":1737.4200670773107},{"$f":"+'Bilan initial'!L66*(1+Croissance!$H9)","v":16357.506533160511},{"$f":"+'Bilan initial'!M66*(1+Croissance!$H9)","v":0},{"$f":"+'Bilan initial'!N66*(1+Croissance!$H9)","v":0}]
["    Industrie - minerai non metallique",81774.738067344588,{"$f":"+'Bilan initial'!C67*(1+Croissance!$H10)","v":25.832839332774398},{"$f":"+'Bilan initial'!D67*(1+Croissance!$H10)","v":0},{"$f":"+'Bilan initial'!E67*(1+Croissance!$H10)","v":0},{"$f":"+'Bilan initial'!F67*(1+Croissance!$H10)","v":222.3374399079612},{"$f":"+'Bilan initial'!G67*(1+Croissance!$H10)","v":161.56015720841745},{"$f":"+'Bilan initial'!H67*(1+Croissance!$H10)","v":0},409.73043644915305,{"$f":"+'Bilan initial'!J67*(1+Croissance!$H10)","v":25285.598212025139},{"$f":"+'Bilan initial'!K67*(1+Croissance!$H10)","v":7516.3465055713814},{"$f":"+'Bilan initial'!L67*(1+Croissance!$H10)","v":11898.66498396695},{"$f":"+'Bilan initial'!M67*(1+Croissance!$H10)","v":0},{"$f":"+'Bilan initial'!N67*(1+Croissance!$H10)","v":36664.397929331957}]
["    Industrie - transformation des aliments et boissons",13203.741556390883,{"$f":"+'Bilan initial'!C68*(1+Croissance!$H11)","v":172.21892888516265},{"$f":"+'Bilan initial'!D68*(1+Croissance!$H11)","v":0},{"$f":"+'Bilan initial'!E68*(1+Croissance!$H11)","v":0},{"$f":"+'Bilan initial'!F68*(1+Croissance!$H11)","v":55.584359976990299},{"$f":"+'Bilan initial'!G68*(1+Croissance!$H11)","v":332.0958787061914},{"$f":"+'Bilan initial'!H68*(1+Croissance!$H11)","v":0},559.89916756834441,{"$f":"+'Bilan initial'!J68*(1+Croissance!$H11)","v":1743.3070433449445},{"$f":"+'Bilan initial'!K68*(1+Croissance!$H11)","v":4207.2295162764422},{"$f":"+'Bilan initial'!L68*(1+Croissance!$H11)","v":6201.9580755071902},{"$f":"+'Bilan initial'!M68*(1+Croissance!$H11)","v":428.5201440231366},{"$f":"+'Bilan initial'!N68*(1+Croissance!$H11)","v":62.827609670825872}]
["    Industrie - construction",3659.1308783692339,{"$f":"+'Bilan initial'!C69*(1+Croissance!$H12)","v":0},{"$f":"+'Bilan initial'!D69*(1+Croissance!$H12)","v":0},{"$f":"+'Bilan initial'!E69*(1+Croissance!$H12)","v":0},{"$f":"+'Bilan initial'!F69*(1+Croissance!$H12)","v":1361.8168194362624},{"$f":"+'Bilan initial'!G69*(1+Croissance!$H12)","v":0},{"$f":"+'Bilan initial'!H69*(1+Croissance!$H12)","v":0},1361.8168194362624,{"$f":"+'Bilan initial'!J69*(1+Croissance!$H12)","v":7.6460835234427398},{"$f":"+'Bilan initial'!K69*(1+Croissance!$H12)","v":16.037723696098254},{"$f":"+'Bilan initial'!L69*(1+Croissance!$H12)","v":2273.6302517134304},{"$f":"+'Bilan initial'!M69*(1+Croissance!$H12)","v":0},{"$f":"+'Bilan initial'!N69*(1+Croissance!$H12)","v":0}]
["    Industrie - exploitation minière",4952.1106344332884,{"$f":"+'Bilan initial'!C70*(1+Croissance!$H13)","v":0},{"$f":"+'Bilan initial'!D70*(1+Croissance!$H13)","v":0},{"$f":"+'Bilan initial'!E70*(1+Croissance!$H13)","v":0},{"$f":"+'Bilan initial'!F70*(1+Croissance!$H13)","v":3483.2865585580589},{"$f":"+'Bilan initial'!G70*(1+Croissance!$H13)","v":0},{"$f":"+'Bilan initial'!H70*(1+Croissance!$H13)","v":0},3483.2865585580589,{"$f":"+'Bilan initial'!J70*(1+Croissance!$H13)","v":145.27558694541204},{"$f":"+'Bilan initial'!K70*(1+Croissance!$H13)","v":502.51534247774538},{"$f":"+'Bilan initial'!L70*(1+Croissance!$H13)","v":821.03314645207195},{"$f":"+'Bilan initial'!M70*(1+Croissance!$H13)","v":0},{"$f":"+'Bilan initial'!N70*(1+Croissance!$H13)","v":0}]
["    Industrie - machinerie",620.44472863641158,{"$f":"+'Bilan initial'!C71*(1+Croissance!$H14)","v":43.054732221290664},{"$f":"+'Bilan initial'!D71*(1+Croissance!$H14)","v":0},{"$f":"+'Bilan initial'!E71*(1+Croissance!$H14)","v":0},{"$f":"+'Bilan initial'!F71*(1+Croissance!$H14)","v":27.79217998849515},{"$f":"+'Bilan initial'!G71*(1+Croissance!$H14)","v":0},{"$f":"+'Bilan initial'!H71*(1+Croissance!$H14)","v":0},70.846912209785813,{"$f":"+'Bilan initial'!J71*(1+Croissance!$H14)","v":22.938250570328218},{"$f":"+'Bilan initial'!K71*(1+Croissance!$H14)","v":90.880434277890117},{"$f":"+'Bilan initial'!L71*(1+Croissance!$H14)","v":435.77913157840743},{"$f":"+'Bilan initial'!M71*(1+Croissance!$H14)","v":0},{"$f":"+'Bilan initial'!N71*(1+Croissance!$H14)","v":0}]
["    Industrie - métaux non-ferreux",64407.282115153561,{"$f":"+'Bilan initial'!C72*(1+Croissance!$H15)","v":318.60501843755088},{"$f":"+'Bilan initial'!D72*(1+Croissance!$H15)","v":0},{"$f":"+'Bilan initial'!E72*(1+Croissance!$H15)","v":0},{"$f":"+'Bilan initial'!F72*(1+Croissance!$H15)","v":120.43277995014566},{"$f":"+'Bilan initial'!G72*(1+Croissance!$H15)","v":0},{"$f":"+'Bilan initial'!H72*(1+Croissance!$H15)","v":0},439.03779838769651,{"$f":"+'Bilan initial'!J72*(1+Croissance!$H15)","v":8303.646706458816},{"$f":"+'Bilan initial'!K72*(1+Croissance!$H15)","v":363.52173711156047},{"$f":"+'Bilan initial'!L72*(1+Croissance!$H15)","v":12991.270632707014},{"$f":"+'Bilan initial'!M72*(1+Croissance!$H15)","v":42309.805240488473},{"$f":"+'Bilan initial'!N72*(1+Croissance!$H15)","v":0}]
["    Industrie - pâtes et papiers",2911.9785220078438,{"$f":"+'Bilan initial'!C73*(1+Croissance!$H16)","v":8.6109464442581327},{"$f":"+'Bilan initial'!D73*(1+Croissance!$H16)","v":0},{"$f":"+'Bilan initial'!E73*(1+Croissance!$H16)","v":0},{"$f":"+'Bilan initial'!F73*(1+Croissance!$H16)","v":92.640599961650508},{"$f":"+'Bilan initial'!G73*(1+Croissance!$H16)","v":0},{"$f":"+'Bilan initial'!H73*(1+Croissance!$H16)","v":0},101.25154640590864,{"$f":"+'Bilan initial'!J73*(1+Croissance!$H16)","v":328.78159150803782},{"$f":"+'Bilan initial'!K73*(1+Croissance!$H16)","v":1079.8733955372825},{"$f":"+'Bilan initial'!L73*(1+Croissance!$H16)","v":1402.071988556615},{"$f":"+'Bilan initial'!M73*(1+Croissance!$H16)","v":0},{"$f":"+'Bilan initial'!N73*(1+Croissance!$H16)","v":0}]
["    Industrie - transport d'équipment",1429.851298061217,{"$f":"+'Bilan initial'!C74*(1+Croissance!$H17)","v":198.05176821793705},{"$f":"+'Bilan initial'!D74*(1+Croissance!$H17)","v":0},{"$f":"+'Bilan initial'!E74*(1+Croissance!$H17)","v":0},{"$f":"+'Bilan initial'!F74*(1+Croissance!$H17)","v":64.848419973155345},{"$f":"+'Bilan initial'!G74*(1+Croissance!$H17)","v":0},{"$f":"+'Bilan initial'!H74*(1+Croissance!$H17)","v":0},262.90018819109241,{"$f":"+'Bilan initial'!J74*(1+Croissance!$H17)","v":0},{"$f":"+'Bilan initial'!K74*(1+Croissance!$H17)","v":42.76726318959534},{"$f":"+'Bilan initial'!L74*(1+Croissance!$H17)","v":1124.1838466805293},{"$f":"+'Bilan initial'!M74*(1+Croissance!$H17)","v":0},{"$f":"+'Bilan initial'!N74*(1+Croissance!$H17)","v":0}]
["    Industrie - cuir et textile",16245.067572653079,{"$f":"+'Bilan initial'!C75*(1+Croissance!$H18)","v":103.33135733109759},{"$f":"+'Bilan initial'!D75*(1+Croissance!$H18)","v":0},{"$f":"+'Bilan initial'!E75*(1+Croissance!$H18)","v":0},{"$f":"+'Bilan initial'!F75*(1+Croissance!$H18)","v":55.584359976990299},{"$f":"+'Bilan initial'!G75*(1+Croissance!$H18)","v":0},{"$f":"+'Bilan initial'!H75*(1+Croissance!$H18)","v":0},158.91571730808789,{"$f":"+'Bilan initial'!J75*(1+Croissance!$H18)","v":2714.3596508221726},{"$f":"+'Bilan initial'!K75*(1+Croissance!$H18)","v":5805.6559779875688},{"$f":"+'Bilan initial'!L75*(1+Croissance!$H18)","v":7566.1362265352482},{"$f":"+'Bilan initial'!M75*(1+Croissance!$H18)","v":0},{"$f":"+'Bilan initial'!N75*(1+Croissance!$H18)","v":0}]
["    Industrie - divers",3927.3580921043663,{"$f":"+'Bilan initial'!C76*(1+Croissance!$H19)","v":0},{"$f":"+'Bilan initial'!D76*(1+Croissance!$H19)","v":0},{"$f":"+'Bilan initial'!E76*(1+Croissance!$H19)","v":0},{"$f":"+'Bilan initial'!F76*(1+Croissance!$H19)","v":0},{"$f":"+'Bilan initial'!G76*(1+Croissance!$H19)","v":0},{"$f":"+'Bilan initial'!H76*(1+Croissance!$H19)","v":0},0,{"$f":"+'Bilan initial'!J76*(1+Croissance!$H19)","v":0},{"$f":"+'Bilan initial'!K76*(1+Croissance!$H19)","v":5.3459078986994175},{"$f":"+'Bilan initial'!L76*(1+Croissance!$H19)","v":3922.0121842056669},{"$f":"+'Bilan initial'!M76*(1+Croissance!$H19)","v":0},{"$f":"+'Bilan initial'!N76*(1+Croissance!$H19)","v":0}]
["    Transport - route",197334.8933574062,{"$f":"+'Bilan initial'!C77*(1+Croissance!$H21)","v":26426.994637428204},{"$f":"+'Bilan initial'!D77*(1+Croissance!$H21)","v":18174.77609840257},{"$f":"+'Bilan initial'!E77*(1+Croissance!$H21)","v":0},{"$f":"+'Bilan initial'!F77*(1+Croissance!$H21)","v":152189.97761699944},{"$f":"+'Bilan initial'!G77*(1+Croissance!$H21)","v":0},{"$f":"+'Bilan initial'!H77*(1+Croissance!$H21)","v":0},196791.74835283021,{"$f":"+'Bilan initial'!J77*(1+Croissance!$H21)","v":0},{"$f":"+'Bilan initial'!K77*(1+Croissance!$H21)","v":0},{"$f":"+'Bilan initial'!L77*(1+Croissance!$H21)","v":543.14500457598604},{"$f":"+'Bilan initial'!M77*(1+Croissance!$H21)","v":0},{"$f":"+'Bilan initial'!N77*(1+Croissance!$H21)","v":0}]
["    Transport - rail",1250.6480994822819,{"$f":"+'Bilan initial'!C78*(1+Croissance!$H22)","v":0},{"$f":"+'Bilan initial'!D78*(1+Croissance!$H22)","v":0},{"$f":"+'Bilan initial'!E78*(1+Croissance!$H22)","v":0},{"$f":"+'Bilan initial'!F78*(1+Croissance!$H22)","v":1250.6480994822819},{"$f":"+'Bilan initial'!G78*(1+Croissance!$H22)","v":0},{"$f":"+'Bilan initial'!H78*(1+Croissance!$H22)","v":0},1250.6480994822819,{"$f":"+'Bilan initial'!J78*(1+Croissance!$H22)","v":0},{"$f":"+'Bilan initial'!K78*(1+Croissance!$H22)","v":0},{"$f":"+'Bilan initial'!L78*(1+Croissance!$H22)","v":0},{"$f":"+'Bilan initial'!M78*(1+Croissance!$H22)","v":0},{"$f":"+'Bilan initial'!N78*(1+Croissance!$H22)","v":0}]
["    Transport - air domestique",12138.867745699579,{"$f":"+'Bilan initial'!C79*(1+Croissance!$H23)","v":0},{"$f":"+'Bilan initial'!D79*(1+Croissance!$H23)","v":0},{"$f":"+'Bilan initial'!E79*(1+Croissance!$H23)","v":12138.867745699579},{"$f":"+'Bilan initial'!F79*(1+Croissance!$H23)","v":0},{"$f":"+'Bilan initial'!G79*(1+Croissance!$H23)","v":0},{"$f":"+'Bilan initial'!H79*(1+Croissance!$H23)","v":0},12138.867745699579,{"$f":"+'Bilan initial'!J79*(1+Croissance!$H23)","v":0},{"$f":"+'Bilan initial'!K79*(1+Croissance!$H23)","v":0},{"$f":"+'Bilan initial'!L79*(1+Croissance!$H23)","v":0},{"$f":"+'Bilan initial'!M79*(1+Croissance!$H23)","v":0},{"$f":"+'Bilan initial'!N79*(1+Croissance!$H23)","v":0}]
["    Transport - navigation",1642.5282649522442,{"$f":"+'Bilan initial'!C80*(1+Croissance!$H24)","v":0},{"$f":"+'Bilan initial'!D80*(1+Croissance!$H24)","v":0},{"$f":"+'Bilan initial'!E80*(1+Croissance!$H24)","v":0},{"$f":"+'Bilan initial'!F80*(1+Croissance!$H24)","v":0},{"$f":"+'Bilan initial'!G80*(1+Croissance!$H24)","v":1642.5282649522442},{"$f":"+'Bilan initial'!H80*(1+Croissance!$H24)","v":0},1642.5282649522442,{"$f":"+'Bilan initial'!J80*(1+Croissance!$H24)","v":0},{"$f":"+'Bilan initial'!K80*(1+Croissance!$H24)","v":0},{"$f":"+'Bilan initial'!L80*(1+Croissance!$H24)","v":0},{"$f":"+'Bilan initial'!M80*(1+Croissance!$H24)","v":0},{"$f":"+'Bilan initial'!N80*(1+Croissance!$H24)","v":0}]
["    Ménages",96146.203092537166,{"$f":"+'Bilan initial'!C81*(1+Croissance!$H26)","v":2109.6818788432424},{"$f":"+'Bilan initial'!D81*(1+Croissance!$H26)","v":0},{"$f":"+'Bilan initial'!E81*(1+Croissance!$H26)","v":0},{"$f":"+'Bilan initial'!F81*(1+Croissance!$H26)","v":0},{"$f":"+'Bilan initial'!G81*(1+Croissance!$H26)","v":0},{"$f":"+'Bilan initial'!H81*(1+Croissance!$H27)","v":538.4413507584087},2648.123229601651,{"$f":"+'Bilan initial'!J81*(1+Croissance!$H26)","v":11591.462621539195},{"$f":"+'Bilan initial'!K81*(1+Croissance!$H26)","v":12434.581772374846},{"$f":"+'Bilan initial'!L81*(1+Croissance!$H26)","v":69472.035469021474},{"$f":"+'Bilan initial'!M81*(1+Croissance!$H26)","v":0},{"$f":"+'Bilan initial'!N81*(1+Croissance!$H26)","v":0}]
["    Services",69566.041633482324,{"$f":"+'Bilan initial'!C82*(1+Croissance!$H29)","v":4916.850419671393},{"$f":"+'Bilan initial'!D82*(1+Croissance!$H29)","v":0},{"$f":"+'Bilan initial'!E82*(1+Croissance!$H29)","v":0},{"$f":"+'Bilan initial'!F82*(1+Croissance!$H29)","v":0},{"$f":"+'Bilan initial'!G82*(1+Croissance!$H29)","v":0},{"$f":"+'Bilan initial'!H82*(1+Croissance!$H29)","v":0},4916.850419671393,{"$f":"+'Bilan initial'!J82*(1+Croissance!$H29)","v":39935.49424294143},{"$f":"+'Bilan initial'!K82*(1+Croissance!$H29)","v":4330.1853979465295},{"$f":"+'Bilan initial'!L82*(1+Croissance!$H29)","v":19963.736737961535},{"$f":"+'Bilan initial'!M82*(1+Croissance!$H29)","v":419.77483496143992},{"$f":"+'Bilan initial'!N82*(1+Croissance!$H29)","v":0}]
["    Agriculture & Pêches",26010.431074796794,{"$f":"+'Bilan initial'!C83*(1+Croissance!$H31)","v":0},{"$f":"+'Bilan initial'!D83*(1+Croissance!$H31)","v":0},{"$f":"+'Bilan initial'!E83*(1+Croissance!$H31)","v":0},{"$f":"+'Bilan initial'!F83*(1+Croissance!$H31)","v":25170.451009580443},{"$f":"+'Bilan initial'!G83*(1+Croissance!$H31)","v":0},{"$f":"+'Bilan initial'!H83*(1+Croissance!$H31)","v":0},25170.451009580443,{"$f":"+'Bilan initial'!J83*(1+Croissance!$H31)","v":0},{"$f":"+'Bilan initial'!K83*(1+Croissance!$H31)","v":0},{"$f":"+'Bilan initial'!L83*(1+Croissance!$H31)","v":839.98006521635057},{"$f":"+'Bilan initial'!M83*(1+Croissance!$H31)","v":0},{"$f":"+'Bilan initial'!N83*(1+Croissance!$H31)","v":0}]
["    Utilisations non énergétiques",0,{"$f":"+'Bilan initial'!C84*(1+Croissance!$H33)","v":0},{"$f":"+'Bilan initial'!D84*(1+Croissance!$H33)","v":0},{"$f":"+'Bilan initial'!E84*(1+Croissance!$H33)","v":0},{"$f":"+'Bilan initial'!F84*(1+Croissance!$H33)","v":0},{"$f":"+'Bilan initial'!G84*(1+Croissance!$H33)","v":0},{"$f":"+'Bilan initial'!H84*(1+Croissance!$H33)","v":0},0,{"$f":"+'Bilan initial'!J84*(1+Croissance!$H33)","v":0},{"$f":"+'Bilan initial'!K84*(1+Croissance!$H33)","v":0},{"$f":"+'Bilan initial'!L84*(1+Croissance!$H33)","v":0},{"$f":"+'Bilan initial'!M84*(1+Croissance!$H33)","v":0},{"$f":"+'Bilan initial'!N84*(1+Croissance!$H33)","v":0}]
["CH4 provenant de la combustion d'énergie",{"$f":"IF(B62=0,0,'Bilan initial'!B85*'Bilan 2035'!B64/'Bilan initial'!B64)","v":14756.759955391924}]
["N2O provenant de la combustion d'énergie",{"$f":"IF(B62=0,0,'Bilan initial'!B86*'Bilan 2035'!B64/'Bilan initial'!B64)","v":11298.645490445309}]
["Total Agriculture",{"$f":"SUM(B88:B92)","v":97379.541947088204}]
["  Fermentation entérique",{"$f":"+'Bilan initial'!B88*(1+Croissance!H$34)","v":46250.638095691858}]
["  Gestion du fumier",{"$f":"+'Bilan initial'!B89*(1+Croissance!H$34)","v":10843.648562750725}]
["  Culture du riz",{"$f":"+'Bilan initial'!B90*(1+Croissance!H$35)","v":344.02438333600014}]
["  N2O provenant des sols agricoles",{"$f":"+'Bilan initial'!B91*(1+Croissance!H$36)","v":39352.949209805061}]
["  Brûlage de résidus agricoles",{"$f":"+'Bilan initial'!B92*(1+Croissance!H$37)","v":588.28169550456028}]
["Émissions fugitive (CH4)",{"$f":"IF('Bilan initial'!L62=0,0, 'Bilan initial'!B93*'Bilan 2035'!L62/'Bilan initial'!L62)","v":12045.085037685045}]
["Foresterie",{"$f":"+'Bilan initial'!B94*(1+Croissance!H$38)","v":-64020}]
["Déchets - solides",{"$f":"+'Bilan initial'!B95*(1+Croissance!H39)","v":16880}]
["Déchets - liquide",{"$f":"+'Bilan initial'!B96*(1+Croissance!H40)","v":0}]
["Processus industriels",{"$f":"+'Bilan initial'!B97*(1+Croissance!H41)","v":60720}]
["Émission total GES (excl. Foresterie)",{"$f":"B62+B85+B86+B87+B93+B95+B96+B97","v":1347652.556642914}]
["Émission total GES (incl. Foresterie)",{"$f":"+B85+B86+B87+B93+B94+B95+B96+B97+B62","v":1283632.5566429142}]

{"sheet":"Bilan 2050","index":8,"n_rows":99,"n_cols":19,"rows_kept":99,"cut":false,"hidden":false,"merged":[]}
["Bilan combustibles fossiles",{"$f":"+Hypothèses!$B$2","v":"Pays X"},null,2050]
[]
["Unité (TJ)","GPL","Essence","Essence pour carburéacteurs","Diesel","Fiouls lourds","Kérosène et autres","Total produits pétroliers","Charbon","Lignite","Gaz","Coke","Coke de pétrole","Énergie totale (fossile)"]
["Unité","TJ","TJ","TJ","TJ","TJ","TJ","TJ","TJ","TJ","TJ","TJ","TJ","TJ"]
["Total",{"$f":"+B6+B7","v":741541.01365262643},356535.85941624275,230801.97445844542,3423034.606044509,73811.003725646282,10185.40459366699,4835909.8618911374,3105514.359800688,4050733.2485609553,6811769.4157358073,542253.59535846836,497799.63148366212,{"$f":"SUM(H5:M5)","v":19843980.112830717}]
["    Centrales fossiles",{"$f":"C35/C32","v":0},0,0,40469.039602533085,35801.491123336986,0,{"$f":"SUM(B6:G6)","v":76270.530725870078},{"$f":"J35/J32","v":1765867.787437882},{"$f":"K35/K32","v":3536617.7408765266},{"$f":"L35/L32","v":3000772.061973847},{"$f":"M35/M32","v":0},{"$f":"N35/N32","v":0},{"$f":"SUM(H6:M6)","v":8379528.1210141256}]
["CONSOMMATION FINALE",{"$f":"SUM(B8:B27)","v":741541.01365262643},356535.85941624275,230801.97445844542,3382565.566441976,38009.512602309296,10185.40459366699,4759639.3311652672,1339646.5723628057,514115.50768442854,3810997.3537619603,542253.59535846836,497799.63148366212,11464451.991816593]
["    Industrie - acier",{"$f":"+'Bilan initial'!B8*(1+Croissance!$I8)","v":0},{"$f":"+'Bilan initial'!C8*(1+Croissance!$I8)","v":0},{"$f":"+'Bilan initial'!D8*(1+Croissance!$I8)","v":0},{"$f":"+'Bilan initial'!E8*(1+Croissance!$I8)","v":2890.6456858952192},{"$f":"+'Bilan initial'!F8*(1+Croissance!$I8)","v":0},{"$f":"+'Bilan initial'!G8*(1+Croissance!$I8)","v":0},{"$f":"SUM(B8:G8)","v":2890.6456858952192},{"$f":"+'Bilan initial'!I8*(1+Croissance!$I8)","v":1867.9455159258284},{"$f":"+'Bilan initial'!J8*(1+Croissance!$I8)","v":1867.1606648687166},{"$f":"+'Bilan initial'!K8*(1+Croissance!$I8)","v":35200.56991145941},{"$f":"+'Bilan initial'!L8*(1+Croissance!$I8)","v":0},{"$f":"+'Bilan initial'!M8*(1+Croissance!$I8)","v":0},41826.321778149177]
["    Industrie - chimique",{"$f":"+'Bilan initial'!B9*(1+Croissance!$I9)","v":1670.5554750622375},{"$f":"+'Bilan initial'!C9*(1+Croissance!$I9)","v":0},{"$f":"+'Bilan initial'!D9*(1+Croissance!$I9)","v":0},{"$f":"+'Bilan initial'!E9*(1+Croissance!$I9)","v":680.15192609299277},{"$f":"+'Bilan initial'!F9*(1+Croissance!$I9)","v":473.14745977978384},{"$f":"+'Bilan initial'!G9*(1+Croissance!$I9)","v":0},{"$f":"SUM(B9:G9)","v":2823.8548609350141},{"$f":"+'Bilan initial'!I9*(1+Croissance!$I9)","v":43292.384310280962},{"$f":"+'Bilan initial'!J9*(1+Croissance!$I9)","v":23339.508310858961},{"$f":"+'Bilan initial'!K9*(1+Croissance!$I9)","v":396389.02639426029},{"$f":"+'Bilan initial'!L9*(1+Croissance!$I9)","v":0},{"$f":"+'Bilan initial'!M9*(1+Croissance!$I9)","v":0},465844.77387633524]
["    Industrie - minerai non metallique",{"$f":"+'Bilan initial'!B10*(1+Croissance!$I10)","v":556.85182502074588},{"$f":"+'Bilan initial'!C10*(1+Croissance!$I10)","v":0},{"$f":"+'Bilan initial'!D10*(1+Croissance!$I10)","v":0},{"$f":"+'Bilan initial'!E10*(1+Croissance!$I10)","v":4080.9115565579559},{"$f":"+'Bilan initial'!F10*(1+Croissance!$I10)","v":2838.8847586787028},{"$f":"+'Bilan initial'!G10*(1+Croissance!$I10)","v":0},7476.6481402574045,{"$f":"+'Bilan initial'!I10*(1+Croissance!$I10)","v":363370.34242157143},{"$f":"+'Bilan initial'!J10*(1+Croissance!$I10)","v":100970.30364636214},{"$f":"+'Bilan initial'!K10*(1+Croissance!$I10)","v":288338.58136169362},{"$f":"+'Bilan initial'!L10*(1+Croissance!$I10)","v":0},{"$f":"+'Bilan initial'!M10*(1+Croissance!$I10)","v":496948.06808669592},1257103.9436565805]
["    Industrie - transformation des aliments et boissons",{"$f":"+'Bilan initial'!B11*(1+Croissance!$I11)","v":3712.3455001383059},{"$f":"+'Bilan initial'!C11*(1+Croissance!$I11)","v":0},{"$f":"+'Bilan initial'!D11*(1+Croissance!$I11)","v":0},{"$f":"+'Bilan initial'!E11*(1+Croissance!$I11)","v":1020.227889139489},{"$f":"+'Bilan initial'!F11*(1+Croissance!$I11)","v":5835.4853372839998},{"$f":"+'Bilan initial'!G11*(1+Croissance!$I11)","v":0},10568.058726561794,{"$f":"+'Bilan initial'!I11*(1+Croissance!$I11)","v":25052.445743005224},{"$f":"+'Bilan initial'!J11*(1+Croissance!$I11)","v":56517.517048141541},{"$f":"+'Bilan initial'!K11*(1+Croissance!$I11)","v":150291.12892631799},{"$f":"+'Bilan initial'!L11*(1+Croissance!$I11)","v":5384.0782517862108},{"$f":"+'Bilan initial'!M11*(1+Croissance!$I11)","v":851.56339696618636},248664.79209277895]
["    Industrie - construction",{"$f":"+'Bilan initial'!B12*(1+Croissance!$I12)","v":0},{"$f":"+'Bilan initial'!C12*(1+Croissance!$I12)","v":0},{"$f":"+'Bilan initial'!D12*(1+Croissance!$I12)","v":0},{"$f":"+'Bilan initial'!E12*(1+Croissance!$I12)","v":24995.58328391748},{"$f":"+'Bilan initial'!F12*(1+Croissance!$I12)","v":0},{"$f":"+'Bilan initial'!G12*(1+Croissance!$I12)","v":0},24995.58328391748,{"$f":"+'Bilan initial'!I12*(1+Croissance!$I12)","v":109.87914799563696},{"$f":"+'Bilan initial'!J12*(1+Croissance!$I12)","v":215.44161517715963},{"$f":"+'Bilan initial'!K12*(1+Croissance!$I12)","v":55096.544209240819},{"$f":"+'Bilan initial'!L12*(1+Croissance!$I12)","v":0},{"$f":"+'Bilan initial'!M12*(1+Croissance!$I12)","v":0},80417.448256331088]
["    Industrie - exploitation minière",{"$f":"+'Bilan initial'!B13*(1+Croissance!$I13)","v":0},{"$f":"+'Bilan initial'!C13*(1+Croissance!$I13)","v":0},{"$f":"+'Bilan initial'!D13*(1+Croissance!$I13)","v":0},{"$f":"+'Bilan initial'!E13*(1+Croissance!$I13)","v":63934.281052741309},{"$f":"+'Bilan initial'!F13*(1+Croissance!$I13)","v":0},{"$f":"+'Bilan initial'!G13*(1+Croissance!$I13)","v":0},63934.281052741309,{"$f":"+'Bilan initial'!I13*(1+Croissance!$I13)","v":2087.703811917102},{"$f":"+'Bilan initial'!J13*(1+Croissance!$I13)","v":6750.5039422176687},{"$f":"+'Bilan initial'!K13*(1+Croissance!$I13)","v":19895.974297781406},{"$f":"+'Bilan initial'!L13*(1+Croissance!$I13)","v":0},{"$f":"+'Bilan initial'!M13*(1+Croissance!$I13)","v":0},92668.46310465748]
["    Industrie - machinerie",{"$f":"+'Bilan initial'!B14*(1+Croissance!$I14)","v":928.08637503457646},{"$f":"+'Bilan initial'!C14*(1+Croissance!$I14)","v":0},{"$f":"+'Bilan initial'!D14*(1+Croissance!$I14)","v":0},{"$f":"+'Bilan initial'!E14*(1+Croissance!$I14)","v":510.11394456974449},{"$f":"+'Bilan initial'!F14*(1+Croissance!$I14)","v":0},{"$f":"+'Bilan initial'!G14*(1+Croissance!$I14)","v":0},1438.2003196043211,{"$f":"+'Bilan initial'!I14*(1+Croissance!$I14)","v":329.63744398691085},{"$f":"+'Bilan initial'!J14*(1+Croissance!$I14)","v":1220.8358193372378},{"$f":"+'Bilan initial'!K14*(1+Croissance!$I14)","v":10560.170973437824},{"$f":"+'Bilan initial'!L14*(1+Croissance!$I14)","v":0},{"$f":"+'Bilan initial'!M14*(1+Croissance!$I14)","v":0},13548.844556366294]
["    Industrie - métaux non-ferreux",{"$f":"+'Bilan initial'!B15*(1+Croissance!$I15)","v":6867.8391752558646},{"$f":"+'Bilan initial'!C15*(1+Croissance!$I15)","v":0},{"$f":"+'Bilan initial'!D15*(1+Croissance!$I15)","v":0},{"$f":"+'Bilan initial'!E15*(1+Croissance!$I15)","v":2210.4937598022261},{"$f":"+'Bilan initial'!F15*(1+Croissance!$I15)","v":0},{"$f":"+'Bilan initial'!G15*(1+Croissance!$I15)","v":0},9078.3329350580898,{"$f":"+'Bilan initial'!I15*(1+Croissance!$I15)","v":119328.75472326174},{"$f":"+'Bilan initial'!J15*(1+Croissance!$I15)","v":4883.3432773489512},{"$f":"+'Bilan initial'!K15*(1+Croissance!$I15)","v":314815.53177335655},{"$f":"+'Bilan initial'!L15*(1+Croissance!$I15)","v":531595.31800289161},{"$f":"+'Bilan initial'!M15*(1+Croissance!$I15)","v":0},979701.28071191697]
["    Industrie - pâtes et papiers",{"$f":"+'Bilan initial'!B16*(1+Croissance!$I16)","v":185.61727500691526},{"$f":"+'Bilan initial'!C16*(1+Croissance!$I16)","v":0},{"$f":"+'Bilan initial'!D16*(1+Croissance!$I16)","v":0},{"$f":"+'Bilan initial'!E16*(1+Croissance!$I16)","v":1700.3798152324819},{"$f":"+'Bilan initial'!F16*(1+Croissance!$I16)","v":0},{"$f":"+'Bilan initial'!G16*(1+Croissance!$I16)","v":0},1885.997090239397,{"$f":"+'Bilan initial'!I16*(1+Croissance!$I16)","v":4724.8033638123889},{"$f":"+'Bilan initial'!J16*(1+Croissance!$I16)","v":14506.402088595414},{"$f":"+'Bilan initial'!K16*(1+Croissance!$I16)","v":33976.202262365172},{"$f":"+'Bilan initial'!L16*(1+Croissance!$I16)","v":0},{"$f":"+'Bilan initial'!M16*(1+Croissance!$I16)","v":0},55093.404805012367]
["    Industrie - transport d'équipment",{"$f":"+'Bilan initial'!B17*(1+Croissance!$I17)","v":4269.1973251590507},{"$f":"+'Bilan initial'!C17*(1+Croissance!$I17)","v":0},{"$f":"+'Bilan initial'!D17*(1+Croissance!$I17)","v":0},{"$f":"+'Bilan initial'!E17*(1+Croissance!$I17)","v":1190.2658706627371},{"$f":"+'Bilan initial'!F17*(1+Croissance!$I17)","v":0},{"$f":"+'Bilan initial'!G17*(1+Croissance!$I17)","v":0},5459.4631958217878,{"$f":"+'Bilan initial'!I17*(1+Croissance!$I17)","v":0},{"$f":"+'Bilan initial'!J17*(1+Croissance!$I17)","v":574.51097380575891},{"$f":"+'Bilan initial'!K17*(1+Croissance!$I17)","v":27242.180192346848},{"$f":"+'Bilan initial'!L17*(1+Croissance!$I17)","v":0},{"$f":"+'Bilan initial'!M17*(1+Croissance!$I17)","v":0},33276.154361974397]
["    Industrie - cuir et textile",{"$f":"+'Bilan initial'!B18*(1+Croissance!$I18)","v":2227.4073000829835},{"$f":"+'Bilan initial'!C18*(1+Croissance!$I18)","v":0},{"$f":"+'Bilan initial'!D18*(1+Croissance!$I18)","v":0},{"$f":"+'Bilan initial'!E18*(1+Croissance!$I18)","v":1020.227889139489},{"$f":"+'Bilan initial'!F18*(1+Croissance!$I18)","v":0},{"$f":"+'Bilan initial'!G18*(1+Croissance!$I18)","v":0},3247.6351892224725,{"$f":"+'Bilan initial'!I18*(1+Croissance!$I18)","v":39007.097538451118},{"$f":"+'Bilan initial'!J18*(1+Croissance!$I18)","v":77989.864694131786},{"$f":"+'Bilan initial'!K18*(1+Croissance!$I18)","v":183349.05545186248},{"$f":"+'Bilan initial'!L18*(1+Croissance!$I18)","v":0},{"$f":"+'Bilan initial'!M18*(1+Croissance!$I18)","v":0},303593.65287366789]
["    Industrie - divers",{"$f":"+'Bilan initial'!B19*(1+Croissance!$I19)","v":0},{"$f":"+'Bilan initial'!C19*(1+Croissance!$I19)","v":0},{"$f":"+'Bilan initial'!D19*(1+Croissance!$I19)","v":0},{"$f":"+'Bilan initial'!E19*(1+Croissance!$I19)","v":0},{"$f":"+'Bilan initial'!F19*(1+Croissance!$I19)","v":0},{"$f":"+'Bilan initial'!G19*(1+Croissance!$I19)","v":0},0,{"$f":"+'Bilan initial'!I19*(1+Croissance!$I19)","v":0},{"$f":"+'Bilan initial'!J19*(1+Croissance!$I19)","v":71.813871725719864},{"$f":"+'Bilan initial'!K19*(1+Croissance!$I19)","v":95041.538760940413},{"$f":"+'Bilan initial'!L19*(1+Croissance!$I19)","v":0},{"$f":"+'Bilan initial'!M19*(1+Croissance!$I19)","v":0},95113.352632666138]
["    Transport - route",{"$f":"+'Bilan initial'!B20*(1+Croissance!$I21)","v":569659.41699622292},{"$f":"+'Bilan initial'!C20*(1+Croissance!$I21)","v":356535.85941624275},{"$f":"+'Bilan initial'!D20*(1+Croissance!$I21)","v":0},{"$f":"+'Bilan initial'!E20*(1+Croissance!$I21)","v":2793383.9604639211},{"$f":"+'Bilan initial'!F20*(1+Croissance!$I21)","v":0},{"$f":"+'Bilan initial'!G20*(1+Croissance!$I21)","v":0},3719579.2368763867,{"$f":"+'Bilan initial'!I20*(1+Croissance!$I21)","v":0},{"$f":"+'Bilan initial'!J20*(1+Croissance!$I21)","v":0},{"$f":"+'Bilan initial'!K20*(1+Croissance!$I21)","v":13161.952227763084},{"$f":"+'Bilan initial'!L20*(1+Croissance!$I21)","v":0},{"$f":"+'Bilan initial'!M20*(1+Croissance!$I21)","v":0},3732741.1891041496]
["    Transport - rail",{"$f":"+'Bilan initial'!B21*(1+Croissance!$I22)","v":0},{"$f":"+'Bilan initial'!C21*(1+Croissance!$I22)","v":0},{"$f":"+'Bilan initial'!D21*(1+Croissance!$I22)","v":0},{"$f":"+'Bilan initial'!E21*(1+Croissance!$I22)","v":22955.127505638506},{"$f":"+'Bilan initial'!F21*(1+Croissance!$I22)","v":0},{"$f":"+'Bilan initial'!G21*(1+Croissance!$I22)","v":0},22955.127505638506,{"$f":"+'Bilan initial'!I21*(1+Croissance!$I22)","v":0},{"$f":"+'Bilan initial'!J21*(1+Croissance!$I22)","v":0},{"$f":"+'Bilan initial'!K21*(1+Croissance!$I22)","v":0},{"$f":"+'Bilan initial'!L21*(1+Croissance!$I22)","v":0},{"$f":"+'Bilan initial'!M21*(1+Croissance!$I22)","v":0},22955.127505638506]
["    Transport - air domestique",{"$f":"+'Bilan initial'!B22*(1+Croissance!$I23)","v":0},{"$f":"+'Bilan initial'!C22*(1+Croissance!$I23)","v":0},{"$f":"+'Bilan initial'!D22*(1+Croissance!$I23)","v":230801.97445844542},{"$f":"+'Bilan initial'!E22*(1+Croissance!$I23)","v":0},{"$f":"+'Bilan initial'!F22*(1+Croissance!$I23)","v":0},{"$f":"+'Bilan initial'!G22*(1+Croissance!$I23)","v":0},230801.97445844542,{"$f":"+'Bilan initial'!I22*(1+Croissance!$I23)","v":0},{"$f":"+'Bilan initial'!J22*(1+Croissance!$I23)","v":0},{"$f":"+'Bilan initial'!K22*(1+Croissance!$I23)","v":0},{"$f":"+'Bilan initial'!L22*(1+Croissance!$I23)","v":0},{"$f":"+'Bilan initial'!M22*(1+Croissance!$I23)","v":0},230801.97445844542]
["    Transport - navigation",{"$f":"+'Bilan initial'!B23*(1+Croissance!$I24)","v":0},{"$f":"+'Bilan initial'!C23*(1+Croissance!$I24)","v":0},{"$f":"+'Bilan initial'!D23*(1+Croissance!$I24)","v":0},{"$f":"+'Bilan initial'!E23*(1+Croissance!$I24)","v":0},{"$f":"+'Bilan initial'!F23*(1+Croissance!$I24)","v":28861.995046566812},{"$f":"+'Bilan initial'!G23*(1+Croissance!$I24)","v":0},28861.995046566812,{"$f":"+'Bilan initial'!I23*(1+Croissance!$I24)","v":0},{"$f":"+'Bilan initial'!J23*(1+Croissance!$I24)","v":0},{"$f":"+'Bilan initial'!K23*(1+Croissance!$I24)","v":0},{"$f":"+'Bilan initial'!L23*(1+Croissance!$I24)","v":0},{"$f":"+'Bilan initial'!M23*(1+Croissance!$I24)","v":0},28861.995046566812]
["    Ménages",{"$f":"+'Bilan initial'!B24*(1+Croissance!$I26)","v":45476.232376694243},{"$f":"+'Bilan initial'!C24*(1+Croissance!$I26)","v":0},{"$f":"+'Bilan initial'!D24*(1+Croissance!$I26)","v":0},{"$f":"+'Bilan initial'!E24*(1+Croissance!$I26)","v":0},{"$f":"+'Bilan initial'!F24*(1+Croissance!$I26)","v":0},{"$f":"+'Bilan initial'!G24*(1+Croissance!$I27)","v":10185.40459366699},55661.636970361229,{"$f":"+'Bilan initial'!I24*(1+Croissance!$I26)","v":166576.78836138564},{"$f":"+'Bilan initial'!J24*(1+Croissance!$I26)","v":167039.06563402442},{"$f":"+'Bilan initial'!K24*(1+Croissance!$I26)","v":1683505.5175045806},{"$f":"+'Bilan initial'!L24*(1+Croissance!$I26)","v":0},{"$f":"+'Bilan initial'!M24*(1+Croissance!$I26)","v":0},2072783.0084703518]
["    Services",{"$f":"+'Bilan initial'!B25*(1+Croissance!$I29)","v":105987.46402894861},{"$f":"+'Bilan initial'!C25*(1+Croissance!$I29)","v":0},{"$f":"+'Bilan initial'!D25*(1+Croissance!$I29)","v":0},{"$f":"+'Bilan initial'!E25*(1+Croissance!$I29)","v":0},{"$f":"+'Bilan initial'!F25*(1+Croissance!$I29)","v":0},{"$f":"+'Bilan initial'!G25*(1+Croissance!$I29)","v":0},105987.46402894861,{"$f":"+'Bilan initial'!I25*(1+Croissance!$I29)","v":573898.78998121177},{"$f":"+'Bilan initial'!J25*(1+Croissance!$I29)","v":58169.236097833098},{"$f":"+'Bilan initial'!K25*(1+Croissance!$I29)","v":483778.26734836173},{"$f":"+'Bilan initial'!L25*(1+Croissance!$I29)","v":5274.1991037905736},{"$f":"+'Bilan initial'!M25*(1+Croissance!$I29)","v":0},1227107.9565601458]
["    Agriculture & Pêches",{"$f":"+'Bilan initial'!B26*(1+Croissance!$I31)","v":0},{"$f":"+'Bilan initial'!C26*(1+Croissance!$I31)","v":0},{"$f":"+'Bilan initial'!D26*(1+Croissance!$I31)","v":0},{"$f":"+'Bilan initial'!E26*(1+Croissance!$I31)","v":461993.19579866534},{"$f":"+'Bilan initial'!F26*(1+Croissance!$I31)","v":0},{"$f":"+'Bilan initial'!G26*(1+Croissance!$I31)","v":0},461993.19579866534,{"$f":"+'Bilan initial'!I26*(1+Croissance!$I31)","v":0},{"$f":"+'Bilan initial'!J26*(1+Croissance!$I31)","v":0},{"$f":"+'Bilan initial'!K26*(1+Croissance!$I31)","v":20355.112166191746},{"$f":"+'Bilan initial'!L26*(1+Croissance!$I31)","v":0},{"$f":"+'Bilan initial'!M26*(1+Croissance!$I31)","v":0},482348.30796485709]
["    Utilisations non énergétiques",{"$f":"+'Bilan initial'!B27*(1+Croissance!$I33)","v":0},{"$f":"+'Bilan initial'!C27*(1+Croissance!$I33)","v":0},{"$f":"+'Bilan initial'!D27*(1+Croissance!$I33)","v":0},{"$f":"+'Bilan initial'!E27*(1+Croissance!$I33)","v":0},{"$f":"+'Bilan initial'!F27*(1+Croissance!$I33)","v":0},{"$f":"+'Bilan initial'!G27*(1+Croissance!$I33)","v":0},0,{"$f":"+'Bilan initial'!I27*(1+Croissance!$I33)","v":0},{"$f":"+'Bilan initial'!J27*(1+Croissance!$I33)","v":0},{"$f":"+'Bilan initial'!K27*(1+Croissance!$I33)","v":0},{"$f":"+'Bilan initial'!L27*(1+Croissance!$I33)","v":0},{"$f":"+'Bilan initial'!M27*(1+Croissance!$I33)","v":0},0]
[]
[]
["Bilan combustibles fossiles",{"$f":"+Hypothèses!$B$2","v":"Pays X"},null,2050]
[{"$f":"+'Bilan initial'!A31","v":"1 ktoe=41.868 TJ"}]
[{"$f":"+'Bilan initial'!A32","v":"ktoe per TJ"},null,{"$f":"+'Bilan initial'!C32","v":2.3884589662749593E-2},{"$f":"+'Bilan initial'!D32","v":2.3884589662749593E-2},{"$f":"+'Bilan initial'!E32","v":2.3884589662749593E-2},{"$f":"+'Bilan initial'!F32","v":2.3884589662749593E-2},{"$f":"+'Bilan initial'!G32","v":2.3884589662749593E-2},{"$f":"+'Bilan initial'!H32","v":2.3884589662749593E-2},null,{"$f":"+'Bilan initial'!J32","v":2.3884589662749593E-2},{"$f":"+'Bilan initial'!K32","v":2.3884589662749593E-2},{"$f":"+'Bilan initial'!L32","v":2.3884589662749593E-2},2.3884589662749593E-2,2.3884589662749593E-2]
["Unité : ktoe","Total","GPL","Essence","Essence pour carburéacteurs","Diesel","Fiouls lourds","Kérosène et autres","Total produits pétroliers","Charbon","Lignite","Gaz","Coke","Coke de pétrole","Consommation d'électricité Gwh",null,"Production d'électricité Gwh","Part de la production","Efficacité"]
["Total",{"$f":"+B35+B36","v":473965.32227072504},{"$f":"+C35+C36","v":17711.402829192375},8515.7127022127333,5512.610453292381,81757.77696676481,1762.945536582743,243.27420926882081,115503.72269731387,74173.936175615934,96750.101475135074,162696.31737211728,12951.504618287676,11889.739932255234,null,"Total",{"$f":"IF(R35=1,0,O36/(1-R35))","v":1027311.1699299222}]
["    Centrales fossiles",{"$f":"SUM(I35:N35)","v":200141.59073789351},{"$f":"IF(Q36=0,0,$I35*IF('Bilan initial'!$I35>0,'Bilan initial'!C35/'Bilan initial'!$I35,0))","v":0},{"$f":"IF(Q36=0,0,$I35*IF('Bilan initial'!$I35>0,'Bilan initial'!D35/'Bilan initial'!$I35,0))","v":0},{"$f":"IF(Q36=0,0,$I35*IF('Bilan initial'!$I35>0,'Bilan initial'!E35/'Bilan initial'!$I35,0))","v":0},{"$f":"IF(Q36=0,0,$I35*IF('Bilan initial'!$I35>0,'Bilan initial'!F35/'Bilan initial'!$I35,0))","v":966.58640495206555},{"$f":"IF(Q36=0,0,$I35*IF('Bilan initial'!$I35>0,'Bilan initial'!G35/'Bilan initial'!$I35,0))","v":855.1039247954759},{"$f":"IF(Q36=0,0,$I35*IF('Bilan initial'!$I35>0,'Bilan initial'!H35/'Bilan initial'!$I35,0))","v":0},{"$f":"IF(Q36=0,0,Q39/11.63/S39)","v":1821.6903297475412},{"$f":"IF(S38>0,Q38/11.63/S38,0)","v":42177.027501621335},{"$f":"IF(S37>0,Q37/11.63/S37,0)","v":84470.663534836305},{"$f":"IF(S40>0,Q40/11.63/S40,0)","v":71672.209371688325},{"$f":"IF(T40>0,R40/11.63/T40,0)","v":0},{"$f":"IF(U40>0,S40/11.63/U40,0)","v":0},null,"Pertes",{"$f":"Q34*R35","v":175543.71168888672},{"$f":"+'Bilan 2025'!R35","v":0.17087686460263193}]
["CONSOMMATION FINALE",{"$f":"SUM(B37:B56)","v":273823.73153283156},{"$f":"SUM(C37:C56)","v":17711.402829192375},8515.7127022127333,5512.610453292381,80791.190561812749,907.84161178726697,243.27420926882081,{"$f":"SUM(C36:H36)","v":113682.03236756634},{"$f":"SUM(J37:J56)","v":31996.908673994592},12279.437940298762,91024.108000428954,12951.504618287676,11889.739932255234,851767.45824103546,"Fossile",{"$f":"SUM(Q37:Q49)","v":696983.0570127531},{"$f":"SUM(R37:R50)","v":0.67845369291594249}]
["    Industrie - acier",{"$f":"SUM(I37:N37)","v":999.00453277321992},{"$f":"+'Bilan initial'!C37*(1+Croissance!$I8)","v":0},{"$f":"+'Bilan initial'!D37*(1+Croissance!$I8)","v":0},{"$f":"+'Bilan initial'!E37*(1+Croissance!$I8)","v":0},{"$f":"+'Bilan initial'!F37*(1+Croissance!$I8)","v":69.041886068004672},{"$f":"+'Bilan initial'!G37*(1+Croissance!$I8)","v":0},{"$f":"+'Bilan initial'!H37*(1+Croissance!$I8)","v":0},{"$f":"SUM(C37:H37)","v":69.041886068004672},{"$f":"+'Bilan initial'!J37*(1+Croissance!$I8)","v":44.615112160261504},{"$f":"+'Bilan initial'!K37*(1+Croissance!$I8)","v":44.596366314816009},{"$f":"+'Bilan initial'!L37*(1+Croissance!$I8)","v":840.75116823013775},{"$f":"+'Bilan initial'!M37*(1+Croissance!$I8)","v":0},{"$f":"+'Bilan initial'!N37*(1+Croissance!$I8)","v":0},{"$f":"+'Bilan initial'!O37*(1+Croissance!I$20)","v":6015.8833527611232},"Lignite",{"$f":"Q$34*R37","v":127204.73508137758},{"$f":"+'Bilan 2025'!R37","v":0.12382298451018967},{"$f":"+'Bilan 2025'!S37","v":0.12948446223070259}]
["    Industrie - chimique",{"$f":"SUM(I38:N38)","v":11126.511270572639},{"$f":"+'Bilan initial'!C38*(1+Croissance!$I9)","v":39.900532030721251},{"$f":"+'Bilan initial'!D38*(1+Croissance!$I9)","v":0},{"$f":"+'Bilan initial'!E38*(1+Croissance!$I9)","v":0},{"$f":"+'Bilan initial'!F38*(1+Croissance!$I9)","v":16.245149663059919},{"$f":"+'Bilan initial'!G38*(1+Croissance!$I9)","v":11.300932926812454},{"$f":"+'Bilan initial'!H38*(1+Croissance!$I9)","v":0},{"$f":"SUM(C38:H38)","v":67.446614620593621},{"$f":"+'Bilan initial'!J38*(1+Croissance!$I9)","v":1034.0208347731191},{"$f":"+'Bilan initial'!K38*(1+Croissance!$I9)","v":557.45457893520006},{"$f":"+'Bilan initial'!L38*(1+Croissance!$I9)","v":9467.5892422437264},{"$f":"+'Bilan initial'!M38*(1+Croissance!$I9)","v":0},{"$f":"+'Bilan initial'!N38*(1+Croissance!$I9)","v":0},{"$f":"+'Bilan initial'!O38*(1+Croissance!I$20)","v":59472.088852638502},"Charbon",171690.09299846832,{"$f":"+'Bilan 2025'!R38","v":0.1671256947495082},{"$f":"+'Bilan 2025'!S38","v":0.35001733379556782}]
["    Industrie - minerai non metallique",30025.411857661711,{"$f":"+'Bilan initial'!C39*(1+Croissance!$I10)","v":13.30017734357375},{"$f":"+'Bilan initial'!D39*(1+Croissance!$I10)","v":0},{"$f":"+'Bilan initial'!E39*(1+Croissance!$I10)","v":0},{"$f":"+'Bilan initial'!F39*(1+Croissance!$I10)","v":97.470897978359503},{"$f":"+'Bilan initial'!G39*(1+Croissance!$I10)","v":67.805597560874716},{"$f":"+'Bilan initial'!H39*(1+Croissance!$I10)","v":0},178.57667288280797,{"$f":"+'Bilan initial'!J39*(1+Croissance!$I10)","v":8678.9515243520455},{"$f":"+'Bilan initial'!K39*(1+Croissance!$I10)","v":2411.6342707165886},{"$f":"+'Bilan initial'!L39*(1+Croissance!$I10)","v":6886.84869976339},{"$f":"+'Bilan initial'!M39*(1+Croissance!$I10)","v":0},{"$f":"+'Bilan initial'!N39*(1+Croissance!$I10)","v":11869.400689946879},{"$f":"+'Bilan initial'!O39*(1+Croissance!I$20)","v":72767.465760110572},"Pétrole",8727.5437550820225,{"$f":"+'Bilan 2025'!R39","v":8.4955211337547996E-3},{"$f":"+'Bilan 2025'!S39","v":0.41194360678072844}]
["    Industrie - transformation des aliments et boissons",5939.2565227089644,{"$f":"+'Bilan initial'!C40*(1+Croissance!$I11)","v":88.667848957158341},{"$f":"+'Bilan initial'!D40*(1+Croissance!$I11)","v":0},{"$f":"+'Bilan initial'!E40*(1+Croissance!$I11)","v":0},{"$f":"+'Bilan initial'!F40*(1+Croissance!$I11)","v":24.367724494589876},{"$f":"+'Bilan initial'!G40*(1+Croissance!$I11)","v":139.37817276402023},{"$f":"+'Bilan initial'!H40*(1+Croissance!$I11)","v":0},252.41374621576847,{"$f":"+'Bilan initial'!J40*(1+Croissance!$I11)","v":598.36738661997765},{"$f":"+'Bilan initial'!K40*(1+Croissance!$I11)","v":1349.8977034523152},{"$f":"+'Bilan initial'!L40*(1+Croissance!$I11)","v":3589.6419443565014},{"$f":"+'Bilan initial'!M40*(1+Croissance!$I11)","v":128.59649975604782},{"$f":"+'Bilan initial'!N40*(1+Croissance!$I11)","v":20.339242308354503},{"$f":"+'Bilan initial'!O40*(1+Croissance!I$20)","v":27862.212527465086},"Gaz naturel",389360.68517782516,{"$f":"+'Bilan 2025'!R40","v":0.37900949252248983},{"$f":"+'Bilan 2025'!S40","v":0.46711260891910655}]
["    Industrie - construction",1920.7377533278659,{"$f":"+'Bilan initial'!C41*(1+Croissance!$I12)","v":0},{"$f":"+'Bilan initial'!D41*(1+Croissance!$I12)","v":0},{"$f":"+'Bilan initial'!E41*(1+Croissance!$I12)","v":0},{"$f":"+'Bilan initial'!F41*(1+Croissance!$I12)","v":597.00925011745198},{"$f":"+'Bilan initial'!G41*(1+Croissance!$I12)","v":0},{"$f":"+'Bilan initial'!H41*(1+Croissance!$I12)","v":0},597.00925011745198,{"$f":"+'Bilan initial'!J41*(1+Croissance!$I12)","v":2.6244183623683233},{"$f":"+'Bilan initial'!K41*(1+Croissance!$I12)","v":5.1457345747864629},{"$f":"+'Bilan initial'!L41*(1+Croissance!$I12)","v":1315.9583502732592},{"$f":"+'Bilan initial'!M41*(1+Croissance!$I12)","v":0},{"$f":"+'Bilan initial'!N41*(1+Croissance!$I12)","v":0},{"$f":"+'Bilan initial'!O41*(1+Croissance!I$20)","v":11246.915648410553},"Nucléaire",0,{"$f":"+'Bilan 2025'!R41","v":0}]
["    Industrie - exploitation minière",2213.3482159323944,{"$f":"+'Bilan initial'!C42*(1+Croissance!$I13)","v":0},{"$f":"+'Bilan initial'!D42*(1+Croissance!$I13)","v":0},{"$f":"+'Bilan initial'!E42*(1+Croissance!$I13)","v":0},{"$f":"+'Bilan initial'!F42*(1+Croissance!$I13)","v":1527.0440683276322},{"$f":"+'Bilan initial'!G42*(1+Croissance!$I13)","v":0},{"$f":"+'Bilan initial'!H42*(1+Croissance!$I13)","v":0},1527.0440683276322,{"$f":"+'Bilan initial'!J42*(1+Croissance!$I13)","v":49.863948884998138},{"$f":"+'Bilan initial'!K42*(1+Croissance!$I13)","v":161.23301667664251},{"$f":"+'Bilan initial'!L42*(1+Croissance!$I13)","v":475.20718204312135},{"$f":"+'Bilan initial'!M42*(1+Croissance!$I13)","v":0},{"$f":"+'Bilan initial'!N42*(1+Croissance!$I13)","v":0},{"$f":"+'Bilan initial'!O42*(1+Croissance!I$20)","v":8652.98290465641},"Importation net",0,{"$f":"+'Bilan 2025'!R42","v":0}]
["    Industrie - machinerie",323.60859263318747,{"$f":"+'Bilan initial'!C43*(1+Croissance!$I14)","v":22.166962239289585},{"$f":"+'Bilan initial'!D43*(1+Croissance!$I14)","v":0},{"$f":"+'Bilan initial'!E43*(1+Croissance!$I14)","v":0},{"$f":"+'Bilan initial'!F43*(1+Croissance!$I14)","v":12.183862247294938},{"$f":"+'Bilan initial'!G43*(1+Croissance!$I14)","v":0},{"$f":"+'Bilan initial'!H43*(1+Croissance!$I14)","v":0},34.350824486584521,{"$f":"+'Bilan initial'!J43*(1+Croissance!$I14)","v":7.8732550871049689},{"$f":"+'Bilan initial'!K43*(1+Croissance!$I14)","v":29.159162590456621},{"$f":"+'Bilan initial'!L43*(1+Croissance!$I14)","v":252.22535046904136},{"$f":"+'Bilan initial'!M43*(1+Croissance!$I14)","v":0},{"$f":"+'Bilan initial'!N43*(1+Croissance!$I14)","v":0},{"$f":"+'Bilan initial'!O43*(1+Croissance!I$20)","v":8452.8458850929292}]
["    Industrie - métaux non-ferreux",23399.763081874389,{"$f":"+'Bilan initial'!C44*(1+Croissance!$I15)","v":164.0355205707429},{"$f":"+'Bilan initial'!D44*(1+Croissance!$I15)","v":0},{"$f":"+'Bilan initial'!E44*(1+Croissance!$I15)","v":0},{"$f":"+'Bilan initial'!F44*(1+Croissance!$I15)","v":52.796736404944731},{"$f":"+'Bilan initial'!G44*(1+Croissance!$I15)","v":0},{"$f":"+'Bilan initial'!H44*(1+Croissance!$I15)","v":0},216.83225697568764,{"$f":"+'Bilan initial'!J44*(1+Croissance!$I15)","v":2850.1183415319988},{"$f":"+'Bilan initial'!K44*(1+Croissance!$I15)","v":116.63665036182648},{"$f":"+'Bilan initial'!L44*(1+Croissance!$I15)","v":7519.2397958669271},{"$f":"+'Bilan initial'!M44*(1+Croissance!$I15)","v":12696.936037137948},{"$f":"+'Bilan initial'!N44*(1+Croissance!$I15)","v":0},{"$f":"+'Bilan initial'!O44*(1+Croissance!I$20)","v":99138.461279063442}]
["    Industrie - pâtes et papiers",1315.8833668914772,{"$f":"+'Bilan initial'!C45*(1+Croissance!$I16)","v":4.4333924478579165},{"$f":"+'Bilan initial'!D45*(1+Croissance!$I16)","v":0},{"$f":"+'Bilan initial'!E45*(1+Croissance!$I16)","v":0},{"$f":"+'Bilan initial'!F45*(1+Croissance!$I16)","v":40.612874157649799},{"$f":"+'Bilan initial'!G45*(1+Croissance!$I16)","v":0},{"$f":"+'Bilan initial'!H45*(1+Croissance!$I16)","v":0},45.046266605507718,{"$f":"+'Bilan initial'!J45*(1+Croissance!$I16)","v":112.84998958183789},{"$f":"+'Bilan initial'!K45*(1+Croissance!$I16)","v":346.47946136895513},{"$f":"+'Bilan initial'!L45*(1+Croissance!$I16)","v":811.50764933517644},{"$f":"+'Bilan initial'!M45*(1+Croissance!$I16)","v":0},{"$f":"+'Bilan initial'!N45*(1+Croissance!$I16)","v":0},{"$f":"+'Bilan initial'!O45*(1+Croissance!I$20)","v":15767.657737373904}]
["    Industrie - transport d'équipment",794.78729249007347,{"$f":"+'Bilan initial'!C46*(1+Croissance!$I17)","v":101.96802630073209},{"$f":"+'Bilan initial'!D46*(1+Croissance!$I17)","v":0},{"$f":"+'Bilan initial'!E46*(1+Croissance!$I17)","v":0},{"$f":"+'Bilan initial'!F46*(1+Croissance!$I17)","v":28.429011910354856},{"$f":"+'Bilan initial'!G46*(1+Croissance!$I17)","v":0},{"$f":"+'Bilan initial'!H46*(1+Croissance!$I17)","v":0},130.39703821108694,{"$f":"+'Bilan initial'!J46*(1+Croissance!$I17)","v":0},{"$f":"+'Bilan initial'!K46*(1+Croissance!$I17)","v":13.721958866097232},{"$f":"+'Bilan initial'!L46*(1+Croissance!$I17)","v":650.66829541288928},{"$f":"+'Bilan initial'!M46*(1+Croissance!$I17)","v":0},{"$f":"+'Bilan initial'!N46*(1+Croissance!$I17)","v":0},{"$f":"+'Bilan initial'!O46*(1+Croissance!I$20)","v":10422.822038443277}]
["    Industrie - cuir et textile",7251.2098231027958,{"$f":"+'Bilan initial'!C47*(1+Croissance!$I18)","v":53.200709374295002},{"$f":"+'Bilan initial'!D47*(1+Croissance!$I18)","v":0},{"$f":"+'Bilan initial'!E47*(1+Croissance!$I18)","v":0},{"$f":"+'Bilan initial'!F47*(1+Croissance!$I18)","v":24.367724494589876},{"$f":"+'Bilan initial'!G47*(1+Croissance!$I18)","v":0},{"$f":"+'Bilan initial'!H47*(1+Croissance!$I18)","v":0},77.568433868884881,{"$f":"+'Bilan initial'!J47*(1+Croissance!$I18)","v":931.66851864075477},{"$f":"+'Bilan initial'!K47*(1+Croissance!$I18)","v":1862.7559160726996},{"$f":"+'Bilan initial'!L47*(1+Croissance!$I18)","v":4379.216954520457},{"$f":"+'Bilan initial'!M47*(1+Croissance!$I18)","v":0},{"$f":"+'Bilan initial'!N47*(1+Croissance!$I18)","v":0},{"$f":"+'Bilan initial'!O47*(1+Croissance!I$20)","v":68168.238565436055}]
["    Industrie - divers",2271.7433990796339,{"$f":"+'Bilan initial'!C48*(1+Croissance!$I19)","v":0},{"$f":"+'Bilan initial'!D48*(1+Croissance!$I19)","v":0},{"$f":"+'Bilan initial'!E48*(1+Croissance!$I19)","v":0},{"$f":"+'Bilan initial'!F48*(1+Croissance!$I19)","v":0},{"$f":"+'Bilan initial'!G48*(1+Croissance!$I19)","v":0},{"$f":"+'Bilan initial'!H48*(1+Croissance!$I19)","v":0},0,{"$f":"+'Bilan initial'!J48*(1+Croissance!$I19)","v":0},{"$f":"+'Bilan initial'!K48*(1+Croissance!$I19)","v":1.715244858262154},{"$f":"+'Bilan initial'!L48*(1+Croissance!$I19)","v":2270.028154221372},{"$f":"+'Bilan initial'!M48*(1+Croissance!$I19)","v":0},{"$f":"+'Bilan initial'!N48*(1+Croissance!$I19)","v":0},{"$f":"+'Bilan initial'!O48*(1+Croissance!I$20)","v":18322.347928272462}]
["    Transport - route",89154.991618996602,{"$f":"+'Bilan initial'!C49*(1+Croissance!$I21)","v":13606.081422475945},{"$f":"+'Bilan initial'!D49*(1+Croissance!$I21)","v":8515.7127022127333},{"$f":"+'Bilan initial'!E49*(1+Croissance!$I21)","v":0},{"$f":"+'Bilan initial'!F49*(1+Croissance!$I21)","v":66718.829666187085},{"$f":"+'Bilan initial'!G49*(1+Croissance!$I21)","v":0},{"$f":"+'Bilan initial'!H49*(1+Croissance!$I21)","v":0},88840.623790875761,{"$f":"+'Bilan initial'!J49*(1+Croissance!$I21)","v":0},{"$f":"+'Bilan initial'!K49*(1+Croissance!$I21)","v":0},{"$f":"+'Bilan initial'!L49*(1+Croissance!$I21)","v":314.36782812083413},{"$f":"+'Bilan initial'!M49*(1+Croissance!$I21)","v":0},{"$f":"+'Bilan initial'!N49*(1+Croissance!$I21)","v":0},{"$f":"+'Bilan initial'!O49*(1+Croissance!I$25)","v":0}]
["    Transport - rail",548.27380112827223,{"$f":"+'Bilan initial'!C50*(1+Croissance!$I22)","v":0},{"$f":"+'Bilan initial'!D50*(1+Croissance!$I22)","v":0},{"$f":"+'Bilan initial'!E50*(1+Croissance!$I22)","v":0},{"$f":"+'Bilan initial'!F50*(1+Croissance!$I22)","v":548.27380112827223},{"$f":"+'Bilan initial'!G50*(1+Croissance!$I22)","v":0},{"$f":"+'Bilan initial'!H50*(1+Croissance!$I22)","v":0},548.27380112827223,{"$f":"+'Bilan initial'!J50*(1+Croissance!$I22)","v":0},{"$f":"+'Bilan initial'!K50*(1+Croissance!$I22)","v":0},{"$f":"+'Bilan initial'!L50*(1+Croissance!$I22)","v":0},{"$f":"+'Bilan initial'!M50*(1+Croissance!$I22)","v":0},{"$f":"+'Bilan initial'!N50*(1+Croissance!$I22)","v":0},{"$f":"+'Bilan initial'!O50*(1+Croissance!I$25)","v":3151.1769943034456}]
["    Transport - air domestique",5512.610453292381,{"$f":"+'Bilan initial'!C51*(1+Croissance!$I23)","v":0},{"$f":"+'Bilan initial'!D51*(1+Croissance!$I23)","v":0},{"$f":"+'Bilan initial'!E51*(1+Croissance!$I23)","v":5512.610453292381},{"$f":"+'Bilan initial'!F51*(1+Croissance!$I23)","v":0},{"$f":"+'Bilan initial'!G51*(1+Croissance!$I23)","v":0},{"$f":"+'Bilan initial'!H51*(1+Croissance!$I23)","v":0},5512.610453292381,{"$f":"+'Bilan initial'!J51*(1+Croissance!$I23)","v":0},{"$f":"+'Bilan initial'!K51*(1+Croissance!$I23)","v":0},{"$f":"+'Bilan initial'!L51*(1+Croissance!$I23)","v":0},{"$f":"+'Bilan initial'!M51*(1+Croissance!$I23)","v":0},{"$f":"+'Bilan initial'!N51*(1+Croissance!$I23)","v":0},{"$f":"+'Bilan initial'!O51*(1+Croissance!I$25)","v":0},"Renouvelable",{"$f":"SUM(Q52:Q56)","v":330328.11291716917},{"$f":"SUM(R52:R56)","v":0.32154630708405757}]
["    Transport - navigation",689.35690853555957,{"$f":"+'Bilan initial'!C52*(1+Croissance!$I24)","v":0},{"$f":"+'Bilan initial'!D52*(1+Croissance!$I24)","v":0},{"$f":"+'Bilan initial'!E52*(1+Croissance!$I24)","v":0},{"$f":"+'Bilan initial'!F52*(1+Croissance!$I24)","v":0},{"$f":"+'Bilan initial'!G52*(1+Croissance!$I24)","v":689.35690853555957},{"$f":"+'Bilan initial'!H52*(1+Croissance!$I24)","v":0},689.35690853555957,{"$f":"+'Bilan initial'!J52*(1+Croissance!$I24)","v":0},{"$f":"+'Bilan initial'!K52*(1+Croissance!$I24)","v":0},{"$f":"+'Bilan initial'!L52*(1+Croissance!$I24)","v":0},{"$f":"+'Bilan initial'!M52*(1+Croissance!$I24)","v":0},{"$f":"+'Bilan initial'!N52*(1+Croissance!$I24)","v":0},{"$f":"+'Bilan initial'!O52*(1+Croissance!I$25)","v":0},"Hydro",{"$f":"Q$34*R52","v":263498.04540410853},{"$f":"+'Bilan 2025'!R52","v":0.256492923582329}]
["    Ménages",49507.571617233967,{"$f":"+'Bilan initial'!C53*(1+Croissance!$I26)","v":1086.1811497251897},{"$f":"+'Bilan initial'!D53*(1+Croissance!$I26)","v":0},{"$f":"+'Bilan initial'!E53*(1+Croissance!$I26)","v":0},{"$f":"+'Bilan initial'!F53*(1+Croissance!$I26)","v":0},{"$f":"+'Bilan initial'!G53*(1+Croissance!$I26)","v":0},{"$f":"+'Bilan initial'!H53*(1+Croissance!$I27)","v":243.27420926882081},1329.4553589940106,{"$f":"+'Bilan initial'!J53*(1+Croissance!$I26)","v":3978.6182373503775},{"$f":"+'Bilan initial'!K53*(1+Croissance!$I26)","v":3989.6595403177703},{"$f":"+'Bilan initial'!L53*(1+Croissance!$I26)","v":40209.838480571809},{"$f":"+'Bilan initial'!M53*(1+Croissance!$I26)","v":0},{"$f":"+'Bilan initial'!N53*(1+Croissance!$I26)","v":0},{"$f":"+'Bilan initial'!O53*(1+Croissance!I28)","v":187975.75243353593},"Éolien",{"$f":"Q$34*R53","v":45729.346842612773},{"$f":"+'Bilan 2025'!R53","v":4.4513627595163974E-2}]
["    Services",29308.970014334238,{"$f":"+'Bilan initial'!C54*(1+Croissance!$I29)","v":2531.46708772687},{"$f":"+'Bilan initial'!D54*(1+Croissance!$I29)","v":0},{"$f":"+'Bilan initial'!E54*(1+Croissance!$I29)","v":0},{"$f":"+'Bilan initial'!F54*(1+Croissance!$I29)","v":0},{"$f":"+'Bilan initial'!G54*(1+Croissance!$I29)","v":0},{"$f":"+'Bilan initial'!H54*(1+Croissance!$I29)","v":0},2531.46708772687,{"$f":"+'Bilan initial'!J54*(1+Croissance!$I29)","v":13707.337106649751},{"$f":"+'Bilan initial'!K54*(1+Croissance!$I29)","v":1389.3483351923451},{"$f":"+'Bilan initial'!L54*(1+Croissance!$I29)","v":11554.84540337159},{"$f":"+'Bilan initial'!M54*(1+Croissance!$I29)","v":125.9720813936795},{"$f":"+'Bilan initial'!N54*(1+Croissance!$I29)","v":0},{"$f":"+'Bilan initial'!O54*(1+Croissance!I30)","v":235196.31628466089},"Solaire",{"$f":"Q$34*R54","v":761.30552539834184},{"$f":"+'Bilan 2025'!R54","v":7.4106614206314344E-4}]
["    Agriculture & Pêches",11520.691410262181,{"$f":"+'Bilan initial'!C55*(1+Croissance!$I31)","v":0},{"$f":"+'Bilan initial'!D55*(1+Croissance!$I31)","v":0},{"$f":"+'Bilan initial'!E55*(1+Croissance!$I31)","v":0},{"$f":"+'Bilan initial'!F55*(1+Croissance!$I31)","v":11034.51790863345},{"$f":"+'Bilan initial'!G55*(1+Croissance!$I31)","v":0},{"$f":"+'Bilan initial'!H55*(1+Croissance!$I31)","v":0},11034.51790863345,{"$f":"+'Bilan initial'!J55*(1+Croissance!$I31)","v":0},{"$f":"+'Bilan initial'!K55*(1+Croissance!$I31)","v":0},{"$f":"+'Bilan initial'!L55*(1+Croissance!$I31)","v":486.17350162873186},{"$f":"+'Bilan initial'!M55*(1+Croissance!$I31)","v":0},{"$f":"+'Bilan initial'!N55*(1+Croissance!$I31)","v":0},{"$f":"+'Bilan initial'!O55*(1+Croissance!I32)","v":19154.290048810857},"Biomasse",{"$f":"Q$34*R55","v":6898.8407920117779},{"$f":"+'Bilan 2025'!R55","v":6.7154344213763203E-3}]
["    Utilisations non énergétiques",0,{"$f":"+'Bilan initial'!C56*(1+Croissance!$I33)","v":0},{"$f":"+'Bilan initial'!D56*(1+Croissance!$I33)","v":0},{"$f":"+'Bilan initial'!E56*(1+Croissance!$I33)","v":0},{"$f":"+'Bilan initial'!F56*(1+Croissance!$I33)","v":0},{"$f":"+'Bilan initial'!G56*(1+Croissance!$I33)","v":0},{"$f":"+'Bilan initial'!H56*(1+Croissance!$I33)","v":0},0,{"$f":"+'Bilan initial'!J56*(1+Croissance!$I33)","v":0},{"$f":"+'Bilan initial'!K56*(1+Croissance!$I33)","v":0},{"$f":"+'Bilan initial'!L56*(1+Croissance!$I33)","v":0},{"$f":"+'Bilan initial'!M56*(1+Croissance!$I33)","v":0},{"$f":"+'Bilan initial'!N56*(1+Croissance!$I33)","v":0},{"$f":"+'Bilan initial'!O56*(1+Croissance!I33)","v":0},"Géothermie",{"$f":"Q$34*R56","v":13440.574353037737},{"$f":"+'Bilan 2025'!R56","v":1.3083255343125084E-2}]
[null,null,null,null,null,null,null,null,null,null,null,null,null,null,null,null,null,{"$f":"+R36+R51","v":1}]
[]
["Bilan GES",{"$f":"+Hypothèses!$B$2","v":"Pays X"},null,2030]
["Ton CO2/Toe (IPCC):",null,{"$f":"+'Bilan initial'!C60","v":2.6140704480000001},{"$f":"+'Bilan initial'!D60","v":2.8724378760000002},{"$f":"+'Bilan initial'!E60","v":2.9636263800000004},{"$f":"+'Bilan initial'!F60","v":3.0700129680000003},{"$f":"+'Bilan initial'!G60","v":3.2067957240000005},{"$f":"+'Bilan initial'!H60","v":2.9788244640000006},null,{"$f":"+'Bilan initial'!J60","v":3.9211056720000004},{"$f":"+'Bilan initial'!K60","v":4.1946711840000006},{"$f":"+'Bilan initial'!L60","v":2.3253068520000002},{"$f":"+'Bilan initial'!M60","v":4.4848164240000008},{"$f":"+'Bilan initial'!N60","v":4.1573667960000007}]
["Unit : ktCO2-e","Total","GPL","Essence","Essence pour carburéacteurs","Diesel","Fiouls lourds","Kérosène et autres","Total produits pétroliers","Charbon","Lignite","Gaz","Coke","Coke de pétrole"]
["Total",{"$f":"+B63+B64","v":1526985.2378698261},{"$f":"+C63+C64","v":46298.854728415383},24460.855706970167,16337.317762041062,250997.43552281969,5653.4062083584267,724.67116603021918,344472.54109463491,290843.84185277368,405834.86270682502,378318.86158055102,58085.120627608427,49430.0100074332]
["    Fossil power plants",{"$f":"SUM(I63:N63)","v":692076.69594511553},{"$f":"C60*C35","v":0},0,0,2967.4327978953411,2742.14360960975,0,{"$f":"SUM(C63:H63)","v":5709.5764075050911},{"$f":"J60*J35","v":165380.58176470743},{"$f":"K60*K35","v":354326.65822293749},{"$f":"L60*L35","v":166659.8795499655},{"$f":"M60*M35","v":0},{"$f":"N60*N35","v":0}]
["FINAL CONSUMPTION",{"$f":"SUM(B65:B84)","v":834908.54192471073},{"$f":"SUM(C65:C84)","v":46298.854728415383},24460.855706970167,16337.317762041062,248030.00272492436,2911.2625987486763,724.67116603021918,{"$f":"SUM(C64:H64)","v":338762.96468712983},{"$f":"SUM(J65:J84)","v":125463.26008806622},{"$f":"SUM(K65:K84)","v":51508.20448388753},{"$f":"SUM(L65:L84)","v":211658.9820305855},{"$f":"SUM(M65:M84)","v":58085.120627608427},{"$f":"SUM(N65:N84)","v":49430.0100074332}]
["    Industry - steel",{"$f":"SUM(I65:N65)","v":2528.971599916882},{"$f":"+'Bilan initial'!C65*(1+Croissance!$I8)","v":0},{"$f":"+'Bilan initial'!D65*(1+Croissance!$I8)","v":0},{"$f":"+'Bilan initial'!E65*(1+Croissance!$I8)","v":0},{"$f":"+'Bilan initial'!F65*(1+Croissance!$I8)","v":211.95948556395288},{"$f":"+'Bilan initial'!G65*(1+Croissance!$I8)","v":0},{"$f":"+'Bilan initial'!H65*(1+Croissance!$I8)","v":0},{"$f":"SUM(C65:H65)","v":211.95948556395288},{"$f":"+'Bilan initial'!J65*(1+Croissance!$I8)","v":174.94056934851756},{"$f":"+'Bilan initial'!K65*(1+Croissance!$I8)","v":187.067092691867},{"$f":"+'Bilan initial'!L65*(1+Croissance!$I8)","v":1955.0044523125443},{"$f":"+'Bilan initial'!M65*(1+Croissance!$I8)","v":0},{"$f":"+'Bilan initial'!N65*(1+Croissance!$I8)","v":0}]
["    Industry - chemical",{"$f":"SUM(I66:N66)","v":28598.30916091481},{"$f":"+'Bilan initial'!C66*(1+Croissance!$I9)","v":104.30280164098585},{"$f":"+'Bilan initial'!D66*(1+Croissance!$I9)","v":0},{"$f":"+'Bilan initial'!E66*(1+Croissance!$I9)","v":0},{"$f":"+'Bilan initial'!F66*(1+Croissance!$I9)","v":49.872820132694791},{"$f":"+'Bilan initial'!G66*(1+Croissance!$I9)","v":36.23978338691299},{"$f":"+'Bilan initial'!H66*(1+Croissance!$I9)","v":0},190.41540516059362,{"$f":"+'Bilan initial'!J66*(1+Croissance!$I9)","v":4054.5049601950532},{"$f":"+'Bilan initial'!K66*(1+Croissance!$I9)","v":2338.3386586483375},{"$f":"+'Bilan initial'!L66*(1+Croissance!$I9)","v":22015.050136910828},{"$f":"+'Bilan initial'!M66*(1+Croissance!$I9)","v":0},{"$f":"+'Bilan initial'!N66*(1+Croissance!$I9)","v":0}]
["    Industry - non metallic mineral",110058.03083958797,{"$f":"+'Bilan initial'!C67*(1+Croissance!$I10)","v":34.76760054699529},{"$f":"+'Bilan initial'!D67*(1+Croissance!$I10)","v":0},{"$f":"+'Bilan initial'!E67*(1+Croissance!$I10)","v":0},{"$f":"+'Bilan initial'!F67*(1+Croissance!$I10)","v":299.2369207961687},{"$f":"+'Bilan initial'!G67*(1+Croissance!$I10)","v":217.43870032147788},{"$f":"+'Bilan initial'!H67*(1+Croissance!$I10)","v":0},551.4432216646419,{"$f":"+'Bilan initial'!J67*(1+Croissance!$I10)","v":34031.086049149853},{"$f":"+'Bilan initial'!K67*(1+Croissance!$I10)","v":10116.012781721731},{"$f":"+'Bilan initial'!L67*(1+Croissance!$I10)","v":16014.036470247102},{"$f":"+'Bilan initial'!M67*(1+Croissance!$I10)","v":0},{"$f":"+'Bilan initial'!N67*(1+Croissance!$I10)","v":49345.452316804651}]
["    Industry - food processing and beverage",17770.497708161049,{"$f":"+'Bilan initial'!C68*(1+Croissance!$I11)","v":231.78400364663526},{"$f":"+'Bilan initial'!D68*(1+Croissance!$I11)","v":0},{"$f":"+'Bilan initial'!E68*(1+Croissance!$I11)","v":0},{"$f":"+'Bilan initial'!F68*(1+Croissance!$I11)","v":74.809230199042176},{"$f":"+'Bilan initial'!G68*(1+Croissance!$I11)","v":446.95732843859338},{"$f":"+'Bilan initial'!H68*(1+Croissance!$I11)","v":0},753.55056228427088,{"$f":"+'Bilan initial'!J68*(1+Croissance!$I11)","v":2346.2617536154112},{"$f":"+'Bilan initial'!K68*(1+Croissance!$I11)","v":5662.3769980192046},{"$f":"+'Bilan initial'!L68*(1+Croissance!$I11)","v":8347.0190094387763},{"$f":"+'Bilan initial'!M68*(1+Croissance!$I11)","v":576.73169417483541},{"$f":"+'Bilan initial'!N68*(1+Croissance!$I11)","v":84.557690628551413}]
["    Industry - construction",4924.7083949813123,{"$f":"+'Bilan initial'!C69*(1+Croissance!$I12)","v":0},{"$f":"+'Bilan initial'!D69*(1+Croissance!$I12)","v":0},{"$f":"+'Bilan initial'!E69*(1+Croissance!$I12)","v":0},{"$f":"+'Bilan initial'!F69*(1+Croissance!$I12)","v":1832.8261398765333},{"$f":"+'Bilan initial'!G69*(1+Croissance!$I12)","v":0},{"$f":"+'Bilan initial'!H69*(1+Croissance!$I12)","v":0},1832.8261398765333,{"$f":"+'Bilan initial'!J69*(1+Croissance!$I12)","v":10.290621726383383},{"$f":"+'Bilan initial'!K69*(1+Croissance!$I12)","v":21.584664541369271},{"$f":"+'Bilan initial'!L69*(1+Croissance!$I12)","v":3060.0069688370263},{"$f":"+'Bilan initial'!M69*(1+Croissance!$I12)","v":0},{"$f":"+'Bilan initial'!N69*(1+Croissance!$I12)","v":0}]
["    Industry - mining",6664.8889107619789,{"$f":"+'Bilan initial'!C70*(1+Croissance!$I13)","v":0},{"$f":"+'Bilan initial'!D70*(1+Croissance!$I13)","v":0},{"$f":"+'Bilan initial'!E70*(1+Croissance!$I13)","v":0},{"$f":"+'Bilan initial'!F70*(1+Croissance!$I13)","v":4688.0450924733095},{"$f":"+'Bilan initial'!G70*(1+Croissance!$I13)","v":0},{"$f":"+'Bilan initial'!H70*(1+Croissance!$I13)","v":0},4688.0450924733095,{"$f":"+'Bilan initial'!J70*(1+Croissance!$I13)","v":195.52181280128428},{"$f":"+'Bilan initial'!K70*(1+Croissance!$I13)","v":676.31948896290396},{"$f":"+'Bilan initial'!L70*(1+Croissance!$I13)","v":1105.0025165244815},{"$f":"+'Bilan initial'!M70*(1+Croissance!$I13)","v":0},{"$f":"+'Bilan initial'!N70*(1+Croissance!$I13)","v":0}]
["    Industry - machinery",835.03691595185251,{"$f":"+'Bilan initial'!C71*(1+Croissance!$I14)","v":57.946000911658814},{"$f":"+'Bilan initial'!D71*(1+Croissance!$I14)","v":0},{"$f":"+'Bilan initial'!E71*(1+Croissance!$I14)","v":0},{"$f":"+'Bilan initial'!F71*(1+Croissance!$I14)","v":37.404615099521088},{"$f":"+'Bilan initial'!G71*(1+Croissance!$I14)","v":0},{"$f":"+'Bilan initial'!H71*(1+Croissance!$I14)","v":0},95.350616011179909,{"$f":"+'Bilan initial'!J71*(1+Croissance!$I14)","v":30.871865179150149},{"$f":"+'Bilan initial'!K71*(1+Croissance!$I14)","v":122.31309906775921},{"$f":"+'Bilan initial'!L71*(1+Croissance!$I14)","v":586.50133569376328},{"$f":"+'Bilan initial'!M71*(1+Croissance!$I14)","v":0},{"$f":"+'Bilan initial'!N71*(1+Croissance!$I14)","v":0}]
["    Industry - non ferrous metals",86683.721756295126,{"$f":"+'Bilan initial'!C72*(1+Croissance!$I15)","v":428.80040674627514},{"$f":"+'Bilan initial'!D72*(1+Croissance!$I15)","v":0},{"$f":"+'Bilan initial'!E72*(1+Croissance!$I15)","v":0},{"$f":"+'Bilan initial'!F72*(1+Croissance!$I15)","v":162.08666543125807},{"$f":"+'Bilan initial'!G72*(1+Croissance!$I15)","v":0},{"$f":"+'Bilan initial'!H72*(1+Croissance!$I15)","v":0},590.88707217753324,{"$f":"+'Bilan initial'!J72*(1+Croissance!$I15)","v":11175.615194852355},{"$f":"+'Bilan initial'!K72*(1+Croissance!$I15)","v":489.25239627103684},{"$f":"+'Bilan initial'!L72*(1+Croissance!$I15)","v":17484.539819160447},{"$f":"+'Bilan initial'!M72*(1+Croissance!$I15)","v":56943.427273833753},{"$f":"+'Bilan initial'!N72*(1+Croissance!$I15)","v":0}]
["    Industry - paper and pulp",3919.1396946502509,{"$f":"+'Bilan initial'!C73*(1+Croissance!$I16)","v":11.589200182331762},{"$f":"+'Bilan initial'!D73*(1+Croissance!$I16)","v":0},{"$f":"+'Bilan initial'!E73*(1+Croissance!$I16)","v":0},{"$f":"+'Bilan initial'!F73*(1+Croissance!$I16)","v":124.68205033173697},{"$f":"+'Bilan initial'!G73*(1+Croissance!$I16)","v":0},{"$f":"+'Bilan initial'!H73*(1+Croissance!$I16)","v":0},136.27125051406873,{"$f":"+'Bilan initial'!J73*(1+Croissance!$I16)","v":442.49673423448547},{"$f":"+'Bilan initial'!K73*(1+Croissance!$I16)","v":1453.3674124521976},{"$f":"+'Bilan initial'!L73*(1+Croissance!$I16)","v":1887.0042974494991},{"$f":"+'Bilan initial'!M73*(1+Croissance!$I16)","v":0},{"$f":"+'Bilan initial'!N73*(1+Croissance!$I16)","v":0}]
["    Industry - transport equipment",1924.3915905722492,{"$f":"+'Bilan initial'!C74*(1+Croissance!$I17)","v":266.55160419363051},{"$f":"+'Bilan initial'!D74*(1+Croissance!$I17)","v":0},{"$f":"+'Bilan initial'!E74*(1+Croissance!$I17)","v":0},{"$f":"+'Bilan initial'!F74*(1+Croissance!$I17)","v":87.277435232215865},{"$f":"+'Bilan initial'!G74*(1+Croissance!$I17)","v":0},{"$f":"+'Bilan initial'!H74*(1+Croissance!$I17)","v":0},353.82903942584636,{"$f":"+'Bilan initial'!J74*(1+Croissance!$I17)","v":0},{"$f":"+'Bilan initial'!K74*(1+Croissance!$I17)","v":57.559105443651383},{"$f":"+'Bilan initial'!L74*(1+Croissance!$I17)","v":1513.0034457027516},{"$f":"+'Bilan initial'!M74*(1+Croissance!$I17)","v":0},{"$f":"+'Bilan initial'!N74*(1+Croissance!$I17)","v":0}]
["    Industry - textile and leather",21863.722099969797,{"$f":"+'Bilan initial'!C75*(1+Croissance!$I18)","v":139.07040218798116},{"$f":"+'Bilan initial'!D75*(1+Croissance!$I18)","v":0},{"$f":"+'Bilan initial'!E75*(1+Croissance!$I18)","v":0},{"$f":"+'Bilan initial'!F75*(1+Croissance!$I18)","v":74.809230199042176},{"$f":"+'Bilan initial'!G75*(1+Croissance!$I18)","v":0},{"$f":"+'Bilan initial'!H75*(1+Croissance!$I18)","v":0},213.87963238702332,{"$f":"+'Bilan initial'!J75*(1+Croissance!$I18)","v":3653.1707128661014},{"$f":"+'Bilan initial'!K75*(1+Croissance!$I18)","v":7813.6485639756766},{"$f":"+'Bilan initial'!L75*(1+Croissance!$I18)","v":10183.023190740993},{"$f":"+'Bilan initial'!M75*(1+Croissance!$I18)","v":0},{"$f":"+'Bilan initial'!N75*(1+Croissance!$I18)","v":0}]
["    Industry - miscellaneous",5285.7069094243261,{"$f":"+'Bilan initial'!C76*(1+Croissance!$I19)","v":0},{"$f":"+'Bilan initial'!D76*(1+Croissance!$I19)","v":0},{"$f":"+'Bilan initial'!E76*(1+Croissance!$I19)","v":0},{"$f":"+'Bilan initial'!F76*(1+Croissance!$I19)","v":0},{"$f":"+'Bilan initial'!G76*(1+Croissance!$I19)","v":0},{"$f":"+'Bilan initial'!H76*(1+Croissance!$I19)","v":0},0,{"$f":"+'Bilan initial'!J76*(1+Croissance!$I19)","v":0},{"$f":"+'Bilan initial'!K76*(1+Croissance!$I19)","v":7.1948881804564229},{"$f":"+'Bilan initial'!L76*(1+Croissance!$I19)","v":5278.5120212438696},{"$f":"+'Bilan initial'!M76*(1+Croissance!$I19)","v":0},{"$f":"+'Bilan initial'!N76*(1+Croissance!$I19)","v":0}]
["    Transport - road",265586.78501630155,{"$f":"+'Bilan initial'!C77*(1+Croissance!$I21)","v":35567.255359576171},{"$f":"+'Bilan initial'!D77*(1+Croissance!$I21)","v":24460.855706970167},{"$f":"+'Bilan initial'!E77*(1+Croissance!$I21)","v":0},{"$f":"+'Bilan initial'!F77*(1+Croissance!$I21)","v":204827.67228497748},{"$f":"+'Bilan initial'!G77*(1+Croissance!$I21)","v":0},{"$f":"+'Bilan initial'!H77*(1+Croissance!$I21)","v":0},264855.7833515238,{"$f":"+'Bilan initial'!J77*(1+Croissance!$I21)","v":0},{"$f":"+'Bilan initial'!K77*(1+Croissance!$I21)","v":0},{"$f":"+'Bilan initial'!L77*(1+Croissance!$I21)","v":731.00166477773394},{"$f":"+'Bilan initial'!M77*(1+Croissance!$I21)","v":0},{"$f":"+'Bilan initial'!N77*(1+Croissance!$I21)","v":0}]
["    Transport - rail",1683.2076794784491,{"$f":"+'Bilan initial'!C78*(1+Croissance!$I22)","v":0},{"$f":"+'Bilan initial'!D78*(1+Croissance!$I22)","v":0},{"$f":"+'Bilan initial'!E78*(1+Croissance!$I22)","v":0},{"$f":"+'Bilan initial'!F78*(1+Croissance!$I22)","v":1683.2076794784491},{"$f":"+'Bilan initial'!G78*(1+Croissance!$I22)","v":0},{"$f":"+'Bilan initial'!H78*(1+Croissance!$I22)","v":0},1683.2076794784491,{"$f":"+'Bilan initial'!J78*(1+Croissance!$I22)","v":0},{"$f":"+'Bilan initial'!K78*(1+Croissance!$I22)","v":0},{"$f":"+'Bilan initial'!L78*(1+Croissance!$I22)","v":0},{"$f":"+'Bilan initial'!M78*(1+Croissance!$I22)","v":0},{"$f":"+'Bilan initial'!N78*(1+Croissance!$I22)","v":0}]
["    Transport - domestic air",16337.317762041062,{"$f":"+'Bilan initial'!C79*(1+Croissance!$I23)","v":0},{"$f":"+'Bilan initial'!D79*(1+Croissance!$I23)","v":0},{"$f":"+'Bilan initial'!E79*(1+Croissance!$I23)","v":16337.317762041062},{"$f":"+'Bilan initial'!F79*(1+Croissance!$I23)","v":0},{"$f":"+'Bilan initial'!G79*(1+Croissance!$I23)","v":0},{"$f":"+'Bilan initial'!H79*(1+Croissance!$I23)","v":0},16337.317762041062,{"$f":"+'Bilan initial'!J79*(1+Croissance!$I23)","v":0},{"$f":"+'Bilan initial'!K79*(1+Croissance!$I23)","v":0},{"$f":"+'Bilan initial'!L79*(1+Croissance!$I23)","v":0},{"$f":"+'Bilan initial'!M79*(1+Croissance!$I23)","v":0},{"$f":"+'Bilan initial'!N79*(1+Croissance!$I23)","v":0}]
["    Transport - navigation",2210.6267866016919,{"$f":"+'Bilan initial'!C80*(1+Croissance!$I24)","v":0},{"$f":"+'Bilan initial'!D80*(1+Croissance!$I24)","v":0},{"$f":"+'Bilan initial'!E80*(1+Croissance!$I24)","v":0},{"$f":"+'Bilan initial'!F80*(1+Croissance!$I24)","v":0},{"$f":"+'Bilan initial'!G80*(1+Croissance!$I24)","v":2210.6267866016919},{"$f":"+'Bilan initial'!H80*(1+Croissance!$I24)","v":0},2210.6267866016919,{"$f":"+'Bilan initial'!J80*(1+Croissance!$I24)","v":0},{"$f":"+'Bilan initial'!K80*(1+Croissance!$I24)","v":0},{"$f":"+'Bilan initial'!L80*(1+Croissance!$I24)","v":0},{"$f":"+'Bilan initial'!M80*(1+Croissance!$I24)","v":0},{"$f":"+'Bilan initial'!N80*(1+Croissance!$I24)","v":0}]
["    Households",129400.13059232724,{"$f":"+'Bilan initial'!C81*(1+Croissance!$I26)","v":2839.3540446712818},{"$f":"+'Bilan initial'!D81*(1+Croissance!$I26)","v":0},{"$f":"+'Bilan initial'!E81*(1+Croissance!$I26)","v":0},{"$f":"+'Bilan initial'!F81*(1+Croissance!$I26)","v":0},{"$f":"+'Bilan initial'!G81*(1+Croissance!$I26)","v":0},{"$f":"+'Bilan initial'!H81*(1+Croissance!$I27)","v":724.67116603021918},3564.0252107015012,{"$f":"+'Bilan initial'!J81*(1+Croissance!$I26)","v":15600.58253719721},{"$f":"+'Bilan initial'!K81*(1+Croissance!$I26)","v":16735.309907741641},{"$f":"+'Bilan initial'!L81*(1+Croissance!$I26)","v":93500.21293668689},{"$f":"+'Bilan initial'!M81*(1+Croissance!$I26)","v":0},{"$f":"+'Bilan initial'!N81*(1+Croissance!$I26)","v":0}]
["    Services",93626.73285704205,{"$f":"+'Bilan initial'!C82*(1+Croissance!$I29)","v":6617.4333041114351},{"$f":"+'Bilan initial'!D82*(1+Croissance!$I29)","v":0},{"$f":"+'Bilan initial'!E82*(1+Croissance!$I29)","v":0},{"$f":"+'Bilan initial'!F82*(1+Croissance!$I29)","v":0},{"$f":"+'Bilan initial'!G82*(1+Croissance!$I29)","v":0},{"$f":"+'Bilan initial'!H82*(1+Croissance!$I29)","v":0},6617.4333041114351,{"$f":"+'Bilan initial'!J82*(1+Croissance!$I29)","v":53747.917276900414},{"$f":"+'Bilan initial'!K82*(1+Croissance!$I29)","v":5827.8594261697035},{"$f":"+'Bilan initial'!L82*(1+Croissance!$I29)","v":26868.561190260665},{"$f":"+'Bilan initial'!M82*(1+Croissance!$I29)","v":564.96165959983875},{"$f":"+'Bilan initial'!N82*(1+Croissance!$I29)","v":0}]
["    Agriculture & Fishery",35006.615649731059,{"$f":"+'Bilan initial'!C83*(1+Croissance!$I31)","v":0},{"$f":"+'Bilan initial'!D83*(1+Croissance!$I31)","v":0},{"$f":"+'Bilan initial'!E83*(1+Croissance!$I31)","v":0},{"$f":"+'Bilan initial'!F83*(1+Croissance!$I31)","v":33876.113075132933},{"$f":"+'Bilan initial'!G83*(1+Croissance!$I31)","v":0},{"$f":"+'Bilan initial'!H83*(1+Croissance!$I31)","v":0},33876.113075132933,{"$f":"+'Bilan initial'!J83*(1+Croissance!$I31)","v":0},{"$f":"+'Bilan initial'!K83*(1+Croissance!$I31)","v":0},{"$f":"+'Bilan initial'!L83*(1+Croissance!$I31)","v":1130.5025745981236},{"$f":"+'Bilan initial'!M83*(1+Croissance!$I31)","v":0},{"$f":"+'Bilan initial'!N83*(1+Croissance!$I31)","v":0}]
["    Non energy uses",0,{"$f":"+'Bilan initial'!C84*(1+Croissance!$I33)","v":0},{"$f":"+'Bilan initial'!D84*(1+Croissance!$I33)","v":0},{"$f":"+'Bilan initial'!E84*(1+Croissance!$I33)","v":0},{"$f":"+'Bilan initial'!F84*(1+Croissance!$I33)","v":0},{"$f":"+'Bilan initial'!G84*(1+Croissance!$I33)","v":0},{"$f":"+'Bilan initial'!H84*(1+Croissance!$I33)","v":0},0,{"$f":"+'Bilan initial'!J84*(1+Croissance!$I33)","v":0},{"$f":"+'Bilan initial'!K84*(1+Croissance!$I33)","v":0},{"$f":"+'Bilan initial'!L84*(1+Croissance!$I33)","v":0},{"$f":"+'Bilan initial'!M84*(1+Croissance!$I33)","v":0},{"$f":"+'Bilan initial'!N84*(1+Croissance!$I33)","v":0}]
["CH4 from energy combustion",{"$f":"IF(B62=0,0,'Bilan initial'!B85*'Bilan 2050'!B64/'Bilan initial'!B64)","v":19860.656000211384}]
["N2O from energy combustion",{"$f":"IF(B62=0,0,'Bilan initial'!B86*'Bilan 2050'!B64/'Bilan initial'!B64)","v":15206.489231539043}]
["Total Agriculture",{"$f":"SUM(B88:B92)","v":113054.62508871994}]
["  Enteric fermentation",{"$f":"+'Bilan initial'!B88*(1+Croissance!I$34)","v":53695.554995151237}]
["  Manure management",{"$f":"+'Bilan initial'!B89*(1+Croissance!I$34)","v":12589.139344296094}]
["  Rice cultivation",{"$f":"+'Bilan initial'!B90*(1+Croissance!I$35)","v":399.40162894340403}]
["  N2O from agricultural soils",{"$f":"+'Bilan initial'!B91*(1+Croissance!I$36)","v":45687.552334835986}]
["  Burning of agricultural residues",{"$f":"+'Bilan initial'!B92*(1+Croissance!I$37)","v":682.97678549322086}]
["Fugitive (CH4)",{"$f":"IF('Bilan initial'!L62=0,0, 'Bilan initial'!B93*'Bilan 2050'!L62/'Bilan initial'!L62)","v":16211.09858464201}]
["Forestry",{"$f":"+'Bilan initial'!B94*(1+Croissance!I$38)","v":-64020}]
["Waste - solid",{"$f":"+'Bilan initial'!B95*(1+Croissance!I39)","v":16880}]
["Waste - liquid",{"$f":"+'Bilan initial'!B96*(1+Croissance!I40)","v":0}]
["Industrial processes",{"$f":"+'Bilan initial'!B97*(1+Croissance!I41)","v":60720}]
["Émission total GES (excl. Foresterie)",{"$f":"B62+B85+B86+B87+B93+B95+B96+B97","v":1768918.1067749383}]
["Émission total GES (incl. Foresterie)",{"$f":"+B85+B86+B87+B93+B94+B95+B96+B97+B62","v":1704898.1067749385}]

{"sheet":"Hypothèses","index":9,"n_rows":73,"n_cols":14,"rows_kept":73,"cut":false,"hidden":false,"merged":[[60,0,60,2],[25,1,25,3]]}
["Hypothèse et données de pays"]
["Pays","Pays X"]
["Année de référence (année du dernier inventaire):",2015]
["Devise taux =","Devise Y"]
["Taux de change utilisé:                        1 US$=",4,{"$f":"+Currency","v":"Devise Y"}]
["Taux d'actualisation =",7.0000000000000007E-2]
[]
["Prix ​​de l'énergie utilisés pour toute la période future:"]
["Pétrole brut",50,"US$/bbl",null,null,"1 Million BTU =",1.0549999999999999,"GJ"]
["Pétrole brut",{"$f":"B9/G11","v":0.31446540880503143},"US$/litre",null,null,"1 US gallon =",3.7854000000000001,"litres"]
["Gaz naturel liquéfié (GNL)",3.25,"US$/MBTU",null,null,"1 bbl =",159,"litres"]
["Gaz naturel",{"$f":"B11/1.055","v":3.080568720379147},"US$/GJ"]
["Charbon",50,"US$/ton"]
[]
["Prix ​​du carburant"]
["2020 prices","GPL","Essence ","Bioéthanol","Essence pour ","Gasoil / Diesel","Biodiesel","Fiouls lourds","Kéro-","Charbon","Coke","Coke de ","Lignite","Gaz"]
[null,null,null,null,"carburéacteurs",null,null,null,"sène",null,null,"pétrole",null,"Naturel"]
["Prix distiller/prix du pétrole brut (litre/litre)",0.9,1.4,null,1.4,1.2,null,0.8,1.4]
["US$/litre",{"$f":"$B$10*B18","v":0.28301886792452829},{"$f":"$B$10*C18","v":0.44025157232704398},0.83,{"$f":"$B$10*E18","v":0.44025157232704398},{"$f":"$B$10*F18","v":0.37735849056603771},1.2,{"$f":"$B$10*H18","v":0.25157232704402516},{"$f":"$B$10*I18","v":0.44025157232704398}]
["US$/GJ",{"$f":"B19*1000/B22/B21","v":11.080528851481024},{"$f":"C19*1000/C22/C21","v":13.102725366876308},null,{"$f":"(E19*1000/E21)/E22","v":12.341656546508295},{"$f":"F19*1000/F22/F21","v":10.367789021299378},null,{"$f":"(H19*1000/H21)/H22","v":6.387321626458637},{"$f":"(I19*1000/I21)/I22","v":12.297529953269384},{"$f":"B13/J22","v":2.0032051282051282},{"$f":"J20","v":2.0032051282051282},{"$f":"K20","v":2.0032051282051282},null,{"$f":"+B12","v":3.080568720379147}]
["t/m3",0.54,0.75,{"$f":"1/(C63/1000)","v":0.75528700906344404},0.8,0.84,{"$f":"1/(C64/1000)","v":0.88339222614840995},0.98,0.8,null,null,null,null,"(MJ/Nm3)"]
["GJ/t",47.3,44.8,{"$f":"+D68","v":26.795520000000003},44.59,43.33,{"$f":"+D68","v":26.795520000000003},40.19,44.75,24.96,28,31,18.3,39]
[]
["Électricité","Réseaux isolés","Réseau 1","Réseau 2"]
["US$/kWh",null,0.2]
[null,"tCO2/MWh (=kCO2/kWh)"]
["Marge d'exploitation (ME)"]
["Marge de construction (MC)"]
["Marge combinée (MC) Solaire & Éolien",null,0.48549999999999999]
["Marge combinée (MC) Autre",null,0.48549999999999999]
[]
[]
["Pertes sur le réseau électrique et \nconsommation propre",0.186]
[]
["kg/GJ","Facteurs d´émission","CO2","CH4","N2O"]
["Centrale électrique","Fiouls",{"$f":"21.1*44/12","v":77.366666666666674},3.0000000000000001E-3,5.9999999999999995E-4]
[null,"Gasoil / Diesel",{"$f":"20.2*44/12","v":74.066666666666663},3.0000000000000001E-3,5.9999999999999995E-4]
[null,"Essence",{"$f":"18.9*44/12","v":69.3},3.0000000000000001E-3,5.9999999999999995E-4]
[null,"Essence pour carburéacteurs",{"$f":"19.5*44/12","v":71.5},3.0000000000000001E-3,5.9999999999999995E-4]
[null,"Kérosène",{"$f":"19.6*44/12","v":71.866666666666674},3.0000000000000001E-3,5.9999999999999995E-4]
[null,"GPL",{"$f":"17.2*44/12","v":63.066666666666663},1E-3,1E-4]
[null,"Gaz naturel",56.1,1E-3,1E-4]
[null,"Charbon",{"$f":"25.8*44/12","v":94.600000000000009},1E-3,1.4E-3]
[null,"Lignite",{"$f":"27.6*44/12","v":101.2},{"$f":"+D43","v":1E-3},1.4E-3]
["Industrie","Pétrole","Tel que",2E-3,5.9999999999999995E-4]
[null,"Gaz naturel","ci-haut",5.0000000000000001E-3,1E-4]
[null,"Charbon",null,0.01,1.4E-3]
[null,"Charbon de bois",null,0.2,4.0000000000000001E-3]
["Résidentiel","Pétrole","Tel que",0.01,5.9999999999999995E-4]
[null,"Gaz naturel","ci-haut",5.0000000000000001E-3,1E-4]
[null,"Charbon",null,0.3,1.4E-3]
[null,"Charbon de bois",null,0.2,4.0000000000000001E-3]
[]
["Potentiels de réchauffement climatique:","SAR","AR4","AR5","GWP utilisé",null,"TAR"]
["1 Ton CH4  =",21,25,28,{"$f":"+B55","v":21},"Ton CO2",23]
["1 Ton N2O  =",310,298,265,{"$f":"+B56","v":310},"Ton CO2",296]
[]
[]
["Source:"]
["http://www.iisd.org/gsi/sites/default/files/bf_uk_fqdmodel.pdf"]
["FACTEURS DE CONVERSION"]
[null,"Tonnes","Litres"]
["Éthanol ",1,1324]
["Biodiesel ",1,1132]
["Diesel",1,{"$f":"1/0.84*1000","v":1190.4761904761904}]
["Gaz dérivés",1,{"$f":"1/0.75*1000","v":1333.3333333333333}]
[null,"Tonnes","TOE","GJ"]
["Éthanol ",1,0.64,{"$f":"C68*C$73","v":26.795520000000003}]
["Biodiesel ",1,0.86,{"$f":"C69*C$73","v":36.006480000000003},null,"coûts: 1 toe",{"$f":"+C64/C69*G19","v":1579.5348837209301},"US $"]
["Diesel",1,{"$f":"43.33/41.868","v":1.0349192700869398},{"$f":"C70*C$73","v":43.33}]
["Gaz dérivés",1,{"$f":"44.8/41.868","v":1.0700296168911816},{"$f":"C71*C$73","v":44.79999999999999}]
[]
[null,"1 toe =",41.868000000000002,"GJ"]

{"sheet":"coordinates","index":10,"n_rows":13,"n_cols":26,"rows_kept":13,"cut":false,"hidden":true,"merged":[[0,8,0,10],[0,11,0,15],[0,16,0,20],[0,23,0,25],[0,1,0,3]]}
["xSum:","Sorted values (All values)",null,null,null,null,null,"xSum (included)","Sorted values (meeting thresholds)",null,null,"X-coordinates (reduction of CO2)",null,null,null,null,"Y-coordinates (Cost of reduction option)",null,null,null,null,null,null,"Options omitted from graph"]
[{"$f":"SUM(D3:D100)","v":246995.6806486237},"Reduction option","US$/tonCO2","Emission reduction in 2020 per option kt/year",null,null,null,{"$f":"SUM(K3:K100)","v":219503.7168263199},"Reduction option","US$/tonCO2","Emission reduction in 2020 per option kt/year","Point 1","Point 2","halfway","Point 3","Point 4","Point 1","Point 2","Point 3","halfway","Point 4",null,null,"Reduction option","US$/tonCO2","Emission reduction in 2020 per option kt/year"]
[null,"Hydroélectricité connectée au réseau principal",358.20337391064447,144229.91250000001,null,"count(included)",{"$f":"COUNTA(I3:I300)","v":9},null,"Hydroélectricité connectée au réseau principal",358.20337391064447,144229.91250000001,0,0,72114.956250000003,144229.91250000001,144229.91250000001,0,358.20337391064447,358.20337391064447,358.20337391064447,0,null,null,"Mélange de 20% de biodiesel dans tout le diesel",-369.38011072512052,25478.183748382304]
[null,"Éoliennes on-shore",353.36321175438417,19420,null,"count(excluded)",{"$f":"COUNTA(X3:X300)","v":2},null,"Éoliennes on-shore",353.36321175438417,19420,144229.91250000001,144229.91250000001,153939.91250000001,163649.91250000001,163649.91250000001,0,353.36321175438417,353.36321175438417,353.36321175438417,0,null,null,"Mélange de bioéthanol à 15% dans toute l'essence",-476.07358761238578,2013.7800739215268]
[null,"Nouvel immeuble de bureaux avec refroidissement central",300.20978284656968,34.869403212378401,null,null,null,null,"Nouvel immeuble de bureaux avec refroidissement central",300.20978284656968,34.869403212378401,163649.91250000001,163649.91250000001,163667.3472016062,163684.7819032124,163684.7819032124,0,300.20978284656968,300.20978284656968,300.20978284656968,0]
[null,"PV solaires, grand réseau",235.21646813494516,8860.375,null,null,null,null,"PV solaires, grand réseau",235.21646813494516,8860.375,163684.7819032124,163684.7819032124,168114.9694032124,172545.1569032124,172545.1569032124,0,235.21646813494516,235.21646813494516,235.21646813494516,0]
[null,"Nouvelles voies cyclables",144.86078223795022,68.658271182439023,null,null,null,null,"Nouvelles voies cyclables",144.86078223795022,68.658271182439023,172545.1569032124,172545.1569032124,172579.48603880362,172613.81517439484,172613.81517439484,0,144.86078223795022,144.86078223795022,144.86078223795022,0]
[null,"Voiture électrique",24.409287168764113,891.48853846153827,null,null,null,null,"Voiture électrique",24.409287168764113,891.48853846153827,172613.81517439484,172613.81517439484,173059.55944362562,173505.30371285637,173505.30371285637,0,24.409287168764113,24.409287168764113,24.409287168764113,0]
[null,"Efficacité énergétique dans l'industrie",-0.94392925743255707,24884.9629674723,null,null,null,null,"Efficacité énergétique dans l'industrie",-0.94392925743255707,24884.9629674723,173505.30371285637,173505.30371285637,185947.78519659254,198390.26668032867,198390.26668032867,0,-0.94392925743255707,-0.94392925743255707,-0.94392925743255707,0]
[null,"Efficacité énergétique en service",-0.94392925743255718,8004.9501459912226,null,null,null,null,"Efficacité énergétique en service",-0.94392925743255718,8004.9501459912226,198390.26668032867,198390.26668032867,202392.74175332428,206395.2168263199,206395.2168263199,0,-0.94392925743255718,-0.94392925743255718,-0.94392925743255718,0]
[null,"Réseaux électriques efficaces",-145.2399599818103,13108.5,null,null,null,null,"Réseaux électriques efficaces",-145.2399599818103,13108.5,206395.2168263199,206395.2168263199,212949.4668263199,219503.7168263199,219503.7168263199,0,-145.2399599818103,-145.2399599818103,-145.2399599818103,0]
[null,"Mélange de 20% de biodiesel dans tout le diesel",-369.38011072512052,25478.183748382304]
[null,"Mélange de bioéthanol à 15% dans toute l'essence",-476.07358761238578,2013.7800739215268]

{"sheet":"Graphique","index":11,"n_rows":100,"n_cols":11,"rows_kept":100,"cut":false,"hidden":false,"merged":[[89,8,89,10],[27,4,29,6],[27,7,29,7],[30,4,30,6],[89,1,89,3],[26,4,26,7],[20,4,20,7],[21,0,21,1],[22,0,22,1],[23,0,23,1],[25,0,25,2],[21,4,21,7],[22,4,22,7],[23,4,23,7],[25,4,25,7]]}
["Paramètres pour créer la courbe de Revenu d'Atténuation Marginal (MAR) "]
[]
[]
[]
[]
[]
[]
[]
[]
[]
[]
[]
[]
[]
[]
[]
[]
[]
[]
[]
[null,null,"Insérer les valeurs seulement ",null,"Veuillez sélectionner le scénario pour lequel vous souhaitez créer le graphique."]
["Seuil de la plus petite valeur: axe des x (ktCO2e / an)",null,10,"values above 0"]
["Seuil de la plus petite valeur: axe des y (US$/ktCO2e)",null,-200,"values below 0"]
["Seuil de la plus grande valeur: axe des y (US$/ktCO2e)",null,800,"values above 0"]
[]
["Inclure toutes les options dans le graphique sans seuil",null,null,null,"Courbe de Revenu d'Atténuation Marginal produite à partir de la feuille principale:"]
[null,null,null,null,"principale30"]
[null,null,null,null,"Taille de police des étiquettes dans le graphique:\n(par défaut minimum est 10 pts)",null,null,15]
[]
[]
[]
[]
[]
[]
[]
[]
[]
[]
[]
[]
[]
[]
[]
[]
[]
[]
[]
[]
[]
[null,null,null,null,null,null,null,8109]
[]
[]
[]
[]
[]
[]
[]
[]
[]
[]
[]
[]
[]
[]
[]
[]
[]
[]
[]
[]
[]
[]
[]
[]
[]
[]
[]
[]
[]
[]
[]
[]
[]
[]
[]
[]
[]
[]
[]
[null,"Options inclusent dans la courbe RAM",null,null,null,null,null,null,"Options excluses de la courbe RAM"]
[null,"Reduction option","US$/tonCO2","Réduction d'émissions par options en 2030 kt/an",null,null,null,null,"Option de réduction","US$/tonCO2","Réduction d'émissions par options en 2030 kt/an"]
[null,"Hydroélectricité connectée au réseau principal",358.20337391064447,144229.91250000001,null,null,null,null,"Mélange de 20% de biodiesel dans tout le diesel",-369.38011072512052,25478.183748382304]
[null,"Éoliennes on-shore",353.36321175438417,19420,null,null,null,null,"Mélange de bioéthanol à 15% dans toute l'essence",-476.07358761238578,2013.7800739215268]
[null,"Nouvel immeuble de bureaux avec refroidissement central",300.20978284656968,34.869403212378401]
[null,"PV solaires, grand réseau",235.21646813494516,8860.375]
[null,"Nouvelles voies cyclables",144.86078223795022,68.658271182439023]
[null,"Voiture électrique",24.409287168764113,891.48853846153827]
[null,"Efficacité énergétique dans l'industrie",-0.94392925743255707,24884.9629674723]
[null,"Efficacité énergétique en service",-0.94392925743255718,8004.9501459912226]
[null,"Réseaux électriques efficaces",-145.2399599818103,13108.5]

{"sheet":"principale25","index":13,"n_rows":139,"n_cols":29,"rows_kept":139,"cut":false,"hidden":false,"merged":[[0,26,0,28],[1,26,3,26],[1,27,3,27],[1,28,3,28],[84,0,87,0]]}
["Atténuation de GES total",{"$f":"+Hypothèses!$B$2","v":"Pays X"},"en 2025",null,null,null,null,null,null,null,null,null,null,null,null,null,null,null,null,null,null,null,null,null,null,null,"Sorted Values - according to revenue potential"]
[null,null,null,null,"Réduction","Investissement","Coût","Unités ","Réduction d'émissions en 2025",null,null,"Diesel","Essence","Electricité","Electricité",null,null,null,null,null,null,null,null,null,null,null,"Reduction option","US$/ktCO2 (Revenue)","Emission reduction in 2020 per option (ktCO2/yr)"]
[null,null,null,null,"d'émissions",null,"annuel","ajoutées","Par option","Cumulatif",null,"économisé","économisé","économisé","généré"]
["Type","Option de réduction","US$/tonCO2","Unité du sous-type ","t CO2-eq/unité","Million US$","MUS$/an","en 2025","ktCO2-eq/an","ktCO2-eq/an","Frac.du total","ktoe","ktoe","GWh","GWh"]
["Agriculture","Réduction du CH4 des cultures de riz",{"$f":"Agriculture!D28","v":1.2},"Culture de riz CH4 red.(1000 ha)",{"$f":"Agriculture!D25","v":2566.2000000000007},{"$f":"Agriculture!B15*H5/1000000","v":0},{"$f":"Agriculture!D20*H5/1000000","v":0},null,{"$f":"E5*H5/1000","v":0},{"$f":"OFFSET(J5,-1,0)+I5","v":0},{"$f":"J5/TotalEmis2025","v":0},null,null,null,null,null,null,null,null,null,null,null,null,null,null,null,"Cogeneration in industry",846.94169522496975,22.257980312399994]
[null,"Culture sans labour",{"$f":"+Agriculture!D192","v":-166.39187675838468},"1000 ha",{"$f":"+Agriculture!D190","v":85.727053103999992},{"$f":"Agriculture!C180*H6/1000000","v":0},{"$f":"Agriculture!D185*H6/1000000","v":0},null,0,0,0,null,null,null,null,null,null,null,null,null,null,null,null,null,null,null,"Efficient domestic lighting with LEDs",376.50264622351369,12.005988943488944]
[null,"Couverture de cultures",{"$f":"+Agriculture!D87","v":81.040268456375827},"1000 ha",{"$f":"+Agriculture!D85","v":1490},{"$f":"Agriculture!D75*H7/1000000","v":0},{"$f":"Agriculture!D80*H7/1000000","v":0},null,0,0,0]
[null,"Inhibiteurs de nitrification (1000 ha)",{"$f":"+Agriculture!D115","v":67.689873417721515},"1000 ha",{"$f":"+Agriculture!D113","v":790},{"$f":"Agriculture!D103*H8/1000000","v":0},{"$f":"Agriculture!D108*H8/1000000","v":0},null,0,0,0]
[null,"Couverture des dépôts lisier (1 dépôt de lisier)",{"$f":"+Agriculture!D141","v":937.83334071789056},"1 dépôt de lisier",{"$f":"+Agriculture!D139","v":0.20130000000000001},{"$f":"Agriculture!D129*H9/1000000","v":0},{"$f":"Agriculture!D134*H9/1000000","v":0},null,0,0,{"$f":"J9/TotalEmis2025","v":0}]
[null,"Supplémentation en matières grasses dans l'alimentation des ruminants (% de matières grasses DM ajoutées)",{"$f":"+Agriculture!D166","v":80.5},"% de matières grasses DM ajouté",{"$f":"+Agriculture!D164","v":4336.2268329365697},{"$f":"Agriculture!D154*H10/1000000","v":0},{"$f":"Agriculture!D159*H10/1000000","v":0},null,0,0,0]
[null,"Traitement du tabac",{"$f":"+Agriculture!D60","v":-20.801739200816428},"100 t de tabac/an",{"$f":"+Agriculture!D58","v":561.96940800000016},{"$f":"Agriculture!B48*H11/1000000","v":0},{"$f":"Agriculture!D53*H11/1000000","v":0},null,0,0,0,null,null,null,null,null,null,null,null,null,null,null,null,null,null,null,"Efficient domestic lighting with LEDs",376.50264622351369,60.029944717444721]
["Energie biomasse","Centrales de cogénération d'écorce de riz",{"$f":"+'Energie biomasse'!D22","v":-87.684712341200125},"1 MW cogénération",{"$f":"+'Energie biomasse'!D20","v":9719.0247425999987},{"$f":"+'Energie biomasse'!B10*H12/1000000","v":0},{"$f":"+'Energie biomasse'!D15*H12/1000000","v":0},null,{"$f":"E12*H12/1000","v":0},{"$f":"OFFSET(J12,-1,0)+I12","v":0},{"$f":"J12/TotalEmis2025","v":0},null,null,null,{"$f":"+'Energie biomasse'!G20/'Energie biomasse'!G17*H12/1000","v":0},null,null,null,null,null,null,null,null,null,null,null,"Geothermal power",356.54297189567728,131.25]
[null,"Production électrique à partir des résidus de biomasse",{"$f":"+'Energie biomasse'!D55","v":-184.60088765582714},"1 MW cogénération",{"$f":"+'Energie biomasse'!D53","v":2427.5},{"$f":"+'Energie biomasse'!B43*H13/1000000","v":0},{"$f":"+'Energie biomasse'!D48*H13/1000000","v":0},null,0,0,{"$f":"J13/TotalEmis2025","v":0},null,null,null,{"$f":"+'Energie biomasse'!G51*H13/1000","v":0},null,null,null,null,null,null,null,null,null,null,null,"Wind turbines, on-shore",351.70346418747732,48.437500000000007]
[null,"Production électrique à partir de bagasse",{"$f":"'Energie biomasse'!D86","v":-341.74294842775782},"100 kt cane à sucre/an",{"$f":"'Energie biomasse'!D84","v":6791.4514285714295},{"$f":"'Energie biomasse'!B74*H14/1000000","v":0},{"$f":"'Energie biomasse'!D79*H14/1000000","v":0},null,0,0,0,null,null,null,{"$f":"'Energie biomasse'!G85/'Energie biomasse'!G79*100*H14/1000","v":0},null,null,null,null,null,null,null,null,null,null,null,"Efficient residential airconditioning",343.0009209504687,84.334366286613474]
["Capture et stockage","Usine de capture et du stockage",{"$f":"+'Capture et stockage'!D22","v":203.81680118581841},"1 MW",{"$f":"+'Capture et stockage'!D20","v":5412.3711340206182},{"$f":"'Capture et stockage'!D10*H15/1000000","v":0},{"$f":"'Capture et stockage'!D15*H15/1000000","v":0},null,{"$f":"E15*H15/1000","v":0},{"$f":"OFFSET(J15,-1,0)+I15","v":0},{"$f":"J15/TotalEmis2025","v":0},null,null,null,{"$f":"+'Capture et stockage'!G16/'Capture et stockage'!G13*H15/1000","v":0},null,null,null,null,null,null,null,null,null,null,null,"Efficient street lights",331.55292123150736,6.0534398034398036]
["Ciment","Remplacement du clinker",{"$f":"+Ciment!D22","v":7.5525712632273025},"1000 tonnes ciment/jour",{"$f":"+Ciment!D20","v":166583.56193028874},{"$f":"Ciment!B9*H16/1000000","v":0},{"$f":"Ciment!D15*H16/1000000","v":0},null,0,0,0,null,null,null,null,null,null,null,null,null,null,null,null,null,null,null,"Efficient electric stoves",320.09690467746441,4.7911547911547911]
["Mine de charbon","Méthane de mine de charbon",{"$f":"+'Mine de charbon'!D23","v":-30.712107618218361},"10 Mm3 CMM/an",{"$f":"+'Mine de charbon'!D21","v":37352.840000000004},{"$f":"+'Mine de charbon'!B11/1000000*H17","v":0},{"$f":"+'Mine de charbon'!D21/1000000*H17","v":0},null,0,0,0,null,null,null,{"$f":"+'Mine de charbon'!G26/'Mine de charbon'!G21*10*H17/1000","v":0},null,null,null,null,null,null,null,null,null,null,null,"Solar PVs, large grid",298.30348054423251,76.376250000000013]
["EE ménages","Climatisation résidentielle efficace",{"$f":"+'EE ménages'!D28","v":-307.40925219715155},"1000 climatiseur",{"$f":"+'EE ménages'!D26","v":779.89209204096824},{"$f":"+'EE ménages'!B16*H18/1000000","v":0},{"$f":"+'EE ménages'!D21*H18/1000000","v":0},null,0,0,{"$f":"J18/TotalEmis2025","v":0},null,null,{"$f":"+'EE ménages'!G40*H18/1000","v":0},null,null,null,null,null,null,null,null,null,null,null,null,"Efficient refrigerators",259.14169143569569,26.366093366093363]
[null,"Éclairage efficace avec les ampoules fluocompactes",{"$f":"+'EE ménages'!D62","v":-321.06763115035045},"1000 Ampoules",{"$f":"+'EE ménages'!D60","v":38.097435503685503},{"$f":"+'EE ménages'!D50*H19/1000000","v":0},{"$f":"+'EE ménages'!D55*H19/1000000","v":0},null,0,0,0,null,null,{"$f":"'EE ménages'!G63*H19/1000","v":0},null,null,null,null,null,null,null,null,null,null,null,null,"Assisted forest regeneration",14.619934280835016,261.25]
[null,"Éclairage efficace avec LED",{"$f":"+'EE ménages'!D94","v":-354.68167440866569},"1000 Ampoules",{"$f":"+'EE ménages'!D92","v":77.718768427518427},{"$f":"+'EE ménages'!D82*H20/1000000","v":0},{"$f":"+'EE ménages'!D87*H20/1000000","v":0},null,0,0,0,null,null,{"$f":"+'EE ménages'!G99*H20/1000","v":0},null,null,null,null,null,null,null,null,null,null,null,null,"Biogas at big farms",9.9447304779003396,28.095701492537316]
[null,"Éclairage efficace avec LED remplaçant les fluocompactes",{"$f":"+'EE ménages'!D120","v":-213.84455798515566},"1000 Ampoules",{"$f":"+'EE ménages'!D118","v":9.1433845208845206},{"$f":"'EE ménages'!D108*H21/1000000","v":0},{"$f":"'EE ménages'!D113*H21/1000000","v":0},null,0,0,0,null,null,{"$f":"+'EE ménages'!G100*H21/1000","v":0}]
[null,"Poêles à bois efficaces",{"$f":"+'EE ménages'!D176","v":-933.25004151145902},"1000 poêles",{"$f":"+'EE ménages'!D174","v":1338.3333333333335},{"$f":"+'EE ménages'!B164*H22/1000000","v":0},{"$f":"+'EE ménages'!D169*H22/1000000","v":0},null,0,0,0,null,null,null,null,null,null,null,null,null,null,null,null,null,null,null,"Composting of Municipal Solid Waste",7.1766578192024264,7.271018999999999]
[null,"Poêles à charbon de bois efficaces",{"$f":"+'EE ménages'!D203","v":-62.61549760364921},"1000 poêles",{"$f":"+'EE ménages'!D201","v":296.50751320580548},{"$f":"+'EE ménages'!B191*H23/1000000","v":0},{"$f":"+'EE ménages'!D196*H23/1000000","v":0},null,0,0,0]
[null,"Poêles au GPL remplaçant les poêles à bois",{"$f":"+'EE ménages'!D231","v":74.167143724329421},"1000 poêles",{"$f":"+'EE ménages'!D229","v":2054.9439166666671},{"$f":"'EE ménages'!B219*H24/1000000","v":0},{"$f":"'EE ménages'!D224*H24/1000000","v":0},null,0,0,0,null,null,null,null,null,null,null,null,null,null,null,null,null,null,null,"Biodiesel from MSW",0.13747288818502965,64.266900859929322]
[null,"Poêles électriques efficaces",{"$f":"+'EE ménages'!D260","v":-273.80983725148542},"1000 poêles",{"$f":"+'EE ménages'!D258","v":155.07371007371006},{"$f":"'EE ménages'!D248*H25/1000000","v":0},{"$f":"'EE ménages'!D253*H25/1000000","v":0},null,0,0,0,null,null,{"$f":"'EE ménages'!G273*H25/1000","v":0},null,null,null,null,null,null,null,null,null,null,null,null,"Biogas at rural farms",-1.2107375121073751,11.27412]
[null,"Poêles induction",{"$f":"+'EE ménages'!D287","v":504.90174838288539},"1000 poêles",{"$f":"+'EE ménages'!D285","v":11.296760336495453},{"$f":"'EE ménages'!D275*H26/1000000","v":0},{"$f":"'EE ménages'!D280*H26/1000000","v":0},null,{"$f":"E26*H26/1000","v":0},{"$f":"OFFSET(J26,-1,0)+I26","v":0},{"$f":"+J26/TotalEmis2025","v":0},null,null,{"$f":"'EE ménages'!G300*H26/1000","v":0}]
[null,"Nuveau domicile passif",{"$f":"+'EE ménages'!D315","v":-141.18922434820317},"1000 batiments",{"$f":"+'EE ménages'!D313","v":8499.2321867321862},{"$f":"'EE ménages'!D303*H27/1000000","v":0},{"$f":"'EE ménages'!D308*H27/1000000","v":0},null,{"$f":"E27*H27/1000","v":0},{"$f":"OFFSET(J27,-1,0)+I27","v":0},{"$f":"+J27/TotalEmis2025","v":0},null,null,{"$f":"'EE ménages'!G325*H27/1000","v":0}]
[null,"Réfrigérateurs efficaces",{"$f":"+'EE ménages'!D146","v":-37.237013908533335},"1000 refrigérateurs",{"$f":"+'EE ménages'!D144","v":1203.8235872235871},{"$f":"+'EE ménages'!D134*H28/1000000","v":0},{"$f":"+'EE ménages'!D139*H28/1000000","v":0},null,0,0,{"$f":"J28/TotalEmis2025","v":0},null,null,{"$f":"+'EE ménages'!G158*H28/1000","v":0},null,null,null,null,null,null,null,null,null,null,null,null,"Charcoal production",-1.7335955431728083,21.150720720720727]
["EE industrie","Moteurs électriques efficaces",{"$f":"+'EE industries'!D21","v":-309.0172323508944},"1 kW",{"$f":"+'EE industries'!D19","v":0.64945399945399895},{"$f":"+'EE industries'!D9*H29/1000000","v":0},{"$f":"+'EE industries'!D14*H29/1000000","v":0},null,{"$f":"E29*H29/1000","v":0},{"$f":"OFFSET(J29,-1,0)+I29","v":0},0,null,null,{"$f":"H29*'EE industries'!G21/1000000","v":0},null,null,null,null,null,null,null,null,null,null,null,null,"Efficient wood stoves",-1.8120937773601851,206.41561111111119]
[null,"Efficacité énergétique dans l'industrie",{"$f":"+'EE industries'!D80","v":0.94392925743255673},"10% red. de demande d'énergie",{"$f":"+'EE industries'!D78","v":13282494.256366311},{"$f":"+'EE industries'!K68*H30/1000000","v":177.74973548194495},{"$f":"'EE industries'!D73*H30/1000000","v":12.537734940264052},1,{"$f":"E30*H30/1000","v":13282.49425636631},{"$f":"OFFSET(J30,-1,0)+I30","v":13282.49425636631},1.6400006146393097E-2,null,null,null,null,null,null,null,null,null,null,null,null,null,null,null,"Clinker replacement",-12.670683878672387,111.93037021324331]
[null,"Matériaux de construction",{"$f":"+'EE industries'!D51","v":-18.895154748670951},"1 million briques",{"$f":"+'EE industries'!D49","v":520.30000000000007},{"$f":"'EE industries'!D39*H31/1000000","v":0},{"$f":"'EE industries'!D44*H31/1000000","v":0},null,{"$f":"E31*H31/1000","v":0},{"$f":"OFFSET(J31,-1,0)+I31","v":13282.49425636631},1.6400006146393097E-2,null,null,null,null,null,null,null,null,null,null,null,null,null,null,null,"LPG stoves replacing wood stoves",-30.548223216530872,353.75763500000005]
["EE chaleur résiduelle","Récupération de chaleur résiduelle dans une cimenterie",{"$f":"+'EE chaleur résiduelle'!D21","v":-375.61881397176268},"1 Cimenterie",{"$f":"+'EE chaleur résiduelle'!D19","v":39852.898650000003},{"$f":"+'EE chaleur résiduelle'!B9*H32/1000000","v":0},{"$f":"+'EE chaleur résiduelle'!D14*H32/1000000","v":0},null,{"$f":"E32*H32/1000","v":0},{"$f":"OFFSET(J32,-1,0)+I32","v":13282.49425636631},1.6400006146393097E-2,null,null,null,{"$f":"+'EE chaleur résiduelle'!G15*principale30!H32","v":0},null,null,null,null,null,null,null,null,null,null,null,"Efficient electric grids",-131.29270020402106,49]
[null,"Récupération de la chaleur résiduelle dans une aciérie",{"$f":"+'EE chaleur résiduelle'!D51","v":-390.79448028652257},"1 Aciérie",{"$f":"+'EE chaleur résiduelle'!D49","v":36703.799999999996},{"$f":"+'EE chaleur résiduelle'!B39*H33/1000000","v":0},{"$f":"+'EE chaleur résiduelle'!D44*H33/1000000","v":0},null,0,13282.49425636631,1.6400006146393097E-2,null,null,null,{"$f":"'EE chaleur résiduelle'!G44*principale30!H33","v":0},null,null,null,null,null,null,null,null,null,null,null,"Reforestation",-11574.114638994388,1.32]
["EE service","Moteurs électriques efficaces",{"$f":"+'EE services'!D27","v":-309.0172323508944},"1 kW",{"$f":"+'EE services'!D25","v":0.64945399945399895},{"$f":"+'EE services'!D15*H34/1000000","v":0},{"$f":"+'EE services'!D20*H34/1000000","v":0},null,0,13282.49425636631,{"$f":"J34/TotalEmis2025","v":1.6400006146393097E-2},null,null,{"$f":"H34*'EE services'!G27/1000000","v":0}]
[null,"Éclairage de bureau efficace avec des ampoules fluocompactes",{"$f":"+'EE services'!D55","v":-303.40494124995359},"1000 lampes",{"$f":"+'EE services'!D53","v":39.185933660933649},{"$f":"+'EE services'!D43*H35/1000000","v":0},{"$f":"+'EE services'!D48*H35/1000000","v":0},null,0,13282.49425636631,1.6400006146393097E-2,null,null,{"$f":"+'EE services'!G55*H35/1000","v":0}]
[null,"Éclairage de bureau efficace avec LED",{"$f":"+'EE services'!D87","v":-270.57489398565167},"1000 lampes",{"$f":"+'EE services'!D85","v":44.410724815724805},{"$f":"+'EE services'!D75*H36/1000000","v":0},{"$f":"+'EE services'!D80*H36/1000000","v":0},null,{"$f":"E36*H36/1000","v":0},{"$f":"OFFSET(J36,-1,0)+I36","v":13282.49425636631},1.6400006146393097E-2,null,null,{"$f":"+'EE services'!G87*H36/1000","v":0}]
[null,"Éclairage public efficace",{"$f":"+'EE services'!D121","v":-301.47178811224023},"1000 lampes",{"$f":"+'EE services'!D119","v":391.85933660933642},{"$f":"+'EE services'!D109*H37/1000000","v":0},{"$f":"+'EE services'!D114*H37/1000000","v":0},null,0,13282.49425636631,1.6400006146393097E-2,null,null,{"$f":"+'EE services'!G135*H37/1000","v":0}]
[null,"Pompage efficace de l'eau",{"$f":"+'EE services'!D157","v":-310.59608600829995},"4 Million m3 d'eau",{"$f":"+'EE services'!D155","v":763.43980343980365},{"$f":"+'EE services'!B145*H38/1000000","v":0},{"$f":"+'EE services'!D150*H38/1000000","v":0},null,0,13282.49425636631,1.6400006146393097E-2,null,null,{"$f":"+'EE services'!G156*H38","v":0}]
[null,"Chauffage, ventilation, climatisation ",{"$f":"+'EE services'!D246","v":-399.59175083634},"100,000 m2 surface planché",{"$f":"+'EE services'!D244","v":4556.7071087885734},{"$f":"'EE services'!D234*H39/1000000","v":0},{"$f":"'EE services'!D239*H39/1000000","v":0},null,0,13282.49425636631,1.6400006146393097E-2,null,null,{"$f":"+'EE services'!G252*H39/1000","v":0}]
[null,"Refroidisseur efficace> 300 TR",{"$f":"+'EE services'!D275","v":-84.763806653834919},"1 TR",{"$f":"+'EE services'!D273","v":1.9607499999999998},{"$f":"'EE services'!D235*H40/1000000","v":0},{"$f":"'EE services'!D240*H40/1000000","v":0},null,{"$f":"E40*H40/1000","v":0},{"$f":"OFFSET(J40,-1,0)+I40","v":13282.49425636631},{"$f":"+J40/TotalEmis2025","v":1.6400006146393097E-2},null,null,{"$f":"+'EE services'!G288*H40/1000000","v":0}]
[null,"Refroidisseur efficace <300 TR",{"$f":"+'EE services'!D307","v":-126.63012410207483},"1 TR",{"$f":"+'EE services'!D305","v":0.87334999999999996},{"$f":"'EE services'!D236*H41/1000000","v":0},{"$f":"'EE services'!D241*H41/1000000","v":0},null,0,13282.49425636631,1.6400006146393097E-2,null,null,{"$f":"+'EE services'!G319*H41/1000000","v":0}]
[null,"Climatiseurs de type fenêtre/individuel efficace",{"$f":"+'EE services'!D339","v":-288.54139864501218},"1000 climatiseurs",{"$f":"+'EE services'!D337","v":0.70550806488306428},{"$f":"'EE services'!B327*H42/1000000","v":0},{"$f":"'EE services'!D332*H42/1000000","v":0},null,0,13282.49425636631,1.6400006146393097E-2,null,null,{"$f":"+'EE services'!G352*H42/1000000","v":0}]
[null,"Lave-vaisselle commercial efficace",{"$f":"+'EE services'!D372","v":-197.36514838620556},"1000 repas/jours",{"$f":"+'EE services'!D370","v":10.884981572481571},{"$f":"'EE services'!D360*H43/1000000","v":0},{"$f":"'EE services'!D365*H43/1000000","v":0},null,0,13282.49425636631,1.6400006146393097E-2,null,null,{"$f":"+'EE services'!G387*H43/1000000","v":0}]
[null,"Réfrigérateur d'hôtel efficace",{"$f":"+'EE services'!D407","v":947.95283605306668},"1 réfrigérateurs",{"$f":"+'EE services'!D405","v":0.39719112500930687},{"$f":"'EE services'!B395*H44/1000000","v":0},{"$f":"'EE services'!D400*H44/1000000","v":0},null,0,13282.49425636631,1.6400006146393097E-2,null,null,{"$f":"+'EE services'!G414*H44/1000000","v":0}]
[null,"Machine à laver efficace pour hôtel",{"$f":"+'EE services'!D437","v":38248.887086086368},"100 Clients Nuits (CN)",{"$f":"+'EE services'!D435","v":6.3784140573812431E-2},{"$f":"'EE services'!D425*H45/1000000","v":0},{"$f":"'EE services'!D430*H45/1000000","v":0},null,0,13282.49425636631,1.6400006146393097E-2,null,null,{"$f":"+'EE services'!G458*H45/1000000","v":0}]
[null,"Efficacité énergétique en service",{"$f":"+'EE services'!D221","v":0.94392925743255696},"10% red. de demande d'énergie",{"$f":"+'EE services'!D219","v":4272688.8714123396},{"$f":"'EE services'!B209*H46/1000000","v":21.363444357061699},{"$f":"'EE services'!D214*H46/1000000","v":2.0165580168162998},0.5,2136.3444357061699,15418.838692072481,{"$f":"J46/TotalEmis2025","v":1.9037768391959371E-2}]
[null,"Nouvel immeuble de bureaux avec refroidissement central",{"$f":"+'EE services'!D186","v":-300.20978284656968},"1000 m2",{"$f":"+'EE services'!D184","v":34.869403212378401},{"$f":"+'EE services'!D174*H47/1000000","v":6.5987861570247919},{"$f":"+'EE services'!D179*H47/1000000","v":-10.468135966377599},1000,{"$f":"(E47*H47)/1000","v":34.869403212378401},{"$f":"OFFSET(J47,-1,0,1,1)+I47","v":15453.708095284859},1.9080821934160601E-2,null,null,{"$f":"+'EE services'!G199*H47","v":58.462809917355358}]
["EE offre","Nouvelle centrale à charbon à haut rendement",{"$f":"+'EE offre'!D52","v":21.485823944685848},"1 MW",{"$f":"+'EE offre'!D50","v":1117.0367999999989},{"$f":"+'EE offre'!B40*H48/1000000","v":0},{"$f":"+'EE offre'!D45*H48/1000000","v":0},null,0,15453.708095284859,1.9080821934160601E-2]
[null,"Nouvelle centrale électrique au gaz naturel",{"$f":"'EE offre'!D23","v":-5891.9683096252202},"1 MW",{"$f":"+'EE offre'!D21","v":159},{"$f":"+'EE offre'!B11/1000000*H49","v":0},{"$f":"+'EE offre'!D16/1000000*H49","v":0},null,0,15453.708095284859,1.9080821934160601E-2]
[null,"Passer du fioul lourd au diesel",{"$f":"'EE offre'!D140","v":1206.9604660846496},"1 MW",{"$f":"+'EE offre'!D138","v":124.49193561101811},{"$f":"+'EE offre'!B128/1000000*H50","v":0},{"$f":"+'EE offre'!D133/1000000*H50","v":0},null,0,15453.708095284859,1.9080821934160601E-2]
[null,"Passer du fioul lourd au gaz naturel",{"$f":"'EE offre'!D170","v":-339.52112449817685},"1 MW",{"$f":"+'EE offre'!D168","v":1454.3571428571436},{"$f":"+'EE offre'!B158/1000000*H51","v":0},{"$f":"+'EE offre'!D1634/1000000*H51","v":0},null,0,{"$f":"OFFSET(J51,-1,0,1,1)+I51","v":15453.708095284859},1.9080821934160601E-2]
[null,"La cogénération dans l'industrie",{"$f":"+'EE offre'!D111","v":-4717.3428040669614},"1 MW",{"$f":"+'EE offre'!D109","v":542.40894917999958},{"$f":"+'EE offre'!D100*principale25!H52/1000000","v":0},{"$f":"+'EE offre'!D104*H52/1000000","v":0},null,0,15453.708095284859,1.9080821934160601E-2,null,null,{"$f":"+'EE offre'!G110*H52/1000","v":0}]
[null,"Cycle unique à cycle combiné",{"$f":"+'EE offre'!D81","v":55.042723709110227},"100 MW d'augmentation",{"$f":"+'EE offre'!D79","v":75738},{"$f":"'EE offre'!D70*H53/1000000","v":0},{"$f":"'EE offre'!D74*H53/1000000","v":0},null,0,15453.708095284859,1.9080821934160601E-2,null,null,{"$f":"+'EE offre'!G90*H53/1000","v":0}]
["Distribution d'énergie","Réseaux électriques efficaces",{"$f":"+'Distribution énergie'!D24","v":145.2399599818103},"1 GWh pertes évités",{"$f":"+'Distribution énergie'!D22","v":485.5},{"$f":"+'Distribution énergie'!D12*principale25!H54/1000000","v":14383.59917204432},{"$f":"+'Distribution énergie'!D17*H54/1000000","v":1057.7100085675336},15000,7282.5,22736.208095284859,2.8072585262336962E-2,null,null,{"$f":"+H54*'Distribution énergie'!N20","v":0}]
[null,"Connexion du réseau isolé au réseau central",{"$f":"+'Distribution énergie'!D53","v":-35.970464274025431},"1 GWh consommation",{"$f":"+'Distribution énergie'!D51","v":485.5},{"$f":"+'Distribution énergie'!D41*H55/1000000","v":0},{"$f":"+'Distribution énergie'!D46*H55/1000000","v":0},null,{"$f":"(E55*H55)/1000","v":0},{"$f":"OFFSET(J55,-1,0,1,1)+I55","v":22736.208095284859},{"$f":"J55/TotalEmis2025","v":2.8072585262336962E-2}]
[null,"Augmentation du facteur de puissance",{"$f":"+'Distribution énergie'!D83","v":1.3185780506574281},"1000 commerce/batiment industriel",{"$f":"+'Distribution énergie'!D81","v":94589.93197278888},{"$f":"'Distribution énergie'!B71*H56/1000000","v":0},{"$f":"'Distribution énergie'!D76*H56/1000000","v":0},null,0,22736.208095284859,2.8072585262336962E-2,null,null,{"$f":"H56*'Distribution énergie'!G91","v":0}]
[null,"Réhabilitation du réseau de chauffage urbain",{"$f":"+'Distribution énergie'!D112","v":-153.13048866378534},"Récupération de la chaleur dans une cimenterie",{"$f":"+'Distribution énergie'!D110","v":33649.053412333342},{"$f":"'Distribution énergie'!B99*H57/1000000","v":0},{"$f":"'Distribution énergie'!D105*H57/1000000","v":0},null,{"$f":"(E57*H57)/1000","v":0},{"$f":"OFFSET(J57,-1,0,1,1)+I57","v":22736.208095284859},{"$f":"+J57/TotalEmis2025","v":2.8072585262336962E-2}]
[null,"Nouveau réseau de refroidissement urbain",{"$f":"+'Distribution énergie'!D151","v":-148.45274742045021},"Nouveau réseau de refroidissement urbain (1 million de m2 de nouvelle zone urbaine couverte)",{"$f":"+'Distribution énergie'!D149","v":13725.623132042594},{"$f":"'Distribution énergie'!D139*H58/1000000","v":0},{"$f":"'Distribution énergie'!D144*H58/1000000","v":0},null,{"$f":"(E58*H58)/1000","v":0},{"$f":"OFFSET(J58,-1,0,1,1)+I58","v":22736.208095284859},{"$f":"+J58/TotalEmis2025","v":2.8072585262336962E-2}]
["Foresterie","Reboisement",{"$f":"+Foresterie!D26","v":15.446115121623658},"1000 ha de reboisement",{"$f":"Foresterie!D24","v":3666.666666666667},{"$f":"Foresterie!B13/1000000*H59","v":0},{"$f":"Foresterie!D19/1000000*H59","v":0},null,0,22736.208095284859,2.8072585262336962E-2]
[null,"REDD: déforestation évitée",{"$f":"+Foresterie!D54","v":-10.383221831758126},"1000 ha déforestation évitée",{"$f":"Foresterie!D52","v":3666.666666666667},{"$f":"Foresterie!B42*H60/1000000","v":0},{"$f":"Foresterie!D47/1000000*H60","v":0},null,{"$f":"(E60*H60)/1000","v":0},22736.208095284859,2.8072585262336962E-2]
[null,"Régénération assistée des forêts",{"$f":"Foresterie!D82","v":-3.8615287804059144},"1000 ha de régénéré",{"$f":"Foresterie!D80","v":3666.666666666667},{"$f":"Foresterie!B70/1000000*H61","v":0},{"$f":"Foresterie!D47/1000000*H61","v":0},null,0,22736.208095284859,2.8072585262336962E-2]
[null,"Reboisement avec agroforesterie",{"$f":"Foresterie!D111","v":-0.65934330145454612},"1000 ha de régénéré",{"$f":"Foresterie!D109","v":3666.666666666667},{"$f":"Foresterie!B98/1000000*H62","v":0},{"$f":"Foresterie!D104/1000000*H62","v":0},null,0,22736.208095284859,2.8072585262336962E-2]
[null,"Reboisement avec Silvopasture",{"$f":"Foresterie!D141","v":-0.65934330145454612},"1000 ha de régénéré",{"$f":"Foresterie!D139","v":3666.666666666667},{"$f":"Foresterie!B128/1000000*H63","v":0},{"$f":"Foresterie!D134/1000000*H63","v":0},null,0,22736.208095284859,2.8072585262336962E-2]
["Remplacement des ","Passer du charbon au gaz naturel dans l'industrie",{"$f":"+'Changement combustible fossile'!D22","v":31.126536151778442},"100 TJ essence utilisé/an",{"$f":"+'Changement combustible fossile'!D20","v":3850},{"$f":"'Changement combustible fossile'!B10/1000000*H64","v":0},{"$f":"'Changement combustible fossile'!D15/1000000*H64","v":0},null,0,22736.208095284859,2.8072585262336962E-2]
["Combustibles fossiles","Passer du fioul lourd au gaz naturel dans l'industrie",{"$f":"'Changement combustible fossile'!D51","v":-120.57373854419971},"100 TJ essence utilisé/an",{"$f":"'Changement combustible fossile'!D49","v":2126.6666666666679},{"$f":"'Changement combustible fossile'!B39/1000000*H65","v":0},{"$f":"'Changement combustible fossile'!D44/1000000*H65","v":0},null,0,22736.208095284859,2.8072585262336962E-2]
["Emissions fugitives ","Réduction du torchage au champ pétrolifère",{"$f":"+'Emissions fugitives'!D23","v":9.6651004761555761},"1 MMSCF/jour",{"$f":"+'Emissions fugitives'!D21","v":22613.499908999998},{"$f":"+'Emissions fugitives'!B11*H66/1000000","v":0},{"$f":"+'Emissions fugitives'!D16*H66/1000000","v":0},null,0,22736.208095284859,2.8072585262336962E-2]
[null,"Réduction du torchage dans les raffineries de pétrole",{"$f":"+'Emissions fugitives'!D52","v":217.25613544900492},"1 MMSCF/jour",{"$f":"+'Emissions fugitives'!D50","v":20797.217999999997},{"$f":"+'Emissions fugitives'!B40*H67/1000000","v":0},{"$f":"+'Emissions fugitives'!D45*H67/1000000","v":0},null,{"$f":"(E67*H67)/1000","v":0},{"$f":"OFFSET(J67,-1,0,1,1)+I67","v":22736.208095284859},2.8072585262336962E-2]
[null,"Réduction des fuites dans les pipelines de gaz naturel",{"$f":"'Emissions fugitives'!D79","v":-5.576949389258389},"1 Mm3 CH4/an de fuite",{"$f":"+'Emissions fugitives'!D77","v":15078},{"$f":"'Emissions fugitives'!B67*H68/1000000","v":0},{"$f":"'Emissions fugitives'!B72*H68/1000000","v":0},null,{"$f":"(E68*H68)/1000","v":0},{"$f":"OFFSET(J68,-1,0,1,1)+I68","v":22736.208095284859},2.8072585262336962E-2]
[null,"Production de charbon de bois",{"$f":"+'Emissions fugitives'!D106","v":1.606633349107647},"100,000 ton charbon de bois/année",{"$f":"+'Emissions fugitives'!D104","v":141004.80480480485},{"$f":"'Emissions fugitives'!B95*H69/1000000","v":0},{"$f":"'Emissions fugitives'!D99*H69/1000000","v":0},null,{"$f":"(E69*H69)/1000","v":0},{"$f":"OFFSET(J69,-1,0,1,1)+I69","v":22736.208095284859},2.8072585262336962E-2]
["Géothermie","Énergie géothermique",{"$f":"+Géothermique!D21","v":-238.86073603064963},"1 MW",{"$f":"+Géothermique!D19","v":3065.9324999999999},{"$f":"+Géothermique!B9*H70/1000000","v":0},{"$f":"+Géothermique!D14*H70/1000000","v":0},null,0,22736.208095284859,2.8072585262336962E-2,null,null,null,{"$f":"+Géothermique!G17*H70/1000","v":0}]
[null,"Chaleur géothermique",{"$f":"+Géothermique!D49","v":22.348277110443988},"1000 m2 surface chauffé",{"$f":"+Géothermique!D47","v":17.056285714285721},{"$f":"Géothermique!B37*H71/1000000","v":0},{"$f":"Géothermique!D42*H71/1000000","v":0},null,{"$f":"(E71*H71)/1000","v":0},{"$f":"OFFSET(J71,-1,0,1,1)+I71","v":22736.208095284859},2.8072585262336962E-2]
["HFCs, PFCs, SF6","Réduction des PFC de la production d'aluminium",{"$f":"+'HFC PFC SF6'!D23","v":3.397606639661678E-2},"100,000 ton Aluminium/an",{"$f":"+'HFC PFC SF6'!D21","v":111888.38499874179},{"$f":"+'HFC PFC SF6'!B11*H72/1000000","v":0},{"$f":"+'HFC PFC SF6'!D16*H72/1000000","v":0},null,0,22736.208095284859,2.8072585262336962E-2]
["Hydro","Hydroélectricité connectée au réseau principal",{"$f":"+Hydro!D23","v":-358.20337391064447},"1 MW",{"$f":"+Hydro!D21","v":1923.0654999999999},{"$f":"+Hydro!B11*H73/1000000","v":56905},{"$f":"+Hydro!D16*H73/1000000","v":-34442.427517558019},50000,96153.274999999994,118889.48309528486,0.1467938337386922,null,null,null,{"$f":"+Hydro!G18*H73/1000","v":198050}]
[null,"Mini hydroélectricité connectée au réseau principal",{"$f":"+Hydro!D52","v":-181.63328226331072},"1 MW",{"$f":"+Hydro!D50","v":1942},{"$f":"+Hydro!B40*H74/1000000","v":0},{"$f":"+Hydro!D45*H74/1000000","v":0},null,0,118889.48309528486,0.1467938337386922,null,null,null,{"$f":"Hydro!G48/Hydro!G45*H74/1000","v":0}]
[null,"Mini hydroélectricité hors réseau",{"$f":"+Hydro!D81","v":-16.968102990561736},"1 MW",{"$f":"+Hydro!D79","v":3231.9999999999995},{"$f":"+Hydro!B69*H75/1000000","v":0},{"$f":"Hydro!D74*H75/1000000","v":0},null,0,118889.48309528486,{"$f":"J75/TotalEmis2025","v":0.1467938337386922},null,null,null,{"$f":"Hydro!G49/Hydro!G46*H75/1000","v":0}]
["Décharge","Centrale de gaz d'enfouissement avec production d'électricité",{"$f":"Décharge!D26","v":-42.465447468617498},"200 t/jour centrale",{"$f":"Décharge!D24","v":124415.21400000001},{"$f":"+Décharge!B14*H76/1000000","v":0},{"$f":"+Décharge!D19*H76/1000000","v":0},null,0,118889.48309528486,0.1467938337386922,null,null,null,{"$f":"+Décharge!G35*H76/1000","v":0}]
[null,"Torchage des gaz d'enfouissement",{"$f":"+Décharge!D117","v":1.1213562774871835},"1 t/jour centrale",{"$f":"+Décharge!D115","v":124415.21399999999},{"$f":"+Décharge!B105*H77/1000000","v":0},{"$f":"Décharge!D110*H77/1000000","v":0},null,0,118889.48309528486,0.1467938337386922]
[null,"Usine d'incinération",{"$f":"+Décharge!D90","v":13.881925777057218},"200 t/jour centrale",{"$f":"Décharge!D88","v":139951.21400000001},{"$f":"Décharge!B78*H78/1000000","v":0},{"$f":"Décharge!D83*H78/1000000","v":0},null,0,118889.48309528486,0.1467938337386922]
[null,"Recyclage des plastiques",{"$f":"+Décharge!D196","v":-280.92564985520448},"1000 t/an centrale",{"$f":"Décharge!D194","v":1095.42},{"$f":"Décharge!D183*H79/1000000","v":0},{"$f":"Décharge!D189*H79/1000000","v":0},null,0,118889.48309528486,0.1467938337386922]
[null,"Combustible issu de déchets municipaux solides",{"$f":"+Décharge!D170","v":-119.59206265586528},"200 t DMS/jour centrale",{"$f":"Décharge!D168","v":20389.428571428572},{"$f":"Décharge!D158*H80/1000000","v":0},{"$f":"Décharge!D163*H80/1000000","v":0},null,{"$f":"(E80*H80)/1000","v":0},{"$f":"OFFSET(J80,-1,0,1,1)+I80","v":118889.48309528486},0.1467938337386922]
[null,"Biogaz issu des déchets solides municipaux",{"$f":"+Décharge!D145","v":0.22055635272371182},"1000 t/an centrale",{"$f":"+Décharge!D143","v":12186.720000000001},{"$f":"+Décharge!B133*H81/1000","v":0},{"$f":"Décharge!D138*H81/1000000","v":0},null,{"$f":"(E81*H81)/1000","v":0},{"$f":"OFFSET(J81,-1,0,1,1)+I81","v":118889.48309528486},0.1467938337386922]
[null,"Compostage des déchets solides municipaux",{"$f":"+Décharge!D62","v":-5.5868781179134984E-2},"1000 t/jour centrale",{"$f":"+Décharge!D60","v":4136782.1040000007},{"$f":"+Décharge!B49*H82/1000000","v":0},{"$f":"+Décharge!D55*H82/1000000","v":0},null,0,118889.48309528486,{"$f":"J82/TotalEmis2025","v":0.1467938337386922}]
["Marin","Energie marémotrice",{"$f":"Marine!D21","v":363.61667324190034},"1 MW d'énergie marémotrice",{"$f":"Marine!D19","v":1275.894},{"$f":"Marine!B9*H83/1000000","v":0},{"$f":"Marine!D14*H83/1000000","v":0},null,0,118889.48309528486,0.1467938337386922,null,null,null,{"$f":"+Marine!G17*H83/1000","v":0}]
[null,"Energie houlomotrice",{"$f":"Marine!D46","v":343.10682152450886},"1 MW  d'énergie houlomotrice",{"$f":"Marine!D44","v":1488.5429999999999},{"$f":"Marine!B34*H84/1000000","v":0},{"$f":"Marine!D39*H84/1000000","v":0},null,0,118889.48309528486,0.1467938337386922,null,null,null,{"$f":"+Marine!G42*H84/1000","v":0}]
["Evitement des émissions de méthane","Biogaz dans les fermes rurales subsituant le kérosène",{"$f":"+'Evitement méthane'!D22","v":-151.66258761517665},"1000 unités",{"$f":"+'Evitement méthane'!D20","v":1227.6264000000001},{"$f":"+'Evitement méthane'!B10*H85/1000000","v":0},{"$f":"+'Evitement méthane'!D15*H85/1000000","v":0},null,{"$f":"(E85*H85)/1000","v":0},{"$f":"OFFSET(J85,-1,0,1,1)+I85","v":118889.48309528486},0.1467938337386922]
[null,"Biogaz dans les fermes rurales subsituant le bois de feu non renouvelable",{"$f":"+'Evitement méthane'!D49","v":2.2857011214985121},"1000 unités",{"$f":"+'Evitement méthane'!D47","v":11274.12},{"$f":"+'Evitement méthane'!B37*H86/1000000","v":0},{"$f":"+'Evitement méthane'!D42*H86/1000000","v":0},null,{"$f":"(E86*H86)/1000","v":0},{"$f":"OFFSET(J86,-1,0,1,1)+I86","v":118889.48309528486},0.1467938337386922]
[null,"Le biogaz dans les grandes fermes",{"$f":"+'Evitement méthane'!D76","v":-18.330162191216946},"84000 cochons",{"$f":"+'Evitement méthane'!D74","v":71321.278606965177},{"$f":"'Evitement méthane'!B64*H87/1000000","v":0},{"$f":"'Evitement méthane'!D69*H87/1000000","v":0},null,0,118889.48309528486,{"$f":"J87/TotalEmis2025","v":0.1467938337386922},null,null,null,{"$f":"+'Evitement méthane'!G78*H87/1000","v":0}]
[null,"Biogaz émanant des eaux usées industrielles",{"$f":"+'Evitement méthane'!D104","v":-199.00857719997819},"1 centrale",{"$f":"+'Evitement méthane'!D102","v":25805.267999999996},{"$f":"+'Evitement méthane'!B92*H88/1000000","v":0},{"$f":"+'Evitement méthane'!D97*H88/1000000","v":0},null,0,118889.48309528486,0.1467938337386922]
["N2O","Usine d'acide nitrique (destruction N2O)",{"$f":"+N2O!D20","v":1.4550102291446729},"100 ton HNO3/jour",{"$f":"+N2O!D18","v":69021.5},{"$f":"+N2O!B9*H89/1000000","v":0},{"$f":"N2O!D13*H89/1000000","v":0},null,0,118889.48309528486,0.1467938337386922]
["Solaire","Chauffe-eau solaire, résidentiel",{"$f":"Solaire!D31","v":-341.4492171764353},"1000 locations",{"$f":"Solaire!D29*1000","v":803.76005774999987},{"$f":"+Solaire!B19*H90/1000000","v":0},{"$f":"+Solaire!D24*H90/1000000","v":0},null,{"$f":"E90*H90/1000","v":0},{"$f":"OFFSET(J90,-1,0)+I90","v":118889.48309528486},{"$f":"J90/TotalEmis2025","v":0.1467938337386922},null,null,{"$f":"+Solaire!G37*H90/1000000","v":0}]
[null,"Chauffe-eau solaire, large",{"$f":"+Solaire!D58","v":-350.30226457285954},"1 unit",{"$f":"+Solaire!D56","v":30.354722299999999},{"$f":"+Solaire!B46*H91/1000000","v":0},{"$f":"+Solaire!D51*H91/1000000","v":0},null,{"$f":"(E91*H91)/1000","v":0},{"$f":"OFFSET(J91,-1,0,1,1)+I91","v":118889.48309528486},0.1467938337386922,null,null,{"$f":"+Solaire!G66*H91/1000000","v":0}]
[null,"PV solaires, grand réseau",{"$f":"Solaire!D88","v":-294.12646107726175},"1 MW",{"$f":"Solaire!D86","v":886.03750000000002},{"$f":"+Solaire!B76*H92/1000000","v":7000},{"$f":"+Solaire!D81*H92/1000000","v":-1824.24951979721},7000,6202.2624999999998,125091.74559528485,0.15445181883985573,null,null,null,{"$f":"+Solaire!G86*H92/1000","v":12775}]
[null,"PV solaires, grand réseau avec stockage 24h",{"$f":"Solaire!D112","v":-164.52447660416522},"1 MW",{"$f":"Solaire!D110","v":886.03750000000002},{"$f":"+Solaire!B100*H93/1000000","v":0},{"$f":"+Solaire!D105*H93/1000000","v":0},null,0,125091.74559528485,{"$f":"+J93/TotalEmis2025","v":0.15445181883985573},null,null,null,{"$f":"+Solaire!G110*H93/1000","v":0}]
[null,"PV maison solaire",{"$f":"+Solaire!D137","v":-215.5798038208396},"500 W",{"$f":"+Solaire!D135","v":0.39871687500000003},{"$f":"+Solaire!B125*H94/1000000","v":0},{"$f":"+Solaire!D130*H94/1000000","v":0},null,0,125091.74559528485,{"$f":"+J94/TotalEmis2025","v":0.15445181883985573},null,null,null,{"$f":"+Solaire!G140*H94/1000","v":0}]
[null,"PV de chalet solaire",{"$f":"+Solaire!D164","v":-215.57980382083966},"50 W",{"$f":"+Solaire!D162","v":3.9871687500000003E-2},{"$f":"+Solaire!B152*H95/1000000","v":0},{"$f":"+Solaire!D157*H95/1000000","v":0},null,0,125091.74559528485,{"$f":"J95/TotalEmis2025","v":0.15445181883985573},null,null,null,{"$f":"+Solaire!G167*H95/1000","v":0}]
[null,"Mini-réseau solaire/diesel",{"$f":"+Solaire!D189","v":95.253250088916062},"40 kW provenant du solaire",{"$f":"+Solaire!D187","v":58.400000000000006},{"$f":"+Solaire!B177*H96/1000000","v":0},{"$f":"Solaire!D182*H96/1000000","v":0},null,0,125091.74559528485,{"$f":"J96/TotalEmis2025","v":0.15445181883985573},null,null,null,{"$f":"+Solaire!G194*H96/1000","v":0}]
[null,"Lampes solaires à LED",{"$f":"+Solaire!D301","v":-121.77064881201315},"1000 lampes",{"$f":"+Solaire!D299","v":93.908173333333366},{"$f":"Solaire!B289*H97/1000000","v":0},{"$f":"Solaire!D294*H97/1000000","v":0},null,0,125091.74559528485,{"$f":"J97/TotalEmis2025","v":0.15445181883985573}]
[null,"PV solaires, petit réseau isolé, 100% solaire",{"$f":"+Solaire!D217","v":221.43917442170138},"2 MW",{"$f":"+Solaire!D215","v":2628},{"$f":"+Solaire!B205*H98/1000000","v":0},{"$f":"+Solaire!D210*H98/1000000","v":0},null,{"$f":"(E98*H98)/1000","v":0},{"$f":"OFFSET(J98,-1,0,1,1)+I98","v":125091.74559528485},0.15445181883985573,null,null,null,{"$f":"+Solaire!G220*H98/1000","v":0}]
[null,"Lampadaires solaires",{"$f":"+Solaire!D328","v":-758.4245007314579},"1000 locations (0.05 MW)",{"$f":"+Solaire!D326","v":448.24831365935916},{"$f":"+Solaire!B316*H99/1000000","v":0},{"$f":"+Solaire!D316*H99/1000000","v":0},null,0,125091.74559528485,{"$f":"J99/TotalEmis2025","v":0.15445181883985573},null,null,null,{"$f":"+Solaire!G339*H99/1000","v":0}]
[null,"Parabolique via centrale solaire à concentration, pas de stockage",{"$f":"Solaire!$D$246","v":180.28584393360879},"1 MW",{"$f":"Solaire!$D$244","v":728.25},{"$f":"Solaire!B234*H100/1000000","v":0},{"$f":"Solaire!D239*H100/1000000","v":0},null,0,125091.74559528485,0.15445181883985573,null,null,null,{"$f":"+Solaire!G243*H100/1000","v":0}]
[null,"Tour solaire centrale solaire à concentration, avec stockage",{"$f":"+Solaire!D273","v":686.7743301696471},"1 MW",{"$f":"+Solaire!D271","v":728.25},{"$f":"+Solaire!B261*H101/1000000","v":0},{"$f":"+Solaire!D266*H101/1000000","v":0},null,0,125091.74559528485,0.15445181883985573,null,null,null,{"$f":"+Solaire!G270*H101/1000","v":0}]
["Transport","Mélange de 10% de biodiesel dans tout le diesel",{"$f":"+Transport!D37","v":369.38011072512057},"10% mélange en transport",{"$f":"+Transport!D35","v":9519390.517880911},{"$f":"+Transport!B25*H102/1000000","v":0},{"$f":"+Transport!D30*H102/1000000","v":0},null,0,125091.74559528485,0.15445181883985573]
[null,"Mélange de bioéthanol à 15% dans toute l'essence",{"$f":"+Transport!D66","v":430.26912561866118},"15% mélange en transport",{"$f":"+Transport!D64","v":1616104.6630755768},{"$f":"+Transport!B53*H103/1000000","v":0},{"$f":"+Transport!D58*M103/1000000","v":0},null,0,125091.74559528485,0.15445181883985573]
[null,"Service d'Autobus Express",{"$f":"Transport!D476","v":89.462218818813056},"1 km ligne d'autobus express",{"$f":"+Transport!D474","v":1983.4616326530609},{"$f":"Transport!B463*H104/1000000","v":0},{"$f":"Transport!D469*H104/1000000","v":0},null,0,125091.74559528485,0.15445181883985573,{"$f":"I104/3.1","v":0}]
[null,"Voitures à essence plus efficaces",{"$f":"+Transport!D97","v":-210.54592306489874},"1000 voitures",{"$f":"+Transport!D95","v":408.90380487804828},{"$f":"+Transport!B84*H105/1000000","v":0},{"$f":"+Transport!D90*H105/1000000","v":0},null,0,125091.74559528485,0.15445181883985573,null,{"$f":"I105/2.9","v":0}]
[null,"Voitures diesel plus efficaces",{"$f":"+Transport!D123","v":-158.52677653007859},"1000 voitures",{"$f":"+Transport!D121","v":179.7212853333333},{"$f":"+Transport!B110*H106/1000000","v":0},{"$f":"+Transport!D116*H106/1000000","v":0},null,0,125091.74559528485,0.15445181883985573,{"$f":"I106/3.1","v":0}]
[null,"Voitures au gaz naturel",{"$f":"+Transport!D392","v":-111.59325736279338},"1000 voitures au gaz naturel",{"$f":"+Transport!D390","v":778.08450104036592},{"$f":"+Transport!B380*H107/1000000","v":0},{"$f":"+Transport!D385*H107/1000000","v":0},null,{"$f":"(E107*H107)/1000","v":0},{"$f":"OFFSET(J107,-1,0,1,1)+I107","v":125091.74559528485},{"$f":"J107/TotalEmis2025","v":0.15445181883985573},{"$f":"I107/3.1","v":0}]
[null,"Voiture électrique",{"$f":"+Transport!D147","v":357.72620437215198},"1000 voitures",{"$f":"+Transport!D145","v":1002.5417894390353},{"$f":"+Transport!D135*H108/1000000","v":1650},{"$f":"+Transport!D140*H108/1000000","v":179.31773453024567},500,501.27089471951763,125593.01649000437,0.15507074218329839,null,{"$f":"+I108/2.9","v":172.85203266190263}]
[null,"Autobus électriques de 18m",{"$f":"+Transport!D177","v":1333.2584170132166},"1000 autobus",{"$f":"+Transport!D175","v":39529.648402942104},{"$f":"+Transport!D165*H109/1000000","v":0},{"$f":"+Transport!D170*H109/1000000","v":0},null,0,125593.01649000437,0.15507074218329839,{"$f":"I109/3.1","v":0}]
[null,"Autobus électriques 12m",{"$f":"+Transport!D208","v":1904.1221638883294},"1000 autobus",{"$f":"+Transport!D206","v":14473.983787975836},{"$f":"+Transport!D196*H110/1000000","v":0},{"$f":"+Transport!D201*H110/1000000","v":0},null,0,125593.01649000437,0.15507074218329839,0]
[null,"Camions lourds électriques",{"$f":"Transport!M239","v":3808.531246548961},"1000 camions",{"$f":"Transport!M237","v":12980.884968839813},{"$f":"Transport!M227*H111/1000000","v":0},{"$f":"Transport!M232*H111/1000000","v":0},null,0,125593.01649000437,{"$f":"J111/TotalEmis2025","v":0.15507074218329839},0]
[null,"Camions légers électriques",{"$f":"Transport!M271","v":577.60975464130399},"1000 camions",{"$f":"Transport!M269","v":6412.1652215990734},{"$f":"Transport!M259*H112/1000000","v":0},{"$f":"Transport!M264*H112/1000000","v":0},null,{"$f":"(E112*H112)/1000","v":0},{"$f":"OFFSET(J112,-1,0,1,1)+I112","v":125593.01649000437},{"$f":"J112/TotalEmis2025","v":0.15507074218329839},0]
[null,"Train electric",{"$f":"+Transport!D303","v":-9824.8592275038391},"1 Million trainkm/annee",{"$f":"+Transport!D301","v":-1319.7509435114996},{"$f":"+Transport!D291*H113/1000000","v":164613.24687355259},{"$f":"Transport!D296*H113/1000000","v":12966.367235365855},1000,{"$f":"(E113*H113)/1000","v":-1319.7509435114996},{"$f":"OFFSET(J113,-1,0,1,1)+I113","v":124273.26554649287},{"$f":"J113/TotalEmis2025","v":0.15344123471523208},-425.72611081016117]
[null,"Déplacement des passagers de la voiture vers le rail (1 Million de personne, km/jour)",{"$f":"Transport!D332","v":1961.8414656683801},"1 Million personne km/jour",{"$f":"Transport!D330","v":35457.80333333333},{"$f":"Transport!D320*H114/1000","v":0},{"$f":"Transport!D325*H114/1000","v":0},null,{"$f":"(E114*H114)/1000","v":0},{"$f":"OFFSET(J114,-1,0,1,1)+I114","v":124273.26554649287},{"$f":"J114/TotalEmis2025","v":0.15344123471523208},0]
[null,"Déplacement du transport de marchandises de la route vers le rail (1000 tonnes, km/jour)",{"$f":"Transport!D361","v":-1534.825994878948},"1000 tonkm/jour",{"$f":"Transport!D359","v":241.3646113413127},{"$f":"Transport!D349*H115/1000","v":0},{"$f":"Transport!D354*H115/1000","v":0},null,{"$f":"(E115*H115)/1000","v":0},{"$f":"OFFSET(J115,-1,0,1,1)+I115","v":124273.26554649287},{"$f":"J115/TotalEmis2025","v":0.15344123471523208},0]
[null,"Restriction à l'importation de voitures d'occasion",{"$f":"+Transport!D420","v":-210.54582703181637},"1000 voitures",{"$f":"+Transport!D418","v":931.3919999999996},{"$f":"+Transport!B408*H116/1000000","v":0},{"$f":"+Transport!D91*H116/1000000","v":0},null,0,124273.26554649287,0.15344123471523208,{"$f":"H116/3.1","v":0}]
[null,"Nouvelles voies cyclables",{"$f":"+Transport!D506","v":-144.86078223795022},"1 km voie cyclable",{"$f":"+Transport!D504","v":686.58271182439023},{"$f":"+Transport!B494*H117/1000000","v":2.5},{"$f":"+Transport!D499*H117/1000000","v":-4.9729454352967162},50,34.329135591219512,124307.59468208409,{"$f":"J117/TotalEmis2025","v":0.15348362118450734},{"$f":"I117/3.1","v":11.073914706845004}]
[null,"Trois-roues électriques",{"$f":"+Transport!D532","v":153.37359162501534},"1000 trois-roues",{"$f":"+Transport!D530","v":293.28103313378676},{"$f":"Transport!B520*H118/1000000","v":0},{"$f":"Transport!D525*H118/1000000","v":0},null,0,124307.59468208409,{"$f":"+J118/TotalEmis2025","v":0.15348362118450734},null,{"$f":"+Transport!C530*H118/2.87","v":0}]
[null,"Deux-roues électriques",{"$f":"+Transport!D560","v":129.0824214883059},"1000 deux-roues",{"$f":"+Transport!D558","v":739.74749999999983},{"$f":"Transport!D548*H119/1000000","v":0},{"$f":"Transport!D553*H119/1000000","v":0},null,{"$f":"(E119*H119)/1000","v":0},{"$f":"OFFSET(J119,-1,0,1,1)+I119","v":124307.59468208409},{"$f":"+J119/TotalEmis2025","v":0.15348362118450734},null,{"$f":"Transport!C558*H119/2.87","v":0}]
[null,"Meilleur entretien et utilisation des motos",{"$f":"+Transport!D448","v":-189.07311736714252},"1000 motos",{"$f":"+Transport!D446","v":116.42400000000004},{"$f":"+Transport!B436*H120/1000000","v":0},{"$f":"+Transport!D441*H120/1000000","v":0},null,0,124307.59468208409,0.15348362118450734,null,{"$f":"I120/2.9","v":0}]
["Éolien","Éoliennes on-shore",{"$f":"Eolien!$D$21","v":-351.11001040024917},"1 MW",{"$f":"Eolien!D19","v":1213.75},{"$f":"+Eolien!B9*H121/1000000","v":6750},{"$f":"+Eolien!D14*H121/1000000","v":-4261.5977512330237},10000,12137.5,136445.09468208411,0.16846989339813462,{"$f":"I121/3.1","v":3915.322580645161},null,null,{"$f":"+Eolien!G17*H121/1000","v":25000}]
[null,"Éoliennes on-shore avec stockage 24h ",{"$f":"Eolien!D45","v":-282.25942003523295},"1 MW",{"$f":"Eolien!D43","v":1327.8425},{"$f":"+Eolien!B33*H122/1000000","v":0},{"$f":"+Eolien!D38*H122/1000000","v":0},null,0,136445.09468208411,{"$f":"+J122/TotalEmis2025","v":0.16846989339813462},{"$f":"I122/3.1","v":0},null,null,{"$f":"+Eolien!G41*H122/1000","v":0}]
[null,"Éoliennes off-shore",{"$f":"Eolien!$D$70","v":-235.91509117009576},"1 MW",{"$f":"Eolien!D68","v":1553.6},{"$f":"+Eolien!B58*H123/1000000","v":0},{"$f":"+Eolien!D63*H123/1000000","v":0},null,0,136445.09468208411,0.16846989339813462,{"$f":"I123/3.1","v":0},null,null,{"$f":"+Eolien!G66*H123/1000","v":0}]
[null,null,null,null,"Totals:",{"$f":"SUM(F5:F123)","v":251510.05801159295},{"$f":"SUM(G5:G123)","v":-26325.766598569215},null,"BAU emission in 2025:",{"$f":"+'Bilan 2025'!B99","v":809907.88282646879},"ktCO2-eq.",{"$f":"SUM(L18:L123)","v":3500.6703845418447},{"$f":"SUM(M18:M123)","v":172.85203266190263},{"$f":"SUM(N18:N123)","v":58.462809917355358},{"$f":"SUM(O18:O123)","v":235825}]
["Options de réduction de GES:",{"$f":"COUNTA(B5:B123)","v":119}]
["Ne retirez pas ce chiffre!!"]
[]
[]
[]
[null,null,null,null,null,null,"CO2 émissions: ktCO2 en 2025",null,null,"BAU","Réduction","Nouveau totale"]
[null,null,null,null,null,null,"Centrale électricite",null,null,{"$f":"'Bilan 2025'!B63+'Bilan 2025'!B85+'Bilan 2025'!B86","v":331834.64842848422},{"$f":"SUM(I12:I14)+I15+SUM(I48:I56)+I70+SUM(I73:I75)+I83+I84+SUM(I92:I96)+I98+I100+I101+SUM(I121:I123)","v":121775.53749999999},{"$f":"+J131-K131","v":210059.11092848424},"Factor d'emission production d'electricité:",null,null,{"$f":"L131/'Bilan 2025'!Q34","v":0.44806199891475434},"tCO2/MWh"]
[null,null,null,null,null,null,"Industrie",null,null,{"$f":"SUM('Bilan 2025'!B65:B76)+'Bilan 2025'!B84+'Bilan 2025'!B93+'Bilan 2025'!B97","v":200942.93439808162},{"$f":"I16+I17+SUM(I29:I33)+I64+I65+SUM(I66:I69)+I72+I88+I89","v":13282.49425636631},{"$f":"+J132-K132","v":187660.44014171531}]
[null,null,null,null,null,null,"Transport",null,null,{"$f":"SUM('Bilan 2025'!B77:B80)","v":130434.02054613331},{"$f":"SUM(I102:I120)+I99+P124","v":-784.15091320076249},131218.17145933406]
[null,null,null,null,null,null,"Households",null,null,{"$f":"+'Bilan 2025'!B81","v":59052.204543475658},{"$f":"SUM(I18:I28)+I57+I58+I71+I90+I91+I97","v":0},59052.204543475658]
[null,null,null,null,null,null,"Services",null,null,{"$f":"+'Bilan 2025'!B82","v":42726.888714123394},{"$f":"SUM(I34:I47)","v":2171.2138389185484},40555.674875204844]
[null,null,null,null,null,null,"Agriculture & Péches",null,null,{"$f":"+'Bilan 2025'!B83+'Bilan 2025'!B87","v":92057.186196170675},{"$f":"SUM(I5:I11)+SUM(I85:I87)","v":0},92057.186196170675]
[null,null,null,null,null,null,"Forestry",null,null,{"$f":"+'Bilan 2025'!B94","v":-64020},{"$f":"SUM(I59:I63)","v":0},-64020]
[null,null,null,null,null,null,"Décharge",null,null,{"$f":"+'Bilan 2025'!B95+'Bilan 2025'!B96","v":16880},{"$f":"SUM(I76:I82)","v":0},16880]
[null,null,null,null,null,null,"Total",null,null,{"$f":"SUM(J131:J138)","v":809907.88282646879},{"$f":"SUM(K131:K138)","v":136445.09468208411},{"$f":"SUM(L131:L138)","v":673462.78814438474}]

{"sheet":"principale30","index":14,"n_rows":139,"n_cols":29,"rows_kept":139,"cut":false,"hidden":false,"merged":[[0,26,0,28],[1,26,3,26],[1,27,3,27],[1,28,3,28],[84,0,87,0]]}
["Atténuation de GES total",{"$f":"+Hypothèses!$B$2","v":"Pays X"},"en 2030",null,null,null,null,null,null,null,null,null,null,null,null,null,null,null,null,null,null,null,null,null,null,null,"Valeurs triées - selon le potentiel de revenus"]
[null,null,null,null,"Réduction","Investissement","Coût","Unités ","Réduction d'émissions en 2030",null,null,"Diesel","Essence","Electricité","Electricité",null,null,null,null,null,null,null,null,null,null,null,"Option de Réduction","US$/ktCO2 (Revenus)","Réduction d'émissions en 2020 par option (ktCO2/an)"]
[null,null,null,null,"d'émissions",null,"annuel","ajoutées","Par option","Cumulatif",null,"économisé","économisé","économisé","généré"]
["Type","Option de réduction","US$/tonCO2","Unité du sous-type ","t CO2-eq/unité","Million US$","MUS$/an","en 2030","ktCO2-eq/an","ktCO2-eq/an","Frac.du total","ktoe","ktoe","GWh","GWh"]
["Agriculture","Réduction du CH4 des cultures de riz",{"$f":"Agriculture!D28","v":1.2},"Culture de riz CH4 red.(1000 ha)",{"$f":"Agriculture!D25","v":2566.2000000000007},{"$f":"Agriculture!B15*H5/1000000","v":13.377926421404682},{"$f":"Agriculture!D20*H5/1000000","v":1.0006216152943905},10,{"$f":"E5*H5/1000","v":25.662000000000006},{"$f":"OFFSET(J5,-1,0)+I5","v":25.662000000000006},{"$f":"J5/Totalemis2030","v":2.4081497835065369E-5},null,null,null,null,null,null,null,null,null,null,null,null,null,null,null,"Hydroélectricité connectée au réseau principal",358.20337391064447,144229.91250000001]
[null,"Culture sans labour",{"$f":"+Agriculture!D192","v":-166.39187675838468},"1000 ha",{"$f":"+Agriculture!D190","v":85.727053103999992},{"$f":"Agriculture!C180*H6/1000000","v":0},{"$f":"Agriculture!D185*H6/1000000","v":0},null,{"$f":"E6*H6/1000","v":0},{"$f":"OFFSET(J6,-1,0)+I6","v":25.662000000000006},2.4081497835065369E-5,null,null,null,null,null,null,null,null,null,null,null,null,null,null,null,"Éoliennes on-shore",353.36321175438417,19420]
[null,"Couverture de cultures",{"$f":"+Agriculture!D87","v":81.040268456375827},"1000 ha",{"$f":"+Agriculture!D85","v":1490},{"$f":"Agriculture!D75*H7/1000000","v":0},{"$f":"Agriculture!D80*H7/1000000","v":0},null,0,25.662000000000006,2.4081497835065369E-5,null,null,null,null,null,null,null,null,null,null,null,null,null,null,null,"Nouvel immeuble de bureaux avec refroidissement central",300.20978284656968,34.869403212378401]
[null,"Inhibiteurs de nitrification (1000 ha)",{"$f":"+Agriculture!D115","v":67.689873417721515},"1000 ha",{"$f":"+Agriculture!D113","v":790},{"$f":"Agriculture!D103*H8/1000000","v":0},{"$f":"Agriculture!D108*H8/1000000","v":0},null,0,25.662000000000006,2.4081497835065369E-5,null,null,null,null,null,null,null,null,null,null,null,null,null,null,null,"PV solaires, grand réseau",235.21646813494516,8860.375]
[null,"Couverture des dépôts lisier (1 dépôt de lisier)",{"$f":"+Agriculture!D141","v":937.83334071789056},"1 dépôt de lisier",{"$f":"+Agriculture!D139","v":0.20130000000000001},{"$f":"Agriculture!D129*H9/1000000","v":0},{"$f":"Agriculture!D134*H9/1000000","v":0},null,0,25.662000000000006,{"$f":"J9/Totalemis2030","v":2.4081497835065369E-5},null,null,null,null,null,null,null,null,null,null,null,null,null,null,null,"Nouvelles voies cyclables",144.86078223795022,68.658271182439023]
[null,"Supplémentation en matières grasses dans l'alimentation des ruminants (% de matières grasses DM ajoutées)",{"$f":"+Agriculture!M166","v":80.5},"% de matières grasses DM ajouté",{"$f":"+Agriculture!M164","v":5026.8753477073615},{"$f":"Agriculture!M154*H10/1000000","v":0},{"$f":"Agriculture!M159*H10/1000000","v":0},null,0,25.662000000000006,2.4081497835065369E-5,null,null,null,null,null,null,null,null,null,null,null,null,null,null,null,"Voiture électrique",24.409287168764113,891.48853846153827]
[null,"Traitement du tabac",{"$f":"+Agriculture!D60","v":-20.801739200816428},"100 t de tabac/an",{"$f":"+Agriculture!D58","v":561.96940800000016},{"$f":"Agriculture!B48*H11/1000000","v":0},{"$f":"Agriculture!D53*H11/1000000","v":0},null,0,25.662000000000006,2.4081497835065369E-5,null,null,null,null,null,null,null,null,null,null,null,null,null,null,null,"Efficacité énergétique dans l'industrie",-0.94392925743255707,24884.9629674723]
["Energie biomasse","Centrales de cogénération d'écorce de riz",{"$f":"+'Energie biomasse'!D22","v":-87.684712341200125},"1 MW cogénération",{"$f":"+'Energie biomasse'!D20","v":9719.0247425999987},{"$f":"+'Energie biomasse'!B10*H12/1000000","v":0},{"$f":"+'Energie biomasse'!D15*H12/1000000","v":0},null,{"$f":"E12*H12/1000","v":0},25.662000000000006,{"$f":"J12/Totalemis2030","v":2.4081497835065369E-5},null,null,null,{"$f":"+'Energie biomasse'!G20/'Energie biomasse'!G17*H12/1000","v":0},null,null,null,null,null,null,null,null,null,null,null,"Efficacité énergétique en service",-0.94392925743255718,8004.9501459912226]
[null,"Production électrique à partir des résidus de biomasse",{"$f":"+'Energie biomasse'!M55","v":-191.86724048952527},"1 MW cogénération",{"$f":"+'Energie biomasse'!M53","v":2427.5},{"$f":"+'Energie biomasse'!K43*H13/1000000","v":0},{"$f":"+'Energie biomasse'!M48*H13/1000000","v":0},null,0,25.662000000000006,{"$f":"J13/Totalemis2030","v":2.4081497835065369E-5},null,null,null,{"$f":"+'Energie biomasse'!G51*H13/1000","v":0},null,null,null,null,null,null,null,null,null,null,null,"Réseaux électriques efficaces",-145.2399599818103,13108.5]
[null,"Production électrique à partir de bagasse",{"$f":"'Energie biomasse'!D86","v":-341.74294842775782},"100 kt cane à sucre/an",{"$f":"'Energie biomasse'!D84","v":6791.4514285714295},{"$f":"'Energie biomasse'!B74*H14/1000000","v":0},{"$f":"'Energie biomasse'!D79*H14/1000000","v":0},null,0,25.662000000000006,2.4081497835065369E-5,null,null,null,{"$f":"'Energie biomasse'!G85/'Energie biomasse'!G79*100*H14/1000","v":0},null,null,null,null,null,null,null,null,null,null,null,"Mélange de 20% de biodiesel dans tout le diesel",-369.38011072512052,25478.183748382304]
["Capture et stockage","Usine de capture et du stockage",{"$f":"+'Capture et stockage'!D22","v":203.81680118581841},"1 MW",{"$f":"+'Capture et stockage'!D20","v":5412.3711340206182},{"$f":"'Capture et stockage'!D10*H15/1000000","v":0},{"$f":"'Capture et stockage'!D15*H15/1000000","v":0},null,0,{"$f":"OFFSET(J15,-1,0)+I15","v":25.662000000000006},{"$f":"J15/Totalemis2030","v":2.4081497835065369E-5},null,null,null,{"$f":"+'Capture et stockage'!G16/'Capture et stockage'!G13*H15/1000","v":0},null,null,null,null,null,null,null,null,null,null,null,"Mélange de bioéthanol à 15% dans toute l'essence",-476.07358761238578,2013.7800739215268]
["Ciment","Remplacement du clinker",{"$f":"+Ciment!D22","v":7.5525712632273025},"1000 tonnes ciment/jour",{"$f":"+Ciment!D20","v":166583.56193028874},{"$f":"Ciment!B9*H16/1000000","v":0},{"$f":"Ciment!D15*H16/1000000","v":0},null,0,25.662000000000006,2.4081497835065369E-5]
["Mine de charbon","Méthane de mine de charbon",{"$f":"+'Mine de charbon'!D23","v":-30.712107618218361},"10 Mm3 CMM/an",{"$f":"+'Mine de charbon'!D21","v":37352.840000000004},{"$f":"+'Mine de charbon'!B11/1000000*H17","v":0},{"$f":"+'Mine de charbon'!D21/1000000*H17","v":0},null,0,25.662000000000006,2.4081497835065369E-5,null,null,null,{"$f":"+'Mine de charbon'!G26/'Mine de charbon'!G21*10*H17/1000","v":0}]
["EE ménages","Climatisation résidentielle efficace",{"$f":"+'EE ménages'!D28","v":-307.40925219715155},"1000 climatiseur",{"$f":"+'EE ménages'!D26","v":779.89209204096824},{"$f":"+'EE ménages'!B16*H18/1000000","v":0},{"$f":"+'EE ménages'!D21*H18/1000000","v":0},null,0,25.662000000000006,{"$f":"J18/Totalemis2030","v":2.4081497835065369E-5},null,null,{"$f":"+'EE ménages'!G40*H18/1000","v":0}]
[null,"Éclairage efficace avec les ampoules fluocompactes",{"$f":"+'EE ménages'!D62","v":-321.06763115035045},"1000 Ampoules",{"$f":"+'EE ménages'!D60","v":38.097435503685503},{"$f":"+'EE ménages'!D50*H19/1000000","v":0},{"$f":"+'EE ménages'!D55*H19/1000000","v":0},null,0,25.662000000000006,2.4081497835065369E-5,null,null,{"$f":"'EE ménages'!G63*H19/1000","v":0}]
[null,"Éclairage efficace avec LED",{"$f":"+'EE ménages'!D94","v":-354.68167440866569},"1000 Ampoules",{"$f":"+'EE ménages'!D92","v":77.718768427518427},{"$f":"+'EE ménages'!D82*H20/1000000","v":0},{"$f":"+'EE ménages'!D87*H20/1000000","v":0},null,0,25.662000000000006,2.4081497835065369E-5,null,null,{"$f":"+'EE ménages'!G99*H20/1000","v":0}]
[null,"Éclairage efficace avec LED remplaçant les fluocompactes",{"$f":"+'EE ménages'!D120","v":-213.84455798515566},"1000 Ampoules",{"$f":"+'EE ménages'!D118","v":9.1433845208845206},{"$f":"'EE ménages'!D108*H21/1000000","v":0},{"$f":"'EE ménages'!D113*H21/1000000","v":0},null,0,25.662000000000006,2.4081497835065369E-5,null,null,{"$f":"+'EE ménages'!G100*H21/1000","v":0}]
[null,"Poêles à bois efficaces",{"$f":"+'EE ménages'!D176","v":-933.25004151145902},"1000 poêles",{"$f":"+'EE ménages'!D174","v":1338.3333333333335},{"$f":"+'EE ménages'!B164*H22/1000000","v":0},{"$f":"+'EE ménages'!D169*H22/1000000","v":0},null,0,25.662000000000006,2.4081497835065369E-5]
[null,"Poêles à charbon de bois efficaces",{"$f":"+'EE ménages'!D203","v":-62.61549760364921},"1000 poêles",{"$f":"+'EE ménages'!D201","v":296.50751320580548},{"$f":"+'EE ménages'!B191*H23/1000000","v":0},{"$f":"+'EE ménages'!D196*H23/1000000","v":0},null,0,{"$f":"OFFSET(J23,-1,0)+I23","v":25.662000000000006},2.4081497835065369E-5]
[null,"Poêles au GPL remplaçant les poêles à bois",{"$f":"+'EE ménages'!D231","v":74.167143724329421},"1000 poêles",{"$f":"+'EE ménages'!D229","v":2054.9439166666671},{"$f":"'EE ménages'!B219*H24/1000000","v":0},{"$f":"'EE ménages'!D224*H24/1000000","v":0},null,0,25.662000000000006,2.4081497835065369E-5]
[null,"Poêles électriques efficaces",{"$f":"+'EE ménages'!D260","v":-273.80983725148542},"1000 poêles",{"$f":"+'EE ménages'!D258","v":155.07371007371006},{"$f":"'EE ménages'!D248*H25/1000000","v":0},{"$f":"'EE ménages'!D253*H25/1000000","v":0},null,0,{"$f":"OFFSET(J25,-1,0)+I25","v":25.662000000000006},2.4081497835065369E-5,null,null,{"$f":"'EE ménages'!G273*H25/1000","v":0}]
[null,"Poêles induction",{"$f":"+'EE ménages'!D287","v":504.90174838288539},"1000 poêles",{"$f":"+'EE ménages'!D285","v":11.296760336495453},{"$f":"'EE ménages'!D275*H26/1000000","v":0},{"$f":"'EE ménages'!D280*H26/1000000","v":0},null,0,{"$f":"OFFSET(J26,-1,0)+I26","v":25.662000000000006},{"$f":"+J26/Totalemis2030","v":2.4081497835065369E-5},null,null,{"$f":"'EE ménages'!G300*H26/1000","v":0}]
[null,"Nuveau domicile passif",{"$f":"+'EE ménages'!D315","v":-141.18922434820317},"1000 batiments",{"$f":"+'EE ménages'!D313","v":8499.2321867321862},{"$f":"'EE ménages'!D303*H27/1000000","v":0},{"$f":"'EE ménages'!D308*H27/1000000","v":0},null,0,{"$f":"OFFSET(J27,-1,0)+I27","v":25.662000000000006},{"$f":"+J27/Totalemis2030","v":2.4081497835065369E-5},null,null,{"$f":"'EE ménages'!G325*H27/1000","v":0}]
[null,"Réfrigérateurs efficaces",{"$f":"+'EE ménages'!D146","v":-37.237013908533335},"1000 refrigérateurs",{"$f":"+'EE ménages'!D144","v":1203.8235872235871},{"$f":"+'EE ménages'!D134*H28/1000000","v":0},{"$f":"+'EE ménages'!D139*H28/1000000","v":0},null,0,25.662000000000006,{"$f":"J28/Totalemis2030","v":2.4081497835065369E-5},null,null,{"$f":"+'EE ménages'!G158*H28/1000","v":0}]
["EE industrie","Moteurs électriques efficaces",{"$f":"+'EE industries'!D21","v":-309.0172323508944},"1 kW",{"$f":"+'EE industries'!D19","v":0.64945399945399895},{"$f":"+'EE industries'!D9*H29/1000000","v":0},{"$f":"+'EE industries'!D14*H29/1000000","v":0},null,0,{"$f":"OFFSET(J29,-1,0)+I29","v":25.662000000000006},2.4081497835065369E-5,null,null,{"$f":"H29*'EE industries'!G21/1000000","v":0}]
[null,"Efficacité énergétique dans l'industrie",{"$f":"+'EE industries'!M80","v":0.94392925743255696},"10% red. de demande d'énergie",{"$f":"+'EE industries'!M78","v":17774973.548194494},{"$f":"+'EE industries'!K68*H30/1000000","v":248.84962967472291},{"$f":"'EE industries'!M73*H30/1000000","v":23.489644615122799},1.4,24884.962967472289,{"$f":"OFFSET(J30,-1,0)+I30","v":24910.624967472289},2.3376399393044544E-2]
[null,"Matériaux de construction",{"$f":"+'EE industries'!D51","v":-18.895154748670951},"1 million briques",{"$f":"+'EE industries'!D49","v":520.30000000000007},{"$f":"'EE industries'!D39*H31/1000000","v":0},{"$f":"'EE industries'!D44*H31/1000000","v":0},null,0,{"$f":"OFFSET(J31,-1,0)+I31","v":24910.624967472289},2.3376399393044544E-2]
["EE chaleur résiduelle","Récupération de chaleur résiduelle dans une cimenterie",{"$f":"+'EE chaleur résiduelle'!D21","v":-375.61881397176268},"1 Cimenterie",{"$f":"+'EE chaleur résiduelle'!D19","v":39852.898650000003},{"$f":"+'EE chaleur résiduelle'!B9*H32/1000000","v":0},{"$f":"+'EE chaleur résiduelle'!D14*H32/1000000","v":0},null,{"$f":"E32*H32/1000","v":0},{"$f":"OFFSET(J32,-1,0)+I32","v":24910.624967472289},2.3376399393044544E-2,null,null,null,{"$f":"+'EE chaleur résiduelle'!G15*principale30!H32","v":0}]
[null,"Récupération de la chaleur résiduelle dans une aciérie",{"$f":"+'EE chaleur résiduelle'!D51","v":-390.79448028652257},"1 Aciérie",{"$f":"+'EE chaleur résiduelle'!D49","v":36703.799999999996},{"$f":"+'EE chaleur résiduelle'!B39*H33/1000000","v":0},{"$f":"+'EE chaleur résiduelle'!D44*H33/1000000","v":0},null,0,24910.624967472289,2.3376399393044544E-2,null,null,null,{"$f":"'EE chaleur résiduelle'!G44*principale30!H33","v":0}]
["EE service","Moteurs électriques efficaces",{"$f":"+'EE services'!D27","v":-309.0172323508944},"1 kW",{"$f":"+'EE services'!D25","v":0.64945399945399895},{"$f":"+'EE services'!D15*H34/1000000","v":0},{"$f":"+'EE services'!D20*H34/1000000","v":0},null,0,24910.624967472289,{"$f":"J34/Totalemis2030","v":2.3376399393044544E-2},null,null,{"$f":"H34*'EE services'!G27/1000000","v":0}]
[null,"Éclairage de bureau efficace avec des ampoules fluocompactes",{"$f":"+'EE services'!D55","v":-303.40494124995359},"1000 lampes",{"$f":"+'EE services'!D53","v":39.185933660933649},{"$f":"+'EE services'!D43*H35/1000000","v":0},{"$f":"+'EE services'!D48*H35/1000000","v":0},null,0,24910.624967472289,2.3376399393044544E-2,null,null,{"$f":"+'EE services'!G55*H35/1000","v":0}]
[null,"Éclairage de bureau efficace avec LED",{"$f":"+'EE services'!D87","v":-270.57489398565167},"1000 lampes",{"$f":"+'EE services'!D85","v":44.410724815724805},{"$f":"+'EE services'!D75*H36/1000000","v":0},{"$f":"+'EE services'!D80*H36/1000000","v":0},null,{"$f":"E36*H36/1000","v":0},{"$f":"OFFSET(J36,-1,0)+I36","v":24910.624967472289},2.3376399393044544E-2,null,null,{"$f":"+'EE services'!G87*H36/1000","v":0}]
[null,"Éclairage public efficace",{"$f":"+'EE services'!D121","v":-301.47178811224023},"1000 lampes",{"$f":"+'EE services'!D119","v":391.85933660933642},{"$f":"+'EE services'!D109*H37/1000000","v":0},{"$f":"+'EE services'!D114*H37/1000000","v":0},null,0,24910.624967472289,2.3376399393044544E-2,null,null,{"$f":"+'EE services'!G135*H37/1000","v":0}]
[null,"Pompage efficace de l'eau",{"$f":"+'EE services'!D157","v":-310.59608600829995},"4 Million m3 d'eau",{"$f":"+'EE services'!D155","v":763.43980343980365},{"$f":"+'EE services'!B145*H38/1000000","v":0},{"$f":"+'EE services'!D150*H38/1000000","v":0},null,0,24910.624967472289,2.3376399393044544E-2,null,null,{"$f":"+'EE services'!G156*H38","v":0}]
[null,"Chauffage, ventilation, climatisation ",{"$f":"+'EE services'!D246","v":-399.59175083634},"100,000 m2 surface planché",{"$f":"+'EE services'!D244","v":4556.7071087885734},{"$f":"'EE services'!D234*H39/1000000","v":0},{"$f":"'EE services'!D239*H39/1000000","v":0},null,0,24910.624967472289,2.3376399393044544E-2,null,null,{"$f":"+'EE services'!G252*H39/1000","v":0}]
[null,"Refroidisseur efficace> 300 TR",{"$f":"+'EE services'!D275","v":-84.763806653834919},"1 TR",{"$f":"+'EE services'!D273","v":1.9607499999999998},{"$f":"'EE services'!D235*H40/1000000","v":0},{"$f":"'EE services'!D240*H40/1000000","v":0},null,{"$f":"E40*H40/1000","v":0},{"$f":"OFFSET(J40,-1,0)+I40","v":24910.624967472289},{"$f":"+J40/Totalemis2030","v":2.3376399393044544E-2},null,null,{"$f":"+'EE services'!G288*H40/1000000","v":0}]
[null,"Refroidisseur efficace <300 TR",{"$f":"+'EE services'!D307","v":-126.63012410207483},"1 TR",{"$f":"+'EE services'!D305","v":0.87334999999999996},{"$f":"'EE services'!D236*H41/1000000","v":0},{"$f":"'EE services'!D241*H41/1000000","v":0},null,0,24910.624967472289,2.3376399393044544E-2,null,null,{"$f":"+'EE services'!G319*H41/1000000","v":0}]
[null,"Climatiseurs de type fenêtre/individuel efficace",{"$f":"+'EE services'!D339","v":-288.54139864501218},"1000 climatiseurs",{"$f":"+'EE services'!D337","v":0.70550806488306428},{"$f":"'EE services'!D327*H42/1000000","v":0},{"$f":"'EE services'!D332*H42/1000000","v":0},null,0,24910.624967472289,2.3376399393044544E-2,null,null,{"$f":"+'EE services'!G352*H42/1000000","v":0}]
[null,"Lave-vaisselle commercial efficace",{"$f":"+'EE services'!D372","v":-197.36514838620556},"1000 repas/jours",{"$f":"+'EE services'!D370","v":10.884981572481571},{"$f":"'EE services'!D360*H43/1000000","v":0},{"$f":"'EE services'!D365*H43/1000000","v":0},null,0,24910.624967472289,2.3376399393044544E-2,null,null,{"$f":"+'EE services'!G387*H43/1000000","v":0}]
[null,"Réfrigérateur d'hôtel efficace",{"$f":"+'EE services'!D407","v":947.95283605306668},"1 réfrigérateurs",{"$f":"+'EE services'!D405","v":0.39719112500930687},{"$f":"'EE services'!B395*H44/1000000","v":0},{"$f":"'EE services'!D400*H44/1000000","v":0},null,0,24910.624967472289,2.3376399393044544E-2,null,null,{"$f":"+'EE services'!G414*H44/1000000","v":0}]
[null,"Machine à laver efficace pour hôtel",{"$f":"+'EE services'!D437","v":38248.887086086368},"100 Clients Nuits (CN)",{"$f":"+'EE services'!D435","v":6.3784140573812431E-2},{"$f":"'EE services'!D425*H45/1000000","v":0},{"$f":"'EE services'!D430*H45/1000000","v":0},null,0,24910.624967472289,2.3376399393044544E-2,null,null,{"$f":"+'EE services'!G458*H45/1000000","v":0}]
[null,"Efficacité énergétique en service",{"$f":"+'EE services'!M221","v":0.94392925743255696},"10% red. de demande d'énergie",{"$f":"+'EE services'!M219","v":5717821.5328508727},{"$f":"'EE services'!K209*H46/1000000","v":80.049501459912221},{"$f":"'EE services'!M214*H46/1000000","v":7.5561066470901324},1.4,{"$f":"E46*H46/1000","v":8004.9501459912208},{"$f":"OFFSET(J46,-1,0)+I46","v":32915.575113463507},{"$f":"J46/Totalemis2030","v":3.0888331027776588E-2}]
[null,"Nouvel immeuble de bureaux avec refroidissement central",{"$f":"+'EE services'!D186","v":-300.20978284656968},"1000 m2",{"$f":"+'EE services'!D184","v":34.869403212378401},{"$f":"+'EE services'!D174*H47/1000000","v":6.5987861570247919},{"$f":"+'EE services'!D179*H47/1000000","v":-10.468135966377599},1000,{"$f":"(E47*H47)/1000","v":34.869403212378401},{"$f":"OFFSET(J47,-1,0,1,1)+I47","v":32950.444516675881},3.0921052852185004E-2,null,null,{"$f":"+'EE services'!G199*H47","v":58.462809917355358}]
["EE offre","Nouvelle centrale à charbon à haut rendement",{"$f":"+'EE offre'!M52","v":21.485823944685848},"1 MW",{"$f":"+'EE offre'!M50","v":1117.0367999999989},{"$f":"+'EE offre'!K40*H48/1000000","v":0},{"$f":"+'EE offre'!M45*H48/1000000","v":0},null,0,32950.444516675881,3.0921052852185004E-2]
[null,"Nouvelle centrale électrique au gaz naturel",{"$f":"'EE offre'!M23","v":-4269.6802073235358},"1 MW",{"$f":"+'EE offre'!M21","v":220.19999999999982},{"$f":"+'EE offre'!K11/1000000*H49","v":0},{"$f":"+'EE offre'!M16/1000000*H49","v":0},null,0,32950.444516675881,3.0921052852185004E-2]
[null,"Passer du fioul lourd au diesel",{"$f":"'EE offre'!D140","v":1206.9604660846496},"1 MW",{"$f":"+'EE offre'!D138","v":124.49193561101811},{"$f":"+'EE offre'!B128/1000000*H50","v":0},{"$f":"+'EE offre'!D133/1000000*H50","v":0},null,0,32950.444516675881,3.0921052852185004E-2]
[null,"Passer du fioul lourd au gaz naturel",{"$f":"'EE offre'!D170","v":-339.52112449817685},"1 MW",{"$f":"+'EE offre'!D168","v":1454.3571428571436},{"$f":"+'EE offre'!B158/1000000*H51","v":0},{"$f":"+'EE offre'!D1634/1000000*H51","v":0},null,{"$f":"(E51*H51)/1000","v":0},{"$f":"OFFSET(J51,-1,0,1,1)+I51","v":32950.444516675881},3.0921052852185004E-2]
[null,"La cogénération dans l'industrie",{"$f":"+'EE offre'!D111","v":-4717.3428040669614},"1 MW",{"$f":"+'EE offre'!D109","v":542.40894917999958},{"$f":"+'EE offre'!D100*principale30!H52/1000000","v":0},{"$f":"+'EE offre'!D104*H52/1000000","v":0},null,0,32950.444516675881,3.0921052852185004E-2,null,null,{"$f":"+'EE offre'!G110*H52/1000","v":0}]
[null,"Cycle unique à cycle combiné",{"$f":"+'EE offre'!D81","v":55.042723709110227},"100 MW d'augmentation",{"$f":"+'EE offre'!D79","v":75738},{"$f":"'EE offre'!D70*H53/1000000","v":0},{"$f":"'EE offre'!D74*H53/1000000","v":0},null,0,32950.444516675881,3.0921052852185004E-2,null,null,{"$f":"+'EE offre'!G90*H53/1000","v":0}]
["Distribution d'énergie","Réseaux électriques efficaces",{"$f":"+'Distribution énergie'!D24","v":145.2399599818103},"1 GWh pertes évités",{"$f":"+'Distribution énergie'!D22","v":485.5},{"$f":"+'Distribution énergie'!D12*principale30!H54/1000000","v":25890.478509679775},{"$f":"+'Distribution énergie'!D17*H54/1000000","v":1903.8780154215603},27000,13108.5,46058.944516675881,4.3222210765479149E-2,null,null,{"$f":"+H54*'Distribution énergie'!N20","v":0}]
[null,"Connexion du réseau isolé au réseau central",{"$f":"+'Distribution énergie'!D53","v":-35.970464274025431},"1 GWh consommation",{"$f":"+'Distribution énergie'!D51","v":485.5},{"$f":"+'Distribution énergie'!D41*H55/1000000","v":0},{"$f":"+'Distribution énergie'!D46*H55/1000000","v":0},null,{"$f":"(E55*H55)/1000","v":0},{"$f":"OFFSET(J55,-1,0,1,1)+I55","v":46058.944516675881},{"$f":"J55/Totalemis2030","v":4.3222210765479149E-2}]
[null,"Augmentation du facteur de puissance",{"$f":"+'Distribution énergie'!D83","v":1.3185780506574281},"1000 commerce/batiment industriel",{"$f":"+'Distribution énergie'!D81","v":94589.93197278888},{"$f":"'Distribution énergie'!B71*H56/1000000","v":0},{"$f":"'Distribution énergie'!D76*H56/1000000","v":0},null,0,46058.944516675881,4.3222210765479149E-2,null,null,{"$f":"H56*'Distribution énergie'!G91","v":0}]
[null,"Réhabilitation du réseau de chauffage urbain",{"$f":"+'Distribution énergie'!D112","v":-153.13048866378534},"Récupération de la chaleur dans une cimenterie",{"$f":"+'Distribution énergie'!D110","v":33649.053412333342},{"$f":"'Distribution énergie'!B99*H57/1000000","v":0},{"$f":"'Distribution énergie'!D105*H57/1000000","v":0},null,{"$f":"(E57*H57)/1000","v":0},{"$f":"OFFSET(J57,-1,0,1,1)+I57","v":46058.944516675881},{"$f":"+J57/Totalemis2030","v":4.3222210765479149E-2}]
[null,"Nouveau réseau de refroidissement urbain",{"$f":"+'Distribution énergie'!D151","v":-148.45274742045021},"Nouveau réseau de refroidissement urbain (1 million de m2 de nouvelle zone urbaine couverte)",{"$f":"+'Distribution énergie'!D149","v":13725.623132042594},{"$f":"'Distribution énergie'!D139*H58/1000000","v":0},{"$f":"'Distribution énergie'!D144*H58/1000000","v":0},null,{"$f":"(E58*H58)/1000","v":0},{"$f":"OFFSET(J58,-1,0,1,1)+I58","v":46058.944516675881},{"$f":"+J58/Totalemis2030","v":4.3222210765479149E-2}]
["Foresterie","Reboisement",{"$f":"+Foresterie!D26","v":15.446115121623658},"1000 ha de reboisement",{"$f":"Foresterie!D24","v":3666.666666666667},{"$f":"Foresterie!B13/1000000*H59","v":0},{"$f":"Foresterie!D19/1000000*H59","v":0},null,0,46058.944516675881,4.3222210765479149E-2]
[null,"REDD: déforestation évitée",{"$f":"+Foresterie!D54","v":-10.383221831758126},"1000 ha déforestation évitée",{"$f":"Foresterie!D52","v":3666.666666666667},{"$f":"Foresterie!B42*H60/1000000","v":0},{"$f":"Foresterie!D47/1000000*H60","v":0},null,{"$f":"(E60*H60)/1000","v":0},46058.944516675881,4.3222210765479149E-2]
[null,"Régénération assistée des forêts",{"$f":"Foresterie!D82","v":-3.8615287804059144},"1000 ha de régénéré",{"$f":"Foresterie!D80","v":3666.666666666667},{"$f":"Foresterie!B70/1000000*H61","v":0},{"$f":"Foresterie!D47/1000000*H61","v":0},null,0,46058.944516675881,4.3222210765479149E-2]
[null,"Reboisement avec agroforesterie",{"$f":"Foresterie!D111","v":-0.65934330145454612},"1000 ha de régénéré",{"$f":"Foresterie!D109","v":3666.666666666667},{"$f":"Foresterie!B98/1000000*H62","v":0},{"$f":"Foresterie!D104/1000000*H62","v":0},null,0,46058.944516675881,4.3222210765479149E-2]
[null,"Reboisement avec Silvopasture",{"$f":"Foresterie!D141","v":-0.65934330145454612},"1000 ha de régénéré",{"$f":"Foresterie!D139","v":3666.666666666667},{"$f":"Foresterie!B128/1000000*H63","v":0},{"$f":"Foresterie!D134/1000000*H63","v":0},null,0,46058.944516675881,4.3222210765479149E-2]
["Remplacement des ","Passer du charbon au gaz naturel dans l'industrie",{"$f":"+'Changement combustible fossile'!D22","v":31.126536151778442},"100 TJ essence utilisé/an",{"$f":"+'Changement combustible fossile'!D20","v":3850},{"$f":"'Changement combustible fossile'!B10/1000000*H64","v":0},{"$f":"'Changement combustible fossile'!D15/1000000*H64","v":0},null,0,46058.944516675881,4.3222210765479149E-2]
["Combustibles fossiles","Passer du fioul lourd au gaz naturel dans l'industrie",{"$f":"'Changement combustible fossile'!D51","v":-120.57373854419971},"100 TJ essence utilisé/an",{"$f":"'Changement combustible fossile'!D49","v":2126.6666666666679},{"$f":"'Changement combustible fossile'!B39/1000000*H65","v":0},{"$f":"'Changement combustible fossile'!D44/1000000*H65","v":0},null,0,46058.944516675881,4.3222210765479149E-2]
["Emissions fugitives ","Réduction du torchage au champ pétrolifère",{"$f":"+'Emissions fugitives'!D23","v":9.6651004761555761},"1 MMSCF/jour",{"$f":"+'Emissions fugitives'!D21","v":22613.499908999998},{"$f":"+'Emissions fugitives'!B11*H66/1000000","v":0},{"$f":"+'Emissions fugitives'!D16*H66/1000000","v":0},null,0,46058.944516675881,4.3222210765479149E-2]
[null,"Réduction du torchage dans les raffineries de pétrole",{"$f":"+'Emissions fugitives'!D52","v":217.25613544900492},"1 MMSCF/jour",{"$f":"+'Emissions fugitives'!D50","v":20797.217999999997},{"$f":"+'Emissions fugitives'!B40*H67/1000000","v":0},{"$f":"+'Emissions fugitives'!D45*H67/1000000","v":0},null,{"$f":"(E67*H67)/1000","v":0},{"$f":"OFFSET(J67,-1,0,1,1)+I67","v":46058.944516675881},4.3222210765479149E-2]
[null,"Réduction des fuites dans les pipelines de gaz naturel",{"$f":"'Emissions fugitives'!D79","v":-5.576949389258389},"1 Mm3 CH4/an de fuite",{"$f":"+'Emissions fugitives'!D77","v":15078},{"$f":"'Emissions fugitives'!B67*H68/1000000","v":0},{"$f":"'Emissions fugitives'!B72*H68/1000000","v":0},null,{"$f":"(E68*H68)/1000","v":0},{"$f":"OFFSET(J68,-1,0,1,1)+I68","v":46058.944516675881},4.3222210765479149E-2]
[null,"Production de charbon de bois",{"$f":"+'Emissions fugitives'!D106","v":1.606633349107647},"100,000 ton charbon de bois/année",{"$f":"+'Emissions fugitives'!D104","v":141004.80480480485},{"$f":"'Emissions fugitives'!B95*H69/1000000","v":0},{"$f":"'Emissions fugitives'!D99*H69/1000000","v":0},null,{"$f":"(E69*H69)/1000","v":0},{"$f":"OFFSET(J69,-1,0,1,1)+I69","v":46058.944516675881},4.3222210765479149E-2]
["Géothermie","Énergie géothermique",{"$f":"+Géothermique!M21","v":-259.23157420150284},"1 MW",{"$f":"+Géothermique!M19","v":3065.9324999999999},{"$f":"+Géothermique!K9*H70/1000000","v":0},{"$f":"+Géothermique!M14*H70/1000000","v":0},null,0,46058.944516675881,4.3222210765479149E-2,null,null,null,{"$f":"+Géothermique!P17*H70/1000","v":0}]
[null,"Chaleur géothermique",{"$f":"+Géothermique!D49","v":22.348277110443988},"1000 m2 surface chauffé",{"$f":"+Géothermique!D47","v":17.056285714285721},{"$f":"Géothermique!B37*H71/1000000","v":0},{"$f":"Géothermique!D42*H71/1000000","v":0},null,{"$f":"(E71*H71)/1000","v":0},{"$f":"OFFSET(J71,-1,0,1,1)+I71","v":46058.944516675881},4.3222210765479149E-2]
["HFCs, PFCs, SF6","Réduction des PFC de la production d'aluminium",{"$f":"+'HFC PFC SF6'!D23","v":3.397606639661678E-2},"100,000 ton Aluminium/an",{"$f":"+'HFC PFC SF6'!D21","v":111888.38499874179},{"$f":"+'HFC PFC SF6'!B11*H72/1000000","v":0},{"$f":"+'HFC PFC SF6'!D16*H72/1000000","v":0},null,0,46058.944516675881,4.3222210765479149E-2]
["Hydro","Hydroélectricité connectée au réseau principal",{"$f":"+Hydro!M23","v":-358.20337391064447},"1 MW",{"$f":"+Hydro!M21","v":1923.0654999999999},{"$f":"+Hydro!K11*H73/1000000","v":85357.5},{"$f":"+Hydro!M16*H73/1000000","v":-51663.641276337039},75000,144229.91250000001,190288.85701667587,0.17856911769480721,null,null,null,{"$f":"+Hydro!P18*H73/1000","v":297075}]
[null,"Mini hydroélectricité connectée au réseau principal",{"$f":"+Hydro!D52","v":-181.63328226331072},"1 MW",{"$f":"+Hydro!D50","v":1942},{"$f":"+Hydro!B40*H74/1000000","v":0},{"$f":"+Hydro!D45*H74/1000000","v":0},null,0,190288.85701667587,0.17856911769480721,null,null,null,{"$f":"Hydro!G48/Hydro!G45*H74/1000","v":0}]
[null,"Mini hydroélectricité hors réseau",{"$f":"+Hydro!D81","v":-16.968102990561736},"1 MW",{"$f":"+Hydro!D79","v":3231.9999999999995},{"$f":"+Hydro!B69*H75/1000000","v":0},{"$f":"Hydro!D74*H75/1000000","v":0},null,0,190288.85701667587,{"$f":"J75/Totalemis2030","v":0.17856911769480721},null,null,null,{"$f":"Hydro!G49/Hydro!G46*H75/1000","v":0}]
["Décharge","Centrale de gaz d'enfouissement avec production d'électricité",{"$f":"Décharge!D26","v":-42.465447468617498},"200 t/jour centrale",{"$f":"Décharge!D24","v":124415.21400000001},{"$f":"+Décharge!B14*H76/1000000","v":0},{"$f":"+Décharge!D19*H76/1000000","v":0},null,0,190288.85701667587,0.17856911769480721,null,null,null,{"$f":"+Décharge!G35*H76/1000","v":0}]
[null,"Torchage des gaz d'enfouissement",{"$f":"+Décharge!D117","v":1.1213562774871835},"1 t/jour centrale",{"$f":"+Décharge!D115","v":124415.21399999999},{"$f":"+Décharge!B105*H77/1000000","v":0},{"$f":"Décharge!D110*H77/1000000","v":0},null,0,190288.85701667587,0.17856911769480721]
[null,"Usine d'incinération",{"$f":"+Décharge!D90","v":13.881925777057218},"200 t/jour centrale",{"$f":"Décharge!D88","v":139951.21400000001},{"$f":"Décharge!B78*H78/1000000","v":0},{"$f":"Décharge!D83*H78/1000000","v":0},null,0,190288.85701667587,0.17856911769480721]
[null,"Recyclage des plastiques",{"$f":"+Décharge!D196","v":-280.92564985520448},"1000 t/an centrale",{"$f":"Décharge!D194","v":1095.42},{"$f":"Décharge!D183*H79/1000000","v":0},{"$f":"Décharge!D189*H79/1000000","v":0},null,0,190288.85701667587,0.17856911769480721]
[null,"Combustible issu de déchets municipaux solides",{"$f":"+Décharge!D170","v":-119.59206265586528},"200 t DMS/jour centrale",{"$f":"Décharge!D168","v":20389.428571428572},{"$f":"Décharge!B79*H80/1000000","v":0},{"$f":"Décharge!D84*H80/1000000","v":0},null,{"$f":"(E80*H80)/1000","v":0},{"$f":"OFFSET(J80,-1,0,1,1)+I80","v":190288.85701667587},0.17856911769480721]
[null,"Biogaz issu des déchets solides municipaux",{"$f":"+Décharge!D145","v":0.22055635272371182},"1000 t/an centrale",{"$f":"+Décharge!D143","v":12186.720000000001},{"$f":"+Décharge!D158*H81/1000000","v":0},{"$f":"Décharge!D163*H81/1000000","v":0},null,{"$f":"(E81*H81)/1000","v":0},{"$f":"OFFSET(J81,-1,0,1,1)+I81","v":190288.85701667587},0.17856911769480721]
[null,"Compostage des déchets solides municipaux",{"$f":"+Décharge!D62","v":-5.5868781179134984E-2},"1000 t/jour centrale",{"$f":"+Décharge!D60","v":4136782.1040000007},{"$f":"+Décharge!B49*H82/1000000","v":0},{"$f":"+Décharge!D55*H82/1000000","v":0},null,0,190288.85701667587,{"$f":"J82/Totalemis2030","v":0.17856911769480721}]
["Marin","Energie marémotrice",{"$f":"Marine!M21","v":289.63488028476155},"1 MW d'énergie marémotrice",{"$f":"Marine!M19","v":1275.894},{"$f":"Marine!K9*H83/1000000","v":0},{"$f":"Marine!M14*H83/1000000","v":0},null,0,190288.85701667587,0.17856911769480721,null,null,null,{"$f":"+Marine!P17*H83/1000","v":0}]
[null,"Energie houlomotrice",{"$f":"Marine!M46","v":279.69385613267553},"1 MW  d'énergie houlomotrice",{"$f":"Marine!M44","v":1488.5429999999999},{"$f":"Marine!K34*H84/1000000","v":0},{"$f":"Marine!M39*H84/1000000","v":0},null,0,190288.85701667587,0.17856911769480721,null,null,null,{"$f":"+Marine!P42*H84/1000","v":0}]
["Evitement des émissions de méthane","Biogaz dans les fermes rurales subsituant le kérosène",{"$f":"+'Evitement méthane'!D22","v":-151.66258761517665},"1000 unités",{"$f":"+'Evitement méthane'!D20","v":1227.6264000000001},{"$f":"+'Evitement méthane'!B10*H85/1000000","v":0},{"$f":"+'Evitement méthane'!D15*H85/1000000","v":0},null,{"$f":"(E85*H85)/1000","v":0},{"$f":"OFFSET(J85,-1,0,1,1)+I85","v":190288.85701667587},{"$f":"J85/Totalemis2030","v":0.17856911769480721}]
[null,"Biogaz dans les fermes rurales subsituant le bois de feu non renouvelable",{"$f":"+'Evitement méthane'!D49","v":2.2857011214985121},"1000 unités",{"$f":"+'Evitement méthane'!D47","v":11274.12},{"$f":"+'Evitement méthane'!B37*H86/1000000","v":0},{"$f":"+'Evitement méthane'!D42*H86/1000000","v":0},null,{"$f":"(E86*H86)/1000","v":0},{"$f":"OFFSET(J86,-1,0,1,1)+I86","v":190288.85701667587},{"$f":"J86/Totalemis2030","v":0.17856911769480721}]
[null,"Le biogaz dans les grandes fermes",{"$f":"+'Evitement méthane'!D76","v":-18.330162191216946},"84000 cochons",{"$f":"+'Evitement méthane'!D74","v":71321.278606965177},{"$f":"'Evitement méthane'!B64*H87/1000000","v":0},{"$f":"'Evitement méthane'!D69*H87/1000000","v":0},null,0,190288.85701667587,{"$f":"J87/Totalemis2030","v":0.17856911769480721},null,null,null,{"$f":"+'Evitement méthane'!G78*H87/1000","v":0}]
[null,"Biogaz émanant des eaux usées industrielles",{"$f":"+'Evitement méthane'!D104","v":-199.00857719997819},"1 centrale",{"$f":"+'Evitement méthane'!D102","v":25805.267999999996},{"$f":"+'Evitement méthane'!B92*H88/1000000","v":0},{"$f":"+'Evitement méthane'!D97*H88/1000000","v":0},null,0,190288.85701667587,0.17856911769480721]
["N2O","Usine d'acide nitrique (destruction N2O)",{"$f":"+N2O!D20","v":1.4550102291446729},"100 ton HNO3/jour",{"$f":"+N2O!D18","v":69021.5},{"$f":"+N2O!B9*H89/1000000","v":0},{"$f":"N2O!D13*H89/1000000","v":0},null,0,190288.85701667587,0.17856911769480721]
["Solaire","Chauffe-eau solaire, résidentiel",{"$f":"Solaire!D31","v":-341.4492171764353},"1000 locations",{"$f":"Solaire!D29*1000","v":803.76005774999987},{"$f":"+Solaire!B19*H90/1000000","v":0},{"$f":"+Solaire!D24*H90/1000000","v":0},null,{"$f":"E90*H90/1000","v":0},{"$f":"OFFSET(J90,-1,0)+I90","v":190288.85701667587},{"$f":"J90/Totalemis2030","v":0.17856911769480721},null,null,{"$f":"+Solaire!G37*H90/1000000","v":0}]
[null,"Chauffe-eau solaire, large",{"$f":"+Solaire!D58","v":-350.30226457285954},"1 unit",{"$f":"+Solaire!D56","v":30.354722299999999},{"$f":"+Solaire!B46*H91/1000000","v":0},{"$f":"+Solaire!D51*H91/1000000","v":0},null,{"$f":"(E91*H91)/1000","v":0},{"$f":"OFFSET(J91,-1,0,1,1)+I91","v":190288.85701667587},0.17856911769480721,null,null,{"$f":"+Solaire!G66*H91/1000000","v":0}]
[null,"PV solaires, grand réseau",{"$f":"Solaire!M88","v":-317.6904582541884},"1 MW",{"$f":"Solaire!M86","v":886.03750000000002},{"$f":"+Solaire!K76*H92/1000000","v":8000},{"$f":"+Solaire!M81*H92/1000000","v":-2814.8565940539547},10000,8860.375,199149.23201667587,0.18688378924731158,null,null,null,{"$f":"+Solaire!P86*H92/1000","v":18250}]
[null,"PV solaires, grand réseau avec stockage 24h",{"$f":"Solaire!M112","v":-211.65247095801848},"1 MW",{"$f":"Solaire!M110","v":886.03750000000002},{"$f":"+Solaire!K100*H93/1000000","v":0},{"$f":"+Solaire!M105*H93/1000000","v":0},null,0,199149.23201667587,{"$f":"+J93/Totalemis2030","v":0.18688378924731158},null,null,null,{"$f":"+Solaire!P110*H93/1000","v":0}]
[null,"PV maison solaire",{"$f":"+Solaire!D137","v":-215.5798038208396},"500 W",{"$f":"+Solaire!D135","v":0.39871687500000003},{"$f":"+Solaire!B125*H94/1000000","v":0},{"$f":"+Solaire!D130*H94/1000000","v":0},null,0,199149.23201667587,{"$f":"+J94/Totalemis2030","v":0.18688378924731158},null,null,null,{"$f":"+Solaire!G140*H94/1000","v":0}]
[null,"PV de chalet solaire",{"$f":"+Solaire!D164","v":-215.57980382083966},"50 W",{"$f":"+Solaire!D162","v":3.9871687500000003E-2},{"$f":"+Solaire!B152*H95/1000000","v":0},{"$f":"+Solaire!D157*H95/1000000","v":0},null,0,199149.23201667587,{"$f":"J95/Totalemis2030","v":0.18688378924731158},null,null,null,{"$f":"+Solaire!G167*H95/1000","v":0}]
[null,"Mini-réseau solaire/diesel",{"$f":"+Solaire!D189","v":95.253250088916062},"40 kW provenant du solaire",{"$f":"+Solaire!D187","v":58.400000000000006},{"$f":"+Solaire!B177*H96/1000000","v":0},{"$f":"Solaire!D182*H96/1000000","v":0},null,0,199149.23201667587,0.18688378924731158,null,null,null,{"$f":"+Solaire!G194*H96/1000","v":0}]
[null,"Lampes solaires à LED",{"$f":"+Solaire!D301","v":-121.77064881201315},"1000 lampes",{"$f":"+Solaire!D299","v":93.908173333333366},{"$f":"Solaire!B289*H97/1000000","v":0},{"$f":"Solaire!D294*H97/1000000","v":0},null,0,199149.23201667587,0.18688378924731158]
[null,"PV solaires, petit réseau isolé, 100% solaire",{"$f":"+Solaire!D217","v":221.43917442170138},"2 MW",{"$f":"+Solaire!D215","v":2628},{"$f":"+Solaire!B205*H98/1000000","v":0},{"$f":"+Solaire!D210*H98/1000000","v":0},null,{"$f":"(E98*H98)/1000","v":0},{"$f":"OFFSET(J98,-1,0,1,1)+I98","v":199149.23201667587},0.18688378924731158,null,null,null,{"$f":"+Solaire!G220*H98/1000","v":0}]
[null,"Lampadaires solaires",{"$f":"+Solaire!D328","v":-758.4245007314579},"1000 locations (0.05 MW)",{"$f":"+Solaire!D326","v":448.24831365935916},{"$f":"+Solaire!B316*H99/1000000","v":0},{"$f":"+Solaire!D316*H99/1000000","v":0},null,0,199149.23201667587,{"$f":"J99/Totalemis2030","v":0.18688378924731158},null,null,null,{"$f":"+Solaire!G339*H99/1000","v":0}]
[null,"Parabolique via centrale solaire à concentration, pas de stockage",{"$f":"Solaire!$M$246","v":114.48225605633061},"1 MW",{"$f":"Solaire!$M$244","v":728.25},{"$f":"Solaire!K234*H100/1000000","v":0},{"$f":"Solaire!M239*H100/1000000","v":0},null,0,199149.23201667587,0.18688378924731158,null,null,null,{"$f":"+Solaire!G243*H100/1000","v":0}]
[null,"Tour solaire centrale solaire à concentration, avec stockage",{"$f":"+Solaire!M273","v":557.15822890873994},"1 MW",{"$f":"+Solaire!M271","v":728.25},{"$f":"+Solaire!K261*H101/1000000","v":0},{"$f":"+Solaire!M266*H101/1000000","v":0},null,0,199149.23201667587,{"$f":"J101/Totalemis2030","v":0.18688378924731158},null,null,null,{"$f":"+Solaire!P270*H101/1000","v":0}]
["Transport","Mélange de 20% de biodiesel dans tout le diesel",{"$f":"+Transport!M37","v":369.38011072512057},"20% mélange en transport",{"$f":"+Transport!M35","v":25478183.7483823},{"$f":"+Transport!K25*H102/1000000","v":0},{"$f":"+Transport!M30*H102/1000000","v":9411.1343340524218},1,25478.1837483823,224627.41576505816,0.21079279192746378]
[null,"Mélange de bioéthanol à 15% dans toute l'essence",{"$f":"+Transport!M66","v":444.25337953552838},"15% mélange en transport",{"$f":"+Transport!M64","v":2114958.4741940065},{"$f":"+Transport!K53*H103/1000000","v":0},{"$f":"+Transport!M58*H103/1000000","v":939.57744973799208},1,2114.9584741940066,226742.37423925218,0.21277749179175948]
[null,"Service d'Autobus Express",{"$f":"Transport!D476","v":89.462218818813056},"1 km ligne d'autobus express",{"$f":"+Transport!D474","v":1983.4616326530609},{"$f":"Transport!B463*H104/1000000","v":0},{"$f":"Transport!D469*H104/1000000","v":0},null,0,226742.37423925218,0.21277749179175948,{"$f":"I104/3.1","v":0}]
[null,"Voitures à essence plus efficaces",{"$f":"+Transport!D97","v":-210.54592306489874},"1000 voitures",{"$f":"+Transport!D95","v":408.90380487804828},{"$f":"+Transport!B84*H105/1000000","v":0},{"$f":"+Transport!D90*H105/1000000","v":0},null,0,226742.37423925218,0.21277749179175948,null,{"$f":"I105/2.9","v":0}]
[null,"Voitures diesel plus efficaces",{"$f":"+Transport!D123","v":-158.52677653007859},"1000 voitures",{"$f":"+Transport!D121","v":179.7212853333333},{"$f":"+Transport!B110*H106/1000000","v":0},{"$f":"+Transport!D116*H106/1000000","v":0},null,0,226742.37423925218,0.21277749179175948,{"$f":"I106/3.1","v":0}]
[null,"Voitures au gaz naturel",{"$f":"+Transport!D392","v":-111.59325736279338},"1000 voitures au gaz naturel",{"$f":"+Transport!D390","v":778.08450104036592},{"$f":"+Transport!B380*H107/1000000","v":0},{"$f":"+Transport!D385*H107/1000000","v":0},null,{"$f":"(E107*H107)/1000","v":0},{"$f":"OFFSET(J107,-1,0,1,1)+I107","v":226742.37423925218},{"$f":"J107/Totalemis2030","v":0.21277749179175948},{"$f":"I107/3.1","v":0}]
[null,"Voiture électrique",{"$f":"+Transport!M147","v":-22.002295354090823},"1000 voitures",{"$f":"+Transport!M145","v":989.01498197203387},{"$f":"+Transport!M135*H108/1000000","v":900},{"$f":"+Transport!M140*H108/1000000","v":-21.760599742969497},1000,989.01498197203387,227731.38922122421,0.21370559412778967,null,{"$f":"I108/2.9","v":341.03964895587376}]
[null,"Autobus électriques de 18m",{"$f":"+Transport!M177","v":630.64608621700131},"1000 autobus",{"$f":"+Transport!M175","v":42929.968709040244},{"$f":"+Transport!M165*H109/1000000","v":0},{"$f":"+Transport!M170*H109/1000000","v":0},null,0,227731.38922122421,0.21370559412778967,{"$f":"I109/3.1","v":0}]
[null,"Autobus électriques 12m",{"$f":"+Transport!M208","v":1112.7412682739769},"1000 autobus",{"$f":"+Transport!M206","v":15753.135230984522},{"$f":"+Transport!M196*H110/1000000","v":0},{"$f":"+Transport!M201*H110/1000000","v":0},null,0,227731.38922122421,0.21370559412778967,0]
[null,"Camions lourds électriques",{"$f":"Transport!M239","v":3808.531246548961},"1000 camions",{"$f":"Transport!M237","v":12980.884968839813},{"$f":"Transport!M227*H111/1000000","v":0},{"$f":"Transport!M232*H111/1000000","v":0},null,0,227731.38922122421,{"$f":"J111/Totalemis2030","v":0.21370559412778967},0]
[null,"Camions légers électriques",{"$f":"Transport!M271","v":577.60975464130399},"1000 camions",{"$f":"Transport!M269","v":6412.1652215990734},{"$f":"Transport!M259*H112/1000000","v":0},{"$f":"Transport!M264*H112/1000000","v":0},null,{"$f":"(E112*H112)/1000","v":0},{"$f":"OFFSET(J112,-1,0,1,1)+I112","v":227731.38922122421},{"$f":"J112/Totalemis2030","v":0.21370559412778967},0]
[null,"Train electric",{"$f":"+Transport!D303","v":-9824.8592275038391},"1 Million trainkm/annee",{"$f":"+Transport!D301","v":-1319.7509435114996},{"$f":"+Transport!D291*H113/1000000","v":0},{"$f":"Transport!D296*H113/1000000","v":0},null,{"$f":"(E113*H113)/1000","v":0},{"$f":"OFFSET(J113,-1,0,1,1)+I113","v":227731.38922122421},{"$f":"J113/Totalemis2030","v":0.21370559412778967},0]
[null,"Déplacement des passagers de la voiture vers le rail (1 Million de personne, km/jour)",{"$f":"Transport!D332","v":1961.8414656683801},"1 Million personne km/jour",{"$f":"Transport!D330","v":35457.80333333333},{"$f":"Transport!D320*H114/1000","v":0},{"$f":"Transport!D325*H114/1000","v":0},null,{"$f":"(E114*H114)/1000","v":0},{"$f":"OFFSET(J114,-1,0,1,1)+I114","v":227731.38922122421},{"$f":"J114/Totalemis2030","v":0.21370559412778967},0]
[null,"Déplacement du transport de marchandises de la route vers le rail (1000 tonnes, km/jour)",{"$f":"Transport!D361","v":-1534.825994878948},"1000 tonkm/jour",{"$f":"Transport!D359","v":241.3646113413127},{"$f":"Transport!D349*H115/1000","v":0},{"$f":"Transport!D354*H115/1000","v":0},null,{"$f":"(E115*H115)/1000","v":0},{"$f":"OFFSET(J115,-1,0,1,1)+I115","v":227731.38922122421},{"$f":"J115/Totalemis2030","v":0.21370559412778967},0]
[null,"Restriction à l'importation de voitures d'occasion",{"$f":"+Transport!D420","v":-210.54582703181637},"1000 voitures",{"$f":"+Transport!D418","v":931.3919999999996},{"$f":"+Transport!B408*H116/1000000","v":0},{"$f":"+Transport!D91*H116/1000000","v":0},null,0,227731.38922122421,0.21370559412778967,0]
[null,"Nouvelles voies cyclables",{"$f":"+Transport!D506","v":-144.86078223795022},"1 km voie cyclable",{"$f":"+Transport!D504","v":686.58271182439023},{"$f":"+Transport!B494*H117/1000000","v":5},{"$f":"+Transport!D499*H117/1000000","v":-9.9458908705934324},100,68.658271182439023,227800.04749240665,{"$f":"J117/Totalemis2030","v":0.21377002379067017},22.147829413690008]
[null,"Trois-roues électriques",{"$f":"+Transport!D532","v":153.37359162501534},"1000 trois-roues",{"$f":"+Transport!D530","v":293.28103313378676},{"$f":"Transport!B520*H118/1000000","v":0},{"$f":"Transport!D525*H118/1000000","v":0},null,0,227800.04749240665,{"$f":"+J118/Totalemis2030","v":0.21377002379067017},null,{"$f":"+Transport!C530*H118/2.87","v":0}]
[null,"Deux-roues électriques",{"$f":"+Transport!D560","v":129.0824214883059},"1000 deux-roues",{"$f":"+Transport!D558","v":739.74749999999983},{"$f":"Transport!D548*H119/1000000","v":0},{"$f":"Transport!D553*H119/1000000","v":0},null,{"$f":"(E119*H119)/1000","v":0},{"$f":"OFFSET(J119,-1,0,1,1)+I119","v":227800.04749240665},{"$f":"+J119/Totalemis2030","v":0.21377002379067017},null,{"$f":"Transport!C558*H119/2.87","v":0}]
[null,"Meilleur entretien et utilisation des motos",{"$f":"+Transport!D448","v":-189.07311736714252},"1000 motos",{"$f":"+Transport!D446","v":116.42400000000004},{"$f":"+Transport!B436*H120/1000000","v":0},{"$f":"+Transport!D441*H120/1000000","v":0},null,0,227800.04749240665,0.21377002379067017,null,{"$f":"I120/2.9","v":0}]
["Éolien","Éoliennes on-shore",{"$f":"Eolien!$M$21","v":-353.36321175438417},"1 MW",{"$f":"Eolien!M19","v":1213.75},{"$f":"+Eolien!K9*H121/1000000","v":10400},{"$f":"+Eolien!M14*H121/1000000","v":-6862.3135722701409},16000,19420,247220.04749240665,0.23199396143999482,{"$f":"I121/3.1","v":6264.5161290322576},null,null,{"$f":"+Eolien!P17*H121/1000","v":40000}]
[null,"Éoliennes on-shore avec stockage 24h ",{"$f":"Eolien!M45","v":-321.35794544857504},"1 MW",{"$f":"Eolien!M43","v":1327.8425},{"$f":"+Eolien!K33*H122/1000000","v":0},{"$f":"+Eolien!M38*H122/1000000","v":0},null,0,247220.04749240665,{"$f":"+J122/Totalemis2030","v":0.23199396143999482},{"$f":"I122/3.1","v":0},null,null,{"$f":"+Eolien!P41*H122/1000","v":0}]
[null,"Éoliennes off-shore",{"$f":"Eolien!$M$70","v":-257.03885386511166},"1 MW",{"$f":"Eolien!M68","v":1553.6},{"$f":"+Eolien!K58*H123/1000000","v":0},{"$f":"+Eolien!M63*H123/1000000","v":0},null,{"$f":"(E123*H123)/1000","v":0},{"$f":"OFFSET(J123,-1,0,1,1)+I123","v":247220.04749240665},{"$f":"J123/Totalemis2030","v":0.23199396143999482},{"$f":"I123/3.1","v":0},null,null,{"$f":"+Eolien!P66*H123/1000","v":0}]
[null,null,null,null,"Totals:",{"$f":"SUM(F5:F123)","v":130901.85435339285},{"$f":"SUM(G5:G123)","v":-49096.349897151595},null,"BAU emission in 2030:",{"$f":"+'Bilan 2030'!B99","v":1065631.3895323093},"ktCO2-eq.",{"$f":"SUM(L18:L123)","v":6286.6639584459472},{"$f":"SUM(M18:M123)","v":341.03964895587376},{"$f":"SUM(N18:N123)","v":58.462809917355358},{"$f":"SUM(O18:O123)","v":355325}]
["Options de réduction de GES:",{"$f":"COUNTA(B5:B123)","v":119}]
["Ne retirez pas ce chiffre!!"]
[]
[]
[]
[null,null,null,null,null,null,"CO2 émissions: ktCO2 en 2030",null,null,"BAU","Réduction","Nouveau totale"]
[null,null,null,null,null,null,"Centrale électricite",null,null,{"$f":"'Bilan 2030'!B63+'Bilan 2030'!B85+'Bilan 2030'!B86","v":444069.61406090145},{"$f":"SUM(I12:I14)+I15+SUM(I48:I56)+I70+SUM(I73:I75)+I83+I84+SUM(I92:I96)+I98+I100+I101+SUM(I121:I123)","v":185618.78750000001},{"$f":"+J131-K131","v":258450.82656090145},"Factor d'emission production d'electricité:",null,null,{"$f":"L131/'Bilan 2030'!Q34","v":0.41195064591968661},"tCO2/MWh"]
[null,null,null,null,null,null,"Industrie",null,null,{"$f":"SUM('Bilan 2030'!B65:B76)+'Bilan 2030'!B84+'Bilan 2030'!B93+'Bilan 2030'!B97","v":248369.91737763979},{"$f":"I16+I17+SUM(I29:I33)+I64+I65+SUM(I66:I69)+I72+I88+I89","v":24884.962967472289},{"$f":"+J132-K132","v":223484.9544101675}]
[null,null,null,null,null,null,"Transport",null,null,{"$f":"SUM('Bilan 2030'!B77:B80)","v":174550.14248403953},{"$f":"SUM(I102:I120)+I99+P124","v":28650.815475730778},145899.32700830876]
[null,null,null,null,null,null,"Households",null,null,{"$f":"+'Bilan 2030'!B81","v":79025.170533746073},{"$f":"SUM(I18:I28)+I57+I58+I71+I90+I91+I97","v":0},79025.170533746073]
[null,null,null,null,null,null,"Services",null,null,{"$f":"+'Bilan 2030'!B82","v":57178.215328508726},{"$f":"SUM(I34:I47)","v":8039.8195492035993},49138.395779305123]
[null,null,null,null,null,null,"Agriculture & Péches",null,null,{"$f":"+'Bilan 2030'!B83+'Bilan 2030'!B87","v":109578.32974747372},{"$f":"SUM(I5:I11)+SUM(I85:I87)","v":25.662000000000006},109552.66774747372]
[null,null,null,null,null,null,"Forestry",null,null,{"$f":"+'Bilan 2030'!B94","v":-64020},{"$f":"SUM(I59:I63)","v":0},-64020]
[null,null,null,null,null,null,"Décharge",null,null,{"$f":"+'Bilan 2030'!B95+'Bilan 2030'!B96","v":16880},{"$f":"SUM(I76:I82)","v":0},16880]
[null,null,null,null,null,null,"Total",null,null,{"$f":"SUM(J131:J138)","v":1065631.3895323095},{"$f":"SUM(K131:K138)","v":247220.04749240668},{"$f":"SUM(L131:L138)","v":818411.34203990258}]

{"sheet":"principale35","index":15,"n_rows":139,"n_cols":29,"rows_kept":139,"cut":false,"hidden":false,"merged":[[0,26,0,28],[1,26,3,26],[1,27,3,27],[1,28,3,28],[84,0,87,0]]}
["Atténuation de GES total",{"$f":"+Hypothèses!$B$2","v":"Pays X"},"en 2035",null,null,null,null,null,null,null,null,null,null,null,null,null,null,null,null,null,null,null,null,null,null,null,"Valeurs triées - selon le potentiel de revenus"]
[null,null,null,null,"Réduction","Investissement","Coût","Unités ","Réduction d'émissions en 2035",null,null,"Diesel","Essence","Electricité","Electricité",null,null,null,null,null,null,null,null,null,null,null,"Option de Réduction","US$/ktCO2 (Revenus)","Réduction d'émissions en 2020 par option (ktCO2/an)"]
[null,null,null,null,"d'émissions",null,"annuel","ajoutées","Par option","Cumulatif",null,"économisé","économisé","économisé","généré"]
["Type","Option de réduction","US$/tonCO2","Unité du sous-type ","t CO2-eq/unité","Million US$","MUS$/an","en 2035","ktCO2-eq/an","ktCO2-eq/an","Frac.du total","ktoe","ktoe","GWh","GWh"]
["Agriculture","Réduction du CH4 des cultures de riz",{"$f":"Agriculture!D28","v":1.2},"Culture de riz CH4 red.(1000 ha)",{"$f":"Agriculture!D25","v":2566.2000000000007},{"$f":"Agriculture!B15*H5/1000000","v":13.377926421404682},{"$f":"Agriculture!D20*H5/1000000","v":1.0006216152943905},10,{"$f":"E5*H5/1000","v":25.662000000000006},{"$f":"OFFSET(J5,-1,0)+I5","v":25.662000000000006},{"$f":"J5/TotalEmis2035","v":1.9991702350642979E-5},null,null,null,null,null,null,null,null,null,null,null,null,null,null,null,"Hydroélectricité connectée au réseau principal",358.20337391064447,144229.91250000001]
[null,"Culture sans labour",{"$f":"+Agriculture!D192","v":-166.39187675838468},"1000 ha",{"$f":"+Agriculture!D190","v":85.727053103999992},{"$f":"Agriculture!C180*H6/1000000","v":0},{"$f":"Agriculture!D185*H6/1000000","v":0},null,{"$f":"E6*H6/1000","v":0},25.662000000000006,1.9991702350642979E-5,null,null,null,null,null,null,null,null,null,null,null,null,null,null,null,"Éoliennes on-shore",353.36321175438417,19420]
[null,"Couverture de cultures",{"$f":"+Agriculture!D87","v":81.040268456375827},"1000 ha",{"$f":"+Agriculture!D85","v":1490},{"$f":"Agriculture!D75*H7/1000000","v":0},{"$f":"Agriculture!D80*H7/1000000","v":0},null,0,25.662000000000006,1.9991702350642979E-5,null,null,null,null,null,null,null,null,null,null,null,null,null,null,null,"Nouvel immeuble de bureaux avec refroidissement central",300.20978284656968,34.869403212378401]
[null,"Inhibiteurs de nitrification (1000 ha)",{"$f":"+Agriculture!D115","v":67.689873417721515},"1000 ha",{"$f":"+Agriculture!D113","v":790},{"$f":"Agriculture!D103*H8/1000000","v":0},{"$f":"Agriculture!D108*H8/1000000","v":0},null,0,25.662000000000006,1.9991702350642979E-5,null,null,null,null,null,null,null,null,null,null,null,null,null,null,null,"PV solaires, grand réseau",235.21646813494516,8860.375]
[null,"Couverture des dépôts lisier (1 dépôt de lisier)",{"$f":"+Agriculture!D141","v":937.83334071789056},"1 dépôt de lisier",{"$f":"+Agriculture!D139","v":0.20130000000000001},{"$f":"Agriculture!D129*H9/1000000","v":0},{"$f":"Agriculture!D134*H9/1000000","v":0},null,0,25.662000000000006,1.9991702350642979E-5,null,null,null,null,null,null,null,null,null,null,null,null,null,null,null,"Nouvelles voies cyclables",144.86078223795022,68.658271182439023]
[null,"Supplémentation en matières grasses dans l'alimentation des ruminants (% de matières grasses DM ajoutées)",{"$f":"+Agriculture!M166","v":80.5},"% de matières grasses DM ajouté",{"$f":"+Agriculture!M164","v":5026.8753477073615},{"$f":"Agriculture!M154*H10/1000000","v":0},{"$f":"Agriculture!M159*H10/1000000","v":0},null,0,25.662000000000006,1.9991702350642979E-5,null,null,null,null,null,null,null,null,null,null,null,null,null,null,null,"Voiture électrique",24.409287168764113,891.48853846153827]
[null,"Traitement du tabac",{"$f":"+Agriculture!D60","v":-20.801739200816428},"100 t de tabac/an",{"$f":"+Agriculture!D58","v":561.96940800000016},{"$f":"Agriculture!B48*H11/1000000","v":0},{"$f":"Agriculture!D53*H11/1000000","v":0},null,0,25.662000000000006,1.9991702350642979E-5,null,null,null,null,null,null,null,null,null,null,null,null,null,null,null,"Efficacité énergétique dans l'industrie",-0.94392925743255707,24884.9629674723]
["Energie biomasse","Centrales de cogénération d'écorce de riz",{"$f":"+'Energie biomasse'!D22","v":-87.684712341200125},"1 MW cogénération",{"$f":"+'Energie biomasse'!D20","v":9719.0247425999987},{"$f":"+'Energie biomasse'!B10*H12/1000000","v":0},{"$f":"+'Energie biomasse'!D15*H12/1000000","v":0},null,0,25.662000000000006,1.9991702350642979E-5,null,null,null,{"$f":"+'Energie biomasse'!G20/'Energie biomasse'!G17*H12/1000","v":0},null,null,null,null,null,null,null,null,null,null,null,"Efficacité énergétique en service",-0.94392925743255718,8004.9501459912226]
[null,"Production électrique à partir des résidus de biomasse",{"$f":"+'Energie biomasse'!V55","v":-191.86724048952527},"1 MW cogénération",{"$f":"+'Energie biomasse'!V53","v":2427.5},{"$f":"+'Energie biomasse'!T43*H13/1000000","v":0},{"$f":"+'Energie biomasse'!V48*H13/1000000","v":0},null,0,25.662000000000006,1.9991702350642979E-5,null,null,null,{"$f":"+'Energie biomasse'!G51*H13/1000","v":0},null,null,null,null,null,null,null,null,null,null,null,"Réseaux électriques efficaces",-145.2399599818103,13108.5]
[null,"Production électrique à partir de bagasse",{"$f":"'Energie biomasse'!D86","v":-341.74294842775782},"100 kt cane à sucre/an",{"$f":"'Energie biomasse'!D84","v":6791.4514285714295},{"$f":"'Energie biomasse'!B74*H14/1000000","v":0},{"$f":"'Energie biomasse'!D79*H14/1000000","v":0},null,0,25.662000000000006,1.9991702350642979E-5,null,null,null,{"$f":"'Energie biomasse'!G85/'Energie biomasse'!G79*100*H14/1000","v":0},null,null,null,null,null,null,null,null,null,null,null,"Mélange de 20% de biodiesel dans tout le diesel",-369.38011072512052,25478.183748382304]
["Capture et stockage","Usine de capture et du stockage",{"$f":"+'Capture et stockage'!D22","v":203.81680118581841},"1 MW",{"$f":"+'Capture et stockage'!D20","v":5412.3711340206182},{"$f":"'Capture et stockage'!D10*H15/1000000","v":0},{"$f":"'Capture et stockage'!D15*H15/1000000","v":0},null,0,{"$f":"OFFSET(J15,-1,0)+I15","v":25.662000000000006},1.9991702350642979E-5,null,null,null,{"$f":"+'Capture et stockage'!G16/'Capture et stockage'!G13*H15/1000","v":0},null,null,null,null,null,null,null,null,null,null,null,"Mélange de bioéthanol à 15% dans toute l'essence",-476.07358761238578,2013.7800739215268]
["Ciment","Remplacement du clinker",{"$f":"+Ciment!D22","v":7.5525712632273025},"1000 tonnes ciment/jour",{"$f":"+Ciment!D20","v":166583.56193028874},{"$f":"Ciment!B9*H16/1000000","v":0},{"$f":"Ciment!D15*H16/1000000","v":0},null,0,25.662000000000006,1.9991702350642979E-5]
["Mine de charbon","Méthane de mine de charbon",{"$f":"+'Mine de charbon'!D23","v":-30.712107618218361},"10 Mm3 CMM/an",{"$f":"+'Mine de charbon'!D21","v":37352.840000000004},{"$f":"+'Mine de charbon'!B11/1000000*H17","v":0},{"$f":"+'Mine de charbon'!D21/1000000*H17","v":0},null,0,25.662000000000006,1.9991702350642979E-5,null,null,null,{"$f":"+'Mine de charbon'!G26/'Mine de charbon'!G21*10*H17/1000","v":0}]
["EE ménages","Climatisation résidentielle efficace",{"$f":"+'EE ménages'!D28","v":-307.40925219715155},"1000 climatiseur",{"$f":"+'EE ménages'!D26","v":779.89209204096824},{"$f":"+'EE ménages'!B16*H18/1000000","v":0},{"$f":"+'EE ménages'!D21*H18/1000000","v":0},null,0,25.662000000000006,1.9991702350642979E-5,null,null,{"$f":"+'EE ménages'!G40*H18/1000","v":0}]
[null,"Éclairage efficace avec les ampoules fluocompactes",{"$f":"+'EE ménages'!D62","v":-321.06763115035045},"1000 Ampoules",{"$f":"+'EE ménages'!D60","v":38.097435503685503},{"$f":"+'EE ménages'!D50*H19/1000000","v":0},{"$f":"+'EE ménages'!D55*H19/1000000","v":0},null,0,25.662000000000006,1.9991702350642979E-5,null,null,{"$f":"'EE ménages'!G63*H19/1000","v":0}]
[null,"Éclairage efficace avec LED",{"$f":"+'EE ménages'!D94","v":-354.68167440866569},"1000 Ampoules",{"$f":"+'EE ménages'!D92","v":77.718768427518427},{"$f":"+'EE ménages'!D82*H20/1000000","v":0},{"$f":"+'EE ménages'!D87*H20/1000000","v":0},null,0,25.662000000000006,1.9991702350642979E-5,null,null,{"$f":"+'EE ménages'!G99*H20/1000","v":0}]
[null,"Éclairage efficace avec LED remplaçant les fluocompactes",{"$f":"+'EE ménages'!D120","v":-213.84455798515566},"1000 Ampoules",{"$f":"+'EE ménages'!D118","v":9.1433845208845206},{"$f":"'EE ménages'!D108*H21/1000000","v":0},{"$f":"'EE ménages'!D113*H21/1000000","v":0},null,0,25.662000000000006,1.9991702350642979E-5,null,null,{"$f":"+'EE ménages'!G100*H21/1000","v":0}]
[null,"Poêles à bois efficaces",{"$f":"+'EE ménages'!D176","v":-933.25004151145902},"1000 poêles",{"$f":"+'EE ménages'!D174","v":1338.3333333333335},{"$f":"+'EE ménages'!B164*H22/1000000","v":0},{"$f":"+'EE ménages'!D169*H22/1000000","v":0},null,0,25.662000000000006,1.9991702350642979E-5]
[null,"Poêles à charbon de bois efficaces",{"$f":"+'EE ménages'!D203","v":-62.61549760364921},"1000 poêles",{"$f":"+'EE ménages'!D201","v":296.50751320580548},{"$f":"+'EE ménages'!B191*H23/1000000","v":0},{"$f":"+'EE ménages'!D196*H23/1000000","v":0},null,0,{"$f":"OFFSET(J23,-1,0)+I23","v":25.662000000000006},1.9991702350642979E-5]
[null,"Poêles au GPL remplaçant les poêles à bois",{"$f":"+'EE ménages'!D231","v":74.167143724329421},"1000 poêles",{"$f":"+'EE ménages'!D229","v":2054.9439166666671},{"$f":"'EE ménages'!B219*H24/1000000","v":0},{"$f":"'EE ménages'!D224*H24/1000000","v":0},null,0,25.662000000000006,1.9991702350642979E-5]
[null,"Poêles électriques efficaces",{"$f":"+'EE ménages'!D260","v":-273.80983725148542},"1000 poêles",{"$f":"+'EE ménages'!D258","v":155.07371007371006},{"$f":"'EE ménages'!D248*H25/1000000","v":0},{"$f":"'EE ménages'!D253*H25/1000000","v":0},null,0,{"$f":"OFFSET(J25,-1,0)+I25","v":25.662000000000006},1.9991702350642979E-5,null,null,{"$f":"'EE ménages'!G273*H25/1000","v":0}]
[null,"Poêles induction",{"$f":"+'EE ménages'!D287","v":504.90174838288539},"1000 poêles",{"$f":"+'EE ménages'!D285","v":11.296760336495453},{"$f":"'EE ménages'!D275*H26/1000000","v":0},{"$f":"'EE ménages'!D280*H26/1000000","v":0},null,0,{"$f":"OFFSET(J26,-1,0)+I26","v":25.662000000000006},{"$f":"+J26/TotalEmis2035","v":1.9991702350642979E-5},null,null,{"$f":"'EE ménages'!G300*H26/1000","v":0}]
[null,"Nuveau domicile passif",{"$f":"+'EE ménages'!D315","v":-141.18922434820317},"1000 batiments",{"$f":"+'EE ménages'!D313","v":8499.2321867321862},{"$f":"'EE ménages'!D303*H27/1000000","v":0},{"$f":"'EE ménages'!D308*H27/1000000","v":0},null,0,{"$f":"OFFSET(J27,-1,0)+I27","v":25.662000000000006},{"$f":"+J27/TotalEmis2035","v":1.9991702350642979E-5},null,null,{"$f":"'EE ménages'!G325*H27/1000","v":0}]
[null,"Réfrigérateurs efficaces",{"$f":"+'EE ménages'!D146","v":-37.237013908533335},"1000 refrigérateurs",{"$f":"+'EE ménages'!D144","v":1203.8235872235871},{"$f":"+'EE ménages'!D134*H28/1000000","v":0},{"$f":"+'EE ménages'!D139*H28/1000000","v":0},null,0,25.662000000000006,{"$f":"J28/TotalEmis2035","v":1.9991702350642979E-5},null,null,{"$f":"+'EE ménages'!G158*H28/1000","v":0}]
["EE industrie","Moteurs électriques efficaces",{"$f":"+'EE industries'!D21","v":-309.0172323508944},"1 kW",{"$f":"+'EE industries'!D19","v":0.64945399945399895},{"$f":"+'EE industries'!D9*H29/1000000","v":0},{"$f":"+'EE industries'!D14*H29/1000000","v":0},null,0,{"$f":"OFFSET(J29,-1,0)+I29","v":25.662000000000006},1.9991702350642979E-5,null,null,{"$f":"H29*'EE industries'!G21/1000000","v":0}]
[null,"Efficacité énergétique dans l'industrie",{"$f":"+'EE industries'!V80","v":0.94392925743255685},"10% red. de demande d'énergie",{"$f":"+'EE industries'!V78","v":21625973.157494072},{"$f":"+'EE industries'!T68*H30/1000000","v":302.76362420491694},{"$f":"'EE industries'!V73*H30/1000000","v":28.578744297333699},1.4,30276.3624204917,{"$f":"OFFSET(J30,-1,0)+I30","v":30302.0244204917},2.360646297390635E-2]
[null,"Matériaux de construction",{"$f":"+'EE industries'!D51","v":-18.895154748670951},"1 million briques",{"$f":"+'EE industries'!D49","v":520.30000000000007},{"$f":"'EE industries'!D39*H31/1000000","v":0},{"$f":"'EE industries'!D44*H31/1000000","v":0},null,0,{"$f":"OFFSET(J31,-1,0)+I31","v":30302.0244204917},2.360646297390635E-2]
["EE chaleur résiduelle","Récupération de chaleur résiduelle dans une cimenterie",{"$f":"+'EE chaleur résiduelle'!D21","v":-375.61881397176268},"1 Cimenterie",{"$f":"+'EE chaleur résiduelle'!D19","v":39852.898650000003},{"$f":"+'EE chaleur résiduelle'!B9*H32/1000000","v":0},{"$f":"+'EE chaleur résiduelle'!D14*H32/1000000","v":0},null,0,{"$f":"OFFSET(J32,-1,0)+I32","v":30302.0244204917},2.360646297390635E-2,null,null,null,{"$f":"+'EE chaleur résiduelle'!G15*principale35!H32","v":0}]
[null,"Récupération de la chaleur résiduelle dans une aciérie",{"$f":"+'EE chaleur résiduelle'!D51","v":-390.79448028652257},"1 Aciérie",{"$f":"+'EE chaleur résiduelle'!D49","v":36703.799999999996},{"$f":"+'EE chaleur résiduelle'!B39*H33/1000000","v":0},{"$f":"+'EE chaleur résiduelle'!D44*H33/1000000","v":0},null,0,30302.0244204917,2.360646297390635E-2,null,null,null,{"$f":"'EE chaleur résiduelle'!G44*principale35!H33","v":0}]
["EE service","Moteurs électriques efficaces",{"$f":"+'EE services'!D27","v":-309.0172323508944},"1 kW",{"$f":"+'EE services'!D25","v":0.64945399945399895},{"$f":"+'EE services'!D15*H34/1000000","v":0},{"$f":"+'EE services'!D20*H34/1000000","v":0},null,0,30302.0244204917,2.360646297390635E-2,null,null,{"$f":"H34*'EE services'!G27/1000000","v":0}]
[null,"Éclairage de bureau efficace avec des ampoules fluocompactes",{"$f":"+'EE services'!D55","v":-303.40494124995359},"1000 lampes",{"$f":"+'EE services'!D53","v":39.185933660933649},{"$f":"+'EE services'!D43*H35/1000000","v":0},{"$f":"+'EE services'!D48*H35/1000000","v":0},null,0,30302.0244204917,2.360646297390635E-2,null,null,{"$f":"+'EE services'!G55*H35/1000","v":0}]
[null,"Éclairage de bureau efficace avec LED",{"$f":"+'EE services'!D87","v":-270.57489398565167},"1000 lampes",{"$f":"+'EE services'!D85","v":44.410724815724805},{"$f":"+'EE services'!D75*H36/1000000","v":0},{"$f":"+'EE services'!D80*H36/1000000","v":0},null,{"$f":"E36*H36/1000","v":0},{"$f":"OFFSET(J36,-1,0)+I36","v":30302.0244204917},2.360646297390635E-2,null,null,{"$f":"+'EE services'!G87*H36/1000","v":0}]
[null,"Éclairage public efficace",{"$f":"+'EE services'!D121","v":-301.47178811224023},"1000 lampes",{"$f":"+'EE services'!D119","v":391.85933660933642},{"$f":"+'EE services'!D109*H37/1000000","v":0},{"$f":"+'EE services'!D114*H37/1000000","v":0},null,0,30302.0244204917,2.360646297390635E-2,null,null,{"$f":"+'EE services'!G135*H37/1000","v":0}]
[null,"Pompage efficace de l'eau",{"$f":"+'EE services'!D157","v":-310.59608600829995},"4 Million m3 d'eau",{"$f":"+'EE services'!D155","v":763.43980343980365},{"$f":"+'EE services'!B145*H38/1000000","v":0},{"$f":"+'EE services'!D150*H38/1000000","v":0},null,0,30302.0244204917,2.360646297390635E-2,null,null,{"$f":"+'EE services'!G156*H38","v":0}]
[null,"Chauffage, ventilation, climatisation ",{"$f":"+'EE services'!D246","v":-399.59175083634},"100,000 m2 surface planché",{"$f":"+'EE services'!D244","v":4556.7071087885734},{"$f":"'EE services'!D234*H39/1000000","v":0},{"$f":"'EE services'!D239*H39/1000000","v":0},null,0,30302.0244204917,2.360646297390635E-2,null,null,{"$f":"+'EE services'!G252*H39/1000","v":0}]
[null,"Refroidisseur efficace> 300 TR",{"$f":"+'EE services'!D275","v":-84.763806653834919},"1 TR",{"$f":"+'EE services'!D273","v":1.9607499999999998},{"$f":"'EE services'!D235*H40/1000000","v":0},{"$f":"'EE services'!D240*H40/1000000","v":0},null,0,30302.0244204917,{"$f":"+J40/TotalEmis2035","v":2.360646297390635E-2},null,null,{"$f":"+'EE services'!G288*H40/1000000","v":0}]
[null,"Refroidisseur efficace <300 TR",{"$f":"+'EE services'!D307","v":-126.63012410207483},"1 TR",{"$f":"+'EE services'!D305","v":0.87334999999999996},{"$f":"'EE services'!D236*H41/1000000","v":0},{"$f":"'EE services'!D241*H41/1000000","v":0},null,0,30302.0244204917,2.360646297390635E-2,null,null,{"$f":"+'EE services'!G319*H41/1000000","v":0}]
[null,"Climatiseurs de type fenêtre/individuel efficace",{"$f":"+'EE services'!D339","v":-288.54139864501218},"1000 climatiseurs",{"$f":"+'EE services'!D337","v":0.70550806488306428},{"$f":"'EE services'!D327*H42/1000000","v":0},{"$f":"'EE services'!D332*H42/1000000","v":0},null,0,30302.0244204917,2.360646297390635E-2,null,null,{"$f":"+'EE services'!G352*H42/1000000","v":0}]
[null,"Lave-vaisselle commercial efficace",{"$f":"+'EE services'!D372","v":-197.36514838620556},"1000 repas/jours",{"$f":"+'EE services'!D370","v":10.884981572481571},{"$f":"'EE services'!D360*H43/1000000","v":0},{"$f":"'EE services'!D365*H43/1000000","v":0},null,0,30302.0244204917,2.360646297390635E-2,null,null,{"$f":"+'EE services'!G387*H43/1000000","v":0}]
[null,"Réfrigérateur d'hôtel efficace",{"$f":"+'EE services'!D407","v":947.95283605306668},"1 réfrigérateurs",{"$f":"+'EE services'!D405","v":0.39719112500930687},{"$f":"'EE services'!B395*H44/1000000","v":0},{"$f":"'EE services'!D400*H44/1000000","v":0},null,0,30302.0244204917,2.360646297390635E-2,null,null,{"$f":"+'EE services'!G414*H44/1000000","v":0}]
[null,"Machine à laver efficace pour hôtel",{"$f":"+'EE services'!D437","v":38248.887086086368},"100 Clients Nuits (CN)",{"$f":"+'EE services'!D435","v":6.3784140573812431E-2},{"$f":"'EE services'!D425*H45/1000000","v":0},{"$f":"'EE services'!D430*H45/1000000","v":0},null,0,30302.0244204917,2.360646297390635E-2,null,null,{"$f":"+'EE services'!G458*H45/1000000","v":0}]
[null,"Efficacité énergétique en service",{"$f":"+'EE services'!V221","v":0.94392925743255696},"10% red. de demande d'énergie",{"$f":"+'EE services'!V219","v":6956604.1633482324},{"$f":"'EE services'!T209*H46/1000000","v":97.392458286875254},{"$f":"'EE services'!V214*H46/1000000","v":9.193159083026142},1.4,{"$f":"E46*H46/1000","v":9739.2458286875244},{"$f":"OFFSET(J46,-1,0)+I46","v":40041.270249179222},{"$f":"J46/TotalEmis2035","v":3.1193716645750404E-2}]
[null,"Nouvel immeuble de bureaux avec refroidissement central",{"$f":"+'EE services'!D186","v":-300.20978284656968},"1000 m2",{"$f":"+'EE services'!D184","v":34.869403212378401},{"$f":"+'EE services'!D174*H47/1000000","v":6.5987861570247919},{"$f":"+'EE services'!D179*H47/1000000","v":-10.468135966377599},1000,{"$f":"(E47*H47)/1000","v":34.869403212378401},{"$f":"OFFSET(J47,-1,0,1,1)+I47","v":40076.139652391597},3.1220881275559709E-2,null,null,{"$f":"+'EE services'!G199*H47","v":58.462809917355358}]
["EE offre","Nouvelle centrale à charbon à haut rendement",{"$f":"+'EE offre'!V52","v":21.485823944685848},"1 MW",{"$f":"+'EE offre'!V50","v":1117.0367999999989},{"$f":"+'EE offre'!T40*H48/1000000","v":0},{"$f":"+'EE offre'!V45*H48/1000000","v":0},null,0,40076.139652391597,3.1220881275559709E-2]
[null,"Nouvelle centrale électrique au gaz naturel",{"$f":"'EE offre'!V23","v":-322.75440496142869},"1 MW",{"$f":"+'EE offre'!V21","v":2913},{"$f":"+'EE offre'!T11/1000000*H49","v":0},{"$f":"+'EE offre'!V16/1000000*H49","v":0},null,0,40076.139652391597,3.1220881275559709E-2]
[null,"Passer du fioul lourd au diesel",{"$f":"'EE offre'!D140","v":1206.9604660846496},"1 MW",{"$f":"+'EE offre'!D138","v":124.49193561101811},{"$f":"+'EE offre'!B128/1000000*H50","v":0},{"$f":"+'EE offre'!D133/1000000*H50","v":0},null,0,40076.139652391597,3.1220881275559709E-2]
[null,"Passer du fioul lourd au gaz naturel",{"$f":"'EE offre'!D170","v":-339.52112449817685},"1 MW",{"$f":"+'EE offre'!D168","v":1454.3571428571436},{"$f":"+'EE offre'!B158/1000000*H51","v":0},{"$f":"+'EE offre'!D1634/1000000*H51","v":0},null,{"$f":"(E51*H51)/1000","v":0},{"$f":"OFFSET(J51,-1,0,1,1)+I51","v":40076.139652391597},3.1220881275559709E-2]
[null,"La cogénération dans l'industrie",{"$f":"+'EE offre'!D111","v":-4717.3428040669614},"1 MW",{"$f":"+'EE offre'!D109","v":542.40894917999958},{"$f":"+'EE offre'!D100*principale35!H52/1000000","v":0},{"$f":"+'EE offre'!D104*H52/1000000","v":0},null,0,40076.139652391597,3.1220881275559709E-2,null,null,{"$f":"+'EE offre'!G110*H52/1000","v":0}]
[null,"Cycle unique à cycle combiné",{"$f":"+'EE offre'!D81","v":55.042723709110227},"100 MW d'augmentation",{"$f":"+'EE offre'!D79","v":75738},{"$f":"'EE offre'!D70*H53/1000000","v":0},{"$f":"'EE offre'!D74*H53/1000000","v":0},null,0,40076.139652391597,3.1220881275559709E-2,null,null,{"$f":"+'EE offre'!G90*H53/1000","v":0}]
["Distribution d'énergie","Réseaux électriques efficaces",{"$f":"+'Distribution énergie'!D24","v":145.2399599818103},"1 GWh pertes évités",{"$f":"+'Distribution énergie'!D22","v":485.5},{"$f":"+'Distribution énergie'!D12*principale35!H54/1000000","v":33561.731401436744},{"$f":"+'Distribution énergie'!D17*H54/1000000","v":2467.9900199909116},35000,16992.5,57068.639652391597,4.4458703822255245E-2,null,null,{"$f":"+H54*'Distribution énergie'!N20","v":0}]
[null,"Connexion du réseau isolé au réseau central",{"$f":"+'Distribution énergie'!D53","v":-35.970464274025431},"1 GWh consommation",{"$f":"+'Distribution énergie'!D51","v":485.5},{"$f":"+'Distribution énergie'!D41*H55/1000000","v":0},{"$f":"+'Distribution énergie'!D46*H55/1000000","v":0},null,{"$f":"(E55*H55)/1000","v":0},{"$f":"OFFSET(J55,-1,0,1,1)+I55","v":57068.639652391597},4.4458703822255245E-2]
[null,"Augmentation du facteur de puissance",{"$f":"+'Distribution énergie'!D83","v":1.3185780506574281},"1000 commerce/batiment industriel",{"$f":"+'Distribution énergie'!D81","v":94589.93197278888},{"$f":"'Distribution énergie'!B71*H56/1000000","v":0},{"$f":"'Distribution énergie'!D76*H56/1000000","v":0},null,0,57068.639652391597,4.4458703822255245E-2,null,null,{"$f":"H56*'Distribution énergie'!G91","v":0}]
[null,"Réhabilitation du réseau de chauffage urbain",{"$f":"+'Distribution énergie'!D112","v":-153.13048866378534},"Récupération de la chaleur dans une cimenterie",{"$f":"+'Distribution énergie'!D110","v":33649.053412333342},{"$f":"'Distribution énergie'!B99*H57/1000000","v":0},{"$f":"'Distribution énergie'!D105*H57/1000000","v":0},null,{"$f":"(E57*H57)/1000","v":0},{"$f":"OFFSET(J57,-1,0,1,1)+I57","v":57068.639652391597},{"$f":"+J57/TotalEmis2035","v":4.4458703822255245E-2}]
[null,"Nouveau réseau de refroidissement urbain",{"$f":"+'Distribution énergie'!D151","v":-148.45274742045021},"Nouveau réseau de refroidissement urbain (1 million de m2 de nouvelle zone urbaine couverte)",{"$f":"+'Distribution énergie'!D149","v":13725.623132042594},{"$f":"'Distribution énergie'!D139*H58/1000000","v":0},{"$f":"'Distribution énergie'!D144*H58/1000000","v":0},null,{"$f":"(E58*H58)/1000","v":0},{"$f":"OFFSET(J58,-1,0,1,1)+I58","v":57068.639652391597},{"$f":"+J58/TotalEmis2035","v":4.4458703822255245E-2}]
["Foresterie","Reboisement",{"$f":"+Foresterie!D26","v":15.446115121623658},"1000 ha de reboisement",{"$f":"Foresterie!D24","v":3666.666666666667},{"$f":"Foresterie!B13/1000000*H59","v":0},{"$f":"Foresterie!D19/1000000*H59","v":0},null,0,57068.639652391597,{"$f":"J59/TotalEmis2035","v":4.4458703822255245E-2}]
[null,"REDD: déforestation évitée",{"$f":"+Foresterie!D54","v":-10.383221831758126},"1000 ha déforestation évitée",{"$f":"Foresterie!D52","v":3666.666666666667},{"$f":"Foresterie!B42*H60/1000000","v":0},{"$f":"Foresterie!D47/1000000*H60","v":0},null,{"$f":"(E60*H60)/1000","v":0},57068.639652391597,4.4458703822255245E-2]
[null,"Régénération assistée des forêts",{"$f":"Foresterie!D82","v":-3.8615287804059144},"1000 ha de régénéré",{"$f":"Foresterie!D80","v":3666.666666666667},{"$f":"Foresterie!B70/1000000*H61","v":0},{"$f":"Foresterie!D47/1000000*H61","v":0},null,0,57068.639652391597,4.4458703822255245E-2]
[null,"Reboisement avec agroforesterie",{"$f":"Foresterie!D111","v":-0.65934330145454612},"1000 ha de régénéré",{"$f":"Foresterie!D109","v":3666.666666666667},{"$f":"Foresterie!B98/1000000*H62","v":0},{"$f":"Foresterie!D104/1000000*H62","v":0},null,0,57068.639652391597,4.4458703822255245E-2]
[null,"Reboisement avec Silvopasture",{"$f":"Foresterie!D141","v":-0.65934330145454612},"1000 ha de régénéré",{"$f":"Foresterie!D139","v":3666.666666666667},{"$f":"Foresterie!B128/1000000*H63","v":0},{"$f":"Foresterie!D134/1000000*H63","v":0},null,0,57068.639652391597,4.4458703822255245E-2]
["Remplacement des ","Passer du charbon au gaz naturel dans l'industrie",{"$f":"+'Changement combustible fossile'!D22","v":31.126536151778442},"100 TJ essence utilisé/an",{"$f":"+'Changement combustible fossile'!D20","v":3850},{"$f":"'Changement combustible fossile'!B10/1000000*H64","v":0},{"$f":"'Changement combustible fossile'!D15/1000000*H64","v":0},null,0,57068.639652391597,4.4458703822255245E-2]
["Combustibles fossiles","Passer du fioul lourd au gaz naturel dans l'industrie",{"$f":"'Changement combustible fossile'!D51","v":-120.57373854419971},"100 TJ essence utilisé/an",{"$f":"'Changement combustible fossile'!D49","v":2126.6666666666679},{"$f":"'Changement combustible fossile'!B39/1000000*H65","v":0},{"$f":"'Changement combustible fossile'!D44/1000000*H65","v":0},null,0,57068.639652391597,4.4458703822255245E-2]
["Emissions fugitives ","Réduction du torchage au champ pétrolifère",{"$f":"+'Emissions fugitives'!D23","v":9.6651004761555761},"1 MMSCF/jour",{"$f":"+'Emissions fugitives'!D21","v":22613.499908999998},{"$f":"+'Emissions fugitives'!B11*H66/1000000","v":0},{"$f":"+'Emissions fugitives'!D16*H66/1000000","v":0},null,0,57068.639652391597,4.4458703822255245E-2]
[null,"Réduction du torchage dans les raffineries de pétrole",{"$f":"+'Emissions fugitives'!D52","v":217.25613544900492},"1 MMSCF/jour",{"$f":"+'Emissions fugitives'!D50","v":20797.217999999997},{"$f":"+'Emissions fugitives'!B40*H67/1000000","v":0},{"$f":"+'Emissions fugitives'!D45*H67/1000000","v":0},null,{"$f":"(E67*H67)/1000","v":0},{"$f":"OFFSET(J67,-1,0,1,1)+I67","v":57068.639652391597},4.4458703822255245E-2]
[null,"Réduction des fuites dans les pipelines de gaz naturel",{"$f":"'Emissions fugitives'!D79","v":-5.576949389258389},"1 Mm3 CH4/an de fuite",{"$f":"+'Emissions fugitives'!D77","v":15078},{"$f":"'Emissions fugitives'!B67*H68/1000000","v":0},{"$f":"'Emissions fugitives'!B72*H68/1000000","v":0},null,{"$f":"(E68*H68)/1000","v":0},{"$f":"OFFSET(J68,-1,0,1,1)+I68","v":57068.639652391597},4.4458703822255245E-2]
[null,"Production de charbon de bois",{"$f":"+'Emissions fugitives'!D106","v":1.606633349107647},"100,000 ton charbon de bois/année",{"$f":"+'Emissions fugitives'!D104","v":141004.80480480485},{"$f":"'Emissions fugitives'!B95*H69/1000000","v":0},{"$f":"'Emissions fugitives'!D99*H69/1000000","v":0},null,{"$f":"(E69*H69)/1000","v":0},{"$f":"OFFSET(J69,-1,0,1,1)+I69","v":57068.639652391597},4.4458703822255245E-2]
["Géothermie","Énergie géothermique",{"$f":"+Géothermique!M21","v":-259.23157420150284},"1 MW",{"$f":"+Géothermique!M19","v":3065.9324999999999},{"$f":"+Géothermique!K9*H70/1000000","v":0},{"$f":"+Géothermique!M14*H70/1000000","v":0},null,0,57068.639652391597,4.4458703822255245E-2,null,null,null,{"$f":"+Géothermique!P17*H70/1000","v":0}]
[null,"Chaleur géothermique",{"$f":"+Géothermique!D49","v":22.348277110443988},"1000 m2 surface chauffé",{"$f":"+Géothermique!D47","v":17.056285714285721},{"$f":"Géothermique!B37*H71/1000000","v":0},{"$f":"Géothermique!D42*H71/1000000","v":0},null,{"$f":"(E71*H71)/1000","v":0},{"$f":"OFFSET(J71,-1,0,1,1)+I71","v":57068.639652391597},4.4458703822255245E-2]
["HFCs, PFCs, SF6","Réduction des PFC de la production d'aluminium",{"$f":"+'HFC PFC SF6'!D23","v":3.397606639661678E-2},"100,000 ton Aluminium/an",{"$f":"+'HFC PFC SF6'!D21","v":111888.38499874179},{"$f":"+'HFC PFC SF6'!B11*H72/1000000","v":0},{"$f":"+'HFC PFC SF6'!D16*H72/1000000","v":0},null,0,57068.639652391597,4.4458703822255245E-2]
["Hydro","Hydroélectricité connectée au réseau principal",{"$f":"+Hydro!M23","v":-358.20337391064447},"1 MW",{"$f":"+Hydro!M21","v":1923.0654999999999},{"$f":"+Hydro!K11*H73/1000000","v":96738.5},{"$f":"+Hydro!M16*H73/1000000","v":-58552.126779848637},85000,163460.5675,220529.20715239161,0.17180088336894625,null,null,null,{"$f":"+Hydro!P18*H73/1000","v":336685}]
[null,"Mini hydroélectricité connectée au réseau principal",{"$f":"+Hydro!D52","v":-181.63328226331072},"1 MW",{"$f":"+Hydro!D50","v":1942},{"$f":"+Hydro!B40*H74/1000000","v":0},{"$f":"+Hydro!D45*H74/1000000","v":0},null,0,220529.20715239161,0.17180088336894625,null,null,null,{"$f":"Hydro!G48/Hydro!G45*H74/1000","v":0}]
[null,"Mini hydroélectricité hors réseau",{"$f":"+Hydro!D81","v":-16.968102990561736},"1 MW",{"$f":"+Hydro!D79","v":3231.9999999999995},{"$f":"+Hydro!B69*H75/1000000","v":0},{"$f":"Hydro!D74*H75/1000000","v":0},null,0,220529.20715239161,0.17180088336894625,null,null,null,{"$f":"Hydro!G49/Hydro!G46*H75/1000","v":0}]
["Décharge","Centrale de gaz d'enfouissement avec production d'électricité",{"$f":"Décharge!D26","v":-42.465447468617498},"200 t/jour centrale",{"$f":"Décharge!D24","v":124415.21400000001},{"$f":"+Décharge!B14*H76/1000000","v":0},{"$f":"+Décharge!D19*H76/1000000","v":0},null,0,220529.20715239161,0.17180088336894625,null,null,null,{"$f":"+Décharge!G35*H76/1000","v":0}]
[null,"Torchage des gaz d'enfouissement",{"$f":"+Décharge!D117","v":1.1213562774871835},"1 t/jour centrale",{"$f":"+Décharge!D115","v":124415.21399999999},{"$f":"+Décharge!B105*H77/1000000","v":0},{"$f":"Décharge!D110*H77/1000000","v":0},null,0,220529.20715239161,0.17180088336894625]
[null,"Usine d'incinération",{"$f":"+Décharge!D90","v":13.881925777057218},"200 t/jour centrale",{"$f":"Décharge!D88","v":139951.21400000001},{"$f":"Décharge!B78*H78/1000000","v":0},{"$f":"Décharge!D83*H78/1000000","v":0},null,0,220529.20715239161,0.17180088336894625]
[null,"Recyclage des plastiques",{"$f":"+Décharge!D196","v":-280.92564985520448},"1000 t/an centrale",{"$f":"Décharge!D194","v":1095.42},{"$f":"Décharge!D183*H79/1000000","v":0},{"$f":"Décharge!D189*H79/1000000","v":0},null,0,220529.20715239161,0.17180088336894625]
[null,"Combustible issu de déchets municipaux solides",{"$f":"+Décharge!D170","v":-119.59206265586528},"200 t DMS/jour centrale",{"$f":"Décharge!D168","v":20389.428571428572},{"$f":"Décharge!B79*H80/1000000","v":0},{"$f":"Décharge!D84*H80/1000000","v":0},null,{"$f":"(E80*H80)/1000","v":0},{"$f":"OFFSET(J80,-1,0,1,1)+I80","v":220529.20715239161},0.17180088336894625]
[null,"Biogaz issu des déchets solides municipaux",{"$f":"+Décharge!D145","v":0.22055635272371182},"1000 t/an centrale",{"$f":"+Décharge!D143","v":12186.720000000001},{"$f":"+Décharge!D158*H81/1000000","v":0},{"$f":"Décharge!D163*H81/1000000","v":0},null,{"$f":"(E81*H81)/1000","v":0},{"$f":"OFFSET(J81,-1,0,1,1)+I81","v":220529.20715239161},0.17180088336894625]
[null,"Compostage des déchets solides municipaux",{"$f":"+Décharge!D62","v":-5.5868781179134984E-2},"1000 t/jour centrale",{"$f":"+Décharge!D60","v":4136782.1040000007},{"$f":"+Décharge!B49*H82/1000000","v":0},{"$f":"+Décharge!D55*H82/1000000","v":0},null,0,220529.20715239161,0.17180088336894625]
["Marin","Energie marémotrice",{"$f":"Marine!V21","v":252.64398380619218},"1 MW d'énergie marémotrice",{"$f":"Marine!V19","v":1275.894},{"$f":"Marine!T9*H83/1000000","v":0},{"$f":"Marine!V14*H83/1000000","v":0},null,0,220529.20715239161,0.17180088336894625,null,null,null,{"$f":"+Marine!Y17*H83/1000","v":0}]
[null,"Energie houlomotrice",{"$f":"Marine!V46","v":247.98737343675893},"1 MW  d'énergie houlomotrice",{"$f":"Marine!V44","v":1488.5429999999999},{"$f":"Marine!T34*H84/1000000","v":0},{"$f":"Marine!V39*H84/1000000","v":0},null,0,220529.20715239161,0.17180088336894625,null,null,null,{"$f":"+Marine!Y42*H84/1000","v":0}]
["Evitement des émissions de méthane","Biogaz dans les fermes rurales subsituant le kérosène",{"$f":"+'Evitement méthane'!D22","v":-151.66258761517665},"1000 unités",{"$f":"+'Evitement méthane'!D20","v":1227.6264000000001},{"$f":"+'Evitement méthane'!B10*H85/1000000","v":0},{"$f":"+'Evitement méthane'!D15*H85/1000000","v":0},null,{"$f":"(E85*H85)/1000","v":0},{"$f":"OFFSET(J85,-1,0,1,1)+I85","v":220529.20715239161},0.17180088336894625]
[null,"Biogaz dans les fermes rurales subsituant le bois de feu non renouvelable",{"$f":"+'Evitement méthane'!D49","v":2.2857011214985121},"1000 unités",{"$f":"+'Evitement méthane'!D47","v":11274.12},{"$f":"+'Evitement méthane'!B37*H86/1000000","v":0},{"$f":"+'Evitement méthane'!D42*H86/1000000","v":0},null,{"$f":"(E86*H86)/1000","v":0},{"$f":"OFFSET(J86,-1,0,1,1)+I86","v":220529.20715239161},0.17180088336894625]
[null,"Le biogaz dans les grandes fermes",{"$f":"+'Evitement méthane'!D76","v":-18.330162191216946},"84000 cochons",{"$f":"+'Evitement méthane'!D74","v":71321.278606965177},{"$f":"'Evitement méthane'!B64*H87/1000000","v":0},{"$f":"'Evitement méthane'!D69*H87/1000000","v":0},null,0,220529.20715239161,0.17180088336894625,null,null,null,{"$f":"+'Evitement méthane'!G78*H87/1000","v":0}]
[null,"Biogaz émanant des eaux usées industrielles",{"$f":"+'Evitement méthane'!D104","v":-199.00857719997819},"1 centrale",{"$f":"+'Evitement méthane'!D102","v":25805.267999999996},{"$f":"+'Evitement méthane'!B92*H88/1000000","v":0},{"$f":"+'Evitement méthane'!D97*H88/1000000","v":0},null,0,220529.20715239161,0.17180088336894625]
["N2O","Usine d'acide nitrique (destruction N2O)",{"$f":"+N2O!D20","v":1.4550102291446729},"100 ton HNO3/jour",{"$f":"+N2O!D18","v":69021.5},{"$f":"+N2O!B9*H89/1000000","v":0},{"$f":"N2O!D13*H89/1000000","v":0},null,0,220529.20715239161,0.17180088336894625]
["Solaire","Chauffe-eau solaire, résidentiel",{"$f":"Solaire!D31","v":-341.4492171764353},"1000 locations",{"$f":"Solaire!D29*1000","v":803.76005774999987},{"$f":"+Solaire!B19*H90/1000000","v":0},{"$f":"+Solaire!D24*H90/1000000","v":0},null,{"$f":"E90*H90/1000","v":0},{"$f":"OFFSET(J90,-1,0)+I90","v":220529.20715239161},0.17180088336894625,null,null,{"$f":"+Solaire!G37*H90/1000000","v":0}]
[null,"Chauffe-eau solaire, large",{"$f":"+Solaire!D58","v":-350.30226457285954},"1 unit",{"$f":"+Solaire!D56","v":30.354722299999999},{"$f":"+Solaire!B46*H91/1000000","v":0},{"$f":"+Solaire!D51*H91/1000000","v":0},null,{"$f":"(E91*H91)/1000","v":0},{"$f":"OFFSET(J91,-1,0,1,1)+I91","v":220529.20715239161},0.17180088336894625,null,null,{"$f":"+Solaire!G66*H91/1000000","v":0}]
[null,"PV solaires, grand réseau",{"$f":"Solaire!V88","v":-329.4724568426517},"1 MW",{"$f":"Solaire!V86","v":886.03750000000002},{"$f":"+Solaire!T76*H92/1000000","v":14000},{"$f":"+Solaire!V81*H92/1000000","v":-5838.4990395944205},20000,17720.75,238249.95715239161,0.18560604116764304,null,null,null,{"$f":"+Solaire!P86*H92/1000","v":36500}]
[null,"PV solaires, grand réseau avec stockage 24h",{"$f":"Solaire!V112","v":-226.37996919359765},"1 MW",{"$f":"Solaire!V110","v":886.03750000000002},{"$f":"+Solaire!T100*H93/1000000","v":0},{"$f":"+Solaire!V105*H93/1000000","v":0},null,0,238249.95715239161,{"$f":"+J93/TotalEmis2035","v":0.18560604116764304},null,null,null,{"$f":"+Solaire!P110*H93/1000","v":0}]
[null,"PV maison solaire",{"$f":"+Solaire!D137","v":-215.5798038208396},"500 W",{"$f":"+Solaire!D135","v":0.39871687500000003},{"$f":"+Solaire!B125*H94/1000000","v":0},{"$f":"+Solaire!D130*H94/1000000","v":0},null,0,238249.95715239161,{"$f":"+J94/TotalEmis2035","v":0.18560604116764304},null,null,null,{"$f":"+Solaire!G140*H94/1000","v":0}]
[null,"PV de chalet solaire",{"$f":"+Solaire!D164","v":-215.57980382083966},"50 W",{"$f":"+Solaire!D162","v":3.9871687500000003E-2},{"$f":"+Solaire!B152*H95/1000000","v":0},{"$f":"+Solaire!D157*H95/1000000","v":0},null,0,238249.95715239161,{"$f":"J95/TotalEmis2035","v":0.18560604116764304},null,null,null,{"$f":"+Solaire!G167*H95/1000","v":0}]
[null,"Mini-réseau solaire/diesel",{"$f":"+Solaire!D189","v":95.253250088916062},"40 kW provenant du solaire",{"$f":"+Solaire!D187","v":58.400000000000006},{"$f":"+Solaire!B177*H96/1000000","v":0},{"$f":"Solaire!D182*H96/1000000","v":0},null,0,238249.95715239161,0.18560604116764304,null,null,null,{"$f":"+Solaire!G194*H96/1000","v":0}]
[null,"Lampes solaires à LED",{"$f":"+Solaire!D301","v":-121.77064881201315},"1000 lampes",{"$f":"+Solaire!D299","v":93.908173333333366},{"$f":"Solaire!B289*H97/1000000","v":0},{"$f":"Solaire!D294*H97/1000000","v":0},null,0,238249.95715239161,0.18560604116764304]
[null,"PV solaires, petit réseau isolé, 100% solaire",{"$f":"+Solaire!D217","v":221.43917442170138},"2 MW",{"$f":"+Solaire!D215","v":2628},{"$f":"+Solaire!B205*H98/1000000","v":0},{"$f":"+Solaire!D210*H98/1000000","v":0},null,0,238249.95715239161,0.18560604116764304,null,null,null,{"$f":"+Solaire!G220*H98/1000","v":0}]
[null,"Lampadaires solaires",{"$f":"+Solaire!D328","v":-758.4245007314579},"1000 locations (0.05 MW)",{"$f":"+Solaire!D326","v":448.24831365935916},{"$f":"+Solaire!B316*H99/1000000","v":0},{"$f":"+Solaire!D316*H99/1000000","v":0},null,0,238249.95715239161,0.18560604116764304,null,null,null,{"$f":"+Solaire!G339*H99/1000","v":0}]
[null,"Parabolique via centrale solaire à concentration, pas de stockage",{"$f":"Solaire!$V$246","v":48.678668179052444},"1 MW",{"$f":"Solaire!$V$244","v":728.25},{"$f":"Solaire!T234*H100/1000000","v":0},{"$f":"Solaire!AH239*H100/1000000","v":0},null,0,238249.95715239161,0.18560604116764304,null,null,null,{"$f":"+Solaire!G43*H100/1000","v":0}]
[null,"Tour solaire centrale solaire à concentration, avec stockage",{"$f":"+Solaire!V273","v":492.35017827828631},"1 MW",{"$f":"+Solaire!V271","v":728.25},{"$f":"+Solaire!T261*H101/1000000","v":0},{"$f":"+Solaire!V266*H101/1000000","v":0},null,0,238249.95715239161,0.18560604116764304,null,null,null,{"$f":"+Solaire!P270*H101/1000","v":0}]
["Transport","Mélange de 20% de biodiesel dans tout le diesel",{"$f":"+Transport!V37","v":369.38011072512063},"20% mélange en transport",{"$f":"+Transport!V35","v":30998106.205349836},{"$f":"+Transport!T25*H102/1000000","v":0},{"$f":"+Transport!V30*H102/1000000","v":11450.083902401171},1,30998.106205349835,269248.06335774146,0.20975477909496643]
[null,"Mélange de bioéthanol à 15% dans toute l'essence",{"$f":"+Transport!V66","v":436.60440272134616},"15% mélange en transport",{"$f":"+Transport!V64","v":2604627.6883477494},{"$f":"+Transport!T53*H103/1000000","v":0},{"$f":"+Transport!V58*H103/1000000","v":1137.1919161825497},1,2604.6276883477494,271852.69104608922,0.21178388600322345]
[null,"Service d'Autobus Express",{"$f":"Transport!D476","v":89.462218818813056},"1 km ligne d'autobus express",{"$f":"+Transport!D474","v":1983.4616326530609},{"$f":"Transport!B463*H104/1000000","v":0},{"$f":"Transport!D469*H104/1000000","v":0},null,0,271852.69104608922,0.21178388600322345,{"$f":"I104/3.1","v":0}]
[null,"Voitures à essence plus efficaces",{"$f":"+Transport!D97","v":-210.54592306489874},"1000 voitures",{"$f":"+Transport!D95","v":408.90380487804828},{"$f":"+Transport!B84*H105/1000000","v":0},{"$f":"+Transport!D90*H105/1000000","v":0},null,0,271852.69104608922,0.21178388600322345,null,{"$f":"I105/2.9","v":0}]
[null,"Voitures diesel plus efficaces",{"$f":"+Transport!D123","v":-158.52677653007859},"1000 voitures",{"$f":"+Transport!D121","v":179.7212853333333},{"$f":"+Transport!B110*H106/1000000","v":0},{"$f":"+Transport!D116*H106/1000000","v":0},null,0,271852.69104608922,0.21178388600322345,{"$f":"I106/3.1","v":0}]
[null,"Voitures au gaz naturel",{"$f":"+Transport!D392","v":-111.59325736279338},"1000 voitures au gaz naturel",{"$f":"+Transport!D390","v":778.08450104036592},{"$f":"+Transport!B380*H107/1000000","v":0},{"$f":"+Transport!D385*H107/1000000","v":0},null,{"$f":"(E107*H107)/1000","v":0},{"$f":"OFFSET(J107,-1,0,1,1)+I107","v":271852.69104608922},0.21178388600322345,{"$f":"I107/3.1","v":0}]
[null,"Voiture électrique",{"$f":"+Transport!V147","v":-45.00406534829424},"1000 voitures",{"$f":"+Transport!V145","v":993.6774452947385},{"$f":"+Transport!V135*H108/1000000","v":700},{"$f":"+Transport!V140*H108/1000000","v":-44.719524683170484},1000,993.6774452947385,272846.36849138397,0.21255799962331853,null,{"$f":"I108/2.9","v":342.64739492922018}]
[null,"Autobus électriques de 18m",{"$f":"+Transport!M177","v":630.64608621700131},"1000 autobus",{"$f":"+Transport!M175","v":42929.968709040244},{"$f":"+Transport!M165*H109/1000000","v":0},{"$f":"+Transport!M170*H109/1000000","v":0},null,0,272846.36849138397,0.21255799962331853,{"$f":"I109/3.1","v":0}]
[null,"Autobus électriques 12m",{"$f":"+Transport!M208","v":1112.7412682739769},"1000 autobus",{"$f":"+Transport!M206","v":15753.135230984522},{"$f":"+Transport!M196*H110/1000000","v":0},{"$f":"+Transport!M201*H110/1000000","v":0},null,0,272846.36849138397,0.21255799962331853,0]
[null,"Camions lourds électriques",{"$f":"Transport!M239","v":3808.531246548961},"1000 camions",{"$f":"Transport!M237","v":12980.884968839813},{"$f":"Transport!M227*H111/1000000","v":0},{"$f":"Transport!M232*H111/1000000","v":0},null,0,272846.36849138397,0.21255799962331853,0]
[null,"Camions légers électriques",{"$f":"Transport!M271","v":577.60975464130399},"1000 camions",{"$f":"Transport!M269","v":6412.1652215990734},{"$f":"Transport!M259*H112/1000000","v":0},{"$f":"Transport!M264*H112/1000000","v":0},null,{"$f":"(E112*H112)/1000","v":0},{"$f":"OFFSET(J112,-1,0,1,1)+I112","v":272846.36849138397},0.21255799962331853,0]
[null,"Train electric",{"$f":"+Transport!D303","v":-9824.8592275038391},"1 Million trainkm/annee",{"$f":"+Transport!D301","v":-1319.7509435114996},{"$f":"+Transport!D291*H113/1000000","v":0},{"$f":"Transport!D296*H113/1000000","v":0},null,{"$f":"(E113*H113)/1000","v":0},{"$f":"OFFSET(J113,-1,0,1,1)+I113","v":272846.36849138397},0.21255799962331853,0]
[null,"Déplacement des passagers de la voiture vers le rail (1 Million de personne, km/jour)",{"$f":"Transport!D332","v":1961.8414656683801},"1 Million personne km/jour",{"$f":"Transport!D330","v":35457.80333333333},{"$f":"Transport!D320*H114/1000","v":0},{"$f":"Transport!D325*H114/1000","v":0},null,{"$f":"(E114*H114)/1000","v":0},{"$f":"OFFSET(J114,-1,0,1,1)+I114","v":272846.36849138397},0.21255799962331853,0]
[null,"Déplacement du transport de marchandises de la route vers le rail (1000 tonnes, km/jour)",{"$f":"Transport!D361","v":-1534.825994878948},"1000 tonkm/jour",{"$f":"Transport!D359","v":241.3646113413127},{"$f":"Transport!D349*H115/1000","v":0},{"$f":"Transport!D354*H115/1000","v":0},null,{"$f":"(E115*H115)/1000","v":0},{"$f":"OFFSET(J115,-1,0,1,1)+I115","v":272846.36849138397},0.21255799962331853,0]
[null,"Restriction à l'importation de voitures d'occasion",{"$f":"+Transport!D420","v":-210.54582703181637},"1000 voitures",{"$f":"+Transport!D418","v":931.3919999999996},{"$f":"+Transport!B408*H116/1000000","v":0},{"$f":"+Transport!D91*H116/1000000","v":0},null,0,272846.36849138397,0.21255799962331853,0]
[null,"Nouvelles voies cyclables",{"$f":"+Transport!D506","v":-144.86078223795022},"1 km voie cyclable",{"$f":"+Transport!D504","v":686.58271182439023},{"$f":"+Transport!B494*H117/1000000","v":5},{"$f":"+Transport!D499*H117/1000000","v":-9.9458908705934324},100,68.658271182439023,272915.02676256641,0.21261148710369376,22.147829413690008]
[null,"Trois-roues électriques",{"$f":"+Transport!D532","v":153.37359162501534},"1000 trois-roues",{"$f":"+Transport!D530","v":293.28103313378676},{"$f":"Transport!B520*H118/1000000","v":0},{"$f":"Transport!D525*H118/1000000","v":0},null,0,272915.02676256641,{"$f":"+J118/TotalEmis2035","v":0.21261148710369376},null,{"$f":"+Transport!C530*H118/2.87","v":0}]
[null,"Deux-roues électriques",{"$f":"+Transport!D560","v":129.0824214883059},"1000 deux-roues",{"$f":"+Transport!D558","v":739.74749999999983},{"$f":"Transport!D548*H119/1000000","v":0},{"$f":"Transport!D553*H119/1000000","v":0},null,{"$f":"(E119*H119)/1000","v":0},{"$f":"OFFSET(J119,-1,0,1,1)+I119","v":272915.02676256641},{"$f":"+J119/TotalEmis2035","v":0.21261148710369376},null,{"$f":"Transport!C558*H119/2.87","v":0}]
[null,"Meilleur entretien et utilisation des motos",{"$f":"+Transport!D448","v":-189.07311736714252},"1000 motos",{"$f":"+Transport!D446","v":116.42400000000004},{"$f":"+Transport!B436*H120/1000000","v":0},{"$f":"+Transport!D441*H120/1000000","v":0},null,0,272915.02676256641,{"$f":"J120/TotalEmis2035","v":0.21261148710369376},null,{"$f":"I120/2.9","v":0}]
["Éolien","Éoliennes on-shore",{"$f":"Eolien!$V$21","v":-355.61641310851923},"1 MW",{"$f":"Eolien!V19","v":1213.75},{"$f":"+Eolien!T9*H121/1000000","v":15625},{"$f":"+Eolien!V14*H121/1000000","v":-10790.735535261631},25000,30343.75,303258.77676256641,{"$f":"J121/TotalEmis2035","v":0.23625045593707866},{"$f":"I121/3.1","v":9788.3064516129034},null,null,{"$f":"+Eolien!P17*H121/1000","v":62500}]
[null,"Éoliennes on-shore avec stockage 24h ",{"$f":"Eolien!V45","v":-323.41754449257422},"1 MW",{"$f":"Eolien!V43","v":1327.8425},{"$f":"+Eolien!T33*H122/1000000","v":0},{"$f":"+Eolien!V38*H122/1000000","v":0},null,0,303258.77676256641,{"$f":"+J122/TotalEmis2035","v":0.23625045593707866},{"$f":"I122/3.1","v":0},null,null,{"$f":"+Eolien!P41*H122/1000","v":0}]
[null,"Éoliennes off-shore",{"$f":"Eolien!$M$70","v":-257.03885386511166},"1 MW",{"$f":"Eolien!M68","v":1553.6},{"$f":"+Eolien!K58*H123/1000000","v":0},{"$f":"+Eolien!M63*H123/1000000","v":0},null,{"$f":"(E123*H123)/1000","v":0},{"$f":"OFFSET(J123,-1,0,1,1)+I123","v":303258.77676256641},{"$f":"J123/TotalEmis2035","v":0.23625045593707866},{"$f":"I123/3.1","v":0},null,null,{"$f":"+Eolien!P66*H123/1000","v":0}]
[null,null,null,null,"Totals:",{"$f":"SUM(F5:F123)","v":161050.36419650697},{"$f":"SUM(G5:G123)","v":-60152.456542654538},null,"BAU emission in 2035:",{"$f":"+'Bilan 2035'!B99","v":1283632.5566429142},"ktCO2-eq.",{"$f":"SUM(L18:L123)","v":9810.4542810265939},{"$f":"SUM(M18:M123)","v":342.64739492922018},{"$f":"SUM(N18:N123)","v":58.462809917355358},{"$f":"SUM(O18:O123)","v":435685}]
["Options de réduction de GES:",{"$f":"COUNTA(B5:B123)","v":119}]
["Ne retirez pas ce chiffre!!"]
[]
[]
[]
[null,null,null,null,null,null,"CO2 émissions: ktCO2 en 2030",null,null,"BAU","Réduction","Nouveau totale"]
[null,null,null,null,null,null,"Centrale électricite",null,null,{"$f":"'Bilan 2035'!B63+'Bilan 2035'!B85+'Bilan 2035'!B86","v":540278.58481484349},{"$f":"SUM(I12:I14)+I15+SUM(I48:I56)+I70+SUM(I73:I75)+I83+I84+SUM(I92:I96)+I98+I100+I101+SUM(I121:I123)","v":228517.5675},{"$f":"+J131-K131","v":311761.01731484348},"Factor d'emission production d'electricité:",null,null,{"$f":"L131/'Bilan 2035'!Q34","v":0.40843445940180984},"tCO2/MWh"]
[null,null,null,null,null,null,"Industrie",null,null,{"$f":"SUM('Bilan 2035'!B65:B76)+'Bilan 2035'!B84+'Bilan 2035'!B93+'Bilan 2035'!B97","v":289024.81661262573},{"$f":"I16+I17+SUM(I29:I33)+I64+I65+SUM(I66:I69)+I72+I88+I89","v":30276.3624204917},{"$f":"+J132-K132","v":258748.45419213403}]
[null,null,null,null,null,null,"Transport",null,null,{"$f":"SUM('Bilan 2035'!B77:B80)","v":212366.93746754032},{"$f":"SUM(I102:I120)+I99+P124","v":34665.06961017476},177701.86785736558]
[null,null,null,null,null,null,"Households",null,null,{"$f":"+'Bilan 2035'!B81","v":96146.203092537166},{"$f":"SUM(I18:I28)+I57+I58+I71+I90+I91+I97","v":0},96146.203092537166]
[null,null,null,null,null,null,"Services",null,null,{"$f":"+'Bilan 2035'!B82","v":69566.041633482324},{"$f":"SUM(I34:I47)","v":9774.1152318999029},59791.926401582423]
[null,null,null,null,null,null,"Agriculture & Péches",null,null,{"$f":"+'Bilan 2035'!B83+'Bilan 2035'!B87","v":123389.973021885},{"$f":"SUM(I5:I11)+SUM(I85:I87)","v":25.662000000000006},123364.31102188501]
[null,null,null,null,null,null,"Forestry",null,null,{"$f":"+'Bilan 2035'!B94","v":-64020},{"$f":"SUM(I59:I63)","v":0},-64020]
[null,null,null,null,null,null,"Décharge",null,null,{"$f":"+'Bilan 2035'!B95+'Bilan 2035'!B96","v":16880},{"$f":"SUM(I76:I82)","v":0},16880]
[null,null,null,null,null,null,"Total",null,null,{"$f":"SUM(J131:J138)","v":1283632.556642914},{"$f":"SUM(K131:K138)","v":303258.77676256635},{"$f":"SUM(L131:L138)","v":980373.77988034766}]

{"sheet":"principale50","index":16,"n_rows":139,"n_cols":29,"rows_kept":139,"cut":false,"hidden":false,"merged":[[0,26,0,28],[1,26,3,26],[1,27,3,27],[1,28,3,28],[84,0,87,0]]}
["Atténuation de GES total",{"$f":"+Hypothèses!$B$2","v":"Pays X"},"en 2050",null,null,null,null,null,null,null,null,null,null,null,null,null,null,null,null,null,null,null,null,null,null,null,"Valeurs triées - selon le potentiel de revenus"]
[null,null,null,null,"Réduction","Investissement","Coût","Unités ","Réduction d'émissions en 2050",null,null,"Diesel","Essence","Electricité","Electricité",null,null,null,null,null,null,null,null,null,null,null,"Option de Réduction","US$/ktCO2 (Revenus)","Réduction d'émissions en 2020 par option (ktCO2/an)"]
[null,null,null,null,"d'émissions",null,"annuel","ajoutées","Par option","Cumulatif",null,"économisé","économisé","économisé","généré"]
["Type","Option de réduction","US$/tonCO2","Unité du sous-type ","t CO2-eq/unité","Million US$","MUS$/an","en 2050","ktCO2-eq/an","ktCO2-eq/an","Frac.du total","ktoe","ktoe","GWh","GWh"]
["Agriculture","Réduction du CH4 des cultures de riz",{"$f":"Agriculture!D28","v":1.2},"Culture de riz CH4 red.(1000 ha)",{"$f":"Agriculture!D25","v":2566.2000000000007},{"$f":"Agriculture!B15*H5/1000000","v":0},{"$f":"Agriculture!D20*H5/1000000","v":0},null,{"$f":"E5*H5/1000","v":0},{"$f":"OFFSET(J5,-1,0)+I5","v":0},{"$f":"J5/Totalemis2050","v":0},null,null,null,null,null,null,null,null,null,null,null,null,null,null,null,"Efficient lighting with CFLs",448.24887849257937,3.138820638820639]
[null,"Culture sans labour",{"$f":"+Agriculture!D192","v":-166.39187675838468},"1000 ha",{"$f":"+Agriculture!D190","v":85.727053103999992},{"$f":"Agriculture!C180*H6/1000000","v":0},{"$f":"Agriculture!D185*H6/1000000","v":0},null,{"$f":"E6*H6/1000","v":0},{"$f":"OFFSET(J6,-1,0)+I6","v":0},0,null,null,null,null,null,null,null,null,null,null,null,null,null,null,null,"Hydroélectricité connectée au réseau principal",374.14062105528905,247.5625]
[null,"Couverture de cultures",{"$f":"+Agriculture!D87","v":81.040268456375827},"1000 ha",{"$f":"+Agriculture!D85","v":1490},{"$f":"Agriculture!D75*H7/1000000","v":0},{"$f":"Agriculture!D80*H7/1000000","v":0},null,0,0,0]
[null,"Inhibiteurs de nitrification (1000 ha)",{"$f":"+Agriculture!D115","v":67.689873417721515},"1000 ha",{"$f":"+Agriculture!D113","v":790},{"$f":"Agriculture!D103*H8/1000000","v":0},{"$f":"Agriculture!D108*H8/1000000","v":0},null,0,0,0]
[null,"Couverture des dépôts lisier (1 dépôt de lisier)",{"$f":"+Agriculture!D141","v":937.83334071789056},"1 dépôt de lisier",{"$f":"+Agriculture!D139","v":0.20130000000000001},{"$f":"Agriculture!D129*H9/1000000","v":0},{"$f":"Agriculture!D134*H9/1000000","v":0},null,0,0,0]
[null,"Supplémentation en matières grasses dans l'alimentation des ruminants (% de matières grasses DM ajoutées)",{"$f":"+Agriculture!M166","v":80.5},"% de matières grasses DM ajouté",{"$f":"+Agriculture!M164","v":5026.8753477073615},{"$f":"Agriculture!M154*H10/1000000","v":0},{"$f":"Agriculture!M159*H10/1000000","v":0},null,0,0,0]
[null,"Traitement du tabac",{"$f":"+Agriculture!D60","v":-20.801739200816428},"100 t de tabac/an",{"$f":"+Agriculture!D58","v":561.96940800000016},{"$f":"Agriculture!B48*H11/1000000","v":0},{"$f":"Agriculture!D53*H11/1000000","v":0},null,0,0,0,null,null,null,null,null,null,null,null,null,null,null,null,null,null,null,"PV solaires, grand réseau",316.19093165640822,36.5]
["Energie biomasse","Centrales de cogénération d'écorce de riz",{"$f":"+'Energie biomasse'!D22","v":-87.684712341200125},"1 MW cogénération",{"$f":"+'Energie biomasse'!D20","v":9719.0247425999987},{"$f":"+'Energie biomasse'!B10*H12/1000000","v":0},{"$f":"+'Energie biomasse'!D15*H12/1000000","v":0},null,0,0,0,null,null,null,{"$f":"+'Energie biomasse'!G20/'Energie biomasse'!G17*H12/1000","v":0},null,null,null,null,null,null,null,null,null,null,null,"Wind turbines, on-shore",262.24199023655234,43.75]
[null,"Production électrique à partir des résidus de biomasse",{"$f":"+'Energie biomasse'!AE55","v":-213.51800607564638},"1 MW cogénération",{"$f":"+'Energie biomasse'!AE53","v":2427.5},{"$f":"+'Energie biomasse'!AC43*H13/1000000","v":0},{"$f":"+'Energie biomasse'!AE48*H13/1000000","v":0},null,0,0,0,null,null,null,{"$f":"+'Energie biomasse'!G51*H13/1000","v":0},null,null,null,null,null,null,null,null,null,null,null,"Biogas from industrial waste water ",204.22617312736813,26.225999999999999]
[null,"Production électrique à partir de bagasse",{"$f":"'Energie biomasse'!D86","v":-341.74294842775782},"100 kt cane à sucre/an",{"$f":"'Energie biomasse'!D84","v":6791.4514285714295},{"$f":"'Energie biomasse'!B74*H14/1000000","v":0},{"$f":"'Energie biomasse'!D79*H14/1000000","v":0},null,0,0,0,null,null,null,{"$f":"'Energie biomasse'!G85/'Energie biomasse'!G79*100*H14/1000","v":0},null,null,null,null,null,null,null,null,null,null,null,"Biogas at rural farms using kerosene",195.03465223140941,73.657584]
["Capture et stockage","Usine de capture et du stockage",{"$f":"+'Capture et stockage'!D22","v":203.81680118581841},"1 MW",{"$f":"+'Capture et stockage'!D20","v":5412.3711340206182},{"$f":"'Capture et stockage'!D10*H15/1000000","v":0},{"$f":"'Capture et stockage'!D15*H15/1000000","v":0},null,{"$f":"E15*H15/1000","v":0},{"$f":"OFFSET(J15,-1,0)+I15","v":0},0,null,null,null,{"$f":"+'Capture et stockage'!G16/'Capture et stockage'!G13*H15/1000","v":0},null,null,null,null,null,null,null,null,null,null,null,"Landfill gas plant with power production",41.56037990897638,124.41521400000001]
["Ciment","Remplacement du clinker",{"$f":"+Ciment!D22","v":7.5525712632273025},"1000 tonnes ciment/jour",{"$f":"+Ciment!D20","v":166583.56193028874},{"$f":"Ciment!B9*H16/1000000","v":0},{"$f":"Ciment!D15*H16/1000000","v":0},null,0,0,0,null,null,null,null,null,null,null,null,null,null,null,null,null,null,null,"REDD: Avoided deforestation",12.920558724980037,73.333333333333343]
["Mine de charbon","Méthane de mine de charbon",{"$f":"+'Mine de charbon'!D23","v":-30.712107618218361},"10 Mm3 CMM/an",{"$f":"+'Mine de charbon'!D21","v":37352.840000000004},{"$f":"+'Mine de charbon'!B11/1000000*H17","v":0},{"$f":"+'Mine de charbon'!D21/1000000*H17","v":0},null,0,0,0,null,null,null,{"$f":"+'Mine de charbon'!G26/'Mine de charbon'!G21*10*H17/1000","v":0},null,null,null,null,null,null,null,null,null,null,null,"Energy efficiency in industry",-1.1745962477254579,23.342012108688721]
["EE ménages","Climatisation résidentielle efficace",{"$f":"+'EE ménages'!D28","v":-307.40925219715155},"1000 climatiseurs",{"$f":"+'EE ménages'!D26","v":779.89209204096824},{"$f":"+'EE ménages'!B16*H18/1000000","v":0},{"$f":"+'EE ménages'!D21*H18/1000000","v":0},null,0,0,0,null,null,{"$f":"+'EE ménages'!G40*H18/1000","v":0},null,null,null,null,null,null,null,null,null,null,null,null,"Energy efficiency in service",-1.1745962477254579,139.4016954576276]
[null,"Éclairage efficace avec les ampoules fluocompactes",{"$f":"+'EE ménages'!D62","v":-321.06763115035045},"1000 Ampoules",{"$f":"+'EE ménages'!D60","v":38.097435503685503},{"$f":"+'EE ménages'!D50*H19/1000000","v":0},{"$f":"+'EE ménages'!D55*H19/1000000","v":0},null,0,0,0,null,null,{"$f":"'EE ménages'!G63*H19/1000","v":0},null,null,null,null,null,null,null,null,null,null,null,null,"Reforestation",-19.220665871871127,176]
[null,"Éclairage efficace avec LED",{"$f":"+'EE ménages'!D94","v":-354.68167440866569},"1000 Ampoules",{"$f":"+'EE ménages'!D92","v":77.718768427518427},{"$f":"+'EE ménages'!D82*H20/1000000","v":0},{"$f":"+'EE ménages'!D87*H20/1000000","v":0},null,{"$f":"E20*H20/1000","v":0},0,0,null,null,{"$f":"+'EE ménages'!G99*H20/1000","v":0},null,null,null,null,null,null,null,null,null,null,null,null,"Efficient electric grids",-185.26562155027011,14.349999999999998]
[null,"Éclairage efficace avec LED remplaçant les fluocompactes",{"$f":"+'EE ménages'!D120","v":-213.84455798515566},"1000 Ampoules",{"$f":"+'EE ménages'!D118","v":9.1433845208845206},{"$f":"'EE ménages'!D108*H21/1000000","v":0},{"$f":"'EE ménages'!D113*H21/1000000","v":0},null,{"$f":"E21*H21/1000","v":0},0,0,null,null,{"$f":"+'EE ménages'!G100*H21/1000","v":0}]
[null,"Poêles à bois efficaces",{"$f":"+'EE ménages'!D176","v":-933.25004151145902},"1000 poêles",{"$f":"+'EE ménages'!D174","v":1338.3333333333335},{"$f":"+'EE ménages'!B164*H22/1000000","v":0},{"$f":"+'EE ménages'!D169*H22/1000000","v":0},null,0,0,0]
[null,"Poêles à charbon de bois efficaces",{"$f":"+'EE ménages'!D203","v":-62.61549760364921},"1000 poêles",{"$f":"+'EE ménages'!D201","v":296.50751320580548},{"$f":"+'EE ménages'!B191*H23/1000000","v":0},{"$f":"+'EE ménages'!D196*H23/1000000","v":0},null,0,0,{"$f":"J23/Totalemis2050","v":0}]
[null,"Poêles au GPL remplaçant les poêles à bois",{"$f":"+'EE ménages'!D231","v":74.167143724329421},"1000 poêles",{"$f":"+'EE ménages'!D229","v":2054.9439166666671},{"$f":"'EE ménages'!B219*H24/1000000","v":0},{"$f":"'EE ménages'!D224*H24/1000000","v":0},null,0,0,0]
[null,"Poêles électriques efficaces",{"$f":"+'EE ménages'!D260","v":-273.80983725148542},"1000 poêles",{"$f":"+'EE ménages'!D258","v":155.07371007371006},{"$f":"'EE ménages'!D248*H25/1000000","v":0},{"$f":"'EE ménages'!D253*H25/1000000","v":0},null,0,0,0,null,null,{"$f":"'EE ménages'!G273*H25/1000","v":0}]
[null,"Poêles induction",{"$f":"+'EE ménages'!D287","v":504.90174838288539},"1000 poêles",{"$f":"+'EE ménages'!D285","v":11.296760336495453},{"$f":"'EE ménages'!D275*H26/1000000","v":0},{"$f":"'EE ménages'!D280*H26/1000000","v":0},null,{"$f":"E26*H26/1000","v":0},{"$f":"OFFSET(J26,-1,0)+I26","v":0},{"$f":"+J26/Totalemis2050","v":0},null,null,{"$f":"'EE ménages'!G300*H26/1000","v":0}]
[null,"Nuveau domicile passif",{"$f":"+'EE ménages'!D315","v":-141.18922434820317},"1000 batiments",{"$f":"+'EE ménages'!D313","v":8499.2321867321862},{"$f":"'EE ménages'!D303*H27/1000000","v":0},{"$f":"'EE ménages'!D308*H27/1000000","v":0},null,{"$f":"E27*H27/1000","v":0},{"$f":"OFFSET(J27,-1,0)+I27","v":0},{"$f":"+J27/Totalemis2050","v":0},null,null,{"$f":"'EE ménages'!G325*H27/1000","v":0}]
[null,"Réfrigérateurs efficaces",{"$f":"+'EE ménages'!D146","v":-37.237013908533335},"1000 refrigérateurs",{"$f":"+'EE ménages'!D144","v":1203.8235872235871},{"$f":"+'EE ménages'!D134*H28/1000000","v":0},{"$f":"+'EE ménages'!D139*H28/1000000","v":0},null,0,0,0,null,null,{"$f":"+'EE ménages'!G158*H28/1000","v":0}]
["EE industrie","Moteurs électriques efficaces",{"$f":"+'EE industries'!D21","v":-309.0172323508944},"1 kW",{"$f":"+'EE industries'!D19","v":0.64945399945399895},{"$f":"+'EE industries'!D9*H29/1000000","v":0},{"$f":"+'EE industries'!D14*H29/1000000","v":0},null,{"$f":"E29*H29/1000","v":0},{"$f":"OFFSET(J29,-1,0)+I29","v":0},0,null,null,{"$f":"H29*'EE industries'!G21/1000000","v":0}]
[null,"Efficacité énergétique dans l'industrie",{"$f":"+'EE industries'!AE80","v":0.94392925743255696},"10% red. de demande d'énergie",{"$f":"+'EE industries'!AE78","v":29105712.558118761},{"$f":"+'EE industries'!AC68*H30/1000000","v":582.11425116237524},{"$f":"'EE industries'!AE73*H30/1000000","v":54.947467284060977},2,{"$f":"E30*H30/1000","v":58211.425116237522},{"$f":"OFFSET(J30,-1,0)+I30","v":58211.425116237522},3.414363878106056E-2]
[null,"Matériaux de construction",{"$f":"+'EE industries'!D51","v":-18.895154748670951},"1 million briques",{"$f":"+'EE industries'!D49","v":520.30000000000007},{"$f":"'EE industries'!D39*H31/1000000","v":0},{"$f":"'EE industries'!D44*H31/1000000","v":0},null,{"$f":"E31*H31/1000","v":0},{"$f":"OFFSET(J31,-1,0)+I31","v":58211.425116237522},3.414363878106056E-2]
["EE chaleur résiduelle","Récupération de chaleur résiduelle dans une cimenterie",{"$f":"+'EE chaleur résiduelle'!D21","v":-375.61881397176268},"1 Cimenterie",{"$f":"+'EE chaleur résiduelle'!D19","v":39852.898650000003},{"$f":"+'EE chaleur résiduelle'!B9*H32/1000000","v":0},{"$f":"+'EE chaleur résiduelle'!D14*H32/1000000","v":0},null,{"$f":"E32*H32/1000","v":0},{"$f":"OFFSET(J32,-1,0)+I32","v":58211.425116237522},3.414363878106056E-2,null,null,null,{"$f":"+'EE chaleur résiduelle'!G15*principale50!H32","v":0}]
[null,"Récupération de la chaleur résiduelle dans une aciérie",{"$f":"+'EE chaleur résiduelle'!D51","v":-390.79448028652257},"1 Aciérie",{"$f":"+'EE chaleur résiduelle'!D49","v":36703.799999999996},{"$f":"+'EE chaleur résiduelle'!B39*H33/1000000","v":0},{"$f":"+'EE chaleur résiduelle'!D44*H33/1000000","v":0},null,0,58211.425116237522,3.414363878106056E-2,null,null,null,{"$f":"'EE chaleur résiduelle'!G44*principale50!H33","v":0}]
["EE service","Moteurs électriques efficaces",{"$f":"+'EE services'!D27","v":-309.0172323508944},"1 kW",{"$f":"+'EE services'!D25","v":0.64945399945399895},{"$f":"+'EE services'!D15*H34/1000000","v":0},{"$f":"+'EE services'!D20*H34/1000000","v":0},null,0,58211.425116237522,3.414363878106056E-2,null,null,{"$f":"H34*'EE services'!G27/1000000","v":0}]
[null,"Éclairage de bureau efficace avec des ampoules fluocompactes",{"$f":"+'EE services'!D55","v":-303.40494124995359},"1000 lampes",{"$f":"+'EE services'!D53","v":39.185933660933649},{"$f":"+'EE services'!D43*H35/1000000","v":0},{"$f":"+'EE services'!D48*H35/1000000","v":0},null,0,58211.425116237522,3.414363878106056E-2,null,null,{"$f":"+'EE services'!G55*H35/1000","v":0}]
[null,"Éclairage de bureau efficace avec LED",{"$f":"+'EE services'!D87","v":-270.57489398565167},"1000 lampes",{"$f":"+'EE services'!D85","v":44.410724815724805},{"$f":"+'EE services'!D75*H36/1000000","v":0},{"$f":"+'EE services'!D80*H36/1000000","v":0},null,0,58211.425116237522,3.414363878106056E-2,null,null,{"$f":"+'EE services'!G87*H36/1000","v":0}]
[null,"Éclairage public efficace",{"$f":"+'EE services'!D121","v":-301.47178811224023},"1000 lampes",{"$f":"+'EE services'!D119","v":391.85933660933642},{"$f":"+'EE services'!D109*H37/1000000","v":0},{"$f":"+'EE services'!D114*H37/1000000","v":0},null,0,58211.425116237522,3.414363878106056E-2,null,null,{"$f":"+'EE services'!G135*H37/1000","v":0}]
[null,"Pompage efficace de l'eau",{"$f":"+'EE services'!D157","v":-310.59608600829995},"4 Million m3 d'eau",{"$f":"+'EE services'!D155","v":763.43980343980365},{"$f":"+'EE services'!B145*H38/1000000","v":0},{"$f":"+'EE services'!D150*H38/1000000","v":0},null,0,58211.425116237522,3.414363878106056E-2,null,null,{"$f":"+'EE services'!G156*H38","v":0}]
[null,"Chauffage, ventilation, climatisation ",{"$f":"+'EE services'!D246","v":-399.59175083634},"100,000 m2 surface planché",{"$f":"+'EE services'!D244","v":4556.7071087885734},{"$f":"'EE services'!D234*H39/1000000","v":0},{"$f":"'EE services'!D239*H39/1000000","v":0},null,0,58211.425116237522,3.414363878106056E-2,null,null,{"$f":"+'EE services'!G252*H39/1000","v":0}]
[null,"Refroidisseur efficace> 300 TR",{"$f":"+'EE services'!D275","v":-84.763806653834919},"1 TR",{"$f":"+'EE services'!D273","v":1.9607499999999998},{"$f":"'EE services'!D235*H40/1000000","v":0},{"$f":"'EE services'!D240*H40/1000000","v":0},null,{"$f":"E40*H40/1000","v":0},{"$f":"OFFSET(J40,-1,0)+I40","v":58211.425116237522},{"$f":"+J40/Totalemis2050","v":3.414363878106056E-2},null,null,{"$f":"+'EE services'!G288*H40/1000000","v":0}]
[null,"Refroidisseur efficace <300 TR",{"$f":"+'EE services'!D307","v":-126.63012410207483},"1 TR",{"$f":"+'EE services'!D305","v":0.87334999999999996},{"$f":"'EE services'!D236*H41/1000000","v":0},{"$f":"'EE services'!D241*H41/1000000","v":0},null,0,58211.425116237522,3.414363878106056E-2,null,null,{"$f":"+'EE services'!G319*H41/1000000","v":0}]
[null,"Climatiseurs de type fenêtre/individuel efficace",{"$f":"+'EE services'!D339","v":-288.54139864501218},"1000 climatiseurs",{"$f":"+'EE services'!D337","v":0.70550806488306428},{"$f":"'EE services'!D327*H42/1000000","v":0},{"$f":"'EE services'!D332*H42/1000000","v":0},null,0,58211.425116237522,3.414363878106056E-2,null,null,{"$f":"+'EE services'!G352*H42/1000000","v":0}]
[null,"Lave-vaisselle commercial efficace",{"$f":"+'EE services'!D372","v":-197.36514838620556},"1000 repas/jours",{"$f":"+'EE services'!D370","v":10.884981572481571},{"$f":"'EE services'!D360*H43/1000000","v":0},{"$f":"'EE services'!D365*H43/1000000","v":0},null,0,58211.425116237522,3.414363878106056E-2,null,null,{"$f":"+'EE services'!G387*H43/1000000","v":0}]
[null,"Réfrigérateur d'hôtel efficace",{"$f":"+'EE services'!D407","v":947.95283605306668},"1 réfrigérateurs",{"$f":"+'EE services'!D405","v":0.39719112500930687},{"$f":"'EE services'!B395*H44/1000000","v":0},{"$f":"'EE services'!D400*H44/1000000","v":0},null,0,58211.425116237522,3.414363878106056E-2,null,null,{"$f":"+'EE services'!G414*H44/1000000","v":0}]
[null,"Machine à laver efficace pour hôtel",{"$f":"+'EE services'!D437","v":38248.887086086368},"100 Clients Nuits (CN)",{"$f":"+'EE services'!D435","v":6.3784140573812431E-2},{"$f":"'EE services'!D425*H45/1000000","v":0},{"$f":"'EE services'!D430*H45/1000000","v":0},null,0,58211.425116237522,3.414363878106056E-2,null,null,{"$f":"+'EE services'!G458*H45/1000000","v":0}]
[null,"Efficacité énergétique en service",{"$f":"+'EE services'!AE221","v":0.94392925743255685},"10% red. de demande d'énergie",{"$f":"+'EE services'!AE219","v":9362673.2857042067},{"$f":"'EE services'!AC209*H46/1000000","v":187.25346571408411},{"$f":"'EE services'!AE214*H46/1000000","v":17.67540248431682},2,18725.346571408412,76936.771687645931,{"$f":"J46/Totalemis2050","v":4.5126903116329317E-2}]
[null,"Nouvel immeuble de bureaux avec refroidissement central",{"$f":"+'EE services'!D186","v":-300.20978284656968},"1000 m2",{"$f":"+'EE services'!D184","v":34.869403212378401},{"$f":"+'EE services'!D174*H47/1000000","v":6.5987861570247919},{"$f":"+'EE services'!D179*H47/1000000","v":-10.468135966377599},1000,{"$f":"(E47*H47)/1000","v":34.869403212378401},{"$f":"OFFSET(J47,-1,0,1,1)+I47","v":76971.641090858306},4.5147355601480081E-2,null,null,{"$f":"+'EE services'!G199*H47","v":58.462809917355358}]
["EE offre","Nouvelle centrale à charbon à haut rendement",{"$f":"+'EE offre'!AE52","v":21.485823944685848},"1 MW",{"$f":"+'EE offre'!AE50","v":1117.0367999999989},{"$f":"+'EE offre'!AC40*H48/1000000","v":0},{"$f":"+'EE offre'!AE45*H48/1000000","v":0},null,0,76971.641090858306,4.5147355601480081E-2]
[null,"Nouvelle centrale électrique au gaz naturel",{"$f":"'EE offre'!AE23","v":-3384.5197359694075},"1 MW",{"$f":"+'EE offre'!AE21","v":278.73913043478251},{"$f":"+'EE offre'!AC11/1000000*H49","v":0},{"$f":"+'EE offre'!AE16/1000000*H49","v":0},null,0,76971.641090858306,4.5147355601480081E-2]
[null,"Passer du fioul lourd au diesel",{"$f":"'EE offre'!D140","v":1206.9604660846496},"1 MW",{"$f":"+'EE offre'!D138","v":124.49193561101811},{"$f":"+'EE offre'!B128/1000000*H50","v":0},{"$f":"+'EE offre'!D133/1000000*H50","v":0},null,0,76971.641090858306,4.5147355601480081E-2]
[null,"Passer du fioul lourd au gaz naturel",{"$f":"'EE offre'!D170","v":-339.52112449817685},"1 MW",{"$f":"+'EE offre'!D168","v":1454.3571428571436},{"$f":"+'EE offre'!B158/1000000*H51","v":0},{"$f":"+'EE offre'!D1634/1000000*H51","v":0},null,{"$f":"(E51*H51)/1000","v":0},{"$f":"OFFSET(J51,-1,0,1,1)+I51","v":76971.641090858306},4.5147355601480081E-2]
[null,"La cogénération dans l'industrie",{"$f":"+'EE offre'!D111","v":-4717.3428040669614},"1 MW",{"$f":"+'EE offre'!D109","v":542.40894917999958},{"$f":"+'EE offre'!D100*principale50!H52/1000000","v":0},{"$f":"+'EE offre'!D104*H52/1000000","v":0},null,0,76971.641090858306,4.5147355601480081E-2,null,null,{"$f":"+'EE offre'!G110*H52/1000","v":0}]
[null,"Cycle unique à cycle combiné",{"$f":"+'EE offre'!D81","v":55.042723709110227},"100 MW d'augmentation",{"$f":"+'EE offre'!D79","v":75738},{"$f":"'EE offre'!D70*H53/1000000","v":0},{"$f":"'EE offre'!D74*H53/1000000","v":0},null,0,76971.641090858306,4.5147355601480081E-2,null,null,{"$f":"+'EE offre'!G90*H53/1000","v":0}]
["Distribution d'énergie","Réseaux électriques efficaces",{"$f":"+'Distribution énergie'!D24","v":145.2399599818103},"1 GWh pertes évités",{"$f":"+'Distribution énergie'!D22","v":485.5},{"$f":"+'Distribution énergie'!D12*principale50!H54/1000000","v":70959.089248751989},{"$f":"+'Distribution énergie'!D17*H54/1000000","v":5218.036042266499},74000,35927,112898.64109085831,6.6220169194992198E-2,null,null,{"$f":"+H54*'Distribution énergie'!N20","v":0}]
[null,"Connexion du réseau isolé au réseau central",{"$f":"+'Distribution énergie'!D53","v":-35.970464274025431},"1 GWh consommation",{"$f":"+'Distribution énergie'!D51","v":485.5},{"$f":"+'Distribution énergie'!D41*H55/1000000","v":0},{"$f":"+'Distribution énergie'!D46*H55/1000000","v":0},null,{"$f":"(E55*H55)/1000","v":0},{"$f":"OFFSET(J55,-1,0,1,1)+I55","v":112898.64109085831},{"$f":"J55/Totalemis2050","v":6.6220169194992198E-2}]
[null,"Augmentation du facteur de puissance",{"$f":"+'Distribution énergie'!D83","v":1.3185780506574281},"1000 commerce/batiment industriel",{"$f":"+'Distribution énergie'!D81","v":94589.93197278888},{"$f":"'Distribution énergie'!B71*H56/1000000","v":0},{"$f":"'Distribution énergie'!D76*H56/1000000","v":0},null,0,112898.64109085831,6.6220169194992198E-2,null,null,{"$f":"H56*'Distribution énergie'!G91","v":0}]
[null,"Réhabilitation du réseau de chauffage urbain",{"$f":"+'Distribution énergie'!D112","v":-153.13048866378534},"Récupération de la chaleur dans une cimenterie",{"$f":"+'Distribution énergie'!D110","v":33649.053412333342},{"$f":"'Distribution énergie'!B99*H57/1000000","v":0},{"$f":"'Distribution énergie'!D105*H57/1000000","v":0},null,{"$f":"(E57*H57)/1000","v":0},{"$f":"OFFSET(J57,-1,0,1,1)+I57","v":112898.64109085831},{"$f":"+J57/Totalemis2050","v":6.6220169194992198E-2}]
[null,"Nouveau réseau de refroidissement urbain",{"$f":"+'Distribution énergie'!D151","v":-148.45274742045021},"Nouveau réseau de refroidissement urbain (1 million de m2 de nouvelle zone urbaine couverte)",{"$f":"+'Distribution énergie'!D149","v":13725.623132042594},{"$f":"'Distribution énergie'!D139*H58/1000000","v":0},{"$f":"'Distribution énergie'!D144*H58/1000000","v":0},null,{"$f":"(E58*H58)/1000","v":0},{"$f":"OFFSET(J58,-1,0,1,1)+I58","v":112898.64109085831},{"$f":"+J58/Totalemis2050","v":6.6220169194992198E-2}]
["Foresterie","Reboisement",{"$f":"+Foresterie!D26","v":15.446115121623658},"1000 ha de reboisement",{"$f":"Foresterie!D24","v":3666.666666666667},{"$f":"Foresterie!B13/1000000*H59","v":0},{"$f":"Foresterie!D19/1000000*H59","v":0},null,0,112898.64109085831,6.6220169194992198E-2]
[null,"REDD: déforestation évitée",{"$f":"+Foresterie!D54","v":-10.383221831758126},"1000 ha déforestation évitée",{"$f":"Foresterie!D52","v":3666.666666666667},{"$f":"Foresterie!B42*H60/1000000","v":0},{"$f":"Foresterie!D47/1000000*H60","v":0},null,{"$f":"(E60*H60)/1000","v":0},112898.64109085831,6.6220169194992198E-2]
[null,"Régénération assistée des forêts",{"$f":"Foresterie!D82","v":-3.8615287804059144},"1000 ha de régénéré",{"$f":"Foresterie!D80","v":3666.666666666667},{"$f":"Foresterie!B70/1000000*H61","v":0},{"$f":"Foresterie!D47/1000000*H61","v":0},null,0,112898.64109085831,6.6220169194992198E-2]
[null,"Reboisement avec agroforesterie",{"$f":"Foresterie!D111","v":-0.65934330145454612},"1000 ha de régénéré",{"$f":"Foresterie!D109","v":3666.666666666667},{"$f":"Foresterie!B98/1000000*H62","v":0},{"$f":"Foresterie!D104/1000000*H62","v":0},null,0,112898.64109085831,6.6220169194992198E-2]
[null,"Reboisement avec Silvopasture",{"$f":"Foresterie!D141","v":-0.65934330145454612},"1000 ha de régénéré",{"$f":"Foresterie!D139","v":3666.666666666667},{"$f":"Foresterie!B128/1000000*H63","v":0},{"$f":"Foresterie!D134/1000000*H63","v":0},null,0,112898.64109085831,6.6220169194992198E-2]
["Remplacement des ","Passer du charbon au gaz naturel dans l'industrie",{"$f":"+'Changement combustible fossile'!D22","v":31.126536151778442},"100 TJ essence utilisé/an",{"$f":"+'Changement combustible fossile'!D20","v":3850},{"$f":"'Changement combustible fossile'!B10/1000000*H64","v":0},{"$f":"'Changement combustible fossile'!D15/1000000*H64","v":0},null,0,112898.64109085831,6.6220169194992198E-2]
["Combustibles fossiles","Passer du fioul lourd au gaz naturel dans l'industrie",{"$f":"'Changement combustible fossile'!D51","v":-120.57373854419971},"100 TJ essence utilisé/an",{"$f":"'Changement combustible fossile'!D49","v":2126.6666666666679},{"$f":"'Changement combustible fossile'!B39/1000000*H65","v":0},{"$f":"'Changement combustible fossile'!D44/1000000*H65","v":0},null,0,112898.64109085831,6.6220169194992198E-2]
["Emissions fugitives ","Réduction du torchage au champ pétrolifère",{"$f":"+'Emissions fugitives'!D23","v":9.6651004761555761},"1 MMSCF/jour",{"$f":"+'Emissions fugitives'!D21","v":22613.499908999998},{"$f":"+'Emissions fugitives'!B11*H66/1000000","v":0},{"$f":"+'Emissions fugitives'!D16*H66/1000000","v":0},null,0,112898.64109085831,6.6220169194992198E-2]
[null,"Réduction du torchage dans les raffineries de pétrole",{"$f":"+'Emissions fugitives'!D52","v":217.25613544900492},"1 MMSCF/jour",{"$f":"+'Emissions fugitives'!D50","v":20797.217999999997},{"$f":"+'Emissions fugitives'!B40*H67/1000000","v":0},{"$f":"+'Emissions fugitives'!D45*H67/1000000","v":0},null,{"$f":"(E67*H67)/1000","v":0},{"$f":"OFFSET(J67,-1,0,1,1)+I67","v":112898.64109085831},6.6220169194992198E-2]
[null,"Réduction des fuites dans les pipelines de gaz naturel",{"$f":"'Emissions fugitives'!D79","v":-5.576949389258389},"1 Mm3 CH4/an de fuite",{"$f":"+'Emissions fugitives'!D77","v":15078},{"$f":"'Emissions fugitives'!B67*H68/1000000","v":0},{"$f":"'Emissions fugitives'!B72*H68/1000000","v":0},null,{"$f":"(E68*H68)/1000","v":0},{"$f":"OFFSET(J68,-1,0,1,1)+I68","v":112898.64109085831},6.6220169194992198E-2]
[null,"Production de charbon de bois",{"$f":"+'Emissions fugitives'!D106","v":1.606633349107647},"100,000 ton charbon de bois/année",{"$f":"+'Emissions fugitives'!D104","v":141004.80480480485},{"$f":"'Emissions fugitives'!B95*H69/1000000","v":0},{"$f":"'Emissions fugitives'!D99*H69/1000000","v":0},null,{"$f":"(E69*H69)/1000","v":0},{"$f":"OFFSET(J69,-1,0,1,1)+I69","v":112898.64109085831},6.6220169194992198E-2]
["Géothermie","Énergie géothermique",{"$f":"+Géothermique!AE21","v":-279.60241237235618},"1 MW",{"$f":"+Géothermique!AE19","v":3065.9324999999999},{"$f":"+Géothermique!AC9*H70/1000000","v":0},{"$f":"+Géothermique!AE14*H70/1000000","v":0},null,0,112898.64109085831,6.6220169194992198E-2,null,null,null,{"$f":"+Géothermique!Y17*H70/1000","v":0}]
[null,"Chaleur géothermique",{"$f":"+Géothermique!D49","v":22.348277110443988},"1000 m2 surface chauffé",{"$f":"+Géothermique!D47","v":17.056285714285721},{"$f":"Géothermique!B37*H71/1000000","v":0},{"$f":"Géothermique!D42*H71/1000000","v":0},null,{"$f":"(E71*H71)/1000","v":0},{"$f":"OFFSET(J71,-1,0,1,1)+I71","v":112898.64109085831},6.6220169194992198E-2]
["HFCs, PFCs, SF6","Réduction des PFC de la production d'aluminium",{"$f":"+'HFC PFC SF6'!D23","v":3.397606639661678E-2},"100,000 ton Aluminium/an",{"$f":"+'HFC PFC SF6'!D21","v":111888.38499874179},{"$f":"+'HFC PFC SF6'!B11*H72/1000000","v":0},{"$f":"+'HFC PFC SF6'!D16*H72/1000000","v":0},null,0,112898.64109085831,6.6220169194992198E-2]
["Hydro","Hydroélectricité connectée au réseau principal",{"$f":"+Hydro!V23","v":-358.20337391064447},"1 MW",{"$f":"+Hydro!V21","v":1923.0654999999999},{"$f":"+Hydro!T11*H73/1000000","v":113810},{"$f":"+Hydro!V16*H73/1000000","v":-68884.855035116037},100000,192306.55,305205.19109085831,0.17901667547053476,null,null,null,{"$f":"+Hydro!Y18*H73/1000","v":396100}]
[null,"Mini hydroélectricité connectée au réseau principal",{"$f":"+Hydro!D52","v":-181.63328226331072},"1 MW",{"$f":"+Hydro!D50","v":1942},{"$f":"+Hydro!B40*H74/1000000","v":0},{"$f":"+Hydro!D45*H74/1000000","v":0},null,0,305205.19109085831,0.17901667547053476,null,null,null,{"$f":"Hydro!G48/Hydro!G45*H74/1000","v":0}]
[null,"Mini hydroélectricité hors réseau",{"$f":"+Hydro!D81","v":-16.968102990561736},"1 MW",{"$f":"+Hydro!D79","v":3231.9999999999995},{"$f":"+Hydro!B69*H75/1000000","v":0},{"$f":"Hydro!D74*H75/1000000","v":0},null,0,305205.19109085831,0.17901667547053476,null,null,null,{"$f":"Hydro!G49/Hydro!G46*H75/1000","v":0}]
["Décharge","Centrale de gaz d'enfouissement avec production d'électricité",{"$f":"Décharge!D26","v":-42.465447468617498},"200 t/jour centrale",{"$f":"Décharge!D24","v":124415.21400000001},{"$f":"+Décharge!B14*H76/1000000","v":0},{"$f":"+Décharge!D19*H76/1000000","v":0},null,0,305205.19109085831,0.17901667547053476,null,null,null,{"$f":"+Décharge!G35*H76/1000","v":0}]
[null,"Torchage des gaz d'enfouissement",{"$f":"+Décharge!D117","v":1.1213562774871835},"1 t/jour centrale",{"$f":"+Décharge!D115","v":124415.21399999999},{"$f":"+Décharge!B105*H77/1000000","v":0},{"$f":"Décharge!D110*H77/1000000","v":0},null,0,305205.19109085831,0.17901667547053476]
[null,"Usine d'incinération",{"$f":"+Décharge!D90","v":13.881925777057218},"200 t/jour centrale",{"$f":"Décharge!D88","v":139951.21400000001},{"$f":"Décharge!B78*H78/1000000","v":0},{"$f":"Décharge!D83*H78/1000000","v":0},null,0,305205.19109085831,0.17901667547053476]
[null,"Recyclage des plastiques",{"$f":"+Décharge!D196","v":-280.92564985520448},"1000 t/an centrale",{"$f":"Décharge!D194","v":1095.42},{"$f":"Décharge!D183*H79/1000000","v":0},{"$f":"Décharge!D189*H79/1000000","v":0},null,0,305205.19109085831,0.17901667547053476]
[null,"Combustible issu de déchets municipaux solides",{"$f":"+Décharge!D170","v":-119.59206265586528},"200 t DMS/jour centrale",{"$f":"Décharge!D168","v":20389.428571428572},{"$f":"Décharge!B79*H80/1000000","v":0},{"$f":"Décharge!D84*H80/1000000","v":0},null,0,305205.19109085831,0.17901667547053476]
[null,"Biogaz issu des déchets solides municipaux",{"$f":"+Décharge!D145","v":0.22055635272371182},"1000 t/an centrale",{"$f":"+Décharge!D143","v":12186.720000000001},{"$f":"+Décharge!D158*H81/1000000","v":0},{"$f":"Décharge!D163*H81/1000000","v":0},null,{"$f":"(E81*H81)/1000","v":0},{"$f":"OFFSET(J81,-1,0,1,1)+I81","v":305205.19109085831},{"$f":"J81/Totalemis2050","v":0.17901667547053476}]
[null,"Compostage des déchets solides municipaux",{"$f":"+Décharge!D62","v":-5.5868781179134984E-2},"1000 t/jour centrale",{"$f":"+Décharge!D60","v":4136782.1040000007},{"$f":"+Décharge!B49*H82/1000000","v":0},{"$f":"+Décharge!D55*H82/1000000","v":0},null,0,305205.19109085831,0.17901667547053476]
["Marin","Energie marémotrice",{"$f":"Marine!AE21","v":141.67129437048385},"1 MW d'énergie marémotrice",{"$f":"Marine!AE19","v":1275.894},{"$f":"Marine!AC21*H83/1000000","v":0},{"$f":"Marine!AE21*H83/1000000","v":0},null,0,305205.19109085831,0.17901667547053476,null,null,null,{"$f":"+Marine!AH17*H83/1000","v":0}]
[null,"Energie houlomotrice",{"$f":"Marine!AE46","v":89.45495995717566},"1 MW  d'énergie houlomotrice",{"$f":"Marine!AE44","v":1488.5429999999999},{"$f":"Marine!AC34*H84/1000000","v":0},{"$f":"Marine!AE39*H84/1000000","v":0},null,0,305205.19109085831,0.17901667547053476,null,null,null,{"$f":"+Marine!AH42*H84/1000","v":0}]
["Evitement des émissions de méthane","Biogaz dans les fermes rurales subsituant le kérosène",{"$f":"+'Evitement méthane'!D22","v":-151.66258761517665},"1000 unités",{"$f":"+'Evitement méthane'!D20","v":1227.6264000000001},{"$f":"+'Evitement méthane'!B10*H85/1000000","v":0},{"$f":"+'Evitement méthane'!D15*H85/1000000","v":0},null,{"$f":"(E85*H85)/1000","v":0},{"$f":"OFFSET(J85,-1,0,1,1)+I85","v":305205.19109085831},0.17901667547053476]
[null,"Biogaz dans les fermes rurales subsituant le bois de feu non renouvelable",{"$f":"+'Evitement méthane'!D49","v":2.2857011214985121},"1000 unités",{"$f":"+'Evitement méthane'!D47","v":11274.12},{"$f":"+'Evitement méthane'!B37*H86/1000000","v":0},{"$f":"+'Evitement méthane'!D42*H86/1000000","v":0},null,{"$f":"(E86*H86)/1000","v":0},{"$f":"OFFSET(J86,-1,0,1,1)+I86","v":305205.19109085831},0.17901667547053476]
[null,"Le biogaz dans les grandes fermes",{"$f":"+'Evitement méthane'!D76","v":-18.330162191216946},"84000 cochons",{"$f":"+'Evitement méthane'!D74","v":71321.278606965177},{"$f":"'Evitement méthane'!B64*H87/1000000","v":0},{"$f":"'Evitement méthane'!D69*H87/1000000","v":0},null,0,305205.19109085831,0.17901667547053476,null,null,null,{"$f":"+'Evitement méthane'!G78*H87/1000","v":0}]
[null,"Biogaz émanant des eaux usées industrielles",{"$f":"+'Evitement méthane'!D104","v":-199.00857719997819},"1 centrale",{"$f":"+'Evitement méthane'!D102","v":25805.267999999996},{"$f":"+'Evitement méthane'!B92*H88/1000000","v":0},{"$f":"+'Evitement méthane'!D97*H88/1000000","v":0},null,0,305205.19109085831,0.17901667547053476]
["N2O","Usine d'acide nitrique (destruction N2O)",{"$f":"+N2O!D20","v":1.4550102291446729},"100 ton HNO3/jour",{"$f":"+N2O!D18","v":69021.5},{"$f":"+N2O!B9*H89/1000000","v":0},{"$f":"N2O!D13*H89/1000000","v":0},null,0,305205.19109085831,0.17901667547053476]
["Solaire","Chauffe-eau solaire, résidentiel",{"$f":"Solaire!D31","v":-341.4492171764353},"1000 locations",{"$f":"Solaire!D29*1000","v":803.76005774999987},{"$f":"+Solaire!B19*H90/1000000","v":0},{"$f":"+Solaire!D24*H90/1000000","v":0},null,{"$f":"E90*H90/1000","v":0},{"$f":"OFFSET(J90,-1,0)+I90","v":305205.19109085831},0.17901667547053476,null,null,{"$f":"+Solaire!G37*H90/1000000","v":0}]
[null,"Chauffe-eau solaire, large",{"$f":"+Solaire!D58","v":-350.30226457285954},"1 unit",{"$f":"+Solaire!D56","v":30.354722299999999},{"$f":"+Solaire!B46*H91/1000000","v":0},{"$f":"+Solaire!D51*H91/1000000","v":0},null,{"$f":"(E91*H91)/1000","v":0},{"$f":"OFFSET(J91,-1,0,1,1)+I91","v":305205.19109085831},0.17901667547053476,null,null,{"$f":"+Solaire!G66*H91/1000000","v":0}]
[null,"PV solaires, grand réseau",{"$f":"Solaire!AE88","v":-364.81845260804164},"1 MW",{"$f":"Solaire!AE86","v":886.03750000000002},{"$f":"+Solaire!AC76*H92/1000000","v":12000},{"$f":"+Solaire!AE81*H92/1000000","v":-9697.2848910809298},30000,26581.125,331786.31609085831,0.19460770985222109,null,null,null,{"$f":"+Solaire!AH86*H92/1000","v":54750}]
[null,"PV solaires, grand réseau avec stockage 24h",{"$f":"Solaire!AE112","v":-241.10746742917678},"1 MW",{"$f":"Solaire!AE110","v":886.03750000000002},{"$f":"+Solaire!AC100*H93/1000000","v":0},{"$f":"+Solaire!AE105*H93/1000000","v":0},null,0,331786.31609085831,{"$f":"+J93/Totalemis2050","v":0.19460770985222109},null,null,null,{"$f":"+Solaire!AH110*H93/1000","v":0}]
[null,"PV maison solaire",{"$f":"+Solaire!D137","v":-215.5798038208396},"500 W",{"$f":"+Solaire!D135","v":0.39871687500000003},{"$f":"+Solaire!B125*H94/1000000","v":0},{"$f":"+Solaire!D130*H94/1000000","v":0},null,0,331786.31609085831,{"$f":"+J94/Totalemis2050","v":0.19460770985222109},null,null,null,{"$f":"+Solaire!G140*H94/1000","v":0}]
[null,"PV de chalet solaire",{"$f":"+Solaire!D164","v":-215.57980382083966},"50 W",{"$f":"+Solaire!D162","v":3.9871687500000003E-2},{"$f":"+Solaire!B152*H95/1000000","v":0},{"$f":"+Solaire!D157*H95/1000000","v":0},null,0,331786.31609085831,0.19460770985222109,null,null,null,{"$f":"+Solaire!G166*H95/1000","v":0}]
[null,"Mini-réseau solaire/diesel",{"$f":"+Solaire!D189","v":95.253250088916062},"40 kW provenant du solaire",{"$f":"+Solaire!D187","v":58.400000000000006},{"$f":"+Solaire!B177*H96/1000000","v":0},{"$f":"Solaire!D182*H96/1000000","v":0},null,0,331786.31609085831,0.19460770985222109,null,null,null,{"$f":"+Solaire!G194*H96/1000","v":0}]
[null,"Lampes solaires à LED",{"$f":"+Solaire!D301","v":-121.77064881201315},"1000 lampes",{"$f":"+Solaire!D299","v":93.908173333333366},{"$f":"Solaire!B289*H97/1000000","v":0},{"$f":"Solaire!D294*H97/1000000","v":0},null,0,331786.31609085831,0.19460770985222109]
[null,"PV solaires, petit réseau isolé, 100% solaire",{"$f":"+Solaire!D217","v":221.43917442170138},"2 MW",{"$f":"+Solaire!D215","v":2628},{"$f":"+Solaire!B205*H98/1000000","v":0},{"$f":"+Solaire!D210*H98/1000000","v":0},null,{"$f":"(E98*H98)/1000","v":0},{"$f":"OFFSET(J98,-1,0,1,1)+I98","v":331786.31609085831},0.19460770985222109,null,null,null,{"$f":"+Solaire!G220*H98/1000","v":0}]
[null,"Lampadaires solaires",{"$f":"+Solaire!D328","v":-758.4245007314579},"1000 locations (0.05 MW)",{"$f":"+Solaire!D326","v":448.24831365935916},{"$f":"+Solaire!B316*H99/1000000","v":0},{"$f":"+Solaire!D316*H99/1000000","v":0},null,0,331786.31609085831,0.19460770985222109,null,null,null,{"$f":"+Solaire!G339*H99/1000","v":0}]
[null,"Parabolique via centrale solaire à concentration, pas de stockage",{"$f":"Solaire!$AE$246","v":-82.928507575503971},"1 MW",{"$f":"Solaire!$AE$244","v":728.25},{"$f":"Solaire!AC234*H100/1000000","v":0},{"$f":"Solaire!AE239*H100/1000000","v":0},null,0,331786.31609085831,0.19460770985222109,null,null,null,{"$f":"+Solaire!P243*H100/1000","v":0}]
[null,"Tour solaire centrale solaire à concentration, avec stockage",{"$f":"+Solaire!AE273","v":297.92602638692546},"1 MW",{"$f":"+Solaire!AE271","v":728.25},{"$f":"+Solaire!AC261*H101/1000000","v":0},{"$f":"+Solaire!AE266*H101/1000000","v":0},null,0,331786.31609085831,0.19460770985222109,null,null,null,{"$f":"+Solaire!AH170*H101/1000","v":0}]
["Transport","Mélange de 20% de biodiesel dans tout le diesel",{"$f":"+Transport!AE37","v":369.38011072512057},"20% mélange en transport",{"$f":"+Transport!AE35","v":41719369.689789079},{"$f":"+Transport!AC25*H102/1000000","v":0},{"$f":"+Transport!AE30*H102/1000000","v":15410.30539539653},1,41719.369689789077,373505.68578064739,0.21907801075994357]
[null,"Mélange de bioéthanol à 15% dans toute l'essence",{"$f":"+Transport!AE66","v":452.58364351439667},"15% mélange en transport",{"$f":"+Transport!AE64","v":3418188.3994116033},{"$f":"+Transport!AC53*H103/1000000","v":0},{"$f":"+Transport!AE58*H103/1000000","v":1547.0161600243473},1,3418.1883994116033,376923.87418005901,0.22108293315725774]
[null,"Service d'Autobus Express",{"$f":"Transport!D476","v":89.462218818813056},"1 km ligne d'autobus express",{"$f":"+Transport!D474","v":1983.4616326530609},{"$f":"Transport!B463*H104/1000000","v":0},{"$f":"Transport!D469*H104/1000000","v":0},null,0,376923.87418005901,0.22108293315725774,{"$f":"I104/3.1","v":0}]
[null,"Voitures à essence plus efficaces",{"$f":"+Transport!D97","v":-210.54592306489874},"1000 voitures",{"$f":"+Transport!D95","v":408.90380487804828},{"$f":"+Transport!B84*H105/1000000","v":0},{"$f":"+Transport!D90*H105/1000000","v":0},null,0,376923.87418005901,0.22108293315725774,null,{"$f":"I105/2.9","v":0}]
[null,"Voitures diesel plus efficaces",{"$f":"+Transport!D123","v":-158.52677653007859},"1000 voitures",{"$f":"+Transport!D121","v":179.7212853333333},{"$f":"+Transport!B110*H106/1000000","v":0},{"$f":"+Transport!D116*H106/1000000","v":0},null,0,376923.87418005901,0.22108293315725774,{"$f":"I106/3.1","v":0}]
[null,"Voitures au gaz naturel",{"$f":"+Transport!D392","v":-111.59325736279338},"1000 voitures au gaz naturel",{"$f":"+Transport!D390","v":778.08450104036592},{"$f":"+Transport!B380*H107/1000000","v":0},{"$f":"+Transport!D385*H107/1000000","v":0},null,{"$f":"(E107*H107)/1000","v":0},{"$f":"OFFSET(J107,-1,0,1,1)+I107","v":376923.87418005901},0.22108293315725774,{"$f":"I107/3.1","v":0}]
[null,"Voiture électrique",{"$f":"+Transport!AE147","v":-391.17265548674794},"1000 voitures",{"$f":"+Transport!AE145","v":959.52564049036732},{"$f":"+Transport!AE135*H108/1000000","v":-4000},{"$f":"+Transport!AE140*H108/1000000","v":-750.68038559647925},2000,1919.0512809807346,378842.92546103976,0.22220854369864718,null,{"$f":"I108/2.9","v":661.74182102783959}]
[null,"Autobus électriques de 18m",{"$f":"+Transport!AE177","v":249.77717572130544},"1000 autobus",{"$f":"+Transport!AE175","v":44956.386640531666},{"$f":"+Transport!AE165*H109/1000000","v":0},{"$f":"+Transport!AE170*H109/1000000","v":0},null,0,378842.92546103976,0.22220854369864718,{"$f":"I109/3.1","v":0}]
[null,"Autobus électriques 12m",{"$f":"+Transport!AE208","v":669.41820526464107},"1000 autobus",{"$f":"+Transport!AE206","v":15416.597169004952},{"$f":"+Transport!AE196*H110/1000000","v":0},{"$f":"+Transport!AE201*H110/1000000","v":0},null,0,378842.92546103976,0.22220854369864718,0]
[null,"Camions lourds électriques",{"$f":"Transport!M239","v":3808.531246548961},"1000 camions",{"$f":"Transport!M237","v":12980.884968839813},{"$f":"Transport!M227*H111/1000000","v":0},{"$f":"Transport!M232*H111/1000000","v":0},null,0,378842.92546103976,{"$f":"J111/Totalemis2050","v":0.22220854369864718},0]
[null,"Camions légers électriques",{"$f":"Transport!M271","v":577.60975464130399},"1000 camions",{"$f":"Transport!M269","v":6412.1652215990734},{"$f":"Transport!M259*H112/1000000","v":0},{"$f":"Transport!M264*H112/1000000","v":0},null,{"$f":"(E112*H112)/1000","v":0},{"$f":"OFFSET(J112,-1,0,1,1)+I112","v":378842.92546103976},{"$f":"J112/Totalemis2050","v":0.22220854369864718},0]
[null,"Train electric",{"$f":"+Transport!D303","v":-9824.8592275038391},"1 Million trainkm/annee",{"$f":"+Transport!D301","v":-1319.7509435114996},{"$f":"+Transport!D291*H113/1000000","v":0},{"$f":"Transport!D296*H113/1000000","v":0},null,{"$f":"(E113*H113)/1000","v":0},{"$f":"OFFSET(J113,-1,0,1,1)+I113","v":378842.92546103976},{"$f":"J113/Totalemis2050","v":0.22220854369864718},0]
[null,"Déplacement des passagers de la voiture vers le rail (1 Million de personne, km/jour)",{"$f":"Transport!D332","v":1961.8414656683801},"1 Million personne km/jour",{"$f":"Transport!D330","v":35457.80333333333},{"$f":"Transport!D320*H114/1000","v":0},{"$f":"Transport!D325*H114/1000","v":0},null,{"$f":"(E114*H114)/1000","v":0},{"$f":"OFFSET(J114,-1,0,1,1)+I114","v":378842.92546103976},{"$f":"J114/Totalemis2050","v":0.22220854369864718},0]
[null,"Déplacement du transport de marchandises de la route vers le rail (1000 tonnes, km/jour)",{"$f":"Transport!D361","v":-1534.825994878948},"1000 tonkm/jour",{"$f":"Transport!D359","v":241.3646113413127},{"$f":"Transport!D349*H115/1000","v":0},{"$f":"Transport!D354*H115/1000","v":0},null,{"$f":"(E115*H115)/1000","v":0},{"$f":"OFFSET(J115,-1,0,1,1)+I115","v":378842.92546103976},{"$f":"J115/Totalemis2050","v":0.22220854369864718},0]
[null,"Restriction à l'importation de voitures d'occasion",{"$f":"+Transport!D420","v":-210.54582703181637},"1000 voitures",{"$f":"+Transport!D418","v":931.3919999999996},{"$f":"+Transport!B408*H116/1000000","v":0},{"$f":"+Transport!D91*H116/1000000","v":0},null,0,378842.92546103976,0.22220854369864718,0]
[null,"Nouvelles voies cyclables",{"$f":"+Transport!D506","v":-144.86078223795022},"1 km voie cyclable",{"$f":"+Transport!D504","v":686.58271182439023},{"$f":"+Transport!B494*H117/1000000","v":50},{"$f":"+Transport!D499*H117/1000000","v":-99.45890870593432},1000,686.58271182439023,379529.50817286415,{"$f":"J117/Totalemis2050","v":0.2226112555728032},221.47829413690008]
[null,"Trois-roues électriques",{"$f":"+Transport!D532","v":153.37359162501534},"1000 trois-roues",{"$f":"+Transport!D530","v":293.28103313378676},{"$f":"Transport!B520*H118/1000000","v":0},{"$f":"Transport!D525*H118/1000000","v":0},null,0,379529.50817286415,{"$f":"+J118/Totalemis2050","v":0.2226112555728032},null,{"$f":"+Transport!C530*H118/2.87","v":0}]
[null,"Deux-roues électriques",{"$f":"+Transport!D560","v":129.0824214883059},"1000 deux-roues",{"$f":"+Transport!D558","v":739.74749999999983},{"$f":"Transport!D548*H119/1000000","v":0},{"$f":"Transport!D553*H119/1000000","v":0},null,{"$f":"(E119*H119)/1000","v":0},{"$f":"OFFSET(J119,-1,0,1,1)+I119","v":379529.50817286415},{"$f":"+J119/Totalemis2050","v":0.2226112555728032},null,{"$f":"Transport!C558*H119/2.87","v":0}]
[null,"Meilleur entretien et utilisation des motos",{"$f":"+Transport!D448","v":-189.07311736714252},"1000 motos",{"$f":"+Transport!D446","v":116.42400000000004},{"$f":"+Transport!B436*H120/1000000","v":0},{"$f":"+Transport!D441*H120/1000000","v":0},null,0,379529.50817286415,0.2226112555728032,null,{"$f":"I120/2.9","v":0}]
["Éolien","Éoliennes on-shore",{"$f":"Eolien!$AE$21","v":-362.37601717092434},"1 MW",{"$f":"Eolien!AE19","v":1213.75},{"$f":"+Eolien!AC9*H121/1000000","v":27500},{"$f":"+Eolien!AE14*H121/1000000","v":-21991.694542060472},50000,60687.5,440217.00817286415,0.25820722448076283,{"$f":"I121/3.1","v":19576.612903225807},null,null,{"$f":"+Eolien!AH17*H121/1000","v":125000}]
[null,"Éoliennes on-shore avec stockage 24h ",{"$f":"Eolien!AE45","v":-335.769496019462},"1 MW",{"$f":"Eolien!AE43","v":1327.8425},{"$f":"+Eolien!AC33*H122/1000000","v":0},{"$f":"+Eolien!AE38*H122/1000000","v":0},null,0,440217.00817286415,{"$f":"+J122/Totalemis2050","v":0.25820722448076283},{"$f":"I122/3.1","v":0},null,null,{"$f":"+Eolien!AH41*H122/1000","v":0}]
[null,"Éoliennes off-shore",{"$f":"Eolien!$AE$70","v":-313.36888771848743},"1 MW",{"$f":"Eolien!AE68","v":1553.6},{"$f":"+Eolien!AC58*H123/1000000","v":0},{"$f":"+Eolien!AE63*H123/1000000","v":0},null,0,440217.00817286415,0.25820722448076283,{"$f":"I123/3.1","v":0},null,null,{"$f":"+Eolien!AH66*H123/1000","v":0}]
[null,null,null,null,"Totals:",{"$f":"SUM(F5:F123)","v":221095.05575178546},{"$f":"SUM(G5:G123)","v":-79186.461431070478},null,"BAU emission in 2050:",{"$f":"+'Bilan 2050'!B99","v":1704898.1067749385},"ktCO2-eq.",{"$f":"SUM(L18:L123)","v":19798.091197362708},{"$f":"SUM(M18:M123)","v":661.74182102783959},{"$f":"SUM(N18:N123)","v":58.462809917355358},{"$f":"SUM(O18:O123)","v":575850}]
["Options de réduction de GES:",{"$f":"COUNTA(B5:B123)","v":119}]
["Ne retirez pas ce chiffre!!"]
[]
[]
[]
[null,null,null,null,null,null,"CO2 émissions: ktCO2 en 2050",null,null,"BAU","Réduction","Nouveau totale"]
[null,null,null,null,null,null,"Centrale électricite",null,null,{"$f":"'Bilan 2050'!B63+'Bilan 2050'!B85+'Bilan 2050'!B86","v":727143.84117686597},{"$f":"SUM(I12:I14)+I15+SUM(I48:I56)+I70+SUM(I73:I75)+I83+I84+SUM(I92:I96)+I98+I100+I101+SUM(I121:I123)","v":315502.17499999999},{"$f":"+J131-K131","v":411641.66617686598},"Factor d'emission production d'electricité:",null,null,{"$f":"L131/'Bilan 2050'!Q34","v":0.40069813141907729},"tCO2/MWh"]
[null,null,null,null,null,null,"Industrie",null,null,{"$f":"SUM('Bilan 2050'!B65:B76)+'Bilan 2050'!B84+'Bilan 2050'!B93+'Bilan 2050'!B97","v":367988.2241658296},{"$f":"I16+I17+SUM(I29:I33)+I64+I65+SUM(I66:I69)+I72+I88+I89","v":58211.425116237522},{"$f":"+J132-K132","v":309776.79904959205}]
[null,null,null,null,null,null,"Transport",null,null,{"$f":"SUM('Bilan 2050'!B77:B80)","v":285817.93724442273},{"$f":"SUM(I102:I120)+I99+P124","v":47743.192082005808},238074.74516241692]
[null,null,null,null,null,null,"Households",null,null,{"$f":"+'Bilan 2050'!B81","v":129400.13059232724},{"$f":"SUM(I18:I28)+I57+I58+I71+I90+I91+I97","v":0},129400.13059232724]
[null,null,null,null,null,null,"Services",null,null,{"$f":"+'Bilan 2050'!B82","v":93626.73285704205},{"$f":"SUM(I34:I47)","v":18760.215974620791},74866.51688242126]
[null,null,null,null,null,null,"Agriculture & Péches",null,null,{"$f":"+'Bilan 2050'!B83+'Bilan 2050'!B87","v":148061.24073845102},{"$f":"SUM(I5:I11)+SUM(I85:I87)","v":0},148061.24073845102]
[null,null,null,null,null,null,"Forestry",null,null,{"$f":"+'Bilan 2050'!B94","v":-64020},{"$f":"SUM(I59:I63)","v":0},-64020]
[null,null,null,null,null,null,"Décharge",null,null,{"$f":"+'Bilan 2050'!B95+'Bilan 2050'!B96","v":16880},{"$f":"SUM(I76:I82)","v":0},16880]
[null,null,null,null,null,null,"Total",null,null,{"$f":"SUM(J131:J138)","v":1704898.1067749385},{"$f":"SUM(K131:K138)","v":440217.00817286409},{"$f":"SUM(L131:L138)","v":1264681.0986020744}]

{"sheet":"MRV","index":17,"n_rows":126,"n_cols":27,"rows_kept":126,"cut":false,"hidden":false,"merged":[[2,8,2,22],[4,24,4,25]]}
["Dans cette fiche, le pays suivra la mise en œuvre des options de réduction des GES dans les fiches principales",null,null,null,null,null,null,null,null,null,null,null,null,null,null,null,null,null,null,null,null,null,null,"Total"]
[null,null,null,null,null,null,null,"Année de",null,null,null,null,null,null,null,null,null,null,null,null,null,null,null,"Cumulatif","Total","Total"]
[null,null,null,null,null,null,null," référence","Options d'atténuation mises en oeuvre cumulées",null,null,null,null,null,null,null,null,null,null,null,null,null,null,"de réduction","finance"," finance"]
[null,null,null,2025,2030,2035,2050,{"$f":"+Hypothèses!B3","v":2015},2016,2017,2018,2019,2020,2021,2022,2023,2024,2025,2026,2027,2028,2029,2030,"de GES"," externe"," interne"]
["Type","Option de réduction","Unité du sous-type ","plan","plan","plan","plan",null,null,null,null,null,null,null,null,null,null,null,null,null,null,null,null,"kt/CO2e/an","Million US$",null,"Commentaires"]
["Agriculture","Réduction du CH4 des cultures de riz","Culture de riz CH4 red.(1000 ha)",{"$f":"+principale25!H5","v":0},{"$f":"+principale30!H5","v":10},{"$f":"+principale35!H5","v":10},{"$f":"+principale50!H5","v":0},null,null,null,null,null,null,null,null,null,null,null,null,null,null,null,null,{"$f":"MAX(I6:W6)*principale30!E5/1000","v":0}]
[null,"Culture sans labour","1000 ha",{"$f":"+principale25!H6","v":0},{"$f":"+principale30!H6","v":0},{"$f":"+principale35!H6","v":0},{"$f":"+principale50!H6","v":0},null,null,null,null,null,null,null,null,null,null,null,null,null,null,null,null,{"$f":"MAX(I7:W7)*principale30!E6/1000","v":0}]
[null,"Couverture de cultures","1000 ha",{"$f":"+principale25!H7","v":0},{"$f":"+principale30!H7","v":0},{"$f":"+principale35!H7","v":0},{"$f":"+principale50!H7","v":0},null,null,null,null,null,null,null,null,null,null,null,null,null,null,null,null,{"$f":"MAX(I8:W8)*principale30!E7/1000","v":0}]
[null,"Inhibiteurs de nitrification (1000 ha)","1000 ha",{"$f":"+principale25!H8","v":0},{"$f":"+principale30!H8","v":0},{"$f":"+principale35!H8","v":0},{"$f":"+principale50!H8","v":0},null,null,null,null,null,null,null,null,null,null,null,null,null,null,null,null,{"$f":"MAX(I9:W9)*principale30!E8/1000","v":0}]
[null,"Couverture des dépôts lisier (1 dépôt de lisier)","1 dépôt de lisier",{"$f":"+principale25!H9","v":0},{"$f":"+principale30!H9","v":0},{"$f":"+principale35!H9","v":0},{"$f":"+principale50!H9","v":0},null,null,null,null,null,null,null,null,null,null,null,null,null,null,null,null,{"$f":"MAX(I10:W10)*principale30!E9/1000","v":0}]
[null,"Supplémentation en matières grasses dans l'alimentation des ruminants (% de matières grasses DM ajoutées)","% de matières grasses DM ajouté",{"$f":"+principale25!H10","v":0},{"$f":"+principale30!H10","v":0},{"$f":"+principale35!H10","v":0},{"$f":"+principale50!H10","v":0},null,null,null,null,null,null,null,null,null,null,null,null,null,null,null,null,{"$f":"MAX(I11:W11)*principale30!E10/1000","v":0}]
[null,"Traitement du tabac","100 t de tabac/an",{"$f":"+principale25!H11","v":0},{"$f":"+principale30!H11","v":0},{"$f":"+principale35!H11","v":0},{"$f":"+principale50!H11","v":0},null,null,null,null,null,null,null,null,null,null,null,null,null,null,null,null,{"$f":"MAX(I12:W12)*principale30!E11/1000","v":0}]
["Energie biomasse","Centrales de cogénération d'écorce de riz","1 MW cogénération",{"$f":"+principale25!H12","v":0},{"$f":"+principale30!H12","v":0},{"$f":"+principale35!H12","v":0},{"$f":"+principale50!H12","v":0},null,null,null,null,null,null,null,null,null,null,null,null,null,null,null,null,{"$f":"MAX(I13:W13)*principale30!E12/1000","v":0}]
[null,"Production électrique à partir des résidus de biomasse","1 MW cogénération",{"$f":"+principale25!H13","v":0},{"$f":"+principale30!H13","v":0},{"$f":"+principale35!H13","v":0},{"$f":"+principale50!H13","v":0},null,null,null,null,null,null,null,null,null,null,null,null,null,null,null,null,{"$f":"MAX(I14:W14)*principale30!E13/1000","v":0}]
[null,"Production électrique à partir de bagasse","100 kt cane à sucre/an",{"$f":"+principale25!H14","v":0},{"$f":"+principale30!H14","v":0},{"$f":"+principale35!H14","v":0},{"$f":"+principale50!H14","v":0},null,null,null,null,null,null,null,null,null,null,null,null,null,null,null,null,{"$f":"MAX(I15:W15)*principale30!E14/1000","v":0}]
["Capture et stockage","Usine de capture et du stockage","1 MW",{"$f":"+principale25!H15","v":0},{"$f":"+principale30!H15","v":0},{"$f":"+principale35!H15","v":0},{"$f":"+principale50!H15","v":0},null,null,null,null,null,null,null,null,null,null,null,null,null,null,null,null,{"$f":"MAX(I16:W16)*principale30!E15/1000","v":0}]
["Ciment","Remplacement du clinker","1000 tonnes ciment/jour",{"$f":"+principale25!H16","v":0},{"$f":"+principale30!H16","v":0},{"$f":"+principale35!H16","v":0},{"$f":"+principale50!H16","v":0},null,null,null,null,null,null,null,null,null,null,null,null,null,null,null,null,{"$f":"MAX(I17:W17)*principale30!E16/1000","v":0}]
["Mine de charbon","Méthane de mine de charbon","10 Mm3 CMM/an",{"$f":"+principale25!H17","v":0},{"$f":"+principale30!H17","v":0},{"$f":"+principale35!H17","v":0},{"$f":"+principale50!H17","v":0},null,null,null,null,null,null,null,null,null,null,null,null,null,null,null,null,{"$f":"MAX(I18:W18)*principale30!E17/1000","v":0}]
["EE ménages","Climatisation résidentielle efficace","1000 climatiseur",{"$f":"+principale25!H18","v":0},{"$f":"+principale30!H18","v":0},{"$f":"+principale35!H18","v":0},{"$f":"+principale50!H18","v":0},null,null,null,null,null,null,null,null,null,null,null,null,null,null,null,null,{"$f":"MAX(I19:W19)*principale30!E18/1000","v":0}]
[null,"Éclairage efficace avec les ampoules fluocompactes","1000 Ampoules",{"$f":"+principale25!H19","v":0},{"$f":"+principale30!H19","v":0},{"$f":"+principale35!H19","v":0},{"$f":"+principale50!H19","v":0},null,null,null,null,null,null,null,null,null,null,null,null,null,null,null,null,{"$f":"MAX(I20:W20)*principale30!E19/1000","v":0}]
[null,"Éclairage efficace avec LED","1000 Ampoules",{"$f":"+principale25!H20","v":0},{"$f":"+principale30!H20","v":0},{"$f":"+principale35!H20","v":0},{"$f":"+principale50!H20","v":0},null,null,null,null,null,null,null,null,null,null,null,null,null,null,null,null,{"$f":"MAX(I21:W21)*principale30!E20/1000","v":0}]
[null,"Éclairage efficace avec LED remplaçant les fluocompactes","1000 Ampoules",{"$f":"+principale25!H21","v":0},{"$f":"+principale30!H21","v":0},{"$f":"+principale35!H21","v":0},{"$f":"+principale50!H21","v":0},null,null,null,null,null,null,null,null,null,null,null,null,null,null,null,null,{"$f":"MAX(I22:W22)*principale30!E21/1000","v":0}]
[null,"Poêles à bois efficaces","1000 poêles",{"$f":"+principale25!H22","v":0},{"$f":"+principale30!H22","v":0},{"$f":"+principale35!H22","v":0},{"$f":"+principale50!H22","v":0},null,null,null,null,null,null,null,null,null,null,null,null,null,null,null,null,{"$f":"MAX(I23:W23)*principale30!E22/1000","v":0}]
[null,"Poêles à charbon de bois efficaces","1000 poêles",{"$f":"+principale25!H23","v":0},{"$f":"+principale30!H23","v":0},{"$f":"+principale35!H23","v":0},{"$f":"+principale50!H23","v":0},null,null,null,null,null,null,null,null,null,null,null,null,null,null,null,null,{"$f":"MAX(I24:W24)*principale30!E23/1000","v":0}]
[null,"Poêles au GPL remplaçant les poêles à bois","1000 poêles",{"$f":"+principale25!H24","v":0},{"$f":"+principale30!H24","v":0},{"$f":"+principale35!H24","v":0},{"$f":"+principale50!H24","v":0},null,null,null,null,null,null,null,null,null,null,null,null,null,null,null,null,{"$f":"MAX(I25:W25)*principale30!E24/1000","v":0}]
[null,"Poêles électriques efficaces","1000 poêles",{"$f":"+principale25!H25","v":0},{"$f":"+principale30!H25","v":0},{"$f":"+principale35!H25","v":0},{"$f":"+principale50!H25","v":0},null,null,null,null,null,null,null,null,null,null,null,null,null,null,null,null,{"$f":"MAX(I26:W26)*principale30!E25/1000","v":0}]
[null,"Poêles induction","1000 poêles",{"$f":"+principale25!H26","v":0},{"$f":"+principale30!H26","v":0},{"$f":"+principale35!H26","v":0},{"$f":"+principale50!H26","v":0},null,null,null,null,null,null,null,null,null,null,null,null,null,null,null,null,{"$f":"MAX(I27:W27)*principale30!E26/1000","v":0}]
[null,"Nuveau domicile passif","1000 nuveau domiviles",{"$f":"+principale25!H27","v":0},{"$f":"+principale30!H27","v":0},{"$f":"+principale35!H27","v":0},{"$f":"+principale50!H27","v":0},null,null,null,null,null,null,null,null,null,null,null,null,null,null,null,null,{"$f":"MAX(I28:W28)*principale30!E27/1000","v":0}]
[null,"Réfrigérateurs efficaces","1000 refrigérateurs",{"$f":"+principale25!H28","v":0},{"$f":"+principale30!H28","v":0},{"$f":"+principale35!H28","v":0},{"$f":"+principale50!H28","v":0},null,null,null,null,null,null,null,null,null,null,null,null,null,null,null,null,{"$f":"MAX(I29:W29)*principale30!E28/1000","v":0}]
["EE industrie","Moteurs électriques efficaces","1 kW",{"$f":"+principale25!H29","v":0},{"$f":"+principale30!H29","v":0},{"$f":"+principale35!H29","v":0},{"$f":"+principale50!H29","v":0},null,null,null,null,null,null,null,null,null,null,null,null,null,null,null,null,{"$f":"MAX(I30:W30)*principale30!E29/1000","v":0}]
[null,"Efficacité énergétique dans l'industrie","10% red. de demande d'énergie",{"$f":"+principale25!H30","v":1},{"$f":"+principale30!H30","v":1.4},{"$f":"+principale35!H30","v":1.4},{"$f":"+principale50!H30","v":2},null,null,null,null,null,null,null,null,null,null,null,null,null,null,null,null,{"$f":"MAX(I31:W31)*principale30!E30/1000","v":0}]
[null,"Matériaux de construction","1 million briques",{"$f":"+principale25!H31","v":0},{"$f":"+principale30!H31","v":0},{"$f":"+principale35!H31","v":0},{"$f":"+principale50!H31","v":0},null,null,null,null,null,null,null,null,null,null,null,null,null,null,null,null,{"$f":"MAX(I32:W32)*principale30!E31/1000","v":0}]
["EE chaleur résiduelle","Récupération de chaleur résiduelle dans une cimenterie","1 Cimenterie",{"$f":"+principale25!H32","v":0},{"$f":"+principale30!H32","v":0},{"$f":"+principale35!H32","v":0},{"$f":"+principale50!H32","v":0},null,null,null,null,null,null,null,null,null,null,null,null,null,null,null,null,{"$f":"MAX(I33:W33)*principale30!E32/1000","v":0}]
[null,"Récupération de la chaleur résiduelle dans une aciérie","1 Aciérie",{"$f":"+principale25!H33","v":0},{"$f":"+principale30!H33","v":0},{"$f":"+principale35!H33","v":0},{"$f":"+principale50!H33","v":0},null,null,null,null,null,null,null,null,null,null,null,null,null,null,null,null,{"$f":"MAX(I34:W34)*principale30!E33/1000","v":0}]
["EE service","Moteurs électriques efficaces","1 kW",{"$f":"+principale25!H34","v":0},{"$f":"+principale30!H34","v":0},{"$f":"+principale35!H34","v":0},{"$f":"+principale50!H34","v":0},null,null,null,null,null,null,null,null,null,null,null,null,null,null,null,null,{"$f":"MAX(I35:W35)*principale30!E34/1000","v":0}]
[null,"Éclairage de bureau efficace avec des ampoules fluocompactes","1000 lampes",{"$f":"+principale25!H35","v":0},{"$f":"+principale30!H35","v":0},{"$f":"+principale35!H35","v":0},{"$f":"+principale50!H50","v":0},null,null,null,null,null,null,null,null,null,null,null,null,null,null,null,null,{"$f":"MAX(I36:W36)*principale30!E35/1000","v":0}]
[null,"Éclairage de bureau efficace avec LED","1000 lampes",{"$f":"+principale25!H36","v":0},{"$f":"+principale30!H36","v":0},{"$f":"+principale35!H36","v":0},{"$f":"+principale50!H36","v":0},null,null,null,null,null,null,null,null,null,null,null,null,null,null,null,null,{"$f":"MAX(I37:W37)*principale30!E36/1000","v":0}]
[null,"Éclairage public efficace","1000 lampes",{"$f":"+principale25!H37","v":0},{"$f":"+principale30!H37","v":0},{"$f":"+principale35!H37","v":0},{"$f":"+principale50!H37","v":0},null,null,null,null,null,null,null,null,null,null,null,null,null,null,null,null,{"$f":"MAX(I38:W38)*principale30!E37/1000","v":0}]
[null,"Pompage efficace de l'eau","4 Million m3 d'eau",{"$f":"+principale25!H38","v":0},{"$f":"+principale30!H38","v":0},{"$f":"+principale35!H38","v":0},{"$f":"+principale50!H38","v":0},null,null,null,null,null,null,null,null,null,null,null,null,null,null,null,null,{"$f":"MAX(I39:W39)*principale30!E38/1000","v":0}]
[null,"Chauffage, ventilation, climatisation ","100,000 m2 surface planché",{"$f":"+principale25!H39","v":0},{"$f":"+principale30!H39","v":0},{"$f":"+principale35!H39","v":0},{"$f":"+principale50!H39","v":0},null,null,null,null,null,null,null,null,null,null,null,null,null,null,null,null,{"$f":"MAX(I40:W40)*principale30!E39/1000","v":0}]
[null,"Refroidisseur efficace> 300 TR","1 TR",{"$f":"+principale25!H40","v":0},{"$f":"+principale30!H40","v":0},{"$f":"+principale35!H40","v":0},{"$f":"+principale50!H40","v":0},null,null,null,null,null,null,null,null,null,null,null,null,null,null,null,null,{"$f":"MAX(I41:W41)*principale30!E40/1000","v":0}]
[null,"Refroidisseur efficace <300 TR","1 TR",{"$f":"+principale25!H41","v":0},{"$f":"+principale30!H41","v":0},{"$f":"+principale35!H41","v":0},{"$f":"+principale50!H41","v":0},null,null,null,null,null,null,null,null,null,null,null,null,null,null,null,null,{"$f":"MAX(I42:W42)*principale30!E41/1000","v":0}]
[null,"Climatiseurs de type fenêtre/individuel efficace","1000 climatiseurs",{"$f":"+principale25!H42","v":0},{"$f":"+principale30!H42","v":0},{"$f":"+principale35!H42","v":0},{"$f":"+principale50!H42","v":0},null,null,null,null,null,null,null,null,null,null,null,null,null,null,null,null,{"$f":"MAX(I43:W43)*principale30!E42/1000","v":0}]
[null,"Lave-vaisselle commercial efficace","1000 repas/jours",{"$f":"+principale25!H43","v":0},{"$f":"+principale30!H43","v":0},{"$f":"+principale35!H43","v":0},{"$f":"+principale50!H43","v":0},null,null,null,null,null,null,null,null,null,null,null,null,null,null,null,null,{"$f":"MAX(I44:W44)*principale30!E43/1000","v":0}]
[null,"Réfrigérateur d'hôtel efficace","1 réfrigérateurs",{"$f":"+principale25!H44","v":0},{"$f":"+principale30!H44","v":0},{"$f":"+principale35!H44","v":0},{"$f":"+principale50!H44","v":0},null,null,null,null,null,null,null,null,null,null,null,null,null,null,null,null,{"$f":"MAX(I45:W45)*principale30!E44/1000","v":0}]
[null,"Machine à laver efficace pour hôtel","100 Clients Nuits (CN)",{"$f":"+principale25!H45","v":0},{"$f":"+principale30!H45","v":0},{"$f":"+principale35!H45","v":0},{"$f":"+principale50!H45","v":0},null,null,null,null,null,null,null,null,null,null,null,null,null,null,null,null,{"$f":"MAX(I46:W46)*principale30!E45/1000","v":0}]
[null,"Efficacité énergétique en service","10% red. de demande d'énergie",{"$f":"+principale25!H46","v":0.5},{"$f":"+principale30!H46","v":1.4},{"$f":"+principale35!H46","v":1.4},{"$f":"+principale50!H46","v":2},null,null,null,null,null,null,null,null,null,null,null,null,null,null,null,null,{"$f":"MAX(I47:W47)*principale30!E46/1000","v":0}]
[null,"Nouvel immeuble de bureaux avec refroidissement central","1000 m2",{"$f":"+principale25!H47","v":1000},{"$f":"+principale30!H47","v":1000},{"$f":"+principale35!H47","v":1000},{"$f":"+principale50!H47","v":1000},null,null,null,null,null,null,null,null,null,null,null,null,null,null,null,null,{"$f":"MAX(I48:W48)*principale30!E47/1000","v":0}]
["EE offre","Nouvelle centrale à charbon à haut rendement","1 MW",{"$f":"+principale25!H48","v":0},{"$f":"+principale30!H48","v":0},{"$f":"+principale35!H48","v":0},{"$f":"+principale50!H48","v":0},null,null,null,null,null,null,null,null,null,null,null,null,null,null,null,null,{"$f":"MAX(I49:W49)*principale30!E48/1000","v":0}]
[null,"Nouvelle centrale électrique au gaz naturel","1 MW",{"$f":"+principale25!H49","v":0},{"$f":"+principale30!H49","v":0},{"$f":"+principale35!H49","v":0},{"$f":"+principale50!H49","v":0},null,null,null,null,null,null,null,null,null,null,null,null,null,null,null,null,{"$f":"MAX(I50:W50)*principale30!E49/1000","v":0}]
[null,"Passer du fioul lourd au diesel","1 MW",{"$f":"+principale25!H50","v":0},{"$f":"+principale30!H50","v":0},{"$f":"+principale35!H50","v":0},{"$f":"+principale50!H50","v":0},null,null,null,null,null,null,null,null,null,null,null,null,null,null,null,null,{"$f":"MAX(I51:W51)*principale30!E50/1000","v":0}]
[null,"Passer du fioul lourd au gaz naturel","1 MW",{"$f":"+principale25!H51","v":0},{"$f":"+principale30!H51","v":0},{"$f":"+principale35!H51","v":0},{"$f":"+principale50!H51","v":0},null,null,null,null,null,null,null,null,null,null,null,null,null,null,null,null,{"$f":"MAX(I52:W52)*principale30!E51/1000","v":0}]
[null,"La cogénération dans l'industrie","1 MW",{"$f":"+principale25!H52","v":0},{"$f":"+principale30!H52","v":0},{"$f":"+principale35!H52","v":0},{"$f":"+principale50!H52","v":0},null,null,null,null,null,null,null,null,null,null,null,null,null,null,null,null,{"$f":"MAX(I53:W53)*principale30!E52/1000","v":0}]
[null,"Cycle unique à cycle combiné","100 MW d'augmentation",{"$f":"+principale25!H53","v":0},{"$f":"+principale30!H53","v":0},{"$f":"+principale35!H53","v":0},{"$f":"+principale50!H53","v":0},null,null,null,null,null,null,null,null,null,null,null,null,null,null,null,null,{"$f":"MAX(I54:W54)*principale30!E53/1000","v":0}]
["Distribution d'énergie","Réseaux électriques efficaces","1 GWh pertes évités",{"$f":"+principale25!H54","v":15000},{"$f":"+principale30!H54","v":27000},{"$f":"+principale35!H54","v":35000},{"$f":"+principale50!H54","v":74000},null,null,null,null,null,null,null,null,null,null,null,null,null,null,null,null,{"$f":"MAX(I55:W55)*principale30!E54/1000","v":0}]
[null,"Connexion du réseau isolé au réseau central","1 GWh consommation",{"$f":"+principale25!H55","v":0},{"$f":"+principale30!H55","v":0},{"$f":"+principale35!H55","v":0},{"$f":"+principale50!H55","v":0},null,null,null,null,null,null,null,null,null,null,null,null,null,null,null,null,{"$f":"MAX(I56:W56)*principale30!E55/1000","v":0}]
[null,"Augmentation du facteur de puissance","1000 commerce/batiment industriel",{"$f":"+principale25!H56","v":0},{"$f":"+principale30!H56","v":0},{"$f":"+principale35!H56","v":0},{"$f":"+principale50!H56","v":0},null,null,null,null,null,null,null,null,null,null,null,null,null,null,null,null,{"$f":"MAX(I57:W57)*principale30!E56/1000","v":0}]
[null,"Réhabilitation du réseau de chauffage urbain","Récupération de la chaleur dans une cimenterie",{"$f":"+principale25!H57","v":0},{"$f":"+principale30!H57","v":0},{"$f":"+principale35!H57","v":0},{"$f":"+principale50!H57","v":0},null,null,null,null,null,null,null,null,null,null,null,null,null,null,null,null,{"$f":"MAX(I58:W58)*principale30!E57/1000","v":0}]
[null,"Nouveau réseau de refroidissement urbain","Nouveau réseau de refroidissement urbain (1 million de m2 de nouvelle zone urbaine couverte)",{"$f":"+principale25!H58","v":0},{"$f":"+principale30!H58","v":0},{"$f":"+principale35!H58","v":0},{"$f":"+principale50!H58","v":0},null,null,null,null,null,null,null,null,null,null,null,null,null,null,null,null,{"$f":"MAX(I59:W59)*principale30!E58/1000","v":0}]
["Foresterie","Reboisement","1000 ha de reboisement",{"$f":"+principale25!H59","v":0},{"$f":"+principale30!H59","v":0},{"$f":"+principale35!H59","v":0},{"$f":"+principale50!H59","v":0},null,null,null,null,null,null,null,null,null,null,null,null,null,null,null,null,{"$f":"MAX(I60:W60)*principale30!E59/1000","v":0}]
[null,"REDD: déforestation évitée","1000 ha déforestation évitée",{"$f":"+principale25!H60","v":0},{"$f":"+principale30!H60","v":0},{"$f":"+principale35!H60","v":0},{"$f":"+principale50!H60","v":0},null,null,null,null,null,null,null,null,null,null,null,null,null,null,null,null,{"$f":"MAX(I61:W61)*principale30!E60/1000","v":0}]
[null,"Régénération assistée des forêts","1000 ha de régénéré",{"$f":"+principale25!H61","v":0},{"$f":"+principale30!H61","v":0},{"$f":"+principale35!H61","v":0},{"$f":"+principale50!H61","v":0},null,null,null,null,null,null,null,null,null,null,null,null,null,null,null,null,{"$f":"MAX(I62:W62)*principale30!E61/1000","v":0}]
[null,"Reboisement avec agroforesterie","1000 ha de régénéré",{"$f":"+principale25!H62","v":0},{"$f":"+principale30!H62","v":0},{"$f":"+principale35!H62","v":0},{"$f":"+principale50!H62","v":0},null,null,null,null,null,null,null,null,null,null,null,null,null,null,null,null,{"$f":"MAX(I63:W63)*principale30!E62/1000","v":0}]
[null,"Reboisement avec Silvopasture","1000 ha de régénéré",{"$f":"+principale25!H63","v":0},{"$f":"+principale30!H63","v":0},{"$f":"+principale35!H63","v":0},{"$f":"+principale50!H63","v":0},null,null,null,null,null,null,null,null,null,null,null,null,null,null,null,null,{"$f":"MAX(I64:W64)*principale30!E63/1000","v":0}]
["Remplacement des ","Passer du charbon au gaz naturel dans l'industrie","100 TJ fuel use/year",{"$f":"+principale25!H64","v":0},{"$f":"+principale30!H64","v":0},{"$f":"+principale35!H64","v":0},{"$f":"+principale50!H64","v":0},null,null,null,null,null,null,null,null,null,null,null,null,null,null,null,null,{"$f":"MAX(I65:W65)*principale30!E64/1000","v":0}]
["Combustibles fossiles","Passer du fioul lourd au gaz naturel dans l'industrie","100 TJ fuel use/year",{"$f":"+principale25!H65","v":0},{"$f":"+principale30!H65","v":0},{"$f":"+principale35!H65","v":0},{"$f":"+principale50!H65","v":0},null,null,null,null,null,null,null,null,null,null,null,null,null,null,null,null,{"$f":"MAX(I66:W66)*principale30!E65/1000","v":0}]
["Emissions fugitives","Réduction du torchage au champ pétrolifère","1 MMSCF/jour",{"$f":"+principale25!H66","v":0},{"$f":"+principale30!H66","v":0},{"$f":"+principale35!H66","v":0},{"$f":"+principale50!H66","v":0},null,null,null,null,null,null,null,null,null,null,null,null,null,null,null,null,{"$f":"MAX(I67:W67)*principale30!E66/1000","v":0}]
[null,"Réduction du torchage dans les raffineries de pétrole","1 MMSCF/jour",{"$f":"+principale25!H67","v":0},{"$f":"+principale30!H67","v":0},{"$f":"+principale35!H67","v":0},{"$f":"+principale50!H67","v":0},null,null,null,null,null,null,null,null,null,null,null,null,null,null,null,null,{"$f":"MAX(I68:W68)*principale30!E67/1000","v":0}]
[null,"Réduction des fuites dans les pipelines de gaz naturel","1 Mm3 CH4/an de fuite",{"$f":"+principale25!H68","v":0},{"$f":"+principale30!H68","v":0},{"$f":"+principale35!H68","v":0},{"$f":"+principale50!H68","v":0},null,null,null,null,null,null,null,null,null,null,null,null,null,null,null,null,{"$f":"MAX(I69:W69)*principale30!E68/1000","v":0}]
[null,"Production de charbon de bois","100,000 ton charbon de bois/année",{"$f":"+principale25!H69","v":0},{"$f":"+principale30!H69","v":0},{"$f":"+principale35!H69","v":0},{"$f":"+principale50!H69","v":0},null,null,null,null,null,null,null,null,null,null,null,null,null,null,null,null,{"$f":"MAX(I70:W70)*principale30!E69/1000","v":0}]
["Géothermie","Énergie géothermique","1 MW",{"$f":"+principale25!H70","v":0},{"$f":"+principale30!H70","v":0},{"$f":"+principale35!H70","v":0},{"$f":"+principale50!H70","v":0},null,null,null,null,null,null,null,null,null,null,null,null,null,null,null,null,{"$f":"MAX(I71:W71)*principale30!E70/1000","v":0}]
[null,"Chaleur géothermique","1000 m2 surface chauffé",{"$f":"+principale25!H71","v":0},{"$f":"+principale30!H71","v":0},{"$f":"+principale35!H71","v":0},{"$f":"+principale50!H71","v":0},null,null,null,null,null,null,null,null,null,null,null,null,null,null,null,null,{"$f":"MAX(I72:W72)*principale30!E71/1000","v":0}]
["HFCs, PFCs, SF6","Réduction des PFC de la production d'aluminium","100,000 ton Aluminium/an",{"$f":"+principale25!H72","v":0},{"$f":"+principale30!H72","v":0},{"$f":"+principale35!H72","v":0},{"$f":"+principale50!H72","v":0},null,null,null,null,null,null,null,null,null,null,null,null,null,null,null,null,{"$f":"MAX(I73:W73)*principale30!E72/1000","v":0}]
["Hydro","Hydroélectricité connectée au réseau principal","1 MW",{"$f":"+principale25!H73","v":50000},{"$f":"+principale30!H73","v":75000},{"$f":"+principale35!H73","v":85000},{"$f":"+principale50!H73","v":100000},null,null,null,null,null,null,null,null,null,null,null,null,null,null,null,null,{"$f":"MAX(I74:W74)*principale30!E73/1000","v":0}]
[null,"Mini hydroélectricité connectée au réseau principal","1 MW",{"$f":"+principale25!H74","v":0},{"$f":"+principale30!H74","v":0},{"$f":"+principale35!H74","v":0},{"$f":"+principale50!H74","v":0},null,null,null,null,null,null,null,null,null,null,null,null,null,null,null,null,{"$f":"MAX(I75:W75)*principale30!E74/1000","v":0}]
[null,"Mini hydroélectricité hors réseau","1 MW",{"$f":"+principale25!H75","v":0},{"$f":"+principale30!H75","v":0},{"$f":"+principale35!H75","v":0},{"$f":"+principale50!H75","v":0},null,null,null,null,null,null,null,null,null,null,null,null,null,null,null,null,{"$f":"MAX(I76:W76)*principale30!E75/1000","v":0}]
["Enfouissement","Centrale de gaz d'enfouissement avec production d'électricité","200 t/jour centrale",{"$f":"+principale25!H76","v":0},{"$f":"+principale30!H76","v":0},{"$f":"+principale35!H76","v":0},{"$f":"+principale50!H76","v":0},null,null,null,null,null,null,null,null,null,null,null,null,null,null,null,null,{"$f":"MAX(I77:W77)*principale30!E76/1000","v":0}]
[null,"Torchage des gaz d'enfouissement","200 t/jour centrale",{"$f":"+principale25!H77","v":0},{"$f":"+principale30!H77","v":0},{"$f":"+principale35!H77","v":0},{"$f":"+principale50!H77","v":0},null,null,null,null,null,null,null,null,null,null,null,null,null,null,null,null,{"$f":"MAX(I78:W78)*principale30!E77/1000","v":0}]
[null,"Usine d'incinération","200 t/jour centrale",{"$f":"+principale25!H78","v":0},{"$f":"+principale30!H78","v":0},{"$f":"+principale35!H78","v":0},{"$f":"+principale50!H78","v":0},null,null,null,null,null,null,null,null,null,null,null,null,null,null,null,null,{"$f":"MAX(I79:W79)*principale30!E78/1000","v":0}]
[null,"Recyclage des plastiques","1000 t/an centrale",{"$f":"+principale25!H79","v":0},{"$f":"+principale30!H79","v":0},{"$f":"+principale35!H79","v":0},{"$f":"+principale50!H79","v":0},null,null,null,null,null,null,null,null,null,null,null,null,null,null,null,null,{"$f":"MAX(I80:W80)*principale30!E79/1000","v":0}]
[null,"combustible issu de déchets municipaux solides (1000 t déchets / jour)","200 t DMS/jour centrale",{"$f":"+principale25!H80","v":0},{"$f":"+principale30!H80","v":0},{"$f":"+principale35!H80","v":0},{"$f":"+principale50!H80","v":0},null,null,null,null,null,null,null,null,null,null,null,null,null,null,null,null,{"$f":"MAX(I81:W81)*principale30!E80/1000","v":0}]
[null,"Biogaz issu des déchets solides municipaux","1000 t/an centrale",{"$f":"+principale25!H81","v":0},{"$f":"+principale30!H81","v":0},{"$f":"+principale35!H81","v":0},{"$f":"+principale50!H81","v":0},null,null,null,null,null,null,null,null,null,null,null,null,null,null,null,null,{"$f":"MAX(I82:W82)*principale30!E81/1000","v":0}]
[null,"Compostage des déchets solides municipaux","200 t/jour centrale",{"$f":"+principale25!H82","v":0},{"$f":"+principale30!H82","v":0},{"$f":"+principale35!H82","v":0},{"$f":"+principale50!H82","v":0},null,null,null,null,null,null,null,null,null,null,null,null,null,null,null,null,{"$f":"MAX(I83:W83)*principale30!E82/1000","v":0}]
["Marin","Energie marémotrice","1 MW d'énergie marémotrice",{"$f":"+principale25!H83","v":0},{"$f":"+principale30!H83","v":0},{"$f":"+principale35!H83","v":0},{"$f":"+principale50!H83","v":0},null,null,null,null,null,null,null,null,null,null,null,null,null,null,null,null,{"$f":"MAX(I84:W84)*principale30!E83/1000","v":0}]
[null,"Energie houlomotrice","1 MW  d'énergie houlomotrice",{"$f":"+principale25!H84","v":0},{"$f":"+principale30!H84","v":0},{"$f":"+principale35!H84","v":0},{"$f":"+principale50!H84","v":0},null,null,null,null,null,null,null,null,null,null,null,null,null,null,null,null,{"$f":"MAX(I85:W85)*principale30!E84/1000","v":0}]
["Substitution du méthane","Biogaz dans les fermes rurales utilisant du kérosène","1000 unités",{"$f":"+principale25!H85","v":0},{"$f":"+principale30!H85","v":0},{"$f":"+principale35!H85","v":0},{"$f":"+principale50!H85","v":0},null,null,null,null,null,null,null,null,null,null,null,null,null,null,null,null,{"$f":"MAX(I86:W86)*principale30!E85/1000","v":0}]
[null,"Biogaz dans les fermes rurales utilisant du bois de feu non renouvelable","1000 unités",{"$f":"+principale25!H86","v":0},{"$f":"+principale30!H86","v":0},{"$f":"+principale35!H86","v":0},{"$f":"+principale50!H86","v":0},null,null,null,null,null,null,null,null,null,null,null,null,null,null,null,null,{"$f":"MAX(I87:W87)*principale30!E86/1000","v":0}]
[null,"Le biogaz dans les grandes fermes","84000 cochons",{"$f":"+principale25!H87","v":0},{"$f":"+principale30!H87","v":0},{"$f":"+principale35!H87","v":0},{"$f":"+principale50!H87","v":0},null,null,null,null,null,null,null,null,null,null,null,null,null,null,null,null,{"$f":"MAX(I88:W88)*principale30!E87/1000","v":0}]
[null,"Biogas from industrial waste water ","1 centrale",{"$f":"+principale25!H88","v":0},{"$f":"+principale30!H88","v":0},{"$f":"+principale35!H88","v":0},{"$f":"+principale50!H88","v":0},null,null,null,null,null,null,null,null,null,null,null,null,null,null,null,null,{"$f":"MAX(I89:W89)*principale30!E88/1000","v":0}]
["N2O","Usine d'acide nitrique (destruction N2O)","100 ton HNO3/jour",{"$f":"+principale25!H89","v":0},{"$f":"+principale30!H89","v":0},{"$f":"+principale35!H89","v":0},{"$f":"+principale50!H89","v":0},null,null,null,null,null,null,null,null,null,null,null,null,null,null,null,null,{"$f":"MAX(I90:W90)*principale30!E89/1000","v":0}]
["Solaire","Chauffe-eau solaire, résidentiel","1000 locations",{"$f":"+principale25!H90","v":0},{"$f":"+principale30!H90","v":0},{"$f":"+principale35!H90","v":0},{"$f":"+principale50!H90","v":0},null,null,null,null,null,null,null,null,null,null,null,null,null,null,null,null,{"$f":"MAX(I91:W91)*principale30!E90/1000","v":0}]
[null,"Chauffe-eau solaire, large","1 unit",{"$f":"+principale25!H91","v":0},{"$f":"+principale30!H91","v":0},{"$f":"+principale35!H91","v":0},{"$f":"+principale50!H91","v":0},null,null,null,null,null,null,null,null,null,null,null,null,null,null,null,null,{"$f":"MAX(I92:W92)*principale30!E91/1000","v":0}]
[null,"PV solaires, grand réseau","1 MW",{"$f":"+principale25!H92","v":7000},{"$f":"+principale30!H92","v":10000},{"$f":"+principale35!H92","v":20000},{"$f":"+principale50!H92","v":30000},null,null,null,null,null,null,null,null,null,null,null,null,null,null,null,null,{"$f":"MAX(I93:W93)*principale30!E92/1000","v":0}]
[null,"PV solaires, grand réseau avec stockage 24h","1 MW",{"$f":"+principale25!H93","v":0},{"$f":"+principale30!H93","v":0},{"$f":"+principale35!H93","v":0},{"$f":"+principale50!H93","v":0},null,null,null,null,null,null,null,null,null,null,null,null,null,null,null,null,{"$f":"MAX(I94:W94)*principale30!E93/1000","v":0}]
[null,"PV maison solaire","500 W",{"$f":"+principale25!H94","v":0},{"$f":"+principale30!H94","v":0},{"$f":"+principale35!H94","v":0},{"$f":"+principale50!H94","v":0},null,null,null,null,null,null,null,null,null,null,null,null,null,null,null,null,{"$f":"MAX(I95:W95)*principale30!E94/1000","v":0}]
[null,"PV de chalet solaire","50 W",{"$f":"+principale25!H95","v":0},{"$f":"+principale30!H95","v":0},{"$f":"+principale35!H95","v":0},{"$f":"+principale50!H95","v":0},null,null,null,null,null,null,null,null,null,null,null,null,null,null,null,null,{"$f":"MAX(I96:W96)*principale30!E95/1000","v":0}]
[null,"Mini-réseau solaire/diesel","40 kW provenant du solaire",{"$f":"+principale25!H96","v":0},{"$f":"+principale30!H96","v":0},{"$f":"+principale35!H96","v":0},{"$f":"+principale50!H96","v":0},null,null,null,null,null,null,null,null,null,null,null,null,null,null,null,null,{"$f":"MAX(I97:W97)*principale30!E96/1000","v":0}]
[null,"Lampes solaires à LED","1000 lampes",{"$f":"+principale25!H97","v":0},{"$f":"+principale30!H97","v":0},{"$f":"+principale35!H97","v":0},{"$f":"+principale50!H97","v":0},null,null,null,null,null,null,null,null,null,null,null,null,null,null,null,null,{"$f":"MAX(I98:W98)*principale30!E97/1000","v":0}]
[null,"PV solaires, petit réseau isolé, 100% solaire","2 MW",{"$f":"+principale25!H98","v":0},{"$f":"+principale30!H98","v":0},{"$f":"+principale35!H98","v":0},{"$f":"+principale50!H98","v":0},null,null,null,null,null,null,null,null,null,null,null,null,null,null,null,null,{"$f":"MAX(I99:W99)*principale30!E98/1000","v":0}]
[null,"Lampadaires solaires","1000 locations (0.05 MW)",{"$f":"+principale25!H99","v":0},{"$f":"+principale30!H99","v":0},{"$f":"+principale35!H99","v":0},{"$f":"+principale50!H99","v":0},null,null,null,null,null,null,null,null,null,null,null,null,null,null,null,null,{"$f":"MAX(I100:W100)*principale30!E99/1000","v":0}]
[null,"Parabolique via centrale solaire à concentration, pas de stockage","1 MW",{"$f":"+principale25!H100","v":0},{"$f":"+principale30!H100","v":0},{"$f":"+principale35!H100","v":0},{"$f":"+principale50!H100","v":0},null,null,null,null,null,null,null,null,null,null,null,null,null,null,null,null,{"$f":"MAX(I101:W101)*principale30!E100/1000","v":0}]
[null,"Tour solaire centrale solaire à concentration, avec stockage","1 MW",{"$f":"+principale25!H101","v":0},{"$f":"+principale30!H101","v":0},{"$f":"+principale35!H101","v":0},{"$f":"+principale50!H101","v":0},null,null,null,null,null,null,null,null,null,null,null,null,null,null,null,null,{"$f":"MAX(I102:W102)*principale30!E101/1000","v":0}]
["Transport","Mélange de 5% de biodiesel dans tout le diesel","5% mélange en transport",{"$f":"+principale25!H102","v":0},{"$f":"+principale30!H102","v":1},{"$f":"+principale35!H102","v":1},{"$f":"+principale50!H102","v":1},null,null,null,null,null,null,null,null,null,null,null,null,null,null,null,null,{"$f":"MAX(I103:W103)*principale30!E102/1000","v":0}]
[null,"Mélange de bioéthanol à 15% dans toute l'essence","15% mélange en transport",{"$f":"+principale25!H103","v":0},{"$f":"+principale30!H103","v":1},{"$f":"+principale35!H103","v":1},{"$f":"+principale50!H103","v":1},null,null,null,null,null,null,null,null,null,null,null,null,null,null,null,null,{"$f":"MAX(I104:W104)*principale30!E103/1000","v":0}]
[null,"Service d'Autobus Express","1 km ligne d'autobus express",{"$f":"+principale25!H104","v":0},{"$f":"+principale30!H104","v":0},{"$f":"+principale35!H104","v":0},{"$f":"+principale50!H104","v":0},null,null,null,null,null,null,null,null,null,null,null,null,null,null,null,null,{"$f":"MAX(I105:W105)*principale30!E104/1000","v":0}]
[null,"Voitures à essence plus efficaces","1000 voitures",{"$f":"+principale25!H105","v":0},{"$f":"+principale30!H105","v":0},{"$f":"+principale35!H105","v":0},{"$f":"+principale50!H105","v":0},null,null,null,null,null,null,null,null,null,null,null,null,null,null,null,null,{"$f":"MAX(I106:W106)*principale30!E105/1000","v":0}]
[null,"Voitures diesel plus efficaces","1000 voitures",{"$f":"+principale25!H106","v":0},{"$f":"+principale30!H106","v":0},{"$f":"+principale35!H106","v":0},{"$f":"+principale50!H106","v":0},null,null,null,null,null,null,null,null,null,null,null,null,null,null,null,null,{"$f":"MAX(I107:W107)*principale30!E106/1000","v":0}]
[null,"Voitures au gaz naturel","1000 voitures au gaz naturel",{"$f":"+principale25!H107","v":0},{"$f":"+principale30!H107","v":0},{"$f":"+principale35!H107","v":0},{"$f":"+principale50!H107","v":0},null,null,null,null,null,null,null,null,null,null,null,null,null,null,null,null,{"$f":"MAX(I108:W108)*principale30!E107/1000","v":0}]
[null,"Voiture électrique","1000 voitures",{"$f":"+principale25!H108","v":500},{"$f":"+principale30!H108","v":1000},{"$f":"+principale35!H108","v":1000},{"$f":"+principale50!H108","v":2000},null,null,null,null,null,null,null,null,null,null,null,null,null,null,null,null,{"$f":"MAX(I109:W109)*principale30!E108/1000","v":0}]
[null,"Autobus électriques de 18m","1000 autobus",{"$f":"+principale25!H109","v":0},{"$f":"+principale30!H109","v":0},{"$f":"+principale35!H109","v":0},{"$f":"+principale50!H109","v":0},null,null,null,null,null,null,null,null,null,null,null,null,null,null,null,null,{"$f":"MAX(I110:W110)*principale30!E109/1000","v":0}]
[null,"Autobus électriques 12m","1000 autobus",{"$f":"+principale25!H110","v":0},{"$f":"+principale30!H110","v":0},{"$f":"+principale35!H110","v":0},{"$f":"+principale50!H110","v":0},null,null,null,null,null,null,null,null,null,null,null,null,null,null,null,null,{"$f":"MAX(I111:W111)*principale30!E110/1000","v":0}]
[null,"Camions lourds électriques","1000 camions",{"$f":"+principale25!H111","v":0},{"$f":"+principale30!H111","v":0},{"$f":"+principale35!H111","v":0},{"$f":"+principale50!H111","v":0},null,null,null,null,null,null,null,null,null,null,null,null,null,null,null,null,{"$f":"MAX(I112:W112)*principale30!E114/1000","v":0}]
[null,"Camions légers électriques","1000 camions",{"$f":"+principale25!H112","v":0},{"$f":"+principale30!H112","v":0},{"$f":"+principale35!H112","v":0},{"$f":"+principale50!H112","v":0},null,null,null,null,null,null,null,null,null,null,null,null,null,null,null,null,{"$f":"MAX(I113:W113)*principale30!E115/1000","v":0}]
[null,"Train electric","1 Million trainkm/annee",{"$f":"+principale25!H113","v":1000},{"$f":"+principale30!H113","v":0},{"$f":"+principale35!H113","v":0},{"$f":"+principale50!H113","v":0}]
[null,"Déplacement des passagers de la voiture vers le rail (1 Million de personne, km/jour)","1 Million personne km/jour",{"$f":"+principale25!H114","v":0},{"$f":"+principale30!H114","v":0},{"$f":"+principale35!H114","v":0},{"$f":"+principale50!H114","v":0},null,null,null,null,null,null,null,null,null,null,null,null,null,null,null,null,{"$f":"MAX(I115:W115)*principale30!E111/1000","v":0}]
[null,"Déplacement du transport de marchandises de la route vers le rail (1000 tonnes, km/jour)","1000 tonkm/jour",{"$f":"+principale25!H115","v":0},{"$f":"+principale30!H115","v":0},{"$f":"+principale35!H115","v":0},{"$f":"+principale50!H115","v":0},null,null,null,null,null,null,null,null,null,null,null,null,null,null,null,null,{"$f":"MAX(I116:W116)*principale30!E112/1000","v":0}]
[null,"Restriction à l'importation de voitures d'occasion","1000 voitures",{"$f":"+principale25!H116","v":0},{"$f":"+principale30!H116","v":0},{"$f":"+principale35!H116","v":0},{"$f":"+principale50!H116","v":0},null,null,null,null,null,null,null,null,null,null,null,null,null,null,null,null,{"$f":"MAX(I117:W117)*principale30!E116/1000","v":0}]
[null,"Nouvelles voies cyclables","1 km voie cyclable",{"$f":"+principale25!H117","v":50},{"$f":"+principale30!H117","v":100},{"$f":"+principale35!H117","v":100},{"$f":"+principale50!H117","v":1000},null,null,null,null,null,null,null,null,null,null,null,null,null,null,null,null,{"$f":"MAX(I118:W118)*principale30!E117/1000","v":0}]
[null,"Trois-roues électriques","1000 trois-roues",{"$f":"+principale25!H118","v":0},{"$f":"+principale30!H118","v":0},{"$f":"+principale35!H118","v":0},{"$f":"+principale50!H118","v":0},null,null,null,null,null,null,null,null,null,null,null,null,null,null,null,null,{"$f":"MAX(I119:W119)*principale30!E118/1000","v":0}]
[null,"Deux-roues électriques","1000 trois-roues",{"$f":"+principale25!H119","v":0},{"$f":"+principale30!H119","v":0},{"$f":"+principale35!H119","v":0},{"$f":"+principale50!H119","v":0},null,null,null,null,null,null,null,null,null,null,null,null,null,null,null,null,{"$f":"MAX(I120:W120)*principale30!E119/1000","v":0}]
[null,"Meilleur entretien et utilisation des motos","1000 motos",{"$f":"+principale25!H120","v":0},{"$f":"+principale30!H120","v":0},{"$f":"+principale35!H120","v":0},{"$f":"+principale50!H120","v":0},null,null,null,null,null,null,null,null,null,null,null,null,null,null,null,null,{"$f":"MAX(I121:W121)*principale30!E120/1000","v":0}]
["Éolien","Éoliennes on-shore","1 MW",{"$f":"+principale25!H121","v":10000},{"$f":"+principale30!H121","v":16000},{"$f":"+principale35!H121","v":25000},{"$f":"+principale50!H121","v":50000},null,null,null,null,null,null,null,null,null,null,null,null,null,null,null,null,{"$f":"MAX(I122:W122)*principale30!E121/1000","v":0}]
[null,"Éoliennes on-shore avec stockage 24h ","1 MW",{"$f":"+principale25!H122","v":0},{"$f":"+principale30!H122","v":0},{"$f":"+principale35!H122","v":0},{"$f":"+principale50!H122","v":0},null,null,null,null,null,null,null,null,null,null,null,null,null,null,null,null,{"$f":"MAX(I123:W123)*principale30!E106/1000","v":0}]
[null,"Éoliennes off-shore","1 MW",{"$f":"+principale25!H123","v":0},{"$f":"+principale30!H123","v":0},{"$f":"+principale35!H123","v":0},{"$f":"+principale50!H123","v":0},null,null,null,null,null,null,null,null,null,null,null,null,null,null,null,null,{"$f":"MAX(I124:W124)*principale30!E107/1000","v":0}]
[null,null,null,null,null,null,null,null,null,null,null,null,null,null,null,null,null,null,null,null,null,null,null,{"$f":"SUM(X6:X124)","v":0},{"$f":"SUM(Y6:Y124)","v":0},{"$f":"SUM(Z6:Z124)","v":0}]
["Options de réductions de GES:",{"$f":"COUNTA(B6:B124)","v":119}]

{"sheet":"Agriculture","index":18,"n_rows":196,"n_cols":17,"rows_kept":196,"cut":false,"hidden":false,"merged":[[0,0,0,3],[1,0,1,3],[45,5,45,7],[2,0,2,3],[3,0,3,3],[5,0,5,3],[6,0,6,3],[151,5,151,7],[151,14,151,16],[72,5,72,7],[177,5,177,7],[7,0,7,3],[12,5,12,7],[100,5,100,7],[126,5,126,7]]}
["Menu pour les options agricoles (cliquez sur les liens ci-dessous)"]
["Réduction du CH4 des cultures de riz"]
["Traitement du tabac (100 t tabac/an)"]
["Couverture de cultures (1000 ha)"]
["Couverture des dépôts lisier (1 dépôt de lisier)"]
["Inhibiteurs de nitrification (1000 ha)"]
["Supplémentation en matières grasses dans l'alimentation des ruminants (% de matières grasses DM ajoutées)"]
["Culture sans labour"]
[]
[]
[]
["Réduction du CH4 des cultures de riz (1000 ha)"]
["Coûts en","Option de","Option de ","Augmentation",null,"Entrées générales:"]
["US$","Réduction","Référence","(Réd.-Réf.)",null,"Taux d'actualisation ",{"$f":"+DiscountRate","v":7.0000000000000007E-2}]
["Investissement total",{"$f":"G21/G27*1000000","v":1337792.6421404681},26216,null,null,"PRP (GWP) du CH4",{"$f":"+Hypothèses!E55","v":21}]
["Durée de vie du projet",20,20,null,null,"Facteur d'émission CH4 journarlier ",1.3,"kgCH4/ha/jour"]
["Investissements nivelés",{"$f":"IF(B16=0,0,PMT($G14,B16,-B15))","v":126278.16152943905},{"$f":"IF(C16=0,0,PMT($G14,C16,-C15))","v":2474.6049412851912},{"$f":"B17-C17","v":123803.55658815386},null,"Période de cultivation ",200,"jours/année"]
["O&M annuelle ",{"$f":"B15*G22","v":0},null,{"$f":"B18-C18","v":0},null,"Surface de cultivation",1000,"ha"]
["Coût annuel carburant",null,null,{"$f":"B19-C19","v":0}]
["Coûts totaux annuel",{"$f":"SUM(B17:B19)","v":126278.16152943905},{"$f":"+C15","v":26216},{"$f":"B20-C20","v":100062.16152943905},null,"Option de réduction: Culture de riz avec irrigation contrôlé"]
[null,null,null,null,null,"Coût d'opportunité",1.2,"US$/ton CO2e"]
["Émissions annuelles (tonnes)","Tonnes","Tonnes","Réduction",null,"O&M  "]
["Éq.-CO2 d'émission de carburant",null,null,{"$f":"C23-B23","v":0},null,"Facteur d'échelle (doubles cultures)",1.73,"Aération simple"]
["Émission de CH4",{"$f":"G17*G18*G27*G15/G18","v":3767.3999999999996},{"$f":"G33*G18*G17*G15/1000","v":6333.6},null,null,"Facteur d'échelle (doubles cultures)",1.5,"Aération multiple"]
["Émission total CO2-éq. ",{"$f":"B23+B24","v":3767.3999999999996},{"$f":"C23+C24","v":6333.6},{"$f":"C25-B25","v":2566.2000000000007},null,"Facteur d'échelle (culture unique)",0.69,"Aération simple"]
[null,null,null,null,null,"Facteur d'échelle (culture unique)",0.6,"Aération multiple"]
[null,null,null,null,null,"Facteur d'émission quotidien de CH4",{"$f":"G16*G25","v":0.89699999999999991},"kgCH4/ha/jour"]
["US$/ton CO2-eq.",null,null,1.2,null,"N'oubliez pas de choisir le bon facteur d'échelle"]
[]
[null,null,null,null,null,"Option de référence:Culture de riz normale"]
[null,null,null,null,null,"Facteur d'échelle (doubles cultures)",2.88]
[null,null,null,null,null,"Facteur d'échelle (culture unique)",1.1599999999999999]
[null,null,null,null,null,"Facteur d'émission quotidien de CH4",{"$f":"G16*G32","v":1.508},"kgCH4/ha/day"]
[null,null,null,null,null,"N'oubliez pas de choisir le bon facteur d'échelle"]
[]
[]
[]
[]
[]
[]
[]
[]
[]
[]
["Traitement du tabac (100 t tabac/an)"]
["Coûts en","Option de","Option de ","Augmentation",null,"Entrées générales:"]
["US$","Réduction","Référence","(Réd.-Réf.)",null,"Taux d'actualisation ",{"$f":"+DiscountRate","v":7.0000000000000007E-2}]
["Investissement total",{"$f":"G54","v":3231.707317073171},{"$f":"G63","v":1219.5121951219514},null,null,"PRP du CH4",{"$f":"+Hypothèses!E55","v":21},"Ton CO2"]
["Durée de vie du projet",20,20,null,null,"Facteur d'émissions de CO2 de carburant",{"$f":"+Hypothèses!C43","v":94.600000000000009},"kgCO2/GJ charbon"]
["Investissements nivelés",{"$f":"IF(B49=0,0,PMT($G$47,B49,-B48))","v":305.05030880442388},{"$f":"IF(C49=0,0,PMT($G$47,C49,-C48))","v":115.1133240771411},{"$f":"B50-C50","v":189.93698472728278},null,"Pouvoir calorifique du charbon",{"$f":"+Hypothèses!J22","v":24.96},"GJ/ton"]
["O&M annuelle ",{"$f":"B48*G55","v":32.31707317073171},{"$f":"C48*G55","v":12.195121951219514},{"$f":"B51-C51","v":20.121951219512198},null,"Prix du charbon",{"$f":"+Hypothèses!J20","v":2.0032051282051282},"US$/GJ"]
["Coût annuel carburant",{"$f":"G60*G51","v":5600},{"$f":"G67*G51","v":17500},{"$f":"B52-C52","v":-11900}]
["Coûts totaux annuel",{"$f":"SUM(B50:B52)","v":5937.3673819751557},{"$f":"SUM(C50:C52)","v":17627.308446028361},{"$f":"B53-C53","v":-11689.941064053204},null,"Option de réduction: Étable de tabac efficace"]
[null,null,null,null,null,"Investment",{"$f":"26500/8.2","v":3231.707317073171},"US$"]
["Émissions annuelles (tonnes)","Tonnes","Tonnes","Réduction",null,"O&M  ",0.01,"de l'investissement"]
["Éq.-CO2 d'émission de carburant",{"$f":"G60*G49/1000","v":264.45619200000004},{"$f":"G67*G49/1000","v":826.42560000000014},{"$f":"C56-B56","v":561.96940800000016},null,"Activité",1,"grange"]
["Autres",null,null,null,null,"1 lot de tabac",3500,"kg"]
["Émission total CO2-éq. ",{"$f":"B56+B57","v":264.45619200000004},{"$f":"C56+C57","v":826.42560000000014},{"$f":"C58-B58","v":561.96940800000016},null,"Dans 1 étable",20,"lots pas année"]
[null,null,null,null,null,"1 kg de tabac requière",1.6,"kg de charbon"]
["US$/ton CO2-eq.",null,null,{"$f":"IF(D58<>0,D53/D58,0)","v":-20.801739200816428},null,"Consommation annuelle de charbon",{"$f":"G57*G58*G59*G50/1000","v":2795.52},"GJ"]
[]
[null,null,null,null,null,"Option de référence: Vieille étable de tabac"]
[null,null,null,null,null,"Investissement",{"$f":"10000/8.2","v":1219.5121951219514},"US$"]
[null,null,null,null,null,"1 lot de tabac",{"$f":"G57","v":3500},"kg"]
[null,null,null,null,null,"Dans 1 étable",20,"lots par année"]
[null,null,null,null,null,"1 kg de tabac requière",5,"kg de charbon"]
[null,null,null,null,null,"Consommation annuelle de charbon",{"$f":"G64*G65*G66*G50/1000","v":8736},"GJ"]
[]
[]
[]
[]
["Couverture de cultures (1000 ha)"]
["Coûts en","Option de","Option de ","Augmentation",null,"Entrées générales:"]
["US$","Réduction","Référence","(Réd.-Réf.)",null,"Taux d'actualisation ",{"$f":"+DiscountRate","v":7.0000000000000007E-2}]
["Investissement total",null,null,{"$f":"B75-C75","v":0},null,"PRP du CH4",{"$f":"+Hypothèses!E55","v":21},"Ton CO2"]
["Durée de vie du projet",null,null,null,null,"PRP du N2O",{"$f":"+Hypothèses!E56","v":310},"Ton CO2"]
["Investissements nivelés",null,null,{"$f":"B77-C77","v":0},null,"1 Euro=",1.1499999999999999,"US$"]
["O&M annuelle ",{"$f":"(G81+G82+G83)*G77*1000","v":120749.99999999999},{"$f":"C75*G86","v":0},{"$f":"B78-C78","v":120749.99999999999},null,"Option de réduction: Couverture de cultures"]
["Coût annuel carburant",null,null,{"$f":"B79-C79","v":0},null,"Augmentation du carbone dans les sols",1,"tCO2e/ha/an"]
["Coûts totaux annuel",{"$f":"SUM(B77:B79)","v":120749.99999999999},{"$f":"SUM(C77:C79)","v":0},{"$f":"B80-C80","v":120749.99999999999},null,"Reduction direct et indirect N>N2O",0.49,"tCO2e/ha/an"]
[null,null,null,null,null,"Achat de semences",70,"EUR/ha/an"]
["Émissions annuelles (tonnes)","Tonnes","Tonnes","Réduction",null,"Cultivation",76,"EUR/ha/an"]
["Éq.-CO2 d'émission de carburant",null,null,{"$f":"C83-B83","v":0},null,"Réduction d'achat de fertiliseurs",-41,"EUR/ha/an"]
["Autres",null,{"$f":"(G79+G80)*1000","v":1490},{"$f":"C84-B84","v":1490},null,"Activité",1000,"ha/année"]
["Émission total CO2-éq. ",{"$f":"SUM(B83:B84)","v":0},{"$f":"SUM(C83:C84)","v":1490},{"$f":"C85-B85","v":1490},null,"Option de référence: Culture normale"]
[]
["US$/ton CO2-eq.",null,null,{"$f":"IF(D85<>0,D80/D85,0)","v":81.040268456375827}]
[]
[]
[]
[]
[]
[]
[]
[]
[]
[]
[]
[]
["Inhibiteurs de nitrification (1000 ha)"]
["Coûts en","Option de","Option de ","Augmentation",null,"Entrées générales:"]
["US$","Réduction","Référence","(Réd.-Réf.)",null,"Taux d'actualisation ",{"$f":"+DiscountRate","v":7.0000000000000007E-2}]
["Investissement total",null,null,{"$f":"B103-C103","v":0},null,"PRP du CH4",{"$f":"+Hypothèses!E55","v":21},"Ton CO2"]
["Durée de vie du projet",null,null,null,null,"PRP du N2O",{"$f":"+Hypothèses!E56","v":310},"Ton CO2"]
["Investissements nivelés",null,null,{"$f":"B105-C105","v":0},null,"1 Euro=",1.1499999999999999,"US$"]
["O&M annuelle ",{"$f":"G109*G105*1000","v":53474.999999999993},null,{"$f":"B106-C106","v":53474.999999999993},null,"Option de réduction: Utilisation d'inhibiteurs de nitrification"]
["Coût annuel carburant",null,null,{"$f":"B107-C107","v":0},null,"Réduction du N2O dans le sol",0.3,"tCO2e/ha/an"]
["Coûts totaux annuel",{"$f":"SUM(B105:B107)","v":53474.999999999993},{"$f":"SUM(C105:C107)","v":0},{"$f":"B108-C108","v":53474.999999999993},null,"Réduction direct et indirect N>N2O",0.49,"tCO2e/ha/an"]
[null,null,null,null,null,"Achat d'inhibiteurs",{"$f":"(32+61)/2","v":46.5},"EUR/ha/an"]
["Émissions annuelles (tonnes)","Tonnes","Tonnes","Réduction",null,"Activité",1000,"ha/an"]
["Éq.-CO2 d'émission de carburant",null,null,{"$f":"C111-B111","v":0}]
["Autres",null,{"$f":"(G107+G108)*1000","v":790},{"$f":"C112-B112","v":790},null,"Reference option: Normal crops"]
["Émission total CO2-éq. ",{"$f":"SUM(B111:B112)","v":0},{"$f":"SUM(C111:C112)","v":790},{"$f":"C113-B113","v":790}]
[]
["US$/ton CO2-eq.",null,null,{"$f":"IF(D113<>0,D108/D113,0)","v":67.689873417721515}]
[]
[]
[]
[]
[]
[]
[]
[]
[]
[]
["Couverture des dépôts lisier (1 dépôt de lisier)"]
["Coûts en","Option de","Option de ","Augmentation",null,"Entrées générales:"]
["US$","Réduction","Référence","(Réd.-Réf.)",null,"Taux d'actualisation ",{"$f":"+DiscountRate","v":7.0000000000000007E-2}]
["Investissement total",{"$f":"+G133","v":2000},null,{"$f":"B129-C129","v":2000},null,"PRP du CH4",{"$f":"+Hypothèses!E55","v":21},"Ton CO2"]
["Durée de vie du projet",20,null,null,null,"PRP du N2O",{"$f":"+Hypothèses!E56","v":310},"Ton CO2"]
["Investissements nivelés",{"$f":"IF(B49=0,0,PMT($G$128,B130,-B129))","v":188.78585148651138},null,{"$f":"B131-C131","v":188.78585148651138},null,"Aire du dépôt de lisier",3000,"m3"]
["O&M annuelle ",null,null,{"$f":"B132-C132","v":0},null,"Option de réduction: nouveau dépôt de lisier"]
["Coût annuel carburant",null,null,{"$f":"B133-C133","v":0},null,"Coût de couverture des dépôts de lisier",2000,"US$"]
["Coûts totaux annuel",{"$f":"SUM(B131:B133)","v":188.78585148651138},{"$f":"SUM(C131:C133)","v":0},{"$f":"B134-C134","v":188.78585148651138}]
[null,null,null,null,null,"Option de référence: Aucune couverture de liser"]
["Émissions annuelles (tonnes)","Tonnes","Tonnes","Réduction",null,"Densité du lisier",1.22,"ton/m3"]
["Éq.-CO2 d'émission de carburant",null,null,{"$f":"C137-B137","v":0},null,"Facteur d'émission de N2O du lisier",5.5E-2,"kgCO2e/ton"]
["Autres",null,{"$f":"G138","v":0.20130000000000001},{"$f":"C138-B138","v":0.20130000000000001},null,"Émissions de N2 du lisier",{"$f":"G137*G131/1000*G136","v":0.20130000000000001},"tonCO2e"]
["Émission total CO2-éq. ",{"$f":"SUM(B137:B138)","v":0},{"$f":"SUM(C137:C138)","v":0.20130000000000001},{"$f":"C139-B139","v":0.20130000000000001}]
[]
["US$/ton CO2-eq.",null,null,{"$f":"IF(D139<>0,D134/D139,0)","v":937.83334071789056}]
[]
[]
[]
[]
[]
[]
[]
[]
[]
["Supplémentation en matières grasses dans l'alimentation des ruminants (% de matières grasses DM ajoutées) en 2025",null,null,null,null,null,null,null,null,"Supplémentation en matières grasses dans l'alimentation des ruminants (% de matières grasses DM ajoutées) en 2030"]
["Coûts en","Option de","Option de ","Augmentation",null,"Entrées générales:",null,null,null,"Coûts en","Option de","Option de ","Augmentation",null,"Entrées générales:"]
["US$","Réduction","Référence","(Réd.-Réf.)",null,"Taux d'actualisation ",{"$f":"+DiscountRate","v":7.0000000000000007E-2},null,null,"US$","Réduction","Référence","(Réd.-Réf.)",null,"Taux d'actualisation ",{"$f":"+DiscountRate","v":7.0000000000000007E-2}]
["Investissement total",null,null,{"$f":"B154-C154","v":0},null,"PRP du CH4",{"$f":"+Hypothèses!E55","v":21},"Ton CO2",null,"Investissement total",null,null,{"$f":"K154-L154","v":0},null,"PRP du CH4",{"$f":"+Hypothèses!E55","v":21},"Ton CO2"]
["Durée de vie du projet",null,null,null,null,"PRP du N2O",{"$f":"+Hypothèses!E56","v":310},"Ton CO2",null,"Durée de vie du projet",null,null,null,null,"PRP du N2O",{"$f":"+Hypothèses!E56","v":310},"Ton CO2"]
["Investissements nivelés",null,null,{"$f":"B156-C156","v":0},null,"1 Euro=",1.1499999999999999,"US$",null,"Investissements nivelés",null,null,{"$f":"K156-L156","v":0},null,"1 Euro=",1.1499999999999999,"US$"]
["O&M annuelle ",{"$f":"C164*D166","v":349066.26005139388},null,{"$f":"B157-C157","v":349066.26005139388},null,"Option de réduction: utilisation d'ihnibiteurs de nitrification",null,null,null,"O&M annuelle ",{"$f":"L164*M166","v":404663.46549044258},null,{"$f":"K157-L157","v":404663.46549044258},null,"Option de réduction: utilisation d'ihnibiteurs de nitrification"]
["Coût annuel carburant",null,null,{"$f":"B158-C158","v":0},null,"Rapport coût-efficacité. ",70,"Euro/tCO2-eq",null,"Coût annuel carburant",null,null,{"$f":"K158-L158","v":0},null,"Rapport coût-efficacité. ",70,"Euro/tCO2-eq"]
["Coûts totaux annuel",{"$f":"SUM(B156:B158)","v":349066.26005139388},{"$f":"SUM(C156:C158)","v":0},{"$f":"B159-C159","v":349066.26005139388},null,"Gras ajouté dans l'alimentation",3,"%DM fat added",null,"Coûts totaux annuel",{"$f":"SUM(K156:K158)","v":404663.46549044258},{"$f":"SUM(L156:L158)","v":0},{"$f":"K159-L159","v":404663.46549044258},null,"Gras ajouté dans l'alimentation",3,"%DM fat added"]
[null,null,null,null,null,"1% gras ajouté",0.04,"Reduction in CH4",null,null,null,null,null,null,"1% gras ajouté",0.04,"Reduction in CH4"]
["Émissions annuelles (tonnes)","Tonnes","Tonnes","Réduction",null,"Fermentation entérique du CH4",{"$f":"+'Bilan 2025'!B88","v":36135.22360780475},"ktCO2-eq.",null,"Émissions annuelles (tonnes)","Tonnes","Tonnes","Réduction",null,"Fermentation entérique du CH4",{"$f":"+'Bilan 2030'!B88","v":41890.627897561346},"ktCO2-eq."]
["Éq.-CO2 d'émission de carburant",null,null,{"$f":"C162-B162","v":0},null,"Réduction des émissions de CH4",{"$f":"G159*G160*G161","v":4336.2268329365697},"ktCO2-eq.",null,"Éq.-CO2 d'émission de carburant",null,null,{"$f":"L162-K162","v":0},null,"Réduction des émissions de CH4",{"$f":"P159*P160*P161","v":5026.8753477073615},"ktCO2-eq."]
["Autres",null,{"$f":"G162","v":4336.2268329365697},{"$f":"C163-B163","v":4336.2268329365697},null,null,null,null,null,"Autres",null,{"$f":"P162","v":5026.8753477073615},{"$f":"L163-K163","v":5026.8753477073615}]
["Émission total CO2-éq. ",{"$f":"SUM(B162:B163)","v":0},{"$f":"SUM(C162:C163)","v":4336.2268329365697},{"$f":"C164-B164","v":4336.2268329365697},null,"Option de référence: culture normale",null,null,null,"Émission total CO2-éq. ",{"$f":"SUM(K162:K163)","v":0},{"$f":"SUM(L162:L163)","v":5026.8753477073615},{"$f":"L164-K164","v":5026.8753477073615},null,"Option de référence: culture normale"]
[]
["US$/ton CO2-eq.",null,null,{"$f":"+G158*G156","v":80.5},null,null,null,null,null,"US$/ton CO2-eq.",null,null,{"$f":"+P158*P156","v":80.5}]
[]
[]
[]
[]
[]
[]
[]
[]
[]
[]
["Culture sans labour vs. labour sur les fermes commerciales (1000 ha)"]
["Coûts en","Option de","Option de ","Augmentation",null,"General inputs:"]
["US$","Réduction","Référence","(Réd.-Réf.)",null,"Taux d'actualisation ",{"$f":"+DiscountRate","v":7.0000000000000007E-2}]
["Investissement total",null,{"$f":"G189*G190*G191*G192/216","v":17445.138888888887},{"$f":"B180-C180","v":-17445.138888888887},null,"PRP du CH4",{"$f":"+Hypothèses!E55","v":21},"Ton CO2"]
["Durée de vie du projet",null,15,null,null,"Facteur d'émissons de CO2 du carburant",{"$f":"+Hypothèses!C37","v":74.066666666666663},"kgCO2/GJ diesel"]
["Investissements nivelés",{"$f":"IF(B181=0,0,PMT($G$179,B181,-B180))","v":0},{"$f":"IF(C181=0,0,PMT($G$179,C181,-C180))","v":1915.3824771624897},{"$f":"B182-C182","v":-1915.3824771624897},null,"Prix du diesel ",{"$f":"+Hypothèses!F19","v":0.37735849056603771},"US$/litre"]
["O&M annuelle ",{"$f":"B180*G188","v":0},{"$f":"C180*G188","v":348.90277777777777},{"$f":"B183-C183","v":-348.90277777777777}]
["Coût annuel carburant",null,{"$f":"G192*G193*G182","v":12000},{"$f":"B184-C184","v":-12000},null,"Option de réduction: sans labour"]
["Coûts totaux annuel",{"$f":"SUM(B182:B184)","v":0},{"$f":"SUM(C182:C184)","v":14264.285254940267},{"$f":"B185-C185","v":-14264.285254940267},null,"Activité",1000,"ha/année"]
[]
["Émissions annuelles (tonnes)","Tonnes","Tonnes","Réduction",null,"Option de réference: labour nornale"]
["Éq.-CO2 d'émission de carburant",0,{"$f":"G192*G193/1000*G194*G195*G181/1000","v":85.727053103999992},{"$f":"C188-B188","v":85.727053103999992},null,"O&M  ",0.02,"de l'investissement"]
["Autres",null,null,null,null,"Activité",1,"tracteur"]
["Émission total CO2-éq. ",{"$f":"B188","v":0},{"$f":"C188","v":85.727053103999992},{"$f":"C190-B190","v":85.727053103999992},null,"Coût du tracteur + charrue",25121,"US$"]
[null,null,null,null,null,"Fraction du tracteur utilisé pour le labour",0.15]
["US$/ton CO2-eq.",null,null,{"$f":"IF(D190<>0,D185/D190,0)","v":-166.39187675838468},null,"Surface labouré par le tracteur",{"$f":"G185","v":1000},"ha/an"]
[null,null,null,null,null,"Diesel utilisé",31.8,"l/ha"]
[null,null,null,null,null,"Densité du diesel",{"$f":"+Hypothèses!F21","v":0.84},"t/m3"]
[null,null,null,null,null,"Energie contenu dans le diesel",{"$f":"+Hypothèses!F22","v":43.33},"GJ/t"]
[null,null,null,null,null,"Utilisation de diesel annuel",{"$f":"42.7*0.84/1000*G192*G193","v":1140.6024},"GJ"]

{"sheet":"Energie biomasse","index":19,"n_rows":93,"n_cols":35,"rows_kept":93,"cut":false,"hidden":false,"merged":[[7,5,7,7],[14,5,14,7],[29,5,29,7],[0,0,0,3],[1,0,1,3],[2,0,2,3],[3,0,3,3],[40,14,40,16],[40,32,40,34],[76,5,76,7],[40,5,40,7],[71,5,71,7],[40,23,40,25]]}
["Menu pour les options d'énergie biomasse (cliquez sur les liens ci-dessous)"]
["1 MW de biomasse à partir d'écorce de riz (fournit de la vapeur pour l'industrie)"]
["1 MW Production électrique à partir des résidus de biomasse (réseau de chauffage urbain)"]
["Production électrique à partir des résidus de biomasse - 100 kt bagasse/an"]
[]
[]
["1 MW de biomasse à partir d'écorce de riz"]
["Coûts en","Option de","Option de ","Augmentation",null,"Entrées générales:"]
["US$","Réduction","Référence","(Réd.-Réf.)",null,"Taux d'actualisation",{"$f":"Hypothèses!$B$6","v":7.0000000000000007E-2}]
["Investissement total",{"$f":"G18*1000000/G17","v":986038.39441535762},null,null,null,"Prix de référence de l'électricité",{"$f":"+Hypothèses!C25","v":0.2},"US$/kWh"]
["Durée de vie du projet",25,null,null,null,"Coefficient d'émission CO2-éq. ",{"$f":"+Hypothèses!C30","v":0.48549999999999999},"tCO2/MWh"]
["Investissements nivelés",{"$f":"IF(B11=0,0,PMT($G$9,B11,-B10))","v":84612.464624216533},null,{"$f":"B12-C12","v":84612.464624216533},null,"Coefficient d'émission CO2-éq. (charbon)",{"$f":"+Hypothèses!C43","v":94.600000000000009},"kgCO2/GJ"]
["O&M annuelle ",{"$f":"B10*G16","v":39441.535776614306},null,{"$f":"B13-C13","v":39441.535776614306},null,"Prix du charbon",{"$f":"+Hypothèses!J20","v":2.0032051282051282},"US$/GJ"]
["Coût annuel carburant",{"$f":"G27*G28/G17","v":777650.93652843544},{"$f":"(G20*1000*G10+G33*G13)/G17","v":1753914.8257211538},{"$f":"B14-C14","v":-976263.88919271831}]
["Coûts totaux annuel",{"$f":"SUM(B12:B14)","v":901704.93692926632},{"$f":"SUM(C12:C14)","v":1753914.8257211538},{"$f":"B15-C15","v":-852209.88879188744},null,"Option de réduction: Centrale de cosse de riz"]
[null,null,null,null,null,"O&M  ",0.04]
["Émissions annuelles (tonnes)","Tonnes","Tonnes","Réduction",null,"Activité",6,"MW"]
["Éq.-CO2 d'émission de carburant",null,{"$f":"G20*G11/G17+G33*G12/1000/G17","v":9719.0247425999987},{"$f":"C18-B18","v":9719.0247425999987},null,"Investissement dans l'activité",{"$f":"271.2/45.84","v":5.9162303664921456},"Million US$"]
["Émission de CH4",null,null,null,null,"Facteur de capacité",8160,"Temps total heures"]
["Émission total CO2-éq. ",{"$f":"B18+B19","v":0},{"$f":"C18+C19","v":9719.0247425999987},{"$f":"C20-B20","v":9719.0247425999987},null,"Production d'électricité",{"$f":"G17*G19","v":48960},"MWh/ an"]
[null,null,null,null,null,"Production de vapeur",12,"TPH"]
["US$/ton CO2-eq.",null,null,{"$f":"IF(D20<>0,D15/D20,0)","v":-87.684712341200125},null,"Enthalpie de vapeur",2778.99,"MJ/tonne vapeur"]
[null,null,null,null,null,"Énergie vapeur nécessaire",{"$f":"G22*G21*24*365/1000","v":292127.42879999994},"GJ/an"]
[null,null,null,null,null,"Pouvoir calorifique de la cosse de riz",{"$f":"3.1*4.1868","v":12.97908},"GJ/t"]
[null,null,null,null,null,"Efficacité energétique de la centrale",0.2]
[null,null,null,null,null,"Usage spécifique de la cosse de riz",{"$f":"1/G25*3.6/G24","v":1.386847141708041},"tonne de cosse de riz /MWh"]
[null,null,null,null,null,"Utilisation totale de cosse de riz",{"$f":"G26*G20","v":67900.036058025682},"tonne de cosse de riz/an"]
[null,null,null,null,null,"Prix de la cosse de riz",{"$f":"3150/45.84","v":68.717277486910987},"$/tonne"]
[]
[null,null,null,null,null,"Option de référence: Réseau électrique et chaudière à charbon"]
[null,null,null,null,null,"Énergie vapeur nécessaire",{"$f":"G23","v":292127.42879999994},"GJ/an"]
[null,null,null,null,null,"Efficacité de la chaudière à charbon",0.8]
[null,null,null,null,null,"Apport de charbon nécessaire",{"$f":"G31/G32","v":365159.28599999991},"GJ/an"]
[]
[]
[]
[]
[]
[]
["1 MW Production électrique à partir des résidus de biomasse - 2025",null,null,null,null,null,null,null,null,"1 MW Production électrique à partir des résidus de biomasse - 2030",null,null,null,null,null,null,null,null,"1 MW Production électrique à partir des résidus de biomasse - 2035",null,null,null,null,null,null,null,null,"1 MW Production électrique à partir des résidus de biomasse - 2050"]
["Coûts en","Option de","Option de ","Augmentation",null,"Entrées générales:",null,null,null,"Coûts en","Option de","Option de ","Augmentation",null,"Entrées générales:",null,null,null,"Coûts en","Option de","Option de ","Augmentation",null,"Entrées générales:",null,null,null,"Coûts en","Option de","Option de ","Augmentation",null,"Entrées générales:"]
["US$","Réduction","Référence","(Réd.-Réf.)",null,"Taux d'actualisation",{"$f":"Hypothèses!$B$6","v":7.0000000000000007E-2},null,null,"US$","Réduction","Référence","(Réd.-Réf.)",null,"Taux d'actualisation",{"$f":"Hypothèses!$B$6","v":7.0000000000000007E-2},null,null,"US$","Réduction","Référence","(Réd.-Réf.)",null,"Taux d'actualisation",{"$f":"Hypothèses!$B$6","v":7.0000000000000007E-2},null,null,"US$","Réduction","Référence","(Réd.-Réf.)",null,"Taux d'actualisation",{"$f":"Hypothèses!$B$6","v":7.0000000000000007E-2}]
["Investissement total",{"$f":"G49*1000/G48","v":2844940.4761904762},null,null,null,"Prix de référence de l'électricité",{"$f":"+Hypothèses!C25","v":0.2},"US$/kWh",null,"Investissement total",{"$f":"P49*1000/P48","v":2713690.4761904762},null,null,null,"Prix de référence de l'électricité",{"$f":"+Hypothèses!C25","v":0.2},"US$/kWh",null,"Investissement total",{"$f":"Y49*1000/Y48","v":2713690.4761904762},null,null,null,"Prix de référence de l'électricité",{"$f":"+Hypothèses!C25","v":0.2},"US$/kWh",null,"Investissement total",{"$f":"AH49*1000/AH48","v":2322619.0476190476},null,null,null,"Prix de référence de l'électricité",{"$f":"+Hypothèses!C25","v":0.2},"US$/kWh"]
["Durée de vie du projet",20,null,null,null,"Coefficient d'émission CO2-éq. ",{"$f":"+Hypothèses!C30","v":0.48549999999999999},"tCO2/MWh",null,"Durée de vie du projet",20,null,null,null,"Coefficient d'émission CO2-éq. ",{"$f":"+Hypothèses!C30","v":0.48549999999999999},"tCO2/MWh",null,"Durée de vie du projet",20,null,null,null,"Coefficient d'émission CO2-éq. ",{"$f":"+Hypothèses!C30","v":0.48549999999999999},"tCO2/MWh",null,"Durée de vie du projet",20,null,null,null,"Coefficient d'émission CO2-éq. ",{"$f":"+Hypothèses!C30","v":0.48549999999999999},"tCO2/MWh"]
["Investissements nivelés",{"$f":"IF(B44=0,0,PMT($G$42,B44,-B43))","v":268542.25511303009},null,{"$f":"B45-C45","v":268542.25511303009},null,null,null,null,null,"Investissements nivelés",{"$f":"IF(K44=0,0,PMT($P$42,K44,-K43))","v":256153.1836092278},null,{"$f":"K45-L45","v":256153.1836092278},null,null,null,null,null,"Investissements nivelés",{"$f":"IF(T44=0,0,PMT($P$42,T44,-T43))","v":256153.1836092278},null,{"$f":"T45-U45","v":256153.1836092278},null,null,null,null,null,"Investissements nivelés",{"$f":"IF(AC44=0,0,PMT($AH$42,AC44,-AC43))","v":219238.807291776},null,{"$f":"AC45-AD45","v":219238.807291776}]
["O&M annuelle ",{"$f":"B43*G47","v":113797.61904761905},null,{"$f":"B46-C46","v":113797.61904761905},null,"Option de réduction: Centrale de résidus de biomasse",null,null,null,"O&M annuelle ",{"$f":"K43*P47","v":108547.61904761905},null,{"$f":"K46-L46","v":108547.61904761905},null,"Option de réduction: Centrale de résidus de biomasse",null,null,null,"O&M annuelle ",{"$f":"T43*Y47","v":108547.61904761905},null,{"$f":"T46-U46","v":108547.61904761905},null,"Option de réduction: Centrale de résidus de biomasse",null,null,null,"O&M annuelle ",{"$f":"AC43*AH47","v":92904.761904761908},null,{"$f":"AC46-AD46","v":92904.761904761908},null,"Option de réduction: Centrale de résidus de biomasse"]
["Coût annuel carburant",{"$f":"G55*G56/G48","v":169541.47105483053},{"$f":"G51/G48*G43*1000","v":1000000},{"$f":"B47-C47","v":-830458.52894516941},null,"O&M  ",0.04,null,null,"Coût annuel carburant",{"$f":"P55*P56/P48","v":169541.47105483053},{"$f":"P51/P48*P43*1000","v":1000000},{"$f":"K47-L47","v":-830458.52894516941},null,"O&M  ",0.04,null,null,"Coût annuel carburant",{"$f":"Y55*Y56/Y48","v":169541.47105483053},{"$f":"Y51/Y48*Y43*1000","v":1000000},{"$f":"T47-U47","v":-830458.52894516941},null,"O&M  ",0.04,null,null,"Coût annuel carburant",{"$f":"AH55*AH56/AH48","v":169541.47105483053},{"$f":"AH51/AH48*AH43*1000","v":1000000},{"$f":"AC47-AD47","v":-830458.52894516941},null,"O&M  ",0.04]
["Coûts totaux annuel",{"$f":"SUM(B45:B47)","v":551881.34521547961},{"$f":"SUM(C45:C47)","v":1000000},{"$f":"B48-C48","v":-448118.65478452039},null,"Activité",1,"MW",null,"Coûts totaux annuel",{"$f":"SUM(K45:K47)","v":534242.27371167741},{"$f":"SUM(L45:L47)","v":1000000},{"$f":"K48-L48","v":-465757.72628832259},null,"Activité",1,"MW",null,"Coûts totaux annuel",{"$f":"SUM(T45:T47)","v":534242.27371167741},{"$f":"SUM(U45:U47)","v":1000000},{"$f":"T48-U48","v":-465757.72628832259},null,"Activité",1,"MW",null,"Coûts totaux annuel",{"$f":"SUM(AC45:AC47)","v":481685.04025136842},{"$f":"SUM(AD45:AD47)","v":1000000},{"$f":"AC48-AD48","v":-518314.95974863158},null,"Activité",1,"MW"]
[null,null,null,null,null,"Investissement dans l'activité",2844.9404761904761,"Million US$",null,null,null,null,null,null,"Investissement dans l'activité",{"$f":"(2350+2209)/2/0.84","v":2713.6904761904761},"Million US$",null,null,null,null,null,null,"Investissement dans l'activité",{"$f":"(2350+2209)/2/0.84","v":2713.6904761904761},"Million US$",null,null,null,null,null,null,"Investissement dans l'activité",{"$f":"1951/0.84","v":2322.6190476190477},"Million US$"]
["Émissions annuelles (tonnes)","Tonnes","Tonnes","Réduction",null,"Facteur de capacité",5000,"Temps total heures",null,"Émissions annuelles (tonnes)","Tonnes","Tonnes","Réduction",null,"Facteur de capacité",5000,"Temps total heures",null,"Émissions annuelles (tonnes)","Tonnes","Tonnes","Réduction",null,"Facteur de capacité",5000,"Temps total heures",null,"Émissions annuelles (tonnes)","Tonnes","Tonnes","Réduction",null,"Facteur de capacité",5000,"Temps total heures"]
["Éq.-CO2 d'émission de carburant",null,{"$f":"G51*G44/G48","v":2427.5},{"$f":"C51-B51","v":2427.5},null,"Production d'électricité",{"$f":"G48*G50","v":5000},"MWh/an",null,"Éq.-CO2 d'émission de carburant",null,{"$f":"P51*P44/P48","v":2427.5},{"$f":"L51-K51","v":2427.5},null,"Production d'électricité",{"$f":"P48*P50","v":5000},"MWh/an",null,"Éq.-CO2 d'émission de carburant",null,{"$f":"Y51*Y44/Y48","v":2427.5},{"$f":"U51-T51","v":2427.5},null,"Production d'électricité",{"$f":"Y48*Y50","v":5000},"MWh/an",null,"Éq.-CO2 d'émission de carburant",null,{"$f":"AH51*AH44/AH48","v":2427.5},{"$f":"AD51-AC51","v":2427.5},null,"Production d'électricité",{"$f":"AH48*AH50","v":5000},"MWh/an"]
["Émission de CH4",null,null,null,null,"Valeur calorifique de la biomasse",12.97,"GJ/t",null,"Émission de CH4",null,null,null,null,"Valeur calorifique de la biomasse",12.97,"GJ/t",null,"Émission de CH4",null,null,null,null,"Valeur calorifique de la biomasse",12.97,"GJ/t",null,"Émission de CH4",null,null,null,null,"Valeur calorifique de la biomasse",12.97,"GJ/t"]
["Émission total CO2-éq. ",{"$f":"B51+B52","v":0},{"$f":"C51+C52","v":2427.5},{"$f":"C53-B53","v":2427.5},null,"Efficacité energétique de la centrale",0.3,null,null,"Émission total CO2-éq. ",{"$f":"K51+K52","v":0},{"$f":"L51+L52","v":2427.5},{"$f":"L53-K53","v":2427.5},null,"Efficacité energétique de la centrale",0.3,null,null,"Émission total CO2-éq. ",{"$f":"T51+T52","v":0},{"$f":"U51+U52","v":2427.5},{"$f":"U53-T53","v":2427.5},null,"Efficacité energétique de la centrale",0.3,null,null,"Émission total CO2-éq. ",{"$f":"AC51+AC52","v":0},{"$f":"AD51+AD52","v":2427.5},{"$f":"AD53-AC53","v":2427.5},null,"Efficacité energétique de la centrale",0.3]
[null,null,null,null,null,"Uage spécifique de biomasse",{"$f":"1/G53*3.6/G52","v":0.9252120277563608},"tonne biomasse/MWh",null,null,null,null,null,null,"Uage spécifique de biomasse",{"$f":"1/P53*3.6/P52","v":0.9252120277563608},"tonne biomasse/MWh",null,null,null,null,null,null,"Uage spécifique de biomasse",{"$f":"1/Y53*3.6/Y52","v":0.9252120277563608},"tonne biomasse/MWh",null,null,null,null,null,null,"Uage spécifique de biomasse",{"$f":"1/AH53*3.6/AH52","v":0.9252120277563608},"tonne biomasse/MWh"]
["US$/ton CO2-eq.",null,null,{"$f":"IF(D53<>0,D48/D53,0)","v":-184.60088765582714},null,"Utilisation de la biomasse",{"$f":"G54*G51","v":4626.0601387818042},"tonne/an",null,"US$/ton CO2-eq.",null,null,{"$f":"IF(M53<>0,M48/M53,0)","v":-191.86724048952527},null,"Utilisation de la biomasse",{"$f":"P54*P51","v":4626.0601387818042},"tonne/an",null,"US$/ton CO2-eq.",null,null,{"$f":"IF(V53<>0,V48/V53,0)","v":-191.86724048952527},null,"Utilisation de la biomasse",{"$f":"Y54*Y51","v":4626.0601387818042},"tonne/an",null,"US$/ton CO2-eq.",null,null,{"$f":"IF(AE53<>0,AE48/AE53,0)","v":-213.51800607564638},null,"Utilisation de la biomasse",{"$f":"AH54*AH51","v":4626.0601387818042},"tonne/an"]
[null,null,null,null,null,"Prix de la biomasse",{"$f":"280/7.64","v":36.649214659685867},"$/ton",null,null,null,null,null,null,"Prix de la biomasse",{"$f":"280/7.64","v":36.649214659685867},"$/ton",null,null,null,null,null,null,"Prix de la biomasse",{"$f":"280/7.64","v":36.649214659685867},"$/ton",null,null,null,null,null,null,"Prix de la biomasse",{"$f":"280/7.64","v":36.649214659685867},"$/ton"]
[null,null,null,null,null,"Coût de l'électricité produite",{"$f":"+B45/(G51/12)/1000","v":0.64450141227127222},"US$/kWh",null,null,null,null,null,null,"Coût de l'électricité produite",{"$f":"+K45/(P51/12)/1000","v":0.61476764066214673},"US$/kWh",null,null,null,null,null,null,"Coût de l'électricité produite",{"$f":"+T45/(Y51/12)/1000","v":0.61476764066214673},"US$/kWh",null,null,null,null,null,null,"Coût de l'électricité produite",{"$f":"+AC45/(AH51/12)/1000","v":0.52617313750026229},"US$/kWh"]
[]
[null,null,null,null,null,"Option de référence: Aucune production de biomasse",null,null,null,null,null,null,null,null,"Option de référence: Aucune production de biomasse",null,null,null,null,null,null,null,null,"Option de référence: Aucune production de biomasse",null,null,null,null,null,null,null,null,"Option de référence: Aucune production de biomasse"]
[]
[]
[]
[]
[]
[]
[]
[]
[]
[]
[]
["Production électrique à partir de bagasse - 100 kt bagasse/an"]
["Coûts en","Option de","Option de ","Augmentation",null,"General inputs:"]
["US$","Réduction","Référence","(Réd.-Réf.)",null,"Taux d'actualisation",{"$f":"Hypothèses!$B$6","v":7.0000000000000007E-2}]
["Investissement total",{"$f":"G81*1000000*100/G79","v":2429430.380556826},null,null,null,"Prix de référence de l'électricité",{"$f":"+Hypothèses!C25","v":0.2},"US$/kWh"]
["Durée de vie du projet",20,null,null,null,"Coefficient d'émission CO2-éq. ",{"$f":"+Hypothèses!C30","v":0.48549999999999999},"tCO2/MWh"]
["Investissements nivelés",{"$f":"IF(B75=0,0,PMT($G$73,B75,-B74))","v":229321.04151030988},null,{"$f":"B76-C76","v":229321.04151030988}]
["O&M annuelle ",{"$f":"B74*G78","v":97177.215222273036},null,{"$f":"B77-C77","v":97177.215222273036},null,"Option de réduction: Production électrique à partir de bagasse"]
["Coût annuel carburant",{"$f":"G90*G91*100/G79","v":150285.39367779472},{"$f":"G85*1000*G74*100/G79","v":2797714.2857142859},{"$f":"B78-C78","v":-2647428.8920364911},null,"O&M  ",0.04,"de l'investissement"]
["Coûts totaux annuel",{"$f":"SUM(B76:B78)","v":476783.65041037765},{"$f":"SUM(C76:C78)","v":2797714.2857142859},{"$f":"B79-C79","v":-2320930.635303908},null,"Capacité de broyage de bagasse",{"$f":"2500*210/1000","v":525},"kt canne/an"]
[null,null,null,null,null,"Activité",12,"MW"]
["Émissions annuelles (tonnes)","Tonnes","Tonnes","Réduction",null,"Investissement dans l'activité",{"$f":"211187/16557.83","v":12.754509497923337},"Million US$"]
["Éq.-CO2 d'émission de carburant",null,{"$f":"G85*G75*100/G79","v":6791.4514285714295},{"$f":"C82-B82","v":6791.4514285714295},null,"Facteur de capacité",7200,"Temps total heures"]
["Émission de CH4",null,null,null,null,"Production d'électricité",{"$f":"G80*G82","v":86400},"MWh/ an"]
["Émission total CO2-éq. ",{"$f":"B82+B83","v":0},{"$f":"C82+C83","v":6791.4514285714295},{"$f":"C84-B84","v":6791.4514285714295},null,"Électricité utilisée dans une sucrerie",12960,"MWh/ an"]
[null,null,null,null,null,"Électricité vendue au réseau",{"$f":"G83-G84","v":73440},"MWh/ an"]
["US$/ton CO2-eq.",null,null,{"$f":"IF(D84<>0,D79/D84,0)","v":-341.74294842775782},null,"Pouvoir calorifique de la biomasse",12.97,"GJ/t"]
[null,null,null,null,null,"Efficacité energétique de la centrale",0.18]
[null,null,null,null,null,"Specific use of biomass",{"$f":"(G89+G90)/G83","v":2.3289930555555554},"ton biomass/MWh"]
[null,null,null,null,null,"Use of bagasse",157678,"ton/an"]
[null,null,null,null,null,"Use of rice husk",43547,"ton/an"]
[null,null,null,null,null,"Price of rice husk",{"$f":"300000/16557.83","v":18.118316228636239},"$/ton"]
[]
[null,null,null,null,null,"Option de référence: Ancienne chaudière à bagasse"]

{"sheet":"Capture et stockage","index":20,"n_rows":22,"n_cols":8,"rows_kept":22,"cut":false,"hidden":false,"merged":[[7,5,7,7],[11,5,11,7],[0,0,0,3],[1,0,1,3]]}
["Menu pour les options de capture et stockage (cliquez sur les liens ci-dessous)"]
["Centrale électrique avec capture et stockage"]
[]
[]
[]
[]
["Centrale électrique CCS - 1 MW"]
["Coûts en","Option de","Option de ","Augmentation",null,"Entrées générales:"]
["US$","Réduction","Référence","(Réd.-Réf.)",null,"Taux d'actualisation",{"$f":"Hypothèses!$B$6","v":7.0000000000000007E-2}]
["Investissement total",{"$f":"G14/G13*1000000","v":12886597.93814433},{"$f":"G22*1000","v":1200000},{"$f":"B10-C10","v":11686597.93814433},null,"Coefficient d'émission CO2-éq. ",{"$f":"+Hypothèses!C30","v":0.48549999999999999},"tCO2/MWh"]
["Durée de vie du projet",20,20]
["Investissements nivelés",{"$f":"IF(B11=0,0,PMT($G9,B11,-B10))","v":1216403.6822584497},{"$f":"IF(C11=0,0,PMT($G9,C11,-C10))","v":113271.51089190683},{"$f":"B12-C12","v":1103132.1713665428},null,"Reduction option: centrale avec capture et stockage"]
["O&M annuelle ",0,0,{"$f":"B13-C13","v":0},null,"Activité",582,"MW"]
["Coût annuel carburant",0,0,{"$f":"B14-C14","v":0},null,"Coût de capture de stockage",7500,"MUS$"]
["Coûts totaux annuel",{"$f":"SUM(B12:B14)","v":1216403.6822584497},{"$f":"SUM(C12:C14)","v":113271.51089190683},{"$f":"B15-C15","v":1103132.1713665428},null,"Facteur de capacité",5000,"Temps total heures"]
[null,null,null,null,null,"Production d'électricité",{"$f":"G13*G15","v":2910000},"MWh/ an"]
["Émissions annuelles (tonnes)","Tonnes","Tonnes","Réduction",null,"Quantité de CO2 capturé",3.5,"MtCO2/an"]
["Éq.-CO2 d'émission de carburant",{"$f":"C18*(1-G18)","v":601.37457044673522},{"$f":"+G17*1000000/G13","v":6013.7457044673538},{"$f":"C18-B18","v":5412.3711340206182},null,"Pourcentage de CO2 capturé",0.9]
["Émission de CH4",null,null,null,null,"Production d'électricité",{"$f":"G16*G18","v":2619000},"MWh/ an"]
["Émission total CO2-éq. ",{"$f":"B18+B19","v":601.37457044673522},{"$f":"C18+C19","v":6013.7457044673538},{"$f":"C20-B20","v":5412.3711340206182}]
[null,null,null,null,null,"Option de référence: Pas de capture de stockage"]
["US$/ton CO2-eq.",null,null,{"$f":"IF(D20<>0,D15/D20,0)","v":203.81680118581841},null,"Coût d'une centrale au charbon",1200,"$/kW"]

{"sheet":"Ciment","index":21,"n_rows":35,"n_cols":8,"rows_kept":35,"cut":false,"hidden":false,"merged":[[6,5,6,7],[19,5,19,7],[0,0,0,3],[1,0,1,3]]}
["Menu les options dans l'industrie du ciment (cliquez sur les liens ci-dessous)"]
["Remplacement du clinker dans la production de ciment (1000 tonnes ciment mélangé/jour)"]
[]
[]
[]
["Remplacement du clinker dans la production de ciment (1000 tonnes ciment mélangé/jour)"]
["Coûts en","Option de","Option de ","Augmentation",null,"Entrées générales:"]
["US$","Réduction","Référence","(Réd.-Réf.)",null,"Taix d'actualisation",{"$f":"+DiscountRate","v":7.0000000000000007E-2}]
["Investissement total",{"$f":"G21*1000000*1000/G31","v":7131233.080485357},null,null,null,"Prix du calcaire",{"$f":"29.2/7.64","v":3.8219895287958114},"US$/t"]
["Durée de vie du projet",20,null,null,null,"1 tonne de calcaire produite",{"$f":"56/110","v":0.50909090909090904},"t clinker"]
["Investissements nivelés",{"$f":"IF(B10=0,0,PMT($G8,B10,-B9))","v":673137.95462410292},null,{"$f":"B11-C11","v":673137.95462410292},null,"Prix de charbon",{"$f":"+Hypothèses!B13","v":50},"US$/t charbon"]
["Coût matériaux annuel",{"$f":"(G25*G9+G27*G28)*1000/G31","v":1455154.2632759912},{"$f":"G35*G9*1000/G31","v":1918160.9947643979},{"$f":"B12-C12","v":-463006.73148840666},null,"Coefficient d'émission CO2-éq. (charbon)",{"$f":"+Hypothèses!C43","v":94.600000000000009},"kgCO2/GJ"]
["Coût carburant annuel",{"$f":"G24*G17*G11*1000/G31","v":1100200.5999250095},{"$f":"G34*G17*G11*1000/G31","v":1540280.839895013},{"$f":"B13-C13","v":-440080.23997000349},null,"Prix de l'électricité",{"$f":"+Hypothèses!C25","v":0.2},"US$/kWh"]
["Coût électricité annuel",{"$f":"+G24*G16*G13*1000/G31","v":2480138.7326584184},{"$f":"G16*G26*G13*1000/G31","v":992055.49306336662},{"$f":"B14-C14","v":1488083.2395950519},null,"Coefficient d'émission CO2-éq. ",{"$f":"+Hypothèses!C30","v":0.48549999999999999},"tCO2/MWh"]
["Coûts totaux annuel",{"$f":"SUM(B11:B14)","v":5708631.550483522},{"$f":"SUM(C11:C14)","v":4450497.3277227776},{"$f":"B15-C15","v":1258134.2227607444},null,"Coefficient d'émission CO2-éq. ",{"$f":"44/56","v":0.7857142857142857},"tCO2/t clinker"]
[null,null,null,null,null,"Production et broyage de clinker",{"$f":"36244000/G34","v":67.949006374203222},"kWh/t clinker"]
["Émissions annuelles (tonnes)","Tonnes","Tonnes","Réduction",null,"Cuisson du four",{"$f":"64312/G34","v":0.12056992875890514},"t charbon/t clinker"]
["Éq.-CO2 d'émission de carburant",{"$f":"G24*(G16*G14+G17*G18*G12)/G31","v":57976.761968578932},{"$f":"G34*(G16*G14+G17*G18*G12)/G31","v":81167.466756010501},{"$f":"C18-B18","v":23190.704787431569},null,"Valeur calorique du charbon",{"$f":"+Hypothèses!J22","v":24.96},"GJ/t"]
["Autres",{"$f":"G26*G15*1000/G31","v":57357.142857142833},{"$f":"G34*G15*1000/G31","v":200749.99999999997},{"$f":"C19-B19","v":143392.85714285713}]
["Émission total CO2-éq. ",{"$f":"B18+B19","v":115333.90482572177},{"$f":"C18+C19","v":281917.46675601049},{"$f":"C20-B20","v":166583.56193028874},null,"Option de réduction: Augmentation du mélange"]
[null,null,null,null,null,"Investissement",{"$f":"113.7418/7.64","v":14.887670157068063},"Million US$"]
["US$/ton CO2-eq.",null,null,{"$f":"IF(D20<>0,D15/D20,0)","v":7.5525712632273025},null,"Pourcentage de clinker",0.5,"tClinker/tBC"]
[null,null,null,null,null,"Production de clinker ",{"$f":"G33/G32*G22","v":1043.8356164383563},"ton clinker/jour"]
[null,null,null,null,null,"Production de clinker ",{"$f":"G23*365","v":381000.00000000006},"ton clinker/an"]
[null,null,null,null,null,"Utilisation de calcaire",{"$f":"G24/G10","v":748392.85714285739},"t limestone/an"]
[null,null,null,null,null,"Réduction de l'utilisation du clinker",{"$f":"+G34-G24","v":152399.99999999994},"tonne clinker/an"]
[null,null,null,null,null,"Utilisation d'additifs",{"$f":"+G26","v":152399.99999999994},"tonne additifs/an"]
[null,null,null,null,null,"Prix des additifs",{"$f":"8.9/7.64","v":1.1649214659685865},"US$/t"]
[]
[null,null,null,null,null,"Option de référence: Mélange normale"]
[null,null,null,null,null,"Production de ciment",{"$f":"G33/G32","v":2087.6712328767126},"ton BC/jour"]
[null,null,null,null,null,"Pourcentage de clinker",0.7,"tClinker/tBC"]
[null,null,null,null,null,"Production de clinker",{"$f":"533400/365","v":1461.3698630136987},"ton clinker/jour"]
[null,null,null,null,null,"Production de clinker",{"$f":"G33*365","v":533400},"ton clinker/jour"]
[null,null,null,null,null,"Utilisation de calcaire",{"$f":"G34/G10","v":1047750.0000000001},"t limestone/jour"]

{"sheet":"Mine de charbon","index":22,"n_rows":30,"n_cols":8,"rows_kept":30,"cut":false,"hidden":false,"merged":[[8,5,8,7],[16,5,16,7],[0,0,0,3],[1,0,1,3]]}
["Menu pour options de méthane de mine de charbon (cliquez sur les liens ci-dessous)"]
["Méthane de mine de charbon"]
[]
[]
[]
[]
[]
["Méthane de mine de charbon - CMM (utilisation de 10 Mm3 CMM/an)"]
["Coûts en","Option de","Option de ","Augmentation",null,"Entrées générales:"]
["US$","Réduction","Référence","(Réd.-Réf.)",null,"Taux d'actualisation",{"$f":"Hypothèses!$B$6","v":7.0000000000000007E-2}]
["Investissement total",{"$f":"G19*1000000*10/G21","v":1188691.0994764399},null,null,null,"Prix de référence de l'électricité",{"$f":"+Hypothèses!C25","v":0.2},"US$/kWh"]
["Durée de vie du projet",15,null,null,null,"Coefficient d'émission CO2-éq. ",{"$f":"+Hypothèses!C30","v":0.48549999999999999},"tCO2/MWh"]
["Investissements nivelés",{"$f":"IF(B12=0,0,PMT(+G10,B12,-B11))","v":130511.89315244256},null,{"$f":"B13-C13","v":130511.89315244256},null,"Densité CH4",0.67100000000000004,"kg/m3"]
["O&M annuelle ",{"$f":"B11*G20","v":178303.66492146597},null,{"$f":"B14-C14","v":178303.66492146597},null,"Pouvoir calorifique CH4",{"$f":"+Hypothèses!N22","v":39},"MJ/m3"]
["Coût annuel carburant",0,{"$f":"+G26*1000*G11*10/G21","v":1456000.0000000002},{"$f":"B15-C15","v":-1456000.0000000002},null,"PRP (GWP) du CH4",{"$f":"Hypothèses!E55","v":21}]
["Coûts totaux annuel",{"$f":"SUM(B13:B15)","v":308815.55807390856},{"$f":"SUM(C13:C15)","v":1456000.0000000002},{"$f":"B16-C16","v":-1147184.4419260917}]
[null,null,null,null,null,"Option de réduction: Centrale de méthane de mine de charbon"]
["Émissions annuelles (tonnes)","Tonnes","Tonnes","Réduction",null,"Activité",5,"MW"]
["Éq.-CO2 d'émission de carburant",0,{"$f":"G26*G12*10/G21","v":3534.440000000001},{"$f":"C19-B19","v":3534.440000000001},null,"Activité de l'nvestissement",{"$f":"36.3264/7.64","v":4.7547643979057597},"Million US$"]
["Autres",null,{"$f":"G30*1000000*G13/1000*21*10/G21","v":33818.400000000001},null,null,"O&M  ",0.15,"de l'investissement/an"]
["Émission total CO2-éq. ",{"$f":"B19+B20","v":0},{"$f":"C19+C20","v":37352.840000000004},{"$f":"C21-B21","v":37352.840000000004},null,"Extraction de gaz de CMM  ",40,"Mm3 CMM gaz/an"]
[null,null,null,null,null,"Concentration de gaz de CMM",0.24,"CH4/an"]
["US$/tonne CO2-éq.",null,null,{"$f":"IF(D21<>0,D16/D21,0)","v":-30.712107618218361},null,"CH4 extrait",{"$f":"G21*G22","v":9.6},"Mm3"]
[null,null,null,null,null,"Energie extraite du CH4 ",{"$f":"G23*G14*1000","v":374400},"GJ/an"]
[null,null,null,null,null,"Efficacité electrique de la centrale",0.28000000000000003]
[null,null,null,null,null,"Production d'électricité",{"$f":"G24/3.6*G25","v":29120.000000000004},"MWh/an"]
[null,null,null,null,null,"Facteur de capacité",{"$f":"G26/G18","v":5824.0000000000009},"Temps total heures"]
[]
[null,null,null,null,null,"Option de réference: Ventilation méthane de mine de charbon"]
[null,null,null,null,null,"CH4 ventilé",{"$f":"+G23","v":9.6},{"$f":"+H23","v":"Mm3"}]

{"sheet":"EE ménages","index":23,"n_rows":321,"n_cols":8,"rows_kept":321,"cut":false,"hidden":false,"merged":[[161,5,161,7],[167,5,167,7],[79,5,79,7],[13,5,13,7],[131,5,131,7],[47,5,47,7],[105,5,105,7],[0,0,0,2],[1,0,1,2],[2,0,2,2],[3,0,3,2],[5,0,5,2],[188,5,188,7],[194,5,194,7],[272,5,272,7],[300,5,300,7],[245,5,245,7],[216,5,216,7]]}
["Menu pour options de EE ménages (cliquez sur les liens ci-dessous)"]
["Climatiseur résidentiel efficace (1000 unités)"]
["Éclairage domestique efficace avec LFC (1000 ampoules)"]
["Éclairage domestique efficace avec LED (1000 ampoules)"]
["Éclairage domestique efficace avec des LED remplaçant les LFC (1000 ampoules)"]
["Réfrigérateur efficace (1000 unités)"]
["Poêles à bois efficaces (1000 unités)"]
["Poêles á charbon debois efficaces (1000 unités)"]
["GPL remplaçant les poêles à bois (1000 unités)"]
["Poêles électriques efficaces (1000 unités)"]
[]
[]
["Climatiseur résidentiel efficace (1000 unités)"]
["Coûts en","Option de","Option de ","Augmentation",null,"Entrées générales:"]
["US$","Réduction","Référence","(Réd.-Réf.)",null,"Taux d'actualisation",{"$f":"+DiscountRate","v":7.0000000000000007E-2}]
["Investissement total",{"$f":"G23*G21","v":130000},null,null,null,"Prix moyen de l'électricité",{"$f":"+Hypothèses!C25","v":0.2},"US$/kWh"]
["Durée de vie du projet",8,null,null,null,"CO2-éq. coefficient d'émission",{"$f":"+Hypothèses!C30","v":0.48549999999999999},"ton CO2-eq./MWh"]
["Investissements nivelés",{"$f":"IF(B17=0,0,PMT($G15,B17,-B16))","v":21770.809123798103},{"$f":"IF(C17=0,0,PMT($G$15,C17,-C16))","v":0},null,null,"Perte de réseau",{"$f":"+Hypothèses!B33","v":0.186}]
["O&M annuelle ",{"$f":"PMT(G15,B17,-(+G20*G21))","v":0},{"$f":"PMT(G15,B17,-(+G30*G31))","v":0},null,null,"Option de réduction: climatiseur efficace"]
["Coût annuel carburant",{"$f":"G28*1000*G16","v":525000},{"$f":"G38*1000*G16","v":786516.85393258429},{"$f":"B20-C20","v":-261516.85393258429},null,"O&M ",0,"US$"]
["Coûts totaux annuel",{"$f":"SUM(B18:B20)","v":546770.80912379816},{"$f":"SUM(C18:C20)","v":786516.85393258429},{"$f":"B21-C21","v":-239746.04480878613},null,"Activité",1000,"Climatiseurs"]
[null,null,null,null,null,"Durée de vie",5,"années"]
["Émissions annuelles (tonnes)","Tonnes","Tonnes","Réduction",null,"Coût supp. pour eff. climatisation",130,"US$"]
["Éq.-CO2 d'émission de carburant",{"$f":"G28*G17/(1-G18)","v":1565.6480343980343},{"$f":"G38*G17/(1-G18)","v":2345.5401264390025},{"$f":"C24-B24","v":779.89209204096824},null,"Capacité de refroidissement",{"$f":"G32","v":2.5},"kW"]
["Autres",null,null,null,null,"COP",4]
["Émission total CO2-éq. ",{"$f":"B24+B25","v":1565.6480343980343},{"$f":"C24+C25","v":2345.5401264390025},{"$f":"C26-B26","v":779.89209204096824},null,"La puissance d'entrée",{"$f":"G24/G25","v":0.625},"kW"]
[null,null,null,null,null,"Usage annuel",{"$f":"G37","v":4200},"hrs"]
["US$/ton CO2-eq.",null,null,{"$f":"IF(D26<>0,D21/D26,0)","v":-307.40925219715155},null,"Électricité annuelle utilisée",{"$f":"G21*G26*G27/1000","v":2625},"MWh"]
[null,null,null,null,null,"Option de référence: climatiseur conventionnel"]
[null,null,null,null,null,"O&M ",0,"US$"]
[null,null,null,null,null,"Activité",{"$f":"+G21","v":1000},{"$f":"+H21","v":"Climatiseurs"}]
[null,null,null,null,null,"Capacité de refroidissement",2.5,"kW"]
[null,null,null,null,null,"COP",2.67]
[null,null,null,null,null,"La puissance d'entrée",{"$f":"G32/G33","v":0.93632958801498134},"kW"]
[null,null,null,null,null,"Utilisation quotidienne",14,"heures/jours"]
[null,null,null,null,null,"Jours utilisés",300,"heures/années"]
[null,null,null,null,null,"Usage annuel",{"$f":"G36*G35","v":4200},"hrs"]
[null,null,null,null,null,"Électricité annuelle utilisée",{"$f":"G34*G37","v":3932.5842696629215},"MWh"]
[]
[null,null,null,null,null,"Électricité économisée 1 unité",{"$f":"+G38-G28","v":1307.5842696629215},"MWh"]
[null,null,null,null,null,"Electricité économisée en comparaison à référence",{"$f":"(G38-G28)/G38","v":0.33250000000000002},"Économies"]
[]
[]
[]
[]
[]
["Éclairage domestique efficace avec LFC (1000 ampoules)"]
["Coûts en","Option de","Option de ","Augmentation",null,"Entrées générales:"]
["US$","Réduction","Référence","(Réd.-Réf.)",null,"Taux d'actualisation",{"$f":"+DiscountRate","v":7.0000000000000007E-2}]
["Investissement total",{"$f":"G56*G57+G58","v":4041.7475728155346},{"$f":"G56*G68+G58","v":2500},{"$f":"+B50-C50","v":1541.7475728155346},null,"Prix moyen de l'électricité",{"$f":"+Hypothèses!C25","v":0.2},"US$/kWh"]
["Durée de vie du projet",{"$f":"G59/G61/365","v":2.3483365949119372},2,null,null,"CO2-éq. coefficient d'émission",{"$f":"+Hypothèses!C30","v":0.48549999999999999},"ton CO2-eq./MWh"]
["Investissements nivelés",{"$f":"IF(B51=0,0,PMT($G49,B51,-B50))","v":1925.8760985274712},{"$f":"IF(C51=0,0,PMT($G$49,C51,-C50))","v":1382.7294685990337},{"$f":"B52-C52","v":543.14662992843751},null,"Perte de réseau",{"$f":"+Hypothèses!B33","v":0.186}]
["O&M annuelle ",{"$f":"PMT(G49,B51,-(+G55*G56))","v":0},{"$f":"PMT(G49,B51,-(+G66*G67*G59/G67))","v":0},{"$f":"B53-C53","v":0}]
["Coût annuel carburant",{"$f":"G62*1000*G50","v":7665},{"$f":"G72*1000*G50","v":20440},{"$f":"B54-C54","v":-12775},null,"Option de réduction: lampes fluorescentes compactes"]
["Coûts totaux annuel",{"$f":"SUM(B52:B54)","v":9590.8760985274712},{"$f":"SUM(C52:C54)","v":21822.729468599035},{"$f":"B55-C55","v":-12231.853370071563},null,"O&M ",0,"US$/changement de lampes"]
[null,null,null,null,null,"Activité",1000,"Ampoules"]
["Émissions annuelles (tonnes)","Tonnes","Tonnes","Réduction",null,"Coût de lampe 15W eff. ",{"$f":"14*4.163/14.42","v":4.0417475728155345},"US$"]
["Éq.-CO2 d'émission de carburant",{"$f":"G62*G51/(1-G52)","v":22.8584613022113},{"$f":"G72*G51/(1-G52)","v":60.955896805896799},{"$f":"C58-B58","v":38.097435503685503},null,"Coût de distribution",0,"US$"]
["Autres",null,null,null,null,"Durée de vie de la lampe",6000,"hrs"]
["Émission total CO2-éq. ",{"$f":"B58+B59","v":22.8584613022113},{"$f":"C58+C59","v":60.955896805896799},{"$f":"C60-B60","v":38.097435503685503},null,"Puissance de la lampe",15,"W"]
[null,null,null,null,null,"Utilisation quotidienne",7,"hrs"]
["US$/ton CO2-eq.",null,null,{"$f":"IF(D60<>0,D55/D60,0)","v":-321.06763115035045},null,"Électricité annuelle utilisée",{"$f":"G56*G60*G61*365/1000000","v":38.325000000000003},"MWh"]
[null,null,null,null,null,"Électricité économisée",{"$f":"G72-G62","v":63.875},"MWh"]
[]
[null,null,null,null,null,"Option de référence: lampes à incandescence"]
[null,null,null,null,null,"O&M ",0,"US$/changement de lampes"]
[null,null,null,null,null,"Activité",{"$f":"+G56","v":1000},{"$f":"+H56","v":"Ampoules"}]
[null,null,null,null,null,"Coût de lampe 40W incand. ",2.5,"US$"]
[null,null,null,null,null,"Durée de vie de la lampe",1000,"heures"]
[null,null,null,null,null,"Puissance de la lampe",40,"W"]
[null,null,null,null,null,"Utilisation quotidienne",{"$f":"G61","v":7},"hrs"]
[null,null,null,null,null,"Électricité annuelle utilisée",{"$f":"G67*G70*G71*365/1000000","v":102.2},"MWh"]
[]
[]
[]
[]
[]
[]
["Éclairage domestique efficace avec LED (1000 ampoules)"]
["Coûts en","Option de","Option de ","Augmentation",null,"Entrées générales:"]
["US$","Réduction","Référence","(Réd.-Réf.)",null,"Taux d'actualisation",{"$f":"+DiscountRate","v":7.0000000000000007E-2}]
["Investissement total",{"$f":"G88*G89","v":10000},{"$f":"G96*G95*G88","v":15000},{"$f":"+B82-C82","v":-5000},null,"Prix moyen de l'électricité",{"$f":"+Hypothèses!C25","v":0.2},"US$/kWh"]
["Durée de vie du projet",{"$f":"+G94","v":3.9138943248532292},{"$f":"+G94","v":3.9138943248532292},null,null,"CO2-éq. coefficient d'émission",{"$f":"+Hypothèses!C30","v":0.48549999999999999},"ton CO2-eq./MWh"]
["Investissements nivelés",{"$f":"IF(B83=0,0,PMT($G81,B83,-B82))","v":3008.8458377031529},{"$f":"IF(C83=0,0,PMT(G81,C83,-C82))","v":4513.2687565547294},{"$f":"B84-C84","v":-1504.4229188515765},null,"Perte de réseau",{"$f":"+Hypothèses!B33","v":0.186}]
["O&M annuelle ",null,null,{"$f":"B85-C85","v":0},null,"Option de réduction: LED"]
["Coût annuel carburant",{"$f":"+G90*Hypothèses!C25*'EE ménages'!G88","v":4599},{"$f":"G97*Hypothèses!C25*G88","v":30660.000000000004},{"$f":"B86-C86","v":-26061.000000000004},null,"W moyen de lampes LED",9,"W"]
["Coûts totaux annuel",{"$f":"SUM(B84:B86)","v":7607.8458377031529},{"$f":"SUM(C84:C86)","v":35173.268756554731},{"$f":"B87-C87","v":-27565.422918851578},null,"Utilisation quotidienne",7,"heures"]
[null,null,null,null,null,"Importation annuelle de bulbes",1000,"Ampoules"]
["Émissions annuelles (tonnes)","Tonnes","Tonnes","Réduction",null,"Coût de la LED",10,"US$"]
["Éq.-CO2 d'émission de carburant",{"$f":"G90*G83/(1-G84)","v":13.715076781326779},{"$f":"G97*G83/(1-G84)","v":91.433845208845199},{"$f":"C90-B90","v":77.718768427518427},null,"Électricité pour éclairage LED",{"$f":"G86*G87*G88*365/1000000","v":22.995000000000001},"MWh/années"]
["Autres",null,null,null,null,"Option de référence: ampoules à incandescence"]
["Émission total CO2-éq. ",{"$f":"B90+B91","v":13.715076781326779},{"$f":"C90+C91","v":91.433845208845199},{"$f":"C92-B92","v":77.718768427518427},null,"W moyen de lampes remplacées",60,"W"]
[null,null,null,null,null,"Durée de vie d'une incandescente",{"$f":"1000/G87/365","v":0.39138943248532293},"années"]
["US$/ton CO2-eq.",null,null,{"$f":"IF(D92<>0,D87/D92,0)","v":-354.68167440866569},null,"Durée de vie d'une LED",{"$f":"10000/G87/365","v":3.9138943248532292},"années"]
[null,null,null,null,null,"Nombre de remplacements",{"$f":"G94/G93","v":10}]
[null,null,null,null,null,"Prix d'une ampoule incand.",1.5,"US$"]
[null,null,null,null,null,"Électricité pour éclairage incand.",{"$f":"+G92*G87*G88*365/1000000","v":153.30000000000001},"MWh/années"]
[]
[null,null,null,null,null,"Économie d'élect. pour 1000 lampes",{"$f":"+G97-G90","v":130.30500000000001},"MWh/années"]
[]
[]
[]
[]
[]
["Éclairage domestique efficace avec des LED remplaçant les LFC (1000 ampoules)"]
["Coûts en","Option de","Option de ","Augmentation",null,"Entrées générales:"]
["US$","Réduction","Référence","(Réd.-Réf.)",null,"Taux d'actualisation",{"$f":"+DiscountRate","v":7.0000000000000007E-2}]
["Investissement total",{"$f":"G114*G115","v":20000},{"$f":"G114*G121 + G114*G121/(1+G107)^3.3 + G121*G114/(1+G107)^6.6","v":12198.648259970832},{"$f":"+B108-C108","v":7801.3517400291676},null,"Prix moyen de l'électricité",{"$f":"+Hypothèses!C25","v":0.2},"US$/kWh"]
["Durée de vie du projet",10,10,null,null,"CO2-éq. coefficient d'émission",{"$f":"Hypothèses!C30","v":0.48549999999999999},"ton CO2-eq./MWh"]
["Investissements nivelés",{"$f":"IF(B109=0,0,PMT($G107,B109,-B108))","v":2847.5500545472946},{"$f":"IF(C109=0,0,PMT(G107,C109,-C108))","v":1736.8130759041603},{"$f":"B110-C110","v":1110.7369786431343},null,"Perte de réseau",{"$f":"+Hypothèses!B33","v":0.186}]
["O&M annuelle ",null,null,{"$f":"B111-C111","v":0},null,"Option de réduction: LED"]
["Coût annuel carburant",{"$f":"C112*(1-G122)","v":4599},{"$f":"(G112*G113*365*G114*G108/1000)","v":7665},{"$f":"B112-C112","v":-3066},null,"W moyen de lampes remplacées",15,"W"]
["Coûts totaux annuel",{"$f":"SUM(B110:B112)","v":7446.5500545472951},{"$f":"SUM(C110:C112)","v":9401.8130759041596},{"$f":"B113-C113","v":-1955.2630213568646},null,"Utilisation quotidienne",7,"heures"]
[null,null,null,null,null,"Importation annuelle de bulbes",1000,"Ampoules"]
["Émissions annuelles (tonnes)","Tonnes","Tonnes","Réduction",null,"Coût de la LED",20,"US$"]
["Éq.-CO2 d'émission de carburant",{"$f":"C116*(1-G122)","v":13.715076781326779},{"$f":"G116*G109/(1-G110)","v":22.8584613022113},{"$f":"C116-B116","v":9.1433845208845206},null,"Élect. pour éclairage LFC en 2020",{"$f":"G112*G113*G114*365/1000000","v":38.325000000000003},"MWh"]
["Autres",null,null,null,null,"Option de référence: LFC"]
["Émission total CO2-éq. ",{"$f":"B116+B117","v":13.715076781326779},{"$f":"C116+C117","v":22.8584613022113},{"$f":"C118-B118","v":9.1433845208845206},null,"Durée de vie d'une LFC",6000,"heures"]
[null,null,null,null,null,"Durée de vie d'une LFC",{"$f":"G118/(G113*365)","v":2.3483365949119372},"annés"]
["US$/ton CO2-eq.",null,null,{"$f":"IF(D118<>0,D113/D118,0)","v":-213.84455798515566},null,"Nombre de remplacements",3]
[null,null,null,null,null,"Prix pour une LCF",5,"US$"]
[null,null,null,null,null,"Économies par passage aux LED",0.4,"(en référence à 40W LCF)"]
[null,null,null,null,null,"Économies par passage aux LED",{"$f":"G116*G122","v":15.330000000000002},"MWh"]
[]
[]
[]
[]
[]
[]
[]
["Réfrigérateur efficace (1000 unités)"]
["Coûts en","Option de","Option de ","Augmentation",null,"Entrées générales:"]
["US$","Réduction","Référence","(Réd.-Réf.)",null,"Taux d'actualisation",{"$f":"+DiscountRate","v":7.0000000000000007E-2}]
["Investissement total",{"$f":"G140*G142","v":648508.43060959794},{"$f":"G149*G152","v":389105.05836575874},{"$f":"B134-C134","v":259403.3722438392},null,"Prix moyen de l'électricité",{"$f":"+Hypothèses!C25","v":0.2},"US$/kWh"]
["Durée de vie du projet",{"$f":"G141","v":10},{"$f":"G141","v":10},null,null,"CO2-éq. coefficient d'émission",{"$f":"+Hypothèses!C30","v":0.48549999999999999},"ton CO2-eq./MWh"]
["Investissements nivelés",{"$f":"IF(B135=0,0,PMT($G133,B135,-B134))","v":92333.010847837038},{"$f":"IF(C135=0,0,PMT($G$133,C135,-C134))","v":55399.806508702226},{"$f":"B136-C136","v":36933.204339134812},null,"Perte de réseau",{"$f":"+Hypothèses!B33","v":0.186}]
["O&M annuelle ",{"$f":"G139","v":0},{"$f":"G148","v":0},{"$f":"B137-C137","v":0}]
["Coût annuel carburant",{"$f":"G145*1000*G134","v":151840},{"$f":"G155*1000*G134","v":233600},{"$f":"B138-C138","v":-81760},null,"Option de réduction: Réfrigérateur efficace "]
["Coûts totaux annuel",{"$f":"SUM(B136:B138)","v":244173.01084783702},{"$f":"SUM(C136:C138)","v":288999.80650870223},{"$f":"B139-C139","v":-44826.795660865202},null,"O&M ",0,"US$"]
[null,null,null,null,null,"Activité",1000,"Réfrigérateurs"]
["Émissions annuelles (tonnes)","Tonnes","Tonnes","Réduction",null,"Durée de vie",10,"années"]
["Éq.-CO2 d'émission de carburant",{"$f":"G145*G135/(1-G136)","v":452.81523341523342},{"$f":"G155*G135/(1-G136)","v":696.63882063882056},{"$f":"C142-B142","v":243.82358722358714},null,"Coût d'un réfrigérateur efficace",{"$f":"10000/15.42","v":648.50843060959789},"US$"]
["Autres",null,{"$f":"G140*G150*G151/1000","v":960},{"$f":"+C143","v":960},null,"Puissance du réfrigérateur",130,"W"]
["Émission total CO2-éq. ",{"$f":"B142+B143","v":452.81523341523342},{"$f":"C142+C143","v":1656.6388206388206},{"$f":"C144-B144","v":1203.8235872235871},null,"Utilisation quotidienne",16,"heures"]
[null,null,null,null,null,"Électricité annuelle utilisée",{"$f":"G144*G143*G140*365/1000000","v":759.2},"MWh"]
["US$/ton CO2-eq.",null,null,{"$f":"D139/D144","v":-37.237013908533335}]
[null,null,null,null,null,"Option de référence: Réfrigérateur non-efficace "]
[null,null,null,null,null,"O&M ",0,"US$"]
[null,null,null,null,null,"Activité",{"$f":"+G140","v":1000},"Réfrigérateurs"]
[null,null,null,null,null,"Substances appauvrissant l'ozone contenue dans un réfrigérateur",0.4,"kg"]
[null,null,null,null,null,"PRC des Substances appauvrissant l'ozone",2400]
[null,null,null,null,null,"Coût d'un ancien réfrigérateur",{"$f":"6000/15.42","v":389.10505836575874},"US$"]
[null,null,null,null,null,"Puissance du réfrigérateur",200,"W"]
[null,null,null,null,null,"Utilisation quotidienne",16,"heures"]
[null,null,null,null,null,"Électricité annuelle utilisée",{"$f":"G153*G154*G149*365/1000000","v":1168},"MWh"]
[]
[]
[null,null,null,null,null,"Électricité économisée",{"$f":"G155-G145","v":408.79999999999995},"MWh"]
[]
[]
["Poêles à bois efficaces (1000 unités)"]
["Coûts en","Option de","Option de ","Augmentation",null,"Entrées générales:"]
["US$","Réduction","Référence","(Réd.-Réf.)",null,"Taux d'actualisation",{"$f":"+DiscountRate","v":7.0000000000000007E-2}]
["Investissement total",{"$f":"+G169*G170","v":200000},null,null,null,"Fraction non renouvelable de bois",0.3]
["Durée de vie du projet",5,null,null,null,"Valeur calorifique du bois",15,"MJ/kg"]
["Investissements nivelés",{"$f":"IF(B165=0,0,PMT($G$163,B165,-B164))","v":48778.138888274814},null,{"$f":"B166-C166","v":48778.138888274814},null,"Coût du bois de feu",{"$f":"8/15","v":0.53333333333333333},"US$/kg"]
["O&M annuelle ",null,null,{"$f":"B167-C167","v":0}]
["Coût annuel carburant",{"$f":"G166*G174*1000*G169","v":648888.88888888888},{"$f":"G166*G182*1000*G169","v":1946666.6666666665},{"$f":"B168-C168","v":-1297777.7777777775},null,"Option de réduction: poêle à bois efficace"]
["Coûts totaux annuel",{"$f":"SUM(B166:B168)","v":697667.02777716366},{"$f":"SUM(C166:C168)","v":1946666.6666666665},{"$f":"B169-C169","v":-1248999.6388895027},null,"Nombre de poêles installés",1000,"Poêles"]
[null,null,null,null,null,"Coût d'un poêle",200,"US$"]
["Émissions annuelles (tonnes)","Tonnes","Tonnes","Réduction",null,"Énergie disponible pour cuisiner",15,"MJ/jours"]
["Éq.-CO2 d'émission de carburant",{"$f":"G169*G175*G164*44/12","v":669.16666666666663},{"$f":"G169*G164*G183*44/12","v":2007.5},{"$f":"C172-B172","v":1338.3333333333335},null,"Efficacité du nouveau poêle",0.3]
["Autres",null,null,null,null,"Utilisation du bois",{"$f":"G171/G165/G172","v":3.3333333333333335},"kg/jour"]
["Émission total CO2-éq. ",{"$f":"B172+B173","v":669.16666666666663},{"$f":"C172+C173","v":2007.5},{"$f":"C174-B174","v":1338.3333333333335},null,"Consommation annuelle de bois",{"$f":"G173*365/1000","v":1.2166666666666668},"t bois/an"]
[null,null,null,null,null,"Teneur en carbone du bois",{"$f":"G174/2","v":0.60833333333333339},"t C/années"]
["US$/ton CO2-eq.",null,null,{"$f":"IF(D174<>0,D169/D174,0)","v":-933.25004151145902},null,"Quantité de bois économisée",{"$f":"G182-G173","v":0.31666666666666643},"t bois/an"]
[]
[null,null,null,null,null,"Option de référence: Poêle traditionnel"]
[null,null,null,null,null,"Énergie disponible pour cuisiner",15,"MJ/jour"]
[null,null,null,null,null,"Efficacité du poêle traditionnel",0.1]
[null,null,null,null,null,"Utilisation du bois",{"$f":"+G171/G165/G180","v":10},"kg/jour"]
[null,null,null,null,null,"Consommation annuelle de bois",{"$f":"G181*365/1000","v":3.65},"t bois/an"]
[null,null,null,null,null,"Teneur en carbone du bois",{"$f":"G182/2","v":1.825},"t C/années"]
[]
[]
[]
[]
["Poêles à charbon de bois efficaces (1000 unités)"]
["Coûts en","Option de","Option de ","Augmentation",null,"Entrées générales:"]
["US$","Réduction","Référence","(Réd.-Réf.)",null,"Taux d'actualisation",{"$f":"+DiscountRate","v":7.0000000000000007E-2}]
["Investissement total",{"$f":"+G196*G197","v":60000},null,null,null,"Fraction non renouvelable de bois",0.3]
["Durée de vie du projet",5,null,null,null,"Valeur calorifique du bois",31,"MJ/kg"]
["Investissements nivelés",{"$f":"IF(B192=0,0,PMT($G$163,B192,-B191))","v":14633.441666482446},null,{"$f":"B193-C193","v":14633.441666482446},null,"Coût du bois de feu",{"$f":"63/4*0.0092","v":0.1449},"US$/kg"]
["O&M annuelle ",null,null,{"$f":"B194-C194","v":0}]
["Coût annuel carburant",{"$f":"G193*G201*1000*G196","v":69165.431560592871},{"$f":"G193*G209*1000*G196","v":102364.83870967742},{"$f":"B195-C195","v":-33199.407149084553},null,"Option de réduction: poêle à charbon de bois efficace"]
["Coûts totaux annuel",{"$f":"SUM(B193:B195)","v":83798.873227075324},{"$f":"SUM(C193:C195)","v":102364.83870967742},{"$f":"B196-C196","v":-18565.9654826021},null,"Nombre de poêles installés",1000,"Poêles"]
[null,null,null,null,null,"Coût d'un poêle",60,"US$"]
["Émissions annuelles (tonnes)","Tonnes","Tonnes","Réduction",null,"Énergie disponible pour cuisiner",15,"MJ/jour"]
["Éq.-CO2 d'émission de carburant",{"$f":"G196*G203*G191*44/12","v":617.72398584542805},{"$f":"G196*G191*G210*44/12","v":914.23149905123353},{"$f":"C199-B199","v":296.50751320580548},null,"Efficacité du nouveau poêle",0.37]
["Autres",null,null,null,null,"Utilisation du bois",{"$f":"G198/G192/G199","v":1.3077593722755014},"kg/jour"]
["Émission total CO2-éq. ",{"$f":"B199+B200","v":617.72398584542805},{"$f":"C199+C200","v":914.23149905123353},{"$f":"C201-B201","v":296.50751320580548},null,"Consommation de charbon bois",{"$f":"G200*365/1000","v":0.47733217088055802},"t/an"]
[null,null,null,null,null,"Carbon content of the charcoal",0.85]
["US$/ton CO2-eq.",null,null,{"$f":"IF(D201<>0,D196/D201,0)","v":-62.61549760364921},null,"Annual carbon (C) consumed",{"$f":"G201/G202","v":0.56156725985948008},"t C/an"]
[]
[null,null,null,null,null,"Option de référence: Poêle a charbon traditionnel"]
[null,null,null,null,null,"Énergie disponible pour cuisiner",15,"MJ/jour"]
[null,null,null,null,null,"Efficacité du poêle traditionnel",0.25]
[null,null,null,null,null,"Utilisation du bois",{"$f":"G206/G192/G207","v":1.935483870967742},"kg/jour"]
[null,null,null,null,null,"Consommation de charbon bois",{"$f":"G208*365/1000","v":0.70645161290322589},"t/an"]
[null,null,null,null,null,"Annual carbon (C) consumed",{"$f":"G209/G202","v":0.83111954459203052},"t C/an"]
[]
[]
[]
[]
[]
["GPL remplaçant les poêles à bois (1000 unités)"]
["Coûts en","Option de","Option de ","Augmentation",null,"Entrées générales:"]
["US$","Réduction","Référence","(Réd.-Réf.)",null,"Taux d'actualisation",{"$f":"+DiscountRate","v":7.0000000000000007E-2}]
["Investissement total",{"$f":"+G221*G222","v":30000}]
["Durée de vie du projet",{"$f":"G228","v":5},null,null,null,"Option de réduction: poêle GPL"]
["Investissements nivelés",{"$f":"IF(B220=0,0,PMT($G$218,B220,-B219))","v":7316.7208332412229},null,{"$f":"B221-C221","v":7316.7208332412229},null,"Nombre de poêles installés",1000,"Poêles"]
["O&M annuelle ",null,null,{"$f":"B222-C222","v":0},null,"Coût d'un poêle",30,"US$"]
["Coût annuel carburant",{"$f":"G225*G226*G221","v":145092.5999796119},null,{"$f":"B223-C223","v":145092.5999796119},null,"Énergie disponible pour cuisiner",{"$f":"+G235","v":21.525000000000006},"MJ/jour"]
["Coûts totaux annuel",{"$f":"SUM(B221:B223)","v":152409.32081285311},{"$f":"SUM(C221:C223)","v":0},{"$f":"B224-C224","v":152409.32081285311},null,"Efficacité du poêle GPL",0.6]
[null,null,null,null,null,"Utilisation de GPL pour 1 poêle",{"$f":"G223/G224*365/1000","v":13.094375000000005},"GJ/années"]
["Émissions annuelles (tonnes)","Tonnes","Tonnes","Réduction",null,"Coût du GPL pour 1 poêle",{"$f":"+Hypothèses!B20","v":11.080528851481024},"US$/GJ"]
["Éq.-CO2 d'émission de carburant",{"$f":"G225*G227*G221/1000","v":825.81858333333355},{"$f":"G221*G237*G238*44/12","v":2880.7625000000007},{"$f":"C227-B227","v":2054.9439166666671},null,"Facteur d'émission de gaz GPL",{"$f":"+Hypothèses!C41","v":63.066666666666663},"KgCO2/GJ"]
["Autres",null,null,null,null,"Durée de vie du poêle GPL",5,"années"]
["Émission total CO2-éq. ",{"$f":"B227+B228","v":825.81858333333355},{"$f":"C227+C228","v":2880.7625000000007},{"$f":"C229-B229","v":2054.9439166666671}]
[null,null,null,null,null,"Option de référence: Poêle traditionnel"]
["US$/ton CO2-eq.",null,null,{"$f":"IF(D229<>0,D224/D229,0)","v":74.167143724329421},null,"Utilisation du bois",{"$f":"(1.02+1.85)*5","v":14.350000000000001},"kg/jour"]
[null,null,null,null,null,"Valeur calorifique du bois",15,"MJ/kg"]
[null,null,null,null,null,"Coût du bois de feu",0,"US$/kg"]
[null,null,null,null,null,"Efficacité du poêle traditionnel",0.1]
[null,null,null,null,null,"Énergie disponible pour cuisiner",{"$f":"G231*G232*G234","v":21.525000000000006},"MJ/jour/poêle"]
[null,null,null,null,null,"Consommation annuelle de bois",{"$f":"G231*365/1000","v":5.237750000000001},"t bois/an/poêle"]
[null,null,null,null,null,"Fraction non renouvelable de bois",0.3]
[null,null,null,null,null,"Teneur en carbone du bois",{"$f":"G236/2","v":2.6188750000000005},"t C/années"]
[]
[]
[]
[]
[]
[]
["Poêles électriques efficaces (1000 unités)"]
["Coûts en","Option de","Option de ","Augmentation",null,"Entrées générales:"]
["US$","Réduction","Référence","(Réd.-Réf.)",null,"Taux d'actualisation",{"$f":"+DiscountRate","v":7.0000000000000007E-2}]
["Investissement total",{"$f":"G253*G255","v":400000},{"$f":"G261*G262","v":333000},{"$f":"B248-C248","v":67000},null,"Prix moyen de l'électricité",{"$f":"+Hypothèses!C25","v":0.2},"US$/kWh"]
["Durée de vie du projet",{"$f":"G254","v":10},{"$f":"G254","v":10},null,null,"CO2-éq. coefficient d'émission",{"$f":"+Hypothèses!C30","v":0.48549999999999999},"ton CO2-eq./MWh"]
["Investissements nivelés",{"$f":"IF(B249=0,0,PMT($G247,B249,-B248))","v":56951.001090945887},{"$f":"IF(C249=0,0,PMT($G$247,C249,-C248))","v":47411.708408212449},{"$f":"B250-C250","v":9539.2926827334377},null,"Perte de réseau",{"$f":"+Hypothèses!B33","v":0.186}]
["O&M annuelle "]
["Coût annuel carburant",{"$f":"G258*1000*G248","v":52000},{"$f":"G265*1000*G248","v":104000},{"$f":"B252-C252","v":-52000},null,"Option de réduction: Poêles électriques efficaces"]
["Coûts totaux annuel",{"$f":"SUM(B250:B252)","v":108951.00109094588},{"$f":"SUM(C250:C252)","v":151411.70840821246},{"$f":"B253-C253","v":-42460.707317266584},null,"Activité",1000,"Poêles"]
[null,null,null,null,null,"Durée de vie",10,"années"]
["Émissions annuelles (tonnes)","Tonnes","Tonnes","Réduction",null,"Coût d'un poêle efficace",400,"US$"]
["Éq.-CO2 d'émission de carburant",{"$f":"G258*G249/(1-G250)","v":155.07371007371006},{"$f":"G265*G249/(1-G250)","v":310.14742014742012},{"$f":"C256-B256","v":155.07371007371006},null,"Puissance du poêle",2000,"W"]
["Autres",null,null,null,null,"Utilisation hebdomadaire",{"$f":"2.5","v":2.5},"heures"]
["Émission total CO2-éq. ",{"$f":"B256+B257","v":155.07371007371006},{"$f":"C256+C257","v":310.14742014742012},{"$f":"C258-B258","v":155.07371007371006},null,"Électricité annuelle utilisée",{"$f":"G257*G256*G253*52/1000000","v":260},"MWh"]
[]
["US$/ton CO2-eq.",null,null,{"$f":"D253/D258","v":-273.80983725148542},null,"Option de référence: Poêles électriques non-efficaces"]
[null,null,null,null,null,"Activité",{"$f":"+G253","v":1000},"Poêles"]
[null,null,null,null,null,"Coût de l'ancien poêle",333,"US$"]
[null,null,null,null,null,"Puissance du poêle",4000,"W"]
[null,null,null,null,null,"Utilisation hebdomadaire",{"$f":"+G257","v":2.5},"heures"]
[null,null,null,null,null,"Électricité annuelle utilisée",{"$f":"G263*G264*G261*52/1000000","v":520},"MWh"]
[]
[]
[null,null,null,null,null,"Électricité économisée",{"$f":"G265-G258","v":260},"MWh"]
[]
[]
[]
["Poêles induction (1000 unités)"]
["Costs in","Reduction","Reference","Increase",null,"General inputs:"]
["US$","Option","Option","(Red.-Ref.)",null,"Discount rate ",{"$f":"+DiscountRate","v":7.0000000000000007E-2}]
["Total investment",{"$f":"G280*G282","v":466666.66666666669},{"$f":"G288*G289","v":400000},{"$f":"B275-C275","v":66666.666666666686},null,"Average electricity price",{"$f":"+Hypothèses!C25","v":0.2},"US$/kWh"]
["Project life",{"$f":"G281","v":10},{"$f":"G281","v":10},null,null,"CO2-eq. emission coefficient",{"$f":"+Hypothèses!C30","v":0.48549999999999999},"ton CO2-eq./MWh"]
["Lev. investment",{"$f":"IF(B276=0,0,PMT($G274,B276,-B275))","v":66442.834606103541},{"$f":"IF(C276=0,0,PMT($G$274,C276,-C275))","v":56951.001090945887},{"$f":"B277-C277","v":9491.8335151576539},null,"Grid loss",{"$f":"+Hypothèses!B33","v":0.186}]
["Annual O&M"]
["Annual electricity cost",{"$f":"G285*1000*G275","v":48211.920529801326},{"$f":"G293*1000*G275","v":52000},{"$f":"B279-C279","v":-3788.0794701986742},null,"Reduction option: Induction cooking stove"]
["Total annual cost",{"$f":"SUM(B277:B279)","v":114654.75513590487},{"$f":"SUM(C277:C279)","v":108951.00109094588},{"$f":"B280-C280","v":5703.7540449589869},null,"Activity",1000,"Stoves"]
[null,null,null,null,null,"Lifetime",10,"yrs"]
["Annual emissions (tons)","Tons","Tons","Reduction",null,"Cost of eff. stove",{"$f":"3500/7.5","v":466.66666666666669},"US$"]
["Fuel  CO2-eq. emission",{"$f":"G285*G276/(1-G277)","v":143.77694973721461},{"$f":"G293*G276/(1-G277)","v":155.07371007371006},{"$f":"C283-B283","v":11.296760336495453},null,"Efficiency",0.755]
["Other",null,null,null,null,"Weekly usage",{"$f":"2.5","v":2.5},"hrs"]
["Total CO2-eq. emission ",{"$f":"B283+B284","v":143.77694973721461},{"$f":"C283+C284","v":155.07371007371006},{"$f":"C285-B285","v":11.296760336495453},null,"Annual electricity used",{"$f":"G293*G291/G283","v":241.05960264900662},"MWh"]
[]
["US$/ton CO2-eq.",null,null,{"$f":"D280/D285","v":504.90174838288539},null,"Reference option: Normal electric stove"]
[null,null,null,null,null,"Activity",{"$f":"+G280","v":1000},"Stoves"]
[null,null,null,null,null,"Cost of normal stove",400,"US$"]
[null,null,null,null,null,"Stove wattage",2000,"W"]
[null,null,null,null,null,"Efficiency",0.7]
[null,null,null,null,null,"Weekly usage",{"$f":"+G284","v":2.5},"hrs"]
[null,null,null,null,null,"Annual electricity used",{"$f":"G290*G292*G288*52/1000000","v":260},"MWh"]
[]
[]
[null,null,null,null,null,"Electricity saved",{"$f":"G293-G285","v":18.940397350993379},"MWh"]
[]
[]
[]
["New passive home (1000 units)"]
["Costs in","Reduction","Reference","Increase",null,"General inputs:"]
["US$","Option","Option","(Red.-Ref.)",null,"Discount rate ",{"$f":"+DiscountRate","v":7.0000000000000007E-2}]
["Total investment",0,0,{"$f":"B303-C303","v":0},null,"Average electricity price",{"$f":"+Hypothèses!C25","v":0.2},"US$/kWh"]
["Project life",null,null,null,null,"CO2-eq. emission coefficient",{"$f":"+Hypothèses!C30","v":0.48549999999999999},"ton CO2-eq./MWh"]
["Lev. investment",null,null,{"$f":"B305-C305","v":0},null,"Grid loss",{"$f":"+Hypothèses!B33","v":0.186}]
["Annual O&M"]
["Annual electricity cost",{"$f":"G311*G308*G303","v":450000},{"$f":"G318*G303*G308*G317","v":1650000},{"$f":"B307-C307","v":-1200000},null,"Reduction option: Passive home"]
["Total annual cost",{"$f":"SUM(B305:B307)","v":450000},{"$f":"SUM(C305:C307)","v":1650000},{"$f":"B308-C308","v":-1200000},null,"Activity",1000,"Homes"]
[null,null,null,null,null,"Size of house",150,"m2"]
["Annual emissions (tons)","Tons","Tons","Reduction",null,"Elctricity consumption",15,"kWh/m2/year"]
["Fuel  CO2-eq. emission",{"$f":"G311*G304/(1-G305)","v":1341.9840294840294},{"$f":"G318*G304/(1-G305)","v":9841.2162162162149},{"$f":"C311-B311","v":8499.2321867321862},null,"Annual electricity used",{"$f":"G310*G309","v":2250},"kWh"]
["Other"]
["Total CO2-eq. emission ",{"$f":"B311+B312","v":1341.9840294840294},{"$f":"C311+C312","v":9841.2162162162149},{"$f":"C313-B313","v":8499.2321867321862},null,"Reference option: Normal home"]
[null,null,null,null,null,"Activity",{"$f":"+G308","v":1000},"Home"]
["US$/ton CO2-eq.",null,null,{"$f":"D308/D313","v":-141.18922434820317},null,"Size of house",{"$f":"+G309","v":150},"m2"]
[null,null,null,null,null,"Electricity for heating",110,"kWh/m2/year"]
[null,null,null,null,null,"Average cost of heating",0.5,"< than electric heat"]
[null,null,null,null,null,"Annual electricity used",{"$f":"G315*G316","v":16500},"kWh"]
[]
[]
[null,null,null,null,null,"Electricity saved",{"$f":"G318-G311","v":14250},"MWh"]

{"sheet":"EE industries","index":24,"n_rows":80,"n_cols":35,"rows_kept":80,"cut":false,"hidden":false,"merged":[[65,32,65,34],[65,5,65,7],[65,14,65,16],[0,0,0,2],[1,0,1,2],[2,0,2,2],[3,0,3,2],[48,5,48,7],[6,5,6,7],[36,5,36,7],[42,5,42,7],[65,23,65,25]]}
["Menu pour options de EE industries (cliquez sur les liens ci-dessous)"]
["Moteurs électriques efficaces"]
["Matériaux de construction / Four à briques à axe vertical "]
["Efficacité énergétique dans l'industrie (réduction de 10%)"]
[]
["Moteurs électriques efficaces - 1kW"]
["Coûts en","Option de","Option de ","Augmentation",null,"Entrées générales:"]
["US$","Réduction","Référence","(Réd.-Réf.)",null,"Taux d'actualisation",{"$f":"Hypothèses!$B$6","v":7.0000000000000007E-2}]
["Investissement total",{"$f":"G20*G15","v":150},{"$f":"G29*G25","v":30},{"$f":"+B9-C9","v":120},null,"Prix de l'électricité",{"$f":"+Hypothèses!C25","v":0.2},"US$/kWh"]
["Durée de vie du projet",{"$f":"G16","v":10},10,null,null,"CO2-éq. coefficient d'émission",{"$f":"+Hypothèses!C30","v":0.48549999999999999},"tCO2/MWh"]
["Investissements nivelés",{"$f":"IF(B10=0,0,PMT($G8,B10,-B9))","v":21.356625409104709},{"$f":"IF(C10=0,0,PMT(G8,C10,-C9))","v":4.2713250818209421},{"$f":"B11-C11","v":17.085300327283768},null,"Perte de réseau",{"$f":"+Hypothèses!B33","v":0.186}]
["O&M annuelle ",0,0,{"$f":"B12-C12","v":0}]
["Coût annuel carburant",{"$f":"G19*G9","v":871.1111111111112},{"$f":"G28*G9","v":1088.8888888888889},{"$f":"B13-C13","v":-217.77777777777771},null,"Option de réduction: nouveaux moteurs efficaces"]
["Coûts totaux annuel",{"$f":"SUM(B11:B13)","v":892.46773652021591},{"$f":"SUM(C11:C13)","v":1093.1602139707099},{"$f":"B14-C14","v":-200.69247745049404},null,"O&M  ",0.01]
[null,null,null,null,null,"Activité",1,"kW"]
["Émissions annuelles (tonnes)","Tonnes","Tonnes","Réduction",null,"Durée de vie",10,"Années"]
["Éq.-CO2 d'émission de carburant",{"$f":"G19/1000*G10/(1-G11)","v":2.597815997815998},{"$f":"G28/1000*G10/(1-G11)","v":3.247269997269997},{"$f":"C17-B17","v":0.64945399945399895},null,"Temps d'utilisation",{"$f":"16*(365-100-20)","v":3920},"Heures"]
["Autres",null,null,null,null,"Efficacité du moteur",0.9]
["Émission total CO2-éq. ",{"$f":"B17+B18","v":2.597815997815998},{"$f":"C17+C18","v":3.247269997269997},{"$f":"C19-B19","v":0.64945399945399895},null,"Électricité annuelle utilisée",{"$f":"G15*G17/G18","v":4355.5555555555557},"kWh"]
[null,null,null,null,null,"Invest. dans un moteur efficace",150,"US$/kW"]
["US$/ton CO2-eq.",null,null,{"$f":"IF(D19<>0,D14/D19,0)","v":-309.0172323508944},null,"Électricité économisée",{"$f":"G28-G19","v":1088.8888888888887},"kWh"]
[]
[null,null,null,null,null,"Option de référence: anciens moteurs"]
[null,null,null,null,null,"O&M ",0.01]
[null,null,null,null,null,"Activité",1,"kW"]
[null,null,null,null,null,"Temps d'utilisation",{"$f":"G17","v":3920}]
[null,null,null,null,null,"Efficacité du moteur",0.72]
[null,null,null,null,null,"Électricité annuelle utilisée",{"$f":"G25*G26/G27","v":5444.4444444444443},"kWh"]
[null,null,null,null,null,"Réparation de l'ancien moteur",30,"US$/kW"]
[]
[]
[]
[]
[]
[]
["Matériaux de construction / Four à briques à axe vertical (1 million de briques)"]
["Coûts en","Option de","Option de ","Augmentation",null,"Entrées générales:"]
["US$","Réduction","Référence","(Réd.-Réf.)",null,"Taux d'actualisation",{"$f":"Hypothèses!$B$6","v":7.0000000000000007E-2}]
["Investissement total",{"$f":"G45/G44","v":11111.111111111111},{"$f":"+G51/G50","v":2777.7777777777778},{"$f":"+B39-C39","v":8333.3333333333339},null,"Prix de référence du charbon",{"$f":"+Hypothèses!J20","v":2.0032051282051282},"US$/GJ"]
["Durée de vie du projet",10,10,null,null,"Charbon CO2-eq. facteur d'émission",{"$f":"+Hypothèses!C43","v":94.600000000000009},"kgCO2-eq./GJ"]
["Investissements nivelés",{"$f":"IF(B40=0,0,PMT($G38,B40,-B39))","v":1581.9722525262748},{"$f":"IF(C40=0,0,PMT($G38,C40,-C39))","v":395.4930631315687},{"$f":"B41-C41","v":1186.4791893947061},null,"Poids de la brique",3,"kg"]
["O&M annuelle ",null,null,{"$f":"B42-C42","v":0}]
["Coût annuel carburant",{"$f":"G47*G39/G44","v":5008.0128205128203},{"$f":"G53*G39/G50","v":16025.641025641025},{"$f":"B43-C43","v":-11017.628205128205},null,"Option de réduction: Four à briques à axe vertical "]
["Coûts totaux annuel",{"$f":"SUM(B41:B43)","v":6589.9850730390954},{"$f":"SUM(C41:C43)","v":16421.134088772593},{"$f":"B44-C44","v":-9831.1490157334974},null,"Production de briques",1.8,"Million/an"]
[null,null,null,null,null,"Investissement",20000,"US$"]
["Émissions annuelles (tonnes)","Tonnes","Tonnes","Réduction",null,"Utilisation de charbon pour 1000 briques",2.5,"GJ"]
["Éq.-CO2 d'émission de carburant",{"$f":"G47*G40/1000/G44","v":236.50000000000003},{"$f":"G53*G40/1000/G50","v":756.80000000000007},{"$f":"C47-B47","v":520.30000000000007},null,"Utilisation annuelle de charbon",{"$f":"G46*G44*1000","v":4500},"GJ"]
["Autres"]
["Émission total CO2-éq. ",{"$f":"B47+B48","v":236.50000000000003},{"$f":"C47+C48","v":756.80000000000007},{"$f":"C49-B49","v":520.30000000000007},null,"Option de référence: Vieux four à briques"]
[null,null,null,null,null,"Production de briques",{"$f":"+G44","v":1.8},"Million/an"]
["US$/ton CO2-eq.",null,null,{"$f":"IF(D49<>0,D44/D49,0)","v":-18.895154748670951},null,"Investissement",5000,"US$"]
[null,null,null,null,null,"Utilisation de charbon pour 1000 briques",8,"GJ"]
[null,null,null,null,null,"Utilisation annuelle de charbon",{"$f":"G52*G50*1000","v":14400},"GJ"]
[]
[]
[null,null,null,null,null,null,null,null,null,"From:","www.swisscontact.org/fileadmin/media/Medienberichte/0913_Vertical_Shaft_Brick_Kiln_VSBK_01.pdf"]
[]
[]
[]
[]
[]
[]
[]
[]
["Efficacité énergétique dans l'industrie (10% de réduction de la demande énergétique) en 2025",null,null,null,null,null,null,null,null,"Efficacité énergétique dans l'industrie (10% de réduction de la demande énergétique) en 2030",null,null,null,null,null,null,null,null,"Efficacité énergétique dans l'industrie (10% de réduction de la demande énergétique) en 2035",null,null,null,null,null,null,null,null,"Efficacité énergétique dans l'industrie (10% de réduction de la demande énergétique) en 2050"]
["Coûts en","Option de","Option de ","Augmentation",null,"Entrées générales:",null,null,null,"Coûts en","Option de","Option de ","Augmentation",null,"Entrées générales:",null,null,null,"Coûts en","Option de","Option de ","Augmentation",null,"Entrées générales:",null,null,null,"Coûts en","Option de","Option de ","Augmentation",null,"Entrées générales:"]
["US$","Réduction","Référence","(Réd.-Réf.)",null,"Taux d'actualisation",{"$f":"Hypothèses!$B$6","v":7.0000000000000007E-2},null,null,"US$","Réduction","Référence","(Réd.-Réf.)",null,"Taux d'actualisation",{"$f":"Hypothèses!$B$6","v":7.0000000000000007E-2},null,null,"US$","Réduction","Référence","(Réd.-Réf.)",null,"Taux d'actualisation",{"$f":"Hypothèses!$B$6","v":7.0000000000000007E-2},null,null,"US$","Réduction","Référence","(Réd.-Réf.)",null,"Taux d'actualisation",{"$f":"Hypothèses!$B$6","v":7.0000000000000007E-2}]
["Investissement total",{"$f":"G73*1000","v":132824942.5636631},null,{"$f":"+B68-C68","v":132824942.5636631},null,null,null,null,null,"Investissement total",{"$f":"P73*1000","v":177749735.48194495},null,{"$f":"+K68-L68","v":177749735.48194495},null,null,null,null,null,"Investissement total",{"$f":"Y73*1000","v":216259731.57494071},null,{"$f":"+T68-U68","v":216259731.57494071},null,null,null,null,null,"Investissement total",{"$f":"AH73*1000","v":291057125.58118761},null,{"$f":"+AC68-AD68","v":291057125.58118761}]
["Durée de vie du projet",20,null,null,null,"Option de réduction: réduire la consommation d'énergie ",null,null,null,"Durée de vie du projet",20,null,null,null,"Option de réduction: réduire la consommation d'énergie ",null,null,null,"Durée de vie du projet",20,null,null,null,"Option de réduction: réduire la consommation d'énergie ",null,null,null,"Durée de vie du projet",20,null,null,null,"Option de réduction: réduire la consommation d'énergie "]
["Investissements nivelés",{"$f":"IF(B69=0,0,PMT($G67,B69,-B68))","v":12537734.940264052},null,null,null,"Investissement",10,"US$/tCO2",null,"Investissements nivelés",{"$f":"IF(K69=0,0,PMT($P67,K69,-K68))","v":16778317.582230572},null,null,null,"Investissement",10,"US$/tCO2",null,"Investissements nivelés",{"$f":"IF(T69=0,0,PMT($Y67,T69,-T68))","v":20413388.783809785},null,null,null,"Investissement",10,"US$/tCO2",null,"Investissements nivelés",{"$f":"IF(AC69=0,0,PMT($AH67,AC69,-AC68))","v":27473733.642030489},null,null,null,"Investissement",10,"US$/tCO2"]
["O&M annuelle ",0,null,null,null,"Réduction des émissions",0.1,null,null,"O&M annuelle ",0,null,null,null,"Réduction des émissions",0.1,null,null,"O&M annuelle ",0,null,null,null,"Réduction des émissions",0.1,null,null,"O&M annuelle ",0,null,null,null,"Réduction des émissions",0.1]
["Coût annuel carburant",0,null,{"$f":"B72-C72","v":0},null,"Émissions réduites",{"$f":"G75*G71","v":13282.49425636631},"ktCO2",null,"Coût annuel carburant",0,null,{"$f":"K72-L72","v":0},null,"Émissions réduites",{"$f":"P75*P71","v":17774.973548194495},"ktCO2",null,"Coût annuel carburant",0,null,{"$f":"T72-U72","v":0},null,"Émissions réduites",{"$f":"Y75*Y71","v":21625.973157494071},"ktCO2",null,"Coût annuel carburant",0,null,{"$f":"AC72-AD72","v":0},null,"Émissions réduites",{"$f":"AH75*AH71","v":29105.712558118761},"ktCO2"]
["Coûts totaux annuel",{"$f":"SUM(B70:B72)","v":12537734.940264052},{"$f":"SUM(C70:C72)","v":0},{"$f":"B73-C73","v":12537734.940264052},null,"Coût de réduction",{"$f":"G70*G72","v":132824.94256366309},"kUS$",null,"Coûts totaux annuel",{"$f":"SUM(K70:K72)","v":16778317.582230572},{"$f":"SUM(L70:L72)","v":0},{"$f":"K73-L73","v":16778317.582230572},null,"Coût de réduction",{"$f":"P70*P72","v":177749.73548194495},"kUS$",null,"Coûts totaux annuel",{"$f":"SUM(T70:T72)","v":20413388.783809785},{"$f":"SUM(U70:U72)","v":0},{"$f":"T73-U73","v":20413388.783809785},null,"Coût de réduction",{"$f":"Y70*Y72","v":216259.7315749407},"kUS$",null,"Coûts totaux annuel",{"$f":"SUM(AC70:AC72)","v":27473733.642030489},{"$f":"SUM(AD70:AD72)","v":0},{"$f":"AC73-AD73","v":27473733.642030489},null,"Coût de réduction",{"$f":"AH70*AH72","v":291057.1255811876},"kUS$"]
[null,null,null,null,null,"Option de référence: ancienne consommation d'énergie",null,null,null,null,null,null,null,null,"Option de référence: ancienne consommation d'énergie",null,null,null,null,null,null,null,null,"Option de référence: ancienne consommation d'énergie",null,null,null,null,null,null,null,null,"Option de référence: ancienne consommation d'énergie"]
["Émissions annuelles (tonnes)","Tonnes","Tonnes","Réduction",null,"Émissions de l'industrie en 2025",{"$f":"SUM('Bilan 2025'!B65:B76)","v":132824.94256366309},"ktCO2",null,"Émissions annuelles (tonnes)","Tonnes","Tonnes","Réduction",null,"Émissions de l'industrie en 2030",{"$f":"SUM('Bilan 2030'!B65:B76)","v":177749.73548194495},"ktCO2",null,"Émissions annuelles (tonnes)","Tonnes","Tonnes","Réduction",null,"Émissions de l'industrie en 2035",{"$f":"SUM('Bilan 2035'!B65:B76)","v":216259.7315749407},"ktCO2",null,"Émissions annuelles (tonnes)","Tonnes","Tonnes","Réduction",null,"Émissions de l'industrie en 2050",{"$f":"SUM('Bilan 2050'!B65:B76)","v":291057.1255811876},"ktCO2"]
["Éq.-CO2 d'émission de carburant",0,{"$f":"+G72*1000","v":13282494.256366311},{"$f":"C76-B76","v":13282494.256366311},null,null,null,null,null,"Éq.-CO2 d'émission de carburant",0,{"$f":"+P72*1000","v":17774973.548194494},{"$f":"L76-K76","v":17774973.548194494},null,null,null,null,null,"Éq.-CO2 d'émission de carburant",0,{"$f":"+Y72*1000","v":21625973.157494072},{"$f":"U76-T76","v":21625973.157494072},null,null,null,null,null,"Éq.-CO2 d'émission de carburant",0,{"$f":"+AH72*1000","v":29105712.558118761},{"$f":"AD76-AC76","v":29105712.558118761}]
["Autres",null,null,null,null,null,null,null,null,"Autres",null,null,null,null,null,null,null,null,"Autres",null,null,null,null,null,null,null,null,"Autres"]
["Émission total CO2-éq. ",{"$f":"B76+B77","v":0},{"$f":"C76+C77","v":13282494.256366311},{"$f":"C78-B78","v":13282494.256366311},null,null,null,null,null,"Émission total CO2-éq. ",{"$f":"K76+K77","v":0},{"$f":"L76+L77","v":17774973.548194494},{"$f":"L78-K78","v":17774973.548194494},null,null,null,null,null,"Émission total CO2-éq. ",{"$f":"T76+T77","v":0},{"$f":"U76+U77","v":21625973.157494072},{"$f":"U78-T78","v":21625973.157494072},null,null,null,null,null,"Émission total CO2-éq. ",{"$f":"AC76+AC77","v":0},{"$f":"AD76+AD77","v":29105712.558118761},{"$f":"AD78-AC78","v":29105712.558118761}]
[]
["US$/ton CO2-eq.",null,null,{"$f":"IF(D78<>0,D73/D78,0)","v":0.94392925743255673},null,null,null,null,null,"US$/ton CO2-eq.",null,null,{"$f":"IF(M78<>0,M73/M78,0)","v":0.94392925743255696},null,null,null,null,null,"US$/ton CO2-eq.",null,null,{"$f":"IF(V78<>0,V73/V78,0)","v":0.94392925743255685},null,null,null,null,null,"US$/ton CO2-eq.",null,null,{"$f":"IF(AE78<>0,AE73/AE78,0)","v":0.94392925743255696}]

{"sheet":"EE chaleur résiduelle","index":25,"n_rows":51,"n_cols":8,"rows_kept":51,"cut":false,"hidden":false,"merged":[[0,0,0,2],[1,0,1,2],[2,0,2,2],[47,5,47,7],[6,5,6,7],[10,5,10,7],[18,5,18,7],[36,5,36,7],[39,5,39,7]]}
["Menu pour options de EE chaleur résiduelle (cliquez sur les liens ci-dessous)"]
["Récupération de la chaleur dans une cimenterie"]
["Récupération de la chaleur perdue dans l'usine de production d'acier"]
[]
[]
["Récupération de la chaleur dans une cimenterie"]
["Coûts en","Option de","Option de ","Augmentation",null,"Entrées générales:"]
["US$","Réduction","Référence","(Réd.-Réf.)",null,"Taux d'actualisation",{"$f":"+DiscountRate","v":7.0000000000000007E-2}]
["Investissement total",{"$f":"G16*1000000","v":11100000},null,null,null,"Prix de l'électricité",{"$f":"+Hypothèses!C25","v":0.2},"US$/kWh"]
["Durée de vie du projet",20]
["Investissements nivelés",{"$f":"IF(B10=0,0,PMT($G8,B10,-B9))","v":1047761.4757501382},null,{"$f":"B11-C11","v":1047761.4757501382},null,"Option de réduction: récupération de chaleur"]
["O&M annuelle ",{"$f":"G17*1000000","v":400000},null,{"$f":"B12-C12","v":400000},null,"Activité",1,"cimenterie"]
["Coût annuel carburant",null,{"$f":"G21*G9*1000","v":16417260.000000002},{"$f":"B13-C13","v":-16417260.000000002},null,"Puissance extraite",12.27,"MW"]
["Coûts totaux annuel",{"$f":"SUM(B11:B13)","v":1447761.4757501381},{"$f":"SUM(C11:C13)","v":16417260.000000002},{"$f":"B14-C14","v":-14969498.524249863},null,"Temps de d'opération",6690,"Heures"]
[null,null,null,null,null,"Électricité produite",{"$f":"G13*G14","v":82086.3},"MWh"]
["Émissions annuelles (tonnes)","Tonnes","Tonnes","Réduction",null,"Investissement",11.1,"Million US$"]
["Éq.-CO2 d'émission de carburant",null,{"$f":"G21*G20","v":39852.898650000003},{"$f":"C17-B17","v":39852.898650000003},null,"O&M",0.4,"Million US$"]
["Autres"]
["Émission total CO2-éq. ",{"$f":"B17+B18","v":0},{"$f":"C17+C18","v":39852.898650000003},{"$f":"C19-B19","v":39852.898650000003},null,"Option de référence: pas de récup. de chaleur"]
[null,null,null,null,null,"Marge combinée",{"$f":"+Hypothèses!C30","v":0.48549999999999999},"tCO2/MWh"]
["US$/ton CO2-eq.",null,null,{"$f":"IF(D19<>0,D14/D19,0)","v":-375.61881397176268},null,"Électricité achetée",{"$f":"+G15","v":82086.3},{"$f":"+H15","v":"MWh"}]
[]
[]
[]
[]
[]
[]
[]
[]
[]
[]
[]
[]
[]
[]
["Récupération de la chaleur perdue dans l'usine de production d'acier"]
["Coûts en","Option de","Option de ","Augmentation",null,"Entrées générales:"]
["US$","Réduction","Référence","(Réd.-Réf.)",null,"Taux d'actualisation",{"$f":"+DiscountRate","v":7.0000000000000007E-2}]
["Investissement total",{"$f":"G45*1000000","v":6000000}]
["Durée de vie du projet",20,null,null,null,"Option de réduction: récupération de chaleur"]
["Investissements nivelés",{"$f":"IF(B40=0,0,PMT($G38,B40,-B39))","v":566357.55445953412},null,{"$f":"B41-C41","v":566357.55445953412},null,"Activité",1,"aciérie "]
["O&M annuelle ",{"$f":"G46*1000000","v":210000.00000000003},null,{"$f":"B42-C42","v":210000.00000000003},null,"Puissance extraite",12,"MW"]
["Coût annuel carburant",null,{"$f":"G50*G51*1000","v":15120000},{"$f":"B43-C43","v":-15120000},null,"Temps de d'opération",6300,"Heures"]
["Coûts totaux annuel",{"$f":"SUM(B41:B43)","v":776357.55445953412},{"$f":"SUM(C41:C43)","v":15120000},{"$f":"B44-C44","v":-14343642.445540465},null,"Électricité produite",{"$f":"G42*G43","v":75600},"MWh"]
[null,null,null,null,null,"Investissement",6,"Million US$"]
["Émissions annuelles (tonnes)","Tonnes","Tonnes","Réduction",null,"O&M",{"$f":"G45*0.035","v":0.21000000000000002},"Million US$"]
["Éq.-CO2 d'émission de carburant",null,{"$f":"G50*G49","v":36703.799999999996},{"$f":"C47-B47","v":36703.799999999996}]
["Autres",null,null,null,null,"Option de référence: pas de récup. de chaleur"]
["Émission total CO2-éq. ",{"$f":"B47+B48","v":0},{"$f":"C47+C48","v":36703.799999999996},{"$f":"C49-B49","v":36703.799999999996},null,"Marge combinée",{"$f":"+Hypothèses!C30","v":0.48549999999999999},"tCO2/MWh"]
[null,null,null,null,null,"Électricité achetée",{"$f":"+G44","v":75600},{"$f":"+H44","v":"MWh"}]
["US$/ton CO2-eq.",null,null,{"$f":"IF(D49<>0,D44/D49,0)","v":-390.79448028652257},null,"Prix de l'électricité",{"$f":"+Hypothèses!C25","v":0.2},"US$/kWh"]

{"sheet":"EE services","index":26,"n_rows":459,"n_cols":35,"rows_kept":459,"cut":false,"hidden":false,"merged":[[357,5,357,7],[392,5,392,7],[231,5,231,7],[422,5,422,7],[0,0,0,5],[260,5,260,7],[292,5,292,7],[324,5,324,7],[1,0,1,2],[2,0,2,2],[5,0,5,2],[12,5,12,7],[106,5,106,7],[112,5,112,7],[40,5,40,7],[4,0,4,2],[206,32,206,34],[171,5,171,7],[142,5,142,7],[6,0,6,2],[72,5,72,7],[206,5,206,7],[206,14,206,16],[206,23,206,25]]}
["Menu pour options de EE services (cliquez sur les liens ci-dessous)"]
["Moteur électrique efficace",null,null,"Refroidisseur efficace > 300 TR"]
["Éclairage de bureau efficace (LFC)",null,null,"Refroidisseur efficace < 300 TR"]
["Éclairage de bureau efficace (LED)",null,null,"Climatiseur efficace"]
["Lampadaires efficaces",null,null,"Lave-vaisselle commercial efficace"]
["Pompage d'eau efficace",null,null,"Réfrigérateur d'hôtel efficace"]
["Nouvel immeuble à bureaux avec refroidissement central",null,null,"Machine à laver d'hôtel efficace"]
["Efficacité énergétique en service"]
["Chauffage, ventilation, climatisation (100,000 m2)"]
[]
[]
["Moteur électrique efficace"]
["Coûts en","Option de","Option de ","Augmentation",null,"Entrées générales:"]
["US$","Réduction","Référence","(Réd.-Réf.)",null,"Taux d'actualisation",{"$f":"Hypothèses!$B$6","v":7.0000000000000007E-2}]
["Investissement total",{"$f":"G26*G21","v":150},{"$f":"G35*G31","v":30},{"$f":"+B15-C15","v":120},null,"Prix de l'électricité",{"$f":"+Hypothèses!C25","v":0.2},"US$/kWh"]
["Durée de vie du projet",{"$f":"G22","v":10},10,null,null,"CO2-éq. coefficient d'émission",{"$f":"+Hypothèses!C30","v":0.48549999999999999},"tCO2/MWh"]
["Investissements nivelés",{"$f":"IF(B16=0,0,PMT($G14,B16,-B15))","v":21.356625409104709},{"$f":"IF(C16=0,0,PMT($G$14,C16,-C15))","v":4.2713250818209421},{"$f":"B17-C17","v":17.085300327283768},null,"Perte de réseau",{"$f":"+Hypothèses!B33","v":0.186}]
["O&M annuelle ",0,0,{"$f":"B18-C18","v":0}]
["Coût annuel carburant",{"$f":"G25*G15","v":871.1111111111112},{"$f":"G34*G15","v":1088.8888888888889},{"$f":"B19-C19","v":-217.77777777777771},null,"Option de réduction: nouveaux moteurs efficaces"]
["Coûts totaux annuel",{"$f":"SUM(B17:B19)","v":892.46773652021591},{"$f":"SUM(C17:C19)","v":1093.1602139707099},{"$f":"B20-C20","v":-200.69247745049404},null,"O&M  ",0.01]
[null,null,null,null,null,"Activité",1,"kW"]
["Émissions annuelles (tonnes)","Tonnes","Tonnes","Réduction",null,"Durée de vie",10,"Années"]
["Éq.-CO2 d'émission de carburant",{"$f":"G25/1000*G16/(1-G17)","v":2.597815997815998},{"$f":"G34/1000*G16/(1-G17)","v":3.247269997269997},{"$f":"C23-B23","v":0.64945399945399895},null,"Temps d'utilisation",{"$f":"16*(365-100-20)","v":3920},"Heures"]
["Autres",null,null,null,null,"Efficacité du moteur",0.9]
["Émission total CO2-éq. ",{"$f":"B23+B24","v":2.597815997815998},{"$f":"C23+C24","v":3.247269997269997},{"$f":"C25-B25","v":0.64945399945399895},null,"Électricité annuelle utilisée",{"$f":"G21*G23/G24","v":4355.5555555555557},"kWh"]
[null,null,null,null,null,"Invest. dans un moteur efficace",150,"US$/kW"]
["US$/ton CO2-eq.",null,null,{"$f":"IF(D25<>0,D20/D25,0)","v":-309.0172323508944},null,"Économie annuelle d'électricité",{"$f":"+G34-G25","v":1088.8888888888887},"kWh"]
[]
[null,null,null,null,null,"Option de référence: anciens moteurs"]
[null,null,null,null,null,"O&M ",0.01]
[null,null,null,null,null,"Activité",1,"kW"]
[null,null,null,null,null,"Temps d'utilisation",{"$f":"G23","v":3920},"Heures"]
[null,null,null,null,null,"Efficacité du moteur",0.72]
[null,null,null,null,null,"Électricité annuelle utilisée",{"$f":"G31*G32/G33","v":5444.4444444444443},"kWh"]
[null,null,null,null,null,"Réparation de l'ancien moteur",30,"US$/kW"]
[]
[]
[]
[]
["Éclairage de bureau efficace avec LFC (1000 unités)"]
["Coûts en","Option de","Option de ","Augmentation",null,"Entrées générales:"]
["US$","Réduction","Référence","(Réd.-Réf.)",null,"Taux d'actualisation",{"$f":"Hypothèses!$B$6","v":7.0000000000000007E-2}]
["Investissement total",{"$f":"G49*G50","v":10000},{"$f":"G59*G60*(1+1/(1+G64)+1/(1+G64)^2+1/(1+G64)^3+1/(1+G64)^4+1/(1+G64)^5+1/(1+G64)^6+1/(1+G64)^7)","v":3414.8550981120366},{"$f":"+B43-C43","v":6585.144901887963},null,"Prix moyen de l'électricité",{"$f":"+Hypothèses!C25","v":0.2},"US$/kWh"]
["Durée de vie du projet",{"$f":"G51/G53/365","v":5.4794520547945202},{"$f":"+B44","v":5.4794520547945202},null,null,"CO2-éq. coefficient d'émission",{"$f":"+Hypothèses!C30","v":0.48549999999999999},"ton CO2-eq./MWh"]
["Investissements nivelés",{"$f":"IF(B44=0,0,PMT($G$42,B44,-B43))","v":2259.7314468736276},{"$f":"IF(C44=0,0,PMT($G$42,C44,-C43))","v":771.66554517204952},{"$f":"B45-C45","v":1488.0659017015782},null,"Perte de réseau",{"$f":"+Hypothèses!B33","v":0.186}]
["O&M annuelle ",{"$f":"PMT(G42,B44,-(+G48*G49))","v":33.895971703104408},{"$f":"PMT(G42,B44,-(+G58*G59*G51/G59))","v":271.16777362483526},{"$f":"B46-C46","v":-237.27180192173086}]
["Coût annuel carburant",{"$f":"G54*1000*G43","v":4380},{"$f":"G67*1000*G43","v":17520},{"$f":"B47-C47","v":-13140},null,"Option de réduction: lampes fluorescentes compactes"]
["Coûts totaux annuel",{"$f":"SUM(B45:B47)","v":6673.6274185767325},{"$f":"SUM(C45:C47)","v":18562.833318796886},{"$f":"B48-C48","v":-11889.205900220153},null,"O&M ",0.15,"US$/changement de lampe"]
[null,null,null,null,null,"Activité",1000,"locations"]
["Émissions annuelles (tonnes)","Tonnes","Tonnes","Réduction",null,"Coût d'une lampe efficace",10,"US$"]
["Éq.-CO2 d'émission de carburant",{"$f":"G54*G44/(1-G45)","v":13.061977886977884},{"$f":"G67*G44/(1-G45)","v":52.247911547911535},{"$f":"C51-B51","v":39.185933660933649},null,"Durée de vie de la lampe",8000,"heures"]
["Autres",null,null,null,null,"Puissance de la lampe",15,"W"]
["Émission total CO2-éq. ",{"$f":"B51+B52","v":13.061977886977884},{"$f":"C51+C52","v":52.247911547911535},{"$f":"C53-B53","v":39.185933660933649},null,"Utilisation quotidienne",4,"heures"]
[null,null,null,null,null,"Électricité annuelle utilisée",{"$f":"G53*G52*G49*365/1000000","v":21.9},"MWh"]
["US$/ton CO2-eq.",null,null,{"$f":"IF(D53<>0,D48/D53,0)","v":-303.40494124995359},null,"Électricité annuelle économisée",{"$f":"+G67-G54","v":65.699999999999989},"MWh"]
[]
[null,null,null,null,null,"Option de référence: lampes à incandescence"]
[null,null,null,null,null,"O&M ",0.15,"US$/changement de lampe"]
[null,null,null,null,null,"Activité",{"$f":"+G49","v":1000},{"$f":"+H49","v":"locations"}]
[null,null,null,null,null,"Coût de la lampe à incandescence",0.5,"US$"]
[null,null,null,null,null,"Durée de vie de la lampe 1",1000,"heures"]
[null,null,null,null,null,"Durée de vie de la lampe 2",{"$f":"G61/4","v":250},"jours"]
[null,null,null,null,null,"Remplacement de la lampe requis",{"$f":"G51/G61","v":8},"fois"]
[null,null,null,null,null,"Taux d'actualisation de la lampe",{"$f":"G42*G62/365","v":4.7945205479452052E-2}]
[null,null,null,null,null,"Puissance de la lampe",60,"W"]
[null,null,null,null,null,"Utilisation quotidienne",{"$f":"G53","v":4},"heures"]
[null,null,null,null,null,"Électricité annuelle utilisée",{"$f":"G65*G66*G59*365/1000000","v":87.6},"MWh"]
[]
[]
[]
[]
["Éclairage de bureau efficace avec LED (1000 unités)"]
["Coûts en","Option de","Option de ","Augmentation",null,"Entrées générales:"]
["US$","Réduction","Référence","(Réd.-Réf.)",null,"Taux d'actualisation",{"$f":"Hypothèses!$B$6","v":7.0000000000000007E-2}]
["Investissement total",{"$f":"G81*G82","v":20000},{"$f":"G91*G92*(1+1/(1+G96)+1/(1+G96)^2+1/(1+G96)^3+1/(1+G96)^4+1/(1+G96)^5+1/(1+G96)^6+1/(1+G96)^7)","v":3414.8550981120366},{"$f":"+B75-C75","v":16585.144901887965},null,"Prix moyen de l'électricité",{"$f":"+Hypothèses!C25","v":0.2},"US$/kWh"]
["Durée de vie du projet",{"$f":"G83/G85/365","v":6.8493150684931505},{"$f":"+B76","v":6.8493150684931505},null,null,"CO2-éq. coefficient d'émission",{"$f":"+Hypothèses!C30","v":0.48549999999999999},"ton CO2-eq./MWh"]
["Investissements nivelés",{"$f":"IF(B76=0,0,PMT($G$74,B76,-B75))","v":3774.9202382748113},{"$f":"IF(C76=0,0,PMT($G$74,C76,-C75))","v":644.54028103195208},{"$f":"B77-C77","v":3130.3799572428593},null,"Perte de réseau",{"$f":"+Hypothèses!B33","v":0.186}]
["O&M annuelle ",{"$f":"PMT(G74,B76,-(+G80*G81))","v":28.311901787061082},{"$f":"PMT(G74,B76,-(+G90*G91*G83/G91))","v":283.11901787061083},{"$f":"B78-C78","v":-254.80711608354974}]
["Coût annuel carburant",{"$f":"G86*1000*G75","v":2628},{"$f":"G99*1000*G75","v":17520},{"$f":"B79-C79","v":-14892},null,"Option de réduction: LED"]
["Coûts totaux annuel",{"$f":"SUM(B77:B79)","v":6431.232140061873},{"$f":"SUM(C77:C79)","v":18447.659298902563},{"$f":"B80-C80","v":-12016.42715884069},null,"O&M ",0.15,"US$/changement de lampe"]
[null,null,null,null,null,"Activité",1000,"locations"]
["Émissions annuelles (tonnes)","Tonnes","Tonnes","Réduction",null,"Coût d'une lampe efficace",20,"US$"]
["Éq.-CO2 d'émission de carburant",{"$f":"G86*G76/(1-G77)","v":7.8371867321867326},{"$f":"G99*G76/(1-G77)","v":52.247911547911535},{"$f":"C83-B83","v":44.410724815724805},null,"Durée de vie de la lampe",10000,"heures"]
["Autres",null,null,null,null,"Puissance de la lampe",9,"W"]
["Émission total CO2-éq. ",{"$f":"B83+B84","v":7.8371867321867326},{"$f":"C83+C84","v":52.247911547911535},{"$f":"C85-B85","v":44.410724815724805},null,"Utilisation quotidienne",4,"heures"]
[null,null,null,null,null,"Électricité annuelle utilisée",{"$f":"G85*G84*G81*365/1000000","v":13.14},"MWh"]
["US$/ton CO2-eq.",null,null,{"$f":"IF(D85<>0,D80/D85,0)","v":-270.57489398565167},null,"Électricité annuelle économisée",{"$f":"+G99-G86","v":74.459999999999994},"MWh"]
[]
[null,null,null,null,null,"Option de référence: lampes à incandescence"]
[null,null,null,null,null,"O&M ",0.15,"US$/changement de lampe"]
[null,null,null,null,null,"Activité",{"$f":"+G81","v":1000},{"$f":"+H81","v":"locations"}]
[null,null,null,null,null,"Coût de la lampe à incandescence",0.5,"US$"]
[null,null,null,null,null,"Durée de vie de la lampe 1",1000,"heures"]
[null,null,null,null,null,"Durée de vie de la lampe 2",{"$f":"G93/4","v":250},"jours"]
[null,null,null,null,null,"Remplacement de la lampe requis",{"$f":"G83/G93","v":10},"fois"]
[null,null,null,null,null,"Taux d'actualisation de la lampe",{"$f":"G74*G94/365","v":4.7945205479452052E-2}]
[null,null,null,null,null,"Puissance de la lampe",60,"W"]
[null,null,null,null,null,"Utilisation quotidienne",{"$f":"G85","v":4},"heures"]
[null,null,null,null,null,"Électricité annuelle utilisée",{"$f":"G97*G98*G91*365/1000000","v":87.6},"MWh"]
[]
[]
[]
[]
[]
[]
["Lampadaires efficaces -  tubes LED (1000 locations)"]
["Coûts en","Option de","Option de ","Augmentation",null,"Entrées générales:"]
["US$","Réduction","Référence","(Réd.-Réf.)",null,"Taux d'actualisation",{"$f":"+DiscountRate","v":7.0000000000000007E-2}]
["Investissement total",{"$f":"G115*G116*1000/G115","v":162000},{"$f":"(G125*G124 + G125*G124*0.3/(1+G108)^5.5)*1000/G115","v":90508.569507572756},{"$f":"B109-C109","v":71491.430492427244},null,"Prix moyen de l'électricité",{"$f":"+Hypothèses!C25","v":0.2},"US$/kWh"]
["Durée de vie du projet",7,7,null,null,"CO2-éq. coefficient d'émission",{"$f":"+Hypothèses!C30","v":0.48549999999999999},"ton CO2-eq./MWh"]
["Investissements nivelés",{"$f":"IF(B110=0,0,PMT($G108,B110,-B109))","v":30059.621580247811},{"$f":"IF(C110=0,0,PMT($G$108,C110,-C109))","v":16794.156476340697},{"$f":"B111-C111","v":13265.465103907114},null,"Perte de réseau",{"$f":"+Hypothèses!B33","v":0.186}]
["O&M annuelle ",null,null,{"$f":"B112-C112","v":0}]
["Coût annuel carburant",{"$f":"G121*1000*G109*1000/G115","v":87600},{"$f":"G132*1000*G109*1000/G115","v":219000},{"$f":"B113-C113","v":-131400},null,"Option de réduction: Tubes LED 100 W"]
["Coûts totaux annuel",{"$f":"SUM(B111:B113)","v":117659.62158024781},{"$f":"SUM(C111:C113)","v":235794.15647634069},{"$f":"B114-C114","v":-118134.53489609288},null,"O&M ",null,"US$/changement de lampes"]
[null,null,null,null,null,"Activité",2200,"locations"]
["Émissions annuelles (tonnes)","Tonnes","Tonnes","Réduction",null,"Coût d'une lampe efficace",162,"US$"]
["Éq.-CO2 d'émission de carburant",{"$f":"G121*G110*1000/G115/(1-G111)","v":261.23955773955777},{"$f":"G132*G110*1000/G115/(1-G111)","v":653.09889434889419},{"$f":"C117-B117","v":391.85933660933642},null,"Durée de vie de la lampe",50000,"heures"]
["Autres",null,null,null,null,"Puissance de la lampe",{"$f":"G117/G120/365","v":11.415525114155251},"Années"]
["Émission total CO2-éq. ",{"$f":"B117+B118","v":261.23955773955777},{"$f":"C117+C118","v":653.09889434889419},{"$f":"C119-B119","v":391.85933660933642},null,"Utilisation quotidienne",100,"W"]
[null,null,null,null,null,"Électricité annuelle utilisée",12,"heures"]
["US$/ton CO2-eq.",null,null,{"$f":"IF(D119<>0,D114/D119,0)","v":-301.47178811224023},null,"Électricité annuelle économisée",{"$f":"G120*G119*G115*365/1000000","v":963.6},"MWh"]
[null,null,null,null,null,"Option de référence: Lampe sodium 250 W"]
[null,null,null,null,null,"O&M ",null,"US$/changement de lampes"]
[null,null,null,null,null,"Activité",2200,{"$f":"+H115","v":"locations"}]
[null,null,null,null,null,"Coût de la lampe à incandescence",75,"US$"]
[null,null,null,null,null,"Durée de vie de la lampe 1",24000,"heures"]
[null,null,null,null,null,"Durée de vie de la lampe 2",{"$f":"G126/G131/365","v":5.4794520547945202},"Années"]
[null,null,null,null,null,"Remplacement de la lampe requis",{"$f":"7/G127","v":1.2775000000000001},"fois"]
[null,null,null,null,null,"Taux d'actualisation de la lampe",{"$f":"G108*G127/365","v":1.0508538187277163E-3}]
[null,null,null,null,null,"Puissance de la lampe",250,"W"]
[null,null,null,null,null,"Utilisation quotidienne",{"$f":"G120","v":12},"heures"]
[null,null,null,null,null,"Électricité annuelle utilisée",{"$f":"G130*G131*G124*365/1000000","v":2409},"MWh"]
[]
[]
[null,null,null,null,null,"Électricité économisée en 2200 lumières",{"$f":"G132-G121","v":1445.4},"MWh"]
[null,null,null,null,null,null,{"$f":"G135/G132","v":0.60000000000000009},"réduction"]
[]
[]
[]
[]
[]
["Pompage d'eau efficace (4 M3 d'eau)"]
["Coûts en","Option de","Option de ","Augmentation",null,"Entrées générales:"]
["US$","Réduction","Référence","(Réd.-Réf.)",null,"Taux d'actualisation",{"$f":"Hypothèses!$B$6","v":7.0000000000000007E-2}]
["Investissement total",{"$f":"G150*1000000","v":200000},null,null,null,"Prix moyen de l'électricité",{"$f":"+Hypothèses!C25","v":0.2},"US$/kWh"]
["Durée de vie du projet",{"$f":"+G151","v":20},null,null,null,"CO2-éq. coefficient d'émission",{"$f":"+Hypothèses!C30","v":0.48549999999999999},"tCO2/MWh"]
["Investissements nivelés",{"$f":"IF(B146=0,0,PMT($G144,B146,-B145))","v":18878.585148651142},null,{"$f":"B147-C147","v":18878.585148651142},null,"Perte de réseau",{"$f":"+Hypothèses!B33","v":0.186}]
["O&M annuelle ",0,0,{"$f":"B148-C148","v":0}]
["Coût annuel carburant",{"$f":"G155*G145*1000000","v":800000},{"$f":"G162*G145*1000000","v":1056000},{"$f":"B149-C149","v":-256000},null,"Option de réduction: Nouvelles pompes efficaces"]
["Coûts totaux annuel",{"$f":"SUM(B147:B149)","v":818878.58514865115},{"$f":"SUM(C147:C149)","v":1056000},{"$f":"B150-C150","v":-237121.41485134885},null,"Invest. dans des pompes efficaces",0.2,"Million US$"]
[null,null,null,null,null,"Durée de vie",20,"Années"]
["Émissions annuelles (tonnes)","Tonnes","Tonnes","Réduction",null,"O&M  ",8.0000000000000002E-3]
["Éq.-CO2 d'émission de carburant",{"$f":"G155*G146*1000/(1-G147)","v":2385.7493857493855},{"$f":"G162*G146*1000/(1-G147)","v":3149.1891891891892},{"$f":"C153-B153","v":763.43980343980365},null,"Activité",4,"Million m3 d'eau"]
["Autres",null,null,null,null,"Efficacité de la pompe",1,"kWh/m3"]
["Émission total CO2-éq. ",{"$f":"B153+B154","v":2385.7493857493855},{"$f":"C153+C154","v":3149.1891891891892},{"$f":"C155-B155","v":763.43980343980365},null,"Électricité annuelle utilisée",{"$f":"G153*G154","v":4},"GWh"]
[null,null,null,null,null,"Électricité annuelle économisée",{"$f":"G162-G155","v":1.2800000000000002},"GWh"]
["US$/ton CO2-eq.",null,null,{"$f":"IF(D155<>0,D150/D155,0)","v":-310.59608600829995}]
[null,null,null,null,null,"Option de référence: Anciennes pompes"]
[null,null,null,null,null,"O&M ",0.01]
[null,null,null,null,null,"Activité",{"$f":"G153","v":4},{"$f":"H153","v":"Million m3 d'eau"}]
[null,null,null,null,null,"Efficacité de la pompe",1.32,"kWh/m3"]
[null,null,null,null,null,"Électricité annuelle utilisée",{"$f":"G160*G161","v":5.28},"GWh"]
[]
[]
[]
[]
[]
[]
[]
[]
["Nouvel immeuble à bureaux avec refroidissement central - 1000 m2 de plancher"]
["Coûts en","Option de","Option de ","Augmentation",null,"Entrées générales:"]
["US$","Réduction","Référence","(Réd.-Réf.)",null,"Taux d'actualisation",{"$f":"+DiscountRate","v":7.0000000000000007E-2}]
["Investissement total",{"$f":"+G186/G179*1000","v":38416.967975206608},{"$f":"+G195*112/G179*1000","v":31818.181818181816},{"$f":"+B174-C174","v":6598.7861570247915},null,"Prix moyen de l'électricité",{"$f":"+Hypothèses!C25","v":0.2},"US$/kWh"]
["Durée de vie du projet",7,7,null,null,"CO2-éq. coefficient d'émission",{"$f":"+Hypothèses!C30","v":0.48549999999999999},"ton CO2-eq./MWh"]
["Investissements nivelés",{"$f":"IF(B175=0,0,PMT($G173,B175,-B174))","v":7128.3920962667262},{"$f":"IF(C175=0,0,PMT($G$173,C175,-C174))","v":5903.9660791732513},{"$f":"B176-C176","v":1224.4260170934749},null,"Perte de réseau",{"$f":"+Hypothèses!B33","v":0.186}]
["O&M annuelle ",null,null,{"$f":"B177-C177","v":0},null,"1 TR = capacité de refroidissement de 3,5 kW"]
["Coût annuel carburant",{"$f":"G184*1000*G174/G179*1000","v":19487.603305785127},{"$f":"G194*1000*G174/G179*1000","v":31180.165289256198},{"$f":"B178-C178","v":-11692.561983471071},null,"Option de réduction: nouvel immeuble à bureaux (système centralisé)"]
["Coûts totaux annuel",{"$f":"SUM(B176:B178)","v":26615.995402051853},{"$f":"SUM(C176:C178)","v":37084.131368429451},{"$f":"B179-C179","v":-10468.135966377598},null,"Surface plancher",1936,"m2"]
[null,null,null,null,null,"Refroidissement connecté",98.25,"TR"]
["Émissions annuelles (tonnes)","Tonnes","Tonnes","Réduction",null,"Puissance spécifique utilisée",0.8,"kW/TR"]
["Éq.-CO2 d'émission de carburant",{"$f":"G184*G175/G179*1000/(1-G176)","v":58.115672020630711},{"$f":"G194*G175/G179*1000/(1-G176)","v":92.985075233009113},{"$f":"C182-B182","v":34.869403212378401},null,"Puissance d'entrée",{"$f":"G180*G181","v":78.600000000000009},"kW"]
["Autres",null,null,null,null,"Heures d'opérations",{"$f":"+G193","v":2400},"heures/an"]
["Émission total CO2-éq. ",{"$f":"B182+B183","v":58.115672020630711},{"$f":"C182+C183","v":92.985075233009113},{"$f":"C184-B184","v":34.869403212378401},null,"Électricité utilisée pour refroidissement",{"$f":"G182*G183/1000","v":188.64000000000004},"MWh"]
[null,null,null,null,null,"Coût unitaire d'une clim. centralisée",757,"US$/TR"]
["US$/ton CO2-eq.",null,null,{"$f":"IF(D184<>0,D179/D184,0)","v":-300.20978284656968},null,"Coût du système centralisé",{"$f":"G185*G180","v":74375.25},"US$"]
[null,null,null,null,null,"Option de référence: Buidling Conventionnel (Système décentralisé)"]
[null,null,null,null,null,"Surface plancher",1936,"m2"]
[null,null,null,null,null,"Refroidissement connecté",98.25,"TR"]
[null,null,null,null,null,"Puissance spécifique utilisée",1.28,"kW/TR"]
[null,null,null,null,null,"Puissance d'entrée",{"$f":"G189*G190","v":125.76},"kW"]
[null,null,null,null,null,"Refroidissement utilisé",{"$f":"G189/G188","v":5.0748966942148761E-2},"TR/m2"]
[null,null,null,null,null,"Heures d'opérations",2400,"heures/an"]
[null,null,null,null,null,"Électricité utilisée pour refroidissement",{"$f":"G191*G193/1000","v":301.82400000000001},"MWh"]
[null,null,null,null,null,"Coût unitaire d'une clim. centralisée",550,"US$"]
[null,null,null,null,null,"Coût du système centralisé",112]
[]
[null,null,null,null,null,"Électricité économisée dans le bâtiment",{"$f":"G194-G184","v":113.18399999999997},"MWh"]
[null,null,null,null,null,"Électricité économisée par m2",{"$f":"G198/G188","v":5.8462809917355356E-2},"MWh"]
[null,null,null,null,null,"Électricité économisée 270336 m2",{"$f":"G199*270336","v":15804.602181818178},"MWh"]
[null,null,null,null,null,null,{"$f":"(G194-G184)/G194","v":0.37499999999999989},"Saving"]
[]
[]
[]
[]
["Efficacité énergétique en service (10% de réduction de la demande énergétique) en 2025",null,null,null,null,null,null,null,null,"Efficacité énergétique en service (10% de réduction de la demande énergétique) en 2030",null,null,null,null,null,null,null,null,"Efficacité énergétique en service (10% de réduction de la demande énergétique) en 2035",null,null,null,null,null,null,null,null,"Efficacité énergétique en service (10% de réduction de la demande énergétique) en 2050"]
["Coûts en","Option de","Option de ","Augmentation",null,"Entrées générales:",null,null,null,"Coûts en","Option de","Option de ","Augmentation",null,"Entrées générales:",null,null,null,"Coûts en","Option de","Option de ","Augmentation",null,"Entrées générales:",null,null,null,"Coûts en","Option de","Option de ","Augmentation",null,"Entrées générales:"]
["US$","Réduction","Référence","(Réd.-Réf.)",null,"Taux d'actualisation",{"$f":"Hypothèses!$B$6","v":7.0000000000000007E-2},null,null,"US$","Réduction","Référence","(Réd.-Réf.)",null,"Taux d'actualisation",{"$f":"Hypothèses!$B$6","v":7.0000000000000007E-2},null,null,"US$","Réduction","Référence","(Réd.-Réf.)",null,"Taux d'actualisation",{"$f":"Hypothèses!$B$6","v":7.0000000000000007E-2},null,null,"US$","Réduction","Référence","(Réd.-Réf.)",null,"Taux d'actualisation",{"$f":"Hypothèses!$B$6","v":7.0000000000000007E-2}]
["Investissement total",{"$f":"G214*1000","v":42726888.714123398},null,{"$f":"+B209-C209","v":42726888.714123398},null,null,null,null,null,"Investissement total",{"$f":"P214*1000","v":57178215.328508735},null,{"$f":"+K209-L209","v":57178215.328508735},null,null,null,null,null,"Investissement total",{"$f":"Y214*1000","v":69566041.633482322},null,{"$f":"+T209-U209","v":69566041.633482322},null,null,null,null,null,"Investissement total",{"$f":"AH214*1000","v":93626732.857042059},null,{"$f":"+AC209-AD209","v":93626732.857042059}]
["Durée de vie du projet",20,null,null,null,"Option de réduction: consommation d'énergie réduite",null,null,null,"Durée de vie du projet",20,null,null,null,"Option de réduction: consommation d'énergie réduite",null,null,null,"Durée de vie du projet",20,null,null,null,"Option de réduction: consommation d'énergie réduite",null,null,null,"Durée de vie du projet",20,null,null,null,"Option de réduction: consommation d'énergie réduite"]
["Investissements nivelés",{"$f":"IF(B210=0,0,PMT($G208,B210,-B209))","v":4033116.0336325997},null,null,null,"Investissement",10,"US$/tCO2",null,"Investissements nivelés",{"$f":"IF(K210=0,0,PMT($P208,K210,-K209))","v":5397219.0336358091},null,null,null,"Investissement",10,"US$/tCO2",null,"Investissements nivelés",{"$f":"IF(T210=0,0,PMT($Y208,T210,-T209))","v":6566542.202161531},null,null,null,"Investissement",10,"US$/tCO2",null,"Investissements nivelés",{"$f":"IF(AC210=0,0,PMT($AH208,AC210,-AC209))","v":8837701.2421584092},null,null,null,"Investissement",10,"US$/tCO2"]
["O&M annuelle ",0,null,null,null,"Réduction des émissions",0.1,null,null,"O&M annuelle ",0,null,null,null,"Réduction des émissions",0.1,null,null,"O&M annuelle ",0,null,null,null,"Réduction des émissions",0.1,null,null,"O&M annuelle ",0,null,null,null,"Réduction des émissions",0.1]
["Coût annuel carburant",0,null,{"$f":"B213-C213","v":0},null,"Émissions réduite",{"$f":"G216*G212","v":4272.6888714123397},"ktCO2",null,"Coût annuel carburant",0,null,{"$f":"K213-L213","v":0},null,"Émissions réduite",{"$f":"P216*P212","v":5717.8215328508732},"ktCO2",null,"Coût annuel carburant",0,null,{"$f":"T213-U213","v":0},null,"Émissions réduite",{"$f":"Y216*Y212","v":6956.6041633482328},"ktCO2",null,"Coût annuel carburant",0,null,{"$f":"AC213-AD213","v":0},null,"Émissions réduite",{"$f":"AH216*AH212","v":9362.6732857042061},"ktCO2"]
["Coûts totaux annuel",{"$f":"SUM(B211:B213)","v":4033116.0336325997},{"$f":"SUM(C211:C213)","v":0},{"$f":"B214-C214","v":4033116.0336325997},null,"Coût de la réduction",{"$f":"G211*G213","v":42726.888714123401},"kUS$",null,"Coûts totaux annuel",{"$f":"SUM(K211:K213)","v":5397219.0336358091},{"$f":"SUM(L211:L213)","v":0},{"$f":"K214-L214","v":5397219.0336358091},null,"Coût de la réduction",{"$f":"P211*P213","v":57178.215328508733},"kUS$",null,"Coûts totaux annuel",{"$f":"SUM(T211:T213)","v":6566542.202161531},{"$f":"SUM(U211:U213)","v":0},{"$f":"T214-U214","v":6566542.202161531},null,"Coût de la réduction",{"$f":"Y211*Y213","v":69566.041633482324},"kUS$",null,"Coûts totaux annuel",{"$f":"SUM(AC211:AC213)","v":8837701.2421584092},{"$f":"SUM(AD211:AD213)","v":0},{"$f":"AC214-AD214","v":8837701.2421584092},null,"Coût de la réduction",{"$f":"AH211*AH213","v":93626.732857042065},"kUS$"]
[null,null,null,null,null,"Option de référence: ancienne consommation d'énergie",null,null,null,null,null,null,null,null,"Option de référence: ancienne consommation d'énergie",null,null,null,null,null,null,null,null,"Option de référence: ancienne consommation d'énergie",null,null,null,null,null,null,null,null,"Option de référence: ancienne consommation d'énergie"]
["Émissions annuelles (tonnes)","Tonnes","Tonnes","Réduction",null,"Émissions en service en 2025",{"$f":"+'Bilan 2025'!B82","v":42726.888714123394},"ktCO2",null,"Émissions annuelles (tonnes)","Tonnes","Tonnes","Réduction",null,"Émissions en service en 2030",{"$f":"+'Bilan 2030'!B82","v":57178.215328508726},"ktCO2",null,"Émissions annuelles (tonnes)","Tonnes","Tonnes","Réduction",null,"Émissions en service en 2035",{"$f":"+'Bilan 2035'!B82","v":69566.041633482324},"ktCO2",null,"Émissions annuelles (tonnes)","Tonnes","Tonnes","Réduction",null,"Émissions en service en 2050",{"$f":"+'Bilan 2050'!B82","v":93626.73285704205},"ktCO2"]
["Éq.-CO2 d'émission de carburant",0,{"$f":"+G213*1000","v":4272688.8714123396},{"$f":"C217-B217","v":4272688.8714123396},null,null,null,null,null,"Éq.-CO2 d'émission de carburant",0,{"$f":"+P213*1000","v":5717821.5328508727},{"$f":"L217-K217","v":5717821.5328508727},null,null,null,null,null,"Éq.-CO2 d'émission de carburant",0,{"$f":"+Y213*1000","v":6956604.1633482324},{"$f":"U217-T217","v":6956604.1633482324},null,null,null,null,null,"Éq.-CO2 d'émission de carburant",0,{"$f":"+AH213*1000","v":9362673.2857042067},{"$f":"AD217-AC217","v":9362673.2857042067}]
["Autres",null,null,null,null,null,null,null,null,"Autres",null,null,null,null,null,null,null,null,"Autres",null,null,null,null,null,null,null,null,"Autres"]
["Émission total CO2-éq. ",{"$f":"B217+B218","v":0},{"$f":"C217+C218","v":4272688.8714123396},{"$f":"C219-B219","v":4272688.8714123396},null,null,null,null,null,"Émission total CO2-éq. ",{"$f":"K217+K218","v":0},{"$f":"L217+L218","v":5717821.5328508727},{"$f":"L219-K219","v":5717821.5328508727},null,null,null,null,null,"Émission total CO2-éq. ",{"$f":"T217+T218","v":0},{"$f":"U217+U218","v":6956604.1633482324},{"$f":"U219-T219","v":6956604.1633482324},null,null,null,null,null,"Émission total CO2-éq. ",{"$f":"AC217+AC218","v":0},{"$f":"AD217+AD218","v":9362673.2857042067},{"$f":"AD219-AC219","v":9362673.2857042067}]
[]
["US$/ton CO2-eq.",null,null,{"$f":"IF(D219<>0,D214/D219,0)","v":0.94392925743255696},null,null,null,null,null,"US$/ton CO2-eq.",null,null,{"$f":"IF(M219<>0,M214/M219,0)","v":0.94392925743255696},null,null,null,null,null,"US$/ton CO2-eq.",null,null,{"$f":"IF(V219<>0,V214/V219,0)","v":0.94392925743255696},null,null,null,null,null,"US$/ton CO2-eq.",null,null,{"$f":"IF(AE219<>0,AE214/AE219,0)","v":0.94392925743255685}]
[]
[]
[]
[]
[]
[]
[]
[]
[]
["Chauffage, ventilation, climatisation (100,000 m2)"]
["Coûts en","Option de","Option de ","Augmentation",null,"Entrées générales:"]
["US$","Réduction","Référence","(Réd.-Réf.)",null,"Taux d'actualisation",{"$f":"+DiscountRate","v":7.0000000000000007E-2}]
["Investissement total",{"$f":"G242*1000000/G235*100000","v":659132.39263683988},{"$f":"G248*1000000/G235*100000","v":263727.8281912817},{"$f":"+B234-C234","v":395404.56444555818},null,"Prix moyen de l'électricité",{"$f":"+Hypothèses!C25","v":0.2},"US$/kWh"]
["Durée de vie du projet",10,10,null,null,"Surface de plancher totale",161715.88,"m2"]
["Investissements nivelés",{"$f":"IF(B235=0,0,PMT($G233,B235,-B234))","v":93845.624030346109},{"$f":"IF(C235=0,0,PMT($G233,C235,-C234))","v":37548.909577586186},null,null,"CO2-éq. coefficient d'émission",{"$f":"+Hypothèses!C30","v":0.48549999999999999},"ton CO2-eq./MWh"]
["O&M annuelle ",{"$f":"PMT(G233,B235,-(+G238*G239))","v":2.0197563567873646E-2},{"$f":"PMT(G233,B235,-(+G246*G247))","v":2.9880844405245572E-3},null,null,"Option de réduction: système de chauffage, ventilation, climatisation efficace"]
["Coût annuel carburant",{"$f":"G243*1000*G234/G235*100000","v":635682.77895776217},{"$f":"G249*1000*G234/G235*100000","v":2512802.0822692243},{"$f":"B238-C238","v":-1877119.303311462},null,"Refroidisseurs centrifuges refroidis à l'eau",{"$f":"20/45.84","v":0.43630017452006975},"MUS$"]
["Coûts totaux annuel",{"$f":"SUM(B236:B238)","v":729528.42318567191},{"$f":"SUM(C236:C238)","v":2550350.9948348948},{"$f":"B239-C239","v":-1820822.5716492229},null,"Vitrage efficace",{"$f":"14.95/45.98","v":0.32514136581122227},"MUS$"]
[null,null,null,null,null,"Roue de récupération de chaleur",{"$f":"8/45.98","v":0.17398869073510223},"MUS$"]
["Émissions annuelles (tonnes)","Tonnes","Tonnes","Réduction",null,"Système de gestion de bâtiment",{"$f":"6/45.98","v":0.13049151805132667},"MUS$"]
["Éq.-CO2 d'émission de carburant",{"$f":"+G243*G236/G235*100000","v":1543.1199459199677},{"$f":"+G249*G236/G235*100000","v":6099.8270547085413},{"$f":"C242-B242","v":4556.7071087885734},null,"Investissement total",{"$f":"SUM(G238:G241)","v":1.0659217491177209},"MUS$"]
["Autres",null,null,null,null,"Électricité annuelle utilisée",5140,"MWh"]
["Émission total CO2-éq. ",{"$f":"B242+B243","v":1543.1199459199677},{"$f":"C242+C243","v":6099.8270547085413},{"$f":"C244-B244","v":4556.7071087885734},null,"Électricité annuelle / m2",{"$f":"G243/G235*1000","v":31.784138947888113},"kWh/m2"]
[null,null,null,null,null,"Option de référence: système de refroidissement conventionnel"]
["US$/ton CO2-eq.",null,null,{"$f":"IF(D244<>0,D239/D244,0)","v":-399.59175083634},null,"Refroidisseurs à piston refroidis par eau",{"$f":"17/45.98","v":0.36972596781209222},"MUS$"]
[null,null,null,null,null,"Vitrage conventionnel",{"$f":"2.61/45.98","v":5.6763810352327103E-2},"MUS$"]
[null,null,null,null,null,"Investissement total",{"$f":"SUM(G246:G247)","v":0.4264897781644193},"MUS$"]
[null,null,null,null,null,"Électricité annuelle utilisée",20318,"MWh"]
[null,null,null,null,null,"Électricité annuelle / m2",{"$f":"G249/G235*1000","v":125.64010411346122},"kWh/m2"]
[]
[null,null,null,null,null,"Électricité économisée",{"$f":"+G249-G243","v":15178},"MWh"]
[null,null,null,null,null,null,{"$f":"(G249-G243)/G249","v":0.74702234471896845},"Saving"]
[]
[]
[]
[]
[]
[]
["Refroidisseur efficace (centrifuge > 300 TR) - 1TR"]
["Coûts en","Option de","Option de ","Augmentation",null,"Entrées générales:"]
["US$","Réduction","Référence","(Réd.-Réf.)",null,"Taux d'actualisation",{"$f":"+DiscountRate","v":7.0000000000000007E-2}]
["Investissement total",{"$f":"+G272+G271","v":350},null,{"$f":"+B263-C263","v":350},null,"Prix moyen de électricité",{"$f":"+Hypothèses!C25","v":0.2},"US$/kWh"]
["Durée de vie du projet",15,null,null,null,"Taille du refroidisseur",1,"TR"]
["Investissements nivelés",{"$f":"IF(B264=0,0,PMT($G262,B264,-B263))","v":38.428118645352292},null,null,null,"Heures à pleine charge équivalentes",2000,"Hours"]
["O&M annuelle ",{"$f":"PMT(G262,B264,-(+G268*G269))","v":15.371247458140918},{"$f":"PMT(G262,B264,-(+G279*G280))","v":0},null,null,"CO2-éq. coefficient d'émission",{"$f":"+Hypothèses!C30","v":0.48549999999999999},"ton CO2-eq./MWh"]
["Coût annuel carburant",{"$f":"+G273*G263","v":160},{"$f":"+G282*G263","v":380},{"$f":"B267-C267","v":-220},null,"Option de réduction: Refroidisseur efficace"]
["Coûts totaux annuel",{"$f":"SUM(B265:B267)","v":213.79936610349321},{"$f":"SUM(C265:C267)","v":380},{"$f":"B268-C268","v":-166.20063389650679},null,"Refroidisseurs centrifuges refroidis par eau",{"$f":"200+(500-200)/2","v":350},"US$/TR"]
[null,null,null,null,null,"Efficacité refroidisseur (IPLV)",0.4,"kW/TR"]
["Émissions annuelles (tonnes)","Tonnes","Tonnes","Réduction",null,"Coût de refroidisseurs",{"$f":"G268*G264","v":350},"US$"]
["Éq.-CO2 d'émission de carburant",{"$f":"G273*G266/1000","v":0.38839999999999997},{"$f":"G282*G266/1000","v":0.92244999999999988},{"$f":"C271-B271","v":0.53404999999999991},null,"Coût installation",0,"US$"]
["Autres",{"$f":"G276*G275","v":3.3E-3},{"$f":"G285*G284","v":1.43},{"$f":"C272-B272","v":1.4266999999999999},null,"Investissement total",{"$f":"+G270+G271","v":350},"US$"]
["Émission total CO2-éq. ",{"$f":"B271+B272","v":0.39169999999999999},{"$f":"C271+C272","v":2.3524499999999997},{"$f":"C273-B273","v":1.9607499999999998},null,"Electricité annuelle utilisée",{"$f":"+G269*G264*G265","v":800},"kWh"]
[null,null,null,null,null,"Liquide de refroidissement","R290 (Propane)"]
["US$/ton CO2-eq.",null,null,{"$f":"IF(D273<>0,D268/D273,0)","v":-84.763806653834919},null,"GWP de liquide de refroidissement",3.3]
[null,null,null,null,null,"Quantité de liquide de refroidissement",{"$f":"0.001","v":1E-3},"Ton"]
[]
[null,null,null,null,null,"Option de référence: Refroidisseur à air existant"]
[null,null,null,null,null,"Refroidisseur à air",null,"US$/TR"]
[null,null,null,null,null,"Efficacité refroidisseur (IPLV)",0.95,"kW/TR"]
[null,null,null,null,null,"Investissement total",null,"MUS$"]
[null,null,null,null,null,"Electricité annuelle utilisée",{"$f":"G264*G280*G265","v":1900},"kWh"]
[null,null,null,null,null,"Liquide de refroidissement","R134a"]
[null,null,null,null,null,"GWP de Liquide de refroidissement",1430]
[null,null,null,null,null,"Quantité de Liquide de refroidissement",{"$f":"+G276","v":1E-3},"Ton"]
[null,null,null,null,null,"Perte annuelle de Liquide de refroidissement",7.0000000000000007E-2]
[]
[null,null,null,null,null,"Electricité économisée",{"$f":"+G282-G273","v":1100},"kWh"]
[null,null,null,null,null,null,{"$f":"(G282-G273)/G282","v":0.57894736842105265},"Saving"]
[]
[]
["Refroidisseur efficace (déplacement positif <300 TR) - 1 TR"]
["Coûts en","Option de","Option de ","Augmentation",null,"Entrées générales:"]
["US$","Réduction","Référence","(Réd.-Réf.)",null,"Taux d'actualisation",{"$f":"+DiscountRate","v":7.0000000000000007E-2}]
["Investissement total",{"$f":"G300*G296","v":300},null,{"$f":"+B295-C295","v":300},null,"Prix moyen de électricité",{"$f":"+Hypothèses!C25","v":0.2},"US$/kWh"]
["Durée de vie du projet",15,null,null,null,"Taille du refroidisseur",1,"TR"]
["Investissements nivelés",{"$f":"IF(B296=0,0,PMT($G294,B296,-B295))","v":32.938387410301964},null,null,null,"Heures à pleine charge équivalentes",2000,"Hours"]
["O&M annuelle ",{"$f":"PMT(G294,B296,-(+G300*G301))","v":16.469193705150982},{"$f":"PMT(G294,B296,-(+G310*G311))","v":0},null,null,"CO2-éq. coefficient d'émission",{"$f":"+Hypothèses!C30","v":0.48549999999999999},"ton CO2-eq./MWh"]
["Coût annuel carburant",{"$f":"+G304*G295","v":200},{"$f":"+G313*G295","v":360},{"$f":"B299-C299","v":-160},null,"Option de réduction: Refroidisseur efficace"]
["Coûts totaux annuel",{"$f":"SUM(B297:B299)","v":249.40758111545296},{"$f":"SUM(C297:C299)","v":360},{"$f":"B300-C300","v":-110.59241888454704},null,"Refroidisseurs à vis refroidis par eau",{"$f":"250+(350-250)/2","v":300},"US$/TR"]
[null,null,null,null,null,"Efficacité refroidisseur (IPLV)",0.5,"kW/TR"]
["Émissions annuelles (tonnes)","Tonnes","Tonnes","Réduction",null,"Investissement total",{"$f":"G300*G296","v":300},"US$"]
["Éq.-CO2 d'émission de carburant",{"$f":"G304*G295/1000","v":0.2},{"$f":"G313*G295/1000","v":0.36},{"$f":"C303-B303","v":0.15999999999999998},null,"Coût installation",0,"US$"]
["Autres",{"$f":"+G306*G307","v":1.65E-3},{"$f":"G316*G315","v":0.71499999999999997},{"$f":"C304-B304","v":0.71334999999999993},null,"Electricité annuelle utilisée",{"$f":"G296*G301*G297","v":1000},"kWh"]
["Émission total CO2-éq. ",{"$f":"B303+B304","v":0.20165000000000002},{"$f":"C303+C304","v":1.075},{"$f":"C305-B305","v":0.87334999999999996},null,"Liquide de refroidissement","R290 (Propane)"]
[null,null,null,null,null,"GWP de liquide de refroidissement",3.3]
["US$/ton CO2-eq.",null,null,{"$f":"IF(D305<>0,D300/D305,0)","v":-126.63012410207483},null,"Quantité de liquide de refroidissement",5.0000000000000001E-4,"Tons"]
[]
[null,null,null,null,null,"Option de référence: Refroidisseur à air existant"]
[null,null,null,null,null,"Refroidisseur à air",null,"US$/TR"]
[null,null,null,null,null,"Efficacité refroidisseur (IPLV)",0.9,"kW/TR"]
[null,null,null,null,null,"Investissement total",null,"MUS$"]
[null,null,null,null,null,"Electricité annuelle utilisée",{"$f":"G296*G311*G297","v":1800},"kWh"]
[null,null,null,null,null,"Liquide de refroidissement","R134a"]
[null,null,null,null,null,"GWP de Liquide de refroidissement",1430]
[null,null,null,null,null,"Quantité de Liquide de refroidissement",{"$f":"+G307","v":5.0000000000000001E-4},"Tons"]
[null,null,null,null,null,"Perte annuelle de Liquide de refroidissement",7.0000000000000007E-2]
[]
[null,null,null,null,null,"Electricité économisée",{"$f":"+G313-G304","v":800},"kWh"]
[null,null,null,null,null,null,{"$f":"(G313-G304)/G313","v":0.44444444444444442},"Saving"]
[]
[]
[]
["Climatiseur efficace (hôtel, bureau, etc.)"]
["Coûts en","Option de","Option de ","Augmentation",null,"Entrées générales:"]
["US$","Réduction","Référence","(Réd.-Réf.)",null,"Taux d'actualisation",{"$f":"+DiscountRate","v":7.0000000000000007E-2}]
["Investissement total",{"$f":"G334*G332","v":130},null,null,null,"Prix moyen de l'électricité",{"$f":"+Hypothèses!C25","v":0.2},"US$/kWh"]
["Durée de vie du projet",{"$f":"+G333","v":5},null,null,null,"CO2-éq. coefficient d'émission",{"$f":"+Hypothèses!C30","v":0.48549999999999999},"ton CO2-eq./MWh"]
["Investissements nivelés",{"$f":"IF(B328=0,0,PMT($G326,B328,-B327))","v":31.705790277378629},0,null,null,"Perte de réseau",{"$f":"+Hypothèses!B33","v":0.186}]
["O&M annuelle ",{"$f":"+G331*B327","v":1.3},{"$f":"PMT(G326,B328,-(+G341*G342))","v":0},null,null,"Option de réduction: climatiseur efficace"]
["Coût annuel carburant",{"$f":"G339*G327","v":709.72222222222217},{"$f":"G349*G327","v":946.29629629629619},{"$f":"B331-C331","v":-236.57407407407402},null,"O&M ",0.01]
["Coûts totaux annuel",{"$f":"SUM(B329:B331)","v":742.72801249960082},{"$f":"SUM(C329:C331)","v":946.29629629629619},{"$f":"B332-C332","v":-203.56828379669537},null,"Activité",1,"Climatiseur"]
[null,null,null,null,null,"Durée de vie",5,"années"]
["Émissions annuelles (tonnes)","Tonnes","Tonnes","Réduction",null,"Coût supp. pour un climatiseur efficace",130,"US$"]
["Éq.-CO2 d'émission de carburant",{"$f":"G339*G328/(1-G329)/1000","v":2.1165241946491942},{"$f":"G349*G328/(1-G329)/1000","v":2.8220322595322584},{"$f":"C335-B335","v":0.70550806488306428},null,"Capacité de refroidissement",{"$f":"G343","v":2.5},"kW"]
["Autres",null,null,null,null,"COP pour le niveau A",3.6]
["Émission total CO2-éq. ",{"$f":"B335+B336","v":2.1165241946491942},{"$f":"C335+C336","v":2.8220322595322584},{"$f":"C337-B337","v":0.70550806488306428},null,"La puissance d'entrée",{"$f":"G335/G336","v":0.69444444444444442},"kW"]
[null,null,null,null,null,"Utilisation annuelle",{"$f":"G348","v":5110},"heures"]
["US$/ton CO2-eq.",null,null,{"$f":"IF(D337<>0,D332/D337,0)","v":-288.54139864501218},null,"Électricité annuelle utilisée",{"$f":"G332*G337*G338","v":3548.6111111111109},"kWh"]
[null,null,null,null,null,"Option de référence: climatiseur conventionnel"]
[null,null,null,null,null,"O&M ",0,"US$"]
[null,null,null,null,null,"Activité",{"$f":"+G332","v":1},"Climatiseur"]
[null,null,null,null,null,"Capacité de refroidissement",2.5,"kW"]
[null,null,null,null,null,"COP pour le niveau A",2.7]
[null,null,null,null,null,"La puissance d'entrée",{"$f":"G343/G344","v":0.92592592592592582},"kW"]
[null,null,null,null,null,"Utilisation quotidienne",14,"heures/jours"]
[null,null,null,null,null,"Jours utilisés",365,"jours/années"]
[null,null,null,null,null,"Utilisation annuelle",{"$f":"G347*G346","v":5110},"heures"]
[null,null,null,null,null,"Électricité annuelle utilisée",{"$f":"G345*G348","v":4731.4814814814808},"kWh"]
[]
[]
[null,null,null,null,null,"Électricité économisée 1 unité",{"$f":"+G349-G339","v":1182.87037037037},"kWh"]
[null,null,null,null,null,null,{"$f":"(G349-G339)/G349","v":0.24999999999999994},"Économisé"]
[]
[]
[]
["Lave-vaisselle commercial efficace (1000 plats/jours)"]
["Coûts en","Option de","Option de ","Augmentation",null,"Entrées générales:"]
["US$","Réduction","Référence","(Réd.-Réf.)",null,"Taux d'actualisation",{"$f":"+DiscountRate","v":7.0000000000000007E-2}]
["Investissement total",{"$f":"G373","v":10547.2},null,{"$f":"+B360-C360","v":10547.2},null,"Prix de l'électricité",{"$f":"+Hypothèses!C25","v":0.2},"US$/kWh"]
["Durée de vie du projet",{"$f":"G372","v":10},null,null,null,"CO2-éq. coefficient d'émission",{"$f":"+Hypothèses!C30","v":0.48549999999999999},"tCO2/MWh"]
["Investissements nivelés",{"$f":"IF(B361=0,0,PMT($G359,B361,-B360))","v":1501.6839967660615},null,{"$f":"B362-C362","v":1501.6839967660615},null,"Perte de réseau",0.186]
["O&M annuelle ",0,null,{"$f":"B363-C363","v":0},null,"1 gallon =",3.7854000000000001,"Litres"]
["Coût annuel carburant",{"$f":"G377*G360","v":7300},{"$f":"G384*G360","v":10950},{"$f":"B364-C364","v":-3650},null,"1 ft3 =",28.317,"Litres"]
["Coûts totaux annuel",{"$f":"SUM(B362:B364)","v":8801.6839967660617},{"$f":"SUM(C362:C364)","v":10950},{"$f":"B365-C365","v":-2148.3160032339383},null,"1  =",25,"verres"]
[null,null,null,null,null,"1 rack =",18,"assiètes"]
["Émissions annuelles (tonnes)","Tonnes","Tonnes","Réduction",null,"1000 repas =",{"$f":"1000/20","v":50},"Racks"]
["Éq.-CO2 d'émission de carburant",{"$f":"G377/1000*G361/(1-G362)","v":21.769963144963143},{"$f":"G384/1000*G361/(1-G362)","v":32.654944717444714},{"$f":"C368-B368","v":10.884981572481571},null,"Option de réduction: Nouveau lave-vaisselle efficace"]
["Autres",null,null,null,null,"O&M  ",0.01]
["Émission total CO2-éq. ",{"$f":"B368+B369","v":21.769963144963143},{"$f":"C368+C369","v":32.654944717444714},{"$f":"C370-B370","v":10.884981572481571},null,"Activité",1000,"plats/jours"]
[null,null,null,null,null,"Activité",{"$f":"G370/1000*G367","v":50},"Racks/jours"]
["US$/ton CO2-eq.",null,null,{"$f":"IF(D370<>0,D365/D370,0)","v":-197.36514838620556},null,"Durée de vie",10,"Années"]
[null,null,null,null,null,"Investissement en machine",{"$f":"65920/6.25","v":10547.2},"US$"]
[null,null,null,null,null,"Consommation d'eau",2.4,"litres/rack"]
[null,null,null,null,null,"Utilisation de l'eau",{"$f":"+G374*G371*365","v":43800},"litres/années"]
[null,null,null,null,null,"La consommation d'électricité",2,"kWh/rack"]
[null,null,null,null,null,"Électricité annuelle utilisée",{"$f":"G376*G371*365","v":36500},"kWh/années"]
[null,null,null,null,null,"Option de référence: Ancien lave-vaisselle"]
[null,null,null,null,null,"O&M ",0.01]
[null,null,null,null,null,"Activité",1,{"$f":"+H370","v":"plats/jours"}]
[null,null,null,null,null,"Consommation d'eau",6,"litres/rack"]
[null,null,null,null,null,"Utilisation de l'eau",{"$f":"+G381*G371*365","v":109500},"litres/années"]
[null,null,null,null,null,"La consommation d'électricité",3,"kWh/rack"]
[null,null,null,null,null,"Électricité annuelle utilisée",{"$f":"G383*G371*365","v":54750},"kWh/années"]
[]
[]
[null,null,null,null,null,"Économie annuelle d'électricité",{"$f":"G384-G377","v":18250},"kWh/années"]
[null,null,null,null,null,"Économie d'eau annuelle",{"$f":"G382-G375","v":65700},"litres/années"]
[]
[]
[]
["Réfrigérateur d'hôtel efficace"]
["Coûts en","Option de","Option de ","Augmentation",null,"Entrées générales:"]
["US$","Réduction","Référence","(Réd.-Réf.)",null,"Taux d'actualisation",{"$f":"+DiscountRate","v":7.0000000000000007E-2}]
["Investissement total",{"$f":"G401*G403","v":4048.4375},{"$f":"G409*G408","v":0},{"$f":"B395-C395","v":4048.4375},null,"Prix moyen de l'électricité",{"$f":"+Hypothèses!C25","v":0.2},"US$/kWh"]
["Durée de vie du projet",{"$f":"G402","v":12},null,null,null,"CO2-éq. coefficient d'émission",{"$f":"+Hypothèses!C30","v":0.48549999999999999},"ton CO2-eq./MWh"]
["Investissements nivelés",{"$f":"IF(B396=0,0,PMT($G394,B396,-B395))","v":509.70633219555941},null,{"$f":"B397-C397","v":509.70633219555941},null,"Perte de réseau",{"$f":"+Hypothèses!B33","v":0.186}]
["O&M annuelle ",{"$f":"G400","v":0},{"$f":"G407","v":0},{"$f":"B398-C398","v":0}]
["Coût annuel carburant",{"$f":"G404*G395","v":65.600000000000009},{"$f":"G411*G395","v":198.78787878787884},{"$f":"B399-C399","v":-133.18787878787884},null,"Option de réduction: Réfrigérateur efficace"]
["Coûts totaux annuel",{"$f":"SUM(B397:B399)","v":575.30633219555943},{"$f":"SUM(C397:C399)","v":198.78787878787884},{"$f":"B400-C400","v":376.51845340768057},null,"O&M ",0,"US$"]
[null,null,null,null,null,"Activité",1,"Réfrigerateur"]
["Émissions annuelles (tonnes)","Tonnes","Tonnes","Réduction",null,"Durée de vie",12,"années"]
["Éq.-CO2 d'émission de carburant",{"$f":"G404*G396/(1-G397)/1000","v":0.1956314496314496},{"$f":"G411*G396/(1-G397)/1000","v":0.59282257464075649},{"$f":"C403-B403","v":0.39719112500930687},null,"Coût d'un réfrigérateur efficace",{"$f":"25910/6.4","v":4048.4375},"US$"]
["Autres",null,null,null,null,"Électricité annuelle utilisée",328,"kWh"]
["Émission total CO2-éq. ",{"$f":"B403+B404","v":0.1956314496314496},{"$f":"C403+C404","v":0.59282257464075649},{"$f":"C405-B405","v":0.39719112500930687}]
[null,null,null,null,null,"Option de référence: réfrigérateur non efficace"]
["US$/ton CO2-eq.",null,null,{"$f":"D400/D405","v":947.95283605306668},null,"O&M ",0,"US$"]
[null,null,null,null,null,"Coût de l'ancien réfrigérateur",0,"US$"]
[null,null,null,null,null,"Activité",{"$f":"+G401","v":1},"Réfrigérateur"]
[null,null,null,null,null,"Économies d'électricité",0.67]
[null,null,null,null,null,"Électricité annuelle utilisée",{"$f":"+G404/(1-G410)","v":993.93939393939411},"kWh"]
[]
[]
[null,null,null,null,null,"Électricité économisée",{"$f":"G411-G404","v":665.93939393939411},"kWh"]
[]
[]
[]
[]
[]
[]
[]
["Machine à laver d'hôtel efficace (1000 clients/nuits)"]
["Coûts en","Option de","Option de ","Augmentation",null,"Entrées générales:"]
["US$","Réduction","Référence","(Réd.-Réf.)",null,"Taux d'actualisation",{"$f":"+DiscountRate","v":7.0000000000000007E-2}]
["Investissement total",{"$f":"G436","v":20544},null,{"$f":"+B425-C425","v":20544},null,"Prix de l'électricité",{"$f":"+Hypothèses!C25","v":0.2},"US$/kWh"]
["Durée de vie du projet",{"$f":"G437","v":15},null,null,null,"CO2-éq. coefficient d'émission",{"$f":"+Hypothèses!C30","v":0.48549999999999999},"tCO2/MWh"]
["Investissements nivelés",{"$f":"IF(B426=0,0,PMT($G424,B426,-B425))","v":2255.6207698574785},null,{"$f":"B427-C427","v":2255.6207698574785},null,"Perte de réseau",{"$f":"+Hypothèses!B33","v":0.186}]
["O&M annuelle ",{"$f":"G433*B425","v":205.44},0,{"$f":"B428-C428","v":205.44},null,"Poids spécifique du linge de lit",0.25,"kg/m2"]
["Coût annuel carburant",{"$f":"G444*G425","v":55.159504166666665},{"$f":"G453*G425","v":76.547883333333331},{"$f":"B429-C429","v":-21.388379166666667},null,"Poids du linge de lit pour 1 clients/nuits",{"$f":"(2*(0.6*0.73+1.4*2)+2.4*1.35)*G428/2","v":1.2145000000000001},"kg"]
["Coûts totaux annuel",{"$f":"SUM(B427:B429)","v":2516.2202740241451},{"$f":"SUM(C427:C429)","v":76.547883333333331},{"$f":"B430-C430","v":2439.6723906908119},null,"Poids des serviettes pour 1 clients/nuits",{"$f":"0.4","v":0.4},"kg"]
[null,null,null,null,null,"Nappe et serviette pour 1 clients/nuits",{"$f":"0.8/2+0.2","v":0.60000000000000009},"kg"]
["Émissions annuelles (tonnes)","Tonnes","Tonnes","Réduction",null,"Option de réduction: Nouvelle machine à laver"]
["Éq.-CO2 d'émission de carburant",{"$f":"G444/1000*G426/(1-G427)","v":0.16449594147983207},{"$f":"G453/1000*G426/(1-G427)","v":0.2282800820536445},{"$f":"C433-B433","v":6.3784140573812431E-2},null,"O&M  ",0.01]
["Autres",null,null,null,null,"Activité",1000,"clients/nuits"]
["Émission total CO2-éq. ",{"$f":"B433+B434","v":0.16449594147983207},{"$f":"C433+C434","v":0.2282800820536445},{"$f":"C435-B435","v":6.3784140573812431E-2},null,"Nombre de lavages",{"$f":"(G429+G430+G431)*G434/G439","v":92.270833333333329}]
[null,null,null,null,null,"Investissement en machine",{"$f":"128400/6.25","v":20544},"US$"]
["US$/ton CO2-eq.",null,null,{"$f":"IF(D435<>0,D430/D435,0)","v":38248.887086086368},null,"Durée de vie",15,"Années"]
[null,null,null,null,null,"Volume du cylindre",240,"litres"]
[null,null,null,null,null,"Charge de la machine",24,"kg"]
[null,null,null,null,null,"Facteur de consommation d'eau",10.29,"litre/kg"]
[null,null,null,null,null,"Consommation d'eau / lavage",250,"litre/lavage"]
[null,null,null,null,null,"Consommation standard",6.1,"kWh/lavage"]
[null,null,null,null,null,"Indice d'efficacité énergétique (IEE): A ++",0.49,"% of standard"]
[null,null,null,null,null,"Consommation annuelle d'électricité",{"$f":"G442*G443*G435","v":275.79752083333329},"kWh/année"]
[null,null,null,null,null,"Consommation d'énergie / lavage",{"$f":"G444/220","v":1.2536250946969696},"kWh/lavage"]
[null,null,null,null,null,"Consommation d'eau annuelle",{"$f":"+G441*G435/1000","v":23.067708333333332},"m3"]
[]
[null,null,null,null,null,"Option de référence: Ancienne machine à laver"]
[null,null,null,null,null,"O&M ",0.01]
[null,null,null,null,null,"Facteur de consommation d'eau",12,"litre/kg"]
[null,null,null,null,null,"Consommation d'eau / lavage",{"$f":"G450*G439","v":288},"litre/lavage"]
[null,null,null,null,null,"Économie d'énergie",0.32]
[null,null,null,null,null,"Consommation annuelle d'électricité",{"$f":"G442*(1-G452)*G435","v":382.73941666666661},"kWh/année"]
[null,null,null,null,null,"Consommation d'énergie / lavage",{"$f":"G453/220","v":1.7397246212121209},"kWh/lavage"]
[null,null,null,null,null,"Consommation d'eau annuelle",{"$f":"+G451*G435/1000","v":26.574000000000002},"m3"]
[]
[]
[null,null,null,null,null,"Économie annuelle d'électricité",{"$f":"+G453-G444","v":106.94189583333332},"kWh/année"]
[null,null,null,null,null,"Économie d'eau annuelle",{"$f":"+G455-G446","v":3.5062916666666695},"m3"]

{"sheet":"EE offre","index":27,"n_rows":176,"n_cols":35,"rows_kept":176,"cut":false,"hidden":false,"merged":[[0,0,0,5],[67,5,67,7],[158,5,158,7],[37,32,37,34],[42,32,42,34],[37,5,37,7],[42,5,42,7],[37,14,37,16],[42,14,42,16],[8,32,8,34],[13,32,13,34],[8,5,8,7],[13,5,13,7],[8,14,8,16],[13,14,13,16],[5,0,5,2],[1,0,1,2],[2,0,2,2],[3,0,3,2],[4,0,4,2],[8,23,8,25],[13,23,13,25],[37,23,37,25],[42,23,42,25],[170,5,170,7],[97,5,97,7],[104,5,104,7],[73,5,73,7],[128,5,128,7],[140,5,140,7],[155,5,155,7]]}
["Menu pour options de EE offre (cliquez sur les liens ci-dessous)"]
["Nouvelle centrale électrique à gaz - 1 MW"]
["Nouvelle centrale au charbon à haut rendement - 1 MW"]
["Cycle simple à cycle combiné"]
["Cogénération dans l'industrie (1 MW)"]
["Passer du fioul au diesel (1 MW)"]
[]
["1 MW provenant de centrale au gaz naturel connectée au réseau principal - 2025",null,null,null,null,null,null,null,null,"1 MW provenant de centrale au gaz naturel connectée au réseau principal - 2030",null,null,null,null,null,null,null,null,"1 MW provenant de centrale au gaz naturel connectée au réseau principal - 2035",null,null,null,null,null,null,null,null,"1 MW provenant de centrale au gaz naturel connectée au réseau principal - 2050"]
["Coûts en","Option de","Option de ","Augmentation",null,"Entrées générales:",null,null,null,"Coûts en","Option de","Option de ","Augmentation",null,"Entrées générales:",null,null,null,"Coûts en","Option de","Option de ","Augmentation",null,"Entrées générales:",null,null,null,"Coûts en","Option de","Option de ","Augmentation",null,"Entrées générales:"]
["US$","Réduction","Référence","(Réd.-Réf.)",null,"Taux d'actualisation",{"$f":"Hypothèses!$B$6","v":7.0000000000000007E-2},null,null,"US$","Réduction","Référence","(Réd.-Réf.)",null,"Taux d'actualisation",{"$f":"Hypothèses!$B$6","v":7.0000000000000007E-2},null,null,"US$","Réduction","Référence","(Réd.-Réf.)",null,"Taux d'actualisation",{"$f":"Hypothèses!$B$6","v":7.0000000000000007E-2},null,null,"US$","Réduction","Référence","(Réd.-Réf.)",null,"Taux d'actualisation",{"$f":"Hypothèses!$B$6","v":7.0000000000000007E-2}]
["Investissement total",{"$f":"G19*1000","v":921140.21346956247},null,null,null,"Prix de référence de l'électricité",{"$f":"+Hypothèses!C25","v":0.2},"US$/kWh",null,"Investissement total",{"$f":"P19*1000","v":921140.21346956247},null,null,null,"Prix de référence de l'électricité",{"$f":"+Hypothèses!C25","v":0.2},"US$/kWh",null,"Investissement total",{"$f":"Y19*1000","v":921140.21346956247},null,null,null,"Prix de référence de l'électricité",{"$f":"+Hypothèses!C25","v":0.2},"US$/kWh",null,"Investissement total",{"$f":"AH19*1000","v":921140.21346956247},null,null,null,"Prix de référence de l'électricité",{"$f":"+Hypothèses!C25","v":0.2},"US$/kWh"]
["Durée de vie du projet",20,null,null,null,"CO2-éq. coefficient d'émission",{"$f":"+Hypothèses!C30","v":0.48549999999999999},"tCO2/MWh",null,"Durée de vie du projet",20,null,null,null,"CO2-éq. coefficient d'émission",{"$f":"+Hypothèses!C30","v":0.48549999999999999},"tCO2/MWh",null,"Durée de vie du projet",20,null,null,null,"CO2-éq. coefficient d'émission",{"$f":"+Hypothèses!C30","v":0.48549999999999999},"tCO2/MWh",null,"Durée de vie du projet",20,null,null,null,"CO2-éq. coefficient d'émission",{"$f":"+Hypothèses!C30","v":0.48549999999999999},"tCO2/MWh"]
["Investissements nivelés",{"$f":"IF(B12=0,0,PMT($G$10,B12,-B11))","v":86949.119769159108},null,{"$f":"B13-C13","v":86949.119769159108},null,null,null,null,null,"Investissements nivelés",{"$f":"IF(K12=0,0,PMT($P$10,K12,-K11))","v":86949.119769159108},null,{"$f":"K13-L13","v":86949.119769159108},null,null,null,null,null,"Investissements nivelés",{"$f":"IF(T12=0,0,PMT($Y$10,T12,-T11))","v":86949.119769159108},null,{"$f":"T13-U13","v":86949.119769159108},null,null,null,null,null,"Investissements nivelés",{"$f":"IF(AC12=0,0,PMT($AH$10,AC12,-AC11))","v":86949.119769159108},null,{"$f":"AC13-AD13","v":86949.119769159108}]
["O&M annuelle ",{"$f":"G23*1000","v":25000},null,{"$f":"B14-C14","v":25000},null,"Option de réduction: électricité au gaz naturel",null,null,null,"O&M annuelle ",{"$f":"P23*1000","v":25000},null,{"$f":"K14-L14","v":25000},null,"Option de réduction: électricité au gaz naturel",null,null,null,"O&M annuelle ",{"$f":"Y23*1000","v":25000},null,{"$f":"T14-U14","v":25000},null,"Option de réduction: électricité au gaz naturel",null,null,null,"O&M annuelle ",{"$f":"AH23*1000","v":25000},null,{"$f":"AC14-AD14","v":25000},null,"Option de réduction: électricité au gaz naturel"]
["Coût annuel carburant",{"$f":"G24*1000*G16/G17","v":151227.91900043085},{"$f":"G28*1000*G11/G17","v":1200000},{"$f":"B15-C15","v":-1048772.080999569},null,"CO2-éq. coefficient d'émission",{"$f":"+Hypothèses!C42","v":56.1},"kgCO2-eq./GJ",null,"Coût annuel carburant",{"$f":"P24*1000*P16/P17","v":147867.29857819906},{"$f":"P28*1000*P11/P17","v":1200000},{"$f":"K15-L15","v":-1052132.701421801},null,"CO2-éq. coefficient d'émission",{"$f":"+Hypothèses!C42","v":56.1},"kgCO2-eq./GJ",null,"Coût annuel carburant",{"$f":"Y24*1000*Y16/Y17","v":147867.29857819906},{"$f":"Y28*1000*Y11/Y17","v":1200000},{"$f":"T15-U15","v":-1052132.701421801},null,"CO2-éq. coefficient d'émission",{"$f":"+Hypothèses!L42","v":0},"kgCO2-eq./GJ",null,"Coût annuel carburant",{"$f":"AH24*1000*AH16/AH17","v":144652.79208736864},{"$f":"AH28*1000*AH11/AH17","v":1200000},{"$f":"AC15-AD15","v":-1055347.2079126313},null,"CO2-éq. coefficient d'émission",{"$f":"+Hypothèses!C42","v":56.1},"kgCO2-eq./GJ"]
["Coûts totaux annuel",{"$f":"SUM(B13:B15)","v":263177.03876958997},{"$f":"SUM(C13:C15)","v":1200000},{"$f":"B16-C16","v":-936822.96123041003},null,"Prix de référence du gaz naturel",{"$f":"+Hypothèses!N20","v":3.080568720379147},"US$/GJ",null,"Coûts totaux annuel",{"$f":"SUM(K13:K15)","v":259816.41834735818},{"$f":"SUM(L13:L15)","v":1200000},{"$f":"K16-L16","v":-940183.58165264176},null,"Prix de référence du gaz naturel",{"$f":"+Hypothèses!N20","v":3.080568720379147},"US$/GJ",null,"Coûts totaux annuel",{"$f":"SUM(T13:T15)","v":259816.41834735818},{"$f":"SUM(U13:U15)","v":1200000},{"$f":"T16-U16","v":-940183.58165264176},null,"Prix de référence du gaz naturel",{"$f":"+Hypothèses!N20","v":3.080568720379147},"US$/GJ",null,"Coûts totaux annuel",{"$f":"SUM(AC13:AC15)","v":256601.91185652773},{"$f":"SUM(AD13:AD15)","v":1200000},{"$f":"AC16-AD16","v":-943398.08814347233},null,"Prix de référence du gaz naturel",{"$f":"+Hypothèses!N20","v":3.080568720379147},"US$/GJ"]
[null,null,null,null,null,"Activité",742,"MW",null,null,null,null,null,null,"Activité",742,"MW",null,null,null,null,null,null,"Activité",742,"MW",null,null,null,null,null,null,"Activité",742,"MW"]
["Émissions annuelles (tonnes)","Tonnes","Tonnes","Réduction",null,"Investissement dans l'activité",{"$f":"31331/45.84","v":683.48603839441535},"MUS$",null,"Émissions annuelles (tonnes)","Tonnes","Tonnes","Réduction",null,"Investissement dans l'activité",{"$f":"31331/45.84","v":683.48603839441535},"MUS$",null,"Émissions annuelles (tonnes)","Tonnes","Tonnes","Réduction",null,"Investissement dans l'activité",{"$f":"31331/45.84","v":683.48603839441535},"MUS$",null,"Émissions annuelles (tonnes)","Tonnes","Tonnes","Réduction",null,"Investissement dans l'activité",{"$f":"31331/45.84","v":683.48603839441535},"MUS$"]
["Éq.-CO2 d'émission de carburant",{"$f":"G24*G15/G17","v":2754},{"$f":"G28*G12/G17","v":2913},{"$f":"C19-B19","v":159},null,"Investissement spécifique",{"$f":"G18/G17*1000","v":921.14021346956247},"US$/kW",null,"Éq.-CO2 d'émission de carburant",{"$f":"P24*P15/P17","v":2692.8},{"$f":"P28*P12/P17","v":2913},{"$f":"L19-K19","v":220.19999999999982},null,"Investissement spécifique",{"$f":"P18/P17*1000","v":921.14021346956247},"US$/kW",null,"Éq.-CO2 d'émission de carburant",{"$f":"Y24*Y15/Y17","v":0},{"$f":"Y28*Y12/Y17","v":2913},{"$f":"U19-T19","v":2913},null,"Investissement spécifique",{"$f":"Y18/Y17*1000","v":921.14021346956247},"US$/kW",null,"Éq.-CO2 d'émission de carburant",{"$f":"AH24*AH15/AH17","v":2634.2608695652175},{"$f":"AH28*AH12/AH17","v":2913},{"$f":"AD19-AC19","v":278.73913043478251},null,"Investissement spécifique",{"$f":"AH18/AH17*1000","v":921.14021346956247},"US$/kW"]
["Autres",null,null,null,null,"Facteur de capacité",6000,"hrs temps plein",null,"Autres",null,null,null,null,"Facteur de capacité",6000,"hrs temps plein",null,"Autres",null,null,null,null,"Facteur de capacité",6000,"hrs temps plein",null,"Autres",null,null,null,null,"Facteur de capacité",6000,"hrs temps plein"]
["Émission total CO2-éq. ",{"$f":"B19+B20","v":2754},{"$f":"C19+C20","v":2913},{"$f":"C21-B21","v":159},null,"Production d'électricité",{"$f":"G17*G20","v":4452000},"MWh/ année",null,"Émission total CO2-éq. ",{"$f":"K19+K20","v":2692.8},{"$f":"L19+L20","v":2913},{"$f":"L21-K21","v":220.19999999999982},null,"Production d'électricité",{"$f":"P17*P20","v":4452000},"MWh/ année",null,"Émission total CO2-éq. ",{"$f":"T19+T20","v":0},{"$f":"U19+U20","v":2913},{"$f":"U21-T21","v":2913},null,"Production d'électricité",{"$f":"Y17*Y20","v":4452000},"MWh/ année",null,"Émission total CO2-éq. ",{"$f":"AC19+AC20","v":2634.2608695652175},{"$f":"AD19+AD20","v":2913},{"$f":"AD21-AC21","v":278.73913043478251},null,"Production d'électricité",{"$f":"AH17*AH20","v":4452000},"MWh/ année"]
[null,null,null,null,null,"Efficacité de la centrale électrique",0.44,null,null,null,null,null,null,null,"Efficacité de la centrale électrique",0.45,null,null,null,null,null,null,null,"Efficacité de la centrale électrique",0.45,null,null,null,null,null,null,null,"Efficacité de la centrale électrique",0.46]
["US$/ton CO2-eq.",null,null,{"$f":"IF(D21<>0,D16/D21,0)","v":-5891.9683096252202},null,"O&M",25,"US$/kW",null,"US$/ton CO2-eq.",null,null,{"$f":"IF(M21<>0,M16/M21,0)","v":-4269.6802073235358},null,"O&M",25,"US$/kW",null,"US$/ton CO2-eq.",null,null,{"$f":"IF(V21<>0,V16/V21,0)","v":-322.75440496142869},null,"O&M",25,"US$/kW",null,"US$/ton CO2-eq.",null,null,{"$f":"IF(AE21<>0,AE16/AE21,0)","v":-3384.5197359694075},null,"O&M",25,"US$/kW"]
[null,null,null,null,null,"Utilisation du gaz naturel",{"$f":"G21/G22*3.6/1000","v":36425.454545454544},"TJ/année",null,null,null,null,null,null,"Utilisation du gaz naturel",{"$f":"P21/P22*3.6/1000","v":35616},"TJ/année",null,null,null,null,null,null,"Utilisation du gaz naturel",{"$f":"Y21/Y22*3.6/1000","v":35616},"TJ/année",null,null,null,null,null,null,"Utilisation du gaz naturel",{"$f":"AH21/AH22*3.6/1000","v":34841.739130434784},"TJ/année"]
[null,null,null,null,null,"Coût de production d'électricité",{"$f":"+B16/G20/1000","v":4.3862839794931656E-2},"US$/kWh",null,null,null,null,null,null,"Coût de production d'électricité",{"$f":"+K16/P20/1000","v":4.3302736391226358E-2},"US$/kWh",null,null,null,null,null,null,"Coût de production d'électricité",{"$f":"+T16/Y20/1000","v":4.3302736391226358E-2},"US$/kWh",null,null,null,null,null,null,"Coût de production d'électricité",{"$f":"+AC16/AH20/1000","v":4.2766985309421288E-2},"US$/kWh"]
[]
[null,null,null,null,null,"Option de référence: électricité du réseau",null,null,null,null,null,null,null,null,"Option de référence: électricité du réseau",null,null,null,null,null,null,null,null,"Option de référence: électricité du réseau",null,null,null,null,null,null,null,null,"Option de référence: électricité du réseau"]
[null,null,null,null,null,"Production d'électricité",{"$f":"+G21","v":4452000},"MWh/ année",null,null,null,null,null,null,"Production d'électricité",{"$f":"+P21","v":4452000},"MWh/ année",null,null,null,null,null,null,"Production d'électricité",{"$f":"+Y21","v":4452000},"MWh/ année",null,null,null,null,null,null,"Production d'électricité",{"$f":"+AH21","v":4452000},"MWh/ année"]
[]
[]
[]
[]
[]
[]
[]
[]
["Nouvelle centrale au charbon à haut rendement - 1MW en 2025",null,null,null,null,null,null,null,null,"Nouvelle centrale au charbon à haut rendement - 1MW en 2030",null,null,null,null,null,null,null,null,"Nouvelle centrale au charbon à haut rendement - 1MW en 2035",null,null,null,null,null,null,null,null,"Nouvelle centrale au charbon à haut rendement - 1MW en 2050"]
["Coûts en","Option de","Option de ","Augmentation",null,"Entrées générales:",null,null,null,"Coûts en","Option de","Option de ","Augmentation",null,"Entrées générales:",null,null,null,"Coûts en","Option de","Option de ","Augmentation",null,"Entrées générales:",null,null,null,"Coûts en","Option de","Option de ","Augmentation",null,"Entrées générales:"]
["US$","Réduction","Référence","(Réd.-Réf.)",null,"Discount rate ",{"$f":"+DiscountRate","v":7.0000000000000007E-2},null,null,"US$","Réduction","Référence","(Réd.-Réf.)",null,"Taux d'actualisation",{"$f":"+DiscountRate","v":7.0000000000000007E-2},null,null,"US$","Réduction","Référence","(Réd.-Réf.)",null,"Taux d'actualisation",{"$f":"+DiscountRate","v":7.0000000000000007E-2},null,null,"US$","Réduction","Référence","(Réd.-Réf.)",null,"Taux d'actualisation",{"$f":"+DiscountRate","v":7.0000000000000007E-2}]
["Investissement total",{"$f":"+G44*1000","v":1388000},{"$f":"G54*1000","v":1148000},{"$f":"B40-C40","v":240000},null,"Natural gas price",{"$f":"+Hypothèses!J20","v":2.0032051282051282},"US$/GJ",null,"Investissement total",{"$f":"+P44*1000","v":1388000},{"$f":"P54*1000","v":1148000},{"$f":"K40-L40","v":240000},null,"Prix du gaz naturel",{"$f":"+Hypothèses!J20","v":2.0032051282051282},"US$/GJ",null,"Investissement total",{"$f":"+Y44*1000","v":1388000},{"$f":"Y54*1000","v":1148000},{"$f":"T40-U40","v":240000},null,"Prix du gaz naturel",{"$f":"+Hypothèses!J20","v":2.0032051282051282},"US$/GJ",null,"Investissement total",{"$f":"+AH44*1000","v":1388000},{"$f":"AH54*1000","v":1148000},{"$f":"AC40-AD40","v":240000},null,"Prix du gaz naturel",{"$f":"+Hypothèses!J20","v":2.0032051282051282},"US$/GJ"]
["Durée de vie du projet",20,20,null,null,"CO2-eq. emission coefficient",{"$f":"+Hypothèses!C43","v":94.600000000000009},"kgCO2-eq./GJ",null,"Durée de vie du projet",20,20,null,null,"CO2-éq. coefficient d'émission",{"$f":"+Hypothèses!C43","v":94.600000000000009},"kgCO2-eq./GJ",null,"Durée de vie du projet",20,20,null,null,"CO2-éq. coefficient d'émission",{"$f":"+Hypothèses!C43","v":94.600000000000009},"kgCO2-eq./GJ",null,"Durée de vie du projet",20,20,null,null,"CO2-éq. coefficient d'émission",{"$f":"+Hypothèses!C43","v":94.600000000000009},"kgCO2-eq./GJ"]
["Investissements nivelés",{"$f":"IF(B41=0,0,PMT($G39,B41,-B40))","v":131017.38093163891},{"$f":"IF(B41=0,0,PMT($G39,C41,-C40))","v":108363.07875325753},null,null,null,null,null,null,"Investissements nivelés",{"$f":"IF(K41=0,0,PMT($P39,K41,-K40))","v":131017.38093163891},{"$f":"IF(K41=0,0,PMT($P39,L41,-L40))","v":108363.07875325753},null,null,null,null,null,null,"Investissements nivelés",{"$f":"IF(T41=0,0,PMT($Y39,T41,-T40))","v":131017.38093163891},{"$f":"IF(T41=0,0,PMT($Y39,U41,-U40))","v":108363.07875325753},null,null,null,null,null,null,"Investissements nivelés",{"$f":"IF(AC41=0,0,PMT($AH39,AC41,-AC40))","v":131017.38093163891},{"$f":"IF(AC41=0,0,PMT($AH39,AD41,-AD40))","v":108363.07875325753}]
["O&M annuelle ",{"$f":"G50*1000","v":25000},null,{"$f":"B43-C43","v":25000},null,"Option de réduction: centrale à charbon ultra supercritique",null,null,null,"O&M annuelle ",{"$f":"P50*1000","v":25000},null,{"$f":"K43-L43","v":25000},null,"Option de réduction: centrale à charbon ultra supercritique",null,null,null,"O&M annuelle ",{"$f":"Y50*1000","v":25000},null,{"$f":"T43-U43","v":25000},null,"Option de réduction: centrale à charbon ultra supercritique",null,null,null,"O&M annuelle ",{"$f":"AH50*1000","v":25000},null,{"$f":"AC43-AD43","v":25000},null,"Option de réduction: centrale à charbon ultra supercritique"]
["Coût annuel carburant",{"$f":"G49*G40/G45","v":118269.23076923077},{"$f":"G58*G40/G45","v":141923.07692307691},{"$f":"B44-C44","v":-23653.846153846142},null,"Investissement",1388,"US$/kW",null,"Coût annuel carburant",{"$f":"P49*P40/P45","v":118269.23076923077},{"$f":"P58*P40/P45","v":141923.07692307691},{"$f":"K44-L44","v":-23653.846153846142},null,"Investissement",1388,"US$/kW",null,"Coût annuel carburant",{"$f":"Y49*Y40/Y45","v":118269.23076923077},{"$f":"Y58*Y40/Y45","v":141923.07692307691},{"$f":"T44-U44","v":-23653.846153846142},null,"Investissement",1388,"US$/kW",null,"Coût annuel carburant",{"$f":"AH49*AH40/AH45","v":118269.23076923077},{"$f":"AH58*AH40/AH45","v":141923.07692307691},{"$f":"AC44-AD44","v":-23653.846153846142},null,"Investissement",1388,"US$/kW"]
["Coûts totaux annuel",{"$f":"SUM(B42:B44)","v":274286.61170086969},{"$f":"SUM(C42:C44)","v":250286.15567633446},{"$f":"B45-C45","v":24000.456024535233},null,"Activité",1320,"MW",null,"Coûts totaux annuel",{"$f":"SUM(K42:K44)","v":274286.61170086969},{"$f":"SUM(L42:L44)","v":250286.15567633446},{"$f":"K45-L45","v":24000.456024535233},null,"Activité",1320,"MW",null,"Coûts totaux annuel",{"$f":"SUM(T42:T44)","v":274286.61170086969},{"$f":"SUM(U42:U44)","v":250286.15567633446},{"$f":"T45-U45","v":24000.456024535233},null,"Activité",1320,"MW",null,"Coûts totaux annuel",{"$f":"SUM(AC42:AC44)","v":274286.61170086969},{"$f":"SUM(AD42:AD44)","v":250286.15567633446},{"$f":"AC45-AD45","v":24000.456024535233},null,"Activité",1320,"MW"]
[null,null,null,null,null,"Temps d'utilisation",6888,"heures",null,null,null,null,null,null,"Temps d'utilisation",6888,"heures",null,null,null,null,null,null,"Temps d'utilisation",6888,"heures",null,null,null,null,null,null,"Temps d'utilisation",6888,"heures"]
["Émissions annuelles (tonnes)","Tonnes","Tonnes","Réduction",null,"Efficacité de la centrale électrique",0.42,null,null,"Émissions annuelles (tonnes)","Tonnes","Tonnes","Réduction",null,"Efficacité de la centrale électrique",0.42,null,null,"Émissions annuelles (tonnes)","Tonnes","Tonnes","Réduction",null,"Efficacité de la centrale électrique",0.42,null,null,"Émissions annuelles (tonnes)","Tonnes","Tonnes","Réduction",null,"Efficacité de la centrale électrique",0.42]
["Éq.-CO2 d'émission de carburant",{"$f":"G49*G41/G45/1000","v":5585.1840000000011},{"$f":"G58*G41/G45/1000","v":6702.2208000000001},{"$f":"C48-B48","v":1117.0367999999989},null,"Électricité produite",{"$f":"G45*G46","v":9092160},"MWh",null,"Éq.-CO2 d'émission de carburant",{"$f":"P49*P41/P45/1000","v":5585.1840000000011},{"$f":"P58*P41/P45/1000","v":6702.2208000000001},{"$f":"L48-K48","v":1117.0367999999989},null,"Électricité produite",{"$f":"P45*P46","v":9092160},"MWh",null,"Éq.-CO2 d'émission de carburant",{"$f":"Y49*Y41/Y45/1000","v":5585.1840000000011},{"$f":"Y58*Y41/Y45/1000","v":6702.2208000000001},{"$f":"U48-T48","v":1117.0367999999989},null,"Électricité produite",{"$f":"Y45*Y46","v":9092160},"MWh",null,"Éq.-CO2 d'émission de carburant",{"$f":"AH49*AH41/AH45/1000","v":5585.1840000000011},{"$f":"AH58*AH41/AH45/1000","v":6702.2208000000001},{"$f":"AD48-AC48","v":1117.0367999999989},null,"Électricité produite",{"$f":"AH45*AH46","v":9092160},"MWh"]
["Autres",null,null,null,null,"Charbon utilisé",{"$f":"G48/G47*3.6","v":77932800},"GJ",null,"Autres",null,null,null,null,"Charbon utilisé",{"$f":"P48/P47*3.6","v":77932800},"GJ",null,"Autres",null,null,null,null,"Charbon utilisé",{"$f":"Y48/Y47*3.6","v":77932800},"GJ",null,"Autres",null,null,null,null,"Charbon utilisé",{"$f":"AH48/AH47*3.6","v":77932800},"GJ"]
["Émission total CO2-éq. ",{"$f":"B48+B49","v":5585.1840000000011},{"$f":"C48+C49","v":6702.2208000000001},{"$f":"C50-B50","v":1117.0367999999989},null,"O&M",25,"US$/kW",null,"Émission total CO2-éq. ",{"$f":"K48+K49","v":5585.1840000000011},{"$f":"L48+L49","v":6702.2208000000001},{"$f":"L50-K50","v":1117.0367999999989},null,"O&M",25,"US$/kW",null,"Émission total CO2-éq. ",{"$f":"T48+T49","v":5585.1840000000011},{"$f":"U48+U49","v":6702.2208000000001},{"$f":"U50-T50","v":1117.0367999999989},null,"O&M",25,"US$/kW",null,"Émission total CO2-éq. ",{"$f":"AC48+AC49","v":5585.1840000000011},{"$f":"AD48+AD49","v":6702.2208000000001},{"$f":"AD50-AC50","v":1117.0367999999989},null,"O&M",25,"US$/kW"]
[null,null,null,null,null,"Coût de l'électricité",{"$f":"+B45/G46/1000","v":3.9820936658082125E-2},"US$/kWh",null,null,null,null,null,null,"Coût de l'électricité",{"$f":"+K45/P46/1000","v":3.9820936658082125E-2},"US$/kWh",null,null,null,null,null,null,"Coût de l'électricité",{"$f":"+T45/Y46/1000","v":3.9820936658082125E-2},"US$/kWh",null,null,null,null,null,null,"Coût de l'électricité",{"$f":"+AC45/AH46/1000","v":3.9820936658082125E-2},"US$/kWh"]
["US$/ton CO2-eq.",null,null,{"$f":"IF(D50<>0,D45/D50,0)","v":21.485823944685848},null,null,null,null,null,"US$/ton CO2-eq.",null,null,{"$f":"IF(M50<>0,M45/M50,0)","v":21.485823944685848},null,null,null,null,null,"US$/ton CO2-eq.",null,null,{"$f":"IF(V50<>0,V45/V50,0)","v":21.485823944685848},null,null,null,null,null,"US$/ton CO2-eq.",null,null,{"$f":"IF(AE50<>0,AE45/AE50,0)","v":21.485823944685848}]
[null,null,null,null,null,"Option de référence: centrale à charbon supercritique",null,null,null,null,null,null,null,null,"Option de référence: centrale à charbon supercritique",null,null,null,null,null,null,null,null,"Option de référence: centrale à charbon supercritique",null,null,null,null,null,null,null,null,"Option de référence: centrale à charbon supercritique"]
[null,null,null,null,null,"Investissement",1148,"US$/kW",null,null,null,null,null,null,"Investissement",1148,"US$/kW",null,null,null,null,null,null,"Investissement",1148,"US$/kW",null,null,null,null,null,null,"Investissement",1148,"US$/kW"]
[null,null,null,null,null,"Activité",{"$f":"+G45","v":1320},"MW",null,null,null,null,null,null,"Activité",{"$f":"+P45","v":1320},"MW",null,null,null,null,null,null,"Activité",{"$f":"+Y45","v":1320},"MW",null,null,null,null,null,null,"Activité",{"$f":"+AH45","v":1320},"MW"]
[null,null,null,null,null,"Temps d'utilisation",{"$f":"G46","v":6888},"heures",null,null,null,null,null,null,"Temps d'utilisation",{"$f":"P46","v":6888},"heures",null,null,null,null,null,null,"Temps d'utilisation",{"$f":"Y46","v":6888},"heures",null,null,null,null,null,null,"Temps d'utilisation",{"$f":"AH46","v":6888},"heures"]
[null,null,null,null,null,"Efficacité de la centrale électrique",0.35,null,null,null,null,null,null,null,"Efficacité de la centrale électrique",0.35,null,null,null,null,null,null,null,"Efficacité de la centrale électrique",0.35,null,null,null,null,null,null,null,"Efficacité de la centrale électrique",0.35]
[null,null,null,null,null,"Charbon utilisé",{"$f":"G48/G57*3.6","v":93519360},"GJ",null,null,null,null,null,null,"Charbon utilisé",{"$f":"P48/P57*3.6","v":93519360},"GJ",null,null,null,null,null,null,"Charbon utilisé",{"$f":"Y48/Y57*3.6","v":93519360},"GJ",null,null,null,null,null,null,"Charbon utilisé",{"$f":"AH48/AH57*3.6","v":93519360},"GJ"]
[]
[]
[]
[]
[]
[]
[]
[]
["Cycle simple à cycle combiné (100 MW additionnel)"]
["Coûts en","Option de","Option de ","Augmentation",null,"Entrées générales:"]
["US$","Réduction","Référence","(Réd.-Réf.)",null,"Taux d'actualisation",{"$f":"+DiscountRate","v":7.0000000000000007E-2}]
["Investissement total",{"$f":"G75*G76*1000*100/G75","v":86989100},{"$f":"G84*G85*1000*100/G84","v":42824500},{"$f":"+B70-C70","v":44164600},null,"Prix du gaz naturel",{"$f":"+Hypothèses!N20","v":3.080568720379147},"US$/GJ"]
["Durée de vie du projet",20,20,null,null,"Prix de l'électricité",{"$f":"+Hypothèses!C25","v":0.2},"US$/kWh"]
["Investissement nivelé",{"$f":"IF(B71=0,0,PMT($G69,B71,-B70))","v":8211155.6567726443},{"$f":"IF(C71=0,0,PMT($G69,C71,-C70))","v":4042329.8484920538},{"$f":"B72-C72","v":4168825.8082805905},null,"CO2-éq. coefficient d'émission",{"$f":"+Hypothèses!C30","v":0.48549999999999999},"tCO2/MWh"]
["Coût annuel du carburant",null,null,{"$f":"B73-C73","v":0}]
["Coût annuel total",{"$f":"SUM(B72:B73)","v":8211155.6567726443},{"$f":"SUM(C72:C73)","v":4042329.8484920538},{"$f":"B74-C74","v":4168825.8082805905},null,"Option de réduction: centrale à gaz à cycle combiné"]
[null,null,null,null,null,"Augmentation de la capacité",180,"MW"]
["Émissions annuelles (tonnes)","Tonnes","Tonnes","Réduction",null,"Investissement",869.89099999999996,"US$/kW"]
["Éq.-CO2 d'émission de carburant",0,{"$f":"+G90*G72","v":75738},{"$f":"C77-B77","v":75738},null,"Temps d'utilisation",6000,"heures"]
["Autres",null,null,null,null,"Efficacité de la centrale électrique",0.51]
["Émission total CO2-éq. ",{"$f":"B77+B78","v":0},{"$f":"C77+C78","v":75738},{"$f":"C79-B79","v":75738},null,"Électricité produite",{"$f":"G75*G77*G78","v":550800},"MWh"]
[null,null,null,null,null,"Gaz naturel utilisé",{"$f":"G79/G78*3.6","v":3888000},"GJ/année"]
["US$/ton CO2-eq.",null,null,{"$f":"IF(D79<>0,D74/D79,0)","v":55.042723709110227}]
[]
[null,null,null,null,null,"Option de référence: Nouvelle centrale électrique à gaz à cycle ouvert"]
[null,null,null,null,null,"Nouvelle capacité à cycle unique",180,"MW"]
[null,null,null,null,null,"Investissement",428.245,"US$/kW"]
[null,null,null,null,null,"Temps d'utilisation",{"$f":"+G77","v":6000},"heures"]
[null,null,null,null,null,"Efficacité de la centrale électrique",0.25]
[null,null,null,null,null,"Électricité produite",{"$f":"G84*G86*G87","v":270000},"MWh"]
[null,null,null,null,null,"Gaz naturel utilisé",{"$f":"G88/G87*3.6","v":3888000},"GJ/année"]
[null,null,null,null,null,"Électricité supplémentaire produite vers le réseau",{"$f":"(G79-G88)*100/G75","v":156000},"MWh"]
[]
[]
[]
[]
[]
[]
["Cogénération dans l'industrie (1 MW)"]
["Coûts en","Option de","Option de ","Augmentation",null,"Entrées générales:"]
["US$","Réduction","Référence","(Réd.-Réf.)",null,"Taux d'actualisation",{"$f":"+DiscountRate","v":7.0000000000000007E-2}]
["Investissement total",{"$f":"G107*1000","v":349000},null,{"$f":"+B100-C100","v":349000},null,"Prix du gaz naturel",{"$f":"+Hypothèses!N20","v":3.080568720379147},"US$/GJ"]
["Durée de vie du projet",20,null,null,null,"Facteur d'émission de gaz naturel",{"$f":"Hypothèses!C42","v":56.1},"kgCO2/GJ"]
["Investissement nivelé",{"$f":"IF(B101=0,0,PMT($G99,B101,-B100))","v":32943.131084396235},null,{"$f":"B102-C102","v":32943.131084396235},null,"Prix de l'électricité",{"$f":"+Hypothèses!C25","v":0.2},"US$/kWh"]
["Coût annuel du carburant",{"$f":"G111*G100","v":364234.9956398104},{"$f":"G110*G102*1000","v":2955907.08},{"$f":"B103-C103","v":-2591672.0843601897},null,"CO2-éq. coefficient d'émission",{"$f":"+Hypothèses!C30","v":0.48549999999999999},"tCO2/MWh"]
["Coût annuel total",{"$f":"SUM(B102:B103)","v":397178.12672420661},{"$f":"SUM(C102:C103)","v":2955907.08},{"$f":"B104-C104","v":-2558728.9532757932}]
[null,null,null,null,null,"Option de réduction: cogénération installée"]
["Émissions annuelles (tonnes)","Tonnes","Tonnes","Réduction",null,"Augmentation de la capacité",11.843999999999999,"MW"]
["Éq.-CO2 d'émission de carburant",{"$f":"G111*G101/1000","v":6633.0554875199996},{"$f":"G110*G103","v":7175.4644366999992},{"$f":"C107-B107","v":542.40894917999958},null,"Investissement",349,"US$/kW"]
["Autres",null,null,null,null,"Temps d'utilisation",2773,"heures"]
["Émission total CO2-éq. ",{"$f":"B107+B108","v":6633.0554875199996},{"$f":"C107+C108","v":7175.4644366999992},{"$f":"C109-B109","v":542.40894917999958},null,"Efficacité de la centrale électrique",0.45]
[null,null,null,null,null,"Électricité produite",{"$f":"G106*G108*G109","v":14779.535399999999},"MWh"]
["US$/ton CO2-eq.",null,null,{"$f":"IF(D109<>0,D104/D109,0)","v":-4717.3428040669614},null,"Gaz naturel utilisé",{"$f":"G110/G109*3.6","v":118236.28319999999},"GJ/année"]
[]
[]
[null,null,null,null,null,"Option de référence: Électricité du réseau"]
[]
[]
[]
[]
[]
[]
[]
[]
[]
[]
["1 MW de passage du fioul au diesel dans la centrale électrique"]
["Coûts en","Option de","Option de ","Augmentation",null,"Entrées générales:"]
["US$","Réduction","Référence","(Réd.-Réf.)",null,"Taux d'actualisation",{"$f":"Hypothèses!$B$6","v":7.0000000000000007E-2}]
["Investissement total",{"$f":"G134*10","v":1000}]
["Durée de vie du projet",20,null,null,null,"Option de réduction: puissance diesel"]
["Investissements nivelés",{"$f":"IF(B129=0,0,PMT($G$127,B129,-B128))","v":94.392925743255688},null,{"$f":"B130-C130","v":94.392925743255688},null,"CO2-éq. coefficient d'émission",{"$f":"+Hypothèses!C37","v":74.066666666666663},"kgCO2-eq./GJ"]
["O&M annuelle ",null,null,{"$f":"B131-C131","v":0},null,"Prix diesel de référence",{"$f":"+Hypothèses!F20","v":10.367789021299378},"US$/GJ"]
["Coût annuel carburant",{"$f":"G138*1000*G131/G132","v":478513.33944458666},{"$f":"(G145*1000*G131+G146*1000*G147)/G132","v":328350.88774147531},{"$f":"B132-C132","v":150162.45170311135},null,"Activité",97,"MW"]
["Coûts totaux annuel",{"$f":"SUM(B130:B132)","v":478607.7323703299},{"$f":"SUM(C130:C132)","v":328350.88774147531},{"$f":"B133-C133","v":150256.8446288546},null,"Investissement en activité",{"$f":"G134*G132/1000","v":9.6999999999999993},"MUS$"]
[null,null,null,null,null,"Investissement spécifique",100,"US$/kW"]
["Émissions annuelles (tonnes)","Tonnes","Tonnes","Réduction",null,"Facteur de capacité",5000,"Heures temps plein"]
["Éq.-CO2 d'émission de carburant",{"$f":"G138*G130/G132","v":3418.4615384615386},{"$f":"(G145*G130+G146*G148)/G132","v":3542.9534740725567},{"$f":"C136-B136","v":124.49193561101811},null,"Production d'électricité",{"$f":"G132*G135","v":485000},"MWh/année"]
["Autres",null,null,null,null,"Efficacité de la centrale électrique",0.39]
["Émission total CO2-éq. ",{"$f":"B136+B137","v":3418.4615384615386},{"$f":"C136+C137","v":3542.9534740725567},{"$f":"C138-B138","v":124.49193561101811},null,"Utilisation diesel",{"$f":"G136/G137*3.6/1000","v":4476.9230769230771},"TJ/année"]
[null,null,null,null,null,"Fraction diesel",1]
["US$/ton CO2-eq.",null,null,{"$f":"IF(D138<>0,D133/D138,0)","v":1206.9604660846496}]
[null,null,null,null,null,"Option de référence: énergie de fioul lourd"]
[null,null,null,null,null,"Production d'électricité",{"$f":"+G136","v":485000},"MWh/année"]
[null,null,null,null,null,"Efficacité de la centrale électrique",0.39]
[null,null,null,null,null,"Fraction diesel",{"$f":"19603/(87735+19603)","v":0.18262870558422925}]
[null,null,null,null,null,"Utilisation de diesel",{"$f":"G142/G143*3.6/1000*G144","v":817.61466653862635},"TJ/année"]
[null,null,null,null,null,"Utilisation du fioul",{"$f":"G142/G143*3.6/1000*(1-G144)","v":3659.3084103844508},"TJ/année"]
[null,null,null,null,null,"Prix du fioul de référence",{"$f":"+Hypothèses!H20","v":6.387321626458637},"US$/GJ"]
[null,null,null,null,null,"CO2-éq. coefficient d'émission",{"$f":"+Hypothèses!C36","v":77.366666666666674},"kgCO2-eq./GJ"]
[]
[]
[]
[]
[]
[]
["1 MW switch from fueloil to natural gas at power plant"]
["Coûts en","Option de","Option de ","Augmentation",null,"Entrées générales:"]
["US$","Réduction","Référence","(Réd.-Réf.)",null,"Taux d'actualisation",{"$f":"Hypothèses!$B$6","v":7.0000000000000007E-2}]
["Investissement total",{"$f":"G164*10","v":358.42320354183221}]
["Durée de vie du projet",20,null,null,null,"Option de réduction: électricité au gaz naturel"]
["Investissements nivelés",{"$f":"IF(B159=0,0,PMT($G$157,B159,-B158))","v":33.832614836583993},null,{"$f":"B160-C160","v":33.832614836583993},null,"CO2-éq. coefficient d'émission",{"$f":"+Hypothèses!C42","v":56.1},"kgCO2-eq./GJ"]
["O&M annuelle ",null,null,{"$f":"B161-C161","v":0},null,"Prix diesel de référence",{"$f":"+Hypothèses!N20","v":3.080568720379147},"US$/GJ"]
["Coût annuel carburant",{"$f":"G168*1000*G161/G162","v":138625.59241706162},{"$f":"G174*1000*G175/G162","v":632444.39759671118},{"$f":"B162-C162","v":-493818.80517964956},null,"Activité",383,"MW"]
["Coûts totaux annuel",{"$f":"SUM(B160:B162)","v":138659.42503189819},{"$f":"SUM(C160:C162)","v":632444.39759671118},{"$f":"B163-C163","v":-493784.97256481298},null,"Investissement en activité",{"$f":"631470/46","v":13727.608695652174},"MUS$"]
[null,null,null,null,null,"Investissement spécifique",{"$f":"G163/G162","v":35.842320354183222},"US$/kW"]
["Émissions annuelles (tonnes)","Tonnes","Tonnes","Réduction",null,"Facteur de capacité",5000,"Heures temps plein"]
["Éq.-CO2 d'émission de carburant",{"$f":"G168*G160/G162","v":2524.5},{"$f":"G174*G176/G162","v":3978.8571428571436},{"$f":"C166-B166","v":1454.3571428571436},null,"Production d'électricité",{"$f":"G162*G165","v":1915000},"MWh/année"]
["Autres",null,null,null,null,"Efficacité de la centrale électrique",0.4]
["Émission total CO2-éq. ",{"$f":"B166+B167","v":2524.5},{"$f":"C166+C167","v":3978.8571428571436},{"$f":"C168-B168","v":1454.3571428571436},null,"Utilisation diesel",{"$f":"G166/G167*3.6/1000","v":17235},"TJ/année"]
[null,null,null,null,null,"Fraction diesel",1]
["US$/ton CO2-eq.",null,null,{"$f":"IF(D168<>0,D163/D168,0)","v":-339.52112449817685}]
[null,null,null,null,null,"Option de référence: énergie de fioul lourd"]
[null,null,null,null,null,"Production d'électricité",{"$f":"+G166","v":1915000},"MWh/année"]
[null,null,null,null,null,"Efficacité de la centrale électrique",0.35]
[null,null,null,null,null,"Utilisation du fioul",{"$f":"G172/G173*3.6/1000","v":19697.142857142859},"TJ/année"]
[null,null,null,null,null,"Prix du fioul de référence",{"$f":"+Hypothèses!I20","v":12.297529953269384},"US$/GJ"]
[null,null,null,null,null,"CO2-éq. coefficient d'émission",{"$f":"+Hypothèses!C36","v":77.366666666666674},"kgCO2-eq./GJ"]

{"sheet":"Distribution énergie","index":28,"n_rows":169,"n_cols":8,"rows_kept":169,"cut":false,"hidden":false,"merged":[[136,5,136,7],[96,5,96,7],[0,0,0,2],[1,0,1,2],[2,0,2,2],[68,5,68,7],[73,5,73,7],[9,5,9,7],[14,5,14,7],[38,5,38,7],[43,5,43,7]]}
["Menu pour options de Distribution Energie (cliquez sur les liens ci-dessous)"]
["Réseau plus efficace (réduction des pertes de 1 GWh)"]
["Connexion du réseau isolé au réseau central (1 GWh consumption)"]
["Augmentation du facteur de puissance (1000 bâtiments commerciauxl/Industriels)"]
["Réhabilitation du réseau de chauffage urbain"]
["Nouveau réseau de refroidissement urbain"]
[]
[]
["Réseau plus efficace (réduction des pertes de 1 GWh)"]
["Coûts en","Option de","Option de ","Augmentation",null,"Entrées générales:"]
["US$","Réduction","Référence","(Réd.-Réf.)",null,"Taux d'actualisation",{"$f":"+DiscountRate","v":7.0000000000000007E-2}]
["Investissement total",{"$f":"+G19*1000000","v":958906.6114696213},null,{"$f":"B12-C12","v":958906.6114696213},null,"CO2-éq. coefficient d'émission",{"$f":"+Hypothèses!C30","v":0.48549999999999999},"tCO2/MWh"]
["Durée de vie du projet",20,null,null,null,"Prix de référence de l'électricité",{"$f":"+Hypothèses!C25","v":0.2},"US$/kWh"]
["Investissements nivelés",{"$f":"IF(B13=0,0,PMT($G11,B13,-B12))","v":90514.000571168901}]
["O&M annuelle ",null,null,{"$f":"B15-C15","v":0},null,"Option de réduction: Réseau plus efficace"]
["Coût annuel carburant",null,{"$f":"G13*100000","v":20000},{"$f":"B16-C16","v":-20000},null,"Pertes réseau",0.15]
["Coûts totaux annuel",{"$f":"SUM(B14:B16)","v":90514.000571168901},{"$f":"SUM(C14:C16)","v":20000},{"$f":"B17-C17","v":70514.000571168901},null,"Comsommation électricité en 2020",{"$f":"+#REF!","v":{"$error":"#REF!"}},"GWh"]
[null,null,null,null,null,"Pertes de production",{"$f":"G17*G16/(1-G16)","v":{"$error":"#REF!"}},"GWh"]
["Émissions annuelles (tonnes)","Tonnes","Tonnes","Réduction",null,"Investissement pour réduction des pertes de 1 GWh",{"$f":"1417.59/45.84/32.25","v":0.95890661146962131},"MUS$/GWh"]
["Éq.-CO2 d'émission de carburant",0,{"$f":"G12*1000","v":485.5},{"$f":"C20-B20","v":485.5},null,"Réduction des pertes",{"$f":"G24-G18","v":{"$error":"#REF!"}},"GWh"]
["Autres"]
["Émission total CO2-éq. ",{"$f":"B20+B21","v":0},{"$f":"C20+C21","v":485.5},{"$f":"C22-B22","v":485.5},null,"Option de référence: Ancien réseau"]
[null,null,null,null,null,"Pertes réseau",{"$f":"Hypothèses!B33","v":0.186}]
["US$/ton CO2-eq.",null,null,{"$f":"IF(D22<>0,D17/D22,0)","v":145.2399599818103},null,"Pertes de production",{"$f":"G17*G23/(1-G23)","v":{"$error":"#REF!"}},"GWh"]
[]
[]
[]
[]
[]
[]
[]
[]
[]
[]
[]
[]
[]
["Connexion du réseau isolé au réseau central (1 GWh consumption)"]
["Coûts en","Option de","Option de ","Augmentation",null,"Entrées générales:"]
["US$","Réduction","Référence","(Réd.-Réf.)",null,"Taux d'actualisation",{"$f":"+DiscountRate","v":7.0000000000000007E-2}]
["Investissement total",{"$f":"+G45*1000000","v":26870.017800479836},null,{"$f":"B41-C41","v":26870.017800479836},null,"CO2-éq. coefficient d'émission",{"$f":"+Hypothèses!C30","v":0.48549999999999999},"tCO2/MWh"]
["Durée de vie du projet",20,null,null,null,"Prix de référence de l'électricité",{"$f":"+Hypothèses!C25","v":0.2},"US$/kWh"]
["Investissements nivelés",{"$f":"IF(B42=0,0,PMT($G40,B42,-B41))","v":2536.3395949606515}]
["O&M annuelle ",null,null,{"$f":"B44-C44","v":0},null,"Option de réduction: Connexion du réseau isolé au réseau central"]
["Coût annuel électricité",null,{"$f":"G42*100000","v":20000},{"$f":"B45-C45","v":-20000},null,"Investment for 1 GWh of connection reduction",{"$f":"111.1/4134.72","v":2.6870017800479835E-2},"MUS$/GWh"]
["Coûts totaux annuel",{"$f":"SUM(B43:B45)","v":2536.3395949606515},{"$f":"SUM(C43:C45)","v":20000},{"$f":"B46-C46","v":-17463.660405039347}]
[null,null,null,null,null,"Option de référence: Réseau isolé"]
["Émissions annuelles (tonnes)","Tonnes","Tonnes","Réduction"]
["Éq.-CO2 d'émission de carburant",0,{"$f":"G41*1000","v":485.5},{"$f":"C49-B49","v":485.5}]
["Autres"]
["Émission total CO2-éq. ",{"$f":"B49+B50","v":0},{"$f":"C49+C50","v":485.5},{"$f":"C51-B51","v":485.5}]
[]
["US$/ton CO2-eq.",null,null,{"$f":"IF(D51<>0,D46/D51,0)","v":-35.970464274025431}]
[]
[]
[]
[]
[]
[]
[]
[]
[]
[]
[]
[]
[]
[]
["Augmentation du facteur de puissance (1000 bâtiments commerciauxl/Industriels)"]
["Coûts en","Option de","Option de ","Augmentation",null,"Entrées générales:"]
["US$","Réduction","Référence","(Réd.-Réf.)",null,"Taux d'actualisation",{"$f":"+DiscountRate","v":7.0000000000000007E-2}]
["Investissement total",{"$f":"G75*G81","v":1149691.4285714289},null,{"$f":"B71-C71","v":1149691.4285714289},null,"CO2-éq. coefficient d'émission",{"$f":"+Hypothèses!C30","v":0.48549999999999999},"tCO2/MWh"]
["Durée de vie du projet",10,null,null,null,"Prix de référence de l'électricité",{"$f":"+Hypothèses!C25","v":0.2},"US$/kWh"]
["Investissements nivelés",{"$f":"IF(B72=0,0,PMT($G70,B72,-B71))","v":163690.19450705647}]
["O&M annuelle ",null,null,{"$f":"B74-C74","v":0},null,"Option de réduction: Condensateurs installés dans le commerce et l'industrie"]
["Coût annuel électricité",{"$f":"G72*1000*G82","v":438367.3469387755},{"$f":"G72*1000*G89","v":477333.33333333331},{"$f":"B75-C75","v":-38965.986394557811},null,"Nombre de bâtiments",1000]
["Coûts totaux annuel",{"$f":"SUM(B73:B75)","v":602057.541445832},{"$f":"SUM(C73:C75)","v":477333.33333333331},{"$f":"B76-C76","v":124724.20811249869},null,"Nouveau facteur de puissance",0.98]
[null,null,null,null,null,"Nouvelle demande apparente dans 1 bâtiment",{"$f":"G86/G76","v":365.30612244897958},"kW"]
["Émissions annuelles (tonnes)","Tonnes","Tonnes","Réduction",null,"Coût des condensateurs",11.428571428571429,"US$/kVar"]
["Éq.-CO2 d'émission de carburant",{"$f":"G71*G82*1000","v":1064136.7346938776},{"$f":"G71*G89*1000","v":1158726.6666666665},{"$f":"C79-B79","v":94589.93197278888},null,"Multiplicateurs pour déterminer les kilovars de condensateur requis pour la correction du facteur de puissance",0.28100000000000003]
["Autres",null,null,null,null,"kVAR requis",{"$f":"G79*G86","v":100.59800000000001},"kVAR"]
["Émission total CO2-éq. ",{"$f":"B79+B80","v":1064136.7346938776},{"$f":"C79+C80","v":1158726.6666666665},{"$f":"C81-B81","v":94589.93197278888},null,"Coût du condensateur nécessaire",{"$f":"G78*G80","v":1149.6914285714288},"$"]
[null,null,null,null,null,"Consommation électricité annuelle",{"$f":"G77*G88/1000","v":2191.8367346938776},"MWh"]
["US$/ton CO2-eq.",null,null,{"$f":"IF(D81<>0,D76/D81,0)","v":1.3185780506574281}]
[null,null,null,null,null,"Option de référence:  Réseau normal"]
[null,null,null,null,null,"Ancien facteur de puissance",0.9]
[null,null,null,null,null,"Ancienne demande réelle maximum  dans 1 bâtiment",358,"kWA"]
[null,null,null,null,null,"Ancienne demande apparente maximum  dans 1 bâtiment",{"$f":"G86/G85","v":397.77777777777777},"kW"]
[null,null,null,null,null,"Utilisation annuelle",6000,"hours"]
[null,null,null,null,null,"Consommation électricité annuelle",{"$f":"G87*G88/1000","v":2386.6666666666665},"MWh"]
[]
[]
[]
[]
[]
[]
["Réhabilitation du réseau de chauffage urbain (100,000 appartements fournis)"]
["Coûts en","Option de","Option de ","Augmentation",null,"Entrées générales:"]
["US$","Réduction","Référence","(Réd.-Réf.)",null,"Taux d'actualisation",{"$f":"+DiscountRate","v":7.0000000000000007E-2}]
["Investissement total",{"$f":"(G103+G104)*G99","v":3732000},null,{"$f":"B99-C99","v":3732000},null,"Nombre d´appartements fournis",120000,"Flats"]
["Durée de vie du projet",20,null,null,null,"Nombre de personnes connectées",{"$f":"450000*G99/120000","v":450000},"People"]
["Investissements nivelés",{"$f":"IF(B100=0,0,PMT($G98,B100,-B99))","v":352274.39887383027},null,null,null,"Longueur du réseau",{"$f":"5.505*G99/120000","v":5.5049999999999999},"km"]
["O&M annuelle ",null,null,{"$f":"B102-C102","v":0},null,"Option de réduction: réseau plus efficace utilisant la biomasse"]
["Coût annuel du carburant",{"$f":"+G109*G106","v":1469614.4000000001},{"$f":"G123*G120*G121+G129*G126","v":4301844.9065851849},{"$f":"B103-C103","v":-2832230.5065851845},null,"Investissement dans les chaudières à biomasse",{"$f":"11.6*G99/120000","v":11.6},"MUS$"]
["Augmentation des ventes de chaleur",{"$f":"-G114","v":-2672739.8843930638},null,{"$f":"B104-C104","v":-2672739.8843930638},null,"Mise à niveau du réseau",{"$f":"19.5*G99/120000","v":19.5},"MUS$"]
["Coûts totaux annuel",{"$f":"SUM(B101:B104)","v":-850851.08551923349},{"$f":"SUM(C101:C104)","v":4301844.9065851849},{"$f":"B105-C105","v":-5152695.9921044186},null,"Energie contenue dans biomasse",16.920000000000002,"GJ/ton"]
[null,null,null,null,null,"Coût de biomasse",{"$f":"69.4/G105","v":4.1016548463356974},"US$/GJ"]
["Émissions annuelles (tonnes)","Tonnes","Tonnes","Réduction",null,"Efficacité de chaudière à biomasse",0.91]
["Éq.-CO2 d'émission de carburant",0,{"$f":"+(G124*G122+G129*G127)/1000","v":33649.053412333342},{"$f":"C108-B108","v":33649.053412333342},null,"Augementation de utilisation de biomasse",{"$f":"(36274-15098)/120000*G99","v":21176},"Ton"]
["Autres",null,null,null,null,"Augementation de utilisation de biomasse",{"$f":"G108*G105","v":358297.92000000004},"GJ"]
["Émission total CO2-éq. ",{"$f":"B108+B109","v":0},{"$f":"C108+C109","v":33649.053412333342},{"$f":"C110-B110","v":33649.053412333342},null,"Vente de chaleur à partir d'une augmentation de la biomasse utilisée",{"$f":"G109/3.6*G107","v":90569.752000000008},"MWh"]
[null,null,null,null,null,"Augmentation de la vente de chaleur",{"$f":"(197976-162408)*G99/120000","v":35568},"MWh"]
["US$/ton CO2-eq.",null,null,{"$f":"IF(D110<>0,D105/D110,0)","v":-153.13048866378534},null,"Part de l'augmentation des ventes de chaleur provenant d'énergies renouvelables",{"$f":"G110/G115","v":0.45747844183133313}]
[null,null,null,null,null,"Prix de vente pour la chaleur",{"$f":"130/1.73","v":75.144508670520239},"US$/MWh"]
[null,null,null,null,null,"Revenu des ventes de chaleur supplémentaire",{"$f":"G111*G113","v":2672739.8843930638},"US$/an"]
[null,null,null,null,null,"Vente totale de chaleur",{"$f":"G116*G117/1000","v":197976},"MWh"]
[null,null,null,null,null,"Surface totale chauffée",{"$f":"(1423710+418223)*G99/120000","v":1841933},"m2"]
[null,null,null,null,null,"Utilisation moyenne de chaleur",107.48273688565219,"kWh/m2"]
[]
[null,null,null,null,null,"Option de référence:  Ancien réseau utilisant fioul"]
[null,null,null,null,null,"Contenu énergétique du HFO",{"$f":"+Hypothèses!H22","v":40.19},"GJ/ton"]
[null,null,null,null,null,"Coût du fioul lourd (HFO)",{"$f":"+Hypothèses!H20","v":6.387321626458637},"US$/GJ"]
[null,null,null,null,null,"Facteur d'émission pour le HFO",{"$f":"+Hypothèses!C36","v":77.366666666666674},"KgCO2/GJ"]
[null,null,null,null,null,"HFO réduit",{"$f":"(16564-14277)*G99/120000","v":2287},"Ton"]
[null,null,null,null,null,"HFO réduit",{"$f":"+G123*G120","v":91914.53},"GJ"]
[null,null,null,null,null,"Contenu énergétique du diesel",{"$f":"+Hypothèses!F22","v":43.33},"GJ/ton"]
[null,null,null,null,null,"Coût du diesel",{"$f":"+Hypothèses!F20","v":10.367789021299378},"US$/GJ"]
[null,null,null,null,null,"Facteur d'émission pour le diesel",{"$f":"+Hypothèses!C37","v":74.066666666666663},"KgCO2/GJ"]
[null,null,null,null,null,"Diesel remplacé dans les maisons déconnectées",{"$f":"+G129/G125","v":8269.049619201478},"Ton"]
[null,null,null,null,null,"Diesel remplacé dans les maisons déconnectées",{"$f":"+G109","v":358297.92000000004},"GJ"]
[null,null,null,null,null,"Vente totale de chaleur",{"$f":"G131*G132/1000","v":162408},"MWh"]
[null,null,null,null,null,"Surface totale chauffée",{"$f":"1423710*G99/120000","v":1423710},"m2"]
[null,null,null,null,null,"Utilisation moyenne de chaleur",114.07379311798049,"kWh/m2"]
[]
[]
[]
["Nouveau réseau de refroidissement urbain (1 million de m2 de nouvelle zone urbaine couverte)"]
["Coûts en","Option de","Option de ","Augmentation",null,"Entrées générales:"]
["US$","Réduction","Référence","(Réd.-Réf.)",null,"Taux d'actualisation",{"$f":"+DiscountRate","v":7.0000000000000007E-2}]
["Investissement total",{"$f":"+(G154+G157+G159)*1000000","v":58161120.946261026},{"$f":"+G167*1000000","v":45576899.129940301},{"$f":"B139-C139","v":12584221.816320725},null,"Facteur d'émission",0.97,"tCO2/MWh"]
["Durée de vie du projet",20,20,null,null,"Zone de la ville couverte",{"$f":"G141/4046.9*1000000","v":247.10272060095383},"Acre"]
["Investissements nivelés",{"$f":"IF(B140=0,0,PMT($G138,B140,-B139))","v":5489998.3706249306},{"$f":"IF(C140=0,0,PMT($G138,C140,-C139))","v":4302136.8551803101},{"$f":"B141-C141","v":1187861.5154446205},null,"Zone de la ville couverte",1,"Million m2"]
["O&M annuelle ",null,null,{"$f":"B142-C142","v":0},null,"Part de terrain à usage commercial et public",{"$f":"(16.3+4.7)/100","v":0.21}]
["Coût annuel électricité",{"$f":"+G162*1000","v":6450935.9589080559},{"$f":"+G169*1000","v":9676403.9383620843},{"$f":"B143-C143","v":-3225467.9794540284},null,"Rapport de surface de plancher (FAR)",2.54]
["Coûts totaux annuel",{"$f":"SUM(B141:B143)","v":11940934.329532987},{"$f":"SUM(C141:C143)","v":13978540.793542394},{"$f":"B144-C144","v":-2037606.4640094079},null,"Zone bâtie refroidie",{"$f":"G141*G142*G143","v":0.53339999999999999},"Million m2"]
[null,null,null,null,null,"Demande de refroidissement moyenne",{"$f":"G147/G146*1000","v":166.95200000000003},"W/m2"]
["Émissions annuelles (tonnes)","Tonnes","Tonnes","Réduction",null,"Heures de pleine charge équivalentes (EFLH)",{"$f":"1950*0.57317","v":1117.6814999999999},"Hours"]
["Éq.-CO2 d'émission de carburant",{"$f":"+G161*G139","v":27451.246264085195},{"$f":"G168*G139","v":41176.86939612779},{"$f":"C147-B147","v":13725.623132042594},null,"Demande de refroidissement moyenne",186.599161788,"kWh/m2"]
["Autres",null,null,null,null,"Capacité de refroidissement installée",{"$f":"G144*G145*1000","v":89052.19680000002},"kW"]
["Émission total CO2-éq. ",{"$f":"B147+B148","v":27451.246264085195},{"$f":"C147+C148","v":41176.86939612779},{"$f":"C149-B149","v":13725.623132042594},null,"1 TR =",3.5169999999999999,"kW"]
[null,null,null,null,null,"Capacité de refroidissement installée",{"$f":"G148/G149","v":25320.499516633499},"TR"]
["US$/ton CO2-eq.",null,null,{"$f":"IF(D149<>0,D144/D149,0)","v":-148.45274742045021},null,"Prix de l'électricité",{"$f":"9920497/43521217","v":0.22794622218399821},"US$/kWh"]
[null,null,null,null,null,"Option de réduction: Refroidissement urbain"]
[null,null,null,null,null,"Coût de l'unité de refroidissement",2000,"US$/TR"]
[null,null,null,null,null,"Investissement dans une installation de refroidissement",{"$f":"G150*G153/1000000","v":50.640999033267001},"MUS$"]
[null,null,null,null,null,"Exigence de la zone de l'installation de refroidissement",5786,"m2"]
[null,null,null,null,null,"Coût unitaire du terrain",512,"US$/m2"]
[null,null,null,null,null,"Investissement foncier",{"$f":"G155*G156/1000000","v":2.9624320000000002},"MUS$"]
[null,null,null,null,null,"Coût réseau spécifique",180,"US$/TR"]
[null,null,null,null,null,"Investissement en réseau",{"$f":"G150*G158/1000000","v":4.5576899129940296},"MUS$"]
[null,null,null,null,null,"COP de refroidissement urbain",1,"kW/TR"]
[null,null,null,null,null,"Consommation d'électricité",{"$f":"G150*G160*G146/1000","v":28300.2538805002},"MWh"]
[null,null,null,null,null,"Coût de la consommation d'électricité",{"$f":"G161*G151","v":6450.9359589080559},"kUS$"]
[null,null,null,null,null,"Économies d'électricité",{"$f":"+G168-G161","v":14150.126940250102},"MWh"]
[null,null,null,null,null,"Option de référence:  Airconditionné local"]
[null,null,null,null,null,"Efficacité du refroidisseur (COP)",1.5,"kW/TR"]
[null,null,null,null,null,"Système de refroidissement autonome",1800,"US$/TR"]
[null,null,null,null,null,"Investissement dans la climatisation des bâtiments",{"$f":"G150*G166/1000000","v":45.576899129940301},"MUS$"]
[null,null,null,null,null,"Consommation d'électricité",{"$f":"G150*G165*G146/1000","v":42450.380820750303},"MWh"]
[null,null,null,null,null,"Coût de la consommation d'électricité",{"$f":"G168*G151","v":9676.4039383620839},"kUS$"]

{"sheet":"Foresterie","index":29,"n_rows":141,"n_cols":8,"rows_kept":141,"cut":false,"hidden":false,"merged":[[128,5,128,7],[98,5,98,7],[70,5,70,7],[42,5,42,7],[13,5,13,7],[39,5,39,7],[67,5,67,7],[95,5,95,7],[125,5,125,7],[10,5,10,7],[0,0,0,2],[1,0,1,2],[3,0,3,2],[4,0,4,2],[5,0,5,2]]}
["Menu pour options de Foresterie (cliquez sur les liens ci-dessous)"]
["Reboisement (1000 ha)","Reboisement","Reboisement"]
["REDD: déforestation évitée (1000 ha)"]
["Régénération assistée des forêts (1000 ha)","Régénération assistée des forêts","Régénération assistée des forêts"]
["Reboisement avec agroforesterie (1000 ha)","Reboisement avec agroforesterie","Reboisement avec agroforesterie"]
["Reboisement avec Silvopasture (1000 ha)","Reboisement avec Silvopasture","Reboisement avec Silvopasture"]
[]
[]
[]
["Reboisement (1000 ha)"]
["Coûts en","Option de","Option de ","Augmentation",null,"Entrées générales:"]
["US$","Réduction","Référence","(Réd.-Réf.)",null,"Taux d'actualisation",{"$f":"+DiscountRate","v":7.0000000000000007E-2}]
["Investissement total",{"$f":"+G15*1000","v":600000}]
["Bénéfices (NPV)",{"$f":"-G16*1000","v":0},null,null,null,"Option de réduction: reboisement"]
["Durée de vie du projet",20,null,null,null,"Investissement",600,"US$/ha"]
["Investissements nivelés",{"$f":"IF(B15=0,0,PMT($G12,B15,-(B13+B14)))","v":56635.755445953415},null,{"$f":"B16-C16","v":56635.755445953415},null,"Bénéfice annuel",null,"US$/ha"]
["O&M annuelle ",null,null,null,null,"Densité forêt",100,"t matière sèche/ha"]
["Coût annuel carburant",null,null,null,null,"Fraction de carbone dans matière sèche",0.5]
["Coûts totaux annuel",{"$f":"SUM(B16:B18)","v":56635.755445953415},null,{"$f":"B19-C19","v":56635.755445953415},null,"Temps de croissance de forêt",50,"années"]
[]
["Émissions annuelles (tonnes)","Tonnes","Tonnes","Réduction",null,"Option de référence: pas de reboisement"]
["Éq.-CO2 d'émission de carburant",0,0,{"$f":"C22-B22","v":0}]
["CO2 fixé/stocké",{"$f":"-G17*G18*1000*44/12/G19","v":-3666.666666666667},null,{"$f":"C23-B23","v":3666.666666666667}]
["Émission total CO2-éq. ",{"$f":"B22+B23","v":-3666.666666666667},{"$f":"C22+C23","v":0},{"$f":"C24-B24","v":3666.666666666667}]
[]
["US$/ton CO2-eq.",null,null,{"$f":"IF(D24<>0,D19/D24,0)","v":15.446115121623658}]
[]
[]
[]
[]
[]
[]
[]
[]
[]
[]
[]
[]
["REDD: déforestation évitée (1000 ha)"]
["Coûts en","Option de","Option de ","Augmentation",null,"Entrées générales:"]
["US$","Réduction","Référence","(Réd.-Réf.)",null,"Taux d'actualisation",{"$f":"+DiscountRate","v":7.0000000000000007E-2}]
["Investissement total",{"$f":"-G49*44/12*G44","v":-403333.33333333337}]
["Durée de vie du projet",20,null,null,null,"Option de réduction: déforestation évitée"]
["Investissements nivelés",{"$f":"IF(B43=0,0,PMT($G41,B43,-B42))","v":-38071.813383113134},null,{"$f":"B44-C44","v":-38071.813383113134},null,"Coûts d'opportunité",2.2000000000000002,"US$/tCO2"]
["O&M annuelle ",null,null,null,null,"Déforestation future possible",1000,"ha"]
["Coût annuel carburant",null,null,null,null,"Densité forêt",100,"t matière sèche/ha"]
["Coûts totaux annuel",{"$f":"SUM(B44:B46)","v":-38071.813383113134},null,{"$f":"B47-C47","v":-38071.813383113134},null,"Fraction de carbone dans matière sèche",0.5]
[null,null,null,null,null,"Temps de croissance de forêt",50,"années"]
["Émissions annuelles (tonnes)","Tonnes","Tonnes","Réduction",null,"Quantité de carbone fixée",{"$f":"+G45*G46*G47","v":50000},"tC"]
["Éq.-CO2 d'émission de carburant",0,0,{"$f":"C50-B50","v":0}]
["CO2 fixé/stocké",{"$f":"-G49*44/12/G48","v":-3666.666666666667},null,{"$f":"C51-B51","v":3666.666666666667},null,"Option de référence: pas de reboisement"]
["Émission total CO2-éq. ",{"$f":"B50+B51","v":-3666.666666666667},{"$f":"C50+C51","v":0},{"$f":"C52-B52","v":3666.666666666667}]
[]
["US$/ton CO2-eq.",null,null,{"$f":"IF(D52<>0,D47/D52,0)","v":-10.383221831758126}]
[]
[]
[]
[]
[]
[]
[]
[]
[]
[]
[]
[]
["Régénération assistée des forêts (1000 ha)"]
["Coûts en","Option de","Option de ","Augmentation",null,"Entrées générales:"]
["US$","Réduction","Référence","(Réd.-Réf.)",null,"Taux d'actualisation",{"$f":"+DiscountRate","v":7.0000000000000007E-2}]
["Investissement total",{"$f":"G72*1000","v":600000}]
["Bénéfices (NPV)",{"$f":"-G73*1000","v":-750000},null,null,null,"Option de réduction: Régénération assistée"]
["Durée de vie du projet",20,null,null,null,"Investissement",600,"US$/ha"]
["Investissements nivelés",{"$f":"IF(B72=0,0,PMT($G69,B72,-(B70+B71)))","v":-14158.938861488354},null,{"$f":"B73-C73","v":-14158.938861488354},null,"Bénéfice annuel",750,"US$/ha"]
["O&M annuelle ",null,null,null,null,"Densité forêt",100,"t matière sèche/ha"]
["Coût annuel carburant",{"$f":"SUM(B73:B74)","v":-14158.938861488354},null,{"$f":"B75-C75","v":-14158.938861488354},null,"Fraction de carbone dans matière sèche",0.5]
["Coûts totaux annuel",null,null,null,null,"Temps de croissance de forêt",50,"années"]
["Émissions annuelles (tonnes)","Tonnes","Tonnes","Réduction"]
["Éq.-CO2 d'émission de carburant",0,0,{"$f":"C78-B78","v":0},null,"Option de référence: pas de reboisement"]
["CO2 fixé/stocké",{"$f":"-G74*G75*44/12*1000/G76","v":-3666.666666666667},null,{"$f":"C79-B79","v":3666.666666666667}]
["Émission total CO2-éq. ",{"$f":"B78+B79","v":-3666.666666666667},{"$f":"C78+C79","v":0},{"$f":"C80-B80","v":3666.666666666667}]
[]
["US$/ton CO2-eq.",null,null,{"$f":"IF(D80<>0,D75/D80,0)","v":-3.8615287804059144}]
[]
[]
[]
[]
[]
[]
[]
[]
[]
[]
[]
[]
["Reboisement avec agroforesterie (1000 ha)"]
["Coûts en","Option de","Option de ","Augmentation",null,"Entrées générales:"]
["US$","Réduction","Référence","(Réd.-Réf.)",null,"Taux d'actualisation",{"$f":"+DiscountRate","v":7.0000000000000007E-2}]
["Investissement total",{"$f":"+G100*1000","v":1350000}]
["Bénéfices (NPV)",{"$f":"-G101*1000","v":-1380000},null,null,null,"Option de réduction: Reboisement avec agroforesterie"]
["Durée de vie du projet",30,null,null,null,"Investissement",1350,"US$/ha"]
["Investissements nivelés",{"$f":"IF(B100=0,0,PMT($G97,B100,-(B98+B99)))","v":-2417.5921053333359},null,{"$f":"B101-C101","v":-2417.5921053333359},null,"Bénéfice annuel",1380,"US$/ha"]
["O&M annuelle ",null,null,null,null,"Densité forêt",100,"t matière sèche/ha"]
["Coût annuel carburant",null,null,null,null,"Fraction de carbone dans matière sèche",0.5]
["Coûts totaux annuel",{"$f":"SUM(B101:B103)","v":-2417.5921053333359},null,{"$f":"B104-C104","v":-2417.5921053333359},null,"Temps de croissance de forêt",50,"années"]
[]
["Émissions annuelles (tonnes)","Tonnes","Tonnes","Réduction",null,"Option de référence: pas de reboisement"]
["Éq.-CO2 d'émission de carburant",0,0,{"$f":"C107-B107","v":0}]
["CO2 fixé/stocké",{"$f":"-G102*G103*44/12*1000/G104","v":-3666.666666666667},null,{"$f":"C108-B108","v":3666.666666666667}]
["Émission total CO2-éq. ",{"$f":"B107+B108","v":-3666.666666666667},{"$f":"C107+C108","v":0},{"$f":"C109-B109","v":3666.666666666667}]
[]
["US$/ton CO2-eq.",null,null,{"$f":"IF(D109<>0,D104/D109,0)","v":-0.65934330145454612}]
[]
[]
[]
[]
[]
[]
[]
[]
[]
[]
[]
[]
[]
["Reboisement avec Silvopasture (1000 ha)"]
["Coûts en","Option de","Option de ","Augmentation",null,"Entrées générales:"]
["US$","Réduction","Référence","(Réd.-Réf.)",null,"Taux d'actualisation",{"$f":"+DiscountRate","v":7.0000000000000007E-2}]
["Investissement total",{"$f":"+G130*1000","v":1350000}]
["Bénéfices (NPV)",{"$f":"-G131*1000","v":-1380000},null,null,null,"Option de réduction: Reboisement avec Silvopasture"]
["Durée de vie du projet",30,null,null,null,"Investissement",1350,"US$/ha"]
["Investissements nivelés",{"$f":"IF(B130=0,0,PMT($G127,B130,-(B128+B129)))","v":-2417.5921053333359},null,{"$f":"B131-C131","v":-2417.5921053333359},null,"Bénéfice annuel",1380,"US$/ha"]
["O&M annuelle ",null,null,null,null,"Densité forêt",100,"t matière sèche/ha"]
["Coût annuel carburant",null,null,null,null,"Fraction de carbone dans matière sèche",0.5]
["Coûts totaux annuel",{"$f":"SUM(B131:B133)","v":-2417.5921053333359},null,{"$f":"B134-C134","v":-2417.5921053333359},null,"Temps de croissance de forêt",50,"années"]
[]
["Émissions annuelles (tonnes)","Tonnes","Tonnes","Réduction",null,"Option de référence: pas de reboisement"]
["Éq.-CO2 d'émission de carburant",0,0,{"$f":"C137-B137","v":0}]
["CO2 fixé/stocké",{"$f":"-G132*G133*44/12*1000/G134","v":-3666.666666666667},null,{"$f":"C138-B138","v":3666.666666666667}]
["Émission total CO2-éq. ",{"$f":"B137+B138","v":-3666.666666666667},{"$f":"C137+C138","v":0},{"$f":"C139-B139","v":3666.666666666667}]
[]
["US$/ton CO2-eq.",null,null,{"$f":"IF(D139<>0,D134/D139,0)","v":-0.65934330145454612}]

{"sheet":"Changement combustible fossile","index":30,"n_rows":51,"n_cols":8,"rows_kept":51,"cut":false,"hidden":false,"merged":[[7,5,7,7],[36,5,36,7],[0,0,0,2],[1,0,1,2],[2,0,2,2]]}
["Menu pour options de Changement Combustible fossile (cliquez sur les liens ci-dessous)"]
["Passage du charbon au gaz naturel dans l'industrie","Passer du charbon au gaz naturel dans l'industrie","Passer du charbon au gaz naturel dans l'industrie"]
["Passage du fioul lourd au gaz naturel dans l'industrie","Passer du fioul lourd au gaz naturel dans l'industrie","Passer du fioul lourd au gaz naturel dans l'industrie"]
[]
[]
[]
["Passage du charbon au gaz naturel dans l'industrie (100 TJ combustible utilisé)"]
["Coûts en","Option de","Option de ","Augmentation",null,"Entrées générales:"]
["US$","Réduction","Référence","(Réd.-Réf.)",null,"Taux d'actualisatioin",{"$f":"+DiscountRate","v":7.0000000000000007E-2}]
["Investissement total",{"$f":"+G16*1000000*100/G14","v":128196.10020202945}]
["Durée de vie du projet",20,null,null,null,"Option de réduction: Utilisation gaz naturel"]
["Investissements nivelés",{"$f":"IF(B11=0,0,PMT($G9,B11,-B10))","v":12100.804966945134},null,{"$f":"B12-C12","v":12100.804966945134},null,"Coefficient d'émission CO2-éq. ",{"$f":"+Hypothèses!C42","v":56.1},"kgCO2-eq./GJ"]
["O&M annuelle ",{"$f":"+G17","v":0},{"$f":"+G23","v":0},{"$f":"B13-C13","v":0},null,"Prix gaz naturel",{"$f":"+Hypothèses!N20","v":3.080568720379147},"US$/GJ"]
["Coût annuel carburant",{"$f":"+G14*G15*1000*100/G14","v":308056.8720379147},{"$f":"G22*G21*1000*100/G14","v":200320.51282051284},{"$f":"B14-C14","v":107736.35921740186},null,"Consommation annuelle de combustible",{"$f":"+G22","v":229},"TJ"]
["Coûts totaux annuel",{"$f":"SUM(B12:B14)","v":320157.67700485984},{"$f":"SUM(C12:C14)","v":200320.51282051284},{"$f":"B15-C15","v":119837.164184347},null,"Prix gaz naturel de référence",{"$f":"+Hypothèses!N20","v":3.080568720379147},"US$/GJ"]
[null,null,null,null,null,"Investissement",{"$f":"2.239932/7.63","v":0.29356906946264744},"Mill. US$"]
["Émissions annuelles (tonnes)","Tonnes","Tonnes","Réduction",null,"O&M",0,"Mill. US$"]
["Éq.-CO2 d'émission de carburant",{"$f":"G14*G12*100/G14","v":5610},{"$f":"G22*G20*100/G14","v":9460},{"$f":"C18-B18","v":3850}]
["Autres",null,null,null,null,"Option de réference: Utilisation charbon"]
["Émission total CO2-éq. ",{"$f":"B18+B19","v":5610},{"$f":"C18+C19","v":9460},{"$f":"C20-B20","v":3850},null,"Coefficient d'émission CO2-éq. ",{"$f":"+Hypothèses!C43","v":94.600000000000009},"kgCO2-eq./GJ"]
[null,null,null,null,null,"Prix charbon",{"$f":"+Hypothèses!J20","v":2.0032051282051282},"US$/GJ"]
["US$/ton CO2-eq.",null,null,{"$f":"IF(D20<>0,D15/D20,0)","v":31.126536151778442},null,"Consommation annuelle de combustible",229,"TJ"]
[null,null,null,null,null,"O&M",0,"Mill. US$"]
[]
[]
[]
[]
[]
[]
[]
[]
[]
[]
[]
[]
["Passage du fioul lourd au gaz naturel dans l'industrie (100 TJ combustible utilisé)"]
["Coûts en","Option de","Option de ","Augmentation",null,"Entrées générales:"]
["US$","Réduction","Référence","(Réd.-Réf.)",null,"Taux d'actualisatioin",{"$f":"+DiscountRate","v":7.0000000000000007E-2}]
["Investissement total",{"$f":"+G44*1000000*100/G43","v":780941.64082323096}]
["Durée de vie du projet",20,null,null,null,"Reduction option: Utilisation gaz naturel"]
["Investissements nivelés",{"$f":"IF(B40=0,0,PMT($G38,B40,-B39))","v":73715.366312043509},null,{"$f":"B41-C41","v":73715.366312043509},null,"Coefficient d'émission CO2-éq. ",{"$f":"+Hypothèses!C42","v":56.1},"kgCO2-eq./GJ"]
["O&M annuelle ",null,null,{"$f":"B42-C42","v":0},null,"Prix gaz naturel de référence",{"$f":"+Hypothèses!N20","v":3.080568720379147},"US$/GJ"]
["Coût annuel carburant",{"$f":"+G43*G42*1000*100/G43","v":308056.8720379147},{"$f":"G50*G49*1000*100/71","v":638192.38898728974},{"$f":"B43-C43","v":-330135.51694937504},null,"Consommation annuelle de combustible",70.94,"TJ"]
["Coûts totaux annuel",{"$f":"SUM(B41:B43)","v":381772.23834995821},{"$f":"SUM(C41:C43)","v":638192.38898728974},{"$f":"B44-C44","v":-256420.15063733154},null,"Investissement",0.55400000000000005,"Mill. US$"]
[null,null,null,null,null,"O&M",0,"Mill. US$"]
["Émissions annuelles (tonnes)","Tonnes","Tonnes","Réduction"]
["Éq.-CO2 d'émission de carburant",{"$f":"G43*G41*100/G43","v":5610},{"$f":"G50*G48*100/G50","v":7736.6666666666679},{"$f":"C47-B47","v":2126.6666666666679},null,"Reference option: Utilisation fioul lourd"]
["Autres",null,null,null,null,"Coefficient d'émission CO2-éq. ",{"$f":"+Hypothèses!C36","v":77.366666666666674},"kgCO2-eq./GJ"]
["Émission total CO2-éq. ",{"$f":"B47+B48","v":5610},{"$f":"C47+C48","v":7736.6666666666679},{"$f":"C49-B49","v":2126.6666666666679},null,"Prix fioul lourd",{"$f":"+Hypothèses!H20","v":6.387321626458637},"US$/GJ"]
[null,null,null,null,null,"Consommation annuelle de combustible",{"$f":"+G43","v":70.94},"TJ"]
["US$/ton CO2-eq.",null,null,{"$f":"IF(D49<>0,D44/D49,0)","v":-120.57373854419971},null,"O&M",0,"Mill. US$"]

{"sheet":"Emissions fugitives","index":31,"n_rows":107,"n_cols":8,"rows_kept":107,"cut":false,"hidden":false,"merged":[[8,5,8,7],[37,5,37,7],[92,5,92,7],[64,5,64,7],[0,0,0,2],[1,0,1,2],[2,0,2,2],[3,0,3,2],[4,0,4,2]]}
["Menu pour options de Emissions fugitives (cliquez sur les liens ci-dessous)"]
["Réduction du torchage au champ pétrolifère","Réduction du torchage au champ pétrolifère","Réduction du torchage au champ pétrolifère"]
["Réduction du torchage dans les raffineries de pétrole","Réduction du torchage dans les raffineries de pétrole","Réduction du torchage dans les raffineries de pétrole"]
["Réduction des fuites dans les pipelines de gaz naturel","Réduction des fuites dans les pipelines de gaz naturel","Réduction des fuites dans les pipelines de gaz naturel"]
["Production efficace de charbon de bois","Production de charbon de bois","Production de charbon de bois"]
[]
[]
["Réduction du torchage au champ pétrolifère (1 MMSCF/jour)"]
["Coûts en","Option de","Option de ","Augmentation",null,"Entrées générales:"]
["US$","Réduction","Référence","(Réd.-Réf.)",null,"Taux d'actualisation",{"$f":"+DiscountRate","v":7.0000000000000007E-2}]
["Investissement total",{"$f":"G16/G18*1000000","v":10866021.949364338},null,null,null,"Prix gaz naturel de référence",{"$f":"+Hypothèses!N20","v":3.080568720379147},"US$/GJ"]
["Durée de vie du projet",20,null,null,null,"Valeur calorifique",39,"MJ/m3"]
["Investissements nivelés",{"$f":"IF(B12=0,0,PMT($G10,B12,-B11))","v":1025675.6029909345},null,{"$f":"B13-C13","v":1025675.6029909345},null,"Coefficient d'émission CO2-éq. ",{"$f":"+Hypothèses!C42","v":56.1},"kgCO2/GJ"]
["O&M annuelle ",{"$f":"B11*G17","v":434640.87797457352},null,{"$f":"B14-C14","v":434640.87797457352}]
["Coût annuel carburant",null,{"$f":"G20*G11*1000/G18","v":1241754.7322274882},{"$f":"B15-C15","v":-1241754.7322274882},null,"Option de réduction: Réduction du torchage"]
["Coûts totaux annuel",{"$f":"SUM(B13:B15)","v":1460316.4809655081},{"$f":"SUM(C13:C15)","v":1241754.7322274882},{"$f":"B16-C16","v":218561.74873801996},null,"Investissement",100,"MUS$"]
[null,null,null,null,null,"O&M  ",0.04]
["Émissions annuelles (tonnes)","Tonnes","Tonnes","Réduction",null,"Quantité de gaz torché",{"$f":"2.933+2.851+3.419","v":9.2029999999999994},"MMSCF/jour"]
["Éq.-CO2 d'émission de carburant",null,null,{"$f":"C19-B19","v":0},null,"Quantité de gaz torché",{"$f":"G18*10335710/1000000","v":95.119539129999993},"Mm3/an"]
["Torchage de CH4",null,{"$f":"G20*G13/G18","v":22613.499908999998},null,null,"Quantité de gaz torché",{"$f":"G19*G12","v":3709.6620260699997},"TJ/an"]
["Émission total CO2-éq. ",{"$f":"B19+B20","v":0},{"$f":"C19+C20","v":22613.499908999998},{"$f":"C21-B21","v":22613.499908999998}]
[null,null,null,null,null,"Option de référence: Torchage"]
["US$/ton CO2-eq.",null,null,{"$f":"IF(D21<>0,D16/D21,0)","v":9.6651004761555761}]
[]
[]
[]
[]
[]
[]
[]
[]
[]
[]
[]
[]
[]
["Réduction du torchage dans les raffineries de pétrole (1 MMSCF/jour)"]
["Coûts en","Option de","Option de ","Augmentation",null,"Entrées générales:"]
["US$","Réduction","Référence","(Réd.-Réf.)",null,"Taux d'actualisation",{"$f":"+DiscountRate","v":7.0000000000000007E-2}]
["Investissement total",{"$f":"G45*1000000","v":26000000},null,null,null,"Prix gaz naturel de référence",{"$f":"+Hypothèses!N20","v":3.080568720379147},"US$/GJ"]
["Durée de vie du projet",25,null,null,null,"Valeur calorifique",39,"MJ/m3"]
["Investissements nivelés",{"$f":"IF(B41=0,0,PMT($G$39,B41,-B40))","v":2231073.4477373059},null,{"$f":"B42-C42","v":2231073.4477373059},null,"Coefficient d'émission CO2-éq. ",{"$f":"+Hypothèses!C42","v":56.1},"kgCO2/GJ"]
["O&M annuelle ",{"$f":"+G46*1000000","v":3930000},null,{"$f":"B43-C43","v":3930000}]
["Coût annuel carburant",null,{"$f":"G49*G40*1000","v":1642750.2369668246},{"$f":"B44-C44","v":-1642750.2369668246},null,"Option de réduction: Réduction du torchage"]
["Coûts totaux annuel",{"$f":"SUM(B42:B44)","v":6161073.4477373064},{"$f":"SUM(C42:C44)","v":1642750.2369668246},{"$f":"B45-C45","v":4518323.2107704822},null,"Investissement",{"$f":"15+11","v":26},"MUS$"]
[null,null,null,null,null,"O&M  ",{"$f":"2.2+1.73","v":3.93},"MUS$/an"]
["Émissions annuelles (tonnes)","Tonnes","Tonnes","Réduction"]
["Éq.-CO2 d'émission de carburant",null,null,{"$f":"C48-B48","v":0},null,"Option de référence: Torchage"]
["Torchage",null,{"$f":"+G50","v":20797.217999999997},null,null,"Quantité de gaz torché",533.26199999999994,"TJ/an"]
["Émission total CO2-éq. ",{"$f":"B48+B49","v":0},{"$f":"C48+C49","v":20797.217999999997},{"$f":"C50-B50","v":20797.217999999997},null,"Quantité de gaz torché",{"$f":"G49*G41","v":20797.217999999997},"tCO2/an"]
[]
["US$/ton CO2-eq.",null,null,{"$f":"IF(D50<>0,D45/D50,0)","v":217.25613544900492}]
[]
[]
[]
[]
[]
[]
[]
[]
[]
[]
[]
["Réduction des fuites dans les pipelines de gaz naturel (1 million m3 CH4/année fuite)"]
["Coûts en","Option de","Option de ","Augmentation",null,"Entrées générales:"]
["US$","Réduction","Référence","(Réd.-Réf.)",null,"Taux d'actualisation",{"$f":"+DiscountRate","v":7.0000000000000007E-2}]
["Investissement total",{"$f":"G74/G78*1000000","v":249686.31266364327},null,null,null,"Prix gaz naturel de référence",{"$f":"+Hypothèses!N20","v":3.080568720379147},"US$/GJ"]
["Durée de vie du projet",20,null,null,null,"Valeur calorifique",{"$f":"+Hypothèses!N22","v":39},"MJ/m3"]
["Investissements nivelés",{"$f":"IF(B68=0,0,PMT($G66,B68,-B67))","v":23568.621570366602},null,{"$f":"B69-C69","v":23568.621570366602},null,"Densité gaz naturel",7.18E-4,"tCH4/m3 CH4"]
["O&M annuelle ",{"$f":"B67*G75","v":12484.315633182165},null,{"$f":"B70-C70","v":12484.315633182165},null,"Coefficient d'émission CO2-éq. ",{"$f":"+Hypothèses!C36","v":77.366666666666674},"kgCO2/GJ"]
["Coût annuel carburant",null,{"$f":"+G80*G67*1000/G78","v":120142.18009478675},{"$f":"B71-C71","v":-120142.18009478675},null,"PRG (GWP) du CH4",{"$f":"+Hypothèses!E55","v":21}]
["Coûts totaux annuel",{"$f":"SUM(B69:B71)","v":36052.937203548769},{"$f":"SUM(C69:C71)","v":120142.18009478675},{"$f":"B72-C72","v":-84089.242891237984}]
[null,null,null,null,null,"Option de réduction: Pas de fuites CH4"]
["Émissions annuelles (tonnes)","Tonnes","Tonnes","Réduction",null,"Investissement",2.8917660000000001,"MUS$"]
["Éq.-CO2 d'émission de carburant",null,null,{"$f":"C75-B75","v":0},null,"O&M (suivi annuel)",0.05,"de investissement"]
["Émission de CH4",null,{"$f":"G79*G71/G78","v":15078},null,null,"Option de référence: Avec fuites CH4"]
["Émission total CO2-éq. ",{"$f":"B75+B76","v":0},{"$f":"C75+C76","v":15078},{"$f":"C77-B77","v":15078},null,"Fuites de gaz naturel",1322.1,"m3 CH4/heure"]
[null,null,null,null,null,"Fuites de gaz naturel annuelles",{"$f":"G77*24*365/1000000","v":11.581595999999999},"Mm3 CH4/an"]
["US$/ton CO2-eq.",null,null,{"$f":"IF(D77<>0,D72/D77,0)","v":-5.576949389258389},null,"Fuites de gaz naturel annuelles",{"$f":"G78*G69*1000000","v":8315.5859280000004},"tCH4/an"]
[null,null,null,null,null,"Quantité de gaz échappé",{"$f":"G78*G68","v":451.68224399999997},"TJ/an"]
[]
[]
[]
[]
[]
[]
[]
[]
[]
[]
[]
["Production efficace de charbon de bois (100,000 tonnes)"]
["Coûts en","Option de","Option de ","Augmentation",null,"Entrées générales:"]
["US$","Réduction","Référence","(Réd.-Réf.)",null,"Taux d'actualisation",{"$f":"+DiscountRate","v":7.0000000000000007E-2}]
["Investissement total",{"$f":"G101*1000000/G100*100000","v":2400000},null,null,null,"PRG (GWP) du CH4",{"$f":"+Hypothèses!E55","v":21}]
["Durée de vie du projet",20,null,null,null,"Valeur calorifique",39,"MJ/m3"]
["Investissements nivelés",{"$f":"IF(B96=0,0,PMT($G94,B96,-B95))","v":226543.02178381366},null,{"$f":"B97-C97","v":226543.02178381366},null,"Biomasse non-renouvelable",0.82]
["O&M annuelle ",null,null,{"$f":"B98-C98","v":0}]
["Coûts totaux annuel",{"$f":"SUM(B97:B98)","v":226543.02178381366},{"$f":"SUM(C97:C98)","v":0},{"$f":"B99-C99","v":226543.02178381366},null,"Option de réduction: Nouveau processus"]
[null,null,null,null,null,"Taille usine charbon",500000,"t charbon/an"]
["Émissions annuelles (tonnes)","Tonnes","Tonnes","Réduction",null,"Investissement",12,"MUS$"]
["Éq.-CO2 d'émission de carburant",{"$f":"1/G103*G97*0.5*44/12*100000","v":406306.30630630627},{"$f":"1/G107*G97*0.5*44/12*100000","v":501111.11111111112},{"$f":"C102-B102","v":94804.804804804851},null,"Facteur émission CH4",2.4E-2,"tCH4/t charbon"]
["Émission de CH4",{"$f":"G102*G95*100000","v":50400},{"$f":"G106*G95*100000","v":96600},{"$f":"C103-B103","v":46200},null,"Rendement gravimétrique",0.37,"charbon/bois sec"]
["Émission total CO2-éq. ",{"$f":"B102+B103","v":456706.30630630627},{"$f":"C102+C103","v":597711.11111111112},{"$f":"C104-B104","v":141004.80480480485},null,"O&M  ","neglectable"]
[null,null,null,null,null,"Reference option: Processus ancien"]
["US$/ton CO2-eq.",null,null,{"$f":"IF(D104<>0,D99/D104,0)","v":1.606633349107647},null,"Facteur émission CH4",4.5999999999999999E-2,"tCH4/t charbon"]
[null,null,null,null,null,"Rendement gravimétrique",0.3,"charbon/bois sec"]

{"sheet":"Géothermique","index":32,"n_rows":55,"n_cols":35,"rows_kept":55,"cut":false,"hidden":false,"merged":[[0,0,0,2],[1,0,1,2],[34,5,34,7],[6,32,6,34],[11,32,11,34],[19,32,19,34],[6,5,6,7],[11,5,11,7],[19,5,19,7],[6,14,6,16],[11,14,11,16],[19,14,19,16],[6,23,6,25],[11,23,11,25],[19,23,19,25]]}
["Menu pour options de Géothermie (cliquez sur les liens ci-dessous)"]
["Énergie géothermique 1 MW","Énergie géothermique","Énergie géothermique"]
["Chaleur géothermique (1000 m2) versus chaudières à charbon"]
[]
[]
["1 MW Geothermal power - 2025",null,null,null,null,null,null,null,null,"1 MW Geothermal power - 2030",null,null,null,null,null,null,null,null,"1 MW Geothermal power - 2030",null,null,null,null,null,null,null,null,"Énergie géothermique 1 MW - 2050"]
["Costs in","Reduction","Reference","Increase",null,"General inputs:",null,null,null,"Costs in","Reduction","Reference","Increase",null,"General inputs:",null,null,null,"Costs in","Reduction","Reference","Increase",null,"General inputs:",null,null,null,"Coûts en","Option de","Option de ","Augmentation",null,"Entrées générales:"]
["US$","Option","Option","(Red.-Ref.)",null,"Discount rate ",{"$f":"+DiscountRate","v":7.0000000000000007E-2},null,null,"US$","Option","Option","(Red.-Ref.)",null,"Discount rate ",{"$f":"+DiscountRate","v":7.0000000000000007E-2},null,null,"US$","Option","Option","(Red.-Ref.)",null,"Discount rate ",{"$f":"+DiscountRate","v":7.0000000000000007E-2},null,null,"US$","Réduction","Référence","(Réd.-Réf.)",null,"Taux d'actualisation",{"$f":"+DiscountRate","v":7.0000000000000007E-2}]
["Total investment",{"$f":"G15*G14*1000","v":4266071.4285714282},null,null,null,"Prix de référence de l'électricité",{"$f":"+Hypothèses!C25","v":0.2},"US$/kWh",null,"Total investment",{"$f":"P15*P14*1000","v":3763988.0952380956},null,null,null,"Prix de référence de l'électricité",{"$f":"+Hypothèses!C25","v":0.2},"US$/kWh",null,"Total investment",{"$f":"Y15*Y14*1000","v":3600000},null,null,null,"Prix de référence de l'électricité",{"$f":"+Hypothèses!C25","v":0.2},"US$/kWh",null,"Investissement total",{"$f":"AH15*AH14*1000","v":3261904.7619047621},null,null,null,"Prix de référence de l'électricité",{"$f":"+Hypothèses!C25","v":0.2},"US$/kWh"]
["Project life",20,null,null,null,"Coefficient d'émission CO2-éq. ",{"$f":"+Hypothèses!C30","v":0.48549999999999999},"tCO2/MWh",null,"Project life",20,null,null,null,"Coefficient d'émission CO2-éq. ",{"$f":"+Hypothèses!C30","v":0.48549999999999999},"tCO2/MWh",null,"Project life",20,null,null,null,"Coefficient d'émission CO2-éq. ",{"$f":"+Hypothèses!C30","v":0.48549999999999999},"tCO2/MWh",null,"Durée de vie du projet",20,null,null,null,"Coefficient d'émission CO2-éq. ",{"$f":"+Hypothèses!C30","v":0.48549999999999999},"tCO2/MWh"]
["Lev. investment",{"$f":"IF(B10=0,0,PMT($G8,B10,-B9))","v":402686.9635725675},null,{"$f":"B11-C11","v":402686.9635725675},null,null,null,null,null,"Lev. investment",{"$f":"IF(K10=0,0,PMT($P8,K10,-K9))","v":355293.84877230803},null,{"$f":"K11-L11","v":355293.84877230803},null,null,null,null,null,"Lev. investment",{"$f":"IF(T10=0,0,PMT($P8,T10,-T9))","v":339814.53267572046},null,{"$f":"T11-U11","v":339814.53267572046},null,null,null,null,null,"Investissements nivelés",{"$f":"IF(AC10=0,0,PMT($AH8,AC10,-AC9))","v":307900.73397204833},null,{"$f":"AC11-AD11","v":307900.73397204833}]
["Annual O&M",{"$f":"B9*G13","v":127982.14285714284},null,{"$f":"B12-C12","v":127982.14285714284},null,"Option de réduction: Énergie géothermique",null,null,null,"Annual O&M",{"$f":"K9*P13","v":112919.64285714287},null,{"$f":"K12-L12","v":112919.64285714287},null,"Option de réduction: Énergie géothermique",null,null,null,"Annual O&M",{"$f":"T9*Y13","v":108000},null,{"$f":"T12-U12","v":108000},null,"Option de réduction: Énergie géothermique",null,null,null,"O&M annuelle ",{"$f":"AC9*AH13","v":97857.142857142855},null,{"$f":"AC12-AD12","v":97857.142857142855},null,"Option de réduction: Énergie géothermique"]
["Annual fuelcost",null,{"$f":"G17*G9*1000/G14","v":1263000},{"$f":"B13-C13","v":-1263000},null,"O&M  ",0.03,null,null,"Annual fuelcost",null,{"$f":"P17*P9*1000/P14","v":1263000},{"$f":"K13-L13","v":-1263000},null,"O&M  ",0.03,null,null,"Annual fuelcost",null,{"$f":"Y17*Y9*1000/Y14","v":1263000},{"$f":"T13-U13","v":-1263000},null,"O&M  ",0.03,null,null,"Coût annuel carburant",null,{"$f":"AH17*AH9*1000/AH14","v":1263000},{"$f":"AC13-AD13","v":-1263000},null,"O&M  ",0.03]
["Total annual cost",{"$f":"SUM(B11:B13)","v":530669.10642971029},{"$f":"SUM(C11:C13)","v":1263000},{"$f":"B14-C14","v":-732330.89357028971},null,"Activité",1,"MW",null,"Total annual cost",{"$f":"SUM(K11:K13)","v":468213.49162945093},{"$f":"SUM(L11:L13)","v":1263000},{"$f":"K14-L14","v":-794786.50837054907},null,"Activité",1,"MW",null,"Total annual cost",{"$f":"SUM(T11:T13)","v":447814.53267572046},{"$f":"SUM(U11:U13)","v":1263000},{"$f":"T14-U14","v":-815185.46732427948},null,"Activité",1,"MW",null,"Coûts totaux annuel",{"$f":"SUM(AC11:AC13)","v":405757.87682919117},{"$f":"SUM(AD11:AD13)","v":1263000},{"$f":"AC14-AD14","v":-857242.12317080889},null,"Activité",1,"MW"]
[null,null,null,null,null,"Activité de l'nvestissement",{"$f":"(3775+3392)/2/0.84","v":4266.0714285714284},"US$/kW",null,null,null,null,null,null,"Activité de l'nvestissement",{"$f":"(G15+AH15)/2","v":3763.9880952380954},"US$/kW",null,null,null,null,null,null,"Activité de l'nvestissement",3600,"US$/kW",null,null,null,null,null,null,"Activité de l'nvestissement",{"$f":"2740/0.84","v":3261.9047619047619},"US$/kW"]
["Annual emissions (tons)","Tonnes","Tonnes","Réduction",null,"Facteur de capacité",6315,"heures à plein temps",null,"Annual emissions (tons)","Tons","Tons","Reduction",null,"Facteur de capacité",6315,"heures à plein temps",null,"Annual emissions (tons)","Tons","Tons","Reduction",null,"Facteur de capacité",6315,"heures à plein temps",null,"Émissions annuelles (tonnes)","Tons","Tons","Reduction",null,"Facteur de capacité",6315,"heures à plein temps"]
["Fuel  CO2-eq. emission",0,{"$f":"G17*G10/G14","v":3065.9324999999999},{"$f":"C17-B17","v":3065.9324999999999},null,"Production Electricité",{"$f":"G14*G16","v":6315},"MWh/an",null,"Fuel  CO2-eq. emission",0,{"$f":"P17*P10/P14","v":3065.9324999999999},{"$f":"L17-K17","v":3065.9324999999999},null,"Production Electricité",{"$f":"P14*P16","v":6315},"MWh/an",null,"Fuel  CO2-eq. emission",0,{"$f":"Y17*Y10/Y14","v":3065.9324999999999},{"$f":"U17-T17","v":3065.9324999999999},null,"Production Electricité",{"$f":"Y14*Y16","v":6315},"MWh/an",null,"Éq.-CO2 d'émission de carburant",0,{"$f":"AH17*AH10/AH14","v":3065.9324999999999},{"$f":"AD17-AC17","v":3065.9324999999999},null,"Production Electricité",{"$f":"AH14*AH16","v":6315},"MWh/an"]
["Other",null,null,null,null,"Prix de l´électricité produite",{"$f":"B14/G17/1000","v":8.4033112657119602E-2},"US$/kWh",null,"Other",null,null,null,null,"Prix de l´électricité produite",{"$f":"K14/P17/1000","v":7.4143070725170374E-2},"US$/kWh",null,"Other",null,null,null,null,"Prix de l´électricité produite",{"$f":"T14/Y17/1000","v":7.0912831777627944E-2},"US$/kWh",null,"Autres",null,null,null,null,"Prix de l´électricité produite",{"$f":"AC14/AH17/1000","v":6.425302879322109E-2},"US$/kWh"]
["Total CO2-eq. emission ",{"$f":"B17+B18","v":0},{"$f":"C17+C18","v":3065.9324999999999},{"$f":"C19-B19","v":3065.9324999999999},null,null,null,null,null,"Total CO2-eq. emission ",{"$f":"K17+K18","v":0},{"$f":"L17+L18","v":3065.9324999999999},{"$f":"L19-K19","v":3065.9324999999999},null,null,null,null,null,"Total CO2-eq. emission ",{"$f":"T17+T18","v":0},{"$f":"U17+U18","v":3065.9324999999999},{"$f":"U19-T19","v":3065.9324999999999},null,null,null,null,null,"Émission total CO2-éq. ",{"$f":"AC17+AC18","v":0},{"$f":"AD17+AD18","v":3065.9324999999999},{"$f":"AD19-AC19","v":3065.9324999999999}]
[null,null,null,null,null,"Option de référence: Pas d´usine géothermique",null,null,null,null,null,null,null,null,"Option de référence: Pas d´usine géothermique",null,null,null,null,null,null,null,null,"Option de référence: Pas d´usine géothermique",null,null,null,null,null,null,null,null,"Option de référence: Pas d´usine géothermique"]
["US$/ton CO2-eq.",null,null,{"$f":"IF(D19<>0,D14/D19,0)","v":-238.86073603064963},null,null,null,null,null,"US$/ton CO2-eq.",null,null,{"$f":"IF(M19<>0,M14/M19,0)","v":-259.23157420150284},null,null,null,null,null,"US$/ton CO2-eq.",null,null,{"$f":"IF(V19<>0,V14/V19,0)","v":-265.88500148789302},null,null,null,null,null,"US$/ton CO2-eq.",null,null,{"$f":"IF(AE19<>0,AE14/AE19,0)","v":-279.60241237235618}]
[]
[]
[]
[]
[]
[]
[]
[]
[]
[]
[]
[]
["Chaleur géothermique (1000 m2) versus chaudières à charbon"]
["Coûts en","Option de","Option de ","Augmentation",null,"Entrées générales:"]
["US$","Réduction","Référence","(Réd.-Réf.)",null,"Taux d'actualisation",{"$f":"+DiscountRate","v":7.0000000000000007E-2}]
["Investissement total",{"$f":"(G42+G43)*G41","v":13475.238176980518}]
["Durée de vie du projet",20,20,null,null,"Option de réduction: Chaleur géothermique"]
["Investissements nivelés",{"$f":"IF(B38=0,0,PMT($G36,B38,-B37))","v":1271.9671566124064},{"$f":"IF(C38=0,0,PMT($G36,C38,-C37))","v":0},{"$f":"B39-C39","v":1271.9671566124064},null,"Prix gaz naturel",{"$f":"+Hypothèses!N20","v":3.080568720379147},"US$/GJ"]
["O&M annuelle ",{"$f":"G44*G41","v":1087.1742053614855},null,{"$f":"B40-C40","v":1087.1742053614855},null,"Coefficient d'émission CO2-éq. ",{"$f":"+Hypothèses!C42","v":56.1},"kgCO2/GJ"]
["Coût annuel carburant",{"$f":"G45*G41*G46*G39/1000","v":2.4028436018957344},{"$f":"+G55*G39","v":1980.3656059580233},{"$f":"B41-C41","v":-1977.9627623561275},null,"Surface chauffée",1000,"m2"]
["Coûts totaux annuel",{"$f":"SUM(B39:B41)","v":2361.5442055757876},{"$f":"SUM(C39:C41)","v":1980.3656059580233},{"$f":"B42-C42","v":381.17859961776435},null,"Fourniture de chaleur",{"$f":"80/7.64","v":10.471204188481677},"US$/m2"]
[null,null,null,null,null,"Puits de réinjection",{"$f":"7*6/7.64/1.83","v":3.0040339884988412},"US$/m2"]
["Émissions annuelles (tonnes)","Tonnes","Tonnes","Réduction",null,"O&M  ",{"$f":"15.2/7.64/1.83","v":1.0871742053614855},"US$/m2"]
["Éq.-CO2 d'émission de carburant",{"$f":"G45*G41*G46*G40/1000","v":43.758000000000003},{"$f":"G55*G50/1000","v":60.814285714285724},{"$f":"C45-B45","v":17.056285714285721},null,"Consommation de gaz naturel",0.02,"M3 gas/m2 surface"]
["Autres",null,null,null,null,"Energie en gaz naturel",{"$f":"+Hypothèses!N22","v":39},"MJ/m3 N-gaz"]
["Émission total CO2-éq. ",{"$f":"B45+B46","v":43.758000000000003},{"$f":"C45+C46","v":60.814285714285724},{"$f":"C47-B47","v":17.056285714285721},null,"Consommation de gaz naturel",{"$f":"G45*G41*G46","v":780},"MJ"]
[null,null,null,null,null,"Option de référence: chaudières à charbon"]
["US$/ton CO2-eq.",null,null,{"$f":"IF(D47<>0,D42/D47,0)","v":22.348277110443988},null,"Prix charbon",{"$f":"+Hypothèses!J20","v":2.0032051282051282},"US$/GJ"]
[null,null,null,null,null,"Coefficient d'émission CO2-éq. ",{"$f":"+Hypothèses!C43","v":94.600000000000009},"kgCO2/GJ"]
[null,null,null,null,null,"Consommation chaleur",100,"kWh/m2"]
[null,null,null,null,null,"Efficacité de la chaudière",0.7]
[null,null,null,null,null,"Perte de chauffage urbain",0.2]
[null,null,null,null,null,"Consommation totale de chaleur",{"$f":"G51*3.6*G41/1000","v":360},"GJ"]
[null,null,null,null,null,"Consommation charbon",{"$f":"G54/(1-G53)/G52","v":642.85714285714289},"GJ"]

{"sheet":"HFC PFC SF6","index":33,"n_rows":27,"n_cols":8,"rows_kept":27,"cut":false,"hidden":false,"merged":[[8,5,8,7],[0,0,0,2],[1,0,1,2]]}
["Menu pour options de Gaz industriel (cliquez sur les liens ci-dessous)"]
["Réduction des PFC de la production d'aluminium (100,000 tAl/an)"]
[]
[]
[]
[]
[]
["Réduction des PFC de la production d'aluminium (100,000 tAl/an)"]
["Coûts en","Option de","Option de ","Augmentation",null,"Entrées générales:"]
["US$","Réduction","Référence","(Réd.-Réf.)",null,"Discount rate ",{"$f":"+DiscountRate","v":7.0000000000000007E-2}]
["Investissement total",{"$f":"+G20/G13*100000","v":19573.792242509011},null,null,null,"1 tonne CF4 = ",6500,"tonnes CO2"]
["Durée de vie du projet",20,null,null,null,"1 tonne C2F6 = ",9200,"tonnes CO2"]
["Investissements nivelés",{"$f":"IF(B12=0,0,PMT($G10,B12,-B11))","v":1847.6275176610675},null,{"$f":"B13-C13","v":1847.6275176610675},null,"Production Aluminium",306001,"tAl/year"]
["O&M annuelle ",{"$f":"+G22/G13*100000","v":1226.4665801745746},null,{"$f":"B14-C14","v":1226.4665801745746},null,"Prix de référence de l'électricité",{"$f":"+Hypothèses!C25","v":0.2},"US$/kWh"]
["Coût annuel carburant",{"$f":"G13*G25*1000*G21*G14/(G13/1000)","v":727.43309989183035},null,{"$f":"B15-C15","v":727.43309989183035},null,"Coefficient d'émission CO2-éq. ",{"$f":"+Hypothèses!C30","v":0.48549999999999999},"tCO2/MWh"]
["Coûts totaux annuel",{"$f":"SUM(B13:B15)","v":3801.5271977274724},{"$f":"SUM(C13:C15)","v":0},{"$f":"B16-C16","v":3801.5271977274724}]
[null,null,null,null,null,"Option de réduction: Effet à anode réduit"]
["Émissions annuelles (tonnes)","Tonnes","Tonnes","Réduction",null,"Coefficient d'émission CF4-éq. ",1.0999999999999999E-2,"kgCF4/tAl"]
["Éq.-CO2 d'émission de carburant",null,{"$f":"G13*G25*1000*G21*G15/G13*100000","v":176584.38499874179},{"$f":"C19-B19","v":176584.38499874179},null,"Coefficient d'émission C2F6-éq. ",1.9E-3,"kgC2F6/tAl"]
["Autres",{"$f":"+G13*(G18*G11+G19*G12)/1000/G13*1000000","v":88980},{"$f":"+G13*(G26*G11+G27*G12)/1000/G13*100000","v":24284},{"$f":"C20-B20","v":-64696},null,"Investissement",{"$f":"19798+40098","v":59896},"US$"]
["Émission total CO2-éq. ",{"$f":"B19+B20","v":88980},{"$f":"C19+C20","v":200868.38499874179},{"$f":"C21-B21","v":111888.38499874179},null,"Économies électricité",2.5999999999999998E-4]
[null,null,null,null,null,"O&M",3753,"US$/year"]
["US$/ton CO2-eq.",null,null,{"$f":"IF(D21<>0,D16/D21,0)","v":3.397606639661678E-2}]
[null,null,null,null,null,"Option de référence: Pas de changement"]
[null,null,null,null,null,"Consommation électricité",{"$f":"4280678/G13","v":13.989098074842893},"MWh/tAl"]
[null,null,null,null,null,"Coefficient d'émission CF4-éq. ",0.03,"kgCF4/tAl"]
[null,null,null,null,null,"Coefficient d'émission C2F6-éq. ",5.1999999999999998E-3,"kgC2F6/tAl"]

{"sheet":"Hydro","index":34,"n_rows":81,"n_cols":26,"rows_kept":81,"cut":false,"hidden":false,"merged":[[8,23,8,25],[13,23,13,25],[0,0,0,2],[1,0,1,2],[2,0,2,2],[3,0,3,2],[8,5,8,7],[13,5,13,7],[8,14,8,16],[13,14,13,16],[37,5,37,7],[42,5,42,7],[66,5,66,7],[69,5,69,7],[76,5,76,7],[49,5,49,7]]}
["Menu pour options de Hydro (cliquez sur les liens ci-dessous)"]
["Hydroélectricité connectée au réseau principal","Hydroélectricité connectée au réseau principal","Hydroélectricité connectée au réseau principal"]
["Mini hydroélectricité connectée au réseau principal","Mini hydroélectricité connectée au réseau principal","Mini hydroélectricité connectée au réseau principal"]
["Mini hydroélectricité hors réseau","Mini hydroélectricité hors réseau","Mini hydroélectricité hors réseau"]
[]
[]
[]
["1 MW Hydroélectricité connectée au réseau principal - 2025",null,null,null,null,null,null,null,null,"1 MW Hydroélectricité connectée au réseau principal - 2030",null,null,null,null,null,null,null,null,"1 MW Hydroélectricité connectée au réseau principal - 2050"]
["Coûts en","Option de","Option de ","Augmentation",null,"Entrées générales:",null,null,null,"Coûts en","Option de","Option de ","Augmentation",null,"Entrées générales:",null,null,null,"Coûts en","Option de","Option de ","Augmentation",null,"Entrées générales:"]
["US$","Réduction","Référence","(Réd.-Réf.)",null,"Taux d'actualisation",{"$f":"Hypothèses!$B$6","v":7.0000000000000007E-2},null,null,"US$","Réduction","Référence","(Réd.-Réf.)",null,"Taux d'actualisation",{"$f":"Hypothèses!$B$6","v":7.0000000000000007E-2},null,null,"US$","Réduction","Référence","(Réd.-Réf.)",null,"Taux d'actualisation",{"$f":"Hypothèses!$B$6","v":7.0000000000000007E-2}]
["Investissement total",{"$f":"G17*1000","v":1138100},null,null,null,"Prix de référence de l'électricité",{"$f":"+Hypothèses!C25","v":0.2},"US$/kWh",null,"Investissement total",{"$f":"P17*1000","v":1138100},null,null,null,"Prix de référence de l'électricité",{"$f":"+Hypothèses!C25","v":0.2},"US$/kWh",null,"Investissement total",{"$f":"Y17*1000","v":1138100},null,null,null,"Prix de référence de l'électricité",{"$f":"+Hypothèses!C25","v":0.2},"US$/kWh"]
["Durée de vie du projet",25,null,null,null,"Coefficient d'émission CO2-éq. (charbon)",{"$f":"+Hypothèses!C30","v":0.48549999999999999},"tCO2/MWh",null,"Durée de vie du projet",25,null,null,null,"Coefficient d'émission CO2-éq. (charbon)",{"$f":"+Hypothèses!C30","v":0.48549999999999999},"tCO2/MWh",null,"Durée de vie du projet",25,null,null,null,"Coefficient d'émission CO2-éq. (charbon)",{"$f":"+Hypothèses!C30","v":0.48549999999999999},"tCO2/MWh"]
["Investissements nivelés",{"$f":"IF(B12=0,0,PMT($G$10,B12,-B11))","v":97660.949648839538},null,{"$f":"B13-C13","v":97660.949648839538},null,null,null,null,null,"Investissements nivelés",{"$f":"IF(K12=0,0,PMT($P$10,K12,-K11))","v":97660.949648839538},null,{"$f":"K13-L13","v":97660.949648839538},null,null,null,null,null,"Investissements nivelés",{"$f":"IF(T12=0,0,PMT($Y$10,T12,-T11))","v":97660.949648839538},null,{"$f":"T13-U13","v":97660.949648839538}]
["O&M annuelle ",{"$f":"B11*G15","v":5690.5},null,{"$f":"B14-C14","v":5690.5},null,"Option réduction: centrale hydroélectrique",null,null,null,"O&M annuelle ",{"$f":"K11*P15","v":5690.5},null,{"$f":"K14-L14","v":5690.5},null,"Option réduction: centrale hydroélectrique",null,null,null,"O&M annuelle ",{"$f":"T11*Y15","v":5690.5},null,{"$f":"T14-U14","v":5690.5},null,"Option réduction: centrale hydroélectrique"]
["Coût annuel carburant",null,{"$f":"G19*1000*G11/G16","v":792200},{"$f":"B15-C15","v":-792200},null,"O&M  ",5.0000000000000001E-3,"de investissement",null,"Coût annuel carburant",null,{"$f":"P19*1000*P11/P16","v":792200},{"$f":"K15-L15","v":-792200},null,"O&M  ",5.0000000000000001E-3,"de investissement",null,"Coût annuel carburant",null,{"$f":"Y19*1000*Y11/Y16","v":792200},{"$f":"T15-U15","v":-792200},null,"O&M  ",5.0000000000000001E-3,"de investissement"]
["Coûts totaux annuel",{"$f":"SUM(B13:B15)","v":103351.44964883954},{"$f":"SUM(C13:C15)","v":792200},{"$f":"B16-C16","v":-688848.55035116046},null,"Activité",190,"MW",null,"Coûts totaux annuel",{"$f":"SUM(K13:K15)","v":103351.44964883954},{"$f":"SUM(L13:L15)","v":792200},{"$f":"K16-L16","v":-688848.55035116046},null,"Activité",190,"MW",null,"Coûts totaux annuel",{"$f":"SUM(T13:T15)","v":103351.44964883954},{"$f":"SUM(U13:U15)","v":792200},{"$f":"T16-U16","v":-688848.55035116046},null,"Activité",190,"MW"]
[null,null,null,null,null,"Activité de l'nvestissement",1138.0999999999999,"US$/kW",null,null,null,null,null,null,"Activité de l'nvestissement",1138.0999999999999,"US$/kW",null,null,null,null,null,null,"Activité de l'nvestissement",1138.0999999999999,"US$/kW"]
["Émissions annuelles (tonnes)","Tonnes","Tonnes","Réduction",null,"Facteur de capacité",3961,"heures à plein temps",null,"Émissions annuelles (tonnes)","Tonnes","Tonnes","Réduction",null,"Facteur de capacité",3961,"heures à plein temps",null,"Émissions annuelles (tonnes)","Tonnes","Tonnes","Réduction",null,"Facteur de capacité",3961,"heures à plein temps"]
["Éq.-CO2 d'émission de carburant",null,{"$f":"G19*G12/G16","v":1923.0654999999999},{"$f":"C19-B19","v":1923.0654999999999},null,"Production d'électricité",{"$f":"G16*G18","v":752590},"MWh/an",null,"Éq.-CO2 d'émission de carburant",null,{"$f":"P19*P12/P16","v":1923.0654999999999},{"$f":"L19-K19","v":1923.0654999999999},null,"Production d'électricité",{"$f":"P16*P18","v":752590},"MWh/an",null,"Éq.-CO2 d'émission de carburant",null,{"$f":"Y19*Y12/Y16","v":1923.0654999999999},{"$f":"U19-T19","v":1923.0654999999999},null,"Production d'électricité",{"$f":"Y16*Y18","v":752590},"MWh/an"]
["Autres",null,null,null,null,"Coût électricité produite",{"$f":"+B16/G19","v":0.13732769455990584},"US$/kWh",null,"Autres",null,null,null,null,"Coût électricité produite",{"$f":"+K16/P19","v":0.13732769455990584},"US$/kWh",null,"Autres",null,null,null,null,"Coût électricité produite",{"$f":"+T16/Y19","v":0.13732769455990584},"US$/kWh"]
["Émission total CO2-éq. ",{"$f":"B19+B20","v":0},{"$f":"C19+C20","v":1923.0654999999999},{"$f":"C21-B21","v":1923.0654999999999},null,null,null,null,null,"Émission total CO2-éq. ",{"$f":"K19+K20","v":0},{"$f":"L19+L20","v":1923.0654999999999},{"$f":"L21-K21","v":1923.0654999999999},null,null,null,null,null,"Émission total CO2-éq. ",{"$f":"T19+T20","v":0},{"$f":"U19+U20","v":1923.0654999999999},{"$f":"U21-T21","v":1923.0654999999999}]
[null,null,null,null,null,"Option référence: Pas de centrale hydroélectrique",null,null,null,null,null,null,null,null,"Option référence: Pas de centrale hydroélectrique",null,null,null,null,null,null,null,null,"Option référence: Pas de centrale hydroélectrique"]
["US$/ton CO2-eq.",null,null,{"$f":"IF(D21<>0,D16/D21,0)","v":-358.20337391064447},null,null,null,null,null,"US$/ton CO2-eq.",null,null,{"$f":"IF(M21<>0,M16/M21,0)","v":-358.20337391064447},null,null,null,null,null,"US$/ton CO2-eq.",null,null,{"$f":"IF(V21<>0,V16/V21,0)","v":-358.20337391064447}]
[]
[]
[]
[]
[]
[]
[]
[]
[]
[]
[]
[]
[]
["1 MW Mini hydroélectricité connectée au réseau principal - 2020"]
["Coûts en","Option de","Option de ","Augmentation",null,"Entrées générales:"]
["US$","Réduction","Référence","(Réd.-Réf.)",null,"Taux d'actualisation",{"$f":"Hypothèses!$B$6","v":7.0000000000000007E-2}]
["Investissement total",{"$f":"G46*1000","v":4500000},null,null,null,"Prix de référence de l'électricité",{"$f":"+Hypothèses!C25","v":0.2},"US$/kWh"]
["Durée de vie du projet",20,null,null,null,"Coefficient d'émission CO2-éq. (charbon)",{"$f":"+Hypothèses!C30","v":0.48549999999999999},"tCO2/MWh"]
["Investissements nivelés",{"$f":"IF(B41=0,0,PMT($G$39,B41,-B40))","v":424768.16584465059},null,{"$f":"B42-C42","v":424768.16584465059}]
["O&M annuelle ",{"$f":"B40*G44","v":22500},null,{"$f":"B43-C43","v":22500},null,"Option réduction: centrale hydroélectrique"]
["Coût annuel carburant",null,{"$f":"G48*1000*G40/G45","v":800000},{"$f":"B44-C44","v":-800000},null,"O&M  ",5.0000000000000001E-3,"de investissement"]
["Coûts totaux annuel",{"$f":"SUM(B42:B44)","v":447268.16584465059},{"$f":"SUM(C42:C44)","v":800000},{"$f":"B45-C45","v":-352731.83415534941},null,"Activité",1,"MW"]
[null,null,null,null,null,"Activité de l'nvestissement",4500,"US$/kW"]
["Émissions annuelles (tonnes)","Tonnes","Tonnes","Réduction",null,"Facteur de capacité",4000,"heures à plein temps"]
["Éq.-CO2 d'émission de carburant",null,{"$f":"G48*G41/G45","v":1942},{"$f":"C48-B48","v":1942},null,"Production d'électricité",{"$f":"G45*G47","v":4000},"MWh/an"]
["Autres",null,null,null,null,"Coût électricité produite",null,"US$/kWh"]
["Émission total CO2-éq. ",{"$f":"B48+B49","v":0},{"$f":"C48+C49","v":1942},{"$f":"C50-B50","v":1942},null,"Option référence: Pas de centrale hydroélectrique"]
[]
["US$/ton CO2-eq.",null,null,{"$f":"IF(D50<>0,D45/D50,0)","v":-181.63328226331072}]
[]
[]
[]
[]
[]
[]
[]
[]
[]
[]
[]
[]
[]
["1 MW Mini hydroélectricité hors réseau"]
["Coûts en","Option de","Option de ","Augmentation",null,"Entrées générales:"]
["US$","Réduction","Référence","(Réd.-Réf.)",null,"Taux d'actualisation",{"$f":"+Hypothèses!B6","v":7.0000000000000007E-2}]
["Investissement total",{"$f":"G73*1000","v":4000000}]
["Durée de vie du projet",20,null,null,null,"Option réduction: centrale mini hydroélectrique"]
["Investissements nivelés",{"$f":"IF(B70=0,0,PMT($G$68,B70,-B69))","v":377571.70297302277},null,{"$f":"B71-C71","v":377571.70297302277},null,"O&M  ",5.0000000000000001E-3,"de investissement"]
["O&M annuelle ",{"$f":"B69*G71","v":20000},null,{"$f":"B72-C72","v":20000},null,"Activité",1,"MW"]
["Coût annuel carburant",null,{"$f":"G80*G81","v":452412.61183851829},{"$f":"B73-C73","v":-452412.61183851829},null,"Activité de l'nvestissement",4000,"US$/kW"]
["Coûts totaux annuel",{"$f":"SUM(B71:B73)","v":397571.70297302277},{"$f":"SUM(C71:C73)","v":452412.61183851829},{"$f":"B74-C74","v":-54840.908865495527},null,"Facteur de capacité",4000,"heures à plein temps"]
[null,null,null,null,null,"Production d'électricité",{"$f":"G72*G74","v":4000},"MWh/an"]
["Émissions annuelles (tonnes)","Tonnes","Tonnes","Réduction"]
["Éq.-CO2 d'émission de carburant",0,{"$f":"G80*G78/1000","v":3231.9999999999995},{"$f":"C77-B77","v":3231.9999999999995},null,"Option de référence: Générateur diesel existant"]
["Autres",null,null,null,null,"Coefficient d'émission CO2-éq. (charbon)",{"$f":"+Hypothèses!C37","v":74.066666666666663},"kgCO2-eq./GJ"]
["Émission total CO2-éq. ",{"$f":"B77+B78","v":0},{"$f":"C77+C78","v":3231.9999999999995},{"$f":"C79-B79","v":3231.9999999999995},null,"Efficacité diesel",0.33]
[null,null,null,null,null,"Consommation diesel",{"$f":"G75*3.6/G79","v":43636.363636363632},"GJ"]
["US$/ton CO2-eq.",null,null,{"$f":"IF(D79<>0,D74/D79,0)","v":-16.968102990561736},null,"Prix diesel",{"$f":"+Hypothèses!F20","v":10.367789021299378},"US$/GJ"]

{"sheet":"Décharge","index":35,"n_rows":196,"n_cols":8,"rows_kept":196,"cut":false,"hidden":false,"merged":[[180,5,180,7],[155,5,155,7],[130,5,130,7],[0,0,0,2],[1,0,1,2],[2,0,2,2],[4,0,4,2],[102,5,102,7],[11,5,11,7],[46,5,46,7],[75,5,75,7],[93,0,94,3]]}
["Menu pour options de Décharge (cliquez sur les liens ci-dessous)"]
["Usine de gaz de décharge avec production d´électricité"]
["Compostage des déchets solides municipaux"]
["Usine d´incinération"]
["Torchage des gaz d'enfouissement"]
["Biogaz issu des déchets solides municipaux"]
["Compost et Combustible issu de déchets municipaux solides"]
["Recyclage des plastiques"]
[]
[]
["Usine de gaz de décharge avec production d´électricité"]
["Coûts en","Option de","Option de ","Augmentation",null,"Entrées générales:"]
["US$","Réduction","Référence","(Réd.-Réf.)",null,"Taux d'actualisation",{"$f":"+DiscountRate","v":7.0000000000000007E-2}]
["Investissement total",{"$f":"G18+G19","v":4881677},null,null,null,"Prix de référence de l'électricité",{"$f":"+Hypothèses!C25","v":0.2},"US$/kWh"]
["Durée de vie du projet",20,null,null,null,"Coefficient d'émission CO2-éq. ",{"$f":"+Hypothèses!C30","v":0.48549999999999999},"tCO2/MWh"]
["Investissements nivelés",{"$f":"IF(B15=0,0,PMT(+G13,B15,-B14))","v":460795.77456355921},null,{"$f":"B16-C16","v":460795.77456355921}]
["O&M annuelle ",{"$f":"+G20","v":568884.52380952379},null,{"$f":"B17-C17","v":568884.52380952379},null,"Option de réduction: Usine de gaz de décharge"]
["Coût annuel carburant",null,{"$f":"G35*1000*G14","v":6313028.0327868871},{"$f":"B18-C18","v":-6313028.0327868871},null,"Coût de collecteur de CH4 et système de torchage",2481096,"US$"]
["Coûts totaux annuel",{"$f":"SUM(B16:B18)","v":1029680.298373083},{"$f":"SUM(C16:C18)","v":6313028.0327868871},{"$f":"B19-C19","v":-5283347.7344138045},null,"Coût de production énergie et connection",2400581,"US$"]
[null,null,null,null,null,"O&M",{"$f":"11946575/21","v":568884.52380952379},"US$/year"]
["Émissions annuelles (tonnes)","Tonnes","Tonnes","Réduction",null,"1 tonne CH4 = ",{"$f":"+Hypothèses!E55","v":21},"tonnes CO2"]
["Éq.-CO2 d'émission de carburant",null,{"$f":"G35*G40","v":0},{"$f":"C22-B22","v":0},null,"Quantité déchets solides",200,"tonnes/day"]
["Émission de CH4",null,{"$f":"G29*G21","v":124415.21400000001},null,null,"Quantité déchets envoyés à décharge",{"$f":"G22*365","v":73000},"tonnes/yr"]
["Émission total CO2-éq. ",{"$f":"B22+B23","v":0},{"$f":"C22+C23","v":124415.21400000001},{"$f":"C24-B24","v":124415.21400000001},null,"Contenu en carbone organique",0.17]
[null,null,null,null,null,"Émission de carbone organique dégradé",0.77]
["US$/ton CO2-eq.",null,null,{"$f":"IF(D24<>0,D19/D24,0)","v":-42.465447468617498},null,"Fraction de CH4 dans le gaz de décharge",0.5]
[null,null,null,null,null,"Coefficient d´émission",{"$f":"1000*G24*G25*G26*16/12","v":87.266666666666666},"kgCH4/ton waste"]
[null,null,null,null,null,"Fraction de déchets à la décharge",0.93]
[null,null,null,null,null,"Production annuelle de CH4",{"$f":"G23*G27*G28/1000","v":5924.5340000000006},"tonnes CH4"]
[null,null,null,null,null,"Densité CH4",0.67100000000000004,"kg/m3"]
[null,null,null,null,null,"Production annuelle de CH4",{"$f":"G23*G27*G28/G30","v":8829409.8360655755},"m3 CH4"]
[null,null,null,null,null,"Valeur calorifique CH4",39,"MJ/m3"]
[null,null,null,null,null,"Facteur de capacité",{"$f":"8000/8760","v":0.91324200913242004}]
[null,null,null,null,null,"Taille du générateur",{"$f":"G31*G32/3.6/1000*G36/(8760*G33)","v":3.9456425204918042},"MW"]
[null,null,null,null,null,"Electricité produite",{"$f":"G34*8760*G33","v":31565.140163934433},"MWh"]
[null,null,null,null,null,"Efficacité générateur électrique",0.33]
[null,null,null,null,null,"Combustible annuel utilisé",{"$f":"G35*3.6","v":113634.50459016397},"GJ"]
[null,null,null,null,null,null,null,8109]
[null,null,null,null,null,"Option de référence: Pas d´usine de gaz de décharge"]
[]
[]
[]
[]
[]
[]
["Compostage des déchets solides municipaux (1000 tonnes/jour)"]
["Coûts en","Option de","Option de ","Augmentation",null,"Entrées générales:"]
["US$","Réduction","Référence","(Réd.-Réf.)",null,"Taux d'actualisation",{"$f":"+DiscountRate","v":7.0000000000000007E-2}]
["Investissement total",{"$f":"+G59*1000000","v":8127776.0625000009},null,null,null,"1 tonne CH4 = ",{"$f":"+Hypothèses!E55","v":21},"tonnes CO2"]
["Durée de vie du projet",15]
["Investissements nivelés",{"$f":"IF(B50=0,0,PMT(+G48,B50,-B49))","v":892386.12243601226},null,{"$f":"B51-C51","v":892386.12243601226},null,"Option de réduction: Usine de compostage"]
["O&M annuelle ",{"$f":"G60*G55","v":144636.953125},null,{"$f":"B52-C52","v":144636.953125},null,"DSM traités",1000,"tonnes/jour"]
["Revenus annuels",null,{"$f":"G55*G56+G57*G58","v":1268140.0497151499},null,null,"Quantité déchets envoyés à décharge",{"$f":"G52*365","v":365000},"tonnes/yr"]
["Coût annuel carburant",null,null,{"$f":"B54-C54","v":0},null,"Production compost",50,"Tonnes/jour"]
["Coûts totaux annuel",{"$f":"SUM(B51:B54)","v":1037023.0755610123},{"$f":"SUM(C51:C54)","v":1268140.0497151499},{"$f":"B55-C55","v":-231116.97415413766},null,"Production compost",{"$f":"G54*365","v":18250},"Tonnes/an"]
[null,null,null,null,null,"Prix de vente du compost",{"$f":"900000/16000","v":56.25},"US$/ton"]
["Émissions annuelles (tonnes)","Tonnes","Tonnes","Réduction",null,"Quantité de plasique recyclé",2000,"Tonnes/an"]
["Éq.-CO2 d'émission de carburant",null,null,{"$f":"C58-B58","v":0},null,"Prix de vente du platic recyclé",{"$f":"2000000/16557.83","v":120.78877485757492},"US$/ton"]
["Émission de CH4",null,{"$f":"G69*G49","v":4136782.1040000007},null,null,"Investissement",{"$f":"650222.085/16000/5","v":8.1277760625000006},"Million US$"]
["Émission total CO2-éq. ",{"$f":"B58+B59","v":0},{"$f":"C58+C59","v":4136782.1040000007},{"$f":"C60-B60","v":4136782.1040000007},null,"O&M",{"$f":"126805/16000","v":7.9253125000000004},"US$/ton waste"]
[]
["US$/ton CO2-eq.",null,null,{"$f":"IF(D60<>0,D55/D60,0)","v":-5.5868781179134984E-2},null,"Option de référence: Pas d´usine de compostage"]
[null,null,null,null,null,"Contenu en carbone organique",0.9]
[null,null,null,null,null,"Émission de carbone organique dégradé",0.78]
[null,null,null,null,null,"Fraction de CH4 dans le gaz de décharge",0.62,"(IPCCC 2006 Guideline)"]
[null,null,null,null,null,{"$f":"+F53","v":"Quantité déchets envoyés à décharge"},{"$f":"+G53","v":365000},"tonnes/an"]
[null,null,null,null,null,"Coefficient d´émission",{"$f":"G52*G63*G64*G65*16/12","v":580.32000000000005},"kgCH4/ton waste"]
[null,null,null,null,null,"Fraction de déchets à la décharge",0.93]
[null,null,null,null,null,"Production annuelle de CH4",{"$f":"G53*G67*G68/1000","v":196989.62400000004},"tonnes CH4"]
[]
[]
[]
[]
[]
["4 MW Usine d´incinération (200 tonnes/jour)"]
["Coûts en","Option de","Option de ","Augmentation",null,"Entrées générales:"]
["US$","Réduction","Référence","(Réd.-Réf.)",null,"Taux d'actualisation",{"$f":"+DiscountRate","v":7.0000000000000007E-2}]
["Investissement total",{"$f":"G81","v":57778401},null,null,null,"Prix de référence de l'électricité",{"$f":"+Hypothèses!C25","v":0.2},"US$/kWh"]
["Durée de vie du projet",20,null,null,null,"Coefficient d'émission CO2-éq. ",{"$f":"+Hypothèses!C30","v":0.48549999999999999},"tCO2/MWh"]
["Investissements nivelés",{"$f":"IF(B79=0,0,PMT(+G77,B79,-B78))","v":5453872.3151570503},null,{"$f":"B80-C80","v":5453872.3151570503},null,"Option de réduction: Usine d´incinération"]
["O&M annuelle ",{"$f":"+G82*G81","v":2888920.0500000003},null,{"$f":"B81-C81","v":2888920.0500000003},null,"Coût de usine d´incinération",57778401,"US$"]
["Coût annuel carburant",null,{"$f":"G87*1000*G78","v":6400000},{"$f":"B82-C82","v":-6400000},null,"O&M",0.05,"de investissement"]
["Coûts totaux annuel",{"$f":"SUM(B80:B82)","v":8342792.365157051},{"$f":"SUM(C80:C82)","v":6400000},{"$f":"B83-C83","v":1942792.365157051},null,"Quantité déchets solides",200,"tonnes/jour"]
[null,null,null,null,null,"Quantité déchets envoyés à décharge",{"$f":"G83*365","v":73000},"tonnes/an"]
["Émissions annuelles (tonnes)","Tonnes","Tonnes","Réduction",null,"Taille de générateur",4,"MW"]
["Éq.-CO2 d'émission de carburant",null,{"$f":"G87*G79","v":15536},{"$f":"C86-B86","v":15536},null,"Facteur de capacité",{"$f":"8000/8760","v":0.91324200913242004}]
["Émissions décharge",null,{"$f":"+G89*21","v":124415.21400000001},null,null,"Électricité produite",{"$f":"G85*8760*G86","v":32000},"MWh"]
["Émission total CO2-éq. ",{"$f":"B86+B87","v":0},{"$f":"C86+C87","v":139951.21400000001},{"$f":"C88-B88","v":139951.21400000001},null,"Option de référence: Emissions de CH4 à partir de la décharge et de la production d´électricité avec combustible fossile"]
[null,null,null,null,null,"Production annuelle CH4",{"$f":"+G29","v":5924.5340000000006},"tonnes CH4"]
["US$/ton CO2-eq.",null,null,{"$f":"IF(D88<>0,D83/D88,0)","v":13.881925777057218}]
[]
[null,null,null,null,null,"Coût de électricité",{"$f":"+B83/G87","v":260.71226141115784},"US$/kWh"]
["Notes:"]
["Données de l'usine d'incinération de Thilafushi aux Maldives"]
[]
[]
[]
[]
[]
[]
[]
["Torchage des gaz d'enfouissement - 1 t/jour"]
["Coûts en","Option de","Option de ","Augmentation",null,"Entrées générales:"]
["US$","Réduction","Référence","(Réd.-Réf.)",null,"Taux d'actualisation",{"$f":"+DiscountRate","v":7.0000000000000007E-2}]
["Investissement total",{"$f":"G108*1000000*200/G110","v":878131.74050107843},null,null,null,"1 tonne CH4 = ",{"$f":"+Hypothèses!E55","v":21},"tonnes CO2"]
["Durée de vie du projet",20]
["Investissements nivelés",{"$f":"IF(B106=0,0,PMT(+G104,B106,-B105))","v":82889.424173914173},null,{"$f":"B107-C107","v":82889.424173914173},null,"Option de réduction: Usine de torchage"]
["O&M annuelle ",{"$f":"G109*1000000*200/G110","v":56624.357059897135},null,{"$f":"B108-C108","v":56624.357059897135},null,"Coût de collecteur de CH4 et système de torchage",{"$f":"(1.7+1.2)/0.84","v":3.4523809523809526},"MUS$"]
["Coût annuel carburant",null,null,{"$f":"B109-C109","v":0},null,"O&M",{"$f":"0.187/0.84","v":0.22261904761904763},"MUS$/an"]
["Coûts totaux annuel",{"$f":"SUM(B107:B109)","v":139513.78123381131},{"$f":"SUM(C107:C109)","v":0},{"$f":"B110-C110","v":139513.78123381131},null,"Quantité déchets solides",{"$f":"287000/365","v":786.30136986301375},"tonnes/jour"]
[null,null,null,null,null,"Quantité déchets envoyés à décharge",{"$f":"G110*365","v":287000},"tonnes/an"]
["Émissions annuelles (tonnes)","Tonnes","Tonnes","Réduction",null,"Contenu en carbone organique",0.17]
["Éq.-CO2 d'émission de carburant",null,null,{"$f":"C113-B113","v":0},null,"Émission de carbone organique dégradé",0.77]
["Émissions CH4",null,{"$f":"+G117*G105*200/G110","v":124415.21399999999},null,null,"Fraction de CH4 dans le gaz de décharge",0.5]
["Émission total CO2-éq. ",{"$f":"B113+B114","v":0},{"$f":"C113+C114","v":124415.21399999999},{"$f":"C115-B115","v":124415.21399999999},null,"Coefficient d´émission",{"$f":"1000*G112*G113*G114*16/12","v":87.266666666666666},"kgCH4/ton déchet"]
[null,null,null,null,null,"Fraction de déchets à la décharge",0.93]
["US$/ton CO2-eq.",null,null,{"$f":"IF(D115<>0,D110/D115,0)","v":1.1213562774871835},null,"Production annuelle CH4",{"$f":"G111*G115*G116/1000","v":23292.346000000001},"tonnes CH4"]
[null,null,null,null,null,"Densité CH4",0.67100000000000004,"kg/m3"]
[null,null,null,null,null,"Production annuelle CH4",{"$f":"G111*G115*G116/G118","v":34712885.245901637},"m3 CH4"]
[null,null,null,null,null,"Valeur claorifique CH4",39,"MJ/m3"]
[]
[]
[null,null,null,null,null,"Option de référence: Pas usine de torchage"]
[]
[]
[]
[]
[]
[]
["Biogaz issu des déchets solides municipaux (1000 t DSM/an)"]
["Coûts en","Option de","Option de ","Augmentation",null,"Entrées générales:"]
["US$","Réduction","Référence","(Réd.-Réf.)",null,"Taux d'actualisation",{"$f":"+DiscountRate","v":7.0000000000000007E-2}]
["Investissement total",{"$f":"G136*1000","v":20000},null,null,null,"1 tonne CH4 = ",{"$f":"+Hypothèses!E55","v":21},"tonnes CO2"]
["Durée de vie du projet",20]
["Investissements nivelés",{"$f":"IF(B134=0,0,PMT(+G132,B134,-B133))","v":1887.8585148651139},null,{"$f":"B135-C135","v":1887.8585148651139},null,"Option de réduction: Biogaz issu de DSM pour utilisation cuisine"]
["O&M annuelle ",{"$f":"G136*1000*G137","v":800},null,{"$f":"B136-C136","v":800},null,"Coût de système biogaz",20,"kUS$"]
["Coût annuel carburant",null,null,{"$f":"B137-C137","v":0},null,"O&M",0.04]
["Coûts totaux annuel",{"$f":"SUM(B135:B137)","v":2687.8585148651136},{"$f":"SUM(C135:C137)","v":0},{"$f":"B138-C138","v":2687.8585148651136},null,"Quantité déchets envoyés à décharge",1000,"tonnes/yr"]
[null,null,null,null,null,"Contenu en carbone organique",0.9]
["Émissions annuelles (tonnes)","Tonnes","Tonnes","Réduction",null,"Émission de carbone organique dégradé",0.78]
["Éq.-CO2 d'émission de carburant",null,null,{"$f":"C141-B141","v":0},null,"Fraction de CH4 dans le gaz de décharge",0.62]
["Émissions CH4",null,{"$f":"+G143*G133","v":12186.720000000001},null,null,"Coefficient d´émission",{"$f":"1000*G139*G140*G141*16/12","v":580.32000000000005},"kgCH4/ton déchet"]
["Émission total CO2-éq. ",{"$f":"B141+B142","v":0},{"$f":"C141+C142","v":12186.720000000001},{"$f":"C143-B143","v":12186.720000000001},null,"Production annuelle CH4",{"$f":"G138*G142/1000","v":580.32000000000005},"tonnes CH4"]
[null,null,null,null,null,"Densité CH4",0.67100000000000004,"kg/m3"]
["US$/ton CO2-eq.",null,null,{"$f":"IF(D143<>0,D138/D143,0)","v":0.22055635272371182},null,"Production annuelle CH4",{"$f":"G142/G144*1000","v":864858.42026825645},"m3 CH4"]
[null,null,null,null,null,"Valeur claorifique CH4",39,"MJ/m3"]
[]
[]
[null,null,null,null,null,"Option de référence: DSM décharge"]
[]
[]
[]
[]
[]
["Compost et Combustible issu de déchets municipaux solides (200 t DMS/jour)"]
["Coûts en","Option de","Option de ","Augmentation",null,"Entrées générales:"]
["US$","Réduction","Référence","(Réd.-Réf.)",null,"Taux d'actualisation",{"$f":"+DiscountRate","v":7.0000000000000007E-2}]
["Investissement total",{"$f":"G161*1000*200/700","v":6800000},null,{"$f":"B158-C158","v":6800000},null,"Prix de référence de l'électricité",{"$f":"+Hypothèses!C25","v":0.2},"US$/kWh"]
["Durée de vie du projet",20,null,null,null,"Coefficient d'émission CO2-éq. ",{"$f":"+Hypothèses!C30","v":0.48549999999999999},"tCO2/MWh"]
["Investissements nivelés",{"$f":"IF(B159=0,0,PMT(+G157,B159,-B158))","v":641871.89505413873},null,{"$f":"B160-C160","v":641871.89505413873},null,"Option de réduction: DSM transformés en compost et en combustible"]
["O&M annuelle ",{"$f":"G161*1000*G162","v":714000},null,{"$f":"B161-C161","v":714000},null,"Coût de usine",23800,"kUS$"]
["Coût annuel carburant",null,{"$f":"+G169*200/700","v":3794285.7142857141},{"$f":"B162-C162","v":-3794285.7142857141},null,"O&M",0.03]
["Coûts totaux annuel",{"$f":"SUM(B160:B162)","v":1355871.8950541387},{"$f":"SUM(C160:C162)","v":3794285.7142857141},{"$f":"B163-C163","v":-2438413.8192315754},null,"Quantité déchets envoyés à décharge par jour",700,"tonnes/jour"]
[null,null,null,null,null,"Quantité déchets envoyés à décharge par an",{"$f":"700*365","v":255500},"tonnes/an"]
["Émissions annuelles (tonnes)","Tonnes","Tonnes","Réduction",null,"Taille centrale électrique",11,"MW"]
["Éq.-CO2 d'émission de carburant",null,null,{"$f":"C166-B166","v":0},null,"Production électricité",66400,"MWh/an"]
["Émissions CH4"]
["Émission total CO2-éq. ",null,null,{"$f":"71363*200/700","v":20389.428571428572},null,"Option de référence: DSM décharge"]
[null,null,null,null,null,"Coût de électricité de réseau",{"$f":"G166*G158*1000","v":13280000},"US$ "]
["US$/ton CO2-eq.",null,null,{"$f":"IF(D168<>0,D163/D168,0)","v":-119.59206265586528}]
[]
[]
[]
[]
[]
[]
[]
[]
[]
["Recyclage des plastiques (1000 tonnes / an)"]
["Coûts en","Option de","Option de ","Augmentation",null,"Entrées générales:"]
["US$","Réduction","Référence","(Réd.-Réf.)",null,"Taux d'actualisation",{"$f":"+DiscountRate","v":7.0000000000000007E-2}]
["Investissement total",{"$f":"G187/33*1000","v":303030.30303030298},null,{"$f":"B183-C183","v":303030.30303030298},null,"Prix de référence du diesel",{"$f":"+Hypothèses!F20","v":10.367789021299378},"US$/GJ"]
["Durée de vie du projet",20,null,null,null,"Prix de référence de l'électricité",{"$f":"+Hypothèses!C25","v":0.2},"US$/kWh"]
["Investissements nivelés",{"$f":"IF(B184=0,0,PMT(+G182,B184,-B183))","v":28603.91689189566},null,{"$f":"B185-C185","v":28603.91689189566},null,"Coefficient d'émission CO2-éq. ",{"$f":"+Hypothèses!C30","v":0.48549999999999999},"tCO2/MWh"]
["O&M annuelle ",{"$f":"G187*1000*G188/33","v":9090.9090909090901},null,{"$f":"B186-C186","v":9090.9090909090901},null,"Option de réduction: Recyclage du plastic en granulés"]
["Coût annuel carburant",{"$f":"G189*(1-G190)*G191*1000*G184/33","v":114000},{"$f":"G189*(1-G190)*G195*G183/33+G194*G189*G184*1000/33","v":338637.62648961798},{"$f":"B187-C187","v":-224637.62648961798},null,"Prix de référence de l'électricité",10000,"kUS$"]
["Coût des granulés de plastic",null,{"$f":"G189*G196/33","v":120788.77485757491},{"$f":"B188-C188","v":-120788.77485757491},null,"Coefficient d'émission CO2-éq. ",0.03]
["Coûts totaux annuel",{"$f":"SUM(B185:B188)","v":151694.82598280476},{"$f":"SUM(C185:C188)","v":459426.40134719288},{"$f":"B189-C189","v":-307731.57536438812},null,"Quantité de déchet plastic annuel",33000,"tonnes/an"]
[null,null,null,null,null,"Matériel perdu lors du processus de recyclage",0.25,"pct"]
["Émissions annuelles (tonnes)","Tonnes","Tonnes","Réduction",null,"Consommation d´électricité pour le processus de recyclage",0.76,"MWh/ton"]
["Éq.-CO2 d'émission de carburant",{"$f":"G191*G189*(1-G190)*G185/33","v":276.73499999999996},{"$f":"+G189*(1-G190)*G195*Hypothèses!C37/1000/33+G194*G189*G185/33","v":1372.155},{"$f":"C192-B192","v":1095.42}]
["Émissions CH4",null,null,null,null,"Option de référence: Production de granulés plastic (pas de recyclage)"]
["Émission total CO2-éq. ",null,null,{"$f":"+D192","v":1095.42},null,"Comsommation électricité pour production du plastic",1.1100000000000001,"MWh/ton"]
[null,null,null,null,null,"Comsommation diesel pour production plastic",15,"GJ/ton"]
["US$/ton CO2-eq.",null,null,{"$f":"IF(D194<>0,D189/D194,0)","v":-280.92564985520448},null,"Coût des granulés plastic",{"$f":"+G58","v":120.78877485757492},"US$/ton"]

{"sheet":"Marine","index":36,"n_rows":46,"n_cols":35,"rows_kept":46,"cut":false,"hidden":false,"merged":[[0,0,0,2],[1,0,1,2],[2,0,2,2],[6,32,6,34],[11,32,11,34],[31,32,31,34],[36,32,36,34],[6,5,6,7],[11,5,11,7],[31,5,31,7],[36,5,36,7],[6,14,6,16],[11,14,11,16],[31,14,31,16],[36,14,36,16],[6,23,6,25],[11,23,11,25],[31,23,31,25],[36,23,36,25]]}
["Menu pour options de Puissance Marine (cliquez sur les liens ci-dessous)"]
["Marée - 1MW","Marée","Marée"]
["Vague - 1MW","Vague","Vague"]
[]
[]
["1 MW Marée - 2025",null,null,null,null,null,null,null,null,"1 MW Marée - 2030",null,null,null,null,null,null,null,null,"1 MW Marée - 2035",null,null,null,null,null,null,null,null,"1 MW Marée - 2050"]
["Coûts en","Option de","Option de ","Augmentation",null,"Entrées générales:",null,null,null,"Coûts en","Option de","Option de ","Augmentation",null,"Entrées générales:",null,null,null,"Coûts en","Option de","Option de ","Augmentation",null,"Entrées générales:",null,null,null,"Coûts en","Option de","Option de ","Augmentation",null,"Entrées générales:"]
["US$","Réduction","Référence","(Réd.-Réf.)",null,"Taux d'actualisation",{"$f":"DiscountRate","v":7.0000000000000007E-2},null,null,"US$","Réduction","Référence","(Réd.-Réf.)",null,"Taux d'actualisation",{"$f":"DiscountRate","v":7.0000000000000007E-2},null,null,"US$","Réduction","Référence","(Réd.-Réf.)",null,"Taux d'actualisation",{"$f":"DiscountRate","v":7.0000000000000007E-2},null,null,"US$","Réduction","Référence","(Réd.-Réf.)",null,"Taux d'actualisation",{"$f":"DiscountRate","v":7.0000000000000007E-2}]
["Investissement total",{"$f":"G15*G14*1000","v":9000000},null,null,null,"Prix de référence de l'électricité",{"$f":"+Hypothèses!$C25","v":0.2},"US$/kWh",null,"Investissement total",{"$f":"P15*P14*1000","v":8000000},null,null,null,"Prix de référence de l'électricité",{"$f":"+Hypothèses!$C25","v":0.2},"US$/kWh",null,"Investissement total",{"$f":"Y15*Y14*1000","v":7500000},null,null,null,"Prix de référence de l'électricité",{"$f":"+Hypothèses!$C25","v":0.2},"US$/kWh",null,"Investissement total",{"$f":"AH15*AH14*1000","v":6000000},null,null,null,"Prix de référence de l'électricité",{"$f":"+Hypothèses!$C25","v":0.2},"US$/kWh"]
["Durée de vie du projet",20,null,null,null,"Coefficient d'émission CO2-éq. ",{"$f":"+Hypothèses!$C29","v":0.48549999999999999},"tCO2/MWh",null,"Durée de vie du projet",20,null,null,null,"Coefficient d'émission CO2-éq. ",{"$f":"+Hypothèses!$C29","v":0.48549999999999999},"tCO2/MWh",null,"Durée de vie du projet",20,null,null,null,"Coefficient d'émission CO2-éq. ",{"$f":"+Hypothèses!$C29","v":0.48549999999999999},"tCO2/MWh",null,"Durée de vie du projet",20,null,null,null,"Coefficient d'émission CO2-éq. ",{"$f":"+Hypothèses!$C29","v":0.48549999999999999},"tCO2/MWh"]
["Investissements nivelés",{"$f":"IF(B10=0,0,PMT($G$8,B10,-B9))","v":849536.33168930118},null,{"$f":"B11-C11","v":849536.33168930118},null,null,null,null,null,"Investissements nivelés",{"$f":"IF(K10=0,0,PMT($P$8,K10,-K9))","v":755143.40594604553},null,{"$f":"K11-L11","v":755143.40594604553},null,null,null,null,null,"Investissements nivelés",{"$f":"IF(T10=0,0,PMT($Y$8,T10,-T9))","v":707946.94307441777},null,{"$f":"T11-U11","v":707946.94307441777},null,null,null,null,null,"Investissements nivelés",{"$f":"IF(AC10=0,0,PMT($AH$8,AC10,-AC9))","v":566357.55445953412},null,{"$f":"AC11-AD11","v":566357.55445953412}]
["O&M annuelle ",{"$f":"G13*1000","v":140000},null,{"$f":"B12-C12","v":140000},null,"Option de réduction: Turbine marémotrice",null,null,null,"O&M annuelle ",{"$f":"P13*1000","v":140000},null,{"$f":"K12-L12","v":140000},null,"Option de réduction: Turbine marémotrice",null,null,null,"O&M annuelle ",{"$f":"Y13*1000","v":140000},null,{"$f":"T12-U12","v":140000},null,"Option de réduction: Turbine marémotrice",null,null,null,"O&M annuelle ",{"$f":"AH13*1000","v":140000},null,{"$f":"AC12-AD12","v":140000},null,"Option de réduction: Turbine marémotrice"]
["Coût annuel carburant",null,{"$f":"G17*1000*G9","v":525600},{"$f":"B13-C13","v":-525600},null,"O&M  ",140,"US$/kW",null,"Coût annuel carburant",null,{"$f":"P17*1000*P9","v":525600},{"$f":"K13-L13","v":-525600},null,"O&M  ",140,"US$/kW",null,"Coût annuel carburant",null,{"$f":"Y17*1000*Y9","v":525600},{"$f":"T13-U13","v":-525600},null,"O&M  ",140,"US$/kW",null,"Coût annuel carburant",null,{"$f":"AH17*1000*AH9","v":525600},{"$f":"AC13-AD13","v":-525600},null,"O&M  ",140,"US$/kW"]
["Coûts totaux annuel",{"$f":"SUM(B11:B13)","v":989536.33168930118},{"$f":"SUM(C11:C13)","v":525600},{"$f":"B14-C14","v":463936.33168930118},null,"Activité",1,"MW",null,"Coûts totaux annuel",{"$f":"SUM(K11:K13)","v":895143.40594604553},{"$f":"SUM(L11:L13)","v":525600},{"$f":"K14-L14","v":369543.40594604553},null,"Activité",1,"MW",null,"Coûts totaux annuel",{"$f":"SUM(T11:T13)","v":847946.94307441777},{"$f":"SUM(U11:U13)","v":525600},{"$f":"T14-U14","v":322346.94307441777},null,"Activité",1,"MW",null,"Coûts totaux annuel",{"$f":"SUM(AC11:AC13)","v":706357.55445953412},{"$f":"SUM(AD11:AD13)","v":525600},{"$f":"AC14-AD14","v":180757.55445953412},null,"Activité",1,"MW"]
[null,null,null,null,null,"Activité de l'nvestissement",9000,"US$/kW",null,null,null,null,null,null,"Activité de l'nvestissement",8000,"US$/kW",null,null,null,null,null,null,"Activité de l'nvestissement",7500,"US$/kW",null,null,null,null,null,null,"Activité de l'nvestissement",6000,"US$/kW"]
["Émissions annuelles (tonnes)","Tonnes","Tonnes","Réduction",null,"Facteur de capacité",{"$f":"0.3*8760","v":2628},"heures à plein temps",null,"Émissions annuelles (tonnes)","Tonnes","Tonnes","Réduction",null,"Facteur de capacité",{"$f":"0.3*8760","v":2628},"heures à plein temps",null,"Émissions annuelles (tonnes)","Tonnes","Tonnes","Réduction",null,"Facteur de capacité",{"$f":"0.3*8760","v":2628},"heures à plein temps",null,"Émissions annuelles (tonnes)","Tonnes","Tonnes","Réduction",null,"Facteur de capacité",{"$f":"0.3*8760","v":2628},"heures à plein temps"]
["Éq.-CO2 d'émission de carburant",null,{"$f":"G17*G10","v":1275.894},{"$f":"C17-B17","v":1275.894},null,"Production Electricité",{"$f":"G14*G16","v":2628},"MWh/ an",null,"Éq.-CO2 d'émission de carburant",null,{"$f":"P17*P10","v":1275.894},{"$f":"L17-K17","v":1275.894},null,"Production Electricité",{"$f":"P14*P16","v":2628},"MWh/ an",null,"Éq.-CO2 d'émission de carburant",null,{"$f":"Y17*Y10","v":1275.894},{"$f":"U17-T17","v":1275.894},null,"Production Electricité",{"$f":"Y14*Y16","v":2628},"MWh/ an",null,"Éq.-CO2 d'émission de carburant",null,{"$f":"AH17*AH10","v":1275.894},{"$f":"AD17-AC17","v":1275.894},null,"Production Electricité",{"$f":"AH14*AH16","v":2628},"MWh/ an"]
["Autres",null,null,null,null,"Prix de l´électricité produite",{"$f":"B14/G17/1000","v":0.37653589485894257},"US$/kWh",null,"Autres",null,null,null,null,"Prix de l´électricité produite",{"$f":"K14/P17/1000","v":0.34061773437825171},"US$/kWh",null,"Autres",null,null,null,null,"Prix de l´électricité produite",{"$f":"T14/Y17/1000","v":0.32265865413790629},"US$/kWh",null,"Autres",null,null,null,null,"Prix de l´électricité produite",{"$f":"AC14/AH17/1000","v":0.2687814134168699},"US$/kWh"]
["Émission total CO2-éq. ",{"$f":"B17+B18","v":0},{"$f":"C17+C18","v":1275.894},{"$f":"C19-B19","v":1275.894},null,null,null,null,null,"Émission total CO2-éq. ",{"$f":"K17+K18","v":0},{"$f":"L17+L18","v":1275.894},{"$f":"L19-K19","v":1275.894},null,null,null,null,null,"Émission total CO2-éq. ",{"$f":"T17+T18","v":0},{"$f":"U17+U18","v":1275.894},{"$f":"U19-T19","v":1275.894},null,null,null,null,null,"Émission total CO2-éq. ",{"$f":"AC17+AC18","v":0},{"$f":"AD17+AD18","v":1275.894},{"$f":"AD19-AC19","v":1275.894}]
[null,null,null,null,null,"Option de référence: Pas d´usine marémotrice",null,null,null,null,null,null,null,null,"Option de référence: Pas d´usine marémotrice",null,null,null,null,null,null,null,null,"Option de référence: Pas d´usine marémotrice",null,null,null,null,null,null,null,null,"Option de référence: Pas d´usine marémotrice"]
["US$/ton CO2-eq.",null,null,{"$f":"IF(D19<>0,D14/D19,0)","v":363.61667324190034},null,null,null,null,null,"US$/ton CO2-eq.",null,null,{"$f":"IF(M19<>0,M14/M19,0)","v":289.63488028476155},null,null,null,null,null,"US$/ton CO2-eq.",null,null,{"$f":"IF(V19<>0,V14/V19,0)","v":252.64398380619218},null,null,null,null,null,"US$/ton CO2-eq.",null,null,{"$f":"IF(AE19<>0,AE14/AE19,0)","v":141.67129437048385}]
[]
[]
[]
[]
[]
[]
[]
[]
[]
["1 MW Vague - 2025",null,null,null,null,null,null,null,null,"1 MW Vague - 2030",null,null,null,null,null,null,null,null,"1 MW Vague - 2035",null,null,null,null,null,null,null,null,"1 MW Vague - 2050"]
["Coûts en","Option de","Option de ","Augmentation",null,"Entrées générales:",null,null,null,"Coûts en","Option de","Option de ","Augmentation",null,"Entrées générales:",null,null,null,"Coûts en","Option de","Option de ","Augmentation",null,"Entrées générales:",null,null,null,"Coûts en","Option de","Option de ","Augmentation",null,"Entrées générales:"]
["US$","Réduction","Référence","(Réd.-Réf.)",null,"Taux d'actualisation",{"$f":"DiscountRate","v":7.0000000000000007E-2},null,null,"US$","Réduction","Référence","(Réd.-Réf.)",null,"Taux d'actualisation",{"$f":"DiscountRate","v":7.0000000000000007E-2},null,null,"US$","Réduction","Référence","(Réd.-Réf.)",null,"Taux d'actualisation",{"$f":"DiscountRate","v":7.0000000000000007E-2},null,null,"US$","Réduction","Référence","(Réd.-Réf.)",null,"Taux d'actualisation",{"$f":"DiscountRate","v":7.0000000000000007E-2}]
["Investissement total",{"$f":"G40*G39*1000","v":10000000},null,null,null,"Prix de référence de l'électricité",{"$f":"+Hypothèses!$C25","v":0.2},"US$/kWh",null,"Investissement total",{"$f":"P40*P39*1000","v":9000000},null,null,null,"Prix de référence de l'électricité",{"$f":"+Hypothèses!$C25","v":0.2},"US$/kWh",null,"Investissement total",{"$f":"Y40*Y39*1000","v":8500000},null,null,null,"Prix de référence de l'électricité",{"$f":"+Hypothèses!$C25","v":0.2},"US$/kWh",null,"Investissement total",{"$f":"AH40*AH39*1000","v":6000000},null,null,null,"Prix de référence de l'électricité",{"$f":"+Hypothèses!$C25","v":0.2},"US$/kWh"]
["Durée de vie du projet",20,null,null,null,"Coefficient d'émission CO2-éq. ",{"$f":"+Hypothèses!$C29","v":0.48549999999999999},"tCO2/MWh",null,"Durée de vie du projet",20,null,null,null,"Coefficient d'émission CO2-éq. ",{"$f":"+Hypothèses!$C29","v":0.48549999999999999},"tCO2/MWh",null,"Durée de vie du projet",20,null,null,null,"Coefficient d'émission CO2-éq. ",{"$f":"+Hypothèses!$C29","v":0.48549999999999999},"tCO2/MWh",null,"Durée de vie du projet",20,null,null,null,"Coefficient d'émission CO2-éq. ",{"$f":"+Hypothèses!$C29","v":0.48549999999999999},"tCO2/MWh"]
["Investissements nivelés",{"$f":"IF(B35=0,0,PMT($G$33,B35,-B34))","v":943929.25743255694},null,{"$f":"B36-C36","v":943929.25743255694},null,null,null,null,null,"Investissements nivelés",{"$f":"IF(K35=0,0,PMT($P$33,K35,-K34))","v":849536.33168930118},null,{"$f":"K36-L36","v":849536.33168930118},null,null,null,null,null,"Investissements nivelés",{"$f":"IF(T35=0,0,PMT($Y$33,T35,-T34))","v":802339.86881767341},null,{"$f":"T36-U36","v":802339.86881767341},null,null,null,null,null,"Investissements nivelés",{"$f":"IF(AC35=0,0,PMT($AH$33,AC35,-AC34))","v":566357.55445953412},null,{"$f":"AC36-AD36","v":566357.55445953412}]
["O&M annuelle ",{"$f":"G38*1000","v":180000},null,{"$f":"B37-C37","v":180000},null,"Option de réduction: centrale houlomotrice",null,null,null,"O&M annuelle ",{"$f":"P38*1000","v":180000},null,{"$f":"K37-L37","v":180000},null,"Option de réduction: centrale houlomotrice",null,null,null,"O&M annuelle ",{"$f":"Y38*1000","v":180000},null,{"$f":"T37-U37","v":180000},null,"Option de réduction: centrale houlomotrice",null,null,null,"O&M annuelle ",{"$f":"AH38*1000","v":180000},null,{"$f":"AC37-AD37","v":180000},null,"Option de réduction: centrale houlomotrice"]
["Coût annuel carburant",null,{"$f":"G42*1000*G34","v":613200},{"$f":"B38-C38","v":-613200},null,"O&M  ",180,"US$/kW",null,"Coût annuel carburant",null,{"$f":"P42*1000*P34","v":613200},{"$f":"K38-L38","v":-613200},null,"O&M  ",180,"US$/kW",null,"Coût annuel carburant",null,{"$f":"Y42*1000*Y34","v":613200},{"$f":"T38-U38","v":-613200},null,"O&M  ",180,"US$/kW",null,"Coût annuel carburant",null,{"$f":"AH42*1000*AH34","v":613200},{"$f":"AC38-AD38","v":-613200},null,"O&M  ",180,"US$/kW"]
["Coûts totaux annuel",{"$f":"SUM(B36:B38)","v":1123929.2574325569},{"$f":"SUM(C36:C38)","v":613200},{"$f":"B39-C39","v":510729.25743255694},null,"Activité",1,"MW",null,"Coûts totaux annuel",{"$f":"SUM(K36:K38)","v":1029536.3316893012},{"$f":"SUM(L36:L38)","v":613200},{"$f":"K39-L39","v":416336.33168930118},null,"Activité",1,"MW",null,"Coûts totaux annuel",{"$f":"SUM(T36:T38)","v":982339.86881767341},{"$f":"SUM(U36:U38)","v":613200},{"$f":"T39-U39","v":369139.86881767341},null,"Activité",1,"MW",null,"Coûts totaux annuel",{"$f":"SUM(AC36:AC38)","v":746357.55445953412},{"$f":"SUM(AD36:AD38)","v":613200},{"$f":"AC39-AD39","v":133157.55445953412},null,"Activité",1,"MW"]
[null,null,null,null,null,"Activité de l'nvestissement",10000,"US$/kW",null,null,null,null,null,null,"Activité de l'nvestissement",9000,"US$/kW",null,null,null,null,null,null,"Activité de l'nvestissement",8500,"US$/kW",null,null,null,null,null,null,"Activité de l'nvestissement",6000,"US$/kW"]
["Émissions annuelles (tonnes)","Tonnes","Tonnes","Réduction",null,"Facteur de capacité",{"$f":"0.35*8760","v":3066},"heures à plein temps",null,"Émissions annuelles (tonnes)","Tonnes","Tonnes","Réduction",null,"Facteur de capacité",{"$f":"0.35*8760","v":3066},"heures à plein temps",null,"Émissions annuelles (tonnes)","Tonnes","Tonnes","Réduction",null,"Facteur de capacité",{"$f":"0.35*8760","v":3066},"heures à plein temps",null,"Émissions annuelles (tonnes)","Tonnes","Tonnes","Réduction",null,"Facteur de capacité",{"$f":"0.35*8760","v":3066},"heures à plein temps"]
["Éq.-CO2 d'émission de carburant",null,{"$f":"G42*G35","v":1488.5429999999999},{"$f":"C42-B42","v":1488.5429999999999},null,"Production Electricité",{"$f":"G39*G41","v":3066},"MWh/ an",null,"Éq.-CO2 d'émission de carburant",null,{"$f":"P42*P35","v":1488.5429999999999},{"$f":"L42-K42","v":1488.5429999999999},null,"Production Electricité",{"$f":"P39*P41","v":3066},"MWh/ an",null,"Éq.-CO2 d'émission de carburant",null,{"$f":"Y42*Y35","v":1488.5429999999999},{"$f":"U42-T42","v":1488.5429999999999},null,"Production Electricité",{"$f":"Y39*Y41","v":3066},"MWh/ an",null,"Éq.-CO2 d'émission de carburant",null,{"$f":"AH42*AH35","v":1488.5429999999999},{"$f":"AD42-AC42","v":1488.5429999999999},null,"Production Electricité",{"$f":"AH39*AH41","v":3066},"MWh/ an"]
["Autres",null,null,null,null,"Prix de l´électricité produite",{"$f":"B39/G42/1000","v":0.36657836185014903},"US$/kWh",null,"Autres",null,null,null,null,"Prix de l´électricité produite",{"$f":"K39/P42/1000","v":0.33579136715241398},"US$/kWh",null,"Autres",null,null,null,null,"Prix de l´électricité produite",{"$f":"T39/Y42/1000","v":0.32039786980354645},"US$/kWh",null,"Autres",null,null,null,null,"Prix de l´électricité produite",{"$f":"AC39/AH42/1000","v":0.2434303830592088},"US$/kWh"]
["Émission total CO2-éq. ",{"$f":"B42+B43","v":0},{"$f":"C42+C43","v":1488.5429999999999},{"$f":"C44-B44","v":1488.5429999999999},null,null,null,null,null,"Émission total CO2-éq. ",{"$f":"K42+K43","v":0},{"$f":"L42+L43","v":1488.5429999999999},{"$f":"L44-K44","v":1488.5429999999999},null,null,null,null,null,"Émission total CO2-éq. ",{"$f":"T42+T43","v":0},{"$f":"U42+U43","v":1488.5429999999999},{"$f":"U44-T44","v":1488.5429999999999},null,null,null,null,null,"Émission total CO2-éq. ",{"$f":"AC42+AC43","v":0},{"$f":"AD42+AD43","v":1488.5429999999999},{"$f":"AD44-AC44","v":1488.5429999999999}]
[null,null,null,null,null,"Option de référence: Pas de centrale houlomotrice",null,null,null,null,null,null,null,null,"Option de référence: Pas de centrale houlomotrice",null,null,null,null,null,null,null,null,"Option de référence: Pas de centrale houlomotrice",null,null,null,null,null,null,null,null,"Option de référence: Pas de centrale houlomotrice"]
["US$/ton CO2-eq.",null,null,{"$f":"IF(D44<>0,D39/D44,0)","v":343.10682152450886},null,null,null,null,null,"US$/ton CO2-eq.",null,null,{"$f":"IF(M44<>0,M39/M44,0)","v":279.69385613267553},null,null,null,null,null,"US$/ton CO2-eq.",null,null,{"$f":"IF(V44<>0,V39/V44,0)","v":247.98737343675893},null,null,null,null,null,"US$/ton CO2-eq.",null,null,{"$f":"IF(AE44<>0,AE39/AE44,0)","v":89.45495995717566}]

{"sheet":"Evitement méthane","index":37,"n_rows":118,"n_cols":8,"rows_kept":118,"cut":false,"hidden":false,"merged":[[92,5,92,7],[7,5,7,7],[10,5,10,7],[61,5,61,7],[0,0,0,2],[1,0,1,2],[3,0,3,2],[4,0,4,2],[89,5,89,7],[34,5,34,7],[37,5,37,7],[67,5,67,7]]}
["Menu pour options de Evitement Méthane (cliquez sur les liens ci-dessous)"]
["Biogaz dans les fermes rurales subsituant le kérosène","Biogaz dans les fermes rurales utilisant du kérosène","Biogaz dans les fermes rurales utilisant du kérosène"]
["Biogaz dans les fermes rurales subsituant le bois de feu non renouvelable"]
["Le biogaz dans les grandes fermes","Le biogaz dans les grandes fermes","Le biogaz dans les grandes fermes"]
["Biogaz émanant des eaux usées industrielles","Biogas from industrial waste water ","Biogas from industrial waste water "]
[]
["Biogaz dans les fermes rurales subsituant le kérosène (1000 unités)"]
["Coûts en","Option de","Option de ","Augmentation",null,"Entrées générales:"]
["US$","Réduction","Référence","(Réd.-Réf.)",null,"Taux d'actualisation",{"$f":"+DiscountRate","v":7.0000000000000007E-2}]
["Investissement total",{"$f":"G12*G13","v":253000}]
["Durée de vie du projet",20,null,null,null,"Option de réduction: Biogaz pour la cuisine"]
["Investissements nivelés",{"$f":"IF(B11=0,0,PMT($G$9,B11,-B10))","v":23881.410213043691},null,{"$f":"B12-C12","v":23881.410213043691},null,"Activité",1000,"système biogaz"]
["O&M annuelle ",null,null,{"$f":"B13-C13","v":0},null,"Coût de digesteur et cuisinière",{"$f":"273-20","v":253},"US$"]
["Coût annuel carburant",null,{"$f":"G24*G26*365*1000","v":210066.40666174761},{"$f":"B14-C14","v":-210066.40666174761},null,"Production de biogaz",2,"m3/jour"]
["Coûts totaux annuel",{"$f":"SUM(B12:B14)","v":23881.410213043691},{"$f":"SUM(C12:C14)","v":210066.40666174761},{"$f":"B15-C15","v":-186184.99644870393},null,"Contenu en CH4 de biogaz",0.6]
[null,null,null,null,null,"Valeur calorifique du biogaz",{"$f":"+Hypothèses!N22*G15","v":23.4},"MJ/m3"]
["Émissions annuelles (tonnes)","Tonnes","Tonnes","Réduction",null,"Efficacité de combustion",0.6]
["Éq.-CO2 d'émission de carburant",0,{"$f":"G27*G28*G12/1000","v":1227.6264000000001},{"$f":"C18-B18","v":1227.6264000000001},null,"Energie disponible pour cuisiner",{"$f":"G14*G16*G17","v":28.08},"MJ/jour"]
["Autres"]
["Émission total CO2-éq. ",{"$f":"B18+B19","v":0},{"$f":"C18+C19","v":1227.6264000000001},{"$f":"C20-B20","v":1227.6264000000001},null,"Option de référence: Kérosène pour la cuisine"]
[null,null,null,null,null,"Energie disponible pour cuisiner",{"$f":"+G18","v":28.08},"MJ/jour"]
["US$/ton CO2-eq.",null,null,{"$f":"IF(D20<>0,D15/D20,0)","v":-151.66258761517665},null,"Valeur calorifique du Kérosène",{"$f":"+Hypothèses!I$22","v":44.75},"MJ/kg"]
[null,null,null,null,null,"Effacacité de cuisinière/récheau traditionelle",0.6]
[null,null,null,null,null,"Coût du kérosène",{"$f":"+Hypothèses!I$19","v":0.44025157232704398},"US$/l"]
[null,null,null,null,null,"Utilisation du kérosène",{"$f":"G21/G22/G23","v":1.0458100558659218},"kg/jour"]
[null,null,null,null,null,"Utilisation du kérosène",{"$f":"G25/Hypothèses!I$21","v":1.3072625698324021},"l/jour"]
[null,null,null,null,null,"Utilisation du kérosène",{"$f":"G25*365*G22/1000","v":17.082000000000001},"GJ/an"]
[null,null,null,null,null,"Coefficient d'émission CO2-éq. ",{"$f":"+Hypothèses!C$40","v":71.866666666666674},"kg CO2/GJ"]
[]
[]
[]
[]
[]
["Biogaz dans les fermes rurales subsituant le bois de feu non renouvelable (1000 units)"]
["Coûts en","Option de","Option de ","Augmentation",null,"Entrées générales:"]
["US$","Réduction","Référence","(Réd.-Réf.)",null,"Taux d'actualisation",{"$f":"+DiscountRate","v":7.0000000000000007E-2}]
["Investissement total",{"$f":"G39*G40","v":273000}]
["Durée de vie du projet",20,null,null,null,"Option de réduction: Biogaz pour la cuisine"]
["Investissements nivelés",{"$f":"IF(B38=0,0,PMT($G$36,B38,-B37))","v":25769.268727908806},null,{"$f":"B39-C39","v":25769.268727908806},null,"Activité",1000,"système biogaz"]
["O&M annuelle ",null,null,{"$f":"B40-C40","v":0},null,"Coût de digesteur et cuisinière",273,"US$"]
["Coût annuel carburant",null,{"$f":"G51*G53*1000*1000","v":0},{"$f":"B41-C41","v":0},null,"Production de biogaz",2,"m3/jour"]
["Coûts totaux annuel",{"$f":"SUM(B39:B41)","v":25769.268727908806},{"$f":"SUM(C39:C41)","v":0},{"$f":"B42-C42","v":25769.268727908806},null,"Contenu en CH4 de biogaz",0.6]
[null,null,null,null,null,"Valeur calorifique du biogaz",{"$f":"+Hypothèses!N$22*G42","v":23.4},"MJ/m3"]
["Émissions annuelles (tonnes)","Tonnes","Tonnes","Réduction",null,"Efficacité de combustion",0.6]
["Éq.-CO2 d'émission de carburant",0,{"$f":"+G54*44/12*G55*G39","v":11274.12},{"$f":"C45-B45","v":11274.12},null,"Energie disponible pour cuisiner",{"$f":"G41*G43*G44","v":28.08},"MJ/jour"]
["Autres"]
["Émission total CO2-éq. ",{"$f":"B45+B46","v":0},{"$f":"C45+C46","v":11274.12},{"$f":"C47-B47","v":11274.12},null,"Option de référence: bois de feu non renouvelable pour la cuisine"]
[null,null,null,null,null,"Energie disponible pour cuisiner",{"$f":"+G45","v":28.08},"MJ/jour"]
["US$/ton CO2-eq.",null,null,{"$f":"IF(D47<>0,D42/D47,0)","v":2.2857011214985121},null,"Valeur calorifique du bois de feu",15,"MJ/kg"]
[null,null,null,null,null,"Effacacité de cuisinière/récheau traditionelle",0.1]
[null,null,null,null,null,"Coût du bois de feu",0,"US$/kg"]
[null,null,null,null,null,"Utilisation du bois",{"$f":"G48/G49/G50","v":18.72},"kg/jour"]
[null,null,null,null,null,"Utilisation du bois",{"$f":"G52*365/1000","v":6.8327999999999989},"t bois/an"]
[null,null,null,null,null,"Contenu en carbone du bois",{"$f":"G53/2","v":3.4163999999999994},"t C/an"]
[null,null,null,null,null,"Fraction du bois non renouvelable",0.9]
[]
[]
[]
[]
[]
["Le biogaz dans les grandes fermes (1 unité)"]
["Coûts en","Option de","Option de ","Augmentation",null,"Entrées générales:"]
["US$","Réduction","Référence","(Réd.-Réf.)",null,"Taux d'actualisation",{"$f":"+DiscountRate","v":7.0000000000000007E-2}]
["Investissement total",{"$f":"G69*G70*1000000","v":2879581.1518324609},null,null,null,"Prix de référence de l'électricité",{"$f":"+Hypothèses!C$25","v":0.2},"US$/kWh"]
["Durée de vie du projet",15,null,null,null,"Coefficient d'émission CO2-éq. ",{"$f":"+Hypothèses!C$30","v":0.48549999999999999},"tCO2/MWh"]
["Investissements nivelés",{"$f":"IF(B65=0,0,PMT($G$63,B65,-B64))","v":316162.53186153719},null,{"$f":"B66-C66","v":316162.53186153719},null,"PRG  (GWP) de CH4",{"$f":"+Hypothèses!E$55","v":21}]
["O&M annuelle ",{"$f":"G69*G71*1000000","v":420287.95811518328},null,{"$f":"B67-C67","v":420287.95811518328}]
["Coût annuel carburant",null,{"$f":"G69*G78*G64*1000","v":2043781.0945273635},{"$f":"B68-C68","v":-2043781.0945273635},null,"Option de réduction: Biogaz pour production d´électricité"]
["Coûts totaux annuel",{"$f":"SUM(B66:B68)","v":736450.48997672042},{"$f":"SUM(C66:C68)","v":2043781.0945273635},{"$f":"B69-C69","v":-1307330.6045506431},null,"Activité",1,"système biogaz"]
[null,null,null,null,null,"Coût de digesteur et cuisinière",{"$f":"22/7.64","v":2.8795811518324608},"Million US$"]
["Émissions annuelles (tonnes)","Tonnes","Tonnes","Réduction",null,"O&M",{"$f":"3.211/7.64","v":0.42028795811518327},"Million US$/an"]
["Éq.-CO2 d'émission de carburant",0,{"$f":"G69*G78*G65","v":4961.2786069651747},{"$f":"C72-B72","v":4961.2786069651747},null,"Taille du générateur",1.25,"MW"]
["CH4 à partir de fumier",null,{"$f":"G69*G73*G66","v":66360},null,null,"Production de biogaz",3160,"tCH4/an"]
["Émission total CO2-éq. ",{"$f":"B72+B73","v":0},{"$f":"C72+C73","v":71321.278606965177},{"$f":"C74-B74","v":71321.278606965177},null,"Densité CH4",6.7000000000000002E-4,"t/m3"]
[null,null,null,null,null,"Valeur calorifique du CH4",{"$f":"+Hypothèses!N22","v":39},"MJ/m3"]
["US$/ton CO2-eq.",null,null,{"$f":"IF(D74<>0,D69/D74,0)","v":-18.330162191216946},null,"Energie disponible",{"$f":"+G73/G74*G75/1000","v":183940.29850746269},"GJ/an"]
[null,null,null,null,null,"Efficacité du générateur",0.2]
[null,null,null,null,null,"Production électricité",{"$f":"G76/3.6*G77","v":10218.905472636818},"MWh/an"]
[]
[null,null,null,null,null,"Option de référence: pas de système biogaz"]
[]
[]
[]
[]
[]
[]
[]
[]
["Biogaz émanant des eaux usées industrielles (1 unité)"]
["Coûts en","Option de","Option de ","Augmentation",null,"Entrées générales:"]
["US$","Option","Option","(Red.-Ref.)",null,"Taux d'actualisation",{"$f":"+DiscountRate","v":7.0000000000000007E-2}]
["Investissement total",{"$f":"(G96+G97)*G113","v":4968493.1506849313},null,null,null,"PRG  (GWP) de CH4",{"$f":"+Hypothèses!E$55","v":21}]
["Durée de vie du projet",20,null,null,null,"Option de réduction: Biogaz à partir des eaux usées"]
["Investissements nivelés",{"$f":"IF(B93=0,0,PMT($G$91,B93,-B92))","v":468990.60502847726},null,{"$f":"B94-C94","v":468990.60502847726},null,"O&M  ",0.04]
["O&M annuelle ",{"$f":"B92*G94","v":198739.72602739726},null,{"$f":"B95-C95","v":198739.72602739726},null,"Activité",1,"système biogaz"]
["Coût annuel carburant",null,{"$f":"G118*G116*1000","v":5803200},{"$f":"B96-C96","v":-5803200},null,"Coût de digesteur",700,"US$/kW"]
["Coûts totaux annuel",{"$f":"SUM(B94:B96)","v":667730.33105587447},{"$f":"SUM(C94:C96)","v":5803200},{"$f":"B97-C97","v":-5135469.668944126},null,"Investissement centrale électrique",500,"US$/kW"]
[null,null,null,null,null,"Production d´aliments",12000,"tons/an"]
["Émissions annuelles (tonnes)","Tonnes","Tonnes","Réduction",null,"Production eaux usées",62,"m3 eau usée/tonne de produit"]
["Éq.-CO2 d'émission de carburant",0,{"$f":"G118*G117","v":14087.267999999998},{"$f":"C100-B100","v":14087.267999999998},null,"Fraction carbone organique dissous (COD)",3,"kg COD/m3 eau usée"]
["CH4 à partir des eaux usées et fumier",null,{"$f":"G102*G105/1000*G92","v":11718},{"$f":"C101-B101","v":11718},null,"Production CH4",0.25,"kg CH4/kg COD"]
["Émission total CO2-éq. ",{"$f":"B100+B101","v":0},{"$f":"C100+C101","v":25805.267999999996},{"$f":"C102-B102","v":25805.267999999996},null,"Production eaux usées",{"$f":"G98*G99","v":744000},"m3/an"]
[null,null,null,null,null,"Facteur production biogaz",20,"m3 biogaz/m3-eau usée"]
["US$/ton CO2-eq.",null,null,{"$f":"IF(D102<>0,D97/D102,0)","v":-199.00857719997819},null,"Contenu CH4 biogaz",0.6]
[null,null,null,null,null,"Facteur production CH4",{"$f":"G100*G101","v":0.75},"kg CH4/m3 eau usée"]
[null,null,null,null,null,"Production annuelle CH4",{"$f":"G102*G103*G104","v":8928000},"m3 CH4"]
[null,null,null,null,null,"Densité CH4",0.67100000000000004,"kg/m3"]
[null,null,null,null,null,"Valeur calorifique CH4",39,"MJ/m3"]
[null,null,null,null,null,"Production annuelle gaz",{"$f":"G106*G108/1000","v":348192},"GJ"]
[null,null,null,null,null,"Efficacité générateur électrique",0.3]
[null,null,null,null,null,"Electricité produite",{"$f":"G109*G110/3.6","v":29015.999999999996},"MWh"]
[null,null,null,null,null,"Facteur de capacité",0.8]
[null,null,null,null,null,"Taille du générateur",{"$f":"G111/(8760*G112)*1000","v":4140.4109589041091},"kW"]
[]
[null,null,null,null,null,"Option de référence: Electricité produite à partir du réseau"]
[null,null,null,null,null,"Prix électricité",{"$f":"+Hypothèses!C$25","v":0.2},"US$/kWh"]
[null,null,null,null,null,"Coefficient d'émission CO2-éq. ",{"$f":"+Hypothèses!C$30","v":0.48549999999999999},"tCO2/MWh"]
[null,null,null,null,null,"Electricité produite",{"$f":"+G111","v":29015.999999999996},"MWh"]

{"sheet":"N2O","index":38,"n_rows":20,"n_cols":8,"rows_kept":20,"cut":false,"hidden":false,"merged":[[6,5,6,7],[0,0,0,2],[1,0,1,2]]}
["Menu pour options de N2O (cliquez sur les liens ci-dessous)"]
["Réduction N2O à partir de production de acide nitrique (100 t/jour)"]
[]
[]
[]
["Réduction N2O à partir de production de acide nitrique (100 t/jour)"]
["Coûts en","Option de","Option de ","Augmentation",null,"Entrées générales:"]
["US$","Réduction","Référence","(Réd.-Réf.)",null,"Taux d'actualisation",{"$f":"+DiscountRate","v":7.0000000000000007E-2}]
["Investissement total",{"$f":"(G15+G16)*1000000*100/G10","v":705357.14285714284},null,null,null,"1 tonne N2O = ",{"$f":"+Hypothèses!E56","v":310},"tonnes CO2"]
["Durée de vie du projet",10,null,null,null,"Production acide nitrique",400,"t HNO3/jour"]
["Investissements nivelés",{"$f":"IF(B10=0,0,PMT($G8,B10,-B9))","v":100426.98853090905},null,{"$f":"B11-C11","v":100426.98853090905},null,"Nombre de jours opération",330,"days"]
["O&M annuelle ",null,null,null,null,"Production acide nitrique",{"$f":"G10*365","v":146000},"t HNO3/an"]
["Coûts totaux annuel",{"$f":"SUM(B11:B12)","v":100426.98853090905},{"$f":"SUM(C11:C12)","v":0},{"$f":"B13-C13","v":100426.98853090905}]
[null,null,null,null,null,"Option de réduction: effet à anode réduit"]
["Émissions annuelles (tonnes)","Tonnes","Tonnes","Réduction",null,"Investissement technologie catalyseur",{"$f":"2/0.84","v":2.3809523809523809},"MUS$"]
["Éq.-CO2 d'émission de carburant",null,null,null,null,"Investissement système de suivi",{"$f":"0.37/0.84","v":0.44047619047619047},"MUS$"]
["Autres",{"$f":"G12*G17*G9*100/G10","v":10183.5},{"$f":"G12*G20*G9*100/G10","v":79205},null,null,"Facteur émission N2O",8.9999999999999998E-4,"tN2O/tHNO3"]
["Émission total CO2-éq. ",{"$f":"B16+B17","v":10183.5},{"$f":"C16+C17","v":79205},{"$f":"C18-B18","v":69021.5}]
[null,null,null,null,null,"Option de référence: pas de changement"]
["US$/ton CO2-eq.",null,null,{"$f":"IF(D18<>0,D13/D18,0)","v":1.4550102291446729},null,"Facteur émission N2O",{"$f":"(8.4-7*0.2)/1000","v":7.0000000000000001E-3},"tN2O/tHNO3"]

{"sheet":"Solaire","index":39,"n_rows":339,"n_cols":35,"rows_kept":339,"cut":false,"hidden":false,"merged":[[313,5,313,7],[319,5,319,7],[11,0,11,2],[286,5,286,7],[293,5,293,7],[16,5,16,7],[43,5,43,7],[53,5,53,7],[202,5,202,7],[174,5,174,7],[97,5,97,7],[102,5,102,7],[73,5,73,7],[78,5,78,7],[165,5,165,7],[88,5,88,7],[10,0,10,2],[8,0,8,2],[0,0,0,2],[1,0,1,2],[2,0,2,2],[3,0,3,2],[7,0,7,2],[9,0,9,2],[73,14,73,16],[78,14,78,16],[73,32,73,34],[78,32,78,34],[73,23,73,25],[78,23,78,25],[231,32,231,34],[236,32,236,34],[258,32,258,34],[263,32,263,34],[231,5,231,7],[236,5,236,7],[258,5,258,7],[263,5,263,7],[231,14,231,16],[236,14,236,16],[258,14,258,16],[263,14,263,16],[236,23,236,25],[258,23,258,25],[263,23,263,25],[231,23,231,25],[88,14,88,16],[88,32,88,34],[115,5,115,7],[115,14,115,16],[115,32,115,34],[97,14,97,16],[102,14,102,16],[97,32,97,34],[102,32,102,34],[88,23,88,25],[97,23,97,25],[102,23,102,25],[115,23,115,25],[149,5,149,7],[154,5,154,7],[122,5,122,7],[127,5,127,7],[138,5,138,7]]}
["Menu pour options de Solaire (cliquez sur les liens ci-dessous)"]
["Chauffe-eau solaire, résidentiel"]
["Chauffe-eau solaire, large"]
["PV solaires, grand réseau 1MW"]
["PV de chalet solaire, 50W"]
["PV maison solaire, 500 W"]
["Mini-réseau solaire/diesel, 100 kW"]
["PV solaires, petit réseau isolé, 2 MW, 100% solar"]
["Parabolique via centrale solaire à concentration, pas de stockage, 1 MW"]
["Tour solaire centrale solaire à concentration, avec stockage, 1 MW"]
["Lampes solaires à LED"]
["Lampadaires solaires de rue"]
[]
[]
[]
["Chauffe-eau solaire, résidentiel (1 unit)"]
["Coûts en","Option de","Option de ","Augmentation",null,"Entrées générales:"]
["US$","Réduction","Référence","(Réd.-Réf.)",null,"Taux d'actualisation",{"$f":"Hypothèses!$B$6","v":7.0000000000000007E-2}]
["Investissement total",{"$f":"G28*G19","v":473},null,null,null,"Activité",1,"location"]
["Durée de vie du projet",15,null,null,null,"Utilisation eau chaude",130,"litres/jour"]
["Investissements nivelés",{"$f":"IF(B20=0,0,PMT($G$18,B20,-B19))","v":51.932857483576093},null,{"$f":"B21-C21","v":51.932857483576093},null,"Température Approvisionnement en eau",20,"deg. C"]
["O&M annuelle ",{"$f":"G19*G29*G28","v":4.7300000000000004},null,{"$f":"B22-C22","v":4.7300000000000004},null,"Réglage Thermostat",50,"deg. C"]
["Coût annuel carburant",{"$f":"G33*G24","v":0},{"$f":"G37*G24","v":331.10609999999997},{"$f":"B23-C23","v":-331.10609999999997},null,"Chaleur spécifique de eau",{"$f":"4.1868*1000","v":4186.8},"Joule/kg/deg. C"]
["Coûts totaux annuel",{"$f":"SUM(B21:B23)","v":56.66285748357609},{"$f":"SUM(C21:C23)","v":331.10609999999997},{"$f":"B24-C24","v":-274.44324251642388},null,"Prix moyen de l'électricité",{"$f":"+Hypothèses!C25","v":0.2},"US$/kWh"]
[null,null,null,null,null,"Coefficient d'émission CO2-éq. ",{"$f":"+Hypothèses!C30","v":0.48549999999999999},"ton CO2-eq./MWh"]
["Émissions annuelles (tonnes)","Tonnes","Tonnes","Réduction"]
["Éq.-CO2 d'émission de carburant",{"$f":"G33/1000*G25","v":0},{"$f":"G37/1000*G25","v":0.80376005774999992},{"$f":"C27-B27","v":0.80376005774999992},null,"Option de réduction: Chauffe-eau solaire avec backup électricité"]
["Autres",null,null,null,null,"Investissement",473,"US$"]
["Émission total CO2-éq. ",{"$f":"B27+B28","v":0},{"$f":"C27+C28","v":0.80376005774999992},{"$f":"C29-B29","v":0.80376005774999992},null,"O&M  ",0.01]
[null,null,null,null,null,"Taille de Chauffe-eau solaire",1.6230691176470586,"m2"]
["US$/ton CO2-eq.",null,null,{"$f":"IF(D29<>0,D24/D29,0)","v":-341.4492171764353},null,"Insolation",{"$f":"600*1.7","v":1020},"kWh/m2"]
[null,null,null,null,null,"Production d'énergie du chauffe-eau solaire",{"$f":"G19*G30*G31","v":1655.5304999999998},"kWh"]
[null,null,null,null,null,"Electricité annuelle utilisée",{"$f":"G37-G32","v":0},"kWh"]
[]
[null,null,null,null,null,"Option de référence: Chauffe-eau électrique"]
[null,null,null,null,null,"Electricité utilisée",{"$f":"G19*G20*G23*(G22-G21)/1000000000","v":1.6328519999999999E-2},"GJ/jour"]
[null,null,null,null,null,"Electricité annuelle utilisée",{"$f":"G36*365/3.6*1000","v":1655.5304999999998},"kWh"]
[]
[]
[]
[]
[]
["Chauffe-eau solaire, large"]
["Coûts en","Option de","Option de ","Augmentation",null,"Entrées générales:"]
["US$","Réduction","Référence","(Réd.-Réf.)",null,"Taux d'actualisation",{"$f":"Hypothèses!$B$6","v":7.0000000000000007E-2}]
["Investissement total",{"$f":"G55*G46*G57","v":15620},null,null,null,"Activité",1,"location"]
["Durée de vie du projet",15,null,null,null,"Utilisation eau chaude",9000,"litres/jour"]
["Investissements nivelés",{"$f":"IF(B47=0,0,PMT($G$45,B47,-B46))","v":1714.9920378297222},null,{"$f":"B48-C48","v":1714.9920378297222},null,"Température Approvisionnement en eau",28,"deg. C"]
["O&M annuelle ",{"$f":"G56*B46","v":156.20000000000002},null,{"$f":"B49-C49","v":156.20000000000002},null,"Réglage Thermostat",45,"deg. C"]
["Coût annuel carburant",{"$f":"G60*G51","v":485.02700000000186},{"$f":"G66*G51","v":12989.547000000002},{"$f":"B50-C50","v":-12504.52},null,"Chaleur spécifique de eau",{"$f":"4.1868*1000","v":4186.8},"Joule/kg/deg. C"]
["Coûts totaux annuel",{"$f":"SUM(B48:B50)","v":2356.2190378297241},{"$f":"SUM(C48:C50)","v":12989.547000000002},{"$f":"B51-C51","v":-10633.327962170279},null,"Prix moyen de l'électricité",{"$f":"+Hypothèses!C25","v":0.2},"US$/kWh"]
[null,null,null,null,null,"Coefficient d'émission CO2-éq. ",{"$f":"+Hypothèses!C30","v":0.48549999999999999},"ton CO2-eq./MWh"]
["Émissions annuelles (tonnes)","Tonnes","Tonnes","Réduction"]
["Éq.-CO2 d'émission de carburant",{"$f":"G60/1000*G52","v":1.1774030425000046},{"$f":"G66/1000*G52","v":31.532125342500002},{"$f":"C54-B54","v":30.354722299999999},null,"Option de réduction: Chauffe-eau solaire avec backup électricité"]
["Autres",null,null,null,null,"Investissement",220,"US$/m2"]
["Émission total CO2-éq. ",{"$f":"B54+B55","v":1.1774030425000046},{"$f":"C54+C55","v":31.532125342500002},{"$f":"C56-B56","v":30.354722299999999},null,"O&M  ",0.01]
[null,null,null,null,null,"Taille de Chauffe-eau solaire",71,"m2"]
["US$/ton CO2-eq.",null,null,{"$f":"IF(D56<>0,D51/D56,0)","v":-350.30226457285954},null,"Production d'énergie annuelle du chauffe-eau solaire",{"$f":"518*1.7","v":880.6},"kWh/m2"]
[null,null,null,null,null,"Production d'énergie du chauffe-eau solaire",{"$f":"G57*G58","v":62522.6},"kWh"]
[null,null,null,null,null,"Electricité annuelle utilisée",{"$f":"G66-G59","v":2425.1350000000093},"kWh"]
[null,null,null,null,null,"Fraction solaire",{"$f":"G59/G66","v":0.96266020670312813}]
[null,null,null,null,null,"Electricité économisée",{"$f":"+G66-G60","v":62522.6},"kWh"]
[]
[null,null,null,null,null,"Option de référence: Chauffe-eau électrique"]
[null,null,null,null,null,"Electricité utilisée",{"$f":"G46*G47*G50*(G49-G48)/1000000000","v":0.64058040000000005},"GJ/jour"]
[null,null,null,null,null,"Electricité annuelle utilisée",{"$f":"G65*365/3.6*1000","v":64947.735000000008},"kWh"]
[]
[]
[]
[]
[]
[]
["PV solaires, grand réseau 1MW - 2025",null,null,null,null,null,null,null,null,"PV solaires, grand réseau 1MW - 2030",null,null,null,null,null,null,null,null,"PV solaires, grand réseau 1MW - 2035",null,null,null,null,null,null,null,null,"PV solaires, grand réseau 1MW - 2050"]
["Coûts en","Option de","Option de ","Augmentation",null,"Entrées générales:",null,null,null,"Coûts en","Option de","Option de ","Augmentation",null,"Entrées générales:",null,null,null,"Coûts en","Option de","Option de ","Augmentation",null,"Entrées générales:",null,null,null,"Coûts en","Option de","Option de ","Augmentation",null,"Entrées générales:"]
["US$","Réduction","Référence","(Réd.-Réf.)",null,"Taux d'actualisation",{"$f":"Hypothèses!$B$6","v":7.0000000000000007E-2},null,null,"US$","Réduction","Référence","(Réd.-Réf.)",null,"Taux d'actualisation",{"$f":"Hypothèses!$B$6","v":7.0000000000000007E-2},null,null,"US$","Réduction","Référence","(Réd.-Réf.)",null,"Taux d'actualisation",{"$f":"Hypothèses!$B$6","v":7.0000000000000007E-2},null,null,"US$","Réduction","Référence","(Réd.-Réf.)",null,"Taux d'actualisation",{"$f":"Hypothèses!$B$6","v":7.0000000000000007E-2}]
["Investissement total",{"$f":"G80*1000*G81","v":1000000},null,null,null,"Prix de référence de l'électricité",{"$f":"+Hypothèses!C25","v":0.2},"US$/kWh",null,"Investissement total",{"$f":"P80*1000*P81","v":800000},null,null,null,"Prix de référence de l'électricité",{"$f":"+Hypothèses!C25","v":0.2},"US$/kWh",null,"Investissement total",{"$f":"Y80*1000*Y81","v":700000},null,null,null,"Prix de référence de l'électricité",{"$f":"+Hypothèses!C25","v":0.2},"US$/kWh",null,"Investissement total",{"$f":"AH80*1000*AH81","v":400000},null,null,null,"Prix de référence de l'électricité",{"$f":"+Hypothèses!C25","v":0.2},"US$/kWh"]
["Durée de vie du projet",20,null,null,null,"Coefficient d'émission CO2-éq. ",{"$f":"+Hypothèses!C29","v":0.48549999999999999},"tCO2/MWh",null,"Durée de vie du projet",20,null,null,null,"Coefficient d'émission CO2-éq. ",{"$f":"+Hypothèses!C29","v":0.48549999999999999},"tCO2/MWh",null,"Durée de vie du projet",20,null,null,null,"Coefficient d'émission CO2-éq. ",{"$f":"+Hypothèses!C29","v":0.48549999999999999},"tCO2/MWh",null,"Durée de vie du projet",20,null,null,null,"Coefficient d'émission CO2-éq. ",{"$f":"+Hypothèses!C29","v":0.48549999999999999},"tCO2/MWh"]
["Investissements nivelés",{"$f":"IF(B77=0,0,PMT($G$75,B77,-B76))","v":94392.925743255691},null,{"$f":"B78-C78","v":94392.925743255691},null,null,null,null,null,"Investissements nivelés",{"$f":"IF(K77=0,0,PMT($P$75,K77,-K76))","v":75514.340594604568},null,{"$f":"K78-L78","v":75514.340594604568},null,null,null,null,null,"Investissements nivelés",{"$f":"IF(T77=0,0,PMT($Y$75,T77,-T76))","v":66075.048020278991},null,{"$f":"T78-U78","v":66075.048020278991},null,null,null,null,null,"Investissements nivelés",{"$f":"IF(AC77=0,0,PMT($AH$75,AC77,-AC76))","v":37757.170297302284},null,{"$f":"AC78-AD78","v":37757.170297302284}]
["O&M annuelle ",{"$f":"B76*G85","v":10000},null,{"$f":"B79-C79","v":10000},null,"Option de réduction: PV solaire",null,null,null,"O&M annuelle ",{"$f":"K76*P85","v":8000},null,{"$f":"K79-L79","v":8000},null,"Option de réduction: PV solaire",null,null,null,"O&M annuelle ",{"$f":"T76*Y85","v":7000},null,{"$f":"T79-U79","v":7000},null,"Option de réduction: PV solaire",null,null,null,"O&M annuelle ",{"$f":"AC76*AH85","v":4000},null,{"$f":"AC79-AD79","v":4000},null,"Option de réduction: PV solaire"]
["Coût annuel carburant",null,{"$f":"G90*1000*G76","v":365000},{"$f":"B80-C80","v":-365000},null,"Taille du PV solaire",1,"MW",null,"Coût annuel carburant",null,{"$f":"P90*1000*P76","v":365000},{"$f":"K80-L80","v":-365000},null,"Taille du PV solaire",1,"MW",null,"Coût annuel carburant",null,{"$f":"Y90*1000*Y76","v":365000},{"$f":"T80-U80","v":-365000},null,"Taille du PV solaire",1,"MW",null,"Coût annuel carburant",null,{"$f":"AH90*1000*AH76","v":365000},{"$f":"AC80-AD80","v":-365000},null,"Taille du PV solaire",1,"MW"]
["Coûts totaux annuel",{"$f":"SUM(B78:B80)","v":104392.92574325569},{"$f":"SUM(C78:C80)","v":365000},{"$f":"B81-C81","v":-260607.07425674429},null,"Investissement",1000,"US$/kW",null,"Coûts totaux annuel",{"$f":"SUM(K78:K80)","v":83514.340594604568},{"$f":"SUM(L78:L80)","v":365000},{"$f":"K81-L81","v":-281485.65940539545},null,"Investissement",800,"US$/kW",null,"Coûts totaux annuel",{"$f":"SUM(T78:T80)","v":73075.048020278991},{"$f":"SUM(U78:U80)","v":365000},{"$f":"T81-U81","v":-291924.95197972102},null,"Investissement",700,"US$/kW",null,"Coûts totaux annuel",{"$f":"SUM(AC78:AC80)","v":41757.170297302284},{"$f":"SUM(AD78:AD80)","v":365000},{"$f":"AC81-AD81","v":-323242.82970269769},null,"Investissement",400,"US$/kW"]
[null,null,null,null,null,"Insolation journalière",5,"hours",null,null,null,null,null,null,"Insolation journalière",5,"hours",null,null,null,null,null,null,"Insolation journalière",5,"hours",null,null,null,null,null,null,"Insolation journalière",5,"hours"]
["Émissions annuelles (tonnes)","Tonnes","Tonnes","Réduction",null,"Facteur capacité annuel",{"$f":"G82*365","v":1825},"heures à plein temps",null,"Émissions annuelles (tonnes)","Tonnes","Tonnes","Réduction",null,"Facteur capacité annuel",{"$f":"P82*365","v":1825},"heures à plein temps",null,"Émissions annuelles (tonnes)","Tonnes","Tonnes","Réduction",null,"Facteur capacité annuel",{"$f":"Y82*365","v":1825},"heures à plein temps",null,"Émissions annuelles (tonnes)","Tonnes","Tonnes","Réduction",null,"Facteur capacité annuel",{"$f":"AH82*365","v":1825},"heures à plein temps"]
["Éq.-CO2 d'émission de carburant",null,{"$f":"G90*G77","v":886.03750000000002},{"$f":"C84-B84","v":886.03750000000002},null,"Facteur d´efficacité",1,null,null,"Éq.-CO2 d'émission de carburant",null,{"$f":"P90*P77","v":886.03750000000002},{"$f":"L84-K84","v":886.03750000000002},null,"Facteur d´efficacité",1,null,null,"Éq.-CO2 d'émission de carburant",null,{"$f":"Y90*Y77","v":886.03750000000002},{"$f":"U84-T84","v":886.03750000000002},null,"Facteur d´efficacité",1,null,null,"Éq.-CO2 d'émission de carburant",null,{"$f":"AH90*AH77","v":886.03750000000002},{"$f":"AD84-AC84","v":886.03750000000002},null,"Facteur d´efficacité",1]
["Autres",null,null,null,null,"O&M  ",0.01,"de investissement",null,"Autres",null,null,null,null,"O&M  ",0.01,"de investissement",null,"Autres",null,null,null,null,"O&M  ",0.01,"de investissement",null,"Autres",null,null,null,null,"O&M  ",0.01,"de investissement"]
["Émission total CO2-éq. ",{"$f":"B84+B85","v":0},{"$f":"C84+C85","v":886.03750000000002},{"$f":"C86-B86","v":886.03750000000002},null,"Production électricité",{"$f":"G80*G83*G84","v":1825},"MWh",null,"Émission total CO2-éq. ",{"$f":"K84+K85","v":0},{"$f":"L84+L85","v":886.03750000000002},{"$f":"L86-K86","v":886.03750000000002},null,"Production électricité",{"$f":"P80*P83*P84","v":1825},"MWh",null,"Émission total CO2-éq. ",{"$f":"T84+T85","v":0},{"$f":"U84+U85","v":886.03750000000002},{"$f":"U86-T86","v":886.03750000000002},null,"Production électricité",{"$f":"Y80*Y83*Y84","v":1825},"MWh",null,"Émission total CO2-éq. ",{"$f":"AC84+AC85","v":0},{"$f":"AD84+AD85","v":886.03750000000002},{"$f":"AD86-AC86","v":886.03750000000002},null,"Production électricité",{"$f":"AH80*AH83*AH84","v":1825},"MWh"]
[null,null,null,null,null,"Coût de électricité produite",{"$f":"B81/G86/1000","v":5.7201603146989417E-2},"US$/kWh",null,null,null,null,null,null,"Coût de électricité produite",{"$f":"K81/P86/1000","v":4.5761282517591546E-2},"US$/kWh",null,null,null,null,null,null,"Coût de électricité produite",{"$f":"T81/Y86/1000","v":4.0041122202892597E-2},"US$/kWh",null,null,null,null,null,null,"Coût de électricité produite",{"$f":"AC81/AH86/1000","v":2.2880641258795773E-2},"US$/kWh"]
["US$/ton CO2-eq.",null,null,{"$f":"IF(D86<>0,D81/D86,0)","v":-294.12646107726175},null,null,null,null,null,"US$/ton CO2-eq.",null,null,{"$f":"IF(M86<>0,M81/M86,0)","v":-317.6904582541884},null,null,null,null,null,"US$/ton CO2-eq.",null,null,{"$f":"IF(V86<>0,V81/V86,0)","v":-329.4724568426517},null,null,null,null,null,"US$/ton CO2-eq.",null,null,{"$f":"IF(AE86<>0,AE81/AE86,0)","v":-364.81845260804164}]
[null,null,null,null,null,"Option de référence: Pas de PV solaire",null,null,null,null,null,null,null,null,"Option de référence: Pas de PV solaire",null,null,null,null,null,null,null,null,"Option de référence: Pas de PV solaire",null,null,null,null,null,null,null,null,"Option de référence: Pas de PV solaire"]
[null,null,null,null,null,"Production électricité",{"$f":"G86","v":1825},"MWh",null,null,null,null,null,null,"Production électricité",{"$f":"P86","v":1825},"MWh",null,null,null,null,null,null,"Production électricité",{"$f":"Y86","v":1825},"MWh",null,null,null,null,null,null,"Production électricité",{"$f":"AH86","v":1825},"MWh"]
[]
[]
[]
[]
[]
[]
["PV solaires, grand réseau 1MW - 24h storage - 2025",null,null,null,null,null,null,null,null,"PV solaires, grand réseau 1MW - 24h storage - 2030",null,null,null,null,null,null,null,null,"PV solaires, grand réseau 1MW - 24h storage - 2035",null,null,null,null,null,null,null,null,"PV solaires, grand réseau 1MW - 24h storage - 2050"]
["Coûts en","Option de","Option de ","Augmentation",null,"Entrées générales:",null,null,null,"Coûts en","Option de","Option de ","Augmentation",null,"Entrées générales:",null,null,null,"Coûts en","Option de","Option de ","Augmentation",null,"Entrées générales:",null,null,null,"Coûts en","Option de","Option de ","Augmentation",null,"Entrées générales:"]
["US$","Réduction","Référence","(Réd.-Réf.)",null,"Taux d'actualisation",{"$f":"Hypothèses!$B$6","v":7.0000000000000007E-2},null,null,"US$","Réduction","Référence","(Réd.-Réf.)",null,"Taux d'actualisation",{"$f":"Hypothèses!$B$6","v":7.0000000000000007E-2},null,null,"US$","Réduction","Référence","(Réd.-Réf.)",null,"Taux d'actualisation",{"$f":"Hypothèses!$B$6","v":7.0000000000000007E-2},null,null,"US$","Réduction","Référence","(Réd.-Réf.)",null,"Taux d'actualisation",{"$f":"Hypothèses!$B$6","v":7.0000000000000007E-2}]
["Investissement total",{"$f":"G104*1000*G105+G113","v":2100000},null,null,null,"Prix de référence de l'électricité",{"$f":"Hypothèses!C25","v":0.2},"US$/kWh",null,"Investissement total",{"$f":"P104*1000*P105+P113","v":1700000},null,null,null,"Prix de référence de l'électricité",{"$f":"Hypothèses!C25","v":0.2},"US$/kWh",null,"Investissement total",{"$f":"Y104*1000*Y105+Y113","v":1575000},null,null,null,"Prix de référence de l'électricité",{"$f":"Hypothèses!C25","v":0.2},"US$/kWh",null,"Investissement total",{"$f":"AH104*1000*AH105+AH113","v":1450000},null,null,null,"Prix de référence de l'électricité",{"$f":"Hypothèses!C25","v":0.2},"US$/kWh"]
["Durée de vie du projet",20,null,null,null,"Coefficient d'émission CO2-éq. ",{"$f":"Hypothèses!C29","v":0.48549999999999999},"tCO2/MWh",null,"Durée de vie du projet",20,null,null,null,"Coefficient d'émission CO2-éq. ",{"$f":"Hypothèses!C29","v":0.48549999999999999},"tCO2/MWh",null,"Durée de vie du projet",20,null,null,null,"Coefficient d'émission CO2-éq. ",{"$f":"Hypothèses!C29","v":0.48549999999999999},"tCO2/MWh",null,"Durée de vie du projet",20,null,null,null,"Coefficient d'émission CO2-éq. ",{"$f":"Hypothèses!C29","v":0.48549999999999999},"tCO2/MWh"]
["Investissements nivelés",{"$f":"IF(B101=0,0,PMT($G$99,B101,-B100))","v":198225.14406083696},null,{"$f":"B102-C102","v":198225.14406083696},null,null,null,null,null,"Investissements nivelés",{"$f":"IF(K101=0,0,PMT($P$99,K101,-K100))","v":160467.97376353468},null,{"$f":"K102-L102","v":160467.97376353468},null,null,null,null,null,"Investissements nivelés",{"$f":"IF(T101=0,0,PMT($Y$99,T101,-T100))","v":148668.85804562771},null,{"$f":"T102-U102","v":148668.85804562771},null,null,null,null,null,"Investissements nivelés",{"$f":"IF(AC101=0,0,PMT($AH$99,AC101,-AC100))","v":136869.74232772077},null,{"$f":"AC102-AD102","v":136869.74232772077}]
["O&M annuelle ",{"$f":"B100*G109","v":21000},null,{"$f":"B103-C103","v":21000},null,"Option de réduction: PV solaire",null,null,null,"O&M annuelle ",{"$f":"K100*P109","v":17000},null,{"$f":"K103-L103","v":17000},null,"Option de réduction: PV solaire",null,null,null,"O&M annuelle ",{"$f":"T100*Y109","v":15750},null,{"$f":"T103-U103","v":15750},null,"Option de réduction: PV solaire",null,null,null,"O&M annuelle ",{"$f":"AC100*AH109","v":14500},null,{"$f":"AC103-AD103","v":14500},null,"Option de réduction: PV solaire"]
["Coût annuel carburant",null,{"$f":"G117*1000*G100","v":365000},{"$f":"B104-C104","v":-365000},null,"Taille du PV solaire",1,"MW",null,"Coût annuel carburant",null,{"$f":"P117*1000*P100","v":365000},{"$f":"K104-L104","v":-365000},null,"Taille du PV solaire",1,"MW",null,"Coût annuel carburant",null,{"$f":"Y117*1000*Y100","v":365000},{"$f":"T104-U104","v":-365000},null,"Taille du PV solaire",1,"MW",null,"Coût annuel carburant",null,{"$f":"AH117*1000*AH100","v":365000},{"$f":"AC104-AD104","v":-365000},null,"Taille du PV solaire",1,"MW"]
["Coûts totaux annuel",{"$f":"SUM(B102:B104)","v":219225.14406083696},{"$f":"SUM(C102:C104)","v":365000},{"$f":"B105-C105","v":-145774.85593916304},null,"Investissement",1500,"US$/kW",null,"Coûts totaux annuel",{"$f":"SUM(K102:K104)","v":177467.97376353468},{"$f":"SUM(L102:L104)","v":365000},{"$f":"K105-L105","v":-187532.02623646532},null,"Investissement",1400,"US$/kW",null,"Coûts totaux annuel",{"$f":"SUM(T102:T104)","v":164418.85804562771},{"$f":"SUM(U102:U104)","v":365000},{"$f":"T105-U105","v":-200581.14195437229},null,"Investissement",1300,"US$/kW",null,"Coûts totaux annuel",{"$f":"SUM(AC102:AC104)","v":151369.74232772077},{"$f":"SUM(AD102:AD104)","v":365000},{"$f":"AC105-AD105","v":-213630.25767227923},null,"Investissement",1200,"US$/kW"]
[null,null,null,null,null,"Insolation journalière",{"$f":"G107/365","v":5},"hours",null,null,null,null,null,null,"Insolation journalière",{"$f":"P107/365","v":5},"hours",null,null,null,null,null,null,"Insolation journalière",{"$f":"Y107/365","v":5},"hours",null,null,null,null,null,null,"Insolation journalière",{"$f":"AH107/365","v":5},"hours"]
["Émissions annuelles (tonnes)","Tonnes","Tonnes","Réduction",null,"Facteur capacité annuel",{"$f":"+G83","v":1825},"Full time hours",null,"Émissions annuelles (tonnes)","Tonnes","Tonnes","Réduction",null,"Facteur capacité annuel",{"$f":"+P83","v":1825},"Full time hours",null,"Émissions annuelles (tonnes)","Tonnes","Tonnes","Réduction",null,"Facteur capacité annuel",{"$f":"+Y83","v":1825},"Full time hours",null,"Émissions annuelles (tonnes)","Tonnes","Tonnes","Réduction",null,"Facteur capacité annuel",{"$f":"+AH83","v":1825},"Full time hours"]
["Éq.-CO2 d'émission de carburant",null,{"$f":"G117*G101","v":886.03750000000002},{"$f":"C108-B108","v":886.03750000000002},null,"Facteur d´efficacité",{"$f":"+G84","v":1},null,null,"Éq.-CO2 d'émission de carburant",null,{"$f":"P117*P101","v":886.03750000000002},{"$f":"L108-K108","v":886.03750000000002},null,"Facteur d´efficacité",{"$f":"+P84","v":1},null,null,"Éq.-CO2 d'émission de carburant",null,{"$f":"Y117*Y101","v":886.03750000000002},{"$f":"U108-T108","v":886.03750000000002},null,"Facteur d´efficacité",{"$f":"+Y84","v":1},null,null,"Éq.-CO2 d'émission de carburant",null,{"$f":"AH117*AH101","v":886.03750000000002},{"$f":"AD108-AC108","v":886.03750000000002},null,"Facteur d´efficacité",{"$f":"+AH84","v":1}]
["Autres",null,null,null,null,"O&M  ",0.01,"Of investment",null,"Autres",null,null,null,null,"O&M  ",0.01,"Of investment",null,"Autres",null,null,null,null,"O&M  ",0.01,"Of investment",null,"Autres",null,null,null,null,"O&M  ",0.01,"Of investment"]
["Émission total CO2-éq. ",{"$f":"B108+B109","v":0},{"$f":"C108+C109","v":886.03750000000002},{"$f":"C110-B110","v":886.03750000000002},null,"Production électricité",{"$f":"G104*G107*G108","v":1825},"MWh/an",null,"Émission total CO2-éq. ",{"$f":"K108+K109","v":0},{"$f":"L108+L109","v":886.03750000000002},{"$f":"L110-K110","v":886.03750000000002},null,"Production électricité",{"$f":"P104*P107*P108","v":1825},"MWh/an",null,"Émission total CO2-éq. ",{"$f":"T108+T109","v":0},{"$f":"U108+U109","v":886.03750000000002},{"$f":"U110-T110","v":886.03750000000002},null,"Production électricité",{"$f":"Y104*Y107*Y108","v":1825},"MWh/an",null,"Émission total CO2-éq. ",{"$f":"AC108+AC109","v":0},{"$f":"AD108+AD109","v":886.03750000000002},{"$f":"AD110-AC110","v":886.03750000000002},null,"Production électricité",{"$f":"AH104*AH107*AH108","v":1825},"MWh/an"]
[null,null,null,null,null,"Coût de électricité produite par jour",{"$f":"G110/365*1000","v":5000},"US$/kWh/jour",null,null,null,null,null,null,"Coût de électricité produite par jour",{"$f":"P110/365*1000","v":5000},"US$/kWh/jour",null,null,null,null,null,null,"Coût de électricité produite par jour",{"$f":"Y110/365*1000","v":5000},"US$/kWh/jour",null,null,null,null,null,null,"Coût de électricité produite par jour",{"$f":"AH110/365*1000","v":5000},"US$/kWh/jour"]
["US$/ton CO2-eq.",null,null,{"$f":"IF(D110<>0,D105/D110,0)","v":-164.52447660416522},null,"Coût unitaire des batteries",120,"US$/kWh",null,"US$/ton CO2-eq.",null,null,{"$f":"IF(M110<>0,M105/M110,0)","v":-211.65247095801848},null,"Coût unitaire des batteries",60,"US$/kWh",null,"US$/ton CO2-eq.",null,null,{"$f":"IF(V110<>0,V105/V110,0)","v":-226.37996919359765},null,"Coût unitaire des batteries",55,"US$/kWh",null,"US$/ton CO2-eq.",null,null,{"$f":"IF(AE110<>0,AE105/AE110,0)","v":-241.10746742917678},null,"Coût unitaire des batteries",50,"US$/kWh"]
[null,null,null,null,null,"Coût total des batteries",{"$f":"G111*G112","v":600000},"US$",null,null,null,null,null,null,"Coût total des batteries",{"$f":"P111*P112","v":300000},"US$",null,null,null,null,null,null,"Coût total des batteries",{"$f":"Y111*Y112","v":275000},"US$",null,null,null,null,null,null,"Coût total des batteries",{"$f":"AH111*AH112","v":250000},"US$"]
[null,null,null,null,null,"Coût de électricité produite",{"$f":"B105/G110/1000","v":0.12012336660867778},"US$/kWh",null,null,null,null,null,null,"Coût de électricité produite",{"$f":"K105/P110/1000","v":9.7242725349882028E-2},"US$/kWh",null,null,null,null,null,null,"Coût de électricité produite",{"$f":"T105/Y110/1000","v":9.0092524956508338E-2},"US$/kWh",null,null,null,null,null,null,"Coût de électricité produite",{"$f":"AC105/AH110/1000","v":8.2942324563134676E-2},"US$/kWh"]
[]
[null,null,null,null,null,"Option de référence: Pas de PV solaire",null,null,null,null,null,null,null,null,"Option de référence: Pas de PV solaire",null,null,null,null,null,null,null,null,"Option de référence: Pas de PV solaire",null,null,null,null,null,null,null,null,"Option de référence: Pas de PV solaire"]
[null,null,null,null,null,"Production électricité",{"$f":"G110","v":1825},"MWh",null,null,null,null,null,null,"Production électricité",{"$f":"P110","v":1825},"MWh",null,null,null,null,null,null,"Production électricité",{"$f":"Y110","v":1825},"MWh",null,null,null,null,null,null,"Production électricité",{"$f":"AH110","v":1825},"MWh"]
[]
[]
[]
[]
["PV maison solaire, 500 W"]
["Coûts en","Option de","Option de ","Augmentation",null,"Entrées générales:"]
["US$","Réduction","Référence","(Réd.-Réf.)",null,"Taux d'actualisation",{"$f":"Hypothèses!$B$6","v":7.0000000000000007E-2}]
["Investissement total",{"$f":"G129*G131","v":750},null,null,null,"Prix de référence de l'électricité",{"$f":"+Hypothèses!C25","v":0.2},"US$/kWh"]
["Durée de vie du projet",20,null,null,null,"Coefficient d'émission CO2-éq. ",{"$f":"+Hypothèses!C29","v":0.48549999999999999},"tCO2/MWh"]
["Investissements nivelés",{"$f":"IF(B126=0,0,PMT($G$151,B126,-B125))","v":70.794694307441773},null,{"$f":"B127-C127","v":70.794694307441773}]
["O&M annuelle ",{"$f":"B125*G135","v":7.5},null,{"$f":"B128-C128","v":7.5},null,"Option de réduction: PV solaire"]
["Coût annuel carburant",null,{"$f":"G140*G125*1000","v":164.25},{"$f":"B129-C129","v":-164.25},null,"Taille du PV solaire",0.5,"kW"]
["Coûts totaux annuel",{"$f":"SUM(B127:B129)","v":78.294694307441773},{"$f":"SUM(C127:C129)","v":164.25},{"$f":"B130-C130","v":-85.955305692558227},null,"Taille du PV",{"$f":"G129*9.6/1.3","v":3.6923076923076921},"m2"]
[null,null,null,null,null,"Investissement",1500,"US$/kW"]
["Émissions annuelles (tonnes)","Tonnes","Tonnes","Réduction",null,"Insolation journalière",5,"hours"]
["Éq.-CO2 d'émission de carburant",null,{"$f":"G140*G126","v":0.39871687500000003},{"$f":"C133-B133","v":0.39871687500000003},null,"Facteur capacité annuel",{"$f":"G132*365","v":1825},"heures à plein temps"]
["Autres",null,null,null,null,"Facteur d´efficacité",0.9]
["Émission total CO2-éq. ",{"$f":"B133+B134","v":0},{"$f":"C133+C134","v":0.39871687500000003},{"$f":"C135-B135","v":0.39871687500000003},null,"O&M  ",0.01,"de investissement"]
[null,null,null,null,null,"Production électricité",{"$f":"G129*G133*G134/1000","v":0.82125000000000004},"MWh"]
["US$/ton CO2-eq.",null,null,{"$f":"IF(D135<>0,D130/D135,0)","v":-215.5798038208396},null,"Coût de électricité produite",{"$f":"B130/G136/1000","v":9.5336005244982369E-2},"US$/kWh"]
[]
[null,null,null,null,null,"Option de référence: Pas de PV solaire"]
[null,null,null,null,null,"Production électricité",{"$f":"G136","v":0.82125000000000004},"MWh"]
[]
[]
[]
[]
[]
[]
[]
[]
["PV de chalet solaire, 50W"]
["Coûts en","Option de","Option de ","Augmentation",null,"Entrées générales:"]
["US$","Réduction","Référence","(Réd.-Réf.)",null,"Taux d'actualisation",{"$f":"Hypothèses!$B$6","v":7.0000000000000007E-2}]
["Investissement total",{"$f":"G156*G158","v":75},null,null,null,"Prix de référence de l'électricité",{"$f":"+Hypothèses!C25","v":0.2},"US$/kWh"]
["Durée de vie du projet",20,null,null,null,"Coefficient d'émission CO2-éq. ",{"$f":"+Hypothèses!C29","v":0.48549999999999999},"tCO2/MWh"]
["Investissements nivelés",{"$f":"IF(B153=0,0,PMT($G$151,B153,-B152))","v":7.0794694307441768},null,{"$f":"B154-C154","v":7.0794694307441768}]
["O&M annuelle ",{"$f":"B152*G162","v":0.75},null,{"$f":"B155-C155","v":0.75},null,"Option de réduction: PV solaire"]
["Coût annuel carburant",null,{"$f":"G167*G152*1000","v":16.425000000000001},{"$f":"B156-C156","v":-16.425000000000001},null,"Taille du PV solaire",0.05,"kW"]
["Coûts totaux annuel",{"$f":"SUM(B154:B156)","v":7.8294694307441768},{"$f":"SUM(C154:C156)","v":16.425000000000001},{"$f":"B157-C157","v":-8.5955305692558248},null,"Taille du PV",{"$f":"G156*9.6/1.3","v":0.3692307692307692},"m2"]
[null,null,null,null,null,"Investissement",1500,"US$/kW"]
["Émissions annuelles (tonnes)","Tonnes","Tonnes","Réduction",null,"Insolation journalière",5,"heures"]
["Éq.-CO2 d'émission de carburant",null,{"$f":"G167*G153","v":3.9871687500000003E-2},{"$f":"C160-B160","v":3.9871687500000003E-2},null,"Facteur capacité annuel",{"$f":"G159*365","v":1825},"heures à plein temps"]
["Autres",null,null,null,null,"Facteur d´efficacité",0.9]
["Émission total CO2-éq. ",{"$f":"B160+B161","v":0},{"$f":"C160+C161","v":3.9871687500000003E-2},{"$f":"C162-B162","v":3.9871687500000003E-2},null,"O&M  ",0.01,"de investissement"]
[null,null,null,null,null,"Production électricité",{"$f":"G156*G160*G161/1000","v":8.2125000000000004E-2},"MWh"]
["US$/ton CO2-eq.",null,null,{"$f":"IF(D162<>0,D157/D162,0)","v":-215.57980382083966},null,"Coût de électricité produite",{"$f":"B157/G163/1000","v":9.5336005244982355E-2},"US$/kWh"]
[]
[null,null,null,null,null,"Option de référence: Pas de PV solaire"]
[null,null,null,null,null,"Production électricité",{"$f":"G163","v":8.2125000000000004E-2},"MWh"]
[]
[]
[]
[]
[]
[]
["Mini-réseau solaire/diesel, 100 kW"]
["Coûts en","Option de","Option de ","Augmentation",null,"Entrées générales:"]
["US$","Réduction","Référence","(Réd.-Réf.)",null,"Taux d'actualisation",{"$f":"Hypothèses!$B$6","v":7.0000000000000007E-2}]
["Investissement total",{"$f":"G185*G186","v":60000},null,null,null,"Efficacité diesel",0.3]
["Durée de vie du projet",20,null,null,null,"Coût du diesel",{"$f":"+Hypothèses!F20","v":10.367789021299378},"US$/GJ"]
["Investissements nivelés",{"$f":"IF(B178=0,0,PMT($G$176,B178,-B177))","v":5663.5755445953419},null,{"$f":"B179-C179","v":5663.5755445953419},null,"Coefficient d'émission CO2-éq. ",0.8,"tCO2/MWh"]
["O&M annuelle ",{"$f":"B177*G189","v":600},null,{"$f":"B180-C180","v":600}]
["Coût annuel carburant",null,{"$f":"G195*G178","v":700.78573940264323},{"$f":"B181-C181","v":-700.78573940264323},null,"Option de réduction: Mini-réseau solaire/diesel"]
["Coûts totaux annuel",{"$f":"SUM(B179:B181)","v":6263.5755445953419},{"$f":"SUM(C179:C181)","v":700.78573940264323},{"$f":"B182-C182","v":5562.7898051926986},null,"Capacité du générateur",100,"kW"]
[null,null,null,null,null,"Taille du générateur diesel",150,"kW"]
["Émissions annuelles (tonnes)","Tonnes","Tonnes","Réduction",null,"Charge minimale sur diesel",0.4,"kW"]
["Éq.-CO2 d'émission de carburant",null,{"$f":"G194*G179","v":58.400000000000006},{"$f":"C185-B185","v":58.400000000000006},null,"Capacité du soalire PV",{"$f":"G182-G183*G184","v":40},"kW"]
["Autres",null,null,null,null,"Investissement",1500,"US$/kW"]
["Émission total CO2-éq. ",{"$f":"B185+B186","v":0},{"$f":"C185+C186","v":58.400000000000006},{"$f":"C187-B187","v":58.400000000000006},null,"Insolation journalière",5,"heures"]
[null,null,null,null,null,"Facteur capacité annuel",{"$f":"G187*365","v":1825},"heures à plein temps"]
["US$/ton CO2-eq.",null,null,{"$f":"IF(D187<>0,D182/D187,0)","v":95.253250088916062},null,"O&M  ",0.01,"de investissement"]
[null,null,null,null,null,"Quantité electricité à partir de Production solaire",{"$f":"G185*G188/1000","v":73},"MWh"]
[null,null,null,null,null,"Coût de électricité produite",{"$f":"B182/G190","v":85.802404720484134},"US$/kWh"]
[]
[null,null,null,null,null,"Option de référence: Pas de solaire PVs - pur diesel"]
[null,null,null,null,null,"Production électricité",{"$f":"+G190","v":73},"MWh"]
[null,null,null,null,null,"Diesel utilisé",{"$f":"G194/G177/3.6","v":67.592592592592595},"GJ"]
[]
[]
[]
[]
[]
[]
["PV solaires, petit réseau isolé, 2 MW, 100% solar"]
["Coûts en","Option de","Option de ","Augmentation",null,"Entrées générales:"]
["US$","Réduction","Référence","(Réd.-Réf.)",null,"Taux d'actualisation",{"$f":"Hypothèses!$B$6","v":7.0000000000000007E-2}]
["Investissement total",{"$f":"(G209+G218)*G219*1000","v":13125000},null,null,null,"Prix de référence de l'électricité",{"$f":"+Hypothèses!C25","v":0.2},"US$/kWh"]
["Durée de vie du projet",20,null,null,null,"Coefficient d'émission CO2-éq. ",0.8,"tCO2/MWh"]
["Investissements nivelés",{"$f":"IF(B206=0,0,PMT($G$204,B206,-B205))","v":1238907.1503802312},null,{"$f":"B207-C207","v":1238907.1503802312}]
["O&M annuelle ",{"$f":"G210","v":35},null,{"$f":"B208-C208","v":35},null,"Option de réduction: PV solaires avec batteries"]
["Coût annuel carburant",null,{"$f":"G212*G205*G219*1000","v":657000},{"$f":"B209-C209","v":-657000},null,"Investissement en PV",1500,"US$/kW"]
["Coûts totaux annuel",{"$f":"SUM(B207:B209)","v":1238942.1503802312},{"$f":"SUM(C207:C209)","v":657000},{"$f":"B210-C210","v":581942.15038023121},null,"O&M  ",35,"US$/kW"]
[null,null,null,null,null,"Facteur de capacité",{"$f":"4.5*365","v":1642.5},"heures à plein temps"]
["Émissions annuelles (tonnes)","Tonnes","Tonnes","Réduction",null,"Production électricité/kW",{"$f":"G211","v":1642.5},"kWh/an"]
["Éq.-CO2 d'émission de carburant",0,{"$f":"G212/1000*G206*G219*1000","v":2628},{"$f":"C213-B213","v":2628},null,"Production électricité/kW",{"$f":"G212/365","v":4.5},"kWh/jour"]
["Autres",null,null,null,null,"Consommation électricité sans soleil/kW",{"$f":"G213*0.5","v":2.25},"kWh/jour"]
["Émission total CO2-éq. ",{"$f":"B213+B214","v":0},{"$f":"C213+C214","v":2628},{"$f":"C215-B215","v":2628},null,"Coût unitaire des batteries",187,"US$/kWh"]
[null,null,null,null,null,"Charge maximale batteries",0.2]
["US$/ton CO2-eq.",null,null,{"$f":"IF(D215<>0,D210/D215,0)","v":221.43917442170138},null,"Réinvestissement batteries",3,"fois"]
[null,null,null,null,null,"Coût batteries",{"$f":"150*G214/G216*G217","v":5062.5},"US$/kW"]
[null,null,null,null,null,"Taille PV",2,"MW"]
[null,null,null,null,null,"Electricité produite",{"$f":"+G219*G212","v":3285},"MWh/an"]
[null,null,null,null,null,"Coût de électricité produite",{"$f":"B210/G220/1000","v":0.37715133953736107},"US$/kWh"]
[]
[null,null,null,null,null,"Option de référence: Pas de PV solaires"]
[]
[]
[]
[]
[]
[]
[]
["Parabolique via centrale solaire à concentration, pas de stockage, 1 MW - 2025",null,null,null,null,null,null,null,null,"Parabolique via centrale solaire à concentration, pas de stockage, 1 MW - 2030",null,null,null,null,null,null,null,null,"Parabolique via centrale solaire à concentration, pas de stockage, 1 MW - 2035",null,null,null,null,null,null,null,null,"Parabolique via centrale solaire à concentration, pas de stockage, 1 MW - 2050"]
["Coûts en","Option de","Option de ","Augmentation",null,"Entrées générales:",null,null,null,"Coûts en","Option de","Option de ","Augmentation",null,"Entrées générales:",null,null,null,"Coûts en","Option de","Option de ","Augmentation",null,"Entrées générales:",null,null,null,"Coûts en","Option de","Option de ","Augmentation",null,"Entrées générales:"]
["US$","Réduction","Référence","(Réd.-Réf.)",null,"Taux d'actualisation",{"$f":"Hypothèses!$B$6","v":7.0000000000000007E-2},null,null,"US$","Réduction","Référence","(Réd.-Réf.)",null,"Taux d'actualisation",{"$f":"Hypothèses!$B$6","v":7.0000000000000007E-2},null,null,"US$","Réduction","Référence","(Réd.-Réf.)",null,"Taux d'actualisation",{"$f":"Hypothèses!$B$6","v":7.0000000000000007E-2},null,null,"US$","Réduction","Référence","(Réd.-Réf.)",null,"Taux d'actualisation",{"$f":"Hypothèses!$B$6","v":7.0000000000000007E-2}]
["Investissement total",{"$f":"G240*1000*G239","v":4500000},null,null,null,"Prix de référence de l'électricité",{"$f":"+Hypothèses!C25","v":0.2},"US$/kWh",null,"Investissement total",{"$f":"P240*1000*P239","v":4000000},null,null,null,"Prix de référence de l'électricité",{"$f":"+Hypothèses!C25","v":0.2},"US$/kWh",null,"Investissement total",{"$f":"Y240*1000*Y239","v":3500000},null,null,null,"Prix de référence de l'électricité",{"$f":"+Hypothèses!C25","v":0.2},"US$/kWh",null,"Investissement total",{"$f":"AH240*1000*AH239","v":2500000},null,null,null,"Prix de référence de l'électricité",{"$f":"+Hypothèses!C25","v":0.2},"US$/kWh"]
["Durée de vie du projet",20,null,null,null,"Coefficient d'émission CO2-éq. ",{"$f":"+Hypothèses!C29","v":0.48549999999999999},"tCO2/MWh",null,"Durée de vie du projet",20,null,null,null,"Coefficient d'émission CO2-éq. ",{"$f":"+Hypothèses!C29","v":0.48549999999999999},"tCO2/MWh",null,"Durée de vie du projet",20,null,null,null,"Coefficient d'émission CO2-éq. ",{"$f":"+Hypothèses!C29","v":0.48549999999999999},"tCO2/MWh",null,"Durée de vie du projet",20,null,null,null,"Coefficient d'émission CO2-éq. ",{"$f":"+Hypothèses!C29","v":0.48549999999999999},"tCO2/MWh"]
["Investissements nivelés",{"$f":"IF(B235=0,0,PMT($G$233,B235,-B234))","v":424768.16584465059},null,{"$f":"B236-C236","v":424768.16584465059},null,null,null,null,null,"Investissements nivelés",{"$f":"IF(K235=0,0,PMT($P$233,K235,-K234))","v":377571.70297302277},null,{"$f":"K236-L236","v":377571.70297302277},null,null,null,null,null,"Investissements nivelés",{"$f":"IF(T235=0,0,PMT($Y$233,T235,-T234))","v":330375.24010139494},null,{"$f":"T236-U236","v":330375.24010139494},null,null,null,null,null,"Investissements nivelés",{"$f":"IF(AC235=0,0,PMT($AH$233,AC235,-AC234))","v":235982.31435813924},null,{"$f":"AC236-AD236","v":235982.31435813924}]
["O&M annuelle ",{"$f":"B234*G238","v":6525},null,{"$f":"B237-C237","v":6525},null,"Option de réduction: Centrale solaire parabolique ",null,null,null,"O&M annuelle ",{"$f":"K234*P238","v":5800},null,{"$f":"K237-L237","v":5800},null,"Option de réduction: Centrale solaire parabolique ",null,null,null,"O&M annuelle ",{"$f":"T234*Y238","v":5075},null,{"$f":"T237-U237","v":5075},null,"Option de réduction: Centrale solaire parabolique ",null,null,null,"O&M annuelle ",{"$f":"AC234*AH238","v":3624.9999999999995},null,{"$f":"AC237-AD237","v":3624.9999999999995},null,"Option de réduction: Centrale solaire parabolique "]
["Coût annuel carburant",null,{"$f":"G242*1000*G234","v":300000},{"$f":"B238-C238","v":-300000},null,"O&M  ",1.4499999999999999E-3,"de investissement",null,"Coût annuel carburant",null,{"$f":"P242*1000*P234","v":300000},{"$f":"K238-L238","v":-300000},null,"O&M  ",1.4499999999999999E-3,"de investissement",null,"Coût annuel carburant",null,{"$f":"Y242*1000*Y234","v":300000},{"$f":"T238-U238","v":-300000},null,"O&M  ",1.4499999999999999E-3,"de investissement",null,"Coût annuel carburant",null,{"$f":"AH242*1000*AH234","v":300000},{"$f":"AC238-AD238","v":-300000},null,"O&M  ",1.4499999999999999E-3,"de investissement"]
["Coûts totaux annuel",{"$f":"SUM(B236:B238)","v":431293.16584465059},{"$f":"SUM(C236:C238)","v":300000},{"$f":"B239-C239","v":131293.16584465059},null,"Activité",1,"MW",null,"Coûts totaux annuel",{"$f":"SUM(K236:K238)","v":383371.70297302277},{"$f":"SUM(L236:L238)","v":300000},{"$f":"K239-L239","v":83371.702973022766},null,"Activité",1,"MW",null,"Coûts totaux annuel",{"$f":"SUM(T236:T238)","v":335450.24010139494},{"$f":"SUM(U236:U238)","v":300000},{"$f":"T239-U239","v":35450.240101394942},null,"Activité",1,"MW",null,"Coûts totaux annuel",{"$f":"SUM(AC236:AC238)","v":239607.31435813924},{"$f":"SUM(AD236:AD238)","v":300000},{"$f":"AC239-AD239","v":-60392.685641860764},null,"Activité",1,"MW"]
[null,null,null,null,null,"Investissement",4500,"US$/kW",null,null,null,null,null,null,"Investissement",4000,"US$/kW",null,null,null,null,null,null,"Investissement",3500,"US$/kW",null,null,null,null,null,null,"Investissement",2500,"US$/kW"]
["Émissions annuelles (tonnes)","Tonnes","Tonnes","Réduction",null,"Facteur de capacité",1500,"heures à plein temps",null,"Émissions annuelles (tonnes)","Tonnes","Tonnes","Réduction",null,"Facteur de capacité",1500,"heures à plein temps",null,"Émissions annuelles (tonnes)","Tonnes","Tonnes","Réduction",null,"Facteur de capacité",1500,"heures à plein temps",null,"Émissions annuelles (tonnes)","Tonnes","Tonnes","Réduction",null,"Facteur de capacité",1500,"heures à plein temps"]
["Éq.-CO2 d'émission de carburant",null,{"$f":"G242*G235","v":728.25},{"$f":"C242-B242","v":728.25},null,"Production Electricité",{"$f":"G239*G241","v":1500},"MWh/an",null,"Éq.-CO2 d'émission de carburant",null,{"$f":"P242*P235","v":728.25},{"$f":"L242-K242","v":728.25},null,"Production Electricité",{"$f":"P239*P241","v":1500},"MWh/an",null,"Éq.-CO2 d'émission de carburant",null,{"$f":"Y242*Y235","v":728.25},{"$f":"U242-T242","v":728.25},null,"Production Electricité",{"$f":"Y239*Y241","v":1500},"MWh/an",null,"Éq.-CO2 d'émission de carburant",null,{"$f":"AH242*AH235","v":728.25},{"$f":"AD242-AC242","v":728.25},null,"Production Electricité",{"$f":"AH239*AH241","v":1500},"MWh/an"]
["Autres",null,null,null,null,"Coût de électricité produite",{"$f":"B239/G242/1000","v":0.28752877722976705},"US$/kWh",null,"Autres",null,null,null,null,"Coût de électricité produite",{"$f":"K239/P242/1000","v":0.25558113531534854},"US$/kWh",null,"Autres",null,null,null,null,"Coût de électricité produite",{"$f":"T239/Y242/1000","v":0.22363349340092994},"US$/kWh",null,"Autres",null,null,null,null,"Coût de électricité produite",{"$f":"AC239/AH242/1000","v":0.15973820957209281},"US$/kWh"]
["Émission total CO2-éq. ",{"$f":"B242+B243","v":0},{"$f":"C242+C243","v":728.25},{"$f":"C244-B244","v":728.25},null,null,null,null,null,"Émission total CO2-éq. ",{"$f":"K242+K243","v":0},{"$f":"L242+L243","v":728.25},{"$f":"L244-K244","v":728.25},null,null,null,null,null,"Émission total CO2-éq. ",{"$f":"T242+T243","v":0},{"$f":"U242+U243","v":728.25},{"$f":"U244-T244","v":728.25},null,null,null,null,null,"Émission total CO2-éq. ",{"$f":"AC242+AC243","v":0},{"$f":"AD242+AD243","v":728.25},{"$f":"AD244-AC244","v":728.25}]
[null,null,null,null,null,"Option de référence: Pas Centrale solaire parabolique ",null,null,null,null,null,null,null,null,"Option de référence: Pas Centrale solaire parabolique ",null,null,null,null,null,null,null,null,"Option de référence: Pas Centrale solaire parabolique ",null,null,null,null,null,null,null,null,"Option de référence: Pas Centrale solaire parabolique "]
["US$/ton CO2-eq.",null,null,{"$f":"IF(D244<>0,D239/D244,0)","v":180.28584393360879},null,null,null,null,null,"US$/ton CO2-eq.",null,null,{"$f":"IF(M244<>0,M239/M244,0)","v":114.48225605633061},null,null,null,null,null,"US$/ton CO2-eq.",null,null,{"$f":"IF(V244<>0,V239/V244,0)","v":48.678668179052444},null,null,null,null,null,"US$/ton CO2-eq.",null,null,{"$f":"IF(AE244<>0,AE239/AE244,0)","v":-82.928507575503971}]
[]
[]
[]
[]
[]
[]
[]
[]
[]
[]
[]
["Tour solaire centrale solaire à concentration, avec stockage, 1 MW - 2025",null,null,null,null,null,null,null,null,"Tour solaire centrale solaire à concentration, avec stockage, 1 MW - 2030",null,null,null,null,null,null,null,null,"Tour solaire centrale solaire à concentration, avec stockage, 1 MW - 2035",null,null,null,null,null,null,null,null,"Tour solaire centrale solaire à concentration, avec stockage, 1 MW - 2050"]
["Coûts en","Option de","Option de ","Augmentation",null,"Entrées générales:",null,null,null,"Coûts en","Option de","Option de ","Augmentation",null,"Entrées générales:",null,null,null,"Coûts en","Option de","Option de ","Augmentation",null,"Entrées générales:",null,null,null,"Coûts en","Option de","Option de ","Augmentation",null,"Entrées générales:"]
["US$","Réduction","Référence","(Réd.-Réf.)",null,"Taux d'actualisation",{"$f":"Hypothèses!$B$6","v":7.0000000000000007E-2},null,null,"US$","Réduction","Référence","(Réd.-Réf.)",null,"Taux d'actualisation",{"$f":"Hypothèses!$B$6","v":7.0000000000000007E-2},null,null,"US$","Réduction","Référence","(Réd.-Réf.)",null,"Taux d'actualisation",{"$f":"Hypothèses!$B$6","v":7.0000000000000007E-2},null,null,"US$","Réduction","Référence","(Réd.-Réf.)",null,"Taux d'actualisation",{"$f":"Hypothèses!$B$6","v":7.0000000000000007E-2}]
["Investissement total",{"$f":"G267*1000*G266","v":8000000},null,null,null,"Prix de référence de l'électricité",{"$f":"+Hypothèses!C25","v":0.2},"US$/kWh",null,"Investissement total",{"$f":"P267*1000*P266","v":7000000},null,null,null,"Prix de référence de l'électricité",{"$f":"+Hypothèses!C25","v":0.2},"US$/kWh",null,"Investissement total",{"$f":"Y267*1000*Y266","v":6500000},null,null,null,"Prix de référence de l'électricité",{"$f":"+Hypothèses!C25","v":0.2},"US$/kWh",null,"Investissement total",{"$f":"AH267*1000*AH266","v":5000000},null,null,null,"Prix de référence de l'électricité",{"$f":"+Hypothèses!C25","v":0.2},"US$/kWh"]
["Durée de vie du projet",20,null,null,null,"Coefficient d'émission CO2-éq. ",{"$f":"Hypothèses!$C29","v":0.48549999999999999},"tCO2/MWh",null,"Durée de vie du projet",20,null,null,null,"Coefficient d'émission CO2-éq. ",{"$f":"Hypothèses!$C29","v":0.48549999999999999},"tCO2/MWh",null,"Durée de vie du projet",20,null,null,null,"Coefficient d'émission CO2-éq. ",{"$f":"Hypothèses!$C29","v":0.48549999999999999},"tCO2/MWh",null,"Durée de vie du projet",20,null,null,null,"Coefficient d'émission CO2-éq. ",{"$f":"Hypothèses!$C29","v":0.48549999999999999},"tCO2/MWh"]
["Investissements nivelés",{"$f":"IF(B262=0,0,PMT($G$260,B262,-B261))","v":755143.40594604553},null,{"$f":"B263-C263","v":755143.40594604553},null,null,null,null,null,"Investissements nivelés",{"$f":"IF(K262=0,0,PMT($P$260,K262,-K261))","v":660750.48020278988},null,{"$f":"K263-L263","v":660750.48020278988},null,null,null,null,null,"Investissements nivelés",{"$f":"IF(T262=0,0,PMT($Y$260,T262,-T261))","v":613554.017331162},null,{"$f":"T263-U263","v":613554.017331162},null,null,null,null,null,"Investissements nivelés",{"$f":"IF(AC262=0,0,PMT($AH$260,AC262,-AC261))","v":471964.62871627847},null,{"$f":"AC263-AD263","v":471964.62871627847}]
["O&M annuelle ",{"$f":"G265*G269*1000","v":45000},null,{"$f":"B264-C264","v":45000},null,"Option de réduction: Tour solaire",null,null,null,"O&M annuelle ",{"$f":"P265*P269*1000","v":45000},null,{"$f":"K264-L264","v":45000},null,"Option de réduction: Tour solaire",null,null,null,"O&M annuelle ",{"$f":"Y265*Y269*1000","v":45000},null,{"$f":"T264-U264","v":45000},null,"Option de réduction: Tour solaire",null,null,null,"O&M annuelle ",{"$f":"AH265*AH269*1000","v":45000},null,{"$f":"AC264-AD264","v":45000},null,"Option de réduction: Tour solaire"]
["Coût annuel carburant",null,{"$f":"G269*1000*G261","v":300000},{"$f":"B265-C265","v":-300000},null,"O&M  ",0.03,"US$/kWh",null,"Coût annuel carburant",null,{"$f":"P269*1000*P261","v":300000},{"$f":"K265-L265","v":-300000},null,"O&M  ",0.03,"US$/kWh",null,"Coût annuel carburant",null,{"$f":"Y269*1000*Y261","v":300000},{"$f":"T265-U265","v":-300000},null,"O&M  ",0.03,"US$/kWh",null,"Coût annuel carburant",null,{"$f":"AH269*1000*AH261","v":300000},{"$f":"AC265-AD265","v":-300000},null,"O&M  ",0.03,"US$/kWh"]
["Coûts totaux annuel",{"$f":"SUM(B263:B265)","v":800143.40594604553},{"$f":"SUM(C263:C265)","v":300000},{"$f":"B266-C266","v":500143.40594604553},null,"Activité",1,"MW",null,"Coûts totaux annuel",{"$f":"SUM(K263:K265)","v":705750.48020278988},{"$f":"SUM(L263:L265)","v":300000},{"$f":"K266-L266","v":405750.48020278988},null,"Activité",1,"MW",null,"Coûts totaux annuel",{"$f":"SUM(T263:T265)","v":658554.017331162},{"$f":"SUM(U263:U265)","v":300000},{"$f":"T266-U266","v":358554.017331162},null,"Activité",1,"MW",null,"Coûts totaux annuel",{"$f":"SUM(AC263:AC265)","v":516964.62871627847},{"$f":"SUM(AD263:AD265)","v":300000},{"$f":"AC266-AD266","v":216964.62871627847},null,"Activité",1,"MW"]
[null,null,null,null,null,"Investissement",8000,"US$/kW",null,null,null,null,null,null,"Investissement",7000,"US$/kW",null,null,null,null,null,null,"Investissement",6500,"US$/kW",null,null,null,null,null,null,"Investissement",5000,"US$/kW"]
["Émissions annuelles (tonnes)","Tonnes","Tonnes","Réduction",null,"Facteur de capacité",1500,"heures à plein temps",null,"Émissions annuelles (tonnes)","Tonnes","Tonnes","Réduction",null,"Facteur de capacité",1500,"heures à plein temps",null,"Émissions annuelles (tonnes)","Tonnes","Tonnes","Réduction",null,"Facteur de capacité",1500,"heures à plein temps",null,"Émissions annuelles (tonnes)","Tonnes","Tonnes","Réduction",null,"Facteur de capacité",1500,"heures à plein temps"]
["Éq.-CO2 d'émission de carburant",null,{"$f":"G269*G262","v":728.25},{"$f":"C269-B269","v":728.25},null,"Production Electricité",{"$f":"G266*G268","v":1500},"MWh/an",null,"Éq.-CO2 d'émission de carburant",null,{"$f":"P269*P262","v":728.25},{"$f":"L269-K269","v":728.25},null,"Production Electricité",{"$f":"P266*P268","v":1500},"MWh/an",null,"Éq.-CO2 d'émission de carburant",null,{"$f":"Y269*Y262","v":728.25},{"$f":"U269-T269","v":728.25},null,"Production Electricité",{"$f":"Y266*Y268","v":1500},"MWh/an",null,"Éq.-CO2 d'émission de carburant",null,{"$f":"AH269*AH262","v":728.25},{"$f":"AD269-AC269","v":728.25},null,"Production Electricité",{"$f":"AH266*AH268","v":1500},"MWh/an"]
["Autres",null,null,null,null,"Coût de électricité produite",{"$f":"B266/G269/1000","v":0.53342893729736363},"US$/kWh",null,"Autres",null,null,null,null,"Coût de électricité produite",{"$f":"K266/P269/1000","v":0.47050032013519327},"US$/kWh",null,"Autres",null,null,null,null,"Coût de électricité produite",{"$f":"T266/Y269/1000","v":0.43903601155410804},"US$/kWh",null,"Autres",null,null,null,null,"Coût de électricité produite",{"$f":"AC266/AH269/1000","v":0.34464308581085229},"US$/kWh"]
["Émission total CO2-éq. ",{"$f":"B269+B270","v":0},{"$f":"C269+C270","v":728.25},{"$f":"C271-B271","v":728.25},null,null,null,null,null,"Émission total CO2-éq. ",{"$f":"K269+K270","v":0},{"$f":"L269+L270","v":728.25},{"$f":"L271-K271","v":728.25},null,null,null,null,null,"Émission total CO2-éq. ",{"$f":"T269+T270","v":0},{"$f":"U269+U270","v":728.25},{"$f":"U271-T271","v":728.25},null,null,null,null,null,"Émission total CO2-éq. ",{"$f":"AC269+AC270","v":0},{"$f":"AD269+AD270","v":728.25},{"$f":"AD271-AC271","v":728.25}]
[null,null,null,null,null,"Option de référence: Pas de Tour solaire",null,null,null,null,null,null,null,null,"Option de référence: Pas de Tour solaire",null,null,null,null,null,null,null,null,"Option de référence: Pas de Tour solaire",null,null,null,null,null,null,null,null,"Option de référence: Pas de Tour solaire"]
["US$/ton CO2-eq.",null,null,{"$f":"IF(D271<>0,D266/D271,0)","v":686.7743301696471},null,null,null,null,null,"US$/ton CO2-eq.",null,null,{"$f":"IF(M271<>0,M266/M271,0)","v":557.15822890873994},null,null,null,null,null,"US$/ton CO2-eq.",null,null,{"$f":"IF(V271<>0,V266/V271,0)","v":492.35017827828631},null,null,null,null,null,"US$/ton CO2-eq.",null,null,{"$f":"IF(AE271<>0,AE266/AE271,0)","v":297.92602638692546}]
[]
[]
[]
[]
[]
[]
[]
[]
[]
[]
[]
[]
["Lampes solaires à LED (1000 LED lampes substituant kérosène)"]
["Coûts en","Option de","Option de ","Augmentation",null,"Entrées générales:"]
["US$","Réduction","Référence","(Réd.-Réf.)",null,"Taux d'actualisation",{"$f":"Hypothèses!$B$6","v":7.0000000000000007E-2}]
["Investissement total",{"$f":"G295*G296","v":19000},null,null,null,"Prix de référence kérosène",{"$f":"+Hypothèses!I19","v":0.44025157232704398},"US$/liter"]
["Durée de vie du projet",{"$f":"+G297","v":5},null,null,null,"Densité kérosène",{"$f":"+Hypothèses!I21","v":0.8},"t/1000 liter"]
["Investissements nivelés",{"$f":"IF(B290=0,0,PMT($G$288,B290,-B289))","v":4633.9231943861078},null,{"$f":"B291-C291","v":4633.9231943861078},null,"Energie contenue dans kérosène",{"$f":"+Hypothèses!I22","v":44.75},"GJ/ton"]
["O&M annuelle ",0,null,{"$f":"B292-C292","v":0},null,"Coefficient d'émission CO2-éq. ",{"$f":"+Hypothèses!C40","v":71.866666666666674},"kgCO2/GJ"]
["Coût annuel carburant",null,{"$f":"G304*365*G289*G295","v":16069.182389937105},{"$f":"B293-C293","v":-16069.182389937105}]
["Coûts totaux annuel",{"$f":"SUM(B291:B293)","v":4633.9231943861078},{"$f":"SUM(C291:C293)","v":16069.182389937105},{"$f":"B294-C294","v":-11435.259195550996},null,"Option de réduction: Lampes solaires LED substituant kérosène"]
[null,null,null,null,null,"Nombres de lampes LED",1000]
["Émissions annuelles (tonnes)","Tonnes","Tonnes","Réduction",null,"Coût de 1 lampe solaire LED",19,"US$"]
["Éq.-CO2 d'émission de carburant",null,{"$f":"G305*G292/1000","v":93.908173333333366},{"$f":"C297-B297","v":93.908173333333366},null,"Durée de vie de 1 lampe solaire LED",5,"années"]
["Autres",null,null,null,null,"Insolation journalière",5,"heures"]
["Émission total CO2-éq. ",{"$f":"B297+B298","v":0},{"$f":"C297+C298","v":93.908173333333366},{"$f":"C299-B299","v":93.908173333333366},null,"Facteur de capacité",{"$f":"G298*365","v":1825},"heures à plein temps"]
[null,null,null,null,null,"Option de référence: Lampes Kérosène"]
["US$/ton CO2-eq.",null,null,{"$f":"IF(D299<>0,D294/D299,0)","v":-121.77064881201315},null,"Consommation annuelle de kérosène",{"$f":"G304*365*G295","v":36500},"litres"]
[null,null,null,null,null,"Consommation par heure de kérosène",0.05,"litres"]
[null,null,null,null,null,"Nombre heures utilsation des lampes",4,"heures par jour"]
[null,null,null,null,null,"Consommation par jour de kérosène",{"$f":"3/30","v":0.1},"litres"]
[null,null,null,null,null,"Consommation annuelle de kérosène",{"$f":"G304/1000*365*G290*G291*G295","v":1306.7000000000003},"GJ"]
[]
[]
[]
[]
[]
[]
[]
["Lampadaires solaires de rue - 1000 unités"]
["Coûts en","Option de","Option de ","Augmentation",null,"Entrées générales:"]
["US$","Réduction","Référence","(Réd.-Réf.)",null,"Taux d'actualisation",{"$f":"+DiscountRate","v":7.0000000000000007E-2}]
["Investissement total",{"$f":"+G322*G321+G321*G323*(1+G315)^(-G325)","v":4569537.2951364489},{"$f":"G331*(G329+G330)+G331*G332*((1+G315)^(-G334)+(1+G315)^(-G334*2)+(1+G315)^(-G334*3)+(1+G315)^(-G334*4))","v":5979183.8910164945},{"$f":"B316-C316","v":-1409646.5958800456},null,"Prix moyen de électricité",{"$f":"+Hypothèses!C25","v":0.2},"US$/kWh"]
["Durée de vie du projet",25,25,null,null,"Coefficient d'émission CO2-éq. ",{"$f":"+Hypothèses!C30","v":0.48549999999999999},"ton CO2-eq./MWh"]
["Investissements nivelés",{"$f":"IF(B317=0,0,PMT($G315,B317,-B316))","v":392114.35875478003},{"$f":"IF(C317=0,0,PMT($G$315,C317,-C316))","v":513076.86224559735},{"$f":"B318-C318","v":-120962.50349081733},null,"Pertes sur le réseau",{"$f":"+Hypothèses!B33","v":0.186}]
["O&M annuelle ",null,null,{"$f":"B319-C319","v":0}]
["Coût annuel carburant",null,{"$f":"G339*1000*G316*1000/G321","v":219000},{"$f":"B320-C320","v":-219000},null,"Option de réduction: Lampes solaires de rue"]
["Coûts totaux annuel",{"$f":"SUM(B318:B320)","v":392114.35875478003},{"$f":"SUM(C318:C320)","v":732076.86224559741},{"$f":"B321-C321","v":-339962.50349081738},null,"Activité",1000,"locations"]
[null,null,null,null,null,"Coût installation",4500,"US$/pole"]
["Annual emissions (tons)","Tons","Tons","Reduction",null,"Coût 1 lampe",162,"US$"]
["Éq.-CO2 d'émission de carburant",null,{"$f":"G339*G317/(1+G318)","v":448.24831365935916},{"$f":"C324-B324","v":448.24831365935916},null,"Durée de vie de lampe solaire",50000,"hrs"]
["Autres",null,null,null,null,"Durée de vie de lampe solaire en années",12.5,"years"]
["Émission total CO2-éq. ",{"$f":"B324+B325","v":0},{"$f":"C324+C325","v":448.24831365935916},{"$f":"C326-B326","v":448.24831365935916},null,"Capacité lampe",50,"W"]
[null,null,null,null,null,"Nombre heures utilsation des lampes par jour",12,"heures par jour"]
["US$/ton CO2-eq.",null,null,{"$f":"IF(D326<>0,D321/D326,0)","v":-758.4245007314579},null,"Option de référence: 250 W lampes sodium haute pression"]
[null,null,null,null,null,"Investissement",1350,"US$/pole"]
[null,null,null,null,null,"Investissement de câblage",4500,"US$/pole"]
[null,null,null,null,null,"Activité",{"$f":"+G321","v":1000},{"$f":"+H321","v":"locations"}]
[null,null,null,null,null,"Coût 1 lampe sodium",75,"US$"]
[null,null,null,null,null,"Durée de vie de lampe sodium en heure",24000,"hours"]
[null,null,null,null,null,"Durée de vie de lampe sodium en années",{"$f":"G333/G338/365","v":5.4794520547945202},"Years"]
[null,null,null,null,null,"Remplacement lampes requis",{"$f":"7/G334","v":1.2775000000000001},"times"]
[null,null,null,null,null,"Taux de remise lampes",{"$f":"G315*G334/365","v":1.0508538187277163E-3}]
[null,null,null,null,null,"Capacité lampe sodium",250,"W"]
[null,null,null,null,null,"Nombre heures utilisation des lampes",{"$f":"G327","v":12},"hrs"]
[null,null,null,null,null,"Electricité annuelle utilisée",{"$f":"G337*G338*G331*365/1000000","v":1095},"MWh"]

{"sheet":"Transport","index":40,"n_rows":568,"n_cols":35,"rows_kept":568,"cut":false,"hidden":false,"merged":[[377,5,377,7],[460,5,460,7],[446,5,446,7],[433,5,433,7],[439,5,439,7],[405,5,405,7],[193,14,193,16],[193,32,193,34],[162,23,162,25],[193,23,193,25],[346,5,346,7],[317,5,317,7],[256,5,256,7],[256,14,256,16],[256,32,256,34],[288,5,288,7],[256,23,256,25],[50,5,50,7],[58,5,58,7],[64,5,64,7],[50,14,50,16],[58,14,58,16],[64,14,64,16],[1,0,1,2],[0,0,0,2],[2,0,2,2],[3,0,3,2],[4,0,4,2],[14,0,14,2],[22,14,22,16],[30,14,30,16],[36,14,36,16],[15,0,15,2],[16,0,16,2],[22,5,22,7],[30,5,30,7],[36,5,36,7],[22,32,22,34],[30,32,30,34],[36,32,36,34],[50,32,50,34],[58,32,58,34],[22,23,22,25],[30,23,30,25],[36,23,36,25],[50,23,50,25],[58,23,58,25],[64,23,64,25],[132,23,132,25],[224,5,224,7],[224,14,224,16],[224,32,224,34],[224,23,224,25],[64,32,64,34],[132,32,132,34],[81,5,81,7],[107,5,107,7],[132,14,132,16],[132,5,132,7],[162,5,162,7],[162,14,162,16],[162,32,162,34],[193,5,193,7],[545,5,545,7],[549,5,549,7],[559,5,559,7],[462,5,462,7],[477,5,477,7],[502,5,502,7],[531,5,531,7],[521,5,521,7],[517,5,517,7],[491,5,491,7]]}
["Menu pour options de Transport (cliquez sur les liens ci-dessous)"]
["Mélange de 5% de biodiesel dans tout le diesel"]
["Mélange de bioéthanol à 15% dans toute l'essence"]
["Voitures à essence plus efficaces (1000 voitures)"]
["Voitures diesel plus efficaces (1000 voitures)"]
["Voiture électrique"]
["Autobus électriques de 18m"]
["Autobus électriques 12m"]
["Camions lourds électriques"]
["Camions légers électriques"]
["Train electric"]
["Déplacement des passagers de la voiture vers le rail"]
["Déplacement du transport de marchandises de la route vers le rail"]
["Taxis au gaz naturel (1000 taxis)"]
["Restriction à l'importation de voitures d'occasion (1000 voitures)"]
["Meilleur entretien et utilisation des motos"]
["Service d'Autobus Express (1 km BRT)"]
["Nouvelles voies cyclables"]
["Trois-roues électriques"]
[]
[]
["Mélange de 10% de biodiesel dans tout le diesel - 2025",null,null,null,null,null,null,null,null,"Mélange de 20% de biodiesel dans tout le diesel - 2030",null,null,null,null,null,null,null,null,"Mélange de 20% de biodiesel dans tout le diesel - 2035",null,null,null,null,null,null,null,null,"Mélange de 20% de biodiesel dans tout le diesel - 2050"]
["Coûts en","Option de","Option de ","Augmentation",null,"Entrées générales:",null,null,null,"Coûts en","Option de","Option de ","Augmentation",null,"Entrées générales:",null,null,null,"Coûts en","Option de","Option de ","Augmentation",null,"Entrées générales:",null,null,null,"Coûts en","Option de","Option de ","Augmentation",null,"Entrées générales:"]
["US$","Réduction","Référence","(Réd.-Réf.)",null,"Taux d'actualisation",{"$f":"+DiscountRate","v":7.0000000000000007E-2},null,null,"US$","Réduction","Référence","(Réd.-Réf.)",null,"Taux d'actualisation",{"$f":"+DiscountRate","v":7.0000000000000007E-2},null,null,"US$","Réduction","Référence","(Réd.-Réf.)",null,"Taux d'actualisation",{"$f":"+DiscountRate","v":7.0000000000000007E-2},null,null,"US$","Réduction","Référence","(Réd.-Réf.)",null,"Taux d'actualisation",{"$f":"+DiscountRate","v":7.0000000000000007E-2}]
["Investissement total",{"$f":"G32*G31","v":0},null,null,null,"1 toe =",41.868000000000002,"GJ",null,"Investissement total",{"$f":"P32*P31","v":0},null,null,null,"1 toe =",41.868000000000002,"GJ",null,"Investissement total",{"$f":"Y32*Y31","v":0},null,null,null,"1 toe =",41.868000000000002,"GJ",null,"Investissement total",{"$f":"AH32*AH31","v":0},null,null,null,"1 toe =",41.868000000000002,"GJ"]
["Durée de vie du projet",20,null,null,null,"Prix diesel",{"$f":"+Hypothèses!F19","v":0.37735849056603771},"US$/litre",null,"Durée de vie du projet",20,null,null,null,"Prix diesel",{"$f":"+Hypothèses!F19","v":0.37735849056603771},"US$/litre",null,"Durée de vie du projet",20,null,null,null,"Prix diesel",{"$f":"+Hypothèses!F19","v":0.37735849056603771},"US$/litre",null,"Durée de vie du projet",20,null,null,null,"Prix diesel",{"$f":"+Hypothèses!F19","v":0.37735849056603771},"US$/litre"]
["Investissements nivelés",{"$f":"IF(B26=0,0,PMT($G$24,B26,-B25))","v":0},null,{"$f":"B27-C27","v":0},null,"Prix biodiesiel",{"$f":"+Hypothèses!G19","v":1.2},"US$/litre",null,"Investissements nivelés",{"$f":"IF(K26=0,0,PMT($P$24,K26,-K25))","v":0},null,{"$f":"K27-L27","v":0},null,"Prix biodiesiel",{"$f":"+Hypothèses!G19","v":1.2},"US$/litre",null,"Investissements nivelés",{"$f":"IF(T26=0,0,PMT($Y$24,T26,-T25))","v":0},null,{"$f":"T27-U27","v":0},null,"Prix biodiesiel",{"$f":"+Hypothèses!G19","v":1.2},"US$/litre",null,"Investissements nivelés",{"$f":"IF(AC26=0,0,PMT($AH$24,AC26,-AC25))","v":0},null,{"$f":"AC27-AD27","v":0},null,"Prix biodiesiel",{"$f":"+Hypothèses!G19","v":1.2},"US$/litre"]
["O&M annuelle ",{"$f":"B25*G30","v":0},null,{"$f":"B28-C28","v":0},null,"Equivalent en litres de 1 toe de diesel",{"$f":"+Hypothèses!C65/Hypothèses!C70","v":1150.3082654709704},"litre",null,"O&M annuelle ",{"$f":"K25*P30","v":0},null,{"$f":"K28-L28","v":0},null,"Equivalent en litres de 1 toe de diesel",{"$f":"+Hypothèses!C65/Hypothèses!C70","v":1150.3082654709704},"litre",null,"O&M annuelle ",{"$f":"T25*Y30","v":0},null,{"$f":"T28-U28","v":0},null,"Equivalent en litres de 1 toe de diesel",{"$f":"+Hypothèses!C65/Hypothèses!C70","v":1150.3082654709704},"litre",null,"O&M annuelle ",{"$f":"AC25*AH30","v":0},null,{"$f":"AC28-AD28","v":0},null,"Equivalent en litres de 1 toe de diesel",{"$f":"+Hypothèses!C65/Hypothèses!C70","v":1150.3082654709704},"litre"]
["Coût annuel carburant",{"$f":"G36*G27*1000","v":4848789713.9096375},{"$f":"G43*G26*1000","v":1332516190.3791239},{"$f":"B29-C29","v":3516273523.5305138},null,"Equivalent en litres de 1 toe de biodiesel",{"$f":"+Hypothèses!C64/Hypothèses!C69","v":1316.2790697674418},"litre",null,"Coût annuel carburant",{"$f":"P36*P27*1000","v":12977548831.115332},{"$f":"P43*P26*1000","v":3566414497.062911},{"$f":"K29-L29","v":9411134334.0524216},null,"Equivalent en litres de 1 toe de biodiesel",{"$f":"+Hypothèses!C64/Hypothèses!C69","v":1316.2790697674418},"litre",null,"Coût annuel carburant",{"$f":"Y36*Y27*1000","v":15789172451.414198},{"$f":"Y43*Y26*1000","v":4339088549.0130272},{"$f":"T29-U29","v":11450083902.401171},null,"Equivalent en litres de 1 toe de biodiesel",{"$f":"+Hypothèses!C64/Hypothèses!C69","v":1316.2790697674418},"litre",null,"Coût annuel carburant",{"$f":"AH36*AH27*1000","v":21250147290.697952},{"$f":"AH43*AH26*1000","v":5839841895.3014212},{"$f":"AC29-AD29","v":15410305395.39653},null,"Equivalent en litres de 1 toe de biodiesel",{"$f":"+Hypothèses!C64/Hypothèses!C69","v":1316.2790697674418},"litre"]
["Coûts totaux annuel",{"$f":"SUM(B27:B29)","v":4848789713.9096375},{"$f":"SUM(C27:C29)","v":1332516190.3791239},{"$f":"B30-C30","v":3516273523.5305138},null,"Facteur d´émission diesel",{"$f":"+Hypothèses!C37","v":74.066666666666663},"kgCO2/GJ",null,"Coûts totaux annuel",{"$f":"SUM(K27:K29)","v":12977548831.115332},{"$f":"SUM(L27:L29)","v":3566414497.062911},{"$f":"K30-L30","v":9411134334.0524216},null,"Facteur d´émission diesel",{"$f":"+Hypothèses!C37","v":74.066666666666663},"kgCO2/GJ",null,"Coûts totaux annuel",{"$f":"SUM(T27:T29)","v":15789172451.414198},{"$f":"SUM(U27:U29)","v":4339088549.0130272},{"$f":"T30-U30","v":11450083902.401171},null,"Facteur d´émission diesel",{"$f":"+Hypothèses!C37","v":74.066666666666663},"kgCO2/GJ",null,"Coûts totaux annuel",{"$f":"SUM(AC27:AC29)","v":21250147290.697952},{"$f":"SUM(AD27:AD29)","v":5839841895.3014212},{"$f":"AC30-AD30","v":15410305395.39653},null,"Facteur d´émission diesel",{"$f":"+Hypothèses!C37","v":74.066666666666663},"kgCO2/GJ"]
[null,null,null,null,null,"Option réduction: 10% Biodiesel",1,"kW",null,null,null,null,null,null,"Option réduction: 20% Biodiesel",1,"kW",null,null,null,null,null,null,"Option réduction: 20% Biodiesel",1,"kW",null,null,null,null,null,null,"Option réduction: 20% Biodiesel",1,"kW"]
["Émissions annuelles (tonnes)","Tonnes","Tonnes","Réduction",null,"Investissement",0,"US$/litre",null,"Émissions annuelles (tonnes)","Tonnes","Tonnes","Réduction",null,"Investissement",0,"US$/litre",null,"Émissions annuelles (tonnes)","Tonnes","Tonnes","Réduction",null,"Investissement",0,"US$/litre",null,"Émissions annuelles (tonnes)","Tonnes","Tonnes","Réduction",null,"Investissement",0,"US$/litre"]
["Éq.-CO2 d'émission de carburant",null,{"$f":"G42*G30/1000","v":9519390.517880911},{"$f":"C33-B33","v":9519390.517880911},null,"M&O",0,"US$/litre",null,"Éq.-CO2 d'émission de carburant",null,{"$f":"P42*P30/1000","v":25478183.7483823},{"$f":"L33-K33","v":25478183.7483823},null,"M&O",0,"US$/litre",null,"Éq.-CO2 d'émission de carburant",null,{"$f":"Y42*Y30/1000","v":30998106.205349836},{"$f":"U33-T33","v":30998106.205349836},null,"M&O",0,"US$/litre",null,"Éq.-CO2 d'émission de carburant",null,{"$f":"AH42*AH30/1000","v":41719369.689789079},{"$f":"AD33-AC33","v":41719369.689789079},null,"M&O",0,"US$/litre"]
["Autres",null,null,null,null,"Quantité de diesel remplacé",0.1,null,null,"Autres",null,null,null,null,"Quantité de diesel remplacé",0.2,null,null,"Autres",null,null,null,null,"Quantité de diesel remplacé",0.2,null,null,"Autres",null,null,null,null,"Quantité de diesel remplacé",0.2]
["Émission total CO2-éq. ",{"$f":"B33+B34","v":0},{"$f":"C33+C34","v":9519390.517880911},{"$f":"C35-B35","v":9519390.517880911},null,"Quantité de biodiesel utilisé",{"$f":"+G41","v":3069.757916638905},"ktoe",null,"Émission total CO2-éq. ",{"$f":"K33+K34","v":0},{"$f":"L33+L34","v":25478183.7483823},{"$f":"L35-K35","v":25478183.7483823},null,"Quantité de biodiesel utilisé",{"$f":"+P41","v":8216.0571221725459},"ktoe",null,"Émission total CO2-éq. ",{"$f":"T33+T34","v":0},{"$f":"U33+U34","v":30998106.205349836},{"$f":"U35-T35","v":30998106.205349836},null,"Quantité de biodiesel utilisé",{"$f":"+Y41","v":9996.0897439754208},"ktoe",null,"Émission total CO2-éq. ",{"$f":"AC33+AC34","v":0},{"$f":"AD33+AD34","v":41719369.689789079},{"$f":"AD35-AC35","v":41719369.689789079},null,"Quantité de biodiesel utilisé",{"$f":"+AH41","v":13453.420693463073},"ktoe"]
[null,null,null,null,null,"Quantité de biodiesel utilisé",{"$f":"G35*G29","v":4040658.0949246981},"m3",null,null,null,null,null,null,"Quantité de biodiesel utilisé",{"$f":"P35*P29","v":10814624.025929444},"m3",null,null,null,null,null,null,"Quantité de biodiesel utilisé",{"$f":"Y35*Y29","v":13157643.709511831},"m3",null,null,null,null,null,null,"Quantité de biodiesel utilisé",{"$f":"AH35*AH29","v":17708456.075581625},"m3"]
["US$/ton CO2-eq.",null,null,{"$f":"IF(D35<>0,D30/D35,0)","v":369.38011072512057},null,"Option référence: 100% diesel ",null,null,null,"US$/ton CO2-eq.",null,null,{"$f":"IF(M35<>0,M30/M35,0)","v":369.38011072512057},null,"Option référence: 100% diesel ",null,null,null,"US$/ton CO2-eq.",null,null,{"$f":"IF(V35<>0,V30/V35,0)","v":369.38011072512063},null,"Option référence: 100% diesel ",null,null,null,"US$/ton CO2-eq.",null,null,{"$f":"IF(AE35<>0,AE30/AE35,0)","v":369.38011072512057},null,"Option référence: 100% diesel "]
[null,null,null,null,null,"Diesel total utilisé pour transport en 2025",{"$f":"+'Bilan 2025'!F49+'Bilan 2025'!F50+'Bilan 2025'!F52","v":30697.579166389049},"ktoe",null,null,null,null,null,null,"Diesel total utilisé pour transport en 2030",{"$f":"+'Bilan 2030'!F49+'Bilan 2030'!F50+'Bilan 2030'!F52","v":41080.285610862731},"ktoe",null,null,null,null,null,null,"Diesel total utilisé pour transport en 2035",{"$f":"+'Bilan 2035'!F49+'Bilan 2035'!F50+'Bilan 2035'!F52","v":49980.448719877102},"ktoe",null,null,null,null,null,null,"Diesel total utilisé pour transport en 2050",{"$f":"+'Bilan 2050'!F49+'Bilan 2050'!F50+'Bilan 2050'!F52","v":67267.103467315363},"ktoe"]
[null,null,null,null,null,"Diesel remplacé dans transport",{"$f":"+principale25!L104+principale25!L106+principale25!L109+principale25!L110+principale25!L111+principale25!L107+principale25!L116","v":0},"ktoe",null,null,null,null,null,null,"Diesel remplacé dans transport",{"$f":"+principale30!L104+principale30!L106+principale30!L109+principale30!L110+principale30!L111+principale30!L107+principale30!L116","v":0},"ktoe",null,null,null,null,null,null,"Diesel remplacé dans transport",{"$f":"+principale35!L104+principale35!L106+principale35!L109+principale35!L110+principale35!L111+principale35!L107+principale35!L116","v":0},"ktoe",null,null,null,null,null,null,"Diesel remplacé dans transport",{"$f":"+principale50!L104+principale50!L106+principale50!L109+principale50!L110+principale50!L111+principale50!L107+principale50!L116","v":0},"ktoe"]
[null,null,null,null,null,"Diesel encore en utilisation",{"$f":"G38-G39","v":30697.579166389049},"ktoe",null,null,null,null,null,null,"Diesel encore en utilisation",{"$f":"P38-P39","v":41080.285610862731},"ktoe",null,null,null,null,null,null,"Diesel encore en utilisation",{"$f":"Y38-Y39","v":49980.448719877102},"ktoe",null,null,null,null,null,null,"Diesel encore en utilisation",{"$f":"AH38-AH39","v":67267.103467315363},"ktoe"]
[null,null,null,null,null,"Quantité de diesel remplacé",{"$f":"G40*G34","v":3069.757916638905},"ktoe",null,null,null,null,null,null,"Quantité de diesel remplacé",{"$f":"P40*P34","v":8216.0571221725459},"ktoe",null,null,null,null,null,null,"Quantité de diesel remplacé",{"$f":"Y40*Y34","v":9996.0897439754208},"ktoe",null,null,null,null,null,null,"Quantité de diesel remplacé",{"$f":"AH40*AH34","v":13453.420693463073},"ktoe"]
[null,null,null,null,null,"Quantité de diesel remplacé",{"$f":"G41*G25*1000","v":128524624.45383768},"GJ",null,null,null,null,null,null,"Quantité de diesel remplacé",{"$f":"P41*P25*1000","v":343989879.59112018},"GJ",null,null,null,null,null,null,"Quantité de diesel remplacé",{"$f":"Y41*Y25*1000","v":418516285.40076292},"GJ",null,null,null,null,null,null,"Quantité de diesel remplacé",{"$f":"AH41*AH25*1000","v":563267817.59391201},"GJ"]
[null,null,null,null,null,"Quantité de diesel remplacé",{"$f":"G41*G28","v":3531167.9045046787},"m3",null,null,null,null,null,null,"Quantité de diesel remplacé",{"$f":"P41*P28","v":9450998.4172167145},"m3",null,null,null,null,null,null,"Quantité de diesel remplacé",{"$f":"Y41*Y28","v":11498584.654884523},"m3",null,null,null,null,null,null,"Quantité de diesel remplacé",{"$f":"AH41*AH28","v":15475581.022548767},"m3"]
[]
[]
[]
[]
[]
[]
["Mélange de bioéthanol à 15% dans toute l'essence - 2025",null,null,null,null,null,null,null,null,"Mélange de bioéthanol à 15% dans toute l'essence - 2030",null,null,null,null,null,null,null,null,"Mélange de bioéthanol à 15% dans toute l'essence - 2035",null,null,null,null,null,null,null,null,"Mélange de bioéthanol à 15% dans toute l'essence - 2050"]
["Coûts en","Option de","Option de ","Augmentation",null,"Entrées générales:",null,null,null,"Coûts en","Option de","Option de ","Augmentation",null,"Entrées générales:",null,null,null,"Coûts en","Option de","Option de ","Augmentation",null,"Entrées générales:",null,null,null,"Coûts en","Option de","Option de ","Augmentation",null,"Entrées générales:"]
["US$","Réduction","Référence","(Réd.-Réf.)",null,"Taux d'actualisation",{"$f":"+DiscountRate","v":7.0000000000000007E-2},null,null,"US$","Réduction","Référence","(Réd.-Réf.)",null,"Taux d'actualisation",{"$f":"+DiscountRate","v":7.0000000000000007E-2},null,null,"US$","Réduction","Référence","(Réd.-Réf.)",null,"Taux d'actualisation",{"$f":"+DiscountRate","v":7.0000000000000007E-2},null,null,"US$","Réduction","Référence","(Réd.-Réf.)",null,"Taux d'actualisation",{"$f":"+DiscountRate","v":7.0000000000000007E-2}]
["Investissement total",{"$f":"G60*G59","v":0},null,null,null,"1 toe =",41.868000000000002,"GJ",null,"Investissement total",{"$f":"P60*P59","v":0},null,null,null,"1 toe =",41.868000000000002,"GJ",null,"Investissement total",{"$f":"Y60*Y59","v":0},null,null,null,"1 toe =",41.868000000000002,"GJ",null,"Investissement total",{"$f":"AH60*AH59","v":0},null,null,null,"1 toe =",41.868000000000002,"GJ"]
["Durée de vie du projet",20,null,null,null,"Prix de l´essence",{"$f":"+Hypothèses!C19","v":0.44025157232704398},"US$/litre",null,"Durée de vie du projet",20,null,null,null,"Prix de l´essence",{"$f":"+Hypothèses!C19","v":0.44025157232704398},"US$/litre",null,"Durée de vie du projet",20,null,null,null,"Prix de l´essence",{"$f":"+Hypothèses!C19","v":0.44025157232704398},"US$/litre",null,"Durée de vie du projet",20,null,null,null,"Prix de l´essence",{"$f":"+Hypothèses!C19","v":0.44025157232704398},"US$/litre"]
["Investissements nivelés",{"$f":"IF(B54=0,0,PMT(G52,B54,-B53))","v":0},null,{"$f":"B55-C55","v":0},null,"Prix du bioéthanol",{"$f":"+Hypothèses!D19","v":0.83},"US$/litre",null,"Investissements nivelés",{"$f":"IF(K54=0,0,PMT(+P52,K54,-K53))","v":0},null,{"$f":"K55-L55","v":0},null,"Prix du bioéthanol",{"$f":"+Hypothèses!D19","v":0.83},"US$/litre",null,"Investissements nivelés",{"$f":"IF(T54=0,0,PMT(+Y52,T54,-T53))","v":0},null,{"$f":"T55-U55","v":0},null,"Prix du bioéthanol",{"$f":"+Hypothèses!D19","v":0.83},"US$/litre",null,"Investissements nivelés",{"$f":"IF(AC54=0,0,PMT(+AH52,AC54,-AC53))","v":0},null,{"$f":"AC55-AD55","v":0},null,"Prix du bioéthanol",{"$f":"+Hypothèses!D19","v":0.83},"US$/litre"]
["O&M annuelle ",{"$f":"B53*G58","v":0},null,{"$f":"B56-C56","v":0},null,"Equivalent en litres de 1 toe de essence",{"$f":"+Hypothèses!C66/Hypothèses!C71","v":1246.0714285714287},"litre",null,"O&M annuelle ",{"$f":"K53*P58","v":0},null,{"$f":"K56-L56","v":0},null,"Equivalent en litres de 1 toe de essence",{"$f":"+Hypothèses!C66/Hypothèses!C71","v":1246.0714285714287},"litre",null,"O&M annuelle ",{"$f":"T53*Y58","v":0},null,{"$f":"T56-U56","v":0},null,"Equivalent en litres de 1 toe de essence",{"$f":"+Hypothèses!C66/Hypothèses!C71","v":1246.0714285714287},"litre",null,"O&M annuelle ",{"$f":"AC53*AH58","v":0},null,{"$f":"AC56-AD56","v":0},null,"Equivalent en litres de 1 toe de essence",{"$f":"+Hypothèses!C66/Hypothèses!C71","v":1246.0714285714287},"litre"]
["Coût annuel carburant",{"$f":"G64*G55*1000","v":1000920915.2451439},{"$f":"G71*G54*1000","v":305560974.95537448},{"$f":"B57-C57","v":695359940.28976941},null,"Equivalent en litres de 1 toe de bioéthanol",{"$f":"Hypothèses!C63/Hypothèses!C68","v":2068.75},"litre",null,"Coût annuel carburant",{"$f":"P64*P55*1000","v":1339457969.935854},{"$f":"P71*P54*1000","v":399880520.19786191},{"$f":"K57-L57","v":939577449.73799205},null,"Equivalent en litres de 1 toe de bioéthanol",{"$f":"Hypothèses!C63/Hypothèses!C68","v":2068.75},"litre",null,"Coût annuel carburant",{"$f":"Y64*Y55*1000","v":1629655426.765269},{"$f":"Y71*Y54*1000","v":492463510.58271939},{"$f":"T57-U57","v":1137191916.1825497},null,"Equivalent en litres de 1 toe de bioéthanol",{"$f":"Hypothèses!C63/Hypothèses!C68","v":2068.75},"litre",null,"Coût annuel carburant",{"$f":"AH64*AH55*1000","v":2193301641.2614722},{"$f":"AH71*AH54*1000","v":646285481.23712492},{"$f":"AC57-AD57","v":1547016160.0243473},null,"Equivalent en litres de 1 toe de bioéthanol",{"$f":"Hypothèses!C63/Hypothèses!C68","v":2068.75},"litre"]
["Coûts totaux annuel",{"$f":"SUM(B55:B57)","v":1000920915.2451439},{"$f":"SUM(C55:C57)","v":305560974.95537448},{"$f":"B58-C58","v":695359940.28976941},null,"Facteur d´émission essence",{"$f":"+Hypothèses!C38","v":69.3},"kgCO2/GJ",null,"Coûts totaux annuel",{"$f":"SUM(K55:K57)","v":1339457969.935854},{"$f":"SUM(L55:L57)","v":399880520.19786191},{"$f":"K58-L58","v":939577449.73799205},null,"Facteur d´émission essence",{"$f":"+Hypothèses!C38","v":69.3},"kgCO2/GJ",null,"Coûts totaux annuel",{"$f":"SUM(T55:T57)","v":1629655426.765269},{"$f":"SUM(U55:U57)","v":492463510.58271939},{"$f":"T58-U58","v":1137191916.1825497},null,"Facteur d´émission essence",{"$f":"+Hypothèses!C38","v":69.3},"kgCO2/GJ",null,"Coûts totaux annuel",{"$f":"SUM(AC55:AC57)","v":2193301641.2614722},{"$f":"SUM(AD55:AD57)","v":646285481.23712492},{"$f":"AC58-AD58","v":1547016160.0243473},null,"Facteur d´émission essence",{"$f":"+Hypothèses!C38","v":69.3},"kgCO2/GJ"]
[null,null,null,null,null,"Option réduction: 15 % bioethanol dans voitures et bateaux",1,"kW",null,null,null,null,null,null,"Option réduction: 15 % bioethanol dans voitures et bateaux",1,"kW",null,null,null,null,null,null,"Option réduction: 15 % bioethanol dans voitures et bateaux",1,"kW",null,null,null,null,null,null,"Option réduction: 15 % bioethanol dans voitures et bateaux",1,"kW"]
["Émissions annuelles (tonnes)","Tonnes","Tonnes","Réduction",null,"Investissement",0,"US$/litre",null,"Émissions annuelles (tonnes)","Tonnes","Tonnes","Réduction",null,"Investissement",0,"US$/litre",null,"Émissions annuelles (tonnes)","Tonnes","Tonnes","Réduction",null,"Investissement",0,"US$/litre",null,"Émissions annuelles (tonnes)","Tonnes","Tonnes","Réduction",null,"Investissement",0,"US$/litre"]
["Éq.-CO2 d'émission de carburant",null,{"$f":"G70*G58/1000","v":1616104.6630755768},{"$f":"C61-B61","v":1616104.6630755768},null,"M&O",0,"US$/litre",null,"Éq.-CO2 d'émission de carburant",null,{"$f":"P70*P58/1000","v":2114958.4741940065},{"$f":"L61-K61","v":2114958.4741940065},null,"M&O",0,"US$/litre",null,"Éq.-CO2 d'émission de carburant",null,{"$f":"Y70*Y58/1000","v":2604627.6883477494},{"$f":"U61-T61","v":2604627.6883477494},null,"M&O",0,"US$/litre",null,"Éq.-CO2 d'émission de carburant",null,{"$f":"AH70*AH58/1000","v":3418188.3994116033},{"$f":"AD61-AC61","v":3418188.3994116033},null,"M&O",0,"US$/litre"]
["Autres",null,null,null,null,"Quantité de essence remplacé",0.15,null,null,"Autres",null,null,null,null,"Quantité de essence remplacé",0.15,null,null,"Autres",null,null,null,null,"Quantité de essence remplacé",0.15,null,null,"Autres",null,null,null,null,"Quantité de essence remplacé",0.15]
["Émission total CO2-éq. ",null,null,null,null,"Quantité de bioéthanol utilisé",{"$f":"G66*G62","v":582.92631470615891},"ktoe",null,"Émission total CO2-éq. ",null,null,null,null,"Quantité de bioéthanol utilisé",{"$f":"P66*P62","v":780.08690419588925},"ktoe",null,"Émission total CO2-éq. ",null,null,null,null,"Quantité de bioéthanol utilisé",{"$f":"Y66*Y62","v":949.09499611415958},"ktoe",null,"Émission total CO2-éq. ",null,null,null,null,"Quantité de bioéthanol utilisé",{"$f":"AH66*AH62","v":1277.35690533191},"ktoe"]
["Total CO2-eq. emission ",{"$f":"B61+B63","v":0},{"$f":"C61+C63","v":1616104.6630755768},{"$f":"C64-B64","v":1616104.6630755768},null,"Quantité de bioéthanol utilisé",{"$f":"G63*G57","v":1205928.8135483663},"m3",null,"Total CO2-eq. emission ",{"$f":"K61+K63","v":0},{"$f":"L61+L63","v":2114958.4741940065},{"$f":"L64-K64","v":2114958.4741940065},null,"Quantité de bioéthanol utilisé",{"$f":"P63*P57","v":1613804.7830552459},"m3",null,"Total CO2-eq. emission ",{"$f":"T61+T63","v":0},{"$f":"U61+U63","v":2604627.6883477494},{"$f":"U64-T64","v":2604627.6883477494},null,"Quantité de bioéthanol utilisé",{"$f":"Y63*Y57","v":1963440.2732111677},"m3",null,"Total CO2-eq. emission ",{"$f":"AC61+AC63","v":0},{"$f":"AD61+AD63","v":3418188.3994116033},{"$f":"AD64-AC64","v":3418188.3994116033},null,"Quantité de bioéthanol utilisé",{"$f":"AH63*AH57","v":2642532.0979053886},"m3"]
[null,null,null,null,null,"Option référence: 100 % essence dans voitures et bateaux",null,null,null,null,null,null,null,null,"Option référence: 100 % essence dans voitures et bateaux",null,null,null,null,null,null,null,null,"Option référence: 100 % essence dans voitures et bateaux",null,null,null,null,null,null,null,null,"Option référence: 100 % essence dans voitures et bateaux"]
["US$/ton CO2-eq.",null,null,{"$f":"IF(D64<>0,D58/D64,0)","v":430.26912561866118},null,"Essence total utilisé pour transport en 2025",{"$f":"+'Bilan 2025'!D49","v":3886.1754313743932},"ktoe",null,"US$/ton CO2-eq.",null,null,{"$f":"IF(M64<>0,M58/M64,0)","v":444.25337953552838},null,"Essence total utilisé pour transport en 2030",{"$f":"+'Bilan 2030'!D49","v":5200.5793613059286},"ktoe",null,"US$/ton CO2-eq.",null,null,{"$f":"IF(V64<>0,V58/V64,0)","v":436.60440272134616},null,"Essence total utilisé pour transport en 2035",{"$f":"+'Bilan 2035'!D49","v":6327.2999740943978},"ktoe",null,"US$/ton CO2-eq.",null,null,{"$f":"IF(AE64<>0,AE58/AE64,0)","v":452.58364351439667},null,"Essence total utilisé pour transport en 2050",{"$f":"+'Bilan 2050'!D49","v":8515.7127022127333},"ktoe"]
[null,null,null,null,null,"Essence remplacé dans transport",{"$f":"+principale25!M124","v":172.85203266190263},"ktoe",null,null,null,null,null,null,"Essence remplacé dans transport",{"$f":"+principale30!M124","v":341.03964895587376},"ktoe",null,null,null,null,null,null,"Essence remplacé dans transport",{"$f":"+principale35!M124","v":342.64739492922018},"ktoe",null,null,null,null,null,null,"Essence remplacé dans transport",{"$f":"+principale50!M124","v":661.74182102783959},"ktoe"]
[null,null,null,null,null,"Essence encore en utilisation",{"$f":"G66-G67","v":3713.3233987124904},"ktoe",null,null,null,null,null,null,"Essence encore en utilisation",{"$f":"P66-P67","v":4859.5397123500552},"ktoe",null,null,null,null,null,null,"Essence encore en utilisation",{"$f":"Y66-Y67","v":5984.6525791651775},"ktoe",null,null,null,null,null,null,"Essence encore en utilisation",{"$f":"AH66-AH67","v":7853.9708811848941},"ktoe"]
[null,null,null,null,null,"Quantité de Essence remplacé",{"$f":"+G68*G62","v":556.99850980687359},"ktoe",null,null,null,null,null,null,"Quantité de Essence remplacé",{"$f":"+P68*P62","v":728.9309568525083},"ktoe",null,null,null,null,null,null,"Quantité de Essence remplacé",{"$f":"+Y68*Y62","v":897.6978868747766},"ktoe",null,null,null,null,null,null,"Quantité de Essence remplacé",{"$f":"+AH68*AH62","v":1178.0956321777342},"ktoe"]
[null,null,null,null,null,"Quantité de Essence remplacé",{"$f":"G69*G53*1000","v":23320413.608594183},"GJ",null,null,null,null,null,null,"Quantité de Essence remplacé",{"$f":"P69*P53*1000","v":30518881.30150082},"GJ",null,null,null,null,null,null,"Quantité de Essence remplacé",{"$f":"Y69*Y53*1000","v":37584815.127673149},"GJ",null,null,null,null,null,null,"Quantité de Essence remplacé",{"$f":"AH69*AH53*1000","v":49324507.92801737},"GJ"]
[null,null,null,null,null,"Quantité de Essence remplacé",{"$f":"G69*G56","v":694059.92882720788},"m3",null,null,null,null,null,null,"Quantité de Essence remplacé",{"$f":"P69*P56","v":908300.03873514349},"m3",null,null,null,null,null,null,"Quantité de Essence remplacé",{"$f":"Y69*Y56","v":1118595.6883236056},"m3",null,null,null,null,null,null,"Quantité de Essence remplacé",{"$f":"AH69*AH56","v":1467991.3073814695},"m3"]
[]
[]
[]
[]
[]
[]
[]
[]
[]
["Voitures à essence plus efficaces (1000 voitures)"]
["Coûts en","Option de","Option de ","Augmentation",null,"Entrées générales:"]
["US$","Réduction","Référence","(Réd.-Réf.)",null,"Taux d'actualisation",{"$f":"+DiscountRate","v":7.0000000000000007E-2}]
["Investissement total",null,null,null,null,"Prix de l´essence",{"$f":"+Hypothèses!C19","v":0.44025157232704398},"US$/litre"]
["Durée de vie du projet",null,null,null,null,"1 toe =",41.868000000000002,"GJ"]
["Investissements nivelés",{"$f":"IF(B85=0,0,PMT($G83,B85,-B84))","v":0},{"$f":"+G83","v":7.0000000000000007E-2},{"$f":"B86-C86","v":-7.0000000000000007E-2},null,"Equivalent en litres de 1 toe de essence",{"$f":"Hypothèses!C66/Hypothèses!C71","v":1246.0714285714287},"litre"]
["Réduction en subsides",{"$f":"G87*G93*1000000","v":40000.000000000007},{"$f":"G87*G98*1000000","v":48780.487804878045},{"$f":"B87-C87","v":-8780.4878048780374},null,"Subside de l´Etat",0.05,"US$/litre"]
["O&M annuelle ",0,0,{"$f":"B88-C88","v":0},null,"Facteur d´émission essence",{"$f":"+Hypothèses!C38","v":69.3},"kgCO2/GJ"]
["Coût annuel carburant",{"$f":"G93*G84*1000000","v":352201.25786163518},{"$f":"G98*G84*1000000","v":429513.72909955506},{"$f":"B89-C89","v":-77312.471237919875},null,"Option de réduction: Voitures à essence plus efficaces"]
["Coûts totaux annuel",{"$f":"SUM(B86:B89)","v":392201.25786163518},{"$f":"SUM(C86:C89)","v":478294.2869044331},{"$f":"B90-C90","v":-86093.02904279792},null,"Activité",1000,"Cars"]
[null,null,null,null,null,"Consommation",15,"km/litre"]
["Émissions annuelles (tonnes)","Tonnes","Tonnes","Réduction",null,"Distance annuelle",12000,"km"]
["Éq.-CO2 d'émission de carburant",{"$f":"+G95","v":1862.7839999999999},{"$f":"+G99","v":2271.6878048780482},{"$f":"C93-B93","v":408.90380487804828},null,"Consommation totale essence",{"$f":"G90*G92/G91/1000000","v":0.8},"Million litres"]
["Autres",null,null,null,null,"Réduction utilisation essence",{"$f":"(G98-G93)/G86*1000","v":0.14093073002957013},"ktoe"]
["Émission total CO2-éq. ",{"$f":"B93+B94","v":1862.7839999999999},{"$f":"C93+C94","v":2271.6878048780482},{"$f":"C95-B95","v":408.90380487804828},null,"Emissions",{"$f":"G93/G86*1000*G85*G88","v":1862.7839999999999},"tCO2"]
[null,null,null,null,null,"Option de référence: Voiture normale"]
["US$/ton CO2-eq.",null,null,{"$f":"IF(D95<>0,D90/D95,0)","v":-210.54592306489874},null,"Consommation",12.3,"km/l"]
[null,null,null,null,null,"Consommation totale diesel",{"$f":"G90*G92/G97/1000000","v":0.97560975609756084},"Million litres"]
[null,null,null,null,null,"Emissions",{"$f":"G98/G86*1000*G85*G88","v":2271.6878048780482},"tCO2"]
[]
[]
[]
[]
[]
[]
[]
["Voitures diesel plus efficaces (1000 voitures)"]
["Coûts en","Option de","Option de ","Augmentation",null,"Entrées générales:"]
["US$","Réduction","Référence","(Réd.-Réf.)",null,"Taux d'actualisation",{"$f":"+DiscountRate","v":7.0000000000000007E-2}]
["Investissement total",null,null,null,null,"Prix de diesel",{"$f":"+Hypothèses!F19","v":0.37735849056603771},"US$/litre"]
["Durée de vie du projet",null,null,null,null,"1 toe =",41.868000000000002,"GJ"]
["Investissements nivelés",{"$f":"IF(B111=0,0,PMT($G109,B111,-B110))","v":0},{"$f":"+G109","v":7.0000000000000007E-2},{"$f":"B112-C112","v":-7.0000000000000007E-2},null,"Equivalent en litres de 1 toe de diesel",{"$f":"Hypothèses!C65/Hypothèses!C70","v":1150.3082654709704},"litre"]
["Réduction en subsides",{"$f":"G113*G119*1000000","v":30000},{"$f":"G113*G124*1000000","v":33333.333333333336},{"$f":"B113-C113","v":-3333.3333333333358},null,"Subside de l´Etat",0.05,"US$/litre"]
["O&M annuelle ",0,0,{"$f":"B114-C114","v":0},null,"Facteur d´émission diesel",{"$f":"+Hypothèses!C37","v":74.066666666666663},"kgCO2/GJ"]
["Coût annuel carburant",{"$f":"G119*G110*1000000","v":226415.09433962262},{"$f":"G124*G110*1000000","v":251572.32704402509},{"$f":"B115-C115","v":-25157.232704402471},null,"Option de réduction: Voitures diesel plus efficaces"]
["Coûts totaux annuel",{"$f":"SUM(B112:B115)","v":256415.09433962262},{"$f":"SUM(C112:C115)","v":284905.73037735844},{"$f":"B116-C116","v":-28490.636037735821},null,"Activité",1000,"Cars"]
[null,null,null,null,null,"Consommation",20,"km/litre"]
["Émissions annuelles (tonnes)","Tonnes","Tonnes","Réduction",null,"Distance annuelle",12000,"km"]
["Éq.-CO2 d'émission de carburant",{"$f":"+G121","v":1617.4915679999997},{"$f":"+G125","v":1797.212853333333},{"$f":"C119-B119","v":179.7212853333333},null,"Consommation totale de diesel",{"$f":"G116*G118/G117/1000000","v":0.6},"Million litres"]
["Autres",null,null,null,null,"Réduction utilisation diesel",{"$f":"(G124-G119)/G112*1000","v":5.795547912486862E-2},"ktoe"]
["Émission total CO2-éq. ",{"$f":"B119+B120","v":1617.4915679999997},{"$f":"C119+C120","v":1797.212853333333},{"$f":"C121-B121","v":179.7212853333333},null,"Emissions",{"$f":"G119/G112*1000*G111*G114","v":1617.4915679999997},"tCO2"]
[null,null,null,null,null,"Option de référence: Voiture normale"]
["US$/ton CO2-eq.",null,null,{"$f":"IF(D121<>0,D116/D121,0)","v":-158.52677653007859},null,"Consommation",18,"km/l"]
[null,null,null,null,null,"Consommation totale d´essence",{"$f":"G116*G118/G123/1000000","v":0.66666666666666663},"Million litres"]
[null,null,null,null,null,"Emissions",{"$f":"G124/G112*1000*G111*G114","v":1797.212853333333},"tCO2"]
[]
[]
[]
[]
[]
[]
["Voitures électriques (1000 voitures) - 2025",null,null,null,null,null,null,null,null,"Voitures électriques (1000 voitures) - 2030",null,null,null,null,null,null,null,null,"Voitures électriques (1000 voitures) - 2035",null,null,null,null,null,null,null,null,"Voitures électriques (1000 voitures) - 2050"]
["Coûts en","Option de","Option de ","Augmentation",null,"Entrées générales:",null,null,null,"Coûts en","Option de","Option de ","Augmentation",null,"Entrées générales:",null,null,null,"Coûts en","Option de","Option de ","Augmentation",null,"Entrées générales:",null,null,null,"Coûts en","Option de","Option de ","Augmentation",null,"Entrées générales:"]
["US$","Réduction","Référence","(Réd.-Réf.)",null,"Taux d'actualisation",{"$f":"+DiscountRate","v":7.0000000000000007E-2},null,null,"US$","Réduction","Référence","(Réd.-Réf.)",null,"Taux d'actualisation",{"$f":"+DiscountRate","v":7.0000000000000007E-2},null,null,"US$","Réduction","Référence","(Réd.-Réf.)",null,"Taux d'actualisation",{"$f":"+DiscountRate","v":7.0000000000000007E-2},null,null,"US$","Réduction","Référence","(Réd.-Réf.)",null,"Taux d'actualisation",{"$f":"+DiscountRate","v":7.0000000000000007E-2}]
["Investissement total",{"$f":"+G136*(G138+G139+G140*G141)","v":23300000},{"$f":"G136*G151","v":20000000},{"$f":"B135-C135","v":3300000},null,"Distance annuelle",12000,"km",null,"Investissement total",{"$f":"+P136*(P138+P139+P140*P141)","v":20900000},{"$f":"P136*P151","v":20000000},{"$f":"K135-L135","v":900000},null,"Distance annuelle",12000,"km",null,"Investissement total",{"$f":"+Y136*(Y138+Y139+Y140*Y141)","v":20700000},{"$f":"Y136*Y151","v":20000000},{"$f":"T135-U135","v":700000},null,"Distance annuelle",12000,"km",null,"Investissement total",{"$f":"+AH136*(AH138+AH139+AH140*AH141)","v":18000000},{"$f":"AH136*AH151","v":20000000},{"$f":"AC135-AD135","v":-2000000},null,"Distance annuelle",12000,"km"]
["Durée de vie du projet",15,{"$f":"B136","v":15},null,null,"Activité",1000,"voitures",null,"Durée de vie du projet",15,{"$f":"K136","v":15},null,null,"Activité",1000,"voitures",null,"Durée de vie du projet",15,{"$f":"T136","v":15},null,null,"Activité",1000,"voitures",null,"Durée de vie du projet",15,{"$f":"AC136","v":15},null,null,"Activité",1000,"voitures"]
["Investissements nivelés",{"$f":"IF(B136=0,0,PMT($G134,B136,-B135))","v":2558214.7555334526},{"$f":"IF(C136=0,0,PMT($G$134,C136,-C135))","v":2195892.494020131},{"$f":"B137-C137","v":362322.26151332166},null,"Option de réduction: voitures électriques",null,null,null,"Investissements nivelés",{"$f":"IF(K136=0,0,PMT($P134,K136,-K135))","v":2294707.6562510366},{"$f":"IF(L136=0,0,PMT($P$134,L136,-L135))","v":2195892.494020131},{"$f":"K137-L137","v":98815.162230905611},null,"Option de réduction: voitures électriques",null,null,null,"Investissements nivelés",{"$f":"IF(T136=0,0,PMT($P134,T136,-T135))","v":2272748.7313108356},{"$f":"IF(U136=0,0,PMT($P$134,U136,-U135))","v":2195892.494020131},{"$f":"T137-U137","v":76856.237290704623},null,"Option de réduction: voitures électriques",null,null,null,"Investissements nivelés",{"$f":"IF(AC136=0,0,PMT($AH134,AC136,-AC135))","v":1976303.2446181178},{"$f":"IF(AD136=0,0,PMT($AH$134,AD136,-AD135))","v":2195892.494020131},{"$f":"AC137-AD137","v":-219589.24940201314},null,"Option de réduction: voitures électriques"]
["O&M annuelle ",{"$f":"B135*G142","v":233000},{"$f":"G152*C135","v":200000},{"$f":"B138-C138","v":33000},null,"Investissement dans véhicule",17500,"US$",null,"O&M annuelle ",{"$f":"K135*P142","v":104500},{"$f":"P152*L135","v":200000},{"$f":"K138-L138","v":-95500},null,"Investissement dans véhicule",17500,"US$",null,"O&M annuelle ",{"$f":"T135*Y142","v":103500},{"$f":"Y152*U135","v":200000},{"$f":"T138-U138","v":-96500},null,"Investissement dans véhicule",17500,"US$",null,"O&M annuelle ",{"$f":"AC135*AH142","v":90000},{"$f":"AH152*AD135","v":200000},{"$f":"AC138-AD138","v":-110000},null,"Investissement dans véhicule",15000,"US$"]
["Coût annuel carburant",{"$f":"G144*1000*G145","v":265200},{"$f":"G154*G153*1000000","v":301886.79245283018},{"$f":"B139-C139","v":-36686.792452830181},null,"Investissement dans station de charge",1000,"US$",null,"Coût annuel carburant",{"$f":"P144*1000*P145","v":265200},{"$f":"P154*P153*1000000","v":290275.76197387523},{"$f":"K139-L139","v":-25075.761973875226},null,"Investissement dans station de charge",1000,"US$",null,"Coût annuel carburant",{"$f":"Y144*1000*Y145","v":265200},{"$f":"Y154*Y153*1000000","v":290275.76197387523},{"$f":"T139-U139","v":-25075.761973875226},null,"Investissement dans station de charge",1000,"US$",null,"Coût annuel carburant",{"$f":"AH144*1000*AH145","v":218400},{"$f":"AH154*AH153*1000000","v":264150.94339622633},{"$f":"AC139-AD139","v":-45750.943396226328},null,"Investissement dans station de charge",1000,"US$"]
["Coûts totaux annuel",{"$f":"SUM(B137:B139)","v":3056414.7555334526},{"$f":"SUM(C137:C139)","v":2697779.2864729613},{"$f":"B140-C140","v":358635.4690604913},null,"Taille de batterie",40,"kWh",null,"Coûts totaux annuel",{"$f":"SUM(K137:K139)","v":2664407.6562510366},{"$f":"SUM(L137:L139)","v":2686168.2559940061},{"$f":"K140-L140","v":-21760.599742969498},null,"Taille de batterie",40,"kWh",null,"Coûts totaux annuel",{"$f":"SUM(T137:T139)","v":2641448.7313108356},{"$f":"SUM(U137:U139)","v":2686168.2559940061},{"$f":"T140-U140","v":-44719.524683170486},null,"Taille de batterie",40,"kWh",null,"Coûts totaux annuel",{"$f":"SUM(AC137:AC139)","v":2284703.2446181178},{"$f":"SUM(AD137:AD139)","v":2660043.4374163575},{"$f":"AC140-AD140","v":-375340.19279823964},null,"Taille de batterie",40,"kWh"]
[null,null,null,null,null,"Investissement dans batterie",120,"US$/kWh",null,null,null,null,null,null,"Investissement dans batterie",60,"US$/kWh",null,null,null,null,null,null,"Investissement dans batterie",55,"US$/kWh",null,null,null,null,null,null,"Investissement dans batterie",50,"US$/kWh"]
["Émissions annuelles (tonnes)","Tonnes","Tonnes","Réduction",null,"O&M annuelle",0.01,"de investissement",null,"Émissions annuelles (tonnes)","Tonnes","Tonnes","Réduction",null,"O&M annuelle",5.0000000000000001E-3,"de investissement",null,"Émissions annuelles (tonnes)","Tonnes","Tonnes","Réduction",null,"O&M annuelle",5.0000000000000001E-3,"de investissement",null,"Émissions annuelles (tonnes)","Tonnes","Tonnes","Réduction",null,"O&M annuelle",5.0000000000000001E-3,"de investissement"]
["Éq.-CO2 d'émission de carburant",{"$f":"+G147","v":594.13021056096431},{"$f":"+G157","v":1596.6719999999996},{"$f":"C143-B143","v":1002.5417894390353},null,"Consommation électrique",{"$f":"1/0.13/0.85","v":9.0497737556561084},"km/kWh",null,"Éq.-CO2 d'émission de carburant",{"$f":"+P147","v":546.24655648950443},{"$f":"+P157","v":1535.2615384615383},{"$f":"L143-K143","v":989.01498197203387},null,"Consommation électrique",{"$f":"1/0.13/0.85","v":9.0497737556561084},"km/kWh",null,"Éq.-CO2 d'émission de carburant",{"$f":"+Y147","v":541.58409316679979},{"$f":"+Y157","v":1535.2615384615383},{"$f":"U143-T143","v":993.6774452947385},null,"Consommation électrique",{"$f":"1/0.13/0.85","v":9.0497737556561084},"km/kWh",null,"Éq.-CO2 d'émission de carburant",{"$f":"+AH147","v":437.56235950963242},{"$f":"+AH157","v":1397.0879999999997},{"$f":"AD143-AC143","v":959.52564049036732},null,"Consommation électrique",{"$f":"1/0.13/0.7","v":10.989010989010989},"km/kWh"]
["Autres",null,null,null,null,"Consommation totale d´électricité",{"$f":"G136*G135/G143/1000","v":1326},"MWh",null,"Autres",null,null,null,null,"Consommation totale d´électricité",{"$f":"P136*P135/P143/1000","v":1326},"MWh",null,"Autres",null,null,null,null,"Consommation totale d´électricité",{"$f":"Y136*Y135/Y143/1000","v":1326},"MWh",null,"Autres",null,null,null,null,"Consommation totale d´électricité",{"$f":"AH136*AH135/AH143/1000","v":1092},"MWh"]
["Émission total CO2-éq. ",{"$f":"B143+B144","v":594.13021056096431},{"$f":"C143+C144","v":1596.6719999999996},{"$f":"C145-B145","v":1002.5417894390353},null,"Prix de électricité de référence",{"$f":"+Hypothèses!C25","v":0.2},"US$/kWh",null,"Émission total CO2-éq. ",{"$f":"K143+K144","v":546.24655648950443},{"$f":"L143+L144","v":1535.2615384615383},{"$f":"L145-K145","v":989.01498197203387},null,"Prix de électricité de référence",{"$f":"+Hypothèses!C25","v":0.2},"US$/kWh",null,"Émission total CO2-éq. ",{"$f":"T143+T144","v":541.58409316679979},{"$f":"U143+U144","v":1535.2615384615383},{"$f":"U145-T145","v":993.6774452947385},null,"Prix de électricité de référence",{"$f":"+Hypothèses!C25","v":0.2},"US$/kWh",null,"Émission total CO2-éq. ",{"$f":"AC143+AC144","v":437.56235950963242},{"$f":"AD143+AD144","v":1397.0879999999997},{"$f":"AD145-AC145","v":959.52564049036732},null,"Prix de électricité de référence",{"$f":"+Hypothèses!C25","v":0.2},"US$/kWh"]
[null,null,null,null,null,"Coefficient d'émission CO2-éq. ",{"$f":"+principale25!P131","v":0.44806199891475434},"tCO2/MWh",null,null,null,null,null,null,"Coefficient d'émission CO2-éq. ",{"$f":"+principale30!P131","v":0.41195064591968661},"tCO2/MWh",null,null,null,null,null,null,"Coefficient d'émission CO2-éq. ",{"$f":"+principale35!P131","v":0.40843445940180984},"tCO2/MWh",null,null,null,null,null,null,"Coefficient d'émission CO2-éq. ",{"$f":"+principale50!P131","v":0.40069813141907729},"tCO2/MWh"]
["US$/ton CO2-eq.",null,null,{"$f":"IF(D145<>0,D140/D145,0)","v":357.72620437215198},null,"Emissions dues électricité",{"$f":"+G144*G146","v":594.13021056096431},"tCO2",null,"US$/ton CO2-eq.",null,null,{"$f":"IF(M145<>0,M140/M145,0)","v":-22.002295354090823},null,"Emissions dues électricité",{"$f":"+P144*P146","v":546.24655648950443},"tCO2",null,"US$/ton CO2-eq.",null,null,{"$f":"IF(V145<>0,V140/V145,0)","v":-45.00406534829424},null,"Emissions dues électricité",{"$f":"+Y144*Y146","v":541.58409316679979},"tCO2",null,"US$/ton CO2-eq.",null,null,{"$f":"IF(AE145<>0,AE140/AE145,0)","v":-391.17265548674794},null,"Emissions dues électricité",{"$f":"+AH144*AH146","v":437.56235950963242},"tCO2"]
[null,null,null,null,null,"Efficacité économique",{"$f":"+B140/G135/1000","v":0.25470122962778768},"US$/km",null,null,null,null,null,null,"Efficacité économique",{"$f":"+K140/P135/1000","v":0.22203397135425307},"US$/km",null,null,null,null,null,null,"Efficacité économique",{"$f":"+T140/Y135/1000","v":0.22012072760923629},"US$/km",null,null,null,null,null,null,"Efficacité économique",{"$f":"+AC140/AH135/1000","v":0.19039193705150981},"US$/km"]
[null,null,null,null,null,"Option de référence: voitures essence normales",null,null,null,null,null,null,null,null,"Option de référence: voitures essence normales",null,null,null,null,null,null,null,null,"Option de référence: voitures essence normales",null,null,null,null,null,null,null,null,"Option de référence: voitures essence normales"]
[null,null,null,null,null,"Consommation",17.5,"km/l",null,null,null,null,null,null,"Consommation",18.2,"km/l",null,null,null,null,null,null,"Consommation",18.2,"km/l",null,null,null,null,null,null,"Consommation",20,"km/l"]
[null,null,null,null,null,"Investissement dans véhicule",{"$f":"20000","v":20000},"US$",null,null,null,null,null,null,"Investissement dans véhicule",{"$f":"20000","v":20000},"US$",null,null,null,null,null,null,"Investissement dans véhicule",{"$f":"20000","v":20000},"US$",null,null,null,null,null,null,"Investissement dans véhicule",{"$f":"20000","v":20000},"US$"]
[null,null,null,null,null,"O&M annuelle",0.01,"de investissement",null,null,null,null,null,null,"O&M annuelle",0.01,"de investissement",null,null,null,null,null,null,"O&M annuelle",0.01,"de investissement",null,null,null,null,null,null,"O&M annuelle",0.01,"de investissement"]
[null,null,null,null,null,"Prix essence",{"$f":"+Hypothèses!$C19","v":0.44025157232704398},"US$/litre",null,null,null,null,null,null,"Prix essence",{"$f":"+Hypothèses!$C19","v":0.44025157232704398},"US$/litre",null,null,null,null,null,null,"Prix essence",{"$f":"+Hypothèses!$C19","v":0.44025157232704398},"US$/litre",null,null,null,null,null,null,"Prix essence",{"$f":"+Hypothèses!$C19","v":0.44025157232704398},"US$/litre"]
[null,null,null,null,null,"Consommation totale d´essence",{"$f":"G136*G135/G150/1000000","v":0.68571428571428572},"Million litres",null,null,null,null,null,null,"Consommation totale d´essence",{"$f":"P136*P135/P150/1000000","v":0.65934065934065944},"Million litres",null,null,null,null,null,null,"Consommation totale d´essence",{"$f":"Y136*Y135/Y150/1000000","v":0.65934065934065944},"Million litres",null,null,null,null,null,null,"Consommation totale d´essence",{"$f":"AH136*AH135/AH150/1000000","v":0.6},"Million litres"]
[null,null,null,null,null,"1000 l essence =",{"$f":"Hypothèses!$C21*Hypothèses!$C22","v":33.599999999999994},"GJ",null,null,null,null,null,null,"1000 l essence =",{"$f":"Hypothèses!$C21*Hypothèses!$C22","v":33.599999999999994},"GJ",null,null,null,null,null,null,"1000 l essence =",{"$f":"Hypothèses!$C21*Hypothèses!$C22","v":33.599999999999994},"GJ",null,null,null,null,null,null,"1000 l essence =",{"$f":"Hypothèses!$C21*Hypothèses!$C22","v":33.599999999999994},"GJ"]
[null,null,null,null,null,"Coefficient d'émission CO2-éq. ",{"$f":"+Hypothèses!$C38","v":69.3},"kgCO2-eq./GJ",null,null,null,null,null,null,"Coefficient d'émission CO2-éq. ",{"$f":"+Hypothèses!$C38","v":69.3},"kgCO2-eq./GJ",null,null,null,null,null,null,"Coefficient d'émission CO2-éq. ",{"$f":"+Hypothèses!$C38","v":69.3},"kgCO2-eq./GJ",null,null,null,null,null,null,"Coefficient d'émission CO2-éq. ",{"$f":"+Hypothèses!$C38","v":69.3},"kgCO2-eq./GJ"]
[null,null,null,null,null,"Emissions dues essence",{"$f":"+G154*G155*G156","v":1596.6719999999996},"tCO2",null,null,null,null,null,null,"Emissions dues essence",{"$f":"+P154*P155*P156","v":1535.2615384615383},"tCO2",null,null,null,null,null,null,"Emissions dues essence",{"$f":"+Y154*Y155*Y156","v":1535.2615384615383},"tCO2",null,null,null,null,null,null,"Emissions dues essence",{"$f":"+AH154*AH155*AH156","v":1397.0879999999997},"tCO2"]
[null,null,null,null,null,"Efficacité économique",{"$f":"+C140/G135/1000","v":0.22481494053941345},"US$/km",null,null,null,null,null,null,"Efficacité économique",{"$f":"+L140/P135/1000","v":0.22384735466616718},"US$/km",null,null,null,null,null,null,"Efficacité économique",{"$f":"+U140/Y135/1000","v":0.22384735466616718},"US$/km",null,null,null,null,null,null,"Efficacité économique",{"$f":"+AD140/AH135/1000","v":0.22167028645136314},"US$/km"]
[]
[]
[]
["Autobus électriques articulés de 18m (1000 Autobus) - 2025",null,null,null,null,null,null,null,null,"Autobus électriques articulés de 18m (1000 Autobus) - 2030",null,null,null,null,null,null,null,null,"Autobus électriques articulés de 18m (1000 Autobus) - 2035",null,null,null,null,null,null,null,null,"Autobus électriques articulés de 18m (1000 Autobus) - 2050"]
["Coûts en","Option de","Option de ","Augmentation",null,"Entrées générales:",null,null,null,"Coûts en","Option de","Option de ","Augmentation",null,"Entrées générales:",null,null,null,"Coûts en","Option de","Option de ","Augmentation",null,"Entrées générales:",null,null,null,"Coûts en","Option de","Option de ","Augmentation",null,"Entrées générales:"]
["US$","Réduction","Référence","(Réd.-Réf.)",null,"Taux d'actualisation",{"$f":"+DiscountRate","v":7.0000000000000007E-2},null,null,"US$","Réduction","Référence","(Réd.-Réf.)",null,"Taux d'actualisation",{"$f":"+DiscountRate","v":7.0000000000000007E-2},null,null,"US$","Réduction","Référence","(Réd.-Réf.)",null,"Taux d'actualisation",{"$f":"+DiscountRate","v":7.0000000000000007E-2},null,null,"US$","Réduction","Référence","(Réd.-Réf.)",null,"Taux d'actualisation",{"$f":"+DiscountRate","v":7.0000000000000007E-2}]
["Investissement total",{"$f":"+G166*(G168+G171*G172)+G169*G170","v":679250000},{"$f":"G166*G181","v":300000000},{"$f":"B165-C165","v":379250000},null,"Distance annuelle",100000,"km",null,"Investissement total",{"$f":"+P166*(P168+P171*P172)+P169*P170","v":490250000},{"$f":"P166*P181","v":300000000},{"$f":"K165-L165","v":190250000},null,"Distance annuelle",100000,"km",null,"Investissement total",{"$f":"+Y166*(Y168+Y171*Y172)+Y169*Y170","v":487000000},{"$f":"Y166*Y181","v":300000000},{"$f":"T165-U165","v":187000000},null,"Distance annuelle",100000,"km",null,"Investissement total",{"$f":"+AH166*(AH168+AH171*AH172)+AH169*AH170","v":383750000},{"$f":"AH166*AH181","v":300000000},{"$f":"AC165-AD165","v":83750000},null,"Distance annuelle",100000,"km"]
["Durée de vie du projet",12,12,null,null,"Activité",1000,"Autobus",null,"Durée de vie du projet",12,12,null,null,"Activité",1000,"Autobus",null,"Durée de vie du projet",12,12,null,null,"Activité",1000,"Autobus",null,"Durée de vie du projet",12,12,null,null,"Activité",1000,"Autobus"]
["Investissements nivelés",{"$f":"IF(B166=0,0,PMT($G164,B166,-B165))","v":85518925.793922648},{"$f":"IF(C166=0,0,PMT($G$164,C166,-C165))","v":37770596.596506134},{"$f":"B167-C167","v":47748329.197416514},null,"Option de réduction: Autobus électriques",null,null,null,"Investissements nivelés",{"$f":"IF(K166=0,0,PMT($P164,K166,-K165))","v":61723449.938123785},{"$f":"IF(L166=0,0,PMT($P$164,L166,-L165))","v":37770596.596506134},{"$f":"K167-L167","v":23952853.341617651},null,"Option de réduction: Autobus électriques",null,null,null,"Investissements nivelés",{"$f":"IF(T166=0,0,PMT($P164,T166,-T165))","v":61314268.474994965},{"$f":"IF(U166=0,0,PMT($P$164,U166,-U165))","v":37770596.596506134},{"$f":"T167-U167","v":23543671.878488831},null,"Option de réduction: Autobus électriques",null,null,null,"Investissements nivelés",{"$f":"IF(AC166=0,0,PMT($AH164,AC166,-AC165))","v":48314888.1463641},{"$f":"IF(AD166=0,0,PMT($AH$164,AD166,-AD165))","v":37770596.596506134},{"$f":"AC167-AD167","v":10544291.549857967},null,"Option de réduction: Autobus électriques"]
["O&M annuelle ",{"$f":"B165*G173","v":3396250},{"$f":"G182*C165","v":3000000},{"$f":"B168-C168","v":396250},null,"Investissement dans 1 véhicule",{"$f":"800000-200000","v":600000},"US$",null,"O&M annuelle ",{"$f":"K165*P173","v":2451250},{"$f":"P182*L165","v":3000000},{"$f":"K168-L168","v":-548750},null,"Investissement dans 1 véhicule",450000,"US$",null,"O&M annuelle ",{"$f":"T165*Y173","v":2435000},{"$f":"Y182*U165","v":3000000},{"$f":"T168-U168","v":-565000},null,"Investissement dans 1 véhicule",450000,"US$",null,"O&M annuelle ",{"$f":"AC165*AH173","v":1918750},{"$f":"AH182*AD165","v":3000000},{"$f":"AC168-AD168","v":-1081250},null,"Investissement dans 1 véhicule",350000,"US$"]
["Coût annuel carburant",{"$f":"G175*1000*G176","v":14702702.702702701},{"$f":"G185*G184*1000000","v":10144045.445323598},{"$f":"B169-C169","v":4558657.2573791035},null,"Investissement dans 1 station de charge",50000,"US$",null,"Coût annuel carburant",{"$f":"P175*1000*P176","v":13600000},{"$f":"P185*P184*1000000","v":9930486.5938430969},{"$f":"K169-L169","v":3669513.4061569031},null,"Investissement dans 1 station de charge",50000,"US$",null,"Coût annuel carburant",{"$f":"Y175*1000*Y176","v":13600000},{"$f":"Y185*Y184*1000000","v":9930486.5938430969},{"$f":"T169-U169","v":3669513.4061569031},null,"Investissement dans 1 station de charge",50000,"US$",null,"Coût annuel carburant",{"$f":"AH175*1000*AH176","v":11200000},{"$f":"AH185*AH184*1000000","v":9433962.2641509417},{"$f":"AC169-AD169","v":1766037.7358490583},null,"Investissement dans 1 station de charge",50000,"US$"]
["Coûts totaux annuel",{"$f":"SUM(B167:B169)","v":103617878.49662535},{"$f":"SUM(C167:C169)","v":50914642.041829735},{"$f":"B170-C170","v":52703236.454795614},null,"Nombre de stations de charge",25,"Stations",null,"Coûts totaux annuel",{"$f":"SUM(K167:K169)","v":77774699.938123792},{"$f":"SUM(L167:L169)","v":50701083.190349229},{"$f":"K170-L170","v":27073616.747774564},null,"Nombre de stations de charge",25,"Stations",null,"Coûts totaux annuel",{"$f":"SUM(T167:T169)","v":77349268.474994957},{"$f":"SUM(U167:U169)","v":50701083.190349229},{"$f":"T170-U170","v":26648185.284645729},null,"Nombre de stations de charge",25,"Stations",null,"Coûts totaux annuel",{"$f":"SUM(AC167:AC169)","v":61433638.1463641},{"$f":"SUM(AD167:AD169)","v":50204558.860657074},{"$f":"AC170-AD170","v":11229079.285707027},null,"Nombre de stations de charge",25,"Stations"]
[null,null,null,null,null,"Taille de batterie",650,"kWh",null,null,null,null,null,null,"Taille de batterie",650,"kWh",null,null,null,null,null,null,"Taille de batterie",650,"kWh",null,null,null,null,null,null,"Taille de batterie",650,"kWh"]
["Émissions annuelles (tonnes)","Tonnes","Tonnes","Réduction",null,"Investissement dans batterie",{"$f":"+G141","v":120},"US$/kWh",null,"Émissions annuelles (tonnes)","Tonnes","Tonnes","Réduction",null,"Investissement dans batterie",{"$f":"+P141","v":60},"US$/kWh",null,"Émissions annuelles (tonnes)","Tonnes","Tonnes","Réduction",null,"Investissement dans batterie",{"$f":"+Y141","v":55},"US$/kWh",null,"Émissions annuelles (tonnes)","Tonnes","Tonnes","Réduction",null,"Investissement dans batterie",{"$f":"+AH141","v":50},"US$/kWh"]
["Éq.-CO2 d'émission de carburant",{"$f":"+G178","v":32938.611812111667},{"$f":"+G188","v":72468.260215053771},{"$f":"C173-B173","v":39529.648402942104},null,"O&M annuelle",5.0000000000000001E-3,"de investissement",null,"Éq.-CO2 d'émission de carburant",{"$f":"+P178","v":28012.643922538689},{"$f":"+P188","v":70942.61263157893},{"$f":"L173-K173","v":42929.968709040244},null,"O&M annuelle",5.0000000000000001E-3,"de investissement",null,"Éq.-CO2 d'émission de carburant",{"$f":"+Y178","v":27773.543239323069},{"$f":"+Y188","v":70942.61263157893},{"$f":"U173-T173","v":43169.069392255857},null,"O&M annuelle",5.0000000000000001E-3,"de investissement",null,"Éq.-CO2 d'émission de carburant",{"$f":"+AH178","v":22439.095359468327},{"$f":"+AH188","v":67395.481999999989},{"$f":"AD173-AC173","v":44956.386640531666},null,"O&M annuelle",5.0000000000000001E-3,"de investissement"]
["Autres",null,null,null,null,"Consommation électrique",1.3602941176470589,"km/kWh",null,"Autres",null,null,null,null,"Consommation électrique",{"$f":"1/0.8/0.85","v":1.4705882352941178},"km/kWh",null,"Autres",null,null,null,null,"Consommation électrique",{"$f":"1/0.8/0.85","v":1.4705882352941178},"km/kWh",null,"Autres",null,null,null,null,"Consommation électrique",{"$f":"1/0.8/0.7","v":1.7857142857142858},"km/kWh"]
["Émission total CO2-éq. ",{"$f":"B173+B174","v":32938.611812111667},{"$f":"C173+C174","v":72468.260215053771},{"$f":"C175-B175","v":39529.648402942104},null,"Consommation totale d´électricité",{"$f":"G166*G165/G174/1000","v":73513.513513513506},"MWh",null,"Émission total CO2-éq. ",{"$f":"K173+K174","v":28012.643922538689},{"$f":"L173+L174","v":70942.61263157893},{"$f":"L175-K175","v":42929.968709040244},null,"Consommation totale d´électricité",{"$f":"P166*P165/P174/1000","v":68000},"MWh",null,"Émission total CO2-éq. ",{"$f":"T173+T174","v":27773.543239323069},{"$f":"U173+U174","v":70942.61263157893},{"$f":"U175-T175","v":43169.069392255857},null,"Consommation totale d´électricité",{"$f":"Y166*Y165/Y174/1000","v":68000},"MWh",null,"Émission total CO2-éq. ",{"$f":"AC173+AC174","v":22439.095359468327},{"$f":"AD173+AD174","v":67395.481999999989},{"$f":"AD175-AC175","v":44956.386640531666},null,"Consommation totale d´électricité",{"$f":"AH166*AH165/AH174/1000","v":56000},"MWh"]
[null,null,null,null,null,"Prix de électricité de référence",{"$f":"+Hypothèses!$C25","v":0.2},"US$/kWh",null,null,null,null,null,null,"Prix de électricité de référence",{"$f":"+Hypothèses!$C25","v":0.2},"US$/kWh",null,null,null,null,null,null,"Prix de électricité de référence",{"$f":"+Hypothèses!$C25","v":0.2},"US$/kWh",null,null,null,null,null,null,"Prix de électricité de référence",{"$f":"+Hypothèses!$C25","v":0.2},"US$/kWh"]
["US$/ton CO2-eq.",null,null,{"$f":"IF(D175<>0,D170/D175,0)","v":1333.2584170132166},null,"Coefficient d'émission CO2-éq. ",{"$f":"+G146","v":0.44806199891475434},"tCO2/MWh",null,"US$/ton CO2-eq.",null,null,{"$f":"IF(M175<>0,M170/M175,0)","v":630.64608621700131},null,"Coefficient d'émission CO2-éq. ",{"$f":"+P146","v":0.41195064591968661},"tCO2/MWh",null,"US$/ton CO2-eq.",null,null,{"$f":"IF(V175<>0,V170/V175,0)","v":617.29811783772607},null,"Coefficient d'émission CO2-éq. ",{"$f":"+Y146","v":0.40843445940180984},"tCO2/MWh",null,"US$/ton CO2-eq.",null,null,{"$f":"IF(AE175<>0,AE170/AE175,0)","v":249.77717572130544},null,"Coefficient d'émission CO2-éq. ",{"$f":"+AH146","v":0.40069813141907729},"tCO2/MWh"]
[null,null,null,null,null,"Emissions dues électricité",{"$f":"+G175*G177","v":32938.611812111667},"tCO2",null,null,null,null,null,null,"Emissions dues électricité",{"$f":"+P175*P177","v":28012.643922538689},"tCO2",null,null,null,null,null,null,"Emissions dues électricité",{"$f":"+Y175*Y177","v":27773.543239323069},"tCO2",null,null,null,null,null,null,"Emissions dues électricité",{"$f":"+AH175*AH177","v":22439.095359468327},"tCO2"]
[null,null,null,null,null,"Efficacité économique",{"$f":"+B170/G165/1000","v":1.0361787849662536},"US$/km",null,null,null,null,null,null,"Efficacité économique",{"$f":"+K170/P165/1000","v":0.77774699938123792},"US$/km",null,null,null,null,null,null,"Efficacité économique",{"$f":"+T170/Y165/1000","v":0.77349268474994959},"US$/km",null,null,null,null,null,null,"Efficacité économique",{"$f":"+AC170/AH165/1000","v":0.614336381463641},"US$/km"]
[null,null,null,null,null,"Option de référence: Autobus diesel normaux",null,null,null,null,null,null,null,null,"Option de référence: Autobus diesel normaux",null,null,null,null,null,null,null,null,"Option de référence: Autobus diesel normaux",null,null,null,null,null,null,null,null,"Option de référence: Autobus diesel normaux"]
[null,null,null,null,null,"Investissement dans 1 véhicule",300000,"US$",null,null,null,null,null,null,"Investissement dans 1 véhicule",300000,"US$",null,null,null,null,null,null,"Investissement dans 1 véhicule",300000,"US$",null,null,null,null,null,null,"Investissement dans 1 véhicule",300000,"US$"]
[null,null,null,null,null,"O&M annuelle",0.01,"de investissement",null,null,null,null,null,null,"O&M annuelle",0.01,"de investissement",null,null,null,null,null,null,"O&M annuelle",0.01,"de investissement",null,null,null,null,null,null,"O&M annuelle",0.01,"de investissement"]
[null,null,null,null,null,"Consommation diesel",3.7199999999999998,"km/l",null,null,null,null,null,null,"COnsommation diesel",3.8,"km/l",null,null,null,null,null,null,"COnsommation diesel",3.8,"km/l",null,null,null,null,null,null,"COnsommation diesel",4,"km/l"]
[null,null,null,null,null,"Prix diesel",{"$f":"+Hypothèses!$F19","v":0.37735849056603771},"US$/litre",null,null,null,null,null,null,"Prix diesel",{"$f":"+Hypothèses!$F19","v":0.37735849056603771},"US$/litre",null,null,null,null,null,null,"Prix diesel",{"$f":"+Hypothèses!$F19","v":0.37735849056603771},"US$/litre",null,null,null,null,null,null,"Prix diesel",{"$f":"+Hypothèses!$F19","v":0.37735849056603771},"US$/litre"]
[null,null,null,null,null,"Consommation totale diesel",{"$f":"G166*G165/G183/1000000","v":26.881720430107531},"Million litres",null,null,null,null,null,null,"Consommation totale diesel",{"$f":"P166*P165/P183/1000000","v":26.315789473684209},"Million litres",null,null,null,null,null,null,"Consommation totale diesel",{"$f":"Y166*Y165/Y183/1000000","v":26.315789473684209},"Million litres",null,null,null,null,null,null,"Consommation totale diesel",{"$f":"AH166*AH165/AH183/1000000","v":25},"Million litres"]
[null,null,null,null,null,"1000 l diesel =",{"$f":"+Hypothèses!$F21*Hypothèses!$F22","v":36.397199999999998},"GJ",null,null,null,null,null,null,"1000 l diesel =",{"$f":"+Hypothèses!$F21*Hypothèses!$F22","v":36.397199999999998},"GJ",null,null,null,null,null,null,"1000 l diesel =",{"$f":"+Hypothèses!$F21*Hypothèses!$F22","v":36.397199999999998},"GJ",null,null,null,null,null,null,"1000 l diesel =",{"$f":"+Hypothèses!$F21*Hypothèses!$F22","v":36.397199999999998},"GJ"]
[null,null,null,null,null,"Coefficient d'émission CO2-éq. ",{"$f":"+Hypothèses!$C37","v":74.066666666666663},"kgCO2-eq./GJ",null,null,null,null,null,null,"Coefficient d'émission CO2-éq. ",{"$f":"+Hypothèses!$C37","v":74.066666666666663},"kgCO2-eq./GJ",null,null,null,null,null,null,"Coefficient d'émission CO2-éq. ",{"$f":"+Hypothèses!$C37","v":74.066666666666663},"kgCO2-eq./GJ",null,null,null,null,null,null,"Coefficient d'émission CO2-éq. ",{"$f":"+Hypothèses!$C37","v":74.066666666666663},"kgCO2-eq./GJ"]
[null,null,null,null,null,"Emissions dues diesel",{"$f":"+G185*G186*G187","v":72468.260215053771},"tCO2",null,null,null,null,null,null,"Emissions dues diesel",{"$f":"+P185*P186*P187","v":70942.61263157893},"tCO2",null,null,null,null,null,null,"Emissions dues diesel",{"$f":"+Y185*Y186*Y187","v":70942.61263157893},"tCO2",null,null,null,null,null,null,"Emissions dues diesel",{"$f":"+AH185*AH186*AH187","v":67395.481999999989},"tCO2"]
[null,null,null,null,null,"Efficacité économique",{"$f":"+C170/G165/1000","v":0.50914642041829739},"US$/km",null,null,null,null,null,null,"Efficacité économique",{"$f":"+L170/P165/1000","v":0.50701083190349228},"US$/km",null,null,null,null,null,null,"Efficacité économique",{"$f":"+U170/Y165/1000","v":0.50701083190349228},"US$/km",null,null,null,null,null,null,"Efficacité économique",{"$f":"+AD170/AH165/1000","v":0.50204558860657078},"US$/km"]
[]
[]
[]
["Autobus électriques 12m (1000 Autobus) - 2025",null,null,null,null,null,null,null,null,"Autobus électriques 12m (1000 Autobus) - 2030",null,null,null,null,null,null,null,null,"Autobus électriques 12m (1000 Autobus) - 2035",null,null,null,null,null,null,null,null,"Autobus électriques 12m (1000 Autobus) - 2050"]
["Coûts en","Option de","Option de ","Augmentation",null,"Entrées générales:",null,null,null,"Coûts en","Option de","Option de ","Augmentation",null,"Entrées générales:",null,null,null,"Coûts en","Option de","Option de ","Augmentation",null,"Entrées générales:",null,null,null,"Coûts en","Option de","Option de ","Augmentation",null,"Entrées générales:"]
["US$","Réduction","Référence","(Réd.-Réf.)",null,"Taux d'actualisation",{"$f":"+DiscountRate","v":7.0000000000000007E-2},null,null,"US$","Réduction","Référence","(Réd.-Réf.)",null,"Taux d'actualisation",{"$f":"+DiscountRate","v":7.0000000000000007E-2},null,null,"US$","Réduction","Référence","(Réd.-Réf.)",null,"Taux d'actualisation",{"$f":"+DiscountRate","v":7.0000000000000007E-2},null,null,"US$","Réduction","Référence","(Réd.-Réf.)",null,"Taux d'actualisation",{"$f":"+DiscountRate","v":7.0000000000000007E-2}]
["Investissement total",{"$f":"+G197*(G199+G202*G203)+G200*G201","v":299000000},{"$f":"G197*G212","v":100000000},{"$f":"B196-C196","v":199000000},null,"Distance annuelle",40000,"km",null,"Investissement total",{"$f":"+P197*(P199+P202*P203)+P200*P201","v":225000000},{"$f":"P197*P212","v":100000000},{"$f":"K196-L196","v":125000000},null,"Distance annuelle",40000,"km",null,"Investissement total",{"$f":"+Y197*(Y199+Y202*Y203)+Y200*Y201","v":223000000},{"$f":"Y197*Y212","v":100000000},{"$f":"T196-U196","v":123000000},null,"Distance annuelle",40000,"km",null,"Investissement total",{"$f":"+AH197*(AH199+AH202*AH203)+AH200*AH201","v":171000000},{"$f":"AH197*AH212","v":100000000},{"$f":"AC196-AD196","v":71000000},null,"Distance annuelle",40000,"km"]
["Durée de vie du projet",12,12,null,null,"Activité",1000,"Autobus",null,"Durée de vie du projet",12,12,null,null,"Activité",1000,"Autobus",null,"Durée de vie du projet",12,12,null,null,"Activité",1000,"Autobus",null,"Durée de vie du projet",12,12,null,null,"Activité",1000,"Autobus"]
["Investissements nivelés",{"$f":"IF(B197=0,0,PMT($G195,B197,-B196))","v":37644694.607851118},{"$f":"IF(C197=0,0,PMT($G$195,C197,-C196))","v":12590198.865502045},{"$f":"B198-C198","v":25054495.742349073},null,"Option de réduction: Autobus électriques",null,null,null,"Investissements nivelés",{"$f":"IF(K197=0,0,PMT($P195,K197,-K196))","v":28327947.447379604},{"$f":"IF(L197=0,0,PMT($P$195,L197,-L196))","v":12590198.865502045},{"$f":"K198-L198","v":15737748.581877559},null,"Option de réduction: Autobus électriques",null,null,null,"Investissements nivelés",{"$f":"IF(T197=0,0,PMT($P195,T197,-T196))","v":28076143.470069565},{"$f":"IF(U197=0,0,PMT($P$195,U197,-U196))","v":12590198.865502045},{"$f":"T198-U198","v":15485944.60456752},null,"Option de réduction: Autobus électriques",null,null,null,"Investissements nivelés",{"$f":"IF(AC197=0,0,PMT($AH195,AC197,-AC196))","v":21529240.0600085},{"$f":"IF(AD197=0,0,PMT($AH$195,AD197,-AD196))","v":12590198.865502045},{"$f":"AC198-AD198","v":8939041.1945064552},null,"Option de réduction: Autobus électriques"]
["O&M annuelle ",{"$f":"B196*G204","v":1495000},{"$f":"G213*C196","v":1000000},{"$f":"B199-C199","v":495000},null,"Investissement dans 1 véhicule",250000,"US$",null,"O&M annuelle ",{"$f":"K196*P204","v":1125000},{"$f":"P213*L196","v":1000000},{"$f":"K199-L199","v":125000},null,"Investissement dans 1 véhicule",200000,"US$",null,"O&M annuelle ",{"$f":"T196*Y204","v":1115000},{"$f":"Y213*U196","v":1000000},{"$f":"T199-U199","v":115000},null,"Investissement dans 1 véhicule",200000,"US$",null,"O&M annuelle ",{"$f":"AC196*AH204","v":855000},{"$f":"AH213*AD196","v":1000000},{"$f":"AC199-AD199","v":-145000},null,"Investissement dans 1 véhicule",150000,"US$"]
["Coût annuel carburant",{"$f":"G206*1000*G207","v":5881081.0810810812},{"$f":"G216*G215*1000000","v":3870343.4929850018},{"$f":"B200-C200","v":2010737.5880960794},null,"Investissement dans 1 station de charge",50000,"US$",null,"Coût annuel carburant",{"$f":"P206*1000*P207","v":5440000},{"$f":"P216*P215*1000000","v":3773584.9056603769},{"$f":"K200-L200","v":1666415.0943396231},null,"Investissement dans 1 station de charge",50000,"US$",null,"Coût annuel carburant",{"$f":"Y206*1000*Y207","v":5440000},{"$f":"Y216*Y215*1000000","v":3773584.9056603769},{"$f":"T200-U200","v":1666415.0943396231},null,"Investissement dans 1 station de charge",50000,"US$",null,"Coût annuel carburant",{"$f":"AH206*1000*AH207","v":5120000},{"$f":"AH216*AH215*1000000","v":3593890.3863432161},{"$f":"AC200-AD200","v":1526109.6136567839},null,"Investissement dans 1 station de charge",50000,"US$"]
["Coûts totaux annuel",{"$f":"SUM(B198:B200)","v":45020775.688932195},{"$f":"SUM(C198:C200)","v":17460542.358487047},{"$f":"B201-C201","v":27560233.330445148},null,"Nombre de stations de charge",20,"Stations",null,"Coûts totaux annuel",{"$f":"SUM(K198:K200)","v":34892947.447379604},{"$f":"SUM(L198:L200)","v":17363783.771162421},{"$f":"K201-L201","v":17529163.676217183},null,"Nombre de stations de charge",20,"Stations",null,"Coûts totaux annuel",{"$f":"SUM(T198:T200)","v":34631143.470069565},{"$f":"SUM(U198:U200)","v":17363783.771162421},{"$f":"T201-U201","v":17267359.698907144},null,"Nombre de stations de charge",20,"Stations",null,"Coûts totaux annuel",{"$f":"SUM(AC198:AC200)","v":27504240.0600085},{"$f":"SUM(AD198:AD200)","v":17184089.251845259},{"$f":"AC201-AD201","v":10320150.808163241},null,"Nombre de stations de charge",20,"Stations"]
[null,null,null,null,null,"Taille de batterie",400,"kWh",null,null,null,null,null,null,"Taille de batterie",400,"kWh",null,null,null,null,null,null,"Taille de batterie",400,"kWh",null,null,null,null,null,null,"Taille de batterie",400,"kWh"]
["Émissions annuelles (tonnes)","Tonnes","Tonnes","Réduction",null,"Investissement dans batterie",120,"US$/kWh",null,"Émissions annuelles (tonnes)","Tonnes","Tonnes","Réduction",null,"Investissement dans batterie",{"$f":"+P172","v":60},"US$/kWh",null,"Émissions annuelles (tonnes)","Tonnes","Tonnes","Réduction",null,"Investissement dans batterie",{"$f":"+Y172","v":55},"US$/kWh",null,"Émissions annuelles (tonnes)","Tonnes","Tonnes","Réduction",null,"Investissement dans batterie",{"$f":"+AH172","v":50},"US$/kWh"]
["Éq.-CO2 d'émission de carburant",{"$f":"+G209","v":13175.444724844669},{"$f":"+G219","v":27649.428512820505},{"$f":"C204-B204","v":14473.983787975836},null,"O&M annuelle",5.0000000000000001E-3,"de investissement",null,"Éq.-CO2 d'émission de carburant",{"$f":"+P209","v":11205.057569015475},{"$f":"+P219","v":26958.192799999997},{"$f":"L204-K204","v":15753.135230984522},null,"O&M annuelle",5.0000000000000001E-3,"de investissement",null,"Éq.-CO2 d'émission de carburant",{"$f":"+Y209","v":11109.417295729227},{"$f":"+Y219","v":26958.192799999997},{"$f":"U204-T204","v":15848.77550427077},null,"O&M annuelle",5.0000000000000001E-3,"de investissement",null,"Éq.-CO2 d'émission de carburant",{"$f":"+AH209","v":10257.872164328379},{"$f":"+AH219","v":25674.469333333331},{"$f":"AD204-AC204","v":15416.597169004952},null,"O&M annuelle",5.0000000000000001E-3,"de investissement"]
["Autres",null,null,null,null,"Consommation électrique",1.3602941176470589,"km/kWh",null,"Autres",null,null,null,null,"Consommation électrique",{"$f":"1/0.8/0.85","v":1.4705882352941178},"km/kWh",null,"Autres",null,null,null,null,"Consommation électrique",{"$f":"1/0.8/0.85","v":1.4705882352941178},"km/kWh",null,"Autres",null,null,null,null,"Consommation électrique",{"$f":"1/0.8/0.8","v":1.5625},"km/kWh"]
["Émission total CO2-éq. ",{"$f":"B204+B205","v":13175.444724844669},{"$f":"C204+C205","v":27649.428512820505},{"$f":"C206-B206","v":14473.983787975836},null,"Consommation totale d´électricité",{"$f":"G197*G196/G205/1000","v":29405.405405405407},"MWh",null,"Émission total CO2-éq. ",{"$f":"K204+K205","v":11205.057569015475},{"$f":"L204+L205","v":26958.192799999997},{"$f":"L206-K206","v":15753.135230984522},null,"Consommation totale d´électricité",{"$f":"P197*P196/P205/1000","v":27199.999999999996},"MWh",null,"Émission total CO2-éq. ",{"$f":"T204+T205","v":11109.417295729227},{"$f":"U204+U205","v":26958.192799999997},{"$f":"U206-T206","v":15848.77550427077},null,"Consommation totale d´électricité",{"$f":"Y197*Y196/Y205/1000","v":27199.999999999996},"MWh",null,"Émission total CO2-éq. ",{"$f":"AC204+AC205","v":10257.872164328379},{"$f":"AD204+AD205","v":25674.469333333331},{"$f":"AD206-AC206","v":15416.597169004952},null,"Consommation totale d´électricité",{"$f":"AH197*AH196/AH205/1000","v":25600},"MWh"]
[null,null,null,null,null,"Prix de électricité de référence",{"$f":"+Hypothèses!$C25","v":0.2},"US$/kWh",null,null,null,null,null,null,"Prix de électricité de référence",{"$f":"+Hypothèses!$C25","v":0.2},"US$/kWh",null,null,null,null,null,null,"Prix de électricité de référence",{"$f":"+Hypothèses!$C25","v":0.2},"US$/kWh",null,null,null,null,null,null,"Prix de électricité de référence",{"$f":"+Hypothèses!$C25","v":0.2},"US$/kWh"]
["US$/ton CO2-eq.",null,null,{"$f":"IF(D206<>0,D201/D206,0)","v":1904.1221638883294},null,"Coefficient d'émission CO2-éq. ",{"$f":"+G177","v":0.44806199891475434},"tCO2/MWh",null,"US$/ton CO2-eq.",null,null,{"$f":"IF(M206<>0,M201/M206,0)","v":1112.7412682739769},null,"Coefficient d'émission CO2-éq. ",{"$f":"+P177","v":0.41195064591968661},"tCO2/MWh",null,"US$/ton CO2-eq.",null,null,{"$f":"IF(V206<>0,V201/V206,0)","v":1089.507495027241},null,"Coefficient d'émission CO2-éq. ",{"$f":"+Y177","v":0.40843445940180984},"tCO2/MWh",null,"US$/ton CO2-eq.",null,null,{"$f":"IF(AE206<>0,AE201/AE206,0)","v":669.41820526464107},null,"Coefficient d'émission CO2-éq. ",{"$f":"+AH177","v":0.40069813141907729},"tCO2/MWh"]
[null,null,null,null,null,"Emissions dues électricité",{"$f":"+G206*G208","v":13175.444724844669},"tCO2",null,null,null,null,null,null,"Emissions dues électricité",{"$f":"+P206*P208","v":11205.057569015475},"tCO2",null,null,null,null,null,null,"Emissions dues électricité",{"$f":"+Y206*Y208","v":11109.417295729227},"tCO2",null,null,null,null,null,null,"Emissions dues électricité",{"$f":"+AH206*AH208","v":10257.872164328379},"tCO2"]
[null,null,null,null,null,"Efficacité économique",{"$f":"+B201/G196/1000","v":1.1255193922233049},"US$/km",null,null,null,null,null,null,"Efficacité économique",{"$f":"+K201/P196/1000","v":0.87232368618449008},"US$/km",null,null,null,null,null,null,"Efficacité économique",{"$f":"+T201/Y196/1000","v":0.86577858675173913},"US$/km",null,null,null,null,null,null,"Efficacité économique",{"$f":"+AC201/AH196/1000","v":0.68760600150021256},"US$/km"]
[null,null,null,null,null,"Option de référence: Autobus diesel normaux",null,null,null,null,null,null,null,null,"Option de référence: Autobus diesel normaux",null,null,null,null,null,null,null,null,"Option de référence: Autobus diesel normaux",null,null,null,null,null,null,null,null,"Option de référence: Autobus diesel normaux"]
[null,null,null,null,null,"Investissement dans 1 véhicule",100000,"US$",null,null,null,null,null,null,"Investissement dans 1 véhicule",100000,"US$",null,null,null,null,null,null,"Investissement dans 1 véhicule",100000,"US$",null,null,null,null,null,null,"Investissement dans 1 véhicule",100000,"US$"]
[null,null,null,null,null,"O&M annuelle",0.01,"de investissement",null,null,null,null,null,null,"O&M annuelle",0.01,"de investissement",null,null,null,null,null,null,"O&M annuelle",0.01,"de investissement",null,null,null,null,null,null,"O&M annuelle",0.01,"de investissement"]
[null,null,null,null,null,"Consommation diesel",3.9,"km/l",null,null,null,null,null,null,"Consommation diesel",4,"km/l",null,null,null,null,null,null,"Consommation diesel",4,"km/l",null,null,null,null,null,null,"Consommation diesel",4.2,"km/l"]
[null,null,null,null,null,"Prix diesel",{"$f":"+Hypothèses!$F19","v":0.37735849056603771},"US$/litre",null,null,null,null,null,null,"Prix diesel",{"$f":"+Hypothèses!$F19","v":0.37735849056603771},"US$/litre",null,null,null,null,null,null,"Prix diesel",{"$f":"+Hypothèses!$F19","v":0.37735849056603771},"US$/litre",null,null,null,null,null,null,"Prix diesel",{"$f":"+Hypothèses!$F19","v":0.37735849056603771},"US$/litre"]
[null,null,null,null,null,"Consommation totale diesel",{"$f":"G197*G196/G214/1000000","v":10.256410256410255},"Million litres",null,null,null,null,null,null,"Consommation totale diesel",{"$f":"P197*P196/P214/1000000","v":10},"Million litres",null,null,null,null,null,null,"Consommation totale diesel",{"$f":"Y197*Y196/Y214/1000000","v":10},"Million litres",null,null,null,null,null,null,"Consommation totale diesel",{"$f":"AH197*AH196/AH214/1000000","v":9.5238095238095237},"Million litres"]
[null,null,null,null,null,"1000 l diesel =",{"$f":"+Hypothèses!$F21*Hypothèses!$F22","v":36.397199999999998},"GJ",null,null,null,null,null,null,"1000 l diesel =",{"$f":"+Hypothèses!$F21*Hypothèses!$F22","v":36.397199999999998},"GJ",null,null,null,null,null,null,"1000 l diesel =",{"$f":"+Hypothèses!$F21*Hypothèses!$F22","v":36.397199999999998},"GJ",null,null,null,null,null,null,"1000 l diesel =",{"$f":"+Hypothèses!$F21*Hypothèses!$F22","v":36.397199999999998},"GJ"]
[null,null,null,null,null,"Coefficient d'émission CO2-éq. ",{"$f":"+Hypothèses!$C37","v":74.066666666666663},"kgCO2-eq./GJ",null,null,null,null,null,null,"Coefficient d'émission CO2-éq. ",{"$f":"+Hypothèses!$C37","v":74.066666666666663},"kgCO2-eq./GJ",null,null,null,null,null,null,"Coefficient d'émission CO2-éq. ",{"$f":"+Hypothèses!$C37","v":74.066666666666663},"kgCO2-eq./GJ",null,null,null,null,null,null,"Coefficient d'émission CO2-éq. ",{"$f":"+Hypothèses!$C37","v":74.066666666666663},"kgCO2-eq./GJ"]
[null,null,null,null,null,"Emissions dues diesel",{"$f":"+G216*G217*G218","v":27649.428512820505},"tCO2",null,null,null,null,null,null,"Emissions dues diesel",{"$f":"+P216*P217*P218","v":26958.192799999997},"tCO2",null,null,null,null,null,null,"Emissions dues diesel",{"$f":"+Y216*Y217*Y218","v":26958.192799999997},"tCO2",null,null,null,null,null,null,"Emissions dues diesel",{"$f":"+AH216*AH217*AH218","v":25674.469333333331},"tCO2"]
[null,null,null,null,null,"Efficacité économique",{"$f":"+C201/G196/1000","v":0.4365135589621762},"US$/km",null,null,null,null,null,null,"Efficacité économique",{"$f":"+L201/P196/1000","v":0.4340945942790605},"US$/km",null,null,null,null,null,null,"Efficacité économique",{"$f":"+U201/Y196/1000","v":0.4340945942790605},"US$/km",null,null,null,null,null,null,"Efficacité économique",{"$f":"+AD201/AH196/1000","v":0.42960223129613151},"US$/km"]
[]
[]
[]
["Camions lourds électriques (1000 camions) - 2025",null,null,null,null,null,null,null,null,"Camions lourds électriques (1000 camions) - 2030",null,null,null,null,null,null,null,null,"Camions lourds électriques (1000 camions) - 2035",null,null,null,null,null,null,null,null,"Camions lourds électriques (1000 camions) - 2050"]
["Coûts en","Option de","Option de ","Augmentation",null,"Entrées générales:",null,null,null,"Coûts en","Option de","Option de ","Augmentation",null,"Entrées générales:",null,null,null,"Coûts en","Option de","Option de ","Augmentation",null,"Entrées générales:",null,null,null,"Coûts en","Option de","Option de ","Augmentation",null,"Entrées générales:"]
["US$","Réduction","Référence","(Réd.-Réf.)",null,"Taux d'actualisation",{"$f":"+DiscountRate","v":7.0000000000000007E-2},null,null,"US$","Réduction","Référence","(Réd.-Réf.)",null,"Taux d'actualisation",{"$f":"+DiscountRate","v":7.0000000000000007E-2},null,null,"US$","Réduction","Référence","(Réd.-Réf.)",null,"Taux d'actualisation",{"$f":"+DiscountRate","v":7.0000000000000007E-2},null,null,"US$","Réduction","Référence","(Réd.-Réf.)",null,"Taux d'actualisation",{"$f":"+DiscountRate","v":7.0000000000000007E-2}]
["Investissement total",{"$f":"+G228*(G230+G233*G234)+G231*G232","v":600220000},{"$f":"G228*G244","v":180625000},{"$f":"B227-C227","v":419595000},null,"Distance annuelle",{"$f":"(50000+25000)/2","v":37500},"km",null,"Investissement total",{"$f":"+P228*(P230+P233*P234)+P231*P232","v":539220000},{"$f":"P228*P244","v":180625000},{"$f":"K227-L227","v":358595000},null,"Distance annuelle",{"$f":"(50000+25000)/2","v":37500},"km",null,"Investissement total",{"$f":"+Y228*(Y230+Y233*Y234)+Y231*Y232","v":536220000},{"$f":"Y228*Y244","v":180625000},{"$f":"T227-U227","v":355595000},null,"Distance annuelle",{"$f":"(50000+25000)/2","v":37500},"km",null,"Investissement total",{"$f":"+AH228*(AH230+AH233*AH234)+AH231*AH232","v":483220000},{"$f":"AH228*AH244","v":180625000},{"$f":"AC227-AD227","v":302595000},null,"Distance annuelle",{"$f":"(50000+25000)/2","v":37500},"km"]
["Durée de vie du projet",12,12,null,null,"Activité",1000,"Camions",null,"Durée de vie du projet",12,12,null,null,"Activité",1000,"Camions",null,"Durée de vie du projet",12,12,null,null,"Activité",1000,"Camions",null,"Durée de vie du projet",12,12,null,null,"Activité",1000,"Camions"]
["Investissements nivelés",{"$f":"IF(B228=0,0,PMT($G226,B228,-B227))","v":75568891.63051638},{"$f":"IF(C228=0,0,PMT($G$226,C228,-C227))","v":22741046.70081307},{"$f":"B229-C229","v":52827844.92970331},null,"Option de réduction: Camions électriques",null,null,null,"Investissements nivelés",{"$f":"IF(K228=0,0,PMT($P226,K228,-K227))","v":67888870.322560132},{"$f":"IF(L228=0,0,PMT($P$226,L228,-L227))","v":22741046.70081307},{"$f":"K229-L229","v":45147823.621747062},null,"Option de réduction: Camions électriques",null,null,null,"Investissements nivelés",{"$f":"IF(T228=0,0,PMT($P226,T228,-T227))","v":67511164.356595069},{"$f":"IF(U228=0,0,PMT($P$226,U228,-U227))","v":22741046.70081307},{"$f":"T229-U229","v":44770117.655781999},null,"Option de réduction: Camions électriques",null,null,null,"Investissements nivelés",{"$f":"IF(AC228=0,0,PMT($AH226,AC228,-AC227))","v":60838358.957878992},{"$f":"IF(AD228=0,0,PMT($AH$226,AD228,-AD227))","v":22741046.70081307},{"$f":"AC229-AD229","v":38097312.257065922},null,"Option de réduction: Camions électriques"]
["O&M annuelle ",{"$f":"B227*G235","v":3001100},{"$f":"G245*C227","v":1806250},{"$f":"B230-C230","v":1194850},null,"Investissement dans 1 véhicule",525000,"US$",null,"O&M annuelle ",{"$f":"K227*P235","v":2696100},{"$f":"P245*L227","v":1806250},{"$f":"K230-L230","v":889850},null,"Investissement dans 1 véhicule",500000,"US$",null,"O&M annuelle ",{"$f":"T227*Y235","v":2681100},{"$f":"Y245*U227","v":1806250},{"$f":"T230-U230","v":874850},null,"Investissement dans 1 véhicule",500000,"US$",null,"O&M annuelle ",{"$f":"AC227*AH235","v":2416100},{"$f":"AH245*AD227","v":1806250},{"$f":"AC230-AD230","v":609850},null,"Investissement dans 1 véhicule",450000,"US$"]
["Coût annuel carburant",{"$f":"G237*1000*G239","v":7925675.6756756753},{"$f":"G248*G247*1000000","v":4162042.1753607104},{"$f":"B231-C231","v":3763633.5003149649},null,"Investissement dans 1 station de charge",{"$f":"322000/2","v":161000},"US$",null,"Coût annuel carburant",{"$f":"P237*1000*P239","v":7331250},{"$f":"P248*P247*1000000","v":3930817.6100628925},{"$f":"K231-L231","v":3400432.3899371075},null,"Investissement dans 1 station de charge",{"$f":"322000/2","v":161000},"US$",null,"Coût annuel carburant",{"$f":"Y237*1000*Y239","v":7331250},{"$f":"Y248*Y247*1000000","v":3930817.6100628925},{"$f":"T231-U231","v":3400432.3899371075},null,"Investissement dans 1 station de charge",{"$f":"322000/2","v":161000},"US$",null,"Coût annuel carburant",{"$f":"AH237*1000*AH239","v":6900000},{"$f":"AH248*AH247*1000000","v":3537735.8490566034},{"$f":"AC231-AD231","v":3362264.1509433966},null,"Investissement dans 1 station de charge",{"$f":"322000/2","v":161000},"US$"]
["Coûts totaux annuel",{"$f":"SUM(B229:B231)","v":86495667.306192055},{"$f":"SUM(C229:C231)","v":28709338.876173779},{"$f":"B232-C232","v":57786328.430018276},null,"Nombre de stations de charge",20,"Stations",null,"Coûts totaux annuel",{"$f":"SUM(K229:K231)","v":77916220.322560132},{"$f":"SUM(L229:L231)","v":28478114.310875963},{"$f":"K232-L232","v":49438106.011684164},null,"Nombre de stations de charge",20,"Stations",null,"Coûts totaux annuel",{"$f":"SUM(T229:T231)","v":77523514.356595069},{"$f":"SUM(U229:U231)","v":28478114.310875963},{"$f":"T232-U232","v":49045400.045719102},null,"Nombre de stations de charge",20,"Stations",null,"Coûts totaux annuel",{"$f":"SUM(AC229:AC231)","v":70154458.957878992},{"$f":"SUM(AD229:AD231)","v":28085032.549869671},{"$f":"AC232-AD232","v":42069426.40800932},null,"Nombre de stations de charge",20,"Stations"]
[null,null,null,null,null,"Taille de batterie",600,"kWh",null,null,null,null,null,null,"Taille de batterie",600,"kWh",null,null,null,null,null,null,"Taille de batterie",600,"kWh",null,null,null,null,null,null,"Taille de batterie",600,"kWh"]
["Émissions annuelles (tonnes)","Tonnes","Tonnes","Réduction",null,"Investissement dans batterie",120,"US$/kWh",null,"Émissions annuelles (tonnes)","Tonnes","Tonnes","Réduction",null,"Investissement dans batterie",{"$f":"+P203","v":60},"US$/kWh",null,"Émissions annuelles (tonnes)","Tonnes","Tonnes","Réduction",null,"Investissement dans batterie",{"$f":"+Y203","v":55},"US$/kWh",null,"Émissions annuelles (tonnes)","Tonnes","Tonnes","Réduction",null,"Investissement dans batterie",{"$f":"+AH203","v":50},"US$/kWh"]
["Éq.-CO2 d'émission de carburant",{"$f":"+G241","v":17755.970429966444},{"$f":"+G251","v":29733.300882352945},{"$f":"C235-B235","v":11977.330452386501},null,"O&M annuelle",5.0000000000000001E-3,"de investissement",null,"Éq.-CO2 d'émission de carburant",{"$f":"+P241","v":15100.565864493512},{"$f":"+P251","v":28081.450833333325},{"$f":"L235-K235","v":12980.884968839813},null,"O&M annuelle",5.0000000000000001E-3,"de investissement",null,"Éq.-CO2 d'émission de carburant",{"$f":"+Y241","v":14971.675652447591},{"$f":"+Y251","v":28081.450833333325},{"$f":"U235-T235","v":13109.775180885734},null,"O&M annuelle",5.0000000000000001E-3,"de investissement",null,"Éq.-CO2 d'émission de carburant",{"$f":"+AH241","v":13824.085533958167},{"$f":"+AH251","v":25273.30575},{"$f":"AD235-AC235","v":11449.220216041833},null,"O&M annuelle",5.0000000000000001E-3,"de investissement"]
["Autres",null,null,null,null,"Consommation électrique",0.94629156010230187,"km/kWh",null,"Autres",null,null,null,null,"Consommation électrique",{"$f":"1/1.15/0.85","v":1.0230179028132993},"km/kWh",null,"Autres",null,null,null,null,"Consommation électrique",{"$f":"1/1.15/0.85","v":1.0230179028132993},"km/kWh",null,"Autres",null,null,null,null,"Consommation électrique",{"$f":"1/1.15/0.8","v":1.0869565217391304},"km/kWh"]
["Émission total CO2-éq. ",{"$f":"B235+B236","v":17755.970429966444},{"$f":"C235+C236","v":29733.300882352945},{"$f":"C237-B237","v":11977.330452386501},null,"Consommation totale d´électricité",{"$f":"G228*G227/G236/1000","v":39628.378378378373},"MWh",null,"Émission total CO2-éq. ",{"$f":"K235+K236","v":15100.565864493512},{"$f":"L235+L236","v":28081.450833333325},{"$f":"L237-K237","v":12980.884968839813},null,"Consommation totale d´électricité",{"$f":"P228*P227/P236/1000","v":36656.25},"MWh",null,"Émission total CO2-éq. ",{"$f":"T235+T236","v":14971.675652447591},{"$f":"U235+U236","v":28081.450833333325},{"$f":"U237-T237","v":13109.775180885734},null,"Consommation totale d´électricité",{"$f":"Y228*Y227/Y236/1000","v":36656.25},"MWh",null,"Émission total CO2-éq. ",{"$f":"AC235+AC236","v":13824.085533958167},{"$f":"AD235+AD236","v":25273.30575},{"$f":"AD237-AC237","v":11449.220216041833},null,"Consommation totale d´électricité",{"$f":"AH228*AH227/AH236/1000","v":34500},"MWh"]
[null,null,null,null,null,"Distance totale possible",{"$f":"G233*G236","v":567.77493606138114},"km",null,null,null,null,null,null,"Distance totale possible",{"$f":"P233*P236","v":613.81074168797954},"km",null,null,null,null,null,null,"Distance totale possible",{"$f":"Y233*Y236","v":613.81074168797954},"km",null,null,null,null,null,null,"Distance totale possible",{"$f":"AH233*AH236","v":652.17391304347825},"km"]
["US$/ton CO2-eq.",null,null,{"$f":"IF(D237<>0,D232/D237,0)","v":4824.6417396377556},null,"Prix de électricité de référence",{"$f":"+Hypothèses!$C25","v":0.2},"US$/kWh",null,"US$/ton CO2-eq.",null,null,{"$f":"IF(M237<>0,M232/M237,0)","v":3808.531246548961},null,"Prix de électricité de référence",{"$f":"+Hypothèses!$C25","v":0.2},"US$/kWh",null,"US$/ton CO2-eq.",null,null,{"$f":"IF(V237<>0,V232/V237,0)","v":3741.1320460497368},null,"Prix de électricité de référence",{"$f":"+Hypothèses!$C25","v":0.2},"US$/kWh",null,"US$/ton CO2-eq.",null,null,{"$f":"IF(AE237<>0,AE232/AE237,0)","v":3674.4359540804912},null,"Prix de électricité de référence",{"$f":"+Hypothèses!$C25","v":0.2},"US$/kWh"]
[null,null,null,null,null,"Coefficient d'émission CO2-éq. ",{"$f":"+G208","v":0.44806199891475434},"tCO2/MWh",null,null,null,null,null,null,"Coefficient d'émission CO2-éq. ",{"$f":"+P208","v":0.41195064591968661},"tCO2/MWh",null,null,null,null,null,null,"Coefficient d'émission CO2-éq. ",{"$f":"+Y208","v":0.40843445940180984},"tCO2/MWh",null,null,null,null,null,null,"Coefficient d'émission CO2-éq. ",{"$f":"+AH208","v":0.40069813141907729},"tCO2/MWh"]
[null,null,null,null,null,"Emissions dues électricité",{"$f":"+G237*G240","v":17755.970429966444},"tCO2",null,null,null,null,null,null,"Emissions dues électricité",{"$f":"+P237*P240","v":15100.565864493512},"tCO2",null,null,null,null,null,null,"Emissions dues électricité",{"$f":"+Y237*Y240","v":14971.675652447591},"tCO2",null,null,null,null,null,null,"Emissions dues électricité",{"$f":"+AH237*AH240","v":13824.085533958167},"tCO2"]
[null,null,null,null,null,"Efficacité économique",{"$f":"+B232/G227/1000","v":2.3065511281651214},"US$/km",null,null,null,null,null,null,"Efficacité économique",{"$f":"+K232/P227/1000","v":2.0777658752682702},"US$/km",null,null,null,null,null,null,"Efficacité économique",{"$f":"+T232/Y227/1000","v":2.0672937161758687},"US$/km",null,null,null,null,null,null,"Efficacité économique",{"$f":"+AC232/AH227/1000","v":1.8707855722101066},"US$/km"]
[null,null,null,null,null,"Option de référence: Camions diesel normaux",null,null,null,null,null,null,null,null,"Option de référence: Camions diesel normaux",null,null,null,null,null,null,null,null,"Option de référence: Camions diesel normaux",null,null,null,null,null,null,null,null,"Option de référence: Camions diesel normaux"]
[null,null,null,null,null,"Investissement dans 1 véhicule",{"$f":"(4.2*220000+5.4*150000)/9.6","v":180625},"US$",null,null,null,null,null,null,"Investissement dans 1 véhicule",{"$f":"(4.2*220000+5.4*150000)/9.6","v":180625},"US$",null,null,null,null,null,null,"Investissement dans 1 véhicule",{"$f":"(4.2*220000+5.4*150000)/9.6","v":180625},"US$",null,null,null,null,null,null,"Investissement dans 1 véhicule",{"$f":"(4.2*220000+5.4*150000)/9.6","v":180625},"US$"]
[null,null,null,null,null,"O&M annuelle",0.01,"de investissement",null,null,null,null,null,null,"O&M annuelle",0.01,"de investissement",null,null,null,null,null,null,"O&M annuelle",0.01,"de investissement",null,null,null,null,null,null,"O&M annuelle",0.01,"de investissement"]
[null,null,null,null,null,"Consommation diesel",3.4,"km/l",null,null,null,null,null,null,"Consommation diesel",3.6,"km/l",null,null,null,null,null,null,"Consommation diesel",3.6,"km/l",null,null,null,null,null,null,"Consommation diesel",4,"km/l"]
[null,null,null,null,null,"Prix diesel",{"$f":"+Hypothèses!$F19","v":0.37735849056603771},"US$/litre",null,null,null,null,null,null,"Prix diesel",{"$f":"+Hypothèses!$F19","v":0.37735849056603771},"US$/litre",null,null,null,null,null,null,"Prix diesel",{"$f":"+Hypothèses!$F19","v":0.37735849056603771},"US$/litre",null,null,null,null,null,null,"Prix diesel",{"$f":"+Hypothèses!$F19","v":0.37735849056603771},"US$/litre"]
[null,null,null,null,null,"Consommation totale diesel",{"$f":"G228*G227/G246/1000000","v":11.029411764705884},"Million litres",null,null,null,null,null,null,"Consommation totale diesel",{"$f":"P228*P227/P246/1000000","v":10.416666666666666},"Million litres",null,null,null,null,null,null,"Consommation totale diesel",{"$f":"Y228*Y227/Y246/1000000","v":10.416666666666666},"Million litres",null,null,null,null,null,null,"Consommation totale diesel",{"$f":"AH228*AH227/AH246/1000000","v":9.375},"Million litres"]
[null,null,null,null,null,"1000 l diesel =",{"$f":"+Hypothèses!$F21*Hypothèses!$F22","v":36.397199999999998},"GJ",null,null,null,null,null,null,"1000 l diesel =",{"$f":"+Hypothèses!$F21*Hypothèses!$F22","v":36.397199999999998},"GJ",null,null,null,null,null,null,"1000 l diesel =",{"$f":"+Hypothèses!$F21*Hypothèses!$F22","v":36.397199999999998},"GJ",null,null,null,null,null,null,"1000 l diesel =",{"$f":"+Hypothèses!$F21*Hypothèses!$F22","v":36.397199999999998},"GJ"]
[null,null,null,null,null,"Coefficient d'émission CO2-éq. ",{"$f":"+Hypothèses!$C37","v":74.066666666666663},"kgCO2-eq./GJ",null,null,null,null,null,null,"Coefficient d'émission CO2-éq. ",{"$f":"+Hypothèses!$C37","v":74.066666666666663},"kgCO2-eq./GJ",null,null,null,null,null,null,"Coefficient d'émission CO2-éq. ",{"$f":"+Hypothèses!$C37","v":74.066666666666663},"kgCO2-eq./GJ",null,null,null,null,null,null,"Coefficient d'émission CO2-éq. ",{"$f":"+Hypothèses!$C37","v":74.066666666666663},"kgCO2-eq./GJ"]
[null,null,null,null,null,"Emissions dues diesel",{"$f":"+G248*G249*G250","v":29733.300882352945},"tCO2",null,null,null,null,null,null,"Emissions dues diesel",{"$f":"+P248*P249*P250","v":28081.450833333325},"tCO2",null,null,null,null,null,null,"Emissions dues diesel",{"$f":"+Y248*Y249*Y250","v":28081.450833333325},"tCO2",null,null,null,null,null,null,"Emissions dues diesel",{"$f":"+AH248*AH249*AH250","v":25273.30575},"tCO2"]
[null,null,null,null,null,"Efficacité économique",{"$f":"+C232/G227/1000","v":0.76558237003130081},"US$/km",null,null,null,null,null,null,"Efficacité économique",{"$f":"+L232/P227/1000","v":0.759416381623359},"US$/km",null,null,null,null,null,null,"Efficacité économique",{"$f":"+U232/Y227/1000","v":0.759416381623359},"US$/km",null,null,null,null,null,null,"Efficacité économique",{"$f":"+AD232/AH227/1000","v":0.748934201329858},"US$/km"]
[]
[]
[]
["Camions légers électriques (1000 camions) - 2025",null,null,null,null,null,null,null,null,"Camions légers électriques (1000 camions) - 2030",null,null,null,null,null,null,null,null,"Camions légers électriques (1000 camions) - 2035",null,null,null,null,null,null,null,null,"Camions légers électriques (1000 camions) - 2050"]
["Coûts en","Option de","Option de ","Augmentation",null,"Entrées générales:",null,null,null,"Coûts en","Option de","Option de ","Augmentation",null,"Entrées générales:",null,null,null,"Coûts en","Option de","Option de ","Augmentation",null,"Entrées générales:",null,null,null,"Coûts en","Option de","Option de ","Augmentation",null,"Entrées générales:"]
["US$","Réduction","Référence","(Réd.-Réf.)",null,"Taux d'actualisation",{"$f":"+DiscountRate","v":7.0000000000000007E-2},null,null,"US$","Réduction","Référence","(Réd.-Réf.)",null,"Taux d'actualisation",{"$f":"+DiscountRate","v":7.0000000000000007E-2},null,null,"US$","Réduction","Référence","(Réd.-Réf.)",null,"Taux d'actualisation",{"$f":"+DiscountRate","v":7.0000000000000007E-2},null,null,"US$","Réduction","Référence","(Réd.-Réf.)",null,"Taux d'actualisation",{"$f":"+DiscountRate","v":7.0000000000000007E-2}]
["Investissement total",{"$f":"+G260*(G262+G265*G266)+G263*G264","v":158095000},{"$f":"G260*G276","v":75000000},{"$f":"B259-C259","v":83095000},null,"Distance annuelle",12000,"km",null,"Investissement total",{"$f":"+P260*(P262+P265*P266)+P263*P264","v":107470000},{"$f":"P260*P276","v":75000000},{"$f":"K259-L259","v":32470000},null,"Distance annuelle",12000,"km",null,"Investissement total",{"$f":"+Y260*(Y262+Y265*Y266)+Y263*Y264","v":104470000},{"$f":"Y260*Y276","v":75000000},{"$f":"T259-U259","v":29470000},null,"Distance annuelle",12000,"km",null,"Investissement total",{"$f":"+AH260*(AH262+AH265*AH266)+AH263*AH264","v":81970000},{"$f":"AH260*AH276","v":75000000},{"$f":"AC259-AD259","v":6970000},null,"Distance annuelle",12000,"km"]
["Durée de vie du projet",12,12,null,null,"Activité",1000,"Camions",null,"Durée de vie du projet",12,12,null,null,"Activité",1000,"Camions",null,"Durée de vie du projet",12,12,null,null,"Activité",1000,"Camions",null,"Durée de vie du projet",12,12,null,null,"Activité",1000,"Camions"]
["Investissements nivelés",{"$f":"IF(B260=0,0,PMT($G258,B260,-B259))","v":19904474.896415461},{"$f":"IF(C260=0,0,PMT($G226,C260,-C259))","v":9442649.1491265334},{"$f":"B261-C261","v":10461825.747288927},null,"Option de réduction: Camions électriques",null,null,null,"Investissements nivelés",{"$f":"IF(K260=0,0,PMT($P258,K260,-K259))","v":13530686.720755048},{"$f":"IF(L260=0,0,PMT($P$226,L260,-L259))","v":9442649.1491265334},{"$f":"K261-L261","v":4088037.5716285147},null,"Option de réduction: Camions électriques",null,null,null,"Investissements nivelés",{"$f":"IF(T260=0,0,PMT($P258,T260,-T259))","v":13152980.754789988},{"$f":"IF(U260=0,0,PMT($P$226,U260,-U259))","v":9442649.1491265334},{"$f":"T261-U261","v":3710331.6056634542},null,"Option de réduction: Camions électriques",null,null,null,"Investissements nivelés",{"$f":"IF(AC260=0,0,PMT($AH258,AC260,-AC259))","v":10320186.010052027},{"$f":"IF(AD260=0,0,PMT($AH$226,AD260,-AD259))","v":9442649.1491265334},{"$f":"AC261-AD261","v":877536.86092549376},null,"Option de réduction: Camions électriques"]
["O&M annuelle ",{"$f":"B259*G267","v":790475},{"$f":"G277*C259","v":750000},{"$f":"B262-C262","v":40475},null,"Investissement dans 1 véhicule",82875,"US$",null,"O&M annuelle ",{"$f":"K259*P267","v":537350},{"$f":"P277*L259","v":750000},{"$f":"K262-L262","v":-212650},null,"Investissement dans 1 véhicule",68250,"US$",null,"O&M annuelle ",{"$f":"T259*Y267","v":522350},{"$f":"Y277*U259","v":750000},{"$f":"T262-U262","v":-227650},null,"Investissement dans 1 véhicule",68250,"US$",null,"O&M annuelle ",{"$f":"AC259*AH267","v":409850},{"$f":"AH277*AD259","v":750000},{"$f":"AC262-AD262","v":-340150},null,"Investissement dans 1 véhicule",48750,"US$"]
["Coût annuel carburant",{"$f":"G269*1000*G271","v":1102702.7027027027},{"$f":"G280*G279*1000000","v":1223865.3748087708},{"$f":"B263-C263","v":-121162.67210606812},null,"Investissement dans 1 station de charge",{"$f":"322000/2","v":161000},"US$",null,"Coût annuel carburant",{"$f":"P269*1000*P271","v":1020000},{"$f":"P280*P279*1000000","v":1191658.3912611718},{"$f":"K263-L263","v":-171658.39126117178},null,"Investissement dans 1 station de charge",{"$f":"322000/2","v":161000},"US$",null,"Coût annuel carburant",{"$f":"Y269*1000*Y271","v":1020000},{"$f":"Y280*Y279*1000000","v":1191658.3912611718},{"$f":"T263-U263","v":-171658.39126117178},null,"Investissement dans 1 station de charge",{"$f":"322000/2","v":161000},"US$",null,"Coût annuel carburant",{"$f":"AH269*1000*AH271","v":960000},{"$f":"AH280*AH279*1000000","v":1078167.1159029647},{"$f":"AC263-AD263","v":-118167.11590296472},null,"Investissement dans 1 station de charge",{"$f":"322000/2","v":161000},"US$"]
["Coûts totaux annuel",{"$f":"SUM(B261:B263)","v":21797652.599118162},{"$f":"SUM(C261:C263)","v":11416514.523935305},{"$f":"B264-C264","v":10381138.075182857},null,"Nombre de stations de charge",20,"Stations",null,"Coûts totaux annuel",{"$f":"SUM(K261:K263)","v":15088036.720755048},{"$f":"SUM(L261:L263)","v":11384307.540387705},{"$f":"K264-L264","v":3703729.1803673431},null,"Nombre de stations de charge",20,"Stations",null,"Coûts totaux annuel",{"$f":"SUM(T261:T263)","v":14695330.754789988},{"$f":"SUM(U261:U263)","v":11384307.540387705},{"$f":"T264-U264","v":3311023.2144022826},null,"Nombre de stations de charge",20,"Stations",null,"Coûts totaux annuel",{"$f":"SUM(AC261:AC263)","v":11690036.010052027},{"$f":"SUM(AD261:AD263)","v":11270816.265029497},{"$f":"AC264-AD264","v":419219.74502252974},null,"Nombre de stations de charge",20,"Stations"]
[null,null,null,null,null,"Taille de batterie",600,"kWh",null,null,null,null,null,null,"Taille de batterie",600,"kWh",null,null,null,null,null,null,"Taille de batterie",600,"kWh",null,null,null,null,null,null,"Taille de batterie",600,"kWh"]
["Émissions annuelles (tonnes)","Tonnes","Tonnes","Réduction",null,"Investissement dans batterie",120,"US$/kWh",null,"Émissions annuelles (tonnes)","Tonnes","Tonnes","Réduction",null,"Investissement dans batterie",{"$f":"+P234","v":60},"US$/kWh",null,"Émissions annuelles (tonnes)","Tonnes","Tonnes","Réduction",null,"Investissement dans batterie",{"$f":"+Y234","v":55},"US$/kWh",null,"Émissions annuelles (tonnes)","Tonnes","Tonnes","Réduction",null,"Investissement dans batterie",{"$f":"+AH234","v":50},"US$/kWh"]
["Éq.-CO2 d'émission de carburant",{"$f":"+G273","v":2470.395885908375},{"$f":"+G283","v":8743.1976648648633},{"$f":"C267-B267","v":6272.8017789564883},null,"O&M annuelle",5.0000000000000001E-3,"de investissement",null,"Éq.-CO2 d'émission de carburant",{"$f":"+P273","v":2100.9482941904016},{"$f":"+P283","v":8513.1135157894751},{"$f":"L267-K267","v":6412.1652215990734},null,"O&M annuelle",5.0000000000000001E-3,"de investissement",null,"Éq.-CO2 d'émission de carburant",{"$f":"+Y273","v":2083.0157429492301},{"$f":"+Y283","v":8513.1135157894751},{"$f":"U267-T267","v":6430.0977728402449},null,"O&M annuelle",5.0000000000000001E-3,"de investissement",null,"Éq.-CO2 d'émission de carburant",{"$f":"+AH273","v":1923.351030811571},{"$f":"+AH283","v":7702.3407999999981},{"$f":"AD267-AC267","v":5778.9897691884271},null,"O&M annuelle",5.0000000000000001E-3,"de investissement"]
["Autres",null,null,null,null,"Consommation électrique",2.1764705882352944,"km/kWh",null,"Autres",null,null,null,null,"Consommation électrique",{"$f":"1/0.5/0.85","v":2.3529411764705883},"km/kWh",null,"Autres",null,null,null,null,"Consommation électrique",{"$f":"1/0.5/0.85","v":2.3529411764705883},"km/kWh",null,"Autres",null,null,null,null,"Consommation électrique",{"$f":"1/0.5/0.8","v":2.5},"km/kWh"]
["Émission total CO2-éq. ",{"$f":"B267+B268","v":2470.395885908375},{"$f":"C267+C268","v":8743.1976648648633},{"$f":"C269-B269","v":6272.8017789564883},null,"Consommation totale d´électricité",{"$f":"G260*G259/G268/1000","v":5513.5135135135133},"MWh",null,"Émission total CO2-éq. ",{"$f":"K267+K268","v":2100.9482941904016},{"$f":"L267+L268","v":8513.1135157894751},{"$f":"L269-K269","v":6412.1652215990734},null,"Consommation totale d´électricité",{"$f":"P260*P259/P268/1000","v":5100},"MWh",null,"Émission total CO2-éq. ",{"$f":"T267+T268","v":2083.0157429492301},{"$f":"U267+U268","v":8513.1135157894751},{"$f":"U269-T269","v":6430.0977728402449},null,"Consommation totale d´électricité",{"$f":"Y260*Y259/Y268/1000","v":5100},"MWh",null,"Émission total CO2-éq. ",{"$f":"AC267+AC268","v":1923.351030811571},{"$f":"AD267+AD268","v":7702.3407999999981},{"$f":"AD269-AC269","v":5778.9897691884271},null,"Consommation totale d´électricité",{"$f":"AH260*AH259/AH268/1000","v":4800},"MWh"]
[null,null,null,null,null,"Distance totale possible",{"$f":"G265*G268","v":1305.8823529411766},"km",null,null,null,null,null,null,"Distance totale possible",{"$f":"P265*P268","v":1411.7647058823529},"km",null,null,null,null,null,null,"Distance totale possible",{"$f":"Y265*Y268","v":1411.7647058823529},"km",null,null,null,null,null,null,"Distance totale possible",{"$f":"AH265*AH268","v":1500},"km"]
["US$/ton CO2-eq.",null,null,{"$f":"IF(D269<>0,D264/D269,0)","v":1654.9443838650695},null,"Prix de électricité de référence",{"$f":"+Hypothèses!$C25","v":0.2},"US$/kWh",null,"US$/ton CO2-eq.",null,null,{"$f":"IF(M269<>0,M264/M269,0)","v":577.60975464130399},null,"Prix de électricité de référence",{"$f":"+Hypothèses!$C25","v":0.2},"US$/kWh",null,"US$/ton CO2-eq.",null,null,{"$f":"IF(V269<>0,V264/V269,0)","v":514.92579605671642},null,"Prix de électricité de référence",{"$f":"+Hypothèses!$C25","v":0.2},"US$/kWh",null,"US$/ton CO2-eq.",null,null,{"$f":"IF(AE269<>0,AE264/AE269,0)","v":72.542046580124492},null,"Prix de électricité de référence",{"$f":"+Hypothèses!$C25","v":0.2},"US$/kWh"]
[null,null,null,null,null,"Coefficient d'émission CO2-éq. ",{"$f":"+G240","v":0.44806199891475434},"tCO2/MWh",null,null,null,null,null,null,"Coefficient d'émission CO2-éq. ",{"$f":"+P240","v":0.41195064591968661},"tCO2/MWh",null,null,null,null,null,null,"Coefficient d'émission CO2-éq. ",{"$f":"+Y240","v":0.40843445940180984},"tCO2/MWh",null,null,null,null,null,null,"Coefficient d'émission CO2-éq. ",{"$f":"+AH240","v":0.40069813141907729},"tCO2/MWh"]
[null,null,null,null,null,"Emissions dues électricité",{"$f":"+G269*G272","v":2470.395885908375},"tCO2",null,null,null,null,null,null,"Emissions dues électricité",{"$f":"+P269*P272","v":2100.9482941904016},"tCO2",null,null,null,null,null,null,"Emissions dues électricité",{"$f":"+Y269*Y272","v":2083.0157429492301},"tCO2",null,null,null,null,null,null,"Emissions dues électricité",{"$f":"+AH269*AH272","v":1923.351030811571},"tCO2"]
[null,null,null,null,null,"Efficacité économique",{"$f":"+B264/G259/1000","v":1.8164710499265133},"US$/km",null,null,null,null,null,null,"Efficacité économique",{"$f":"+K264/P259/1000","v":1.257336393396254},"US$/km",null,null,null,null,null,null,"Efficacité économique",{"$f":"+T264/Y259/1000","v":1.2246108962324991},"US$/km",null,null,null,null,null,null,"Efficacité économique",{"$f":"+AC264/AH259/1000","v":0.97416966750433565},"US$/km"]
[null,null,null,null,null,"Option de référence: Camions diesel normaux",null,null,null,null,null,null,null,null,"Option de référence: Camions diesel normaux",null,null,null,null,null,null,null,null,"Option de référence: Camions diesel normaux",null,null,null,null,null,null,null,null,"Option de référence: Camions diesel normaux"]
[null,null,null,null,null,"Investissement dans 1 véhicule",75000,"US$",null,null,null,null,null,null,"Investissement dans 1 véhicule",75000,"US$",null,null,null,null,null,null,"Investissement dans 1 véhicule",75000,"US$",null,null,null,null,null,null,"Investissement dans 1 véhicule",75000,"US$"]
[null,null,null,null,null,"O&M annuelle",0.01,"de investissement",null,null,null,null,null,null,"O&M annuelle",0.01,"de investissement",null,null,null,null,null,null,"O&M annuelle",0.01,"de investissement",null,null,null,null,null,null,"O&M annuelle",0.01,"de investissement"]
[null,null,null,null,null,"Consommation diesel",3.7,"km/l",null,null,null,null,null,null,"Consommation diesel",3.8,"km/l",null,null,null,null,null,null,"Consommation diesel",3.8,"km/l",null,null,null,null,null,null,"Consommation diesel",4.2,"km/l"]
[null,null,null,null,null,"Prix diesel",{"$f":"+Hypothèses!$F19","v":0.37735849056603771},"US$/litre",null,null,null,null,null,null,"Prix diesel",{"$f":"+Hypothèses!$F19","v":0.37735849056603771},"US$/litre",null,null,null,null,null,null,"Prix diesel",{"$f":"+Hypothèses!$F19","v":0.37735849056603771},"US$/litre",null,null,null,null,null,null,"Prix diesel",{"$f":"+Hypothèses!$F19","v":0.37735849056603771},"US$/litre"]
[null,null,null,null,null,"Consommation totale diesel",{"$f":"G260*G259/G278/1000000","v":3.243243243243243},"Million litres",null,null,null,null,null,null,"Consommation totale diesel",{"$f":"P260*P259/P278/1000000","v":3.1578947368421058},"Million litres",null,null,null,null,null,null,"Consommation totale diesel",{"$f":"Y260*Y259/Y278/1000000","v":3.1578947368421058},"Million litres",null,null,null,null,null,null,"Consommation totale diesel",{"$f":"AH260*AH259/AH278/1000000","v":2.8571428571428568},"Million litres"]
[null,null,null,null,null,"1000 l diesel =",{"$f":"+Hypothèses!$F21*Hypothèses!$F22","v":36.397199999999998},"GJ",null,null,null,null,null,null,"1000 l diesel =",{"$f":"+Hypothèses!$F21*Hypothèses!$F22","v":36.397199999999998},"GJ",null,null,null,null,null,null,"1000 l diesel =",{"$f":"+Hypothèses!$F21*Hypothèses!$F22","v":36.397199999999998},"GJ",null,null,null,null,null,null,"1000 l diesel =",{"$f":"+Hypothèses!$F21*Hypothèses!$F22","v":36.397199999999998},"GJ"]
[null,null,null,null,null,"Coefficient d'émission CO2-éq. ",{"$f":"+Hypothèses!$C37","v":74.066666666666663},"kgCO2-eq./GJ",null,null,null,null,null,null,"Coefficient d'émission CO2-éq. ",{"$f":"+Hypothèses!$C37","v":74.066666666666663},"kgCO2-eq./GJ",null,null,null,null,null,null,"Coefficient d'émission CO2-éq. ",{"$f":"+Hypothèses!$C37","v":74.066666666666663},"kgCO2-eq./GJ",null,null,null,null,null,null,"Coefficient d'émission CO2-éq. ",{"$f":"+Hypothèses!$C37","v":74.066666666666663},"kgCO2-eq./GJ"]
[null,null,null,null,null,"Emissions dues diesel",{"$f":"+G280*G281*G282","v":8743.1976648648633},"tCO2",null,null,null,null,null,null,"Emissions dues diesel",{"$f":"+P280*P281*P282","v":8513.1135157894751},"tCO2",null,null,null,null,null,null,"Emissions dues diesel",{"$f":"+Y280*Y281*Y282","v":8513.1135157894751},"tCO2",null,null,null,null,null,null,"Emissions dues diesel",{"$f":"+AH280*AH281*AH282","v":7702.3407999999981},"tCO2"]
[null,null,null,null,null,"Efficacité économique",{"$f":"+C264/G259/1000","v":0.95137621032794206},"US$/km",null,null,null,null,null,null,"Efficacité économique",{"$f":"+L264/P259/1000","v":0.94869229503230867},"US$/km",null,null,null,null,null,null,"Efficacité économique",{"$f":"+U264/Y259/1000","v":0.94869229503230867},"US$/km",null,null,null,null,null,null,"Efficacité économique",{"$f":"+AD264/AH259/1000","v":0.93923468875245819},"US$/km"]
[]
[]
[]
["Train Electric (1Mill. trainkm/day) "]
["Coûts en","Option de","Option de ","Augmentation",null,"General inputs:"]
["US$","Réduction","Référence","(Réd.-Réf.)",null,"Taux d'actualisation",{"$f":"+DiscountRate","v":7.0000000000000007E-2}]
["Investissement total",{"$f":"1000000*(G293+G294)/G291","v":164613246.87355259},0,{"$f":"B291-C291","v":164613246.87355259},null,"Activité par an",1.7,"Million trainkm/an"]
["Durée de vie du projet",40,null,null,null,"Reduction option: New electric  trains"]
["Investissements nivelés",{"$f":"IF(B292=0,0,PMT($G290,B292,-B291))","v":12347497.895174205},{"$f":"+G290","v":7.0000000000000007E-2},{"$f":"B293-C293","v":12347497.825174205},null,"Cout de 11 trains",{"$f":"11*53/6.35","v":91.811023622047244},"Million US$"]
["O&M annuelle ",{"$f":"G295*1000000","v":2422047.2440944882},{"$f":"+G303*1000000","v":2581102.3622047245},{"$f":"B294-C294","v":-159055.11811023625},null,"Cout de rails",{"$f":"1194/6.35","v":188.03149606299215},"Million US$"]
["Coût annuel carburant",{"$f":"+G297*G298*1000000/G291","v":1310000},{"$f":"G305*G306*1000000/G291","v":532075.47169811314},{"$f":"B295-C295","v":777924.52830188686},null,"Annual O&M",{"$f":"15.38/6.35","v":2.4220472440944882},"US$/trainkm"]
["Coûts totaux annuel",{"$f":"SUM(B293:B295)","v":16079545.139268693},{"$f":"SUM(C293:C295)","v":3113177.9039028375},{"$f":"B296-C296","v":12966367.235365855},null,"Specific consumption",6.55,"kWh/trainkm"]
[null,null,null,null,null,"Electricity consumption",{"$f":"G296*G291","v":11.135},"GWh/year"]
["Émissions annuelles (tonnes)","Tonnes","Tonnes","Réduction",null,"Reference electricity price",{"$f":"+Hypothèses!C25","v":0.2},"US$/kWh"]
["Éq.-CO2 d'émission de carburant",{"$f":"G297*G299*1000/1.7","v":2934.8060928916407},{"$f":"+G310","v":1615.0551493801411},{"$f":"C299-B299","v":-1319.7509435114996},null,"CO2-eq. emission coefficient",{"$f":"+G272","v":0.44806199891475434},"tCO2/MWh"]
["Autres",null,null,null,null,"Emissions ",{"$f":"G297*G299*1000","v":4989.1703579157893},"tCO2/an"]
["Émission total CO2-éq. ",{"$f":"B299+B300","v":2934.8060928916407},{"$f":"C299+C300","v":1615.0551493801411},{"$f":"C301-B301","v":-1319.7509435114996}]
[null,null,null,null,null,"Reference option: Normal diesel rail"]
["US$/ton CO2-eq.",null,null,{"$f":"IF(D301<>0,D296/D301,0)","v":-9824.8592275038391},null,"O&M Annuelle",{"$f":"16.39/6.35","v":2.5811023622047244},"US$/trainkm"]
[null,null,null,null,null,"Consommation spécifique",1.41,"liter/trainkm"]
[null,null,null,null,null,"Diesel Consommation",{"$f":"G291*G304","v":2.3969999999999998},"Million liter/an"]
[null,null,null,null,null,"Prix diesel",{"$f":"+Hypothèses!F19","v":0.37735849056603771},"US$/liter"]
[null,null,null,null,null,"1000 l diesel=",{"$f":"Hypothèses!F20*Hypothèses!F21","v":8.7089427778914779},"GJ"]
[null,null,null,null,null,"Diesel Consommation",{"$f":"G305*1000*G307","v":20875.335838605872},"GJ/an"]
[null,null,null,null,null,"Coefficient d'émission CO2-éq. ",{"$f":"Hypothèses!C36","v":77.366666666666674},"kgCO2-eq./GJ"]
[null,null,null,null,null,"Emissions ",{"$f":"G308*G309/1000","v":1615.0551493801411},"tCO2/an"]
[]
[]
[]
[]
[]
[]
["Déplacement des passagers de la voiture vers le rail (1000 personnes, km/jour)"]
["Coûts en","Option de","Option de ","Augmentation",null,"Entrées générales:"]
["US$","Réduction","Référence","(Réd.-Réf.)",null,"Taux d'actualisation",{"$f":"+DiscountRate","v":7.0000000000000007E-2}]
["Investissement total",{"$f":"+G323*1000000/G320","v":927333333.33333337},null,{"$f":"B320-C320","v":927333333.33333337},null,"Activité par jour",0.3,"Million pkm/jour"]
["Durée de vie du projet",40,null,null,null,"Activité par an",{"$f":"G320*365","v":109.5},"Million pkm/an"]
["Investissements nivelés",{"$f":"IF(B321=0,0,PMT($G319,B321,-B320))","v":69558474.782127976},{"$f":"+G319","v":7.0000000000000007E-2},{"$f":"B322-C322","v":69558474.712127984},null,"Options de réduction: Nouveaux passagers sur trains diesel"]
["O&M annuelle ",{"$f":"B320*G324","v":9273.3333333333339},null,null,null,"Coût des rails et trains",278.2,"Million US$"]
["Coût annuel carburant",{"$f":"G330/G327*G326*1000/G320","v":491.95158906065558},{"$f":"G340/G327*G326*1000/G320","v":5651.1362025429135},{"$f":"B324-C324","v":-5159.1846134822581},null,"O&M Annuelle",1.0000000000000001E-5]
["Coûts totaux annuel",{"$f":"SUM(B322:B324)","v":69568240.067050368},{"$f":"SUM(C322:C324)","v":5651.2062025429132},{"$f":"B325-C325","v":69562588.860847831},null,"Consommation spécifique",0.13,"MJ/pkm"]
[null,null,null,null,null,"Prix diesel",{"$f":"+Hypothèses!F19","v":0.37735849056603771},"US$/liter"]
["Émissions annuelles (tonnes)","Tonnes","Tonnes","Réduction",null,"1000 l diesel =",{"$f":"+Hypothèses!F21*Hypothèses!F22","v":36.397199999999998},"GJ"]
["Éq.-CO2 d'émission de carburant",{"$f":"+G331/G320","v":3514.4633333333331},{"$f":"+G341/G320","v":38972.266666666663},{"$f":"C328-B328","v":35457.80333333333},null,"Coefficient d'émission CO2-éq. ",{"$f":"+Hypothèses!C37","v":74.066666666666663},"kgCO2-eq./GJ"]
["Autres",null,null,null,null,"Emissions CO2 spécifiques",{"$f":"+G325*G328","v":9.6286666666666658},"gCO2/pkm"]
["Émission total CO2-éq. ",{"$f":"B328+B329","v":3514.4633333333331},{"$f":"C328+C329","v":38972.266666666663},{"$f":"C330-B330","v":35457.80333333333},null,"Consommation énergie",{"$f":"+G325*G321","v":14.235000000000001},"TJ/an"]
[null,null,null,null,null,"Emissions ",{"$f":"G321*G329","v":1054.3389999999999},"tCO2/an"]
["US$/ton CO2-eq.",null,null,{"$f":"IF(D330<>0,D325/D330,0)","v":1961.8414656683801}]
[null,null,null,null,null,"Options de référence: Voitures à essence normales"]
[null,null,null,null,null,"Taux d´occupation",1.5,"personnes/voiture"]
[null,null,null,null,null,"Consommation essence",15,"km/l"]
[null,null,null,null,null,"Prix essence",{"$f":"+Hypothèses!C19","v":0.44025157232704398},"US$/litre"]
[null,null,null,null,null,"1000 l gasoline=",{"$f":"+Hypothèses!C21*Hypothèses!C22","v":33.599999999999994},"GJ"]
[null,null,null,null,null,"Coefficient d'émission CO2-éq. ",{"$f":"+Hypothèses!C39","v":71.5},"kgCO2-eq./GJ"]
[null,null,null,null,null,"Emissions CO2 spécifiques",{"$f":"+G337*G338/(G335*G334)","v":106.77333333333331},"gCO2/pkm"]
[null,null,null,null,null,"Consommation énergie",{"$f":"G337/(G334*G335)*G321","v":163.51999999999998},"TJ/an"]
[null,null,null,null,null,"Emissions ",{"$f":"+G321*G339","v":11691.679999999998},"tCO2/an"]
[]
[]
[]
[]
["Déplacement du transport de marchandises de la route vers le rail (1000 tonnes, km/jour)"]
["Coûts en","Option de","Option de ","Augmentation",null,"Entrées générales:"]
["US$","Réduction","Référence","(Réd.-Réf.)",null,"Taux d'actualisation",{"$f":"+DiscountRate","v":7.0000000000000007E-2}]
["Investissement total",null,null,{"$f":"B349-C349","v":0},null,"Activité par jour",{"$f":"1000","v":1000},"tonkm chargement/jour"]
["Durée de vie du projet",30,15,null,null,"Activité par an",{"$f":"G349*365","v":365000},"tonkm chargement/an"]
["Investissements nivelés",{"$f":"IF(B350=0,0,PMT($G348,B350,-B349))","v":0},{"$f":"IF(C350=0,0,PMT(+G348,C350,-C349))","v":0},{"$f":"B351-C351","v":0},null,"Options de réduction: Trains efficaces"]
["O&M annuelle ",{"$f":"G352*G360*1000000","v":30000},{"$f":"G363*G362*G365","v":366666.66666666663},{"$f":"B352-C352","v":-336666.66666666663},null,"Investissement pour trains",3,"MUS$"]
["Coût annuel carburant",{"$f":"G358*G368","v":647.94920031673587},{"$f":"G369*G368","v":34433.962264150941},{"$f":"B353-C353","v":-33786.013063834209},null,"1 US gallon",3.7854000000000001,"litre"]
["Coûts totaux annuel",{"$f":"SUM(B351:B353)","v":30647.949200316736},{"$f":"SUM(C351:C353)","v":401100.62893081759},{"$f":"B354-C354","v":-370452.67973050085},null,"1 Mile",1.60934,"km"]
[null,null,null,null,null,"Consommation spécifique de diesel",{"$f":"1/500","v":2E-3},"Gallon/tonMiles"]
["Émissions annuelles (tonnes)","Tonnes","Tonnes","Réduction",null,"Consommation spécifique de diesel",{"$f":"G355*G353/G354","v":4.7042887146283565E-3},"litres/tonkm"]
["Éq.-CO2 d'émission de carburant",{"$f":"G359","v":4.6288979586872623},{"$f":"+G372","v":245.99350929999997},{"$f":"C357-B357","v":241.3646113413127},null,"Coefficient d'émission CO2-éq. diesel",{"$f":"+Hypothèses!C37","v":74.066666666666663},"kgCO2-eq./GJ"]
["Autres",null,null,null,null,"Consommation totale diesel",{"$f":"G350*G356","v":1717.0653808393502},"litres/an"]
["Émission total CO2-éq. ",{"$f":"B357+B358","v":4.6288979586872623},{"$f":"C357+C358","v":245.99350929999997},{"$f":"C359-B359","v":241.3646113413127},null,"Emissions dues au diesel",{"$f":"+G358/1000*G370*G357/1000","v":4.6288979586872623},"tCO2/an"]
[null,null,null,null,null,"O&M Annuelle",0.01,"de investissement"]
["US$/ton CO2-eq.",null,null,{"$f":"IF(D359<>0,D354/D359,0)","v":-1534.825994878948},null,"Options de référence: Camions diesel normaux"]
[null,null,null,null,null,"Investissement pour 1 camion",220000,"US$"]
[null,null,null,null,null,"O&M Annuelle",0.01,"de investissement"]
[null,null,null,null,null,"Taux d´occupation cargaison",6,"Tonnes par camion"]
[null,null,null,null,null,"Nombre de camions",{"$f":"G349/G364","v":166.66666666666666},"camions/jour"]
[null,null,null,null,null,"Distance camion",{"$f":"G349/G365","v":6},"km/jour"]
[null,null,null,null,null,"Consommation diesel",4,"km/litre"]
[null,null,null,null,null,"Prix diesel",{"$f":"+Hypothèses!F19","v":0.37735849056603771},"US$/litre"]
[null,null,null,null,null,"Consommation totale diesel",{"$f":"G365*G366*365/G367","v":91250},"litres/an"]
[null,null,null,null,null,"1000 l diesel =",{"$f":"+Hypothèses!F21*Hypothèses!F22","v":36.397199999999998},"GJ"]
[null,null,null,null,null,"Coefficient d'émission CO2-éq. diesel",{"$f":"+Hypothèses!C37","v":74.066666666666663},"kgCO2-eq./GJ"]
[null,null,null,null,null,"Emissions dues au diesel",{"$f":"+G369*G370*G371/1000000","v":245.99350929999997},"tCO2/an"]
[]
[]
[]
[]
["Taxis au gaz naturel (1000 taxis)"]
["Coûts en","Option de","Option de ","Augmentation",null,"Entrées générales:"]
["US$","Réduction","Référence","(Réd.-Réf.)",null,"Taux d'actualisation",{"$f":"+DiscountRate","v":7.0000000000000007E-2}]
["Investissement total",{"$f":"G382*G381","v":1500000},null,null,null,"Options de réduction: Taxis gaz naturel"]
["Durée de vie du projet",10,null,null,null,"Activité",1000,"voitures"]
["Investissements nivelés",{"$f":"IF(B381=0,0,PMT($G379,B381,-B380))","v":213566.2540910471},null,{"$f":"B382-C382","v":213566.2540910471},null,"Investissement dans 1 taxi",1500,"US$"]
["O&M annuelle ",0,0,{"$f":"B383-C383","v":0},null,"Comsommation énergie",9.7200000000000006,"km/m3"]
["Coût annuel carburant",{"$f":"G387*G389*1000","v":123603.06594113862},{"$f":"G392*G393*1000000","v":423998.30400678393},{"$f":"B384-C384","v":-300395.23806564533},null,"Distance annuelle",10000,"km"]
["Coûts totaux annuel",{"$f":"SUM(B382:B384)","v":337169.3200321857},{"$f":"SUM(C382:C384)","v":423998.30400678393},{"$f":"B385-C385","v":-86828.983974598232},null,"Consommation totale gaz naturel",{"$f":"G381*G384/G383/1000000","v":1.0288065843621399},"Million m3"]
[null,null,null,null,null,"Energie contenue dans gaz naturel",{"$f":"+Hypothèses!N22","v":39},"MJ/m3"]
["Émissions annuelles (tonnes)","Tonnes","Tonnes","Réduction",null,"Consommation totale gaz naturel",{"$f":"G385*G386","v":40.123456790123456},"TJ"]
["Éq.-CO2 d'émission de carburant",{"$f":"+G387*G388","v":2250.9259259259261},{"$f":"G396*G397","v":3029.010426966292},{"$f":"C388-B388","v":778.08450104036592},null,"Facteur d´émission gaz naturel",{"$f":"+Hypothèses!C42","v":56.1},"kgCO2/GJ"]
["Autres",null,null,null,null,"Prix gaz naturel",{"$f":"+Hypothèses!N20","v":3.080568720379147},"US$/GJ"]
["Émission total CO2-éq. ",{"$f":"B388+B389","v":2250.9259259259261},{"$f":"C388+C389","v":3029.010426966292},{"$f":"C390-B390","v":778.08450104036592},null,"Options de référence: Taxis diesel normaux"]
[null,null,null,null,null,"Consommation",8.9,"km/l"]
["US$/ton CO2-eq.",null,null,{"$f":"IF(D390<>0,D385/D390,0)","v":-111.59325736279338},null,"Consommation totale diesel",{"$f":"G384*G381/G391/1000000","v":1.1235955056179776},"Million litres"]
[null,null,null,null,null,"Prix diesel",{"$f":"+Hypothèses!F19","v":0.37735849056603771},"US$/liter"]
[null,null,null,null,null,"Densité énergétique diesel",{"$f":"+Hypothèses!F21","v":0.84},"t/m3"]
[null,null,null,null,null,"Contenu énergétique diesel",{"$f":"+Hypothèses!F22","v":43.33},"GJ/ton"]
[null,null,null,null,null,"Consommation totale diesel",{"$f":"+G392*G394*G395","v":40.895730337078653},"TJ",null,null,null," "]
[null,null,null,null,null,"Facteur d´émission diesel",{"$f":"+Hypothèses!C37","v":74.066666666666663},"kgCO2/GJ"]
[]
[]
[]
[]
[]
[]
[]
["Restriction à l'importation de voitures d'occasion (1000 voitures)"]
["Coûts en","Option de","Option de ","Augmentation",null,"Entrées générales:"]
["US$","Réduction","Référence","(Réd.-Réf.)",null,"Taux d'actualisation",{"$f":"+DiscountRate","v":7.0000000000000007E-2}]
["Investissement total",null,null,null,null,"Prix essence",{"$f":"+Hypothèses!C19","v":0.44025157232704398},"US$/litre"]
["Durée de vie du projet",null,null,null,null,"1 toe =",41.868000000000002,"GJ"]
["Investissements nivelés",{"$f":"IF(B409=0,0,PMT($G407,B409,-B408))","v":0},{"$f":"+G407","v":7.0000000000000007E-2},{"$f":"B410-C410","v":-7.0000000000000007E-2},null,"Equivalent en litres de 1 toe de essence",{"$f":"Hypothèses!C66/Hypothèses!C71","v":1246.0714285714287},"liter"]
["Réduction en subsides",{"$f":"G411*G417*1000000","v":40000.000000000007},{"$f":"G411*G422*1000000","v":60000},{"$f":"B411-C411","v":-19999.999999999993},null,"Subsides de l´Etat",0.05,"US$/litre"]
["O&M annuelle ",0,0,{"$f":"B412-C412","v":0},null,"Emissions dues à essence",{"$f":"+Hypothèses!C38","v":69.3},"kgCO2/GJ"]
["Coût annuel carburant",{"$f":"G417*G408*1000000","v":352201.25786163518},{"$f":"G422*G408*1000000","v":528301.88679245266},{"$f":"B413-C413","v":-176100.62893081747},null,"Options de réduction: Pas d´importation"]
["Coûts totaux annuel",{"$f":"SUM(B410:B413)","v":392201.25786163518},{"$f":"SUM(C410:C413)","v":588301.95679245261},{"$f":"B414-C414","v":-196100.69893081742},null,"Activité",1000,"Voitures"]
["Émissions annuelles (tonnes)","Tonnes","Tonnes","Réduction",null,"Consommation",15,"km/litre"]
["Éq.-CO2 d'émission de carburant",{"$f":"+G419","v":1862.7839999999999},{"$f":"+G423","v":2794.1759999999995},{"$f":"C416-B416","v":931.3919999999996},null,"Distance annuelle",12000,"km"]
["Autres",null,null,null,null,"Consommation totale essence",{"$f":"G414*G416/G415/1000000","v":0.8},"Million litres"]
["Émission total CO2-éq. ",{"$f":"B416+B417","v":1862.7839999999999},{"$f":"C416+C417","v":2794.1759999999995},{"$f":"C418-B418","v":931.3919999999996},null,"Total gasoline reduction",{"$f":"(G422-G417)/G410*1000","v":0.32100888506735442},"ktoe"]
[null,null,null,null,null,"Emissions dues à essence",{"$f":"G417/G410*1000*G409*G412","v":1862.7839999999999},"tCO2"]
["US$/ton CO2-eq.",null,null,{"$f":"IF(D418<>0,D414/D418,0)","v":-210.54582703181637},null,"Options de référence: Importations de voiture d´occasion"]
[null,null,null,null,null,"Consommation",10,"km/litre"]
[null,null,null,null,null,"Consommation totale essence",{"$f":"G414*G416/G421/1000000","v":1.2},"Million litres"]
[null,null,null,null,null,"Emissions",{"$f":"G422/G410*1000*G409*G412","v":2794.1759999999995},"tCO2"]
[]
[]
[]
[]
[]
[]
[]
[]
[]
["Meilleur entretien et utilisation des motos (1000 motos)"]
["Coûts en","Option de","Option de ","Augmentation",null,"Entrées générales:"]
["US$","Réduction","Référence","(Réd.-Réf.)",null,"Taux d'actualisation",{"$f":"+DiscountRate","v":7.0000000000000007E-2}]
["Investissement total",null,null,null,null,"Prix essence",{"$f":"+Hypothèses!C19","v":0.44025157232704398},"US$/litre"]
["Durée de vie du projet",null,null,null,null,"1 toe =",41.868000000000002,"GJ"]
["Investissements nivelés",{"$f":"IF(B437=0,0,PMT($G435,B437,-B436))","v":0},{"$f":"+G435","v":7.0000000000000007E-2},{"$f":"B438-C438","v":-7.0000000000000007E-2},null,"Equivalent en litres de 1 toe de essence",{"$f":"Hypothèses!C66/Hypothèses!C71","v":1246.0714285714287},"litre"]
["O&M annuelle ",0,0,{"$f":"B439-C439","v":0},null,"Emissions dues à essence",{"$f":"+Hypothèses!C38","v":69.3},"kgCO2/GJ"]
["Coût annuel carburant",{"$f":"G444*G436*1000000","v":88050.314465408796},{"$f":"G449*G436*1000000","v":110062.89308176099},{"$f":"B440-C440","v":-22012.578616352199},null,"Options de réduction: meilleure maintenance"]
["Coûts totaux annuel",{"$f":"SUM(B438:B440)","v":88050.314465408796},{"$f":"SUM(C438:C440)","v":110062.963081761},{"$f":"B441-C441","v":-22012.648616352206},null,"Activité",1000,"Motos"]
[null,null,null,null,null,"Consommation énergie",25,"km/litre"]
["Émissions annuelles (tonnes)","Tonnes","Tonnes","Réduction",null,"Distance annuelle",5000,"km"]
["Éq.-CO2 d'émission de carburant",{"$f":"+G446","v":465.69599999999997},{"$f":"+G450","v":582.12},{"$f":"C444-B444","v":116.42400000000004},null,"Consommation totale essence",{"$f":"G441*G443/G442/1000000","v":0.2},"Million litres"]
["Autres",null,null,null,null,"Total gasoline reduction",{"$f":"(G449-G444)/G438*1000","v":4.0126110633419303E-2},"ktoe"]
["Émission total CO2-éq. ",{"$f":"B444+B445","v":465.69599999999997},{"$f":"C444+C445","v":582.12},{"$f":"C446-B446","v":116.42400000000004},null,"Emissions dues à essence",{"$f":"G444/G438*1000*G437*G439","v":465.69599999999997},"tCO2"]
["Total CO2-eq. emission ",null,null,null,null,"Otpions de référence: maintenance normale"]
["US$/ton CO2-eq.",null,null,{"$f":"IF(D446<>0,D441/D446,0)","v":-189.07311736714252},null,"Consommation",20,"km/litre"]
[null,null,null,null,null,"Consommation totale essence",{"$f":"G441*G443/G448/1000000","v":0.25},"Million litres"]
[null,null,null,null,null,"Emissions",{"$f":"G449/G438*1000*G437*G439","v":582.12},"tCO2"]
[]
[]
[]
[]
[]
[]
[]
[]
[]
["Service d'Autobus Express (1 km BRT)"]
["Coûts en","Option de","Option de ","Augmentation",null,"Entrées générales:"]
["US$","Réduction","Référence","(Réd.-Réf.)",null,"Taux d'actualisation",{"$f":"+DiscountRate","v":7.0000000000000007E-2}]
["Investissement total",{"$f":"+G471*1000000","v":3227166.8775326833},null,null,null,"Options de réduction: ligne BRT"]
["Durée de vie du projet",10,null,null,null,"Activité",19.600000000000001,"km BRT line"]
["Investissements nivelés",{"$f":"IF(B464=0,0,PMT($G462,B464,-B463))","v":459475.96090757073},null,{"$f":"B465-C465","v":459475.96090757073},null,"Investissement infrastructure",{"$f":"250/11.13/G464","v":1.1460109650329133},"MUS$/km"]
["Réduction en subsides",{"$f":"-G470*1000000","v":-1088822.8016916134},null,{"$f":"B466-C466","v":-1088822.8016916134},null,"Investissement autobus et système tickets",{"$f":"454/11.13/G464","v":2.0811559124997703},"MUS$/km"]
["O&M annuelle ",{"$f":"+G467*1000000","v":806791.71938317094},null,{"$f":"B467-C467","v":806791.71938317094},null,"O&M",{"$f":"176/11.13/G464","v":0.80679171938317096},"MUS$/km/year"]
["Coût annuel carburant",null,null,null,null,"Tarif moyen",{"$f":"3.09/11.63/G464","v":1.3555723235123796E-2},"US$/km"]
["Coûts totaux annuel",{"$f":"SUM(B465:B468)","v":177444.87859912834},{"$f":"SUM(C465:C468)","v":0},{"$f":"B469-C469","v":177444.87859912834},null,"Nombre moyen de passgers",80.322000000000003,"Million/year"]
[null,null,null,null,null,"Revenus moyens",{"$f":"G468*G469","v":1.0888228016916135},"MUS$/km/year"]
["Émissions annuelles (tonnes)","Tonnes","Tonnes","Réduction",null,"Investissement total",{"$f":"G465+G466","v":3.2271668775326834},"MUS$/km"]
["Éq.-CO2 d'émission de carburant",{"$f":"G472*G469","v":3614.4900000000002},{"$f":"+G479*G469","v":5597.9516326530611},{"$f":"C472-B472","v":1983.4616326530609},null,"Emissions spécifiques",45,"gCO2/pkm"]
["Autres",null,null,null,null,"Emissions totales",{"$f":"G472*G464*G469/1000","v":70.844004000000012},"ktCO2/year"]
["Émission total CO2-éq. ",{"$f":"B472+B473","v":3614.4900000000002},{"$f":"C472+C473","v":5597.9516326530611},{"$f":"C474-B474","v":1983.4616326530609},null,"Facteur d´émissions du diesel",{"$f":"+Hypothèses!C37","v":74.066666666666663},"kgCO2/GJ"]
[null,null,null,null,null,"Utilisation diesel",{"$f":"G472/G474*G469*1000","v":48800.495049504956},"GJ/km"]
["US$/ton CO2-eq.",null,null,{"$f":"IF(D474<>0,D469/D474,0)","v":89.462218818813056},null,"Prix diesel",{"$f":"+Hypothèses!F20","v":10.367789021299378},"US$/GJ"]
[]
[null,null,null,null,null,"Options de référence: Transport normal"]
[null,null,null,null,null,"Emissions spécifiques",{"$f":"1366/G464","v":69.693877551020407},"gCO2/pkm"]
[null,null,null,null,null,"Emissions totales",{"$f":"G479*G469*G464/1000","v":109.719852},"ktCO2/year"]
[null,null,null,null,null,"Facteur d´émissions de diesel",{"$f":"+Hypothèses!C37","v":74.066666666666663},"kgCO2/GJ"]
[null,null,null,null,null,"Utilisation diesel",{"$f":"G479/G481*G469*1000","v":75579.90503131946},"GJ/km"]
[null,null,null,null,null,"Prix diesel",{"$f":"+Hypothèses!F20","v":10.367789021299378},"US$/GJ"]
[]
[]
[]
[]
[]
[]
[]
["Nouvelles voies cyclables (1 km)"]
["Coûts en","Option de","Option de ","Augmentation",null,"Entrées générales:"]
["US$","Réduction","Référence","(Réd.-Réf.)",null,"Taux d'actualisation",{"$f":"+DiscountRate","v":7.0000000000000007E-2}]
["Investissement total",{"$f":"G499*G500","v":50000},null,null,null,"Prix essence",{"$f":"+Hypothèses!C19","v":0.44025157232704398},"US$/litre"]
["Durée de vie du projet",20,null,null,null,"1 toe =",41.868000000000002,"GJ"]
["Investissements nivelés",{"$f":"IF(B495=0,0,PMT($G493,B495,-B494))","v":4719.6462871627855},{"$f":"IF(C495=0,0,PMT($G$2,C495,-C494))","v":0},{"$f":"B496-C496","v":4719.6462871627855},null,"Equivalent en litres de 1 toe de essence",{"$f":"Hypothèses!C66/Hypothèses!C71","v":1246.0714285714287},"litre"]
["O&M annuelle ",0,0,{"$f":"B497-C497","v":0},null,"Emissions dues à essence",{"$f":"+Hypothèses!C38","v":69.3},"kgCO2/GJ"]
["Coût annuel carburant",{"$f":"G502*G494*1000000","v":0},{"$f":"G507*G494*1000000","v":104178.5549930971},{"$f":"B498-C498","v":-104178.5549930971},null,"Option de réduction: Nouvelles voies cyclables"]
["Coûts totaux annuel",{"$f":"SUM(B496:B498)","v":4719.6462871627855},{"$f":"SUM(C496:C498)","v":104178.5549930971},{"$f":"B499-C499","v":-99458.908705934315},null,"Activité",1,"km voies"]
[null,null,null,null,null,"Investissement",50000,"US$/km voie"]
["Émissions annuelles (tonnes)","Tonnes","Tonnes","Réduction",null,"Utilisation annuelle des voies",10,"M km/voiekm/an"]
["Éq.-CO2 d'émission de carburant",0,{"$f":"+G508","v":686.58271182439023},{"$f":"C502-B502","v":686.58271182439023}]
["Autres",null,null,null,null,"Options de référence: Voitures essence normales"]
["Émission total CO2-éq. ",{"$f":"B502+B503","v":0},{"$f":"C502+C503","v":686.58271182439023},{"$f":"C504-B504","v":686.58271182439023},null,"Consommation",12.3,"km/litre"]
[null,null,null,null,null,"Nombre de personnes par voiture",2]
["US$/ton CO2-eq.",null,null,{"$f":"IF(D504<>0,D499/D504,0)","v":-144.86078223795022},null,"Part ce dycliste utilisant la voiture",0.25]
[null,null,null,null,null,"Consommation totale essence",{"$f":"(1/G504)/G496*G495*G497*G501*G506/G505","v":0.23663414634146343},"Million litres"]
[null,null,null,null,null,"Emissions",{"$f":"G507*G495*G497","v":686.58271182439023},"1000tCO2"]
[]
[]
[]
[]
[]
[]
[]
[]
["Trois-roues électriques (1000 unités)"]
["Coûts en","Option de","Option de ","Augmentation",null,"Entrées générales:"]
["US$","Réduction","Référence","(Réd.-Réf.)",null,"Taux d'actualisation",{"$f":"+DiscountRate","v":7.0000000000000007E-2}]
["Investissement total",{"$f":"G521*G523","v":5649717.5141242938},{"$f":"+G533*1000","v":5107909.6045197742},{"$f":"B520-C520","v":541807.90960451961},null,"Distance annuelle/trois-roues",{"$f":"20.6*365","v":7519.0000000000009},"km"]
["Durée de vie du projet",10,10,null,null,"Activités",1000,"trois-roues"]
["Investissements nivelés",{"$f":"IF(B521=0,0,PMT(G519,B521,-B520))","v":804392.67077607196},{"$f":"IF(C521=0,0,PMT(G519,C521,-C520))","v":727251.41364864656},{"$f":"B522-C522","v":77141.257127425401},null,"Options de réduction: trois-roues électriques"]
["O&M annuelle ",{"$f":"B520*G525","v":28248.587570621468},{"$f":"G533*G521*G534","v":51079.096045197744},{"$f":"B523-C523","v":-22830.508474576276},null,"Investissement véhicules",{"$f":"1000000/177","v":5649.7175141242942},"US$"]
["Coût annuel carburant",{"$f":"G527*G529*1000","v":85249.433106575976},{"$f":"+G537*G536*1000","v":94578.61635220125},{"$f":"B524-C524","v":-9329.1832456252741},null,"Taile de batterie",{"$f":"7.37","v":7.37},"kWh"]
["Coûts totaux annuel",{"$f":"SUM(B522:B524)","v":917890.69145326945},{"$f":"SUM(C522:C524)","v":872909.12604604545},{"$f":"B525-C525","v":44981.565407224},null,"O&M annuelle",5.0000000000000001E-3,"de investissement"]
[null,null,null,null,null,"Electricity consumption",17.64,"km/kWh"]
["Émissions annuelles (tonnes)","Tonnes","Tonnes","Réduction",null,"Consommation électrique totale",{"$f":"G520/G526*G521/1000","v":426.24716553287988},"MWh"]
["Éq.-CO2 d'émission de carburant",{"$f":"G531","v":206.94299886621317},{"$f":"+G540","v":500.22403199999997},{"$f":"C528-B528","v":293.28103313378676},null,"Distance totale possible",{"$f":"G524*G526","v":130.0068},"km"]
["Autres",null,null,null,null,"Prix électricité référence",{"$f":"+Hypothèses!C25","v":0.2},"US$/kWh"]
["Émission total CO2-éq. ",{"$f":"B528+B529","v":206.94299886621317},{"$f":"C528+C529","v":500.22403199999997},{"$f":"C530-B530","v":293.28103313378676},null,"Coefficient d'émission CO2-éq.",{"$f":"+Hypothèses!C30","v":0.48549999999999999},"tCO2/MWh"]
[null,null,null,null,null,"Emissions dues à électricité",{"$f":"+G527*G530","v":206.94299886621317},"tCO2"]
["US$/ton CO2-eq.",null,null,{"$f":"IF(D530<>0,D525/D530,0)","v":153.37359162501534},null,"Options de référence: trois-roues normaux à essence"]
[null,null,null,null,null,"Investissement trois-roues essence",{"$f":"904100/177","v":5107.9096045197739},"US$"]
[null,null,null,null,null,"O&M annuelle",0.01,"de investissement"]
[null,null,null,null,null,"Consommation essence",{"$f":"35","v":35},"km/litre"]
[null,null,null,null,null,"Prix essence",{"$f":"+Hypothèses!C19","v":0.44025157232704398},"US$/litre"]
[null,null,null,null,null,"Consommation totale de essence",{"$f":"G520/G535*G521/1000","v":214.82857142857145},"Thousand litres"]
[null,null,null,null,null,"1000 l essence =",{"$f":"+Hypothèses!C21*Hypothèses!C22","v":33.599999999999994},"GJ"]
[null,null,null,null,null,"Coefficient d'émission CO2-éq.",{"$f":"+Hypothèses!C38","v":69.3},"kgCO2-eq./GJ"]
[null,null,null,null,null,"Emissions dues à essence",{"$f":"G537*G538*G539/1000","v":500.22403199999997},"tCO2"]
[]
[]
[]
[]
["Deux-roues électriques (1000 unités)"]
["Coûts en","Option de","Option de ","Augmentation",null,"Entrées générales:"]
["US$","Réduction","Référence","(Réd.-Réf.)",null,"Taux d'actualisation",{"$f":"+DiscountRate","v":7.0000000000000007E-2}]
["Investissement total",{"$f":"G549*G551","v":3333333.3333333335},{"$f":"+G561*1000","v":1732666.6666666667},{"$f":"B548-C548","v":1600666.6666666667},null,"Distance annuelle/trois-roues",5000,"km"]
["Durée de vie du projet",10,10,null,null,"Activités",1000,"trois-roues"]
["Investissements nivelés",{"$f":"IF(B549=0,0,PMT(G547,B549,-B548))","v":474591.67575788248},{"$f":"IF(C549=0,0,PMT(G547,C549,-C548))","v":246692.7530589473},{"$f":"B550-C550","v":227898.92269893517},null,"Options de réduction: deux-roues électriques"]
["O&M annuelle ",{"$f":"B548*G553","v":16666.666666666668},{"$f":"G561*G549*G562","v":17326.666666666668},{"$f":"B551-C551","v":-660},null,"Investissement véhicules",{"$f":"25000/7.5","v":3333.3333333333335},"US$"]
["Coût annuel carburant",{"$f":"G555*G557*1000","v":15000},{"$f":"+G565*G564*1000","v":146750.52410901466},{"$f":"B552-C552","v":-131750.52410901466},null,"Taile de batterie",1.2,"kWh"]
["Coûts totaux annuel",{"$f":"SUM(B550:B552)","v":506258.34242454916},{"$f":"SUM(C550:C552)","v":410769.94383462862},{"$f":"B553-C553","v":95488.398589920544},null,"O&M annuelle",5.0000000000000001E-3,"de investissement"]
[null,null,null,null,null,"Electricity consumption",{"$f":"80/1.2","v":66.666666666666671},"km/kWh"]
["Émissions annuelles (tonnes)","Tonnes","Tonnes","Réduction",null,"Consommation électrique totale",{"$f":"G548/G554*G549/1000","v":75},"MWh"]
["Éq.-CO2 d'émission de carburant",{"$f":"G559","v":36.412500000000001},{"$f":"+G568","v":776.15999999999985},{"$f":"C556-B556","v":739.74749999999983},null,"Distance totale possible",{"$f":"G552*G554","v":80},"km"]
["Autres",null,null,null,null,"Prix électricité référence",{"$f":"+Hypothèses!C25","v":0.2},"US$/kWh"]
["Émission total CO2-éq. ",{"$f":"B556+B557","v":36.412500000000001},{"$f":"C556+C557","v":776.15999999999985},{"$f":"C558-B558","v":739.74749999999983},null,"Coefficient d'émission CO2-éq.",{"$f":"+Hypothèses!C30","v":0.48549999999999999},"tCO2/MWh"]
[null,null,null,null,null,"Emissions dues à électricité",{"$f":"+G555*G558","v":36.412500000000001},"tCO2"]
["US$/ton CO2-eq.",null,null,{"$f":"IF(D558<>0,D553/D558,0)","v":129.0824214883059},null,"Options de référence: deux-roues normaux à essence"]
[null,null,null,null,null,"Investissement deux-roues essence",{"$f":"12995/7.5","v":1732.6666666666667},"US$"]
[null,null,null,null,null,"O&M annuelle",0.01,"de investissement"]
[null,null,null,null,null,"Consommation essence",15,"km/litre"]
[null,null,null,null,null,"Prix essence",{"$f":"+Hypothèses!C19","v":0.44025157232704398},"US$/litre"]
[null,null,null,null,null,"Consommation totale de essence",{"$f":"G548/G563*G549/1000","v":333.33333333333331},"Thousand litres"]
[null,null,null,null,null,"1000 l essence =",{"$f":"+Hypothèses!C21*Hypothèses!C22","v":33.599999999999994},"GJ"]
[null,null,null,null,null,"Coefficient d'émission CO2-éq.",{"$f":"+Hypothèses!C38","v":69.3},"kgCO2-eq./GJ"]
[null,null,null,null,null,"Emissions dues à essence",{"$f":"G565*G566*G567/1000","v":776.15999999999985},"tCO2"]

{"sheet":"Eolien","index":41,"n_rows":70,"n_cols":35,"rows_kept":70,"cut":false,"hidden":false,"merged":[[35,5,35,7],[30,14,30,16],[35,14,35,16],[30,32,30,34],[35,32,35,34],[30,23,30,25],[35,23,35,25],[6,5,6,7],[11,5,11,7],[6,14,6,16],[11,14,11,16],[6,32,6,34],[11,32,11,34],[68,5,68,7],[68,14,68,16],[68,32,68,34],[19,5,19,7],[19,14,19,16],[19,32,19,34],[46,5,46,7],[46,14,46,16],[46,32,46,34],[55,5,55,7],[60,5,60,7],[55,14,55,16],[60,14,60,16],[55,32,55,34],[60,32,60,34],[30,5,30,7],[55,23,55,25],[60,23,60,25],[68,23,68,25],[6,23,6,25],[11,23,11,25],[19,23,19,25],[46,23,46,25]]}
["Menu pour options de Eolien (cliquez sur les liens ci-dessous)"]
["1 MW Turbine éolienne connectée au réseau principal - on-shore"]
["1 MW Turbine éolienne connectée au réseau principal - off-shore - 24h stockage"]
["1 MW Turbine éolienne connectée au réseau principal - off-shore"]
[]
["1 MW Turbine éolienne connectée au réseau principal - on-shore - 2025",null,null,null,null,null,null,null,null,"1 MW Turbine éolienne connectée au réseau principal - on-shore - 2030",null,null,null,null,null,null,null,null,"1 MW Turbine éolienne connectée au réseau principal - on-shore - 2035",null,null,null,null,null,null,null,null,"1 MW Turbine éolienne connectée au réseau principal - on-shore - 2050"]
["Coûts en","Option de","Option de ","Augmentation",null,"Entrées générales:",null,null,null,"Coûts en","Option de","Option de ","Augmentation",null,"Entrées générales:",null,null,null,"Coûts en","Option de","Option de ","Augmentation",null,"Entrées générales:",null,null,null,"Coûts en","Option de","Option de ","Augmentation",null,"Entrées générales:"]
["US$","Réduction","Référence","(Réd.-Réf.)",null,"Taux d'actualisation",{"$f":"Hypothèses!$B$6","v":7.0000000000000007E-2},null,null,"US$","Réduction","Référence","(Réd.-Réf.)",null,"Taux d'actualisation",{"$f":"Hypothèses!$B$6","v":7.0000000000000007E-2},null,null,"US$","Réduction","Référence","(Réd.-Réf.)",null,"Taux d'actualisation",{"$f":"Hypothèses!$B$6","v":7.0000000000000007E-2},null,null,"US$","Réduction","Référence","(Réd.-Réf.)",null,"Taux d'actualisation",{"$f":"Hypothèses!$B$6","v":7.0000000000000007E-2}]
["Investissement total",{"$f":"G15*G14*1000","v":675000},null,null,null,"Prix de référence de l'électricité",{"$f":"+Hypothèses!C25","v":0.2},"US$/kWh",null,"Investissement total",{"$f":"P15*P14*1000","v":650000},null,null,null,"Prix de référence de l'électricité",{"$f":"+Hypothèses!C25","v":0.2},"US$/kWh",null,"Investissement total",{"$f":"Y15*Y14*1000","v":625000},null,null,null,"Prix de référence de l'électricité",{"$f":"+Hypothèses!C25","v":0.2},"US$/kWh",null,"Investissement total",{"$f":"AH15*AH14*1000","v":550000},null,null,null,"Prix de référence de l'électricité",{"$f":"+Hypothèses!C25","v":0.2},"US$/kWh"]
["Durée de vie du projet",20,null,null,null,"Coefficient d'émission CO2-éq. ",{"$f":"+Hypothèses!C29","v":0.48549999999999999},"tCO2/MWh",null,"Durée de vie du projet",20,null,null,null,"Coefficient d'émission CO2-éq. ",{"$f":"+Hypothèses!C29","v":0.48549999999999999},"tCO2/MWh",null,"Durée de vie du projet",20,null,null,null,"Coefficient d'émission CO2-éq. ",{"$f":"+Hypothèses!C29","v":0.48549999999999999},"tCO2/MWh",null,"Durée de vie du projet",20,null,null,null,"Coefficient d'émission CO2-éq. ",{"$f":"+Hypothèses!C29","v":0.48549999999999999},"tCO2/MWh"]
["Investissements nivelés",{"$f":"IF(B10=0,0,PMT($G$8,B10,-B9))","v":63715.224876697597},null,{"$f":"B11-C11","v":63715.224876697597},null,null,null,null,null,"Investissements nivelés",{"$f":"IF(K10=0,0,PMT($P$8,K10,-K9))","v":61355.401733116196},null,{"$f":"K11-L11","v":61355.401733116196},null,null,null,null,null,"Investissements nivelés",{"$f":"IF(T10=0,0,PMT($Y$8,T10,-T9))","v":58995.578589534809},null,{"$f":"T11-U11","v":58995.578589534809},null,null,null,null,null,"Investissements nivelés",{"$f":"IF(AC10=0,0,PMT($AH$8,AC10,-AC9))","v":51916.109158790627},null,{"$f":"AC11-AD11","v":51916.109158790627}]
["O&M annuelle ",{"$f":"B9*G13","v":10125},null,{"$f":"B12-C12","v":10125},null,"Option de réduction: Turbine éolienne",null,null,null,"O&M annuelle ",{"$f":"K9*P13","v":9750},null,{"$f":"K12-L12","v":9750},null,"Option de réduction: Turbine éolienne",null,null,null,"O&M annuelle ",{"$f":"T9*Y13","v":9375},null,{"$f":"T12-U12","v":9375},null,"Option de réduction: Turbine éolienne",null,null,null,"O&M annuelle ",{"$f":"AC9*AH13","v":8250},null,{"$f":"AC12-AD12","v":8250},null,"Option de réduction: Turbine éolienne"]
["Coût annuel carburant",null,{"$f":"G17*1000*G9","v":500000},{"$f":"B13-C13","v":-500000},null,"O&M  ",1.4999999999999999E-2,"de investissement",null,"Coût annuel carburant",null,{"$f":"P17*1000*P9","v":500000},{"$f":"K13-L13","v":-500000},null,"O&M  ",1.4999999999999999E-2,"de investissement",null,"Coût annuel carburant",null,{"$f":"Y17*1000*Y9","v":500000},{"$f":"T13-U13","v":-500000},null,"O&M  ",1.4999999999999999E-2,"de investissement",null,"Coût annuel carburant",null,{"$f":"AH17*1000*AH9","v":500000},{"$f":"AC13-AD13","v":-500000},null,"O&M  ",1.4999999999999999E-2,"de investissement"]
["Coûts totaux annuel",{"$f":"SUM(B11:B13)","v":73840.224876697597},{"$f":"SUM(C11:C13)","v":500000},{"$f":"B14-C14","v":-426159.77512330242},null,"Activité",1,"MW",null,"Coûts totaux annuel",{"$f":"SUM(K11:K13)","v":71105.401733116189},{"$f":"SUM(L11:L13)","v":500000},{"$f":"K14-L14","v":-428894.59826688381},null,"Activité",1,"MW",null,"Coûts totaux annuel",{"$f":"SUM(T11:T13)","v":68370.578589534809},{"$f":"SUM(U11:U13)","v":500000},{"$f":"T14-U14","v":-431629.42141046521},null,"Activité",1,"MW",null,"Coûts totaux annuel",{"$f":"SUM(AC11:AC13)","v":60166.109158790627},{"$f":"SUM(AD11:AD13)","v":500000},{"$f":"AC14-AD14","v":-439833.89084120939},null,"Activité",1,"MW"]
[null,null,null,null,null,"Activité de l'nvestissement",675,"US$/kW",null,null,null,null,null,null,"Activité de l'nvestissement",650,"US$/kW",null,null,null,null,null,null,"Activité de l'nvestissement",625,"US$/kW",null,null,null,null,null,null,"Activité de l'nvestissement",550,"US$/kW"]
["Émissions annuelles (tonnes)","Tonnes","Tonnes","Réduction",null,"Facteur de capacité",2500,"heures à plein temps",null,"Émissions annuelles (tonnes)","Tonnes","Tonnes","Réduction",null,"Facteur de capacité",2500,"heures à plein temps",null,"Émissions annuelles (tonnes)","Tonnes","Tonnes","Réduction",null,"Facteur de capacité",2500,"heures à plein temps",null,"Émissions annuelles (tonnes)","Tonnes","Tonnes","Réduction",null,"Facteur de capacité",2500,"heures à plein temps"]
["Éq.-CO2 d'émission de carburant",null,{"$f":"G17*G10","v":1213.75},{"$f":"C17-B17","v":1213.75},null,"Production d'électricité",{"$f":"G14*G16","v":2500},"MWh/an",null,"Éq.-CO2 d'émission de carburant",null,{"$f":"P17*P10","v":1213.75},{"$f":"L17-K17","v":1213.75},null,"Production d'électricité",{"$f":"P14*P16","v":2500},"MWh/an",null,"Éq.-CO2 d'émission de carburant",null,{"$f":"Y17*Y10","v":1213.75},{"$f":"U17-T17","v":1213.75},null,"Production d'électricité",{"$f":"Y14*Y16","v":2500},"MWh/an",null,"Éq.-CO2 d'émission de carburant",null,{"$f":"AH17*AH10","v":1213.75},{"$f":"AD17-AC17","v":1213.75},null,"Production d'électricité",{"$f":"AH14*AH16","v":2500},"MWh/an"]
["Autres",null,null,null,null,"Coût électricité produite",{"$f":"B14/G17/1000","v":2.9536089950679037E-2},"US$/kWh",null,"Autres",null,null,null,null,"Coût électricité produite",{"$f":"K14/P17/1000","v":2.8442160693246475E-2},"US$/kWh",null,"Autres",null,null,null,null,"Coût électricité produite",{"$f":"T14/Y17/1000","v":2.734823143581392E-2},"US$/kWh",null,"Autres",null,null,null,null,"Coût électricité produite",{"$f":"AC14/AH17/1000","v":2.4066443663516249E-2},"US$/kWh"]
["Émission total CO2-éq. ",{"$f":"B17+B18","v":0},{"$f":"C17+C18","v":1213.75},{"$f":"C19-B19","v":1213.75},null,null,null,null,null,"Émission total CO2-éq. ",{"$f":"K17+K18","v":0},{"$f":"L17+L18","v":1213.75},{"$f":"L19-K19","v":1213.75},null,null,null,null,null,"Émission total CO2-éq. ",{"$f":"T17+T18","v":0},{"$f":"U17+U18","v":1213.75},{"$f":"U19-T19","v":1213.75},null,null,null,null,null,"Émission total CO2-éq. ",{"$f":"AC17+AC18","v":0},{"$f":"AD17+AD18","v":1213.75},{"$f":"AD19-AC19","v":1213.75}]
[null,null,null,null,null,"Option de référence: Pas de turbine éolienne",null,null,null,null,null,null,null,null,"Option de référence: Pas de turbine éolienne",null,null,null,null,null,null,null,null,"Option de référence: Pas de turbine éolienne",null,null,null,null,null,null,null,null,"Option de référence: Pas de turbine éolienne"]
["US$/ton CO2-eq.",null,null,{"$f":"IF(D19<>0,D14/D19,0)","v":-351.11001040024917},null,null,null,null,null,"US$/ton CO2-eq.",null,null,{"$f":"IF(M19<>0,M14/M19,0)","v":-353.36321175438417},null,null,null,null,null,"US$/ton CO2-eq.",null,null,{"$f":"IF(V19<>0,V14/V19,0)","v":-355.61641310851923},null,null,null,null,null,"US$/ton CO2-eq.",null,null,{"$f":"IF(AE19<>0,AE14/AE19,0)","v":-362.37601717092434}]
[]
[]
[]
[]
[]
[]
[]
[]
["1 MW Turbine éolienne connectée au réseau principal - off-shore - 24h stockage -  2025",null,null,null,null,null,null,null,null,"1 MW Turbine éolienne connectée au réseau principal - off-shore - 24h stockage -  2030",null,null,null,null,null,null,null,null,"1 MW Turbine éolienne connectée au réseau principal - off-shore - 24h stockage -  2035",null,null,null,null,null,null,null,null,"1 MW Turbine éolienne connectée au réseau principal - off-shore - 24h stockage -  2050"]
["Coûts en","Option de","Option de ","Augmentation",null,"Entrées générales:",null,null,null,"Coûts en","Option de","Option de ","Augmentation",null,"Entrées générales:",null,null,null,"Coûts en","Option de","Option de ","Augmentation",null,"Entrées générales:",null,null,null,"Coûts en","Option de","Option de ","Augmentation",null,"Entrées générales:"]
["US$","Réduction","Référence","(Réd.-Réf.)",null,"Taux d'actualisation",{"$f":"Hypothèses!$B$6","v":7.0000000000000007E-2},null,null,"US$","Réduction","Référence","(Réd.-Réf.)",null,"Taux d'actualisation",{"$f":"Hypothèses!$B$6","v":7.0000000000000007E-2},null,null,"US$","Réduction","Référence","(Réd.-Réf.)",null,"Taux d'actualisation",{"$f":"Hypothèses!$B$6","v":7.0000000000000007E-2},null,null,"US$","Réduction","Référence","(Réd.-Réf.)",null,"Taux d'actualisation",{"$f":"Hypothèses!$B$6","v":7.0000000000000007E-2}]
["Investissement total",{"$f":"G39*G38*1000+G44","v":1574178.0821917809},null,null,null,"Prix de référence de l'électricité",{"$f":"Hypothèses!$C25","v":0.2},"US$/kWh",null,"Investissement total",{"$f":"P39*P38*1000+P44","v":1099589.0410958906},null,null,null,"Prix de référence de l'électricité",{"$f":"Hypothèses!$C25","v":0.2},"US$/kWh",null,"Investissement total",{"$f":"Y39*Y38*1000+Y44","v":1074589.0410958906},null,null,null,"Prix de référence de l'électricité",{"$f":"Hypothèses!$C25","v":0.2},"US$/kWh",null,"Investissement total",{"$f":"AH39*AH38*1000+AH44","v":924657.53424657532},null,null,null,"Prix de référence de l'électricité",{"$f":"Hypothèses!$C25","v":0.2},"US$/kWh"]
["Durée de vie du projet",20,null,null,null,"Coefficient d'émission CO2-éq. ",{"$f":"Hypothèses!$C29","v":0.48549999999999999},"tCO2/MWh",null,"Durée de vie du projet",20,null,null,null,"Coefficient d'émission CO2-éq. ",{"$f":"Hypothèses!$C29","v":0.48549999999999999},"tCO2/MWh",null,"Durée de vie du projet",20,null,null,null,"Coefficient d'émission CO2-éq. ",{"$f":"Hypothèses!$C29","v":0.48549999999999999},"tCO2/MWh",null,"Durée de vie du projet",20,null,null,null,"Coefficient d'émission CO2-éq. ",{"$f":"Hypothèses!$C29","v":0.48549999999999999},"tCO2/MWh"]
["Investissements nivelés",{"$f":"IF(B34=0,0,PMT($G$8,B34,-B33))","v":148591.27481898942},null,{"$f":"B35-C35","v":148591.27481898942},null,null,null,null,null,"Investissements nivelés",{"$f":"IF(K34=0,0,PMT($P$8,K34,-K33))","v":103793.42670426214},null,{"$f":"K35-L35","v":103793.42670426214},null,null,null,null,null,"Investissements nivelés",{"$f":"IF(T34=0,0,PMT($Y$8,T34,-T33))","v":101433.60356068073},null,{"$f":"T35-U35","v":101433.60356068073},null,null,null,null,null,"Investissements nivelés",{"$f":"IF(AC34=0,0,PMT($AH$8,AC34,-AC33))","v":87281.129968078894},null,{"$f":"AC35-AD35","v":87281.129968078894}]
["O&M annuelle ",{"$f":"B33*G37","v":23612.671232876713},null,{"$f":"B36-C36","v":23612.671232876713},null,"Option de réduction: Turbine éolienne",null,null,null,"O&M annuelle ",{"$f":"K33*P37","v":16493.835616438359},null,{"$f":"K36-L36","v":16493.835616438359},null,"Option de réduction: Turbine éolienne",null,null,null,"O&M annuelle ",{"$f":"T33*Y37","v":16118.835616438359},null,{"$f":"T36-U36","v":16118.835616438359},null,"Option de réduction: Turbine éolienne",null,null,null,"O&M annuelle ",{"$f":"AC33*AH37","v":13869.863013698628},null,{"$f":"AC36-AD36","v":13869.863013698628},null,"Option de réduction: Turbine éolienne"]
["Coût annuel carburant",null,{"$f":"G41*1000*G33","v":547000},{"$f":"B37-C37","v":-547000},null,"O&M  ",1.4999999999999999E-2,null,null,"Coût annuel carburant",null,{"$f":"P41*1000*P33","v":547000},{"$f":"K37-L37","v":-547000},null,"O&M  ",1.4999999999999999E-2,null,null,"Coût annuel carburant",null,{"$f":"Y41*1000*Y33","v":547000},{"$f":"T37-U37","v":-547000},null,"O&M  ",1.4999999999999999E-2,null,null,"Coût annuel carburant",null,{"$f":"AH41*1000*AH33","v":547000},{"$f":"AC37-AD37","v":-547000},null,"O&M  ",1.4999999999999999E-2]
["Coûts totaux annuel",{"$f":"SUM(B35:B37)","v":172203.94605186614},{"$f":"SUM(C35:C37)","v":547000},{"$f":"B38-C38","v":-374796.05394813383},null,"Activité",1,"MW",null,"Coûts totaux annuel",{"$f":"SUM(K35:K37)","v":120287.26232070049},{"$f":"SUM(L35:L37)","v":547000},{"$f":"K38-L38","v":-426712.73767929949},null,"Activité",1,"MW",null,"Coûts totaux annuel",{"$f":"SUM(T35:T37)","v":117552.43917711909},{"$f":"SUM(U35:U37)","v":547000},{"$f":"T38-U38","v":-429447.56082288094},null,"Activité",1,"MW",null,"Coûts totaux annuel",{"$f":"SUM(AC35:AC37)","v":101150.99298177753},{"$f":"SUM(AD35:AD37)","v":547000},{"$f":"AC38-AD38","v":-445849.00701822247},null,"Activité",1,"MW"]
[null,null,null,null,null,"Investissement turbine",675,"US$/kW",null,null,null,null,null,null,"Investissement turbine",{"$f":"+P15","v":650},"US$/kW",null,null,null,null,null,null,"Investissement turbine",{"$f":"+Y15","v":625},"US$/kW",null,null,null,null,null,null,"Investissement turbine",{"$f":"+AH15","v":550},"US$/kW"]
["Émissions annuelles (tonnes)","Tonnes","Tonnes","Réduction",null,"Facteur de capacité",2735,"Full time hours",null,"Émissions annuelles (tonnes)","Tonnes","Tonnes","Réduction",null,"Facteur de capacité",2735,"Full time hours",null,"Émissions annuelles (tonnes)","Tonnes","Tonnes","Réduction",null,"Facteur de capacité",2735,"Full time hours",null,"Émissions annuelles (tonnes)","Tonnes","Tonnes","Réduction",null,"Facteur de capacité",2735,"Full time hours"]
["Éq.-CO2 d'émission de carburant",null,{"$f":"G41*G34","v":1327.8425},{"$f":"C41-B41","v":1327.8425},null,"Production d'électricité",{"$f":"G38*G40","v":2735},"MWh/ year",null,"Éq.-CO2 d'émission de carburant",null,{"$f":"P41*P34","v":1327.8425},{"$f":"L41-K41","v":1327.8425},null,"Production d'électricité",{"$f":"P38*P40","v":2735},"MWh/ year",null,"Éq.-CO2 d'émission de carburant",null,{"$f":"Y41*Y34","v":1327.8425},{"$f":"U41-T41","v":1327.8425},null,"Production d'électricité",{"$f":"Y38*Y40","v":2735},"MWh/ year",null,"Éq.-CO2 d'émission de carburant",null,{"$f":"AH41*AH34","v":1327.8425},{"$f":"AD41-AC41","v":1327.8425},null,"Production d'électricité",{"$f":"AH38*AH40","v":2735},"MWh/ year"]
["Autres",null,null,null,null,"Production d'électricité par jour",{"$f":"G41/365*1000","v":7493.1506849315074},"kWh/day",null,"Autres",null,null,null,null,"Production d'électricité par jour",{"$f":"P41/365*1000","v":7493.1506849315074},"kWh/day",null,"Autres",null,null,null,null,"Production d'électricité par jour",{"$f":"Y41/365*1000","v":7493.1506849315074},"kWh/day",null,"Autres",null,null,null,null,"Production d'électricité par jour",{"$f":"AH41/365*1000","v":7493.1506849315074},"kWh/day"]
["Émission total CO2-éq. ",{"$f":"B41+B42","v":0},{"$f":"C41+C42","v":1327.8425},{"$f":"C43-B43","v":1327.8425},null,"Coût unitaire des batteries",120,"US$/kWh",null,"Émission total CO2-éq. ",{"$f":"K41+K42","v":0},{"$f":"L41+L42","v":1327.8425},{"$f":"L43-K43","v":1327.8425},null,"Coût unitaire des batteries",60,"US$/kWh",null,"Émission total CO2-éq. ",{"$f":"T41+T42","v":0},{"$f":"U41+U42","v":1327.8425},{"$f":"U43-T43","v":1327.8425},null,"Coût unitaire des batteries",60,"US$/kWh",null,"Émission total CO2-éq. ",{"$f":"AC41+AC42","v":0},{"$f":"AD41+AD42","v":1327.8425},{"$f":"AD43-AC43","v":1327.8425},null,"Coût unitaire des batteries",50,"US$/kWh"]
[null,null,null,null,null,"Coût total des batteries",{"$f":"G42*G43","v":899178.08219178091},"US$",null,null,null,null,null,null,"Coût total des batteries",{"$f":"P42*P43","v":449589.04109589045},"US$",null,null,null,null,null,null,"Coût total des batteries",{"$f":"Y42*Y43","v":449589.04109589045},"US$",null,null,null,null,null,null,"Coût total des batteries",{"$f":"AH42*AH43","v":374657.53424657538},"US$"]
["US$/ton CO2-eq.",null,null,{"$f":"IF(D43<>0,D38/D43,0)","v":-282.25942003523295},null,"Coût électricité produite",{"$f":"B38/G41/1000","v":6.2963051572894377E-2},"US$/kWh",null,"US$/ton CO2-eq.",null,null,{"$f":"IF(M43<>0,M38/M43,0)","v":-321.35794544857504},null,"Coût électricité produite",{"$f":"K38/P41/1000","v":4.3980717484716818E-2},"US$/kWh",null,"US$/ton CO2-eq.",null,null,{"$f":"IF(V43<>0,V38/V43,0)","v":-323.41754449257422},null,"Coût électricité produite",{"$f":"T38/Y41/1000","v":4.2980782148855243E-2},"US$/kWh",null,"US$/ton CO2-eq.",null,null,{"$f":"IF(AE43<>0,AE38/AE43,0)","v":-335.769496019462},null,"Coût électricité produite",{"$f":"AC38/AH41/1000","v":3.6983909682551198E-2},"US$/kWh"]
[]
[null,null,null,null,null,"Option de référence: Pas de turbine éolienne",null,null,null,null,null,null,null,null,"Option de référence: Pas de turbine éolienne",null,null,null,null,null,null,null,null,"Option de référence: Pas de turbine éolienne",null,null,null,null,null,null,null,null,"Option de référence: Pas de turbine éolienne"]
[]
[]
[]
[]
[]
[]
[]
["1 MW Turbine éolienne connectée au réseau principal - off-shore - 2025",null,null,null,null,null,null,null,null,"1 MW Turbine éolienne connectée au réseau principal - off-shore - 2030",null,null,null,null,null,null,null,null,"1 MW Turbine éolienne connectée au réseau principal - off-shore - 2035",null,null,null,null,null,null,null,null,"1 MW Turbine éolienne connectée au réseau principal - off-shore - 2050"]
["Coûts en","Option de","Option de ","Augmentation",null,"Entrées générales:",null,null,null,"Coûts en","Option de","Option de ","Augmentation",null,"Entrées générales:",null,null,null,"Coûts en","Option de","Option de ","Augmentation",null,"Entrées générales:",null,null,null,"Coûts en","Option de","Option de ","Augmentation",null,"Entrées générales:"]
["US$","Réduction","Référence","(Réd.-Réf.)",null,"Taux d'actualisation",{"$f":"Hypothèses!$B$6","v":7.0000000000000007E-2},null,null,"US$","Réduction","Référence","(Réd.-Réf.)",null,"Taux d'actualisation",{"$f":"Hypothèses!$B$6","v":7.0000000000000007E-2},null,null,"US$","Réduction","Référence","(Réd.-Réf.)",null,"Taux d'actualisation",{"$f":"Hypothèses!$B$6","v":7.0000000000000007E-2},null,null,"US$","Réduction","Référence","(Réd.-Réf.)",null,"Taux d'actualisation",{"$f":"Hypothèses!$B$6","v":7.0000000000000007E-2}]
["Investissement total",{"$f":"G64*G63*1000","v":2500000},null,null,null,"Prix de référence de l'électricité",{"$f":"+Hypothèses!C25","v":0.2},"US$/kWh",null,"Investissement total",{"$f":"P64*P63*1000","v":2200000},null,null,null,"Prix de référence de l'électricité",{"$f":"+Hypothèses!C25","v":0.2},"US$/kWh",null,"Investissement total",{"$f":"Y64*Y63*1000","v":2000000},null,null,null,"Prix de référence de l'électricité",{"$f":"+Hypothèses!L25","v":0},"US$/kWh",null,"Investissement total",{"$f":"AH64*AH63*1000","v":1400000},null,null,null,"Prix de référence de l'électricité",{"$f":"+Hypothèses!C25","v":0.2},"US$/kWh"]
["Durée de vie du projet",20,null,null,null,"Coefficient d'émission CO2-éq. ",{"$f":"+Hypothèses!C30","v":0.48549999999999999},"tCO2/MWh",null,"Durée de vie du projet",20,null,null,null,"Coefficient d'émission CO2-éq. ",{"$f":"+Hypothèses!C30","v":0.48549999999999999},"tCO2/MWh",null,"Durée de vie du projet",20,null,null,null,"Coefficient d'émission CO2-éq. ",{"$f":"+Hypothèses!L30","v":0},"tCO2/MWh",null,"Durée de vie du projet",20,null,null,null,"Coefficient d'émission CO2-éq. ",{"$f":"+Hypothèses!C30","v":0.48549999999999999},"tCO2/MWh"]
["Investissements nivelés",{"$f":"IF(B59=0,0,PMT($G$57,B59,-B58))","v":235982.31435813924},null,{"$f":"B60-C60","v":235982.31435813924},null,null,null,null,null,"Investissements nivelés",{"$f":"IF(K59=0,0,PMT($P$57,K59,-K58))","v":207664.43663516251},null,{"$f":"K60-L60","v":207664.43663516251},null,null,null,null,null,"Investissements nivelés",{"$f":"IF(T59=0,0,PMT($Y$57,T59,-T58))","v":188785.85148651138},null,{"$f":"T60-U60","v":188785.85148651138},null,null,null,null,null,"Investissements nivelés",{"$f":"IF(AC59=0,0,PMT($AH$57,AC59,-AC58))","v":132150.09604055798},null,{"$f":"AC60-AD60","v":132150.09604055798}]
["O&M annuelle ",{"$f":"B58*G62","v":37500},null,{"$f":"B61-C61","v":37500},null,"Option de réduction: Turbine éolienne",null,null,null,"O&M annuelle ",{"$f":"K58*P62","v":33000},null,{"$f":"K61-L61","v":33000},null,"Option de réduction: Turbine éolienne",null,null,null,"O&M annuelle ",{"$f":"T58*Y62","v":30000},null,{"$f":"T61-U61","v":30000},null,"Option de réduction: Turbine éolienne",null,null,null,"O&M annuelle ",{"$f":"AC58*AH62","v":21000},null,{"$f":"AC61-AD61","v":21000},null,"Option de réduction: Turbine éolienne"]
["Coût annuel carburant",null,{"$f":"G66*1000*G58","v":640000},{"$f":"B62-C62","v":-640000},null,"O&M  ",1.4999999999999999E-2,"de investissement",null,"Coût annuel carburant",null,{"$f":"P66*1000*P58","v":640000},{"$f":"K62-L62","v":-640000},null,"O&M  ",1.4999999999999999E-2,"de investissement",null,"Coût annuel carburant",null,{"$f":"Y66*1000*Y58","v":0},{"$f":"T62-U62","v":0},null,"O&M  ",1.4999999999999999E-2,"de investissement",null,"Coût annuel carburant",null,{"$f":"AH66*1000*AH58","v":640000},{"$f":"AC62-AD62","v":-640000},null,"O&M  ",1.4999999999999999E-2,"de investissement"]
["Coûts totaux annuel",{"$f":"SUM(B60:B62)","v":273482.31435813924},{"$f":"SUM(C60:C62)","v":640000},{"$f":"B63-C63","v":-366517.68564186076},null,"Activité",1,"MW",null,"Coûts totaux annuel",{"$f":"SUM(K60:K62)","v":240664.43663516251},{"$f":"SUM(L60:L62)","v":640000},{"$f":"K63-L63","v":-399335.56336483749},null,"Activité",1,"MW",null,"Coûts totaux annuel",{"$f":"SUM(T60:T62)","v":218785.85148651138},{"$f":"SUM(U60:U62)","v":0},{"$f":"T63-U63","v":218785.85148651138},null,"Activité",1,"MW",null,"Coûts totaux annuel",{"$f":"SUM(AC60:AC62)","v":153150.09604055798},{"$f":"SUM(AD60:AD62)","v":640000},{"$f":"AC63-AD63","v":-486849.90395944205},null,"Activité",1,"MW"]
[null,null,null,null,null,"Activité de l'nvestissement",2500,"US$/kW",null,null,null,null,null,null,"Activité de l'nvestissement",2200,"US$/kW",null,null,null,null,null,null,"Activité de l'nvestissement",2000,"US$/kW",null,null,null,null,null,null,"Activité de l'nvestissement",1400,"US$/kW"]
["Émissions annuelles (tonnes)","Tonnes","Tonnes","Réduction",null,"Facteur de capacité",3200,"heures à plein temps",null,"Émissions annuelles (tonnes)","Tonnes","Tonnes","Réduction",null,"Facteur de capacité",3200,"heures à plein temps",null,"Émissions annuelles (tonnes)","Tonnes","Tonnes","Réduction",null,"Facteur de capacité",3200,"heures à plein temps",null,"Émissions annuelles (tonnes)","Tonnes","Tonnes","Réduction",null,"Facteur de capacité",3200,"heures à plein temps"]
["Éq.-CO2 d'émission de carburant",null,{"$f":"G66*G59","v":1553.6},{"$f":"C66-B66","v":1553.6},null,"Production d'électricité",{"$f":"G63*G65","v":3200},"MWh/an",null,"Éq.-CO2 d'émission de carburant",null,{"$f":"P66*P59","v":1553.6},{"$f":"L66-K66","v":1553.6},null,"Production d'électricité",{"$f":"P63*P65","v":3200},"MWh/an",null,"Éq.-CO2 d'émission de carburant",null,{"$f":"Y66*Y59","v":0},{"$f":"U66-T66","v":0},null,"Production d'électricité",{"$f":"Y63*Y65","v":3200},"MWh/an",null,"Éq.-CO2 d'émission de carburant",null,{"$f":"AH66*AH59","v":1553.6},{"$f":"AD66-AC66","v":1553.6},null,"Production d'électricité",{"$f":"AH63*AH65","v":3200},"MWh/an"]
["Autres",null,null,null,null,"Coût électricité produite",{"$f":"B63/G66/1000","v":8.5463223236918504E-2},"US$/kWh",null,"Autres",null,null,null,null,"Coût électricité produite",{"$f":"K63/P66/1000","v":7.5207636448488283E-2},"US$/kWh",null,"Autres",null,null,null,null,"Coût électricité produite",{"$f":"T63/Y66/1000","v":6.8370578589534797E-2},"US$/kWh",null,"Autres",null,null,null,null,"Coût électricité produite",{"$f":"AC63/AH66/1000","v":4.7859405012674369E-2},"US$/kWh"]
["Émission total CO2-éq. ",{"$f":"B66+B67","v":0},{"$f":"C66+C67","v":1553.6},{"$f":"C68-B68","v":1553.6},null,null,null,null,null,"Émission total CO2-éq. ",{"$f":"K66+K67","v":0},{"$f":"L66+L67","v":1553.6},{"$f":"L68-K68","v":1553.6},null,null,null,null,null,"Émission total CO2-éq. ",{"$f":"T66+T67","v":0},{"$f":"U66+U67","v":0},{"$f":"U68-T68","v":0},null,null,null,null,null,"Émission total CO2-éq. ",{"$f":"AC66+AC67","v":0},{"$f":"AD66+AD67","v":1553.6},{"$f":"AD68-AC68","v":1553.6}]
[null,null,null,null,null,"Option de référence: Pas de turbine éolienne",null,null,null,null,null,null,null,null,"Option de référence: Pas de turbine éolienne",null,null,null,null,null,null,null,null,"Option de référence: Pas de turbine éolienne",null,null,null,null,null,null,null,null,"Option de référence: Pas de turbine éolienne"]
["US$/ton CO2-eq.",null,null,{"$f":"IF(D68<>0,D63/D68,0)","v":-235.91509117009576},null,null,null,null,null,"US$/ton CO2-eq.",null,null,{"$f":"IF(M68<>0,M63/M68,0)","v":-257.03885386511166},null,null,null,null,null,"US$/ton CO2-eq.",null,null,{"$f":"IF(V68<>0,V63/V68,0)","v":0},null,null,null,null,null,"US$/ton CO2-eq.",null,null,{"$f":"IF(AE68<>0,AE63/AE68,0)","v":-313.36888771848743}]

{"sheet":"LCOE & LCOT","index":42,"n_rows":47,"n_cols":9,"rows_kept":47,"cut":false,"hidden":false,"merged":[[34,1,34,4],[35,1,35,4],[2,0,2,8],[3,1,3,4],[3,5,3,8],[4,1,4,4],[4,5,4,8]]}
["Coût de l'énergie nivelé (LCOE) pour la production d'électricité"]
[]
["Données de production d'énergie"]
["Technologie","Investissement",null,null,null,"LCOE"]
[null,"US$/kW",null,null,null,"US$/kWh"]
[null,2025,2030,2035,2050,2025,2030,2035,2050]
["Charbon",{"$f":"+'EE offre'!G44","v":1388},{"$f":"+'EE offre'!P44","v":1388},{"$f":"+'EE offre'!P44","v":1388},{"$f":"+'EE offre'!AH44","v":1388},{"$f":"+'EE offre'!G51","v":3.9820936658082125E-2},{"$f":"+'EE offre'!P51","v":3.9820936658082125E-2},{"$f":"+'EE offre'!P51","v":3.9820936658082125E-2},{"$f":"+'EE offre'!AH51","v":3.9820936658082125E-2}]
["Gaz naturel",{"$f":"+'EE offre'!G19","v":921.14021346956247},{"$f":"+'EE offre'!P19","v":921.14021346956247},{"$f":"+'EE offre'!P19","v":921.14021346956247},{"$f":"+'EE offre'!AH19","v":921.14021346956247},{"$f":"+'EE offre'!G25","v":4.3862839794931656E-2},{"$f":"+'EE offre'!P25","v":4.3302736391226358E-2},{"$f":"+'EE offre'!P25","v":4.3302736391226358E-2},{"$f":"+'EE offre'!AH25","v":4.2766985309421288E-2}]
["Hydro",{"$f":"+Hydro!G17","v":1138.0999999999999},{"$f":"+Hydro!P17","v":1138.0999999999999},{"$f":"+Hydro!P17","v":1138.0999999999999},{"$f":"+Hydro!Y17","v":1138.0999999999999},{"$f":"+Hydro!G20","v":0.13732769455990584},{"$f":"+Hydro!P20","v":0.13732769455990584},{"$f":"+Hydro!P20","v":0.13732769455990584},{"$f":"+Hydro!Y20","v":0.13732769455990584}]
["Eolien on-shore - pas de stockage",{"$f":"+Eolien!G15","v":675},{"$f":"+Eolien!P15","v":650},{"$f":"+Eolien!Y15","v":625},{"$f":"+Eolien!AH15","v":550},{"$f":"+Eolien!G18","v":2.9536089950679037E-2},{"$f":"+Eolien!P18","v":2.8442160693246475E-2},{"$f":"+Eolien!Y18","v":2.734823143581392E-2},{"$f":"+Eolien!AH18","v":2.4066443663516249E-2}]
["Eolien on-shore - stockage 24h",{"$f":"+Eolien!B33/1000","v":1574.178082191781},{"$f":"+Eolien!K33/1000","v":1099.5890410958905},{"$f":"+Eolien!T33/1000","v":1074.5890410958905},{"$f":"+Eolien!AC33/1000","v":924.65753424657532},{"$f":"+Eolien!G45","v":6.2963051572894377E-2},{"$f":"+Eolien!P45","v":4.3980717484716818E-2},{"$f":"+Eolien!Y45","v":4.2980782148855243E-2},{"$f":"+Eolien!AH45","v":3.6983909682551198E-2}]
["Eolien off-shore",{"$f":"+Eolien!G64","v":2500},{"$f":"+Eolien!P64","v":2200},{"$f":"+Eolien!Y64","v":2000},{"$f":"+Eolien!AH64","v":1400},{"$f":"+Eolien!G67","v":8.5463223236918504E-2},{"$f":"+Eolien!P67","v":7.5207636448488283E-2},{"$f":"+Eolien!Y67","v":6.8370578589534797E-2},{"$f":"+Eolien!AH67","v":4.7859405012674369E-2}]
["Usine solaire PV - pas de stockage",{"$f":"+Solaire!G81","v":1000},{"$f":"+Solaire!P81","v":800},{"$f":"+Solaire!Y81","v":700},{"$f":"+Solaire!AH81","v":400},{"$f":"+Solaire!G87","v":5.7201603146989417E-2},{"$f":"+Solaire!P87","v":4.5761282517591546E-2},{"$f":"+Solaire!Y87","v":4.0041122202892597E-2},{"$f":"+Solaire!AH87","v":2.2880641258795773E-2}]
["Usine solaire PV - stockage 24h",{"$f":"+Solaire!B100/1000","v":2100},{"$f":"+Solaire!K100/1000","v":1700},{"$f":"+Solaire!T100/1000","v":1575},{"$f":"+Solaire!AC100/1000","v":1450},{"$f":"+Solaire!G114","v":0.12012336660867778},{"$f":"+Solaire!P114","v":9.7242725349882028E-2},{"$f":"+Solaire!Y114","v":9.0092524956508338E-2},{"$f":"+Solaire!AH114","v":8.2942324563134676E-2}]
["centrale solaire thermique à concentration (CSP) sans stockage",{"$f":"+Solaire!G240","v":4500},{"$f":"+Solaire!P240","v":4000},{"$f":"+Solaire!Y240","v":3500},{"$f":"+Solaire!AH240","v":2500},{"$f":"+Solaire!G243","v":0.28752877722976705},{"$f":"+Solaire!P243","v":0.25558113531534854},{"$f":"+Solaire!Y243","v":0.22363349340092994},{"$f":"+Solaire!AH243","v":0.15973820957209281}]
["centrale solaire thermique à concentration avec stockage 24 h",{"$f":"+Solaire!G267","v":8000},{"$f":"+Solaire!P267","v":7000},{"$f":"+Solaire!Y267","v":6500},{"$f":"+Solaire!AH267","v":5000},{"$f":"+Solaire!G270","v":0.53342893729736363},{"$f":"+Solaire!P270","v":0.47050032013519327},{"$f":"+Solaire!Y270","v":0.43903601155410804},{"$f":"+Solaire!AH270","v":0.34464308581085229}]
["centrale houlomotrice",{"$f":"+Marine!G40","v":10000},{"$f":"+Marine!P40","v":9000},{"$f":"+Marine!Y40","v":8500},{"$f":"+Marine!AH40","v":6000},{"$f":"+Marine!G43","v":0.36657836185014903},{"$f":"+Marine!P43","v":0.33579136715241398},{"$f":"+Marine!Y43","v":0.32039786980354645},{"$f":"+Marine!AH43","v":0.2434303830592088}]
["Énergie marémotrice",{"$f":"+Marine!G15","v":9000},{"$f":"+Marine!P15","v":8000},{"$f":"+Marine!Y15","v":7500},{"$f":"+Marine!AH15","v":6000},{"$f":"+Marine!G18","v":0.37653589485894257},{"$f":"+Marine!P18","v":0.34061773437825171},{"$f":"+Marine!Y18","v":0.32265865413790629},{"$f":"+Marine!AH18","v":0.2687814134168699}]
["Énergie géothermique",{"$f":"+Géothermique!G15","v":4266.0714285714284},{"$f":"+Géothermique!P15","v":3763.9880952380954},{"$f":"+Géothermique!Y15","v":3600},{"$f":"+Géothermique!AH15","v":3261.9047619047619},{"$f":"+Géothermique!G18","v":8.4033112657119602E-2},{"$f":"+Géothermique!P18","v":7.4143070725170374E-2},{"$f":"+Géothermique!P18","v":7.4143070725170374E-2},{"$f":"+Géothermique!AH18","v":6.425302879322109E-2}]
["Biomasse et déchets",{"$f":"+'Energie biomasse'!B43/1000","v":2844.9404761904761},{"$f":"+'Energie biomasse'!K43/1000","v":2713.6904761904761},{"$f":"+'Energie biomasse'!T43/1000","v":2713.6904761904761},{"$f":"+'Energie biomasse'!AC43/1000","v":2322.6190476190477},{"$f":"+'Energie biomasse'!G57","v":0.64450141227127222},{"$f":"+'Energie biomasse'!P57","v":0.61476764066214673},{"$f":"+'Energie biomasse'!Y57","v":0.61476764066214673},{"$f":"+'Energie biomasse'!AH57","v":0.52617313750026229}]
["Batteries supplémentaires",null,null,null,null,60,60,60,40]
["Atténuation totale"]
[]
[]
[]
[]
[]
[]
[]
[]
[]
[]
["Coûts de transport nivelés (LCOT)"]
[]
["Véhicule (y compris batterie+chargeur)","LCOT"]
[null,"US$/km"]
[null,2025,2030,2035,2050]
["Voitures à essence",{"$f":"+Transport!G158","v":0.22481494053941345},{"$f":"+Transport!P158","v":0.22384735466616718},{"$f":"+Transport!Y158","v":0.22384735466616718},{"$f":"+Transport!AH158","v":0.22167028645136314}]
["Voiture électrique",{"$f":"+Transport!G148","v":0.25470122962778768},{"$f":"+Transport!P148","v":0.22203397135425307},{"$f":"+Transport!Y148","v":0.22012072760923629},{"$f":"+Transport!AH148","v":0.19039193705150981}]
["Bus diesel (18m)",{"$f":"+Transport!G189","v":0.50914642041829739},{"$f":"+Transport!P189","v":0.50701083190349228},{"$f":"+Transport!Y189","v":0.50701083190349228},{"$f":"+Transport!AH189","v":0.50204558860657078}]
["Bus électriques (18m)",{"$f":"+Transport!G179","v":1.0361787849662536},{"$f":"+Transport!P179","v":0.77774699938123792},{"$f":"+Transport!Y179","v":0.77349268474994959},{"$f":"+Transport!AH179","v":0.614336381463641}]
["Bus diesel (12m)",{"$f":"+Transport!G220","v":0.4365135589621762},{"$f":"+Transport!P220","v":0.4340945942790605},{"$f":"+Transport!Y220","v":0.4340945942790605},{"$f":"+Transport!AH220","v":0.42960223129613151}]
["Bus électriques (12m)",{"$f":"+Transport!G210","v":1.1255193922233049},{"$f":"+Transport!P210","v":0.87232368618449008},{"$f":"+Transport!Y210","v":0.86577858675173913},{"$f":"+Transport!AH210","v":0.68760600150021256}]
["Camions légers diesel",{"$f":"+Transport!G284","v":0.95137621032794206},{"$f":"+Transport!P284","v":0.94869229503230867},{"$f":"+Transport!Y284","v":0.94869229503230867},{"$f":"+Transport!AH284","v":0.93923468875245819}]
["Camions légers électriques",{"$f":"+Transport!G274","v":1.8164710499265133},{"$f":"+Transport!P274","v":1.257336393396254},{"$f":"+Transport!Y274","v":1.2246108962324991},{"$f":"+Transport!AH274","v":0.97416966750433565}]
["Camions lourds diesel",{"$f":"+Transport!G252","v":0.76558237003130081},{"$f":"+Transport!P252","v":0.759416381623359},{"$f":"+Transport!Y252","v":0.759416381623359},{"$f":"+Transport!AH252","v":0.748934201329858}]
["Camions lourds électriques",{"$f":"+Transport!G242","v":2.3065511281651214},{"$f":"+Transport!P242","v":2.0777658752682702},{"$f":"+Transport!Y242","v":2.0672937161758687},{"$f":"+Transport!AH242","v":1.8707855722101066}]