{"text_format":"1","workbook":"xlsx","n_sheets":44,"sheets":["Introduction","Print Guide","Guidance","Assumptions","Energy Balance","GHG Balance","Growth","BAU projected Energy Balances","BAU projected GHG Balances","coordinates","Mitigation options","Report_print.1","Report_print.2","Report_print.3","Report_print.4","LCOE & LCOT","Results","Results BTR","Tracking progress","Agriculture","Biomass energy","CCS","Cement","Coal bed mine methane","EE households","EE industry","EE own generation","EE service","EE supply side","Energy distribution","Forestry","Fossil fuel switch","Fugitive","Geothermal","HFCs, PFCs, SF6","Hydro","Landfills","Marine","Methane avoidance","N2O","Solar","Storage","Transport","Wind"],"not_rendered":{"charts":29,"images":10,"macros":1,"external_links":2,"defined_names":178,"comments":9,"pivot_tables":0},"unopened":[],"bounds":{"document_bytes":16777216,"sheet_cells":100000,"rows_first":2000,"rows_last":500,"rows_between":2000,"halvings":0,"cell_chars":16384,"cell_head_chars":4096},"cells_cut":0,"cells_raw":0,"read":"whole","date_system":"1900"}

{"sheet":"Introduction","index":0,"n_rows":19,"n_cols":10,"rows_kept":19,"cut":false,"hidden":false,"merged":[]}
[]
[null,"GACMO version 2.2",null,null,null,null,null,null,"Current step",3]
[null,"Welcome to the Greenhouse gas Abatement Cost MOdel - GACMO"]
[null,"The GACMO tool was developed by the UNEP Copenhagen Climate Centre\nIn case of questions or feedback on GACMO, please contact Aiymgul Kerimray (aiymgul.kerimray@un.org) or Denis Desgain (denis.desgain@un.org)"]
[]
[null,"What is GACMO?"]
[null,"The GACMO (Greenhouse Gas Abatement Cost Model) tool is a GHG emissions bottom-up modelling tool developed by the UNEP Copenhagen Climate Centre (UNEP-CCC) over more than 20 years.\n\nThe GACMO tool allows countries to carry out rapid but accurate evaluations of the GHG emissions impacts of a variety of mitigation options. The tool is used to calculate the GHG emissions reductions resulting from specific mitigation actions and to establish a mitigation scenario built on the specific mitigation actions compared to a BAU scenario. It must be noted that GACMO does not integrate the interactions among measures assessed simultaneously. The GACMO tool can thus support technical experts and decision-makers to assess and understand the GHG emissions impacts of climate mitigation actions.\n\nThis version of the GACMO tool includes 9 spreadsheets with technical data that the user needs to consider following a stepwise approach. The interface of the tool is made so that the user is taken from the first spreadsheet to the last spreadsheet following a logical order. The calculations and the generation of graphs are done in an automated way. This means that the user, who has the data required to use GACMO, does not need to be familiar with the calculations themselves in order to use the tool, but only with how to enter the inputs, as well as interpret the results.\nThe formulas included in the GACMO tool are based on the mitigation methodologies proposed under the Clean Development Mechanism (CDM) as well as on the IPCC methodologies. Therefore, GACMO is in line with the most recent internationally approved GHG emission calculation methodologies.",null,null,null,null,"•"]
[null,"The GACMO tool includes a series of default values, that are already pre-loaded in the tool and that the user does not have to update unless the user has better inputs and wants to make more precise estimates. These default values are all visible and accessible by the user. The first group of data with default values are those of key mitigation parameters, such as the IPCC database of emission factors (2006 IPCC Guidelines) and the global warming potential (GWP). In the case of GWP, GACMO uses by default the most recent values of those parameters established by the IPCC, although previous GWP values are also available in GACMO. The second group of data with default values are those for the mitigation potential parameters and economic-financial parameters of each mitigation option and their corresponding reference option in the baseline situation. In this case, GACMO uses by default, average values calculated from relevant CDM projects available on the CDM website and summarized in the project pipeline developed at UNEP-CCC. Experience has shown that the use of default values for data related to baseline and mitigation options works well in GACMO. However, it is possible for a GACMO user to modify those default values for data related to the mitigation and reference options to replace them with values specific to their case (country, city region, industrial activity). This allows the user to get more accurate results out of the GACMO application.\n\nThe main data required to use GACMO are those of the energy balance for a specific year (considered as the start year), that is the data of the sectoral energy consumption of fossil fuels and electricity of a country, as well as the GHG emissions for the other non-energy sectors for the same year (taken for example from a national GHG inventory report). From these data, GACMO calculates the GHG emissions for the start year, that is, for the year in which the data were collected (generally the most recent year for which the necessary data is available). Then, applying growth factors for each sector (these factors are specific to the country and are estimated and entered in GACMO by the user), GACMO will project the GHG emissions to build a reference scenario also called baseline scenario (or Business as Usual - BAU), towards the years 2025, 2030, 2035, 2040, 2045 and/or 2050.\n\nTo build the GHG mitigation scenario, GACMO proposes a list of 119 mitigation options for the different sectors. These mitigation options are organized into 26 categories of activities, such as agriculture, biomass energy, energy efficiency in homes, forestry, as well as geothermal, hydroelectric, solar, wind energy, among others. Once the mitigation options of interest have been selected by the user, the tool projects the emissions based on the previous growth factors and establishes a mitigation scenario for the years 2025, 2030, 2035, 2040, 2045 and/or 2050. GACMO calculates also the GHG emissions reductions and an approximation of the investment costs, as well as operation and maintenance costs, which result from each selected mitigation action.\n\nIn summary, the key data used as inputs and required for running GACMO are:"]
[null,"•  Basic data about the country, such as the local currency, the exchange rate with the dollar, the discount rate;\n•  Cost and technical data related to the different fossil fuels and electricity;\n•  Energy balance data in the start year, that is, the production/consumption data of fossil fuels and electricity for a country;\n•  Data on the GHG emissions for the key non-energy sectors in the start year: Agriculture, Forests, Waste, and Industrial processes;\n•  Growth factors estimated over specific time periods for different sectors of activities;\n•  The number of units of each mitigation option (selected by the user) penetrating toward the years 2025, 2030, 2035, 2040, 2045 and/or 2050."]
[null,"Finally, the GACMO tool can also be used to monitor the GHG emission reductions achieved through the effective implementation of mitigation options. Therefore, GACMO can be used additionally as a tool for tracking the progress made in implementing climate change mitigation options.\n\nThe GACMO tool can be used at the national level (country level) but can also be adapted to be used at sub-national level (region or city). GACMO can be very useful for the preparation of national reports such as National Communications, Biennial Update Reports (BURs), Biennial Transparency Reports (BTRs), or for the preparation and update of Nationally Determined Contributions (NDCs)."]
[null,"What is the structure of GACMO?"]
[null,"This version of the GACMO tool includes different spreadsheets contained in an Excel file that the user needs to consider following a stepwise approach. The interface of the tool is made so that the user is taken from the first spreadsheet to the last spreadsheet following a logical order.\n\nThe two first sheets are the Introduction and the Guidance. We strongly recommend the user to read these two sheets before starting using the tool.\n\nThe tool includes seven technical sheets: Assumptions, Energy Balance, GHG Balance, Growth, BAU projected Energy Balances, BAU projected GHG Balances, and Mitigation Options. These sheets include a series of tables that the user needs to consider and where the user will have to introduce the data inputs required to run the GACMO tool. Each sheet starts with an introductory text explaining the purpose of the sheet and what data and inputs need to be considered by the user.\n\nThe next sheet Results includes all the results and graphics resulting from the application of the GACMO tool run by the user. Each sheet starts with an introductory text describing the results found on the sheet. Note that a button is also provided to the user to automatically produce a summary of the results as a PDF document."]
[null,"The last sheet Tracking progress is the sheet that can be used by the user to monitor the progress made in implementing each mitigation action. The Tracking progress sheet is thus used ex-post, that is, once the mitigation options are under implementation or have been implemented, to estimate and monitor the effective reductions of GHG emissions.\n\nFinally, GACMO includes a long list of technology sheets, including \"Agriculture\", \"Biomass Energy\", \"CCS\", \"Cement\", \"Coalmine CH4\", \"EE households\", \"EE Industry\", \"EE own generation\", \"EE service\", \"EE supply side\", \"EE distribution\", \"Forestry\", \"Fossil fuel switch\" …. These sheets include the tables with the specific cost and technical data of each mitigation option, as well as the corresponding reference option. Note that these sheets are hidden by default, but the user can access those sheets and the data table of each mitigation option by clicking on the name of the mitigation option in the Mitigation Options sheet."]
[null,"GACMO has around 40 spreadsheets contained in an Excel file. These sheets can be divided into 3 large groups:\n \n• Sheets of data or inputs, including \"Start year balance\", \"Growth\", \"Assumptions\", \"Main 25/30/50\". These are the sheets in which the user enters the data required to define the particular inputs of the case under study;\n• Sheets of outputs or results, including \"Growth\", \"Graph\". These are the sheets in which the main results are found;\n• Technology sheets, including \"Agriculture\", \"Biomass Energy\", \"CCS\", \"Cement\", \"Coalmine CH4\", \"EE households\", \"EE Industry\", \"EE own generation\", \"EE service\", \"EE supply side\", \"E distribution\", \"Forestry\", \"Fossil fuel switch\",…. These are the sheets in which the specific data of each mitigation option, as well as of the corresponding reference option, are found. The appendixes 1 and 2 list respectively all the categories of activities and all the mitigation options included in GACMO.\n\nIn addition, GACMO includes a spreadsheet called “MRV” in which the progress in implementing each mitigation action selected by the user can be monitored. This sheet is used ex-post, that is, once the mitigation options have been implemented, to estimate and monitor the effective reductions of the GHG emissions.\n"]
[]
[null,"GACMO COPYRIGHTS"]
[null,"The GACMO tool has been developed by the UNEP Copenhagen Climate Centre (UNEP-CCC).\n \nNote that the tool is regularly updated. The last version of GACMO is always made available on the UNEP-CCC website at https://unepccc.org/gacmo-tool/ \n \nAll the versions of the GACMO tool can be downloaded and used free of charge by any user and can be installed on a personal computer. However, it is not allowed to make any commercial use of the GACMO tool without the prior authorization of UNEP-CCC.\n \nFor any inquiries and authorization requests, please contact UNEP-CCC at unep-ccc@un.org."]
[]
[null,"This version of the tool has been developed under the Initiative for Climate Action Transparency (ICAT)."]

{"sheet":"Print Guide","index":1,"n_rows":81,"n_cols":3,"rows_kept":81,"cut":false,"hidden":true,"merged":[[75,2,75,13],[76,1,76,13],[79,1,79,13],[80,1,80,13],[67,2,67,13],[68,1,68,13],[69,2,69,13],[72,1,72,13],[73,2,73,13],[74,1,74,13],[66,1,66,13],[51,1,51,13],[52,1,52,13],[53,1,53,13],[56,1,56,13],[57,1,57,13],[58,1,58,13],[59,2,59,13],[60,1,60,13],[61,1,61,13],[62,1,62,13],[65,1,65,13],[48,1,48,13],[31,1,31,13],[34,1,34,13],[35,2,35,13],[36,1,36,13],[39,1,39,13],[40,2,40,13],[41,1,41,13],[42,2,42,13],[43,1,43,13],[44,1,44,13],[47,1,47,13],[30,2,30,13],[15,2,15,13],[16,1,16,13],[17,2,17,13],[18,1,18,13],[19,2,19,13],[20,1,20,13],[21,2,21,13],[24,1,24,13],[27,1,27,13],[28,2,28,13],[29,1,29,13],[22,1,22,13],[23,2,23,13],[4,1,6,13],[7,1,9,13],[12,1,12,13],[13,2,13,13],[14,1,14,13]]}
[]
[null,"Quick step by step guidance for using GACMO:"]
[]
[null,"How to start"]
[null,"This version of the GACMO tool includes different spreadsheets contained in an Excel file that the user needs to consider following a stepwise approach. The interface of the tool is made so that the user is taken from the first spreadsheet to the last spreadsheet following a logical order.\n\nThe two first sheets are the Introduction and the Guidance. We strongly recommend the user to read these two sheets before starting using the tool.\n\nThe tool includes seven technical sheets: Assumptions, Energy Balance, GHG Balance, Growth, BAU projected Energy Balances, BAU projected GHG Balances, and Mitigation Options. These sheets include a series of tables that the user needs to consider and where the user will have to introduce the data inputs required to run the GACMO tool. Each sheet starts with an introductory text explaining the purpose of the sheet and what data and inputs need to be considered by the user.\n\nThe next sheet Results includes all the results and graphics resulting from the application of the GACMO tool run by the user. Each sheet starts with an introductory text describing the results found on the sheet. Note that a button is also provided to the user to automatically produce a summary of the results as a PDF document."]
[]
[]
[null,"The last sheet Tracking progress is the sheet that can be used by the user to monitor the progress made in implementing each mitigation action. The Tracking progress sheet is thus used ex-post, that is, once the mitigation options are under implementation or have been implemented, to estimate and monitor the effective reductions of GHG emissions.\n\nFinally, GACMO includes a long list of technology sheets, including \"Agriculture\", \"Biomass Energy\", \"CCS\", \"Cement\", \"Coalmine CH4\", \"EE households\", \"EE Industry\", \"EE own generation\", \"EE service\", \"EE supply side\", \"E distribution\", \"Forestry\", \"Fossil fuel switch\",…. These sheets include the tables with the specific cost and technical data of each mitigation option, as well as the corresponding reference option. Note that these sheets are hidden by default, but the user can access those sheets and the data table of each mitigation option by clicking on the name of the mitigation option in the Mitigation Options sheet.\n\nA more detailed guidance for the use of each sheet is provided below. This guidance can also be opened in PDF and printed by clicking on the two buttons located in the upper-right corner of this Guidance sheet."]
[]
[]
[]
[null,"Step 1: Assumptions"]
[null,"The Assumption sheet includes all the basic country, cost, and technical data that the GACMO tool needs as inputs for the calculations.\n\nFirst, in the Basic country information table, the user must introduce:"]
[null,"•\n•\n\n•\n•\n•","The name of the country.\nThe start year = the year in which the data of the energy balance and GHG emissions of non-energy sectors are collected. This is generally the most recent year for which the necessary data are available.\nThe currency = the system of money in general use in the country\nThe exchange rate used (1US$=) = the price of the country's money in relation to the US dollar.\nDiscount rate = the interest rate used to determine the present value of future cash flows in a discounted cash flow analysis."]
[null,"Second, in the Energy prices used for the entire future period and Fuel prices (all in 2020 prices) tables, the user must introduce: "]
[null,"•\n","The Energy prices in US$/unit for crude oil, all distillates, coal, lignite, and natural gas used in the energy mix of the country. The model uses the historical relationship between the price of crude oil/liter and the price of distillate/liter. These prices can be entered as constant fuel prices estimated for the future."]
[null,"Third, in the Electricity table, the user must introduce:"]
[null,"•\n•\n•","US$/kWh = The price of electricity in US$/kWh\nCombined Margin (CM) Other = the grid emission factor or CO2 emission factor for electricity production.\nNote that the value for the Electricity grid losses & own consumption is calculated by the GACMO tool and imported from the Energy Balance sheet."]
[null,"Fourth, in the Sector specific Emission factors (kg GHG/GJ) table, the user must introduce:"]
[null,"•\n","The greenhouse gas emission factor for all the fossil fuels. It has to be noted that average default values for those fuel emissions factors are provided by GACMO, but the user can adjust them if national values are available for the same fuels."]
[null,"Fifth, in the Global warming potentials tables, the user must introduce:"]
[null,"•\n","The Global Warming Potential (GWP) for methane (CH4) and for nitrous oxide (N2O). GACMO provides the IPCC GWP as default values. It has to be noted that the GWP of PFC gas is also included in GACMO but it is at the level of the \"HFC PFC SF6 technology sheet\""]
[null,"Finally, in the Population and GDP in Start year table, the user must introduce:"]
[null,"•\n","The Population and the Gross Domestic Product in the start year"]
[null,"ONCE THE DATA HAVE BEEN INSERTED IN THE ASSUMPTION SHEET, YOU CAN CLICK “GO TO STEP 2: ENERGY BALANCE”."]
[]
[null,"Step 2: Energy Balance"]
[null,"The Energy Balance sheet includes the energy data disaggregated by sector of activity for the start year.\n\nIn the two first tables Energy balance in TJ – Country X - Base year and Base year energy balance in mega tonnes and million cubic meters, the balance contains columns for all the fossil fuels, and rows for all the normal sectors of the energy balance."]
[null,"•","For the fossil fuels used in the country's energy mix at the start year, the user must include the amounts of the different fuels used by each normal sector of activity. Usually, the input unit for this energy balance is TJ. However, the user can choose to insert the data in units of mass or volume (mega tonnes and million cubic meters). The user can select either one or another input by clicking the button “Select unit for input (TJ or Mass/volume)”."]
[null,"Once the user has included the energy balance data in TJ or mass/volume units, GACMO automatically calculates the energy balance in ktoe unit. For those calculations, GACMO uses the default IPCC emission factors in tCO2/toe, and calorific values in toe/(ton or m3). The table with the energy balance calculated in ktoe can be shown (or hidden) by clicking the button “Show/Hide table in ktoe values”.\n\nFinally, in the last table Base year electricity balance in GWh, the user must include:"]
[null,"•\n•","Electricity consumption data = amounts of electricity (in GWh unit) used by each normal sector of activity\nElectricity production data = amounts of electricity (in GWh unit) produced with each fossil fuel or renewable energy source"]
[null,"ONCE THE DATA HAVE BEEN INSERTED IN THE ENERGY BALANCE SHEET, YOU CAN CLICK “GO TO STEP 3: GHG BALANCE”."]
[]
[null,"Step 3:  GHG Balance"]
[null,"The GHG Balance sheet includes the GHG emissions data disaggregated by sector of activity for the start year.\n\nThe first table CO2 Emissions – Country X - Start year includes the balance for the CO2 emissions at the start year expressed in ktCO2 equivalents unit. GACMO automatically calculates the data in this table. The user should not insert or modify the data in this table.\n\nIn the second table Non-CO2 emissions, non-fuel combustion sectors, the user must include:"]
[null,"•","The CH4 and N2O data, expressed in ktCO2 equivalent units for each sector/sub-sector as defined by the IPCC. Those data can be found in the greenhouse gas national inventory of the country calculated for the start year. If no data are available for the start year, the user can alternatively take the data for the year closest to the start year."]
[null,"ONCE THE DATA HAVE BEEN INSERTED IN THE GHG BALANCE SHEET, YOU CAN CLICK “GO TO STEP 4: GROWTH FACTORS”."]
[]
[null,"Step 4: Growth factors"]
[null,"The Growth sheet includes the expected growth in energy consumption for the different sectors of activity for different periods of time.\n\nIn the table Growth from the start year – Country X, the user must include:"]
[null,"•\n•","The Population growth, estimated for the different periods: start year-2025, 2025-2030, 2030-2035, and 2030-2050.\nThe GDP growth, estimated for the different periods: start year-2025, 2025-2030, 2030-2035, and 2030-2050."]
[null,"Note that these two parameters Population growth and GDP growth are only used by GACMO to calculate the GHG emissions of the country expressed per capita or per GDP units."]
[null,"•","The annual growth in energy consumption estimated for each sector of activity for the different periods: start year-2025, 2025-2030, and 2030-2050. It must be noted that those data can be estimated from the historical values of each sector of activity. Alternatively, those estimations can eventually be found in national or sectoral documents (for example energy plan of the country) or can be estimated by national experts to the best of their knowledge."]
[null,"GACMO automatically calculates the percentage increase from the start year to 2025, 2030, 2035, 2040, 2045 and 2050."]
[null,"ONCE THE DATA HAVE BEEN INSERTED IN THE GROWTH SHEET, YOU CAN CLICK “GO TO STEP 5: BAU ENERGY BALANCES”.\n\nNote that after the user clicks on “Go to Step 5”, the sheets Steps 1-4 will be hidden. This is because Step 4 finishes the process of input data collection for the Start Year and for the BAU scenario. The next steps depict the results for the BAU scenario (Steps 5-6) and the calculations for building the Mitigation Scenario (Step 7). If the user needs to change the input data, it is possible to go back to the initial sheets at any moment by clicking on “Go back to Step 1-4”."]
[]
[null,"Step 5: BAU Energy balances"]
[null,"The BAU projected energy balances sheet includes the future energy balances for the years 2025, 2030, 2035, 2040, 2045, and 2050.\n\nBased on the energy balance data for the start year and on the growth factors introduced by the user, GACMO calculates the data for the Fossil fuel balance and for the Electricity balance projected for the future years 2025, 2030, 2035, 2040, 2045, and 2050.\n\nThe user can navigate between the energy balance tables for the different years (2025, 2030, 2035, 2040, 2045, 2050) expressed in TJ or ktoe units by clicking the corresponding buttons in the upper part of this sheet.\n\nIt must be noted that the user should not modify any of the data calculated by GACMO shown in the tables Fossil fuel balance – year – Country X and Electricity balance – year. However, a user may exceptionally decide to modify a specific data in one of these tables in the case that the user would like to reflect a change in the energy matrix which is not taken into account by the projections made by GACMO. The user should only make such a change if he/she is completely familiar with those types of data as the change will have an impact on the emissions scenarios and results obtained."]
[null,"ONCE YOU HAVE REVIEWED THE TABLES OF THE BAU PROJECTED ENERGY BALANCES SHEET, YOU CAN CLICK “GO TO STEP 6: BAU GHG BALANCES”."]
[]
[null,"Step 6: BAU projected GHG balances"]
[null,"The BAU projected GHG balances sheet includes the future greenhouse gas emissions balances for the years 2025, 2030, 2035, 2040, 2045, and 2050.\n\nBased on the greenhouse gas balance data for the start year and on the growth factors introduced by the user, GACMO calculates the data for the greenhouse gas balances projected for the future years 2025, 2030, 2035, 2040, 2045, and 2050. These data are shown in two tables respectively for the CO2 balance and for the CH4 and N20 balances expressed in ktCO2e.\n\nThe user can navigate between the greenhouse gas balance tables for the different years (2025, 2030, 2035, 2040, 2045, 2050) by clicking the corresponding buttons in the upper part of this sheet."]
[null,"It must be noted that the user should not modify any of the data calculated by GACMO shown in the tables CO2 balance and CH4 and N20 balances. However, a user may exceptionally decide to modify a specific data in one of these tables in the case that the user would like to reflect a change in the greenhouse gas balance which is not taken into account by the projections made by GACMO. The user should only make such a change if he/she is completely familiar with those types of data as the change will have an impact on the emissions scenarios and results obtained.\n\nIn this BAU projected GHG balances sheet, GACMO calculates the total greenhouse gas emissions for the future years 2025, 2030, 2035, 2040, 2045, and 2050 in the BAU scenario. By connecting the points corresponding to those emissions in the start year, 2025, 2030, 2035, 2040, 2045 and 2050, GACMO draws a greenhouse gas emissions curve corresponding to the BAU scenario. This curve can be seen in a graph in the Results sheet."]
[null,"ONCE YOU HAVE REVIEWED THE TABLES OF THE BAU PROJECTED GHG BALANCES SHEET, YOU CAN CLICK “GO TO STEP 7: MITIGATION OPTIONS”."]
[]
[null,"Step 7: Mitigations Options"]
[null,"The Mitigation Options sheet includes the mitigation options that will be under implementation in the country by the years 2025, 2030, 2035, 2040, 2045, and 2050. This sheet is used by GACMO to build the greenhouse gas mitigation scenario.\n\nGACMO includes 119 mitigation options (Reduction options in column C) grouped by category or activity types (Type in column B). All 119 mitigation options are shown by default for the years 2025, 2030, 2035, 2040, 2045 and 2050. The user can shift between each year by clicking the corresponding year button in the upper part of the sheet. In addition, if the user wants to see only the mitigation options for a specific group of category or activity types, the user can select the corresponding category/ies or activity/ies by clicking the button Select reduction option sector/type in the upper part of the sheet.\n\nIf the user notices that a specific mitigation option relevant to the country is not included in GACMO, the user can contact UNEP-CCC using the email mentioned in the Introduction sheet, and we will try to include the missing mitigation option."]
[null,"For each year 2025, 2030, 2035, 2040, 2045 and 2050, the user has to consider the mitigation options that are relevant to the national context and that will be included in the greenhouse gas mitigation scenario. Then for each mitigation option considered, in column I (Units penetrating in 2025/2030/2035/2040/2045/2050) the user needs to indicate the number of units expected to be under implementation by the year 2025 (/2030/2035/2040/2045/2050). For each mitigation option, the number introduced by the user in column I has to take into account the sub-type unit described in column E. This can for example be in “ha” in the case of mitigation options in agriculture, in ”MW” in the case of mitigation options in the energy power sector, in “number of bulbs” in the case of mitigation options in lighting, etc. The number in column I has also to take into account the value already included in the sub-type unit described in column E. For example, for the mitigation option “Efficient lighting with LEDs” (line 33), the value of the sub-type unit is “1000 bulbs”. In this example, if the user expects to have 1 million LED bulbs under implementation by 2025, the number that will be included in column I is 1000, as 1000 x 1000 bulbs = 1 million. Finally, it has to be noted that the numbers indicated for the years 2025, 2030, 2035, 2040, 2045, and 2050 are total numbers (and not cumulative numbers). In our LEDs example, if the user expects to have 1 million LED bulbs under implementation by 2025 and 2 million LED bulbs under implementation by 2030, the numbers that will be included in column I are 1000 for 2025 (as 1000 x 1000 bulbs = 1 million) and 2000 for 2030 (as 2000 x 1000 bulbs = 2 million). Remember that the user only needs to indicate a number in column I for the mitigation options considered relevant in a certain year as per the country's national context. For the mitigation options that are not considered relevant, the corresponding cells in column I are left blank."]
[null,"In the table of the Mitigation Options sheet, GACMO provides also other information or data for each mitigation option, in many cases calculated from the number of penetrating units included in the column I by the user. These additional information or data are found in the columns D, F, G, H, J, K, L, M, N, O, and P."]
[null,"•\n•\n•\n•\n\n•\n\n•\n\n•\n\n•\n•\n\n•","Column D = abatement cost reduction in US$/ton CO2e.\nColumn F = GHG emissions reduction in tCO2 equivalent per unit of the mitigation option as defined in column E.\nColumn G = total investment cost in Millions of US$ for the mitigation option, as additional cost compared to the total investment cost of the reference option.\nColumn H = total annual operational cost in Millions of US$/year for the mitigation option, as additional cost compared to the total annual operational cost of the reference option. ______________\nColumn J = total GHG emissions reduction in ktco2 equivalent achieved by the implementation of the number of units of the mitigation option penetrating by the year 2025/2030/2035/2040/2045/2050 (as per column I).\nColumn K = cumulative GHG emissions reduction in ktco2 equivalent achieved by the implementation of the number of units of all the mitigation options penetrating by the year 2025/2030/2035/2040/2045/2050 (as per column I).\nColumn L = cumulative GHG emissions reduction as the % of the total reduction achieved in the year 2025/2030/2035/2040/2045/2050 in comparison to the baseline emissions for this year, by the implementation of the number of units of all the mitigation options penetrating by the year.\nColumns M, N = savings of diesel and gasoline, which cannot be replaced by biodiesel and bioethanol.\nColumn O = the reduction (savings) in electricity consumption in GWh achieved by the implementation of the number of units of the mitigation option penetrating by the year 2025/2030/2035/2040/2045/2050 (as per column I).\nColumn P = electricity produced in GWh by the implementation of the number of units of the mitigation option penetrating by the year 2025/2030/2035/2040/2045/2050 (as per column I)."]
[null,"In this Mitigation Options sheet, GACMO calculates thus the total greenhouse gas emissions for the future years 2025, 2030, 2035, 2040, 2045, and 2050 in the mitigation scenario, that is including the implementation of the mitigation options considered by the user. By connecting the points corresponding to those emissions in the start year, 2025, 2030, 2035, 2040, 2045, and 2050, GACMO draws a greenhouse gas emissions curve corresponding to the mitigation scenario. This curve can be seen in a graph in the Results sheet."]
[null,"It must be noted that all the calculations for emissions reductions and costs made by GACMO use default technical and cost values specific to each mitigation option. These default values have been calculated as average values out of the CDM projects pipeline developed at UNEP-CCC. The use of these average default values for emissions reductions and cost data constitutes a good approximation and allows the user to get good results out of GACMO. If the user wishes to have access to the default technical and cost values for a specific mitigation option, he/she can click on the name of the corresponding mitigation option in column C of the Mitigation Options sheet. This will bring the user to a table including all the technical and cost data of the specific mitigation option used in the calculations (please refer to the next section Technology Sheets in case you would like to learn more about these mitigation options table)."]
[null,"ONCE THE DATA HAVE BEEN INSERTED IN THE MITIGATION OPTIONS SHEET AND ONCE YOU HAVE REVIEWED THE TABLES OF THE TECHNOLOGY SHEETS FOR EACH MITIGATION OPTION (see step Technology Sheets below), YOU CAN CLICK “GO TO STEP 8: RESULTS”."]
[]
[null,"Step - Technology Sheets"]
[null,"All the calculations for emissions reductions and costs made by GACMO use default technical and cost values specific to each mitigation option. These default values have been calculated as average values out of the CDM projects pipeline developed at UNEP-CCC. The use of these average default values for emissions reductions and cost data constitutes a good approximation and allows the user to get good results out of GACMO.\n\nTo access the table with the default technical and cost values for a specific mitigation option, the user can click on the name of the corresponding mitigation option in column C of the Mitigation Options sheet. This will bring the user to a Technology sheet grouping all the mitigation options of the same category and to a table including all the technical and cost data of the specific mitigation option used in the calculations. Once the user is done reviewing the table in the Technology sheet, click on “Return to Mitigation options” to go back to the Mitigation Options sheet.  "]
[null,"It is always recommended that the user takes the time to review the tables including all the default values for technical and cost data of the relevant mitigation options. If the user has values specific to the country's national context for some of the technical and cost data of the relevant mitigation options, the user can replace the corresponding default values with these specific values. By doing so, the user will increase the quality of the results out of GACMO.\n\nAll the tables including the technical and cost data of the specific mitigation options in the Technology sheets are built in the same way:"]
[null,"•\n•\n\n•\n\n•\n•\n\n•\n•\n•\n\n•\n•","The top line contains the name of the mitigation option.\nThe upper left table contains the economic calculation with a column for the reduction option (or mitigation option), a column for the reference option (without the implementation of the mitigation action), and a column with the cost impact (can be positive or negative) between the reduction and the reference options.\nThe next line in this part contains the investment in US$ for the reduction and for the reference option (sometimes only the induced increase of the reduction option compared to the reference option, i.e. only the additionality, appears in the table). first column).\nThe next line shows the project life, that is the number of years corresponding to the average life of the reduction or the reference option.\nThe next line shows the annual payment (= levelized cost) of the investment according to the discount rate used (shown in the general inputs table on the right) and the project life.\nThe following lines show the annual cost of operation and maintenance, fuel costs, and, in some cases, material costs.\nThe last line in this part shows the total costs.\nThe lower left table contains the GHG emission calculations with a column for the reduction option, a column for the reference option, and a column with the GHG reduction, that is, the difference between both options.\nBelow this, the resulting abatement cost (also referred to as average abatement cost) in US$/ton CO2 equivalent is calculated.\nAt the bottom, some notes explaining the option/action, if applicable, are displayed. Here the user will often see that an MDL PDD has been used to make the default data."]
[null,"To make calculations transparent, a table indicating all inputs is displayed on the right."]
[null,"•\n•\n•","The upper part shows the general inputs used for the reference and reduction options. Several of these are taken from the Assumptions sheet.\nBelow this part are the entries for the reduction option, including technical characteristics and unit costs.\nBelow this part are the entries for the reference option."]
[]
[null,"Step 8: Result sheet"]
[null,"The Results sheet includes all the final results for the greenhouse gas emissions reductions and for the cost calculations. The sheet also displays the graphical results from the data analysis.\n\nIn the Results sheet, the user will find the following information:"]
[null,"•","A Marginal Abatement Revenue Curve (MAR curve) comparing the relevant mitigation options for the years 2025, 2030, 2035, 2040, 2045, or 2050."]
[null,"A MAR curve corresponds to an inverted marginal abatement costs curve. The MAR curve is calculated based on the cost (investment and operational costs) of a mitigation option for reducing one unit of greenhouse gas emission – in US$/tCO2 equivalent - (y-axis), and on the total greenhouse gas emission reduction achieved by the same mitigation option per year – in ktCO2 equivalent/year - (x-axis). For a specific mitigation option, the MAR curve provides a graphical representation of the reduction potential of the option versus its cost. By integrating all the relevant mitigation options, the MAR curve compares the potential reductions among all the options versus their costs. Therefore, the MAR curve provides a very easy and quick way for the user, to identify the “win-win” mitigation options, that is the options that allow reducing the greenhouse gas emissions while having positive savings compared to their reference option. It must be noted that in the case of the MAR curve, the “win-win” mitigation options are located above the x-axis."]
[null,"•\n\n•\n•\n•\n•","A table with the total greenhouse gas emissions levels reached in the different years (start year, 2025, 2030, 2035, 2040, 2045, and 2050) for the BAU scenario and for the mitigation scenario.\nThe graph showing the curves for the total emissions in the BAU and the mitigation scenarios.\nA table showing the sectoral split of the emissions in the different years (start year, 2025, 2030, 2035, 2040, 2045, and 2050) for the BAU scenario.\nThe graph showing the curves for the sectoral emissions in the BAU scenario.\nA table showing the sectoral split of the emissions in the different years (start year, 2025, 2030, 2035, 2040, 2045, and 2050) for the mitigation scenario."]
[null,"IN CASE THE USER WOULD LIKE TO USE GACMO FOR TRACKING PURPOSES, THAT IS FOR EX-POST ESTIMATIONS, CLICK “GO TO STEP 9: TRACKING PROGRESS\"."]
[]
[null,"Step 9: Tracking Progress"]
[null,"The Tracking progress sheet is used by the user to monitor the progress made in implementing each mitigation action. The Tracking progress sheet is thus used ex-post, that is, once the mitigation options are under implementation or have been implemented, to estimate and monitor the effective reductions of GHG emissions.\n\nThe sheet includes a table with a structure similar to the table found in the Mitigation Options sheet. The table includes the 119 mitigation options (Reduction options in column C) grouped by category or activity types (Type in column B). All 119 mitigation options are shown by default. If the user wants to see only the mitigation options for a specific group of category or activity types, the user can select the corresponding category/ies or activity/ies by clicking the button \"Select sector/type for Tracking input\" in the upper part of the sheet."]
[null,"For the relevant mitigation options, the user has to introduce the number of units which has been effectively installed or implemented at the end of each year. The number of units inserted by the user has to take into account the value already included in the sub-type unit described in column D (as explained in the section about the Mitigation Options sheet).\n\nOnce the number of units of a specific mitigation option has been introduced in the column of a specific year, GACMO automatically calculates the total greenhouse gas emissions reduction achieved by the implementation of the corresponding units (in ktCO2 equivalent/year). These results can thus be used to monitor the real greenhouse gas emissions reduction achieved by a country by implementing a specific mitigation option or a group of options. In addition, GACMO includes three additional columns (AC, AD, and AE) where the user can introduce information related to the sources of finance used to implement the options and other information such as the entity responsible for implementing the option."]

{"sheet":"Guidance","index":2,"n_rows":98,"n_cols":22,"rows_kept":98,"cut":false,"hidden":true,"merged":[[89,1,96,13],[97,1,104,13],[87,11,87,12],[88,3,88,4],[88,5,88,6],[88,7,88,8],[88,9,88,10],[88,11,88,12],[87,1,87,2],[87,3,87,4],[87,5,87,6],[87,7,87,8],[87,9,87,10],[88,1,88,2],[74,1,74,13],[70,1,70,2],[77,1,77,2],[84,1,84,2],[80,1,80,13],[81,2,81,13],[82,1,82,13],[75,2,75,13],[78,1,78,13],[79,2,79,13],[71,1,71,13],[84,3,84,4],[84,5,84,6],[84,7,84,8],[84,9,84,10],[84,11,84,12],[65,2,65,13],[52,1,52,2],[61,1,61,2],[62,1,62,13],[63,1,63,13],[57,1,57,13],[59,1,59,13],[58,1,58,13],[53,1,53,13],[54,1,54,13],[56,1,56,2],[66,1,66,13],[67,1,67,13],[72,1,72,13],[73,2,73,13],[68,1,68,13],[24,1,24,13],[25,2,25,13],[30,1,30,13],[26,1,26,13],[27,2,27,13],[28,1,28,13],[42,1,42,13],[5,1,5,10],[18,1,18,13],[19,2,19,13],[10,1,12,13],[13,1,15,13],[9,1,9,2],[17,1,17,2],[20,1,20,13],[21,2,21,13],[33,1,33,13],[34,2,34,13],[22,1,22,13],[29,2,29,13],[32,1,32,2],[23,2,23,13],[85,1,85,13],[86,1,86,13],[35,1,35,13],[37,1,37,13],[39,1,39,2],[44,1,44,2],[47,1,47,13],[49,1,49,13],[48,2,48,13],[36,2,36,13],[41,2,41,13],[40,1,40,13],[50,1,50,13],[46,2,46,13],[45,1,45,13],[64,1,64,13]]}
[]
[null,"Quick step by step guidance for using GACMO:",null,null,null,null,null,null,null,null,null,null,null,null,null,null,null,null,"Guidance sheet headings!",null,"Start row","End row"]
[null,null,null,null,null,null,null,null,null,null,null,null,null,null,null,null,null,null,"How to Start",null,11,16]
[null,"All cells in the worksheets where inputs are needed are",null,"yellow.",null,null,null,null,null,null,null,null,null,null,null,null,null,null,"Assumptions",null,19,31]
[null,"Most of these cells contain default values. Those can be modified where appropriate.",null,null,null,null,null,null,null,null,null,null,null,null,null,null,null,null,"Energy Balance",null,{"$f":"V4+3","v":34},38]
[null,null,null,null,null,null,null,null,null,null,null,null,null,null,null,null,null,null,"GHG Balance",null,{"$f":"V5+3","v":41},43]
[null,null,null,null,null,null,null,null,null,null,null,null,null,null,null,null,null,null,"Growth",null,{"$f":"V6+3","v":46},51]
[null,null,null,null,null,null,null,null,null,null,null,null,null,null,null,null,null,null,"BAU projected energy balances",null,54,55]
[null,null,null,null,null,null,null,null,null,null,null,null,null,null,null,null,null,null,"BAU projected GHG balances",null,58,60]
[null,"How to start",null,null,null,null,null,null,null,null,null,null,null,null,null,null,null,null,"Mitigations Options",null,63,69]
[null,"This version of the GACMO tool includes different spreadsheets contained in an Excel file that the user needs to consider following a stepwise approach. The interface of the tool is made so that the user is taken from the first spreadsheet to the last spreadsheet following a logical order.\n\nThe two first sheets are the Introduction and the Guidance. We strongly recommend the user to read these two sheets before starting using the tool.\n\nThe tool includes seven technical sheets: Assumptions, Energy Balance, GHG Balance, Growth, BAU projected Energy Balances, BAU projected GHG Balances, and Mitigation Options. These sheets include a series of tables that the user needs to consider and where the user will have to introduce the data inputs required to run the GACMO tool. Each sheet starts with an introductory text explaining the purpose of the sheet and what data and inputs need to be considered by the user.\n\nThe next sheet Results includes all the results and graphics resulting from the application of the GACMO tool run by the user. Each sheet starts with an introductory text describing the results found on the sheet. Note that a button is also provided to the user to automatically produce a summary of the results as a PDF document.",null,null,null,null,null,null,null,null,null,null,null,null,null,null,null,null,"Technology sheets (optional step)",null,72,76]
[null,null,null,null,null,null,null,null,null,null,null,null,null,null,null,null,null,null,"Results",null,79,83]
[null,null,null,null,null,null,null,null,null,null,null,null,null,null,null,null,null,null,"MRV",null,86,87]
[null,"The last sheet Tracking progress is the sheet that can be used by the user to monitor the progress made in implementing each mitigation action. The Tracking progress sheet is thus used ex-post, that is, once the mitigation options are under implementation or have been implemented, to estimate and monitor the effective reductions of GHG emissions.\n\nFinally, GACMO includes a long list of technology sheets, including \"Agriculture\", \"Biomass Energy\", \"CCS\", \"Cement\", \"Coalmine CH4\", \"EE households\", \"EE Industry\", \"EE own generation\", \"EE service\", \"EE supply side\", \"E distribution\", \"Forestry\", \"Fossil fuel switch\",…. These sheets include the tables with the specific cost and technical data of each mitigation option, as well as the corresponding reference option. Note that these sheets are hidden by default, but the user can access those sheets and the data table of each mitigation option by clicking on the name of the mitigation option in the Mitigation Options sheet.\n\nA more detailed guidance for the use of each sheet is provided below. This guidance can also be opened in PDF and printed by clicking on the two buttons located in the upper-right corner of this Guidance sheet.",null,null,null,null,null,null,null,null,null,null,null,null,null,null,null,null,null,null,90,105]
[]
[]
[]
[null,"Step 1: Assumptions"]
[null,"The Assumption sheet includes all the basic country, cost, and technical data that the GACMO tool needs as inputs for the calculations.\n\nFirst, in the Basic country information table, the user must introduce:"]
[null,"•\n•\n\n•\n•\n•","The name of the country.\nThe start year = the year in which the data of the energy balance and GHG emissions of non-energy sectors are collected. This is generally the most recent year for which the necessary data are available.\nThe currency = the system of money in general use in the country\nThe exchange rate used (1US$=) = the price of the country's money in relation to the US dollar.\nDiscount rate = the interest rate used to determine the present value of future cash flows in a discounted cash flow analysis."]
[null,"Second, in the Energy prices used for the entire future period and Fuel prices for the entire future period tables, the user must introduce: "]
[null,"•\n","The Energy prices in US$/unit for crude oil, all distillates, coal, lignite, and natural gas used in the energy mix of the country. The model uses the historical relationship between the price of crude oil/liter and the price of distillate/liter. These prices can be entered as constant fuel prices estimated for the future."]
[null,"Third, in the Electricity and in the Grid Emission Factor tables, the user must introduce:"]
[null,"•\n•\n•","US$/kWh = The price of electricity in US$/kWh\nCombined Margin (CM) Other = the grid emission factor or CO2 emission factor for electricity production.\nNote that the value for the Electricity grid losses & own consumption is calculated by the GACMO tool and imported from the Energy Balance sheet."]
[null,"Fourth, in the Sector specific Emission factors (kg GHG/GJ) table, the user must introduce:"]
[null,"•\n","The greenhouse gas emission factor for all the fossil fuels. It has to be noted that average default values for those fuel emissions factors are provided by GACMO, but the user can adjust them if national values are available for the same fuels."]
[null,"Fifth, in the Global warming potentials tables, the user must introduce:"]
[null,"•\n","The Global Warming Potential (GWP) for methane (CH4) and for nitrous oxide (N2O). GACMO provides the IPCC GWP as default values. It has to be noted that the GWP of PFC gas is also included in GACMO but it is at the level of the \"HFC PFC SF6 technology sheet\""]
[null,"Finally, in the Population and GDP in Start year table, the user must introduce:"]
[null,"•\n","The Population and the Gross Domestic Product in the start year"]
[null,"ONCE THE DATA HAVE BEEN INSERTED IN THE ASSUMPTION SHEET, YOU CAN CLICK “GO TO STEP 2: ENERGY BALANCE”."]
[]
[null,"Step 2: Energy Balance"]
[null,"The Energy Balance sheet includes the energy data disaggregated by sector of activity for the start year.\n\nIn the two first tables Energy balance in TJ – Country X - Base year and Base year energy balance in mega tonnes and million cubic meters, the balance contains columns for all the fossil fuels, and rows for all the normal sectors of the energy balance."]
[null,"•","For the fossil fuels used in the country's energy mix at the start year, the user must include the amounts of the different fuels used by each normal sector of activity. Usually, the input unit for this energy balance is TJ. However, the user can choose to insert the data in units of mass or volume (mega tonnes and million cubic meters). The user can select either one or another input by clicking the button “Select unit for input (TJ or Mass/volume)”."]
[null,"Once the user has included the energy balance data in TJ or mass/volume units, GACMO automatically calculates the energy balance in ktoe unit. For those calculations, GACMO uses the default IPCC emission factors in tCO2/toe, and calorific values in toe/(ton or m3). The table with the energy balance calculated in ktoe can be shown (or hidden) by clicking the button “Show/Hide table in ktoe values”.\n\nFinally, in the last table Base year electricity balance in GWh, the user must include:"]
[null,"•\n•","Electricity consumption data = amounts of electricity (in GWh unit) used by each normal sector of activity\nElectricity production data = amounts of electricity (in GWh unit) produced with each fossil fuel or renewable energy source"]
[null,"ONCE THE DATA HAVE BEEN INSERTED IN THE ENERGY BALANCE SHEET, YOU CAN CLICK “GO TO STEP 3: GHG BALANCE”."]
[]
[null,"Step 3:  GHG Balance"]
[null,"The GHG Balance sheet includes the GHG emissions data disaggregated by sector of activity for the start year.\n\nThe first table CO2 Emissions – Country X - Start year includes the balance for the CO2 emissions at the start year expressed in ktCO2 equivalents unit. GACMO automatically calculates the data in this table. The user should not insert or modify the data in this table.\n\nIn the second table Non-CO2 emissions, non-fuel combustion sectors, the user must include:"]
[null,"•","The CH4 and N2O data, expressed in ktCO2 equivalent units for each sector/sub-sector as defined by the IPCC. Those data can be found in the greenhouse gas national inventory of the country calculated for the start year. If no data are available for the start year, the user can alternatively take the data for the year closest to the start year."]
[null,"ONCE THE DATA HAVE BEEN INSERTED IN THE GHG BALANCE SHEET, YOU CAN CLICK “GO TO STEP 4: GROWTH FACTORS”."]
[]
[null,"Step 4: Growth factors"]
[null,"The Growth sheet includes the expected growth in energy consumption for the different sectors of activity for different periods of time.\n\nIn the table Growth from the start year – Country X, the user must include:"]
[null,"•\n•","The Population growth, estimated for the different periods: start year-2025, 2025-2030, 2030-2035, 2035-2040, 2040-2045 and 2045-2050.\nThe GDP growth, estimated for the different periods: start year-2025, 2025-2030, 2030-2035, 2035-2040, 2040-2045 and 2045-2050."]
[null,"Note that these two parameters Population growth and GDP growth are only used by GACMO to calculate the GHG emissions of the country expressed per capita or per GDP units."]
[null,"•","The annual growth in energy consumption estimated for each sector of activity for the different periods: start year-2025, 2025-2030, 2030-2035, 2035-2040, 2040-2045 and 2045-2050. It must be noted that those data can be estimated from the historical values of each sector of activity. Alternatively, those estimations can eventually be found in national or sectoral documents (for example energy plan of the country) or can be estimated by national experts to the best of their knowledge."]
[null,"GACMO automatically calculates the percentage increase from the start year to 2025, 2030, 2035, 2040, 2045 and 2050."]
[null,"ONCE THE DATA HAVE BEEN INSERTED IN THE GROWTH SHEET, YOU CAN CLICK “GO TO STEP 5: BAU ENERGY BALANCES”.\n\nNote that after the user clicks on “Go to Step 5”, the sheets Steps 1-4 will be hidden. This is because Step 4 finishes the process of input data collection for the Start Year and for the BAU scenario. The next steps depict the results for the BAU scenario (Steps 5-6) and the calculations for building the Mitigation Scenario (Step 7). If the user needs to change the input data, it is possible to go back to the initial sheets at any moment by clicking on “Go back to Step 1-4”."]
[]
[null,"Step 5: BAU Energy balances"]
[null,"The BAU projected energy balances sheet includes the future energy balances for the years 2025, 2030, 2035, 2040, 2045, and 2050.\n\nBased on the energy balance data for the start year and on the growth factors introduced by the user, GACMO calculates the data for the Fossil fuel balance and for the Electricity balance projected for the future years 2025, 2030, 2035, 2040, 2045, and 2050.\n\nThe user can navigate between the energy balance tables for the different years (2025, 2030, 2035, 2040, 2045, 2050) expressed in TJ or ktoe units by clicking the corresponding buttons in the upper part of this sheet.\n\nIt must be noted that the user should not modify any of the data calculated by GACMO shown in the tables Fossil fuel balance – year – Country X and Electricity balance – year. However, a user may exceptionally decide to modify a specific data in one of these tables in the case that the user would like to reflect a change in the energy matrix which is not taken into account by the projections made by GACMO. The user should only make such a change if he/she is completely familiar with those types of data as the change will have an impact on the emissions scenarios and results obtained."]
[null,"ONCE YOU HAVE REVIEWED THE TABLES OF THE BAU PROJECTED ENERGY BALANCES SHEET, YOU CAN CLICK “GO TO STEP 6: BAU GHG BALANCES”."]
[]
[null,"Step 6: BAU projected GHG balances"]
[null,"The BAU projected GHG balances sheet includes the future greenhouse gas emissions balances for the years 2025, 2030, 2035, 2040, 2045, and 2050.\n\nBased on the greenhouse gas balance data for the start year and on the growth factors introduced by the user, GACMO calculates the data for the greenhouse gas balances projected for the future years 2025, 2030, 2035, 2040, 2045, and 2050. These data are shown in two tables respectively for the CO2 balance and for the CH4 and N20 balances expressed in ktCO2e.\n\nThe user can navigate between the greenhouse gas balance tables for the different years (2025, 2030, 2035, 2040, 2045, 2050) by clicking the corresponding buttons in the upper part of this sheet."]
[null,"It must be noted that the user should not modify any of the data calculated by GACMO shown in the tables CO2 balance and CH4 and N20 balances. However, a user may exceptionally decide to modify a specific data in one of these tables in the case that the user would like to reflect a change in the greenhouse gas balance which is not taken into account by the projections made by GACMO. The user should only make such a change if he/she is completely familiar with those types of data as the change will have an impact on the emissions scenarios and results obtained.\n\nIn this BAU projected GHG balances sheet, GACMO calculates the total greenhouse gas emissions for the future years 2025, 2030, 2035, 2040, 2045, and 2050 in the BAU scenario. By connecting the points corresponding to those emissions in the start year, 2025, 2030, 2035, 2040, 2045, and 2050, GACMO draws a greenhouse gas emissions curve corresponding to the BAU scenario. This curve can be seen in a graph in the Results sheet."]
[null,"ONCE YOU HAVE REVIEWED THE TABLES OF THE BAU PROJECTED GHG BALANCES SHEET, YOU CAN CLICK “GO TO STEP 7: MITIGATION OPTIONS”."]
[]
[null,"Step 7: Mitigations Options"]
[null,"The Mitigation Options sheet includes the mitigation options that will be under implementation in the country by the years 2025, 2030, 2035, 2040, 2045, and 2050. This sheet is used by GACMO to build the greenhouse gas mitigation scenario.\n\nGACMO includes 119 mitigation options (Reduction options in column C) grouped by category or activity types (Type in column B). All 119 mitigation options are shown by default for the years 2025, 2030, 2035, 2040, 2045, and 2050. The user can shift between each year by clicking the corresponding year button in the upper part of the sheet. In addition, if the user wants to see only the mitigation options for a specific group of category or activity types, the user can select the corresponding category/ies or activity/ies by clicking the button Select reduction option sector/type in the upper part of the sheet.\n\nIf the user notices that a specific mitigation option relevant to the country is not included in GACMO, the user can contact UNEP-CCC using the email mentioned in the Introduction sheet, and we will try to include the missing mitigation option."]
[null,"For each year 2025, 2030, 2035, 2040, 2045, and 2050, the user has to consider the mitigation options that are relevant to the national context and that will be included in the greenhouse gas mitigation scenario. Then for each mitigation option considered, in column I (Units penetrating in 2025/2030/2035/2040/2045/2050) the user needs to indicate the number of units expected to be under implementation by the year 2025 (/2030/2035/2040/2045/2050). For each mitigation option, the number introduced by the user in column I has to take into account the sub-type unit described in column E. This can for example be in “ha” in the case of mitigation options in agriculture, in ”MW” in the case of mitigation options in the energy power sector, in “number of bulbs” in the case of mitigation options in lighting, etc. The number in column I has also to take into account the value already included in the sub-type unit described in column E. For example, for the mitigation option “Efficient lighting with LEDs” (line 33), the value of the sub-type unit is “1000 bulbs”. In this example, if the user expects to have 1 million LED bulbs under implementation by 2025, the number that will be included in column I is 1000, as 1000 x 1000 bulbs = 1 million. Finally, it has to be noted that the numbers indicated for the years 2025, 2030, 2035, 2040, 2045, and 2050 are total numbers (and not cumulative numbers). In our LEDs example, if the user expects to have 1 million LED bulbs under implementation by 2025 and 2 million LED bulbs under implementation by 2030, the numbers that will be included in column I are 1000 for 2025 (as 1000 x 1000 bulbs = 1 million) and 2000 for 2030 (as 2000 x 1000 bulbs = 2 million). Remember that the user only needs to indicate a number in column I for the mitigation options considered relevant in a certain year as per the country's national context. For the mitigation options that are not considered relevant, the corresponding cells in column I are left blank."]
[null,"In the table of the Mitigation Options sheet, GACMO provides also other information or data for each mitigation option, in many cases calculated from the number of penetrating units included in the column I by the user. These additional information or data are found in the columns D, F, G, H, J, K, L, M, N, O, and P."]
[null,"•\n•\n•\n•\n\n•\n\n•\n\n•\n\n•\n•\n\n•","Column D = abatement cost reduction in US$/ton CO2e.\nColumn F = GHG emissions reduction in tCO2 equivalent per unit of the mitigation option as defined in column E.\nColumn G = total investment cost in Millions of US$ for the mitigation option, as additional cost compared to the total investment cost of the reference option.\nColumn H = total annual operational cost in Millions of US$/year for the mitigation option, as additional cost compared to the total annual operational cost of the reference option. ______________\nColumn J = total GHG emissions reduction in ktco2 equivalent achieved by the implementation of the number of units of the mitigation option penetrating by the year 2025/2030/2035/2040/2045/2050 (as per column I).\nColumn K = cumulative GHG emissions reduction in ktco2 equivalent achieved by the implementation of the number of units of all the mitigation options penetrating by the year 2025/2030/2035/2040/2045/2050 (as per column I).\nColumn L = cumulative GHG emissions reduction as the % of the total reduction achieved in the year 2025/2030/2035/2040/2045/2050 in comparison to the baseline emissions for this year, by the implementation of the number of units of all the mitigation options penetrating by the year.\nColumns M, N = savings of diesel and gasoline, which cannot be replaced by biodiesel and bioethanol.\nColumn O = the reduction (savings) in electricity consumption in GWh achieved by the implementation of the number of units of the mitigation option penetrating by the year 2025/2030/2035/2040/2045/2050 (as per column I).\nColumn P = electricity produced in GWh by the implementation of the number of units of the mitigation option penetrating by the year 2025/2030/2035/2040/2045/2050 (as per column I)."]
[null,"In this Mitigation Options sheet, GACMO calculates thus the total greenhouse gas emissions for the future years 2025, 2030, 2035, 2040, 2045 and 2050 in the mitigation scenario, that is including the implementation of the mitigation options considered by the user. By connecting the points corresponding to those emissions in the start year, 2025, 2030, 2035,  2040, 2045, and 2050, GACMO draws a greenhouse gas emissions curve corresponding to the mitigation scenario. This curve can be seen in a graph in the Results sheet."]
[null,"It must be noted that all the calculations for emissions reductions and costs made by GACMO use default technical and cost values specific to each mitigation option. These default values have been calculated as average values out of the CDM projects pipeline developed at UNEP-CCC. The use of these average default values for emissions reductions and cost data constitutes a good approximation and allows the user to get good results out of GACMO. If the user wishes to have access to the default technical and cost values for a specific mitigation option, he/she can click on the name of the corresponding mitigation option in column C of the Mitigation Options sheet. This will bring the user to a table including all the technical and cost data of the specific mitigation option used in the calculations (please refer to the next section Technology Sheets in case you would like to learn more about these mitigation options table)."]
[null,"ONCE THE DATA HAVE BEEN INSERTED IN THE MITIGATION OPTIONS SHEET AND ONCE YOU HAVE REVIEWED THE TABLES OF THE TECHNOLOGY SHEETS FOR EACH MITIGATION OPTION (see step Technology Sheets below), YOU CAN CLICK “GO TO STEP 8: RESULTS”."]
[]
[null,"Step - Technology Sheets"]
[null,"All the calculations for emissions reductions and costs made by GACMO use default technical and cost values specific to each mitigation option. These default values have been calculated as average values out of the CDM projects pipeline developed at UNEP-CCC. The use of these average default values for emissions reductions and cost data constitutes a good approximation and allows the user to get good results out of GACMO.\n\nTo access the table with the default technical and cost values for a specific mitigation option, the user can click on the name of the corresponding mitigation option in column C of the Mitigation Options sheet. This will bring the user to a Technology sheet grouping all the mitigation options of the same category and to a table including all the technical and cost data of the specific mitigation option used in the calculations. Once the user is done reviewing the table in the Technology sheet, click on “Return to Mitigation options” to go back to the Mitigation Options sheet.  "]
[null,"It is always recommended that the user takes the time to review the tables including all the default values for technical and cost data of the relevant mitigation options. If the user has values specific to the country's national context for some of the technical and cost data of the relevant mitigation options, the user can replace the corresponding default values with these specific values. By doing so, the user will increase the quality of the results out of GACMO.\n\nAll the tables including the technical and cost data of the specific mitigation options in the Technology sheets are built in the same way:"]
[null,"•\n•\n\n•\n\n•\n•\n\n•\n•\n•\n•\n•","The top line contains the name of the mitigation option.\nThe upper left table contains the economic calculation with a column for the reduction option (or mitigation option), a column for the reference option (without the implementation of the mitigation action), and a column with the cost impact (can be positive or negative) between the reduction and the reference options.\nThe next line in this part contains the investment in US$ for the reduction and for the reference option (sometimes only the induced increase of the reduction option compared to the reference option, i.e. only the additionality, appears in the table). first column).\nThe next line shows the project life, that is the number of years corresponding to the average life of the reduction or the reference option.\nThe next line shows the annual payment (= levelized cost) of the investment according to the discount rate used (shown in the general inputs table on the right) and the project life.\nThe following lines show the annual cost of operation and maintenance, fuel costs, and, in some cases, material costs.\nThe last line in this part shows the total costs.\nThe lower left table contains the GHG emission calculations with a column for the reduction option, a column for the reference option, and a column with the GHG reduction, that is, the difference between both options.\nBelow this, the resulting abatement cost (also referred to as average abatement cost) in US$/ton CO2 equivalent is calculated.\nAt the bottom, some notes explaining the option/action, if applicable, are displayed. Here the user will often see that an MDL PDD has been used to make the default data."]
[null,"To make calculations transparent, a table indicating all inputs is displayed on the right."]
[null,"•\n•\n•","The upper part shows the general inputs used for the reference and reduction options. Several of these are taken from the Assumptions sheet.\nBelow this part are the entries for the reduction option, including technical characteristics and unit costs.\nBelow this part are the entries for the reference option."]
[]
[null,"Step 8: Results"]
[null,"The Results sheet includes all the final results for the greenhouse gas emissions reductions and for the cost calculations. The sheet also displays the graphical results from the data analysis.\n\nIn the Results sheet, the user will find the following information:"]
[null,"•","A Marginal Abatement Revenue Curve (MAR curve) comparing the relevant mitigation options for the years 2025, 2030, 2035, 2040, 2045 or 2050."]
[null,"A MAR curve corresponds to an inverted marginal abatement costs curve. The MAR curve is calculated based on the cost (investment and operational costs) of a mitigation option for reducing one unit of greenhouse gas emission – in US$/tCO2 equivalent - (y-axis), and on the total greenhouse gas emission reduction achieved by the same mitigation option per year – in ktCO2 equivalent/year - (x-axis). For a specific mitigation option, the MAR curve provides a graphical representation of the reduction potential of the option versus its cost. By integrating all the relevant mitigation options, the MAR curve compares the potential reductions among all the options versus their costs. Therefore, the MAR curve provides a very easy and quick way for the user, to identify the “win-win” mitigation options, that is the options that allow reducing the greenhouse gas emissions while having positive savings compared to their reference option. It must be noted that in the case of the MAR curve, the “win-win” mitigation options are located above the x-axis."]
[null,"•\n\n•\n•\n•\n•","A table with the total greenhouse gas emissions levels reached in the different years (start year, 2025, 2030, 2035, 2040, 2045 and 2050) for the BAU scenario and for the mitigation scenario._____________\nThe graph showing the curves for the total emissions in the BAU and the mitigation scenarios.\nA table showing the sectoral split of the emissions in the different years (start year, 2025, 2030, 2035, 2040, 2045 and 2050) for the BAU scenario.\nThe graph showing the curves for the sectoral emissions in the BAU scenario.\nA table showing the sectoral split of the emissions in the different years (start year, 2025, 2030, 2035, 2040, 2045 and 2050) for the mitigation scenario."]
[null,"IN CASE THE USER WOULD LIKE TO USE GACMO FOR TRACKING PURPOSES, THAT IS FOR EX-POST ESTIMATIONS, CLICK “GO TO STEP 9: TRACKING PROGRESS\"."]
[]
[null,"Step 9: Results BTR"]
[null,"Use Results BTR sheet if you plan to utilize GACMO results for the Biennial Transparency Report (BTR).\n\nThe Common Tabular Formats (CTFs) are integral to the BTRs under the Paris Agreement. The tables in this Sheet correspond to the CTF Table 9  “Information on projections of greenhouse gas emissions and removals under a ‘without measures’ scenario” and CTF Table 7 “Information on projections of greenhouse gas emissions and removals under a ‘with measures’ scenario”. Therefore, you can directly incorporate the data from these tables into CTF Tables 7 and 9.\n\n"]
[null,"Additionally, CTF Table 8, “Information on projections of greenhouse gas emissions and removals under a ‘with additional measures’ scenario” is provided in this Sheet. (The GACMO tool can generate one Business-As-Usual scenario and one mitigation scenario within a single GACMO file. If needed, a second mitigation scenario can be added by creating an additional GACMO file. Copy the results for the third “with additional measures” scenario into this third table.) "]
[]
[null,"Step 10: Tracking progress"]
[null,"The Tracking progress sheet is used by the user to monitor the progress made in implementing each mitigation action. The Tracking progress sheet is thus used ex-post, that is, once the mitigation options are under implementation or have been implemented, to estimate and monitor the effective reductions of GHG emissions.\n\nThe sheet includes a table with a structure similar to the table found in the Mitigation Options sheet. The table includes the 119 mitigation options (Reduction options in column C) grouped by category or activity types (Type in column B). All 119 mitigation options are shown by default. If the user wants to see only the mitigation options for a specific group of category or activity types, the user can select the corresponding category/ies or activity/ies by clicking the button \"Select sector/type for Tracking input\" in the upper part of the sheet."]
[]
[]
[]
[]
[]
[]
[]
[null,"For the relevant mitigation options, the user has to introduce the number of units which has been effectively installed or implemented at the end of each year. The number of units inserted by the user has to take into account the value already included in the sub-type unit described in column D (as explained in the section about the Mitigation Options sheet).\n\nOnce the number of units of a specific mitigation option has been introduced in the column of a specific year, GACMO automatically calculates the total greenhouse gas emissions reduction achieved by the implementation of the corresponding units (in ktCO2 equivalent/year). These results can thus be used to monitor the real greenhouse gas emissions reduction achieved by a country by implementing a specific mitigation option or a group of options. In addition, GACMO includes three additional columns (AC, AD, and AE) where the user can introduce information related to the sources of finance used to implement the options and other information such as the entity responsible for implementing the option."]

{"sheet":"Assumptions","index":3,"n_rows":89,"n_cols":23,"rows_kept":89,"cut":false,"hidden":true,"merged":[[7,5,13,14],[73,1,73,3],[42,1,42,5],[53,3,56,3],[57,3,60,3],[36,1,36,2]]}
[null,"Step 1 - Assumptions"]
[]
[]
[]
[]
[]
[]
[null,"Basic country information",null,null,null,"The Assumptions sheet includes all the basic country, cost, and technical data that the GACMO tool needs as inputs for the calculations. \nThis sheet must be filled in by the user.\n\nAll the cells in the eight tables displayed on the sheet must be considered by the user. Some of these cells may already include default values for some data, but the user can adjust those values if national values are available.\n\nPlease refer to the Guidance for further details on the data included in this sheet and on how to fill it in.\n\nOnce all the data have been inserted in the Assumptions sheet, you can click “Go to step 2: Energy balance”.",null,null,null,null,null,null,null,null,null,null,null,null,null,"Guidance sheet headings!",null,"Start row","End row"]
[null,"Country:",null,null,null,null,null,null,null,null,null,null,null,null,null,null,null,null,1,"How to Start",null,11,16]
[null,"Start year (latest inventory):",null,null,null,null,null,null,null,null,null,null,null,null,null,null,null,null,2,"Assumptions",null,19,29]
[null,"Currency:",null,null,null,null,null,null,null,null,null,null,null,null,null,null,null,null,3,"Energy Balance",null,32,36]
[null,"Exchange rate used (1US$=):",null,{"$f":"IF(Currency=\"Currency Y\",\"\",Currency)","v":""},null,null,null,null,null,null,null,null,null,null,null,null,null,null,4,"GHG Balance",null,{"$f":"W11+3","v":39},41]
[null,"Discount rate =",null,null,null,null,null,null,null,null,null,null,null,null,null,null,null,null,5,"Growth",null,{"$f":"W12+3","v":44},49]
[null,null,null,null,null,null,null,null,null,null,null,null,null,null,null,null,null,null,6,"BAU projected energy balances",null,52,53]
[null,null,null,null,null,null,null,null,null,null,null,null,null,null,null,null,null,null,7,"BAU projected GHG balances",null,56,58]
[null,"Energy prices used for the entire future period:",null,null,null,null,null,null,null,null,null,null,null,null,null,null,null,null,8,"Mitigations Options",null,61,67]
[null,"Crude oil",50,"US$/bbl",null,null,null,null,null,null,null,null,null,null,null,null,null,null,9,"Technology sheets (optional step)",null,70,74]
[null,"Crude oil",{"$f":"C17/159","v":0.31446540880503143},"US$/litre",null,null,null,null,null,null,null,null,null,null,null,null,null,null,10,"Results",null,77,81]
[null,"LNG",3.25,"US$/MBTU",null,null,null,null,null,null,null,null,null,null,null,null,null,null,11,"MRV",null,84,85]
[null,"Natural gas",{"$f":"C19/1.055","v":3.080568720379147},"US$/GJ"]
[null,"Coal",50,"US$/ton"]
[]
[]
[]
[null,"Fuel prices for the entire future period & fuel physical-chemical properties"]
[null,null,"LPG","Gasoline","Bioethanol","Jet Fuel","Diesel oil","Biodiesel","Heavy Fuel Oil","Kerosene","Coal","Coke","Petroleum coke","Lignite","Natural Gas"]
[null,"Distillate price/crude oil price (litre/litre)",0.9,1.4,null,1.4,1.2,null,0.8,1.4]
[null,"Fuel price (US$/liter)",{"$f":"$C$18*C27","v":0.28301886792452829},{"$f":"$C$18*D27","v":0.44025157232704398},0.83,{"$f":"$C$18*F27","v":0.44025157232704398},{"$f":"$C$18*G27","v":0.37735849056603771},1.2,{"$f":"$C$18*I27","v":0.25157232704402516},{"$f":"$C$18*J27","v":0.44025157232704398}]
[null,"Fuel price (US$/GJ)",{"$f":"C28*1000/C31/C30","v":11.080528851481024},{"$f":"D28*1000/D31/D30","v":13.102725366876308},null,{"$f":"(F28*1000/F30)/F31","v":12.341656546508295},{"$f":"G28*1000/G31/G30","v":10.367789021299378},null,{"$f":"(I28*1000/I30)/I31","v":6.387321626458637},{"$f":"(J28*1000/J30)/J31","v":12.297529953269384},{"$f":"C21/K31","v":2.0032051282051282},{"$f":"K29","v":2.0032051282051282},{"$f":"L29","v":2.0032051282051282},null,{"$f":"+C20","v":3.080568720379147}]
[null,"Fuel density (t/m3)",0.54,0.75,{"$f":"1/(D76/1000)","v":0.75528700906344404},0.8,0.84,{"$f":"1/(D77/1000)","v":0.88339222614840995},0.98,0.8,null,null,null,null,"(MJ/Nm3)"]
[null,"Fuel calorific value (GJ/t)",47.3,44.8,{"$f":"+F76","v":26.795520000000003},44.59,43.33,{"$f":"+F76","v":26.795520000000003},40.19,44.75,24.96,28,31,18.3,39]
[]
[null,"Electricity"]
[null,"Electricity price and grid information","Grid 1"]
[null,"US$/kWh"]
[]
[null,"Grid Emission Factor (tCO2/MWh)"]
[null,"Combined Margin (CM) Solar & Wind"]
[null,"Combined Margin (CM) Other"]
[null,"Electricity grid losses & own consumption",{"$f":"'Energy Balance'!H103","v":1},"This value will be imported from step 2"]
[]
[]
[null,"Sector specific Emission factors (kg GHG/GJ)"]
[null,"Sector","Emission factors","CO2","CH4","N2O"]
[null,"Power plant","Fuel oil",{"$f":"21.1*44/12","v":77.366666666666674},3.0000000000000001E-3,5.9999999999999995E-4]
[null,null,"Diesel oil",{"$f":"20.2*44/12","v":74.066666666666663},3.0000000000000001E-3,5.9999999999999995E-4]
[null,null,"Gasoline",{"$f":"18.9*44/12","v":69.3},3.0000000000000001E-3,5.9999999999999995E-4]
[null,null,"Jet fuel",{"$f":"19.5*44/12","v":71.5},3.0000000000000001E-3,5.9999999999999995E-4]
[null,null,"Kerosene",{"$f":"19.6*44/12","v":71.866666666666674},3.0000000000000001E-3,5.9999999999999995E-4]
[null,null,"LPG",{"$f":"17.2*44/12","v":63.066666666666663},1E-3,1E-4]
[null,null,"Natural gas ",56.1,1E-3,1E-4]
[null,null,"Coal ",{"$f":"25.8*44/12","v":94.600000000000009},1E-3,1.4E-3]
[null,null,"Lignite",{"$f":"27.6*44/12","v":101.2},{"$f":"+E52","v":1E-3},1.4E-3]
[null,"Industry","Oil","as above",2E-3,5.9999999999999995E-4]
[null,null,"Natural gas ",null,5.0000000000000001E-3,1E-4]
[null,null,"Coal ",null,0.01,1.4E-3]
[null,null,"Charcoal",null,0.2,4.0000000000000001E-3]
[null,"Residential","Oil","as above",0.01,5.9999999999999995E-4]
[null,null,"Natural gas ",null,5.0000000000000001E-3,1E-4]
[null,null,"Coal ",null,0.3,1.4E-3]
[null,null,"Charcoal",null,0.2,4.0000000000000001E-3]
[]
[null,"Global warming potentials:","SAR","AR4","AR5","GWP used","Unit","TAR"]
[null,"1 Ton CH4  =",21,25,28,{"$f":"+E64","v":28},"Ton CO2",23]
[null,"1 Ton N2O  =",310,298,265,{"$f":"+E65","v":265},"Ton CO2",296]
[]
[null,"Population and GDP in start year",{"$f":"C10","v":0}]
[null,"Population (thousands)"]
[null,"GDP (Current MUS$)"]
[]
[]
[null,"Source:"]
[null,"http://www.iisd.org/gsi/sites/default/files/bf_uk_fqdmodel.pdf"]
[null,"CONVERSION FACTORS"]
[null,null,"Tonnes","Litres","TOE","GJ"]
[null,"Ethanol ",1,1324,0.64,{"$f":"E76*D$86","v":26.795520000000003}]
[null,"Biodiesel ",1,1132,0.86,{"$f":"E77*D$86","v":36.006480000000003}]
[null,"Diesel",1,{"$f":"1/0.84*1000","v":1190.4761904761904},{"$f":"43.33/41.868","v":1.0349192700869398},{"$f":"E78*D$86","v":43.33}]
[null,"Gasoline",1,{"$f":"1/0.75*1000","v":1333.3333333333333},{"$f":"44.8/41.868","v":1.0700296168911816},{"$f":"E79*D$86","v":44.79999999999999}]
[null,null,"Tonnes"]
[null,"Ethanol ",1]
[null,"Biodiesel ",1,null,null,null,"1 toe costs",{"$f":"+D77/E77*H28","v":1579.5348837209301},"US $"]
[null,"Diesel",1]
[null,"Gasoline",1]
[]
[null,null,"1 toe =",41.868000000000002,"GJ"]
[]
[null,null,"LPG","Gasoline","Jet Fuel","Diesel","HFO","Kerosene and other","Total oil products","Coal","Lignite","Natural Gas","Coke","Petrocoke","Total energy (fossil)"]
[null,null,{"$f":"C31","v":47.3},{"$f":"D31","v":44.8},{"$f":"F31","v":44.59},{"$f":"G31","v":43.33},{"$f":"I31","v":40.19},{"$f":"J31","v":44.75},null,{"$f":"K31","v":24.96},{"$f":"N31","v":18.3},{"$f":"O31","v":39},{"$f":"L31","v":28},{"$f":"M31","v":31}]

{"sheet":"Energy Balance","index":4,"n_rows":122,"n_cols":16,"rows_kept":122,"cut":false,"hidden":true,"merged":[[3,1,9,10],[14,1,14,15],[43,1,43,2],[73,1,73,2],[100,1,100,2],[99,1,99,8],[42,1,42,14]]}
[]
[null,"Step 2 - Input start year energy balance"]
[]
[null,"The Energy Balance sheet includes the energy data disaggregated by sector of activity for the start year. This sheet must be filled in by the user.\n\nThe user has to fill in one of the two first tables (Energy balance in TJ – Country X - Start year or Start year energy balance in mega tonnes and million cubic meters) corresponding to the fossil fuels balance for the start year expressed in TJ or in mass/volume units). Once the user has included the energy balance data in TJ or mass/volume units, GACMO automatically calculates the energy balance in ktoe unit.\n\nThen, the user has to fill in the table Start year electricity balance in GWh, corresponding to the electricity balance for the start year in GWh.\n\nPlease refer to the Guidance for further details on the data included in this sheet and on how to fill in it. Once all the data have been inserted in the Energy Balance sheet, you can click “Go to step 3: GHG balance”."]
[]
[]
[]
[]
[]
[]
[]
[]
[]
[]
[null,{"$f":"\"Energy balance in TJ - \"&Assumptions!C9&\" - Start year - \"&Assumptions!$C$10","v":"Energy balance in TJ -  - Start year - "}]
[null,"Fossil fuel energy balance in TJ",null,"LPG","Gasoline","Jet Fuel","Diesel","HFO","Kerosene and other","Total oil products","Coal","Lignite","Natural Gas","Coke","Petrocoke","Total energy (fossil)"]
[null,"Unit",null,"TJ","TJ","TJ","TJ","TJ","TJ","TJ","TJ","TJ","TJ","TJ","TJ","TJ"]
[null,"Total all energy consumption",null,{"$f":"+D19+D20","v":0},0,0,0,0,0,0,0,0,0,0,0,{"$f":"SUM(J18:O18)","v":0}]
[null,"Fossil power plants",null,null,null,null,null,null,null,{"$f":"SUM(D19:I19)","v":0},{"$f":"K47*Assumptions!J$89*1000","v":0},{"$f":"L47*Assumptions!K$89*1000","v":0},{"$f":"M47*Assumptions!L$89","v":0},{"$f":"N47*Assumptions!M$89*1000","v":0},{"$f":"O47*Assumptions!N$89*1000","v":0},0]
[null,"Final sector consumption",null,{"$f":"SUM(D21:D40)","v":0},0,0,0,0,0,0,0,0,0,0,0,0]
[null,"    Industry - steel",null,null,null,null,null,null,null,{"$f":"SUM(D21:I21)","v":0},{"$f":"K49*Assumptions!J$89*1000","v":0},{"$f":"L49*Assumptions!K$89*1000","v":0},{"$f":"M49*Assumptions!L$89","v":0},{"$f":"N49*Assumptions!M$89*1000","v":0},{"$f":"O49*Assumptions!N$89*1000","v":0},0]
[null,"    Industry - chemical",null,null,null,null,null,null,null,0,{"$f":"K50*Assumptions!J$89*1000","v":0},{"$f":"L50*Assumptions!K$89*1000","v":0},{"$f":"M50*Assumptions!L$89","v":0},{"$f":"N50*Assumptions!M$89*1000","v":0},{"$f":"O50*Assumptions!N$89*1000","v":0},0]
[null,"    Industry - non metallic mineral",null,null,null,null,null,null,null,0,{"$f":"K51*Assumptions!J$89*1000","v":0},{"$f":"L51*Assumptions!K$89*1000","v":0},{"$f":"M51*Assumptions!L$89","v":0},{"$f":"N51*Assumptions!M$89*1000","v":0},{"$f":"O51*Assumptions!N$89*1000","v":0},0]
[null,"    Industry - food processing and beverage",null,null,null,null,null,null,null,0,{"$f":"K52*Assumptions!J$89*1000","v":0},{"$f":"L52*Assumptions!K$89*1000","v":0},{"$f":"M52*Assumptions!L$89","v":0},{"$f":"N52*Assumptions!M$89*1000","v":0},{"$f":"O52*Assumptions!N$89*1000","v":0},0]
[null,"    Industry - construction",null,null,null,null,null,null,null,0,{"$f":"K53*Assumptions!J$89*1000","v":0},{"$f":"L53*Assumptions!K$89*1000","v":0},{"$f":"M53*Assumptions!L$89","v":0},{"$f":"N53*Assumptions!M$89*1000","v":0},{"$f":"O53*Assumptions!N$89*1000","v":0},0]
[null,"    Industry - mining",null,null,null,null,null,null,null,{"$f":"SUM(D26:I26)","v":0},{"$f":"K54*Assumptions!J$89*1000","v":0},{"$f":"L54*Assumptions!K$89*1000","v":0},{"$f":"M54*Assumptions!L$89","v":0},{"$f":"N54*Assumptions!M$89*1000","v":0},{"$f":"O54*Assumptions!N$89*1000","v":0},0]
[null,"    Industry - machinery",null,null,null,null,null,null,null,0,{"$f":"K55*Assumptions!J$89*1000","v":0},{"$f":"L55*Assumptions!K$89*1000","v":0},{"$f":"M55*Assumptions!L$89","v":0},{"$f":"N55*Assumptions!M$89*1000","v":0},{"$f":"O55*Assumptions!N$89*1000","v":0},{"$f":"SUM(J27:O27)","v":0}]
[null,"    Industry - non ferrous metals",null,null,null,null,null,null,null,0,{"$f":"K56*Assumptions!J$89*1000","v":0},{"$f":"L56*Assumptions!K$89*1000","v":0},{"$f":"M56*Assumptions!L$89","v":0},{"$f":"N56*Assumptions!M$89*1000","v":0},{"$f":"O56*Assumptions!N$89*1000","v":0},0]
[null,"    Industry - paper and pulp",null,null,null,null,null,null,null,0,{"$f":"K57*Assumptions!J$89*1000","v":0},{"$f":"L57*Assumptions!K$89*1000","v":0},{"$f":"M57*Assumptions!L$89","v":0},{"$f":"N57*Assumptions!M$89*1000","v":0},{"$f":"O57*Assumptions!N$89*1000","v":0},0]
[null,"    Industry - transport equipment",null,null,null,null,null,null,null,0,{"$f":"K58*Assumptions!J$89*1000","v":0},{"$f":"L58*Assumptions!K$89*1000","v":0},{"$f":"M58*Assumptions!L$89","v":0},{"$f":"N58*Assumptions!M$89*1000","v":0},{"$f":"O58*Assumptions!N$89*1000","v":0},0]
[null,"    Industry - textile and leather",null,null,null,null,null,null,null,0,{"$f":"K59*Assumptions!J$89*1000","v":0},{"$f":"L59*Assumptions!K$89*1000","v":0},{"$f":"M59*Assumptions!L$89","v":0},{"$f":"N59*Assumptions!M$89*1000","v":0},{"$f":"O59*Assumptions!N$89*1000","v":0},0]
[null,"    Industry - miscellaneous",null,null,null,null,null,null,null,0,{"$f":"K60*Assumptions!J$89*1000","v":0},{"$f":"L60*Assumptions!K$89*1000","v":0},{"$f":"M60*Assumptions!L$89","v":0},{"$f":"N60*Assumptions!M$89*1000","v":0},{"$f":"O60*Assumptions!N$89*1000","v":0},0]
[null,"    Transport - road",null,null,null,null,null,null,null,0,{"$f":"K61*Assumptions!J$89*1000","v":0},{"$f":"L61*Assumptions!K$89*1000","v":0},{"$f":"M61*Assumptions!L$89","v":0},{"$f":"N61*Assumptions!M$89*1000","v":0},{"$f":"O61*Assumptions!N$89*1000","v":0},0]
[null,"    Transport - rail",null,null,null,null,null,null,null,0,{"$f":"K62*Assumptions!J$89*1000","v":0},{"$f":"L62*Assumptions!K$89*1000","v":0},{"$f":"M62*Assumptions!L$89","v":0},{"$f":"N62*Assumptions!M$89*1000","v":0},{"$f":"O62*Assumptions!N$89*1000","v":0},0]
[null,"    Transport - domestic air",null,null,null,null,null,null,null,0,{"$f":"K63*Assumptions!J$89*1000","v":0},{"$f":"L63*Assumptions!K$89*1000","v":0},{"$f":"M63*Assumptions!L$89","v":0},{"$f":"N63*Assumptions!M$89*1000","v":0},{"$f":"O63*Assumptions!N$89*1000","v":0},0]
[null,"    Transport - navigation",null,null,null,null,null,null,null,0,{"$f":"K64*Assumptions!J$89*1000","v":0},{"$f":"L64*Assumptions!K$89*1000","v":0},{"$f":"M64*Assumptions!L$89","v":0},{"$f":"N64*Assumptions!M$89*1000","v":0},{"$f":"O64*Assumptions!N$89*1000","v":0},0]
[null,"    Households",null,null,null,null,null,null,null,0,{"$f":"K65*Assumptions!J$89*1000","v":0},{"$f":"L65*Assumptions!K$89*1000","v":0},{"$f":"M65*Assumptions!L$89","v":0},{"$f":"N65*Assumptions!M$89*1000","v":0},{"$f":"O65*Assumptions!N$89*1000","v":0},0]
[null,"    Services",null,null,null,null,null,null,null,0,{"$f":"K66*Assumptions!J$89*1000","v":0},{"$f":"L66*Assumptions!K$89*1000","v":0},{"$f":"M66*Assumptions!L$89","v":0},{"$f":"N66*Assumptions!M$89*1000","v":0},{"$f":"O66*Assumptions!N$89*1000","v":0},0]
[null,"    Agriculture & Fishery",null,null,null,null,null,null,null,0,{"$f":"K67*Assumptions!J$89*1000","v":0},{"$f":"L67*Assumptions!K$89*1000","v":0},{"$f":"M67*Assumptions!L$89","v":0},{"$f":"N67*Assumptions!M$89*1000","v":0},{"$f":"O67*Assumptions!N$89*1000","v":0},0]
[null,"    Non energy - chemical feedstocs",null,null,null,null,null,null,null,0,{"$f":"K68*Assumptions!J$89*1000","v":0},{"$f":"L68*Assumptions!K$89*1000","v":0},{"$f":"M68*Assumptions!L$89","v":0},{"$f":"N68*Assumptions!M$89*1000","v":0},{"$f":"O68*Assumptions!N$89*1000","v":0},0]
[]
[]
[null,"Start year energy balance in mega tonnes and million cubic meters"]
[null,"Fossil fuel energy balance in mass and volume",null,"LPG","Gasoline","Jet Fuel","Diesel","HFO","Kerosene and other","Total oil products","Coal","Lignite","Gas","Coke","Petrocoke"]
[null,"Unit",null,"Mega tonnes","Mega tonnes","Mega tonnes","Mega tonnes","Mega tonnes","Mega tonnes","Mega tonnes","Mega tonnes","Mega tonnes","Million m3","Mega tonnes","Mega tonnes"]
[null,"Total all energy consumption",null,{"$f":"+D47+D48","v":0},{"$f":"+E47+E48","v":0},0,0,0,0,0,0,0,0,0,0]
[null,"Fossil power plants",null,null,null,null,null,null,null,{"$f":"SUM(D47:I47)","v":0}]
[null,"Final sector consumption",null,{"$f":"SUM(D49:D68)","v":0},{"$f":"SUM(E49:E68)","v":0},0,0,0,0,0,0,0,0,0,0]
[null,"    Industry - steel",null,null,null,null,null,null,null,{"$f":"SUM(D49:I49)","v":0}]
[null,"    Industry - chemical",null,null,null,null,null,null,null,0]
[null,"    Industry - non metallic mineral",null,null,null,null,null,null,null,0]
[null,"    Industry - food processing and beverage",null,null,null,null,null,null,null,0]
[null,"    Industry - construction",null,null,null,null,null,null,null,0]
[null,"    Industry - mining",null,null,null,null,null,null,null,0]
[null,"    Industry - machinery",null,null,null,null,null,null,null,0]
[null,"    Industry - non ferrous metals",null,null,null,null,null,null,null,0]
[null,"    Industry - paper and pulp",null,null,null,null,null,null,null,0]
[null,"    Industry - transport equipment",null,null,null,null,null,null,null,0]
[null,"    Industry - textile and leather",null,null,null,null,null,null,null,0]
[null,"    Industry - miscellaneous",null,null,null,null,null,null,null,0]
[null,"    Transport - road",null,null,null,null,null,null,null,0]
[null,"    Transport - rail",null,null,null,null,null,null,null,0]
[null,"    Transport - domestic air",null,null,null,null,null,null,null,0]
[null,"    Transport - navigation",null,null,null,null,null,null,null,0]
[null,"    Households",null,null,null,null,null,null,null,0]
[null,"    Services",null,null,null,null,null,null,null,0]
[null,"    Agriculture & Fishery",null,null,null,null,null,null,null,0]
[null,"    Non energy - chemical feedstocs",null,null,null,null,null,null,null,0]
[]
[]
[]
[]
[]
[null,"Fossil fuel energy balance balance in ktoe (1 ktoe = 41.868 TJ)",null,"LPG","Gasoline","Jet Fuel","Diesel","HFO","Kerosene and other","Total oil products","Coal","Lignite","Natural Gas","Coke","Petrocoke","Total"]
[null,"Total consumption",null,{"$f":"+D76+D77","v":0},{"$f":"+E76+E77","v":0},0,0,0,0,0,0,0,0,0,0,0]
[null,"Fossil power plants",null,{"$f":"D19*(1/41.868)","v":0},0,0,0,0,0,{"$f":"SUM(D76:I76)","v":0},{"$f":"K19*(1/41.868)","v":0},{"$f":"L19*(1/41.868)","v":0},{"$f":"M19*(1/41.868)","v":0},{"$f":"N19*(1/41.868)","v":0},{"$f":"O19*(1/41.868)","v":0},{"$f":"SUM(J76:O76)","v":0}]
[null,"FINAL CONSUMPTION",null,{"$f":"SUM(D78:D97)","v":0},0,0,{"$f":"SUM(G78:G97)","v":0},0,0,0,0,0,0,0,0,0]
[null,"    Industry - steel",null,{"$f":"D21*(1/41.868)","v":0},{"$f":"E21*(1/41.868)","v":0},0,0,0,0,{"$f":"SUM(D78:I78)","v":0},{"$f":"K21*(1/41.868)","v":0},0,0,0,0,0]
[null,"    Industry - chemical",null,{"$f":"D22*(1/41.868)","v":0},0,0,0,0,0,{"$f":"SUM(D79:I79)","v":0},0,0,0,0,0,0]
[null,"    Industry - non metallic mineral",null,0,0,0,0,0,0,0,0,0,0,0,0,0]
[null,"    Industry - food processing and beverage",null,0,0,0,0,0,0,0,0,0,0,0,0,0]
[null,"    Industry - construction",null,0,0,0,0,0,0,0,0,0,0,0,0,0]
[null,"    Industry - mining",null,0,0,0,0,0,0,0,0,0,0,0,0,0]
[null,"    Industry - machinery",null,0,0,0,0,0,0,0,0,0,0,0,0,0]
[null,"    Industry - non ferrous metals",null,0,0,0,0,0,0,0,0,0,0,0,0,0]
[null,"    Industry - paper and pulp",null,0,0,0,0,0,0,0,0,0,0,0,0,0]
[null,"    Industry - transport equipment",null,0,0,0,0,0,0,0,0,0,0,0,0,0]
[null,"    Industry - textile and leather",null,{"$f":"D31*(1/41.868)","v":0},0,0,0,0,0,0,{"$f":"K31*(1/41.868)","v":0},0,0,0,0,0]
[null,"    Industry - miscellaneous",null,0,0,0,0,0,0,0,0,0,0,0,0,0]
[null,"    Transport - road",null,0,0,0,0,0,0,0,0,0,0,0,0,0]
[null,"    Transport - rail",null,0,0,0,0,0,0,0,0,0,0,0,0,0]
[null,"    Transport - domestic air",null,0,0,0,0,0,0,0,0,0,0,0,0,0]
[null,"    Transport - navigation",null,0,0,0,0,0,0,0,0,0,0,0,0,0]
[null,"    Households",null,0,0,0,0,0,0,0,0,0,0,0,0,0]
[null,"    Services",null,0,0,0,0,0,0,0,0,0,0,0,0,0]
[null,"    Agriculture & Fishery",null,0,0,0,0,0,0,0,0,0,0,0,0,0]
[null,"    Non energy - chemical feedstocs",null,0,0,0,0,0,0,0,0,0,0,0,0,0]
[]
[]
[null,"Start year electricity balance in GWh"]
[null,"Electricity consumption",null,"GWh",null,"Electricity production","GWh","Share of production","Efficiency"]
[null,"Total consumption",null,{"$f":"SUM(D103:D122)","v":0},null,"Total",{"$f":"+G104+G111+G109+G110","v":0}]
[null,"    Industry - steel",null,null,null,"Losses",{"$f":"G102-D102","v":0},{"$f":"IF(G$102=0,1,G103/G$102)","v":1}]
[null,"    Industry - chemical",null,null,null,"Fossil",{"$f":"SUM(G105:G108)","v":0},{"$f":"SUM(H105:H108)","v":4}]
[null,"    Industry - non metallic mineral",null,null,null,"Lignite",null,{"$f":"IF(G$102=0,1,G105/G$102)","v":1},{"$f":"IF(L76>0,G105/11.63/L76,0)","v":0}]
[null,"    Industry - food processing and beverage",null,null,null,"Coal",null,1,{"$f":"IF( K76>0,G106/11.63/K76,0)","v":0}]
[null,"    Industry - construction",null,null,null,"Oil",null,1,{"$f":"IF( J76>0,G107/11.63/J76,0)","v":0}]
[null,"    Industry - mining",null,null,null,"Natural Gas",null,1,{"$f":"IF( M76>0,G108/11.63/M76,0)","v":0}]
[null,"    Industry - machinery",null,null,null,"Nuclear",null,1]
[null,"    Industry - non ferrous metals",null,null,null,"Net import",{"$f":"G119-G120","v":0},1]
[null,"    Industry - paper and pulp",null,null,null,"Renewables",{"$f":"SUM(G112:G116)","v":0},{"$f":"SUM(H112:H116)","v":5}]
[null,"    Industry - transport equipment",null,null,null,"Hydro",null,{"$f":"IF(G$102=0,1,G112/G$102)","v":1}]
[null,"    Industry - textile and leather",null,null,null,"Wind",null,{"$f":"IF(G$102=0,1,G113/G$102)","v":1}]
[null,"    Industry - miscellaneous",null,null,null,"Solar",null,{"$f":"IF(G$102=0,1,G114/G$102)","v":1}]
[null,"    Transport - road",null,null,null,"Biomass",null,{"$f":"IF(G$102=0,1,G115/G$102)","v":1}]
[null,"    Transport - rail",null,null,null,"Geothermal",null,{"$f":"IF(G$102=0,1,G116/G$102)","v":1}]
[null,"    Transport - domestic air"]
[null,"    Transport - navigation",null,null,null,"Electricity import and export","GWh"]
[null,"    Households",null,null,null,"Import"]
[null,"    Services",null,null,null,"Export"]
[null,"    Agriculture & Fishery"]
[null,"    Non energy - chemical feedstocs"]

{"sheet":"GHG Balance","index":5,"n_rows":68,"n_cols":16,"rows_kept":68,"cut":false,"hidden":true,"merged":[[11,1,11,15],[3,1,9,15],[39,1,39,6]]}
[]
[null,"Step 3 - GHG Balance"]
[]
[null,"The GHG Balance sheet includes the GHG emissions data disaggregated by sector of activity and by gases for the start year.\n\nThe first table CO2 balance – Country X - Base year includes the balance for the CO2 emissions at the start year expressed in ktCO2 equivalents unit. GACMO automatically calculates the data in this table. The user should not insert or modify the data in this table.\n\nThe user needs to complete the second table titled \"Emissions by sectors and gases\" with the CO2, CH4, and N2O emissions from non-fuel combustion sectors and non-CO2 emissions from fuel combustion, expressed in ktCO2 equivalents for each sector/sub-sector. The definitions of the categories in this table align with the Common Reporting Tables (CRT) agreed upon by Parties to the Paris Agreement. The CRTs are included in Annex I to decision 5/CMA.3 and can be downloaded from the following link: https://unfccc.int/documents/311076. \n\nPlease refer to the Guidance for further details on the data included in this sheet and on how to fill it in.\n\nOnce all the data have been inserted in the GHG balance sheet, you can click “Go to step 4: Growth factors”."]
[]
[]
[]
[]
[]
[]
[null,"Indsæt land og basisår I tabel titler I stedet! Også på Energy balances"]
[null,{"$f":"\"CO2 Balance - \"&Assumptions!C9&\" - Start year - \"&Assumptions!$C$10","v":"CO2 Balance -  - Start year - "}]
[null,"Unit : ktCO2-equivalents",null,"LPG","Gasoline","Jet Fuel","Diesel","HFO","Kerosene and other","Total oil products","Coal","Lignite","Natural Gas","Coke","Petrocoke","Total"]
[null,"Ton CO2/Toe (IPCC):",null,{"$f":"41.868*Assumptions!D50/1000","v":2.6404752},{"$f":"41.868*Assumptions!D47/1000","v":2.9014524000000002},{"$f":"41.868*Assumptions!D48/1000","v":2.9935620000000003},{"$f":"41.868*Assumptions!D46/1000","v":3.1010232000000002},{"$f":"41.868*Assumptions!D45/1000","v":3.2391876000000006},{"$f":"41.868*Assumptions!D49/1000","v":3.0089136000000005},null,{"$f":"41.868*Assumptions!D52/1000","v":3.9607128000000005},{"$f":"41.868*Assumptions!D53/1000","v":4.2370416000000004},{"$f":"41.868*Assumptions!D51/1000","v":2.3487948000000003},{"$f":"41.868*108.2/1000","v":4.5301176000000005},{"$f":"41.868*100.3/1000","v":4.1993604000000007}]
[null,"Total",null,{"$f":"+D16+D17","v":0},0,0,0,0,0,0,0,0,0,0,0,0]
[null,"Fossil power plants",null,{"$f":"'Energy Balance'!D76*D$14","v":0},{"$f":"'Energy Balance'!E76*E$14","v":0},{"$f":"'Energy Balance'!F76*F$14","v":0},{"$f":"'Energy Balance'!G76*G$14","v":0},{"$f":"'Energy Balance'!H76*H$14","v":0},{"$f":"'Energy Balance'!I76*I$14","v":0},{"$f":"SUM(D16:I16)","v":0},{"$f":"'Energy Balance'!K76*K$14","v":0},{"$f":"'Energy Balance'!L76*L$14","v":0},{"$f":"'Energy Balance'!M76*M$14","v":0},{"$f":"'Energy Balance'!N76*N$14","v":0},{"$f":"'Energy Balance'!O76*O$14","v":0},{"$f":"SUM(J16:O16)","v":0}]
[null,"FINAL CONSUMPTION",null,{"$f":"SUM(D18:D37)","v":0},0,0,0,0,0,0,0,0,0,0,0,0]
[null,"    Industry - steel",null,{"$f":"'Energy Balance'!D78*D$14","v":0},{"$f":"'Energy Balance'!E78*E$14","v":0},{"$f":"'Energy Balance'!F78*F$14","v":0},{"$f":"'Energy Balance'!G78*G$14","v":0},{"$f":"'Energy Balance'!H78*H$14","v":0},{"$f":"'Energy Balance'!I78*I$14","v":0},{"$f":"SUM(D18:I18)","v":0},{"$f":"'Energy Balance'!K78*K$14","v":0},{"$f":"'Energy Balance'!L78*L$14","v":0},{"$f":"'Energy Balance'!M78*M$14","v":0},{"$f":"'Energy Balance'!N78*N$14","v":0},{"$f":"'Energy Balance'!O78*O$14","v":0},0]
[null,"    Industry - chemical",null,{"$f":"'Energy Balance'!D79*D$14","v":0},{"$f":"'Energy Balance'!E79*E$14","v":0},{"$f":"'Energy Balance'!F79*F$14","v":0},{"$f":"'Energy Balance'!G79*G$14","v":0},{"$f":"'Energy Balance'!H79*H$14","v":0},{"$f":"'Energy Balance'!I79*I$14","v":0},0,{"$f":"'Energy Balance'!K79*K$14","v":0},{"$f":"'Energy Balance'!L79*L$14","v":0},{"$f":"'Energy Balance'!M79*M$14","v":0},{"$f":"'Energy Balance'!N79*N$14","v":0},{"$f":"'Energy Balance'!O79*O$14","v":0},0]
[null,"    Industry - non metallic mineral",null,{"$f":"'Energy Balance'!D80*D$14","v":0},{"$f":"'Energy Balance'!E80*E$14","v":0},{"$f":"'Energy Balance'!F80*F$14","v":0},{"$f":"'Energy Balance'!G80*G$14","v":0},{"$f":"'Energy Balance'!H80*H$14","v":0},{"$f":"'Energy Balance'!I80*I$14","v":0},0,{"$f":"'Energy Balance'!K80*K$14","v":0},{"$f":"'Energy Balance'!L80*L$14","v":0},{"$f":"'Energy Balance'!M80*M$14","v":0},{"$f":"'Energy Balance'!N80*N$14","v":0},{"$f":"'Energy Balance'!O80*O$14","v":0},0]
[null,"    Industry - food processing and beverage",null,{"$f":"'Energy Balance'!D81*D$14","v":0},{"$f":"'Energy Balance'!E81*E$14","v":0},{"$f":"'Energy Balance'!F81*F$14","v":0},{"$f":"'Energy Balance'!G81*G$14","v":0},{"$f":"'Energy Balance'!H81*H$14","v":0},{"$f":"'Energy Balance'!I81*I$14","v":0},0,{"$f":"'Energy Balance'!K81*K$14","v":0},{"$f":"'Energy Balance'!L81*L$14","v":0},{"$f":"'Energy Balance'!M81*M$14","v":0},{"$f":"'Energy Balance'!N81*N$14","v":0},{"$f":"'Energy Balance'!O81*O$14","v":0},0]
[null,"    Industry - construction",null,{"$f":"'Energy Balance'!D82*D$14","v":0},{"$f":"'Energy Balance'!E82*E$14","v":0},{"$f":"'Energy Balance'!F82*F$14","v":0},{"$f":"'Energy Balance'!G82*G$14","v":0},{"$f":"'Energy Balance'!H82*H$14","v":0},{"$f":"'Energy Balance'!I82*I$14","v":0},0,{"$f":"'Energy Balance'!K82*K$14","v":0},{"$f":"'Energy Balance'!L82*L$14","v":0},{"$f":"'Energy Balance'!M82*M$14","v":0},{"$f":"'Energy Balance'!N82*N$14","v":0},{"$f":"'Energy Balance'!O82*O$14","v":0},0]
[null,"    Industry - mining",null,{"$f":"'Energy Balance'!D83*D$14","v":0},{"$f":"'Energy Balance'!E83*E$14","v":0},{"$f":"'Energy Balance'!F83*F$14","v":0},{"$f":"'Energy Balance'!G83*G$14","v":0},{"$f":"'Energy Balance'!H83*H$14","v":0},{"$f":"'Energy Balance'!I83*I$14","v":0},0,{"$f":"'Energy Balance'!K83*K$14","v":0},{"$f":"'Energy Balance'!L83*L$14","v":0},{"$f":"'Energy Balance'!M83*M$14","v":0},{"$f":"'Energy Balance'!N83*N$14","v":0},{"$f":"'Energy Balance'!O83*O$14","v":0},0]
[null,"    Industry - machinery",null,{"$f":"'Energy Balance'!D84*D$14","v":0},{"$f":"'Energy Balance'!E84*E$14","v":0},{"$f":"'Energy Balance'!F84*F$14","v":0},{"$f":"'Energy Balance'!G84*G$14","v":0},{"$f":"'Energy Balance'!H84*H$14","v":0},{"$f":"'Energy Balance'!I84*I$14","v":0},0,{"$f":"'Energy Balance'!K84*K$14","v":0},{"$f":"'Energy Balance'!L84*L$14","v":0},{"$f":"'Energy Balance'!M84*M$14","v":0},{"$f":"'Energy Balance'!N84*N$14","v":0},{"$f":"'Energy Balance'!O84*O$14","v":0},0]
[null,"    Industry - non ferrous metals",null,{"$f":"'Energy Balance'!D85*D$14","v":0},{"$f":"'Energy Balance'!E85*E$14","v":0},{"$f":"'Energy Balance'!F85*F$14","v":0},{"$f":"'Energy Balance'!G85*G$14","v":0},{"$f":"'Energy Balance'!H85*H$14","v":0},{"$f":"'Energy Balance'!I85*I$14","v":0},0,{"$f":"'Energy Balance'!K85*K$14","v":0},{"$f":"'Energy Balance'!L85*L$14","v":0},{"$f":"'Energy Balance'!M85*M$14","v":0},{"$f":"'Energy Balance'!N85*N$14","v":0},{"$f":"'Energy Balance'!O85*O$14","v":0},0]
[null,"    Industry - paper and pulp",null,{"$f":"'Energy Balance'!D86*D$14","v":0},{"$f":"'Energy Balance'!E86*E$14","v":0},{"$f":"'Energy Balance'!F86*F$14","v":0},{"$f":"'Energy Balance'!G86*G$14","v":0},{"$f":"'Energy Balance'!H86*H$14","v":0},{"$f":"'Energy Balance'!I86*I$14","v":0},0,{"$f":"'Energy Balance'!K86*K$14","v":0},{"$f":"'Energy Balance'!L86*L$14","v":0},{"$f":"'Energy Balance'!M86*M$14","v":0},{"$f":"'Energy Balance'!N86*N$14","v":0},{"$f":"'Energy Balance'!O86*O$14","v":0},0]
[null,"    Industry - transport equipment",null,{"$f":"'Energy Balance'!D87*D$14","v":0},{"$f":"'Energy Balance'!E87*E$14","v":0},{"$f":"'Energy Balance'!F87*F$14","v":0},{"$f":"'Energy Balance'!G87*G$14","v":0},{"$f":"'Energy Balance'!H87*H$14","v":0},{"$f":"'Energy Balance'!I87*I$14","v":0},0,{"$f":"'Energy Balance'!K87*K$14","v":0},{"$f":"'Energy Balance'!L87*L$14","v":0},{"$f":"'Energy Balance'!M87*M$14","v":0},{"$f":"'Energy Balance'!N87*N$14","v":0},{"$f":"'Energy Balance'!O87*O$14","v":0},0]
[null,"    Industry - textile and leather",null,{"$f":"'Energy Balance'!D88*D$14","v":0},{"$f":"'Energy Balance'!E88*E$14","v":0},{"$f":"'Energy Balance'!F88*F$14","v":0},{"$f":"'Energy Balance'!G88*G$14","v":0},{"$f":"'Energy Balance'!H88*H$14","v":0},{"$f":"'Energy Balance'!I88*I$14","v":0},0,{"$f":"'Energy Balance'!K88*K$14","v":0},{"$f":"'Energy Balance'!L88*L$14","v":0},{"$f":"'Energy Balance'!M88*M$14","v":0},{"$f":"'Energy Balance'!N88*N$14","v":0},{"$f":"'Energy Balance'!O88*O$14","v":0},0]
[null,"    Industry - miscellaneous",null,{"$f":"'Energy Balance'!D89*D$14","v":0},{"$f":"'Energy Balance'!E89*E$14","v":0},{"$f":"'Energy Balance'!F89*F$14","v":0},{"$f":"'Energy Balance'!G89*G$14","v":0},{"$f":"'Energy Balance'!H89*H$14","v":0},{"$f":"'Energy Balance'!I89*I$14","v":0},0,{"$f":"'Energy Balance'!K89*K$14","v":0},{"$f":"'Energy Balance'!L89*L$14","v":0},{"$f":"'Energy Balance'!M89*M$14","v":0},{"$f":"'Energy Balance'!N89*N$14","v":0},{"$f":"'Energy Balance'!O89*O$14","v":0},0]
[null,"    Transport - road",null,{"$f":"'Energy Balance'!D90*D$14","v":0},{"$f":"'Energy Balance'!E90*E$14","v":0},{"$f":"'Energy Balance'!F90*F$14","v":0},{"$f":"'Energy Balance'!G90*G$14","v":0},{"$f":"'Energy Balance'!H90*H$14","v":0},{"$f":"'Energy Balance'!I90*I$14","v":0},0,{"$f":"'Energy Balance'!K90*K$14","v":0},{"$f":"'Energy Balance'!L90*L$14","v":0},{"$f":"'Energy Balance'!M90*M$14","v":0},{"$f":"'Energy Balance'!N90*N$14","v":0},{"$f":"'Energy Balance'!O90*O$14","v":0},0]
[null,"    Transport - rail",null,{"$f":"'Energy Balance'!D91*D$14","v":0},{"$f":"'Energy Balance'!E91*E$14","v":0},{"$f":"'Energy Balance'!F91*F$14","v":0},{"$f":"'Energy Balance'!G91*G$14","v":0},{"$f":"'Energy Balance'!H91*H$14","v":0},{"$f":"'Energy Balance'!I91*I$14","v":0},0,{"$f":"'Energy Balance'!K91*K$14","v":0},{"$f":"'Energy Balance'!L91*L$14","v":0},{"$f":"'Energy Balance'!M91*M$14","v":0},{"$f":"'Energy Balance'!N91*N$14","v":0},{"$f":"'Energy Balance'!O91*O$14","v":0},0]
[null,"    Transport - domestic air",null,{"$f":"'Energy Balance'!D92*D$14","v":0},{"$f":"'Energy Balance'!E92*E$14","v":0},{"$f":"'Energy Balance'!F92*F$14","v":0},{"$f":"'Energy Balance'!G92*G$14","v":0},{"$f":"'Energy Balance'!H92*H$14","v":0},{"$f":"'Energy Balance'!I92*I$14","v":0},0,{"$f":"'Energy Balance'!K92*K$14","v":0},{"$f":"'Energy Balance'!L92*L$14","v":0},{"$f":"'Energy Balance'!M92*M$14","v":0},{"$f":"'Energy Balance'!N92*N$14","v":0},{"$f":"'Energy Balance'!O92*O$14","v":0},0]
[null,"    Transport - navigation",null,{"$f":"'Energy Balance'!D93*D$14","v":0},{"$f":"'Energy Balance'!E93*E$14","v":0},{"$f":"'Energy Balance'!F93*F$14","v":0},{"$f":"'Energy Balance'!G93*G$14","v":0},{"$f":"'Energy Balance'!H93*H$14","v":0},{"$f":"'Energy Balance'!I93*I$14","v":0},0,{"$f":"'Energy Balance'!K93*K$14","v":0},{"$f":"'Energy Balance'!L93*L$14","v":0},{"$f":"'Energy Balance'!M93*M$14","v":0},{"$f":"'Energy Balance'!N93*N$14","v":0},{"$f":"'Energy Balance'!O93*O$14","v":0},0]
[null,"    Households",null,{"$f":"'Energy Balance'!D94*D$14","v":0},{"$f":"'Energy Balance'!E94*E$14","v":0},{"$f":"'Energy Balance'!F94*F$14","v":0},{"$f":"'Energy Balance'!G94*G$14","v":0},{"$f":"'Energy Balance'!H94*H$14","v":0},{"$f":"'Energy Balance'!I94*I$14","v":0},0,{"$f":"'Energy Balance'!K94*K$14","v":0},{"$f":"'Energy Balance'!L94*L$14","v":0},{"$f":"'Energy Balance'!M94*M$14","v":0},{"$f":"'Energy Balance'!N94*N$14","v":0},{"$f":"'Energy Balance'!O94*O$14","v":0},0]
[null,"    Services",null,{"$f":"'Energy Balance'!D95*D$14","v":0},{"$f":"'Energy Balance'!E95*E$14","v":0},{"$f":"'Energy Balance'!F95*F$14","v":0},{"$f":"'Energy Balance'!G95*G$14","v":0},{"$f":"'Energy Balance'!H95*H$14","v":0},{"$f":"'Energy Balance'!I95*I$14","v":0},0,{"$f":"'Energy Balance'!K95*K$14","v":0},{"$f":"'Energy Balance'!L95*L$14","v":0},{"$f":"'Energy Balance'!M95*M$14","v":0},{"$f":"'Energy Balance'!N95*N$14","v":0},{"$f":"'Energy Balance'!O95*O$14","v":0},0]
[null,"    Agriculture & Fishery",null,{"$f":"'Energy Balance'!D96*D$14","v":0},{"$f":"'Energy Balance'!E96*E$14","v":0},{"$f":"'Energy Balance'!F96*F$14","v":0},{"$f":"'Energy Balance'!G96*G$14","v":0},{"$f":"'Energy Balance'!H96*H$14","v":0},{"$f":"'Energy Balance'!I96*I$14","v":0},0,{"$f":"'Energy Balance'!K96*K$14","v":0},{"$f":"'Energy Balance'!L96*L$14","v":0},{"$f":"'Energy Balance'!M96*M$14","v":0},{"$f":"'Energy Balance'!N96*N$14","v":0},{"$f":"'Energy Balance'!O96*O$14","v":0},0]
[null,"    Non energy - chemical feedstocs",null,{"$f":"'Energy Balance'!D97*D$14","v":0},{"$f":"'Energy Balance'!E97*E$14","v":0},{"$f":"'Energy Balance'!F97*F$14","v":0},{"$f":"'Energy Balance'!G97*G$14","v":0},{"$f":"'Energy Balance'!H97*H$14","v":0},{"$f":"'Energy Balance'!I97*I$14","v":0},0,{"$f":"'Energy Balance'!K97*K$14","v":0},{"$f":"'Energy Balance'!L97*L$14","v":0},{"$f":"'Energy Balance'!M97*M$14","v":0},{"$f":"'Energy Balance'!N97*N$14","v":0},{"$f":"'Energy Balance'!O97*O$14","v":0},0]
[]
[]
[null,"Emissions by sectors and gases"]
[null,"Unit : ktCO2-equivalent",null,"CO2","CH4","N2O","Total GHG emissions"]
[null,"1. Energy",null,{"$f":"D43+D44","v":0},{"$f":"E43+E44","v":0},0,{"$f":"G43+G44","v":0}]
[null,"1.A. Fuel combustion",null,{"$f":"P15","v":0},null,null,{"$f":"SUM(D43:F43)","v":0}]
[null,"1.B. Fugitive emissions from fuels",null,null,null,null,{"$f":"SUM(D44:F44)","v":0}]
[null,"2.  Industrial processes and product use",null,{"$f":"SUM(D46:D50)","v":0},{"$f":"SUM(E46:E50)","v":0},0,{"$f":"SUM(G46:G50)","v":0}]
[null,"2.A.  Mineral industry",null,null,null,null,{"$f":"SUM(D46:F46)","v":0}]
[null,"2.B.  Chemical industry",null,null,null,null,{"$f":"SUM(D47:F47)","v":0}]
[null,"2.C.  Metal industry",null,null,null,null,0]
[null,"2.F.  Product uses as ODS substitutes ",null,null,null,null,0]
[null,"Other (2.D, 2.E, 2.G. 2.H)",null,null,null,null,0]
[null,"3.  Agriculture",null,{"$f":"SUM(D52:D55)","v":0},{"$f":"SUM(E52:E55)","v":0},{"$f":"SUM(F52:F55)","v":0},{"$f":"SUM(D51:F51)","v":0}]
[null,"3.A.  Enteric fermentation",null,null,null,null,{"$f":"SUM(D52:F52)","v":0}]
[null,"3.B.  Manure management",null,null,null,null,{"$f":"SUM(D53:F53)","v":0}]
[null,"3.D.  Agricultural soils",null,null,null,null,{"$f":"SUM(D54:F54)","v":0}]
[null,"   Other (3.C, 3.E-3.J)",null,null,null,null,0]
[null,"4. Land use, land-use change and forestry",null,{"$f":"SUM(D57:D61)","v":0},{"$f":"SUM(E57:E61)","v":0},{"$f":"SUM(F57:F61)","v":0},{"$f":"SUM(D56:F56)","v":0}]
[null,"4.A. Forest land",null,null,null,null,0]
[null,"4.B. Cropland",null,null,null,null,0]
[null,"4.C. Grassland",null,null,null,null,0]
[null,"4.G. Harvested wood products",null,null,null,null,0]
[null,"Other (4.D, 4.E, 4.F, 4.H)",null,null,null,null,0]
[null,"5.  Waste",null,{"$f":"SUM(D63:D66)","v":0},{"$f":"SUM(E63:E66)","v":0},{"$f":"SUM(F63:F66)","v":0},{"$f":"SUM(D62:F62)","v":0}]
[null,"5.A.  Solid waste disposal ",null,null,null,null,{"$f":"SUM(D63:F63)","v":0}]
[null,"5.B.  Biological treatment of solid waste",null,null,null,null,0]
[null,"5.D. Waste water treatment and discharge",null,null,null,null,0]
[null,"Other (5.C, 5.E)",null,null,null,null,{"$f":"SUM(D66:F66)","v":0}]
[null,"Total (including LULUCF)",null,{"$f":"D42+D45+D51+D56+D62","v":0},{"$f":"E42+E45+E51+E56+E62","v":0},0,{"$f":"G42+G45+G51+G56+G62","v":0}]
[null,"Total (excluding LULUCF)",null,{"$f":"D67-D56","v":0},{"$f":"E67-E56","v":0},0,0]

{"sheet":"Growth","index":6,"n_rows":74,"n_cols":15,"rows_kept":74,"cut":false,"hidden":true,"merged":[[13,3,13,8],[3,1,10,17],[14,1,14,2]]}
[]
[null,"Step 4 - Growth"]
[]
[null,"The Growth sheet includes the expected growth in energy consumption for the different sectors of activity for different periods of time. This sheet must be filled in by the user.\n\nThe user has to fill in the table Growth from the start year – Country X, including the Population growth factor, the GDP growth factor, and the annual growth in energy consumption estimated for each sector of activity for the different periods: start year-2025, 2025-2030, 2030-2035, 2035-2040, 2040-2045 and 2045-2050.\n\nPlease refer to the Guidance for further details on the data included in this sheet and on how to fill it in.\n\nOnce all the data have been inserted in the Growth sheet, you can click “Go to step 5: BAU energy balances”."]
[]
[]
[]
[]
[]
[]
[]
[]
[null,{"$f":"\"Growth from the start year - \"&Assumptions!C9","v":"Growth from the start year - "}]
[null,"Growth and multiplication factors",null,"Annual % increase in the period",null,null,null,null,null,"% increase from start year values"]
[null,null,null,{"$f":"Assumptions!$C$10&\" to 2025\"","v":" to 2025"},"2025 to 2030","2030 to 2035","2035 to 2040","2040 to 2045","2045 to 2050",2025,2030,2035,2040,2045,2050]
[null,"Population growth",null,null,null,null,null,null,null,{"$f":"(1+D16)^(2025-Assumptions!$C$10)-1","v":0},{"$f":"(1+J16)*(1+E16)^5-1","v":0},0,0,0,0]
[null,"GDP growth",null,null,null,null,null,null,null,{"$f":"(1+D17)^(2025-Assumptions!$C$10)-1","v":0},0,0,0,0,0]
[null,"1. Energy"]
[null,"1.A. Fuel combustion"]
[null,"1.A.2.  Manufacturing industries and construction"]
[null,"Industry - fuel in steel",null,null,null,null,null,null,null,{"$f":"(1+D21)^(2025-Assumptions!$C$10)-1","v":0},{"$f":"(1+J21)*(1+E21)^5-1","v":0},{"$f":"(1+K21)*(1+F21)^5-1","v":0},{"$f":"(1+L21)*(1+G21)^5-1","v":0},{"$f":"(1+M21)*(1+H21)^5-1","v":0},{"$f":"(1+N21)*(1+I21)^5-1","v":0}]
[null,"Industry - fuel in  chemical",null,null,null,null,null,null,null,{"$f":"(1+D22)^(2025-Assumptions!$C$10)-1","v":0},0,{"$f":"(1+K22)*(1+F22)^5-1","v":0},{"$f":"(1+L22)*(1+G22)^5-1","v":0},{"$f":"(1+M22)*(1+H22)^5-1","v":0},{"$f":"(1+N22)*(1+I22)^5-1","v":0}]
[null,"Industry - fuel in  non metallic mineral",null,null,null,null,null,null,null,{"$f":"(1+D23)^(2025-Assumptions!$C$10)-1","v":0},0,0,0,0,0]
[null,"Industry - fuel in  food and beverage",null,null,null,null,null,null,null,{"$f":"(1+D24)^(2025-Assumptions!$C$10)-1","v":0},0,0,0,0,0]
[null,"Industry - fuel in  construction",null,null,null,null,null,null,null,{"$f":"(1+D25)^(2025-Assumptions!$C$10)-1","v":0},0,0,0,0,0]
[null,"Industry - fuel in  mining",null,null,null,null,null,null,null,{"$f":"(1+D26)^(2025-Assumptions!$C$10)-1","v":0},0,0,0,0,0]
[null,"Industry - fuel in  machinery",null,null,null,null,null,null,null,{"$f":"(1+D27)^(2025-Assumptions!$C$10)-1","v":0},0,0,0,0,0]
[null,"Industry - fuel in  non ferrous metals",null,null,null,null,null,null,null,{"$f":"(1+D28)^(2025-Assumptions!$C$10)-1","v":0},0,0,0,0,0]
[null,"Industry - fuel in  paper and pulp",null,null,null,null,null,null,null,{"$f":"(1+D29)^(2025-Assumptions!$C$10)-1","v":0},0,0,0,0,0]
[null,"Industry - fuel in  transport equipment",null,null,null,null,null,null,null,{"$f":"(1+D30)^(2025-Assumptions!$C$10)-1","v":0},0,{"$f":"(1+K30)*(1+F30)^5-1","v":0},0,0,0]
[null,"Industry - fuel in  textile and leather",null,null,null,null,null,null,null,{"$f":"(1+D31)^(2025-Assumptions!$C$10)-1","v":0},0,0,0,0,0]
[null,"Industry - fuel in  miscellaneous",null,null,null,null,null,null,null,{"$f":"(1+D32)^(2025-Assumptions!$C$10)-1","v":0},0,0,0,0,0]
[null,"Industry - electricity consumption",null,null,null,null,null,null,null,{"$f":"(1+D33)^(2025-Assumptions!$C$10)-1","v":0},0,0,0,0,0]
[null,"1.A.3.  Transport"]
[null,"Transport - fuel in  road",null,null,null,null,null,null,null,{"$f":"(1+D35)^(2025-Assumptions!$C$10)-1","v":0},{"$f":"(1+J35)*(1+E35)^5-1","v":0},0,{"$f":"(1+L35)*(1+G35)^5-1","v":0},{"$f":"(1+M35)*(1+H35)^5-1","v":0},{"$f":"(1+N35)*(1+I35)^5-1","v":0}]
[null,"Transport - fuel in  rail",null,null,null,null,null,null,null,{"$f":"(1+D36)^(2025-Assumptions!$C$10)-1","v":0},{"$f":"(1+J36)*(1+E36)^5-1","v":0},0,{"$f":"(1+L36)*(1+G36)^5-1","v":0},{"$f":"(1+M36)*(1+H36)^5-1","v":0},{"$f":"(1+N36)*(1+I36)^5-1","v":0}]
[null,"Transport - fuel in  air",null,null,null,null,null,null,null,{"$f":"(1+D37)^(2025-Assumptions!$C$10)-1","v":0},{"$f":"(1+J37)*(1+E37)^5-1","v":0},0,0,0,0]
[null,"Transport - fuel in  navigation",null,null,null,null,null,null,null,{"$f":"(1+D38)^(2025-Assumptions!$C$10)-1","v":0},{"$f":"(1+J38)*(1+E38)^5-1","v":0},0,0,0,0]
[null,"Transport - electricity consumption",null,null,null,null,null,null,null,{"$f":"(1+D39)^(2025-Assumptions!$C$10)-1","v":0},{"$f":"(1+J39)*(1+E39)^5-1","v":0},0,0,0,{"$f":"(1+N39)*(1+I39)^5-1","v":0}]
[null,"1.A.4.  Other sectors"]
[null,"1.A.4.b.  Residential "]
[null,"Households - LPG",null,null,null,null,null,null,null,{"$f":"(1+D42)^(2025-Assumptions!$C$10)-1","v":0},{"$f":"(1+J42)*(1+E42)^5-1","v":0},0,{"$f":"(1+L42)*(1+G42)^5-1","v":0},{"$f":"(1+M42)*(1+H42)^5-1","v":0},{"$f":"(1+N42)*(1+I42)^5-1","v":0}]
[null,"Households - Kerosene",null,null,null,null,null,null,null,{"$f":"(1+D43)^(2025-Assumptions!$C$10)-1","v":0},{"$f":"(1+J43)*(1+E43)^5-1","v":0},0,{"$f":"(1+L43)*(1+G43)^5-1","v":0},{"$f":"(1+M43)*(1+H43)^5-1","v":0},{"$f":"(1+N43)*(1+I43)^5-1","v":0}]
[null,"Households - electricity consumption",null,null,null,null,null,null,null,{"$f":"(1+D44)^(2025-Assumptions!$C$10)-1","v":0},{"$f":"(1+J44)*(1+E44)^5-1","v":0},0,0,0,{"$f":"(1+N44)*(1+I44)^5-1","v":0}]
[null,"1.A.4.a.  Commercial/institutional "]
[null,"Services - fuel",null,null,null,null,null,null,null,{"$f":"(1+D46)^(2025-Assumptions!$C$10)-1","v":0},{"$f":"(1+J46)*(1+E46)^5-1","v":0},{"$f":"(1+K46)*(1+F46)^5-1","v":0},{"$f":"(1+L46)*(1+G46)^5-1","v":0},{"$f":"(1+M46)*(1+H46)^5-1","v":0},{"$f":"(1+N46)*(1+I46)^5-1","v":0}]
[null,"Services - electricity consumption",null,null,null,null,null,null,null,{"$f":"(1+D47)^(2025-Assumptions!$C$10)-1","v":0},{"$f":"(1+J47)*(1+E47)^5-1","v":0},0,{"$f":"(1+L47)*(1+G47)^5-1","v":0},{"$f":"(1+M47)*(1+H47)^5-1","v":0},{"$f":"(1+N47)*(1+I47)^5-1","v":0}]
[null,"1.A.4.c.  Agriculture/forestry/fishing"]
[null,"Agriculture - fuel",null,null,null,null,null,null,null,{"$f":"(1+D49)^(2025-Assumptions!$C$10)-1","v":0},{"$f":"(1+J49)*(1+E49)^5-1","v":0},{"$f":"(1+K49)*(1+F49)^5-1","v":0},{"$f":"(1+L49)*(1+G49)^5-1","v":0},{"$f":"(1+M49)*(1+H49)^5-1","v":0},{"$f":"(1+N49)*(1+I49)^5-1","v":0}]
[null,"Agriculture - electricity consumption",null,null,null,null,null,null,null,{"$f":"(1+D50)^(2025-Assumptions!$C$10)-1","v":0},0,0,{"$f":"(1+L50)*(1+G50)^5-1","v":0},{"$f":"(1+M50)*(1+H50)^5-1","v":0},{"$f":"(1+N50)*(1+I50)^5-1","v":0}]
[null,"2. Industrial processes and product use"]
[null,"2.A.  Mineral industry",null,null,null,null,null,null,null,{"$f":"(1+D52)^(2025-Assumptions!$C$10)-1","v":0},{"$f":"(1+J52)*(1+E52)^5-1","v":0},{"$f":"(1+K52)*(1+F52)^5-1","v":0},{"$f":"(1+L52)*(1+G52)^5-1","v":0},{"$f":"(1+M52)*(1+H52)^5-1","v":0},{"$f":"(1+N52)*(1+I52)^5-1","v":0}]
[null,"2.B.  Chemical industry",null,null,null,null,null,null,null,{"$f":"(1+D53)^(2025-Assumptions!$C$10)-1","v":0},{"$f":"(1+J53)*(1+E53)^5-1","v":0},{"$f":"(1+K53)*(1+F53)^5-1","v":0},{"$f":"(1+L53)*(1+G53)^5-1","v":0},{"$f":"(1+M53)*(1+H53)^5-1","v":0},{"$f":"(1+N53)*(1+I53)^5-1","v":0}]
[null,"2.C.  Metal industry",null,null,null,null,null,null,null,{"$f":"(1+D54)^(2025-Assumptions!$C$10)-1","v":0},0,0,0,0,0]
[null,"2.F.  Product uses as ODS substitutes "]
[null,"Other (2.D, 2.E, 2.G. 2.H)",null,null,null,null,null,null,null,{"$f":"(1+D56)^(2025-Assumptions!$C$10)-1","v":0},0,0,0,{"$f":"(1+M56)*(1+H56)^5-1","v":0},{"$f":"(1+N56)*(1+I56)^5-1","v":0}]
[null,"3.  Agriculture"]
[null,"3.A.  Enteric fermentation",null,null,null,null,null,null,null,{"$f":"(1+D58)^(2025-Assumptions!$C$10)-1","v":0},{"$f":"(1+J58)*(1+E58)^5-1","v":0},{"$f":"(1+K58)*(1+F58)^5-1","v":0},{"$f":"(1+L58)*(1+G58)^5-1","v":0},{"$f":"(1+M58)*(1+H58)^5-1","v":0},{"$f":"(1+N58)*(1+I58)^5-1","v":0}]
[null,"3.B.  Manure management",null,null,null,null,null,null,null,{"$f":"(1+D59)^(2025-Assumptions!$C$10)-1","v":0},0,{"$f":"(1+K59)*(1+F59)^5-1","v":0},0,{"$f":"(1+M59)*(1+H59)^5-1","v":0},{"$f":"(1+N59)*(1+I59)^5-1","v":0}]
[null,"3.D.  Agricultural soils",null,null,null,null,null,null,null,{"$f":"(1+D60)^(2025-Assumptions!$C$10)-1","v":0},0,0,0,0,0]
[null,"   Other (3.C, 3.E-3.J)",null,null,null,null,null,null,null,{"$f":"(1+D61)^(2025-Assumptions!$C$10)-1","v":0},0,0,0,{"$f":"(1+M61)*(1+H61)^5-1","v":0},{"$f":"(1+N61)*(1+I61)^5-1","v":0}]
[null,"4. Land use, land-use change and forestry"]
[null,"4.A. Forest land",null,null,null,null,null,null,null,{"$f":"(1+D63)^(2025-Assumptions!$C$10)-1","v":0},{"$f":"(1+J63)*(1+E63)^5-1","v":0},{"$f":"(1+K63)*(1+F63)^5-1","v":0},{"$f":"(1+L63)*(1+G63)^5-1","v":0},{"$f":"(1+M63)*(1+H63)^5-1","v":0},{"$f":"(1+N63)*(1+I63)^5-1","v":0}]
[null,"4.B. Cropland",null,null,null,null,null,null,null,{"$f":"(1+D64)^(2025-Assumptions!$C$10)-1","v":0},0,{"$f":"(1+K64)*(1+F64)^5-1","v":0},0,{"$f":"(1+M64)*(1+H64)^5-1","v":0},{"$f":"(1+N64)*(1+I64)^5-1","v":0}]
[null,"4.C. Grassland",null,null,null,null,null,null,null,{"$f":"(1+D65)^(2025-Assumptions!$C$10)-1","v":0},0,0,0,0,0]
[null,"4.G. Harvested wood products"]
[null,"Other (4.D, 4.E, 4.F, 4.H)",null,null,null,null,null,null,null,{"$f":"(1+D67)^(2025-Assumptions!$C$10)-1","v":0},0,0,0,{"$f":"(1+M67)*(1+H67)^5-1","v":0},{"$f":"(1+N67)*(1+I67)^5-1","v":0}]
[null,"5.  Waste"]
[null,"5.A.  Solid waste disposal ",null,null,null,null,null,null,null,{"$f":"(1+D69)^(2025-Assumptions!$C$10)-1","v":0},{"$f":"(1+J69)*(1+E69)^5-1","v":0},{"$f":"(1+K69)*(1+F69)^5-1","v":0},{"$f":"(1+L69)*(1+G69)^5-1","v":0},{"$f":"(1+M69)*(1+H69)^5-1","v":0},{"$f":"(1+N69)*(1+I69)^5-1","v":0}]
[null,"5.B.  Biological treatment of solid waste",null,null,null,null,null,null,null,{"$f":"(1+D70)^(2025-Assumptions!$C$10)-1","v":0},0,{"$f":"(1+K70)*(1+F70)^5-1","v":0},0,{"$f":"(1+M70)*(1+H70)^5-1","v":0},{"$f":"(1+N70)*(1+I70)^5-1","v":0}]
[null,"5.D. Waste water treatment and discharge",null,null,null,null,null,null,null,{"$f":"(1+D71)^(2025-Assumptions!$C$10)-1","v":0},0,0,0,0,0]
[null,"Other (5.C, 5.E)",null,null,null,null,null,null,null,{"$f":"(1+D72)^(2025-Assumptions!$C$10)-1","v":0},0,0,0,{"$f":"(1+M72)*(1+H72)^5-1","v":0},{"$f":"(1+N72)*(1+I72)^5-1","v":0}]
[null,"Non energy - fuel in chemical feedstocs"]
[null,"Non energy - fuel in chemical feedstocs",null,null,null,null,null,null,null,{"$f":"(1+D74)^(2025-Assumptions!$C$10)-1","v":0},0,0,0,0,0]

{"sheet":"BAU projected Energy Balances","index":7,"n_rows":523,"n_cols":21,"rows_kept":523,"cut":false,"hidden":true,"merged":[[3,5,3,7],[6,5,6,7],[3,1,3,2],[6,1,7,2],[3,11,10,17],[501,1,501,2],[13,1,13,15],[42,1,42,15],[99,1,99,15],[128,1,128,15],[443,1,443,15],[472,1,472,15],[71,1,71,2],[157,1,157,2],[70,1,70,8],[156,1,156,8],[500,1,500,8],[242,1,242,8],[243,1,243,2],[185,1,185,15],[214,1,214,15],[386,1,386,15],[414,1,414,8],[415,1,415,2],[271,1,271,15],[300,1,300,15],[328,1,328,8],[329,1,329,2],[357,1,357,15]]}
[]
[null,"Step 5: BAU projected Energy Balances for year 2025, 2030, 2035, 2040, 2045 and 2050",null,null,null,null,null,null,null,null,null,null,null,null,null,null,null,null,null,null,"Year"]
[]
[null,"Select year to display:      ",null,null,null,null,null,null,null,null,null,"The BAU projected energy balances sheet includes the future energy balances for the years 2025, 2030, 2035, 2040, 2045 and 2050. The data in this sheet are automatically calculated by GACMO.\nThe user should not modify any of the data in the tables Fossil fuel balance – year – Country X and Electricity balance – year. However, a user may exceptionally decide to modify a specific data in one of these tables in the case that the user would like to reflect a change in the energy matrix which is not taken into account by the projections made by GACMO. The user should only make such a change if he/she is completely familiar with those types of data as the change will have an impact on the emissions scenarios and results obtained.\nPlease refer to the Guidance for further details on the data included in this sheet and on how to fill it in.\nOnce you have reviewed the tables of the BAU projected Energy Balances sheet, you can click “Go to step 6: BAU GHG balances”.",null,null,null,null,null,null,null,null,"Unit"]
[]
[]
[null,"Select unit to display:      "]
[]
[]
[null,null,"Selected year:",2035]
[null,null,"Selected unit:","TJ"]
[]
[]
[null,{"$f":"\"Fossil fuel balance - 2025 - \"&Assumptions!C9","v":"Fossil fuel balance - 2025 - "},null,null,null,null,null,null,null,null,null,null,2025]
[null,"TJ units",null,"LPG","Gasoline","Jet Fuel","Diesel","Fueloil","Kerosene and other","Total oil products","Coal","Lignite","Gas","Coke","Petrocoke","Total energy (fossil)"]
[null,"Unit",null,"TJ","TJ","TJ","TJ","TJ","TJ","TJ","TJ","TJ","TJ","TJ","TJ","TJ"]
[null,"Total",null,{"$f":"+D18+D19","v":0},0,0,0,0,0,0,0,0,0,{"$f":"+N18+N19","v":0},0,{"$f":"SUM(J17:O17)","v":0}]
[null,"    Fossil power plants",null,{"$f":"D47/E41","v":0},0,0,0,0,0,{"$f":"SUM(D18:I18)","v":0},{"$f":"K47/L41","v":0},{"$f":"L47/M41","v":0},{"$f":"M47/N41","v":0},null,null,0]
[null,"FINAL CONSUMPTION",null,{"$f":"SUM(D20:D39)","v":0},0,0,0,0,0,0,0,0,0,0,0,0]
[null,"    Industry - steel",null,{"$f":"+'Energy Balance'!D21*(1+Growth!$J21)","v":0},{"$f":"+'Energy Balance'!E21*(1+Growth!$J21)","v":0},{"$f":"+'Energy Balance'!F21*(1+Growth!$J21)","v":0},{"$f":"+'Energy Balance'!G21*(1+Growth!$J21)","v":0},{"$f":"+'Energy Balance'!H21*(1+Growth!$J21)","v":0},{"$f":"+'Energy Balance'!I21*(1+Growth!$J21)","v":0},{"$f":"SUM(D20:I20)","v":0},{"$f":"+'Energy Balance'!K21*(1+Growth!$J21)","v":0},{"$f":"+'Energy Balance'!L21*(1+Growth!$J21)","v":0},{"$f":"+'Energy Balance'!M21*(1+Growth!$J21)","v":0},{"$f":"+'Energy Balance'!N21*(1+Growth!$J21)","v":0},{"$f":"+'Energy Balance'!O21*(1+Growth!$J21)","v":0},0]
[null,"    Industry - chemical",null,{"$f":"+'Energy Balance'!D22*(1+Growth!$J22)","v":0},{"$f":"+'Energy Balance'!E22*(1+Growth!$J22)","v":0},{"$f":"+'Energy Balance'!F22*(1+Growth!$J22)","v":0},{"$f":"+'Energy Balance'!G22*(1+Growth!$J22)","v":0},{"$f":"+'Energy Balance'!H22*(1+Growth!$J22)","v":0},{"$f":"+'Energy Balance'!I22*(1+Growth!$J22)","v":0},0,{"$f":"+'Energy Balance'!K22*(1+Growth!$J22)","v":0},{"$f":"+'Energy Balance'!L22*(1+Growth!$J22)","v":0},{"$f":"+'Energy Balance'!M22*(1+Growth!$J22)","v":0},{"$f":"+'Energy Balance'!N22*(1+Growth!$J22)","v":0},{"$f":"+'Energy Balance'!O22*(1+Growth!$J22)","v":0},0]
[null,"    Industry - non metallic mineral",null,{"$f":"+'Energy Balance'!D23*(1+Growth!$J23)","v":0},{"$f":"+'Energy Balance'!E23*(1+Growth!$J23)","v":0},{"$f":"+'Energy Balance'!F23*(1+Growth!$J23)","v":0},{"$f":"+'Energy Balance'!G23*(1+Growth!$J23)","v":0},{"$f":"+'Energy Balance'!H23*(1+Growth!$J23)","v":0},{"$f":"+'Energy Balance'!I23*(1+Growth!$J23)","v":0},0,{"$f":"+'Energy Balance'!K23*(1+Growth!$J23)","v":0},{"$f":"+'Energy Balance'!L23*(1+Growth!$J23)","v":0},{"$f":"+'Energy Balance'!M23*(1+Growth!$J23)","v":0},{"$f":"+'Energy Balance'!N23*(1+Growth!$J23)","v":0},{"$f":"+'Energy Balance'!O23*(1+Growth!$J23)","v":0},0]
[null,"    Industry - food processing and beverage",null,{"$f":"+'Energy Balance'!D24*(1+Growth!$J24)","v":0},{"$f":"+'Energy Balance'!E24*(1+Growth!$J24)","v":0},{"$f":"+'Energy Balance'!F24*(1+Growth!$J24)","v":0},{"$f":"+'Energy Balance'!G24*(1+Growth!$J24)","v":0},{"$f":"+'Energy Balance'!H24*(1+Growth!$J24)","v":0},{"$f":"+'Energy Balance'!I24*(1+Growth!$J24)","v":0},0,{"$f":"+'Energy Balance'!K24*(1+Growth!$J24)","v":0},{"$f":"+'Energy Balance'!L24*(1+Growth!$J24)","v":0},{"$f":"+'Energy Balance'!M24*(1+Growth!$J24)","v":0},{"$f":"+'Energy Balance'!N24*(1+Growth!$J24)","v":0},{"$f":"+'Energy Balance'!O24*(1+Growth!$J24)","v":0},0]
[null,"    Industry - construction",null,{"$f":"+'Energy Balance'!D25*(1+Growth!$J25)","v":0},{"$f":"+'Energy Balance'!E25*(1+Growth!$J25)","v":0},{"$f":"+'Energy Balance'!F25*(1+Growth!$J25)","v":0},{"$f":"+'Energy Balance'!G25*(1+Growth!$J25)","v":0},{"$f":"+'Energy Balance'!H25*(1+Growth!$J25)","v":0},{"$f":"+'Energy Balance'!I25*(1+Growth!$J25)","v":0},0,{"$f":"+'Energy Balance'!K25*(1+Growth!$J25)","v":0},{"$f":"+'Energy Balance'!L25*(1+Growth!$J25)","v":0},{"$f":"+'Energy Balance'!M25*(1+Growth!$J25)","v":0},{"$f":"+'Energy Balance'!N25*(1+Growth!$J25)","v":0},{"$f":"+'Energy Balance'!O25*(1+Growth!$J25)","v":0},0]
[null,"    Industry - mining",null,{"$f":"+'Energy Balance'!D26*(1+Growth!$J26)","v":0},{"$f":"+'Energy Balance'!E26*(1+Growth!$J26)","v":0},{"$f":"+'Energy Balance'!F26*(1+Growth!$J26)","v":0},{"$f":"+'Energy Balance'!G26*(1+Growth!$J26)","v":0},{"$f":"+'Energy Balance'!H26*(1+Growth!$J26)","v":0},{"$f":"+'Energy Balance'!I26*(1+Growth!$J26)","v":0},0,{"$f":"+'Energy Balance'!K26*(1+Growth!$J26)","v":0},{"$f":"+'Energy Balance'!L26*(1+Growth!$J26)","v":0},{"$f":"+'Energy Balance'!M26*(1+Growth!$J26)","v":0},{"$f":"+'Energy Balance'!N26*(1+Growth!$J26)","v":0},{"$f":"+'Energy Balance'!O26*(1+Growth!$J26)","v":0},0]
[null,"    Industry - machinery",null,{"$f":"+'Energy Balance'!D27*(1+Growth!$J27)","v":0},{"$f":"+'Energy Balance'!E27*(1+Growth!$J27)","v":0},{"$f":"+'Energy Balance'!F27*(1+Growth!$J27)","v":0},{"$f":"+'Energy Balance'!G27*(1+Growth!$J27)","v":0},{"$f":"+'Energy Balance'!H27*(1+Growth!$J27)","v":0},{"$f":"+'Energy Balance'!I27*(1+Growth!$J27)","v":0},0,{"$f":"+'Energy Balance'!K27*(1+Growth!$J27)","v":0},{"$f":"+'Energy Balance'!L27*(1+Growth!$J27)","v":0},{"$f":"+'Energy Balance'!M27*(1+Growth!$J27)","v":0},{"$f":"+'Energy Balance'!N27*(1+Growth!$J27)","v":0},{"$f":"+'Energy Balance'!O27*(1+Growth!$J27)","v":0},0]
[null,"    Industry - non ferrous metals",null,{"$f":"+'Energy Balance'!D28*(1+Growth!$J28)","v":0},{"$f":"+'Energy Balance'!E28*(1+Growth!$J28)","v":0},{"$f":"+'Energy Balance'!F28*(1+Growth!$J28)","v":0},{"$f":"+'Energy Balance'!G28*(1+Growth!$J28)","v":0},{"$f":"+'Energy Balance'!H28*(1+Growth!$J28)","v":0},{"$f":"+'Energy Balance'!I28*(1+Growth!$J28)","v":0},0,{"$f":"+'Energy Balance'!K28*(1+Growth!$J28)","v":0},{"$f":"+'Energy Balance'!L28*(1+Growth!$J28)","v":0},{"$f":"+'Energy Balance'!M28*(1+Growth!$J28)","v":0},{"$f":"+'Energy Balance'!N28*(1+Growth!$J28)","v":0},{"$f":"+'Energy Balance'!O28*(1+Growth!$J28)","v":0},0]
[null,"    Industry - paper and pulp",null,{"$f":"+'Energy Balance'!D29*(1+Growth!$J29)","v":0},{"$f":"+'Energy Balance'!E29*(1+Growth!$J29)","v":0},{"$f":"+'Energy Balance'!F29*(1+Growth!$J29)","v":0},{"$f":"+'Energy Balance'!G29*(1+Growth!$J29)","v":0},{"$f":"+'Energy Balance'!H29*(1+Growth!$J29)","v":0},{"$f":"+'Energy Balance'!I29*(1+Growth!$J29)","v":0},0,{"$f":"+'Energy Balance'!K29*(1+Growth!$J29)","v":0},{"$f":"+'Energy Balance'!L29*(1+Growth!$J29)","v":0},{"$f":"+'Energy Balance'!M29*(1+Growth!$J29)","v":0},{"$f":"+'Energy Balance'!N29*(1+Growth!$J29)","v":0},{"$f":"+'Energy Balance'!O29*(1+Growth!$J29)","v":0},0]
[null,"    Industry - transport equipment",null,{"$f":"+'Energy Balance'!D30*(1+Growth!$J30)","v":0},{"$f":"+'Energy Balance'!E30*(1+Growth!$J30)","v":0},{"$f":"+'Energy Balance'!F30*(1+Growth!$J30)","v":0},{"$f":"+'Energy Balance'!G30*(1+Growth!$J30)","v":0},{"$f":"+'Energy Balance'!H30*(1+Growth!$J30)","v":0},{"$f":"+'Energy Balance'!I30*(1+Growth!$J30)","v":0},0,{"$f":"+'Energy Balance'!K30*(1+Growth!$J30)","v":0},{"$f":"+'Energy Balance'!L30*(1+Growth!$J30)","v":0},{"$f":"+'Energy Balance'!M30*(1+Growth!$J30)","v":0},{"$f":"+'Energy Balance'!N30*(1+Growth!$J30)","v":0},{"$f":"+'Energy Balance'!O30*(1+Growth!$J30)","v":0},0]
[null,"    Industry - textile and leather",null,{"$f":"+'Energy Balance'!D31*(1+Growth!$J31)","v":0},{"$f":"+'Energy Balance'!E31*(1+Growth!$J31)","v":0},{"$f":"+'Energy Balance'!F31*(1+Growth!$J31)","v":0},{"$f":"+'Energy Balance'!G31*(1+Growth!$J31)","v":0},{"$f":"+'Energy Balance'!H31*(1+Growth!$J31)","v":0},{"$f":"+'Energy Balance'!I31*(1+Growth!$J31)","v":0},0,{"$f":"+'Energy Balance'!K31*(1+Growth!$J31)","v":0},{"$f":"+'Energy Balance'!L31*(1+Growth!$J31)","v":0},{"$f":"+'Energy Balance'!M31*(1+Growth!$J31)","v":0},{"$f":"+'Energy Balance'!N31*(1+Growth!$J31)","v":0},{"$f":"+'Energy Balance'!O31*(1+Growth!$J31)","v":0},0]
[null,"    Industry - miscellaneous",null,{"$f":"+'Energy Balance'!D32*(1+Growth!$J32)","v":0},{"$f":"+'Energy Balance'!E32*(1+Growth!$J32)","v":0},{"$f":"+'Energy Balance'!F32*(1+Growth!$J32)","v":0},{"$f":"+'Energy Balance'!G32*(1+Growth!$J32)","v":0},{"$f":"+'Energy Balance'!H32*(1+Growth!$J32)","v":0},{"$f":"+'Energy Balance'!I32*(1+Growth!$J32)","v":0},0,{"$f":"+'Energy Balance'!K32*(1+Growth!$J32)","v":0},{"$f":"+'Energy Balance'!L32*(1+Growth!$J32)","v":0},{"$f":"+'Energy Balance'!M32*(1+Growth!$J32)","v":0},{"$f":"+'Energy Balance'!N32*(1+Growth!$J32)","v":0},{"$f":"+'Energy Balance'!O32*(1+Growth!$J32)","v":0},0]
[null,"    Transport - road",null,{"$f":"+'Energy Balance'!D33*(1+Growth!$J35)","v":0},{"$f":"+'Energy Balance'!E33*(1+Growth!$J35)","v":0},{"$f":"+'Energy Balance'!F33*(1+Growth!$J35)","v":0},{"$f":"+'Energy Balance'!G33*(1+Growth!$J35)","v":0},{"$f":"+'Energy Balance'!H33*(1+Growth!$J35)","v":0},{"$f":"+'Energy Balance'!I33*(1+Growth!$J35)","v":0},0,{"$f":"+'Energy Balance'!K33*(1+Growth!$J35)","v":0},{"$f":"+'Energy Balance'!L33*(1+Growth!$J35)","v":0},{"$f":"+'Energy Balance'!M33*(1+Growth!$J35)","v":0},{"$f":"+'Energy Balance'!N33*(1+Growth!$J35)","v":0},{"$f":"+'Energy Balance'!O33*(1+Growth!$J35)","v":0},0]
[null,"    Transport - rail",null,{"$f":"+'Energy Balance'!D34*(1+Growth!$J36)","v":0},{"$f":"+'Energy Balance'!E34*(1+Growth!$J36)","v":0},{"$f":"+'Energy Balance'!F34*(1+Growth!$J36)","v":0},{"$f":"+'Energy Balance'!G34*(1+Growth!$J36)","v":0},{"$f":"+'Energy Balance'!H34*(1+Growth!$J36)","v":0},{"$f":"+'Energy Balance'!I34*(1+Growth!$J36)","v":0},0,{"$f":"+'Energy Balance'!K34*(1+Growth!$J36)","v":0},{"$f":"+'Energy Balance'!L34*(1+Growth!$J36)","v":0},{"$f":"+'Energy Balance'!M34*(1+Growth!$J36)","v":0},{"$f":"+'Energy Balance'!N34*(1+Growth!$J36)","v":0},{"$f":"+'Energy Balance'!O34*(1+Growth!$J36)","v":0},0]
[null,"    Transport - domestic air",null,{"$f":"+'Energy Balance'!D35*(1+Growth!$J37)","v":0},{"$f":"+'Energy Balance'!E35*(1+Growth!$J37)","v":0},{"$f":"+'Energy Balance'!F35*(1+Growth!$J37)","v":0},{"$f":"+'Energy Balance'!G35*(1+Growth!$J37)","v":0},{"$f":"+'Energy Balance'!H35*(1+Growth!$J37)","v":0},{"$f":"+'Energy Balance'!I35*(1+Growth!$J37)","v":0},0,{"$f":"+'Energy Balance'!K35*(1+Growth!$J37)","v":0},{"$f":"+'Energy Balance'!L35*(1+Growth!$J37)","v":0},{"$f":"+'Energy Balance'!M35*(1+Growth!$J37)","v":0},{"$f":"+'Energy Balance'!N35*(1+Growth!$J37)","v":0},{"$f":"+'Energy Balance'!O35*(1+Growth!$J37)","v":0},0]
[null,"    Transport - navigation",null,{"$f":"+'Energy Balance'!D36*(1+Growth!$J38)","v":0},{"$f":"+'Energy Balance'!E36*(1+Growth!$J38)","v":0},{"$f":"+'Energy Balance'!F36*(1+Growth!$J38)","v":0},{"$f":"+'Energy Balance'!G36*(1+Growth!$J38)","v":0},{"$f":"+'Energy Balance'!H36*(1+Growth!$J38)","v":0},{"$f":"+'Energy Balance'!I36*(1+Growth!$J38)","v":0},0,{"$f":"+'Energy Balance'!K36*(1+Growth!$J38)","v":0},{"$f":"+'Energy Balance'!L36*(1+Growth!$J38)","v":0},{"$f":"+'Energy Balance'!M36*(1+Growth!$J38)","v":0},{"$f":"+'Energy Balance'!N36*(1+Growth!$J38)","v":0},{"$f":"+'Energy Balance'!O36*(1+Growth!$J38)","v":0},0]
[null,"    Households",null,{"$f":"+'Energy Balance'!D37*(1+Growth!$J42)","v":0},{"$f":"+'Energy Balance'!E37*(1+Growth!$J42)","v":0},{"$f":"+'Energy Balance'!F37*(1+Growth!$J42)","v":0},{"$f":"+'Energy Balance'!G37*(1+Growth!$J42)","v":0},{"$f":"+'Energy Balance'!H37*(1+Growth!$J42)","v":0},{"$f":"+'Energy Balance'!I37*(1+Growth!$J43)","v":0},0,{"$f":"+'Energy Balance'!K37*(1+Growth!$J42)","v":0},{"$f":"+'Energy Balance'!L37*(1+Growth!$J42)","v":0},{"$f":"+'Energy Balance'!M37*(1+Growth!$J42)","v":0},{"$f":"+'Energy Balance'!N37*(1+Growth!$J42)","v":0},{"$f":"+'Energy Balance'!O37*(1+Growth!$J42)","v":0},0]
[null,"    Services",null,{"$f":"+'Energy Balance'!D38*(1+Growth!$J46)","v":0},{"$f":"+'Energy Balance'!E38*(1+Growth!$J46)","v":0},{"$f":"+'Energy Balance'!F38*(1+Growth!$J46)","v":0},{"$f":"+'Energy Balance'!G38*(1+Growth!$J46)","v":0},{"$f":"+'Energy Balance'!H38*(1+Growth!$J46)","v":0},{"$f":"+'Energy Balance'!I38*(1+Growth!$J46)","v":0},0,{"$f":"+'Energy Balance'!K38*(1+Growth!$J46)","v":0},{"$f":"+'Energy Balance'!L38*(1+Growth!$J46)","v":0},{"$f":"+'Energy Balance'!M38*(1+Growth!$J46)","v":0},{"$f":"+'Energy Balance'!N38*(1+Growth!$J46)","v":0},{"$f":"+'Energy Balance'!O38*(1+Growth!$J46)","v":0},0]
[null,"    Agriculture & Fishery",null,{"$f":"+'Energy Balance'!D39*(1+Growth!$J49)","v":0},{"$f":"+'Energy Balance'!E39*(1+Growth!$J49)","v":0},{"$f":"+'Energy Balance'!F39*(1+Growth!$J49)","v":0},{"$f":"+'Energy Balance'!G39*(1+Growth!$J49)","v":0},{"$f":"+'Energy Balance'!H39*(1+Growth!$J49)","v":0},{"$f":"+'Energy Balance'!I39*(1+Growth!$J49)","v":0},0,{"$f":"+'Energy Balance'!K39*(1+Growth!$J49)","v":0},{"$f":"+'Energy Balance'!L39*(1+Growth!$J49)","v":0},{"$f":"+'Energy Balance'!M39*(1+Growth!$J49)","v":0},{"$f":"+'Energy Balance'!N39*(1+Growth!$J49)","v":0},{"$f":"+'Energy Balance'!O39*(1+Growth!$J49)","v":0},0]
[null,"    Non energy uses",null,{"$f":"+'Energy Balance'!D40*(1+Growth!$J74)","v":0},{"$f":"+'Energy Balance'!E40*(1+Growth!$J74)","v":0},{"$f":"+'Energy Balance'!F40*(1+Growth!$J74)","v":0},{"$f":"+'Energy Balance'!G40*(1+Growth!$J74)","v":0},{"$f":"+'Energy Balance'!H40*(1+Growth!$J74)","v":0},{"$f":"+'Energy Balance'!I40*(1+Growth!$J74)","v":0},0,{"$f":"+'Energy Balance'!K40*(1+Growth!$J74)","v":0},{"$f":"+'Energy Balance'!L40*(1+Growth!$J74)","v":0},{"$f":"+'Energy Balance'!M40*(1+Growth!$J74)","v":0},{"$f":"+'Energy Balance'!N40*(1+Growth!$J74)","v":0},{"$f":"+'Energy Balance'!O40*(1+Growth!$J74)","v":0},0]
[]
[null,null,null,null,2.3884589662749593E-2,2.3884589662749593E-2,2.3884589662749593E-2,2.3884589662749593E-2,2.3884589662749593E-2,2.3884589662749593E-2,null,2.3884589662749593E-2,2.3884589662749593E-2,2.3884589662749593E-2,2.3884589662749593E-2,2.3884589662749593E-2]
[]
[null,{"$f":"\"Fossil fuel balance - 2025 - \"&Assumptions!C9","v":"Fossil fuel balance - 2025 - "}]
[null,"ktoe units",null,"LPG","Gasoline","Jet Fuel","Diesel","Fueloil","Kerosene and other","Total oil products","Coal","Lignite","Gas","Coke","Petrocoke","Total"]
[null,"Unit",null,"ktoe","ktoe","ktoe","ktoe","ktoe","ktoe","ktoe","ktoe","ktoe","ktoe","ktoe","ktoe","ktoe"]
[null,"Total consumption",null,{"$f":"+D47+D48","v":0},0,0,0,0,0,0,0,0,0,0,0,0]
[null,"    Fossil power plants",null,{"$f":"IFERROR(IF(G75=0,0,$J47*IF('Energy Balance'!$J76>0,'Energy Balance'!D76/'Energy Balance'!$J76,0)),0)","v":0},{"$f":"IFERROR(IF(G75=0,0,$J47*IF('Energy Balance'!$J76>0,'Energy Balance'!E76/'Energy Balance'!$J76,0)),0)","v":0},{"$f":"IFERROR(IF(G75=0,0,$J47*IF('Energy Balance'!$J76>0,'Energy Balance'!F76/'Energy Balance'!$J76,0)),0)","v":0},{"$f":"IFERROR(IF(G75=0,0,$J47*IF('Energy Balance'!$J76>0,'Energy Balance'!G76/'Energy Balance'!$J76,0)),0)","v":0},{"$f":"IFERROR(IF(G75=0,0,$J47*IF('Energy Balance'!$J76>0,'Energy Balance'!H76/'Energy Balance'!$J76,0)),0)","v":0},{"$f":"IFERROR(IF(G75=0,0,$J47*IF('Energy Balance'!$J76>0,'Energy Balance'!I76/'Energy Balance'!$J76,0)),0)","v":0},{"$f":"IFERROR(IF(G75=0,0,G78/11.63/I78),0)","v":0},{"$f":"IF(I77>0,G77/11.63/I77,0)","v":0},{"$f":"IF(I76>0,G76/11.63/I76,0)","v":0},{"$f":"IF(I79>0,G79/11.63/I79,0)","v":0},null,null,{"$f":"SUM(J47:O47)","v":0}]
[null,"FINAL CONSUMPTION",null,{"$f":"SUM(D49:D68)","v":0},0,0,0,0,0,{"$f":"SUM(D48:I48)","v":0},{"$f":"SUM(K49:K68)","v":0},0,0,0,0,0]
[null,"    Industry - steel",null,{"$f":"+'Energy Balance'!D78*(1+Growth!$J21)","v":0},{"$f":"+'Energy Balance'!E78*(1+Growth!$J21)","v":0},{"$f":"+'Energy Balance'!F78*(1+Growth!$J21)","v":0},{"$f":"+'Energy Balance'!G78*(1+Growth!$J21)","v":0},{"$f":"+'Energy Balance'!H78*(1+Growth!$J21)","v":0},{"$f":"+'Energy Balance'!I78*(1+Growth!$J21)","v":0},0,{"$f":"+'Energy Balance'!K78*(1+Growth!$J21)","v":0},{"$f":"+'Energy Balance'!L78*(1+Growth!$J21)","v":0},{"$f":"+'Energy Balance'!M78*(1+Growth!$J21)","v":0},{"$f":"+'Energy Balance'!N78*(1+Growth!$J21)","v":0},{"$f":"+'Energy Balance'!O78*(1+Growth!$J21)","v":0},{"$f":"SUM(J49:O49)","v":0}]
[null,"    Industry - chemical",null,{"$f":"+'Energy Balance'!D79*(1+Growth!$J22)","v":0},{"$f":"+'Energy Balance'!E79*(1+Growth!$J22)","v":0},{"$f":"+'Energy Balance'!F79*(1+Growth!$J22)","v":0},{"$f":"+'Energy Balance'!G79*(1+Growth!$J22)","v":0},{"$f":"+'Energy Balance'!H79*(1+Growth!$J22)","v":0},{"$f":"+'Energy Balance'!I79*(1+Growth!$J22)","v":0},0,{"$f":"+'Energy Balance'!K79*(1+Growth!$J22)","v":0},{"$f":"+'Energy Balance'!L79*(1+Growth!$J22)","v":0},{"$f":"+'Energy Balance'!M79*(1+Growth!$J22)","v":0},{"$f":"+'Energy Balance'!N79*(1+Growth!$J22)","v":0},{"$f":"+'Energy Balance'!O79*(1+Growth!$J22)","v":0},0]
[null,"    Industry - non metallic mineral",null,{"$f":"+'Energy Balance'!D80*(1+Growth!$J23)","v":0},{"$f":"+'Energy Balance'!E80*(1+Growth!$J23)","v":0},{"$f":"+'Energy Balance'!F80*(1+Growth!$J23)","v":0},{"$f":"+'Energy Balance'!G80*(1+Growth!$J23)","v":0},{"$f":"+'Energy Balance'!H80*(1+Growth!$J23)","v":0},{"$f":"+'Energy Balance'!I80*(1+Growth!$J23)","v":0},0,{"$f":"+'Energy Balance'!K80*(1+Growth!$J23)","v":0},{"$f":"+'Energy Balance'!L80*(1+Growth!$J23)","v":0},{"$f":"+'Energy Balance'!M80*(1+Growth!$J23)","v":0},{"$f":"+'Energy Balance'!N80*(1+Growth!$J23)","v":0},{"$f":"+'Energy Balance'!O80*(1+Growth!$J23)","v":0},0]
[null,"    Industry - food processing and beverage",null,{"$f":"+'Energy Balance'!D81*(1+Growth!$J24)","v":0},{"$f":"+'Energy Balance'!E81*(1+Growth!$J24)","v":0},{"$f":"+'Energy Balance'!F81*(1+Growth!$J24)","v":0},{"$f":"+'Energy Balance'!G81*(1+Growth!$J24)","v":0},{"$f":"+'Energy Balance'!H81*(1+Growth!$J24)","v":0},{"$f":"+'Energy Balance'!I81*(1+Growth!$J24)","v":0},0,{"$f":"+'Energy Balance'!K81*(1+Growth!$J24)","v":0},{"$f":"+'Energy Balance'!L81*(1+Growth!$J24)","v":0},{"$f":"+'Energy Balance'!M81*(1+Growth!$J24)","v":0},{"$f":"+'Energy Balance'!N81*(1+Growth!$J24)","v":0},{"$f":"+'Energy Balance'!O81*(1+Growth!$J24)","v":0},0]
[null,"    Industry - construction",null,{"$f":"+'Energy Balance'!D82*(1+Growth!$J25)","v":0},{"$f":"+'Energy Balance'!E82*(1+Growth!$J25)","v":0},{"$f":"+'Energy Balance'!F82*(1+Growth!$J25)","v":0},{"$f":"+'Energy Balance'!G82*(1+Growth!$J25)","v":0},{"$f":"+'Energy Balance'!H82*(1+Growth!$J25)","v":0},{"$f":"+'Energy Balance'!I82*(1+Growth!$J25)","v":0},0,{"$f":"+'Energy Balance'!K82*(1+Growth!$J25)","v":0},{"$f":"+'Energy Balance'!L82*(1+Growth!$J25)","v":0},{"$f":"+'Energy Balance'!M82*(1+Growth!$J25)","v":0},{"$f":"+'Energy Balance'!N82*(1+Growth!$J25)","v":0},{"$f":"+'Energy Balance'!O82*(1+Growth!$J25)","v":0},0]
[null,"    Industry - mining",null,{"$f":"+'Energy Balance'!D83*(1+Growth!$J26)","v":0},{"$f":"+'Energy Balance'!E83*(1+Growth!$J26)","v":0},{"$f":"+'Energy Balance'!F83*(1+Growth!$J26)","v":0},{"$f":"+'Energy Balance'!G83*(1+Growth!$J26)","v":0},{"$f":"+'Energy Balance'!H83*(1+Growth!$J26)","v":0},{"$f":"+'Energy Balance'!I83*(1+Growth!$J26)","v":0},0,{"$f":"+'Energy Balance'!K83*(1+Growth!$J26)","v":0},{"$f":"+'Energy Balance'!L83*(1+Growth!$J26)","v":0},{"$f":"+'Energy Balance'!M83*(1+Growth!$J26)","v":0},{"$f":"+'Energy Balance'!N83*(1+Growth!$J26)","v":0},{"$f":"+'Energy Balance'!O83*(1+Growth!$J26)","v":0},0]
[null,"    Industry - machinery",null,{"$f":"+'Energy Balance'!D84*(1+Growth!$J27)","v":0},{"$f":"+'Energy Balance'!E84*(1+Growth!$J27)","v":0},{"$f":"+'Energy Balance'!F84*(1+Growth!$J27)","v":0},{"$f":"+'Energy Balance'!G84*(1+Growth!$J27)","v":0},{"$f":"+'Energy Balance'!H84*(1+Growth!$J27)","v":0},{"$f":"+'Energy Balance'!I84*(1+Growth!$J27)","v":0},0,{"$f":"+'Energy Balance'!K84*(1+Growth!$J27)","v":0},{"$f":"+'Energy Balance'!L84*(1+Growth!$J27)","v":0},{"$f":"+'Energy Balance'!M84*(1+Growth!$J27)","v":0},{"$f":"+'Energy Balance'!N84*(1+Growth!$J27)","v":0},{"$f":"+'Energy Balance'!O84*(1+Growth!$J27)","v":0},0]
[null,"    Industry - non ferrous metals",null,{"$f":"+'Energy Balance'!D85*(1+Growth!$J28)","v":0},{"$f":"+'Energy Balance'!E85*(1+Growth!$J28)","v":0},{"$f":"+'Energy Balance'!F85*(1+Growth!$J28)","v":0},{"$f":"+'Energy Balance'!G85*(1+Growth!$J28)","v":0},{"$f":"+'Energy Balance'!H85*(1+Growth!$J28)","v":0},{"$f":"+'Energy Balance'!I85*(1+Growth!$J28)","v":0},0,{"$f":"+'Energy Balance'!K85*(1+Growth!$J28)","v":0},{"$f":"+'Energy Balance'!L85*(1+Growth!$J28)","v":0},{"$f":"+'Energy Balance'!M85*(1+Growth!$J28)","v":0},{"$f":"+'Energy Balance'!N85*(1+Growth!$J28)","v":0},{"$f":"+'Energy Balance'!O85*(1+Growth!$J28)","v":0},0]
[null,"    Industry - paper and pulp",null,{"$f":"+'Energy Balance'!D86*(1+Growth!$J29)","v":0},{"$f":"+'Energy Balance'!E86*(1+Growth!$J29)","v":0},{"$f":"+'Energy Balance'!F86*(1+Growth!$J29)","v":0},{"$f":"+'Energy Balance'!G86*(1+Growth!$J29)","v":0},{"$f":"+'Energy Balance'!H86*(1+Growth!$J29)","v":0},{"$f":"+'Energy Balance'!I86*(1+Growth!$J29)","v":0},0,{"$f":"+'Energy Balance'!K86*(1+Growth!$J29)","v":0},{"$f":"+'Energy Balance'!L86*(1+Growth!$J29)","v":0},{"$f":"+'Energy Balance'!M86*(1+Growth!$J29)","v":0},{"$f":"+'Energy Balance'!N86*(1+Growth!$J29)","v":0},{"$f":"+'Energy Balance'!O86*(1+Growth!$J29)","v":0},0]
[null,"    Industry - transport equipment",null,{"$f":"+'Energy Balance'!D87*(1+Growth!$J30)","v":0},{"$f":"+'Energy Balance'!E87*(1+Growth!$J30)","v":0},{"$f":"+'Energy Balance'!F87*(1+Growth!$J30)","v":0},{"$f":"+'Energy Balance'!G87*(1+Growth!$J30)","v":0},{"$f":"+'Energy Balance'!H87*(1+Growth!$J30)","v":0},{"$f":"+'Energy Balance'!I87*(1+Growth!$J30)","v":0},0,{"$f":"+'Energy Balance'!K87*(1+Growth!$J30)","v":0},{"$f":"+'Energy Balance'!L87*(1+Growth!$J30)","v":0},{"$f":"+'Energy Balance'!M87*(1+Growth!$J30)","v":0},{"$f":"+'Energy Balance'!N87*(1+Growth!$J30)","v":0},{"$f":"+'Energy Balance'!O87*(1+Growth!$J30)","v":0},0]
[null,"    Industry - textile and leather",null,{"$f":"+'Energy Balance'!D88*(1+Growth!$J31)","v":0},{"$f":"+'Energy Balance'!E88*(1+Growth!$J31)","v":0},{"$f":"+'Energy Balance'!F88*(1+Growth!$J31)","v":0},{"$f":"+'Energy Balance'!G88*(1+Growth!$J31)","v":0},{"$f":"+'Energy Balance'!H88*(1+Growth!$J31)","v":0},{"$f":"+'Energy Balance'!I88*(1+Growth!$J31)","v":0},0,{"$f":"+'Energy Balance'!K88*(1+Growth!$J31)","v":0},{"$f":"+'Energy Balance'!L88*(1+Growth!$J31)","v":0},{"$f":"+'Energy Balance'!M88*(1+Growth!$J31)","v":0},{"$f":"+'Energy Balance'!N88*(1+Growth!$J31)","v":0},{"$f":"+'Energy Balance'!O88*(1+Growth!$J31)","v":0},0]
[null,"    Industry - miscellaneous",null,{"$f":"+'Energy Balance'!D89*(1+Growth!$J32)","v":0},{"$f":"+'Energy Balance'!E89*(1+Growth!$J32)","v":0},{"$f":"+'Energy Balance'!F89*(1+Growth!$J32)","v":0},{"$f":"+'Energy Balance'!G89*(1+Growth!$J32)","v":0},{"$f":"+'Energy Balance'!H89*(1+Growth!$J32)","v":0},{"$f":"+'Energy Balance'!I89*(1+Growth!$J32)","v":0},0,{"$f":"+'Energy Balance'!K89*(1+Growth!$J32)","v":0},{"$f":"+'Energy Balance'!L89*(1+Growth!$J32)","v":0},{"$f":"+'Energy Balance'!M89*(1+Growth!$J32)","v":0},{"$f":"+'Energy Balance'!N89*(1+Growth!$J32)","v":0},{"$f":"+'Energy Balance'!O89*(1+Growth!$J32)","v":0},0]
[null,"    Transport - road",null,{"$f":"+'Energy Balance'!D90*(1+Growth!$J35)","v":0},{"$f":"+'Energy Balance'!E90*(1+Growth!$J35)","v":0},{"$f":"+'Energy Balance'!F90*(1+Growth!$J35)","v":0},{"$f":"+'Energy Balance'!G90*(1+Growth!$J35)","v":0},{"$f":"+'Energy Balance'!H90*(1+Growth!$J35)","v":0},{"$f":"+'Energy Balance'!I90*(1+Growth!$J35)","v":0},0,{"$f":"+'Energy Balance'!K90*(1+Growth!$J35)","v":0},{"$f":"+'Energy Balance'!L90*(1+Growth!$J35)","v":0},{"$f":"+'Energy Balance'!M90*(1+Growth!$J35)","v":0},{"$f":"+'Energy Balance'!N90*(1+Growth!$J35)","v":0},{"$f":"+'Energy Balance'!O90*(1+Growth!$J35)","v":0},0]
[null,"    Transport - rail",null,{"$f":"+'Energy Balance'!D91*(1+Growth!$J36)","v":0},{"$f":"+'Energy Balance'!E91*(1+Growth!$J36)","v":0},{"$f":"+'Energy Balance'!F91*(1+Growth!$J36)","v":0},{"$f":"+'Energy Balance'!G91*(1+Growth!$J36)","v":0},{"$f":"+'Energy Balance'!H91*(1+Growth!$J36)","v":0},{"$f":"+'Energy Balance'!I91*(1+Growth!$J36)","v":0},0,{"$f":"+'Energy Balance'!K91*(1+Growth!$J36)","v":0},{"$f":"+'Energy Balance'!L91*(1+Growth!$J36)","v":0},{"$f":"+'Energy Balance'!M91*(1+Growth!$J36)","v":0},{"$f":"+'Energy Balance'!N91*(1+Growth!$J36)","v":0},{"$f":"+'Energy Balance'!O91*(1+Growth!$J36)","v":0},0]
[null,"    Transport - domestic air",null,{"$f":"+'Energy Balance'!D92*(1+Growth!$J37)","v":0},{"$f":"+'Energy Balance'!E92*(1+Growth!$J37)","v":0},{"$f":"+'Energy Balance'!F92*(1+Growth!$J37)","v":0},{"$f":"+'Energy Balance'!G92*(1+Growth!$J37)","v":0},{"$f":"+'Energy Balance'!H92*(1+Growth!$J37)","v":0},{"$f":"+'Energy Balance'!I92*(1+Growth!$J37)","v":0},0,{"$f":"+'Energy Balance'!K92*(1+Growth!$J37)","v":0},{"$f":"+'Energy Balance'!L92*(1+Growth!$J37)","v":0},{"$f":"+'Energy Balance'!M92*(1+Growth!$J37)","v":0},{"$f":"+'Energy Balance'!N92*(1+Growth!$J37)","v":0},{"$f":"+'Energy Balance'!O92*(1+Growth!$J37)","v":0},0]
[null,"    Transport - navigation",null,{"$f":"+'Energy Balance'!D93*(1+Growth!$J38)","v":0},{"$f":"+'Energy Balance'!E93*(1+Growth!$J38)","v":0},{"$f":"+'Energy Balance'!F93*(1+Growth!$J38)","v":0},{"$f":"+'Energy Balance'!G93*(1+Growth!$J38)","v":0},{"$f":"+'Energy Balance'!H93*(1+Growth!$J38)","v":0},{"$f":"+'Energy Balance'!I93*(1+Growth!$J38)","v":0},0,{"$f":"+'Energy Balance'!K93*(1+Growth!$J38)","v":0},{"$f":"+'Energy Balance'!L93*(1+Growth!$J38)","v":0},{"$f":"+'Energy Balance'!M93*(1+Growth!$J38)","v":0},{"$f":"+'Energy Balance'!N93*(1+Growth!$J38)","v":0},{"$f":"+'Energy Balance'!O93*(1+Growth!$J38)","v":0},0]
[null,"    Households",null,{"$f":"+'Energy Balance'!D94*(1+Growth!$J42)","v":0},{"$f":"+'Energy Balance'!E94*(1+Growth!$J42)","v":0},{"$f":"+'Energy Balance'!F94*(1+Growth!$J42)","v":0},{"$f":"+'Energy Balance'!G94*(1+Growth!$J42)","v":0},{"$f":"+'Energy Balance'!H94*(1+Growth!$J42)","v":0},{"$f":"+'Energy Balance'!I94*(1+Growth!$J43)","v":0},0,{"$f":"+'Energy Balance'!K94*(1+Growth!$J42)","v":0},{"$f":"+'Energy Balance'!L94*(1+Growth!$J42)","v":0},{"$f":"+'Energy Balance'!M94*(1+Growth!$J42)","v":0},{"$f":"+'Energy Balance'!N94*(1+Growth!$J42)","v":0},{"$f":"+'Energy Balance'!O94*(1+Growth!$J42)","v":0},0]
[null,"    Services",null,{"$f":"+'Energy Balance'!D95*(1+Growth!$J46)","v":0},{"$f":"+'Energy Balance'!E95*(1+Growth!$J46)","v":0},{"$f":"+'Energy Balance'!F95*(1+Growth!$J46)","v":0},{"$f":"+'Energy Balance'!G95*(1+Growth!$J46)","v":0},{"$f":"+'Energy Balance'!H95*(1+Growth!$J46)","v":0},{"$f":"+'Energy Balance'!I95*(1+Growth!$J46)","v":0},0,{"$f":"+'Energy Balance'!K95*(1+Growth!$J46)","v":0},{"$f":"+'Energy Balance'!L95*(1+Growth!$J46)","v":0},{"$f":"+'Energy Balance'!M95*(1+Growth!$J46)","v":0},{"$f":"+'Energy Balance'!N95*(1+Growth!$J46)","v":0},{"$f":"+'Energy Balance'!O95*(1+Growth!$J46)","v":0},0]
[null,"    Agriculture & Fishery",null,{"$f":"+'Energy Balance'!D96*(1+Growth!$J49)","v":0},{"$f":"+'Energy Balance'!E96*(1+Growth!$J49)","v":0},{"$f":"+'Energy Balance'!F96*(1+Growth!$J49)","v":0},{"$f":"+'Energy Balance'!G96*(1+Growth!$J49)","v":0},{"$f":"+'Energy Balance'!H96*(1+Growth!$J49)","v":0},{"$f":"+'Energy Balance'!I96*(1+Growth!$J49)","v":0},0,{"$f":"+'Energy Balance'!K96*(1+Growth!$J49)","v":0},{"$f":"+'Energy Balance'!L96*(1+Growth!$J49)","v":0},{"$f":"+'Energy Balance'!M96*(1+Growth!$J49)","v":0},{"$f":"+'Energy Balance'!N96*(1+Growth!$J49)","v":0},{"$f":"+'Energy Balance'!O96*(1+Growth!$J49)","v":0},0]
[null,"    Non energy uses",null,{"$f":"+'Energy Balance'!D97*(1+Growth!$J74)","v":0},{"$f":"+'Energy Balance'!E97*(1+Growth!$J74)","v":0},{"$f":"+'Energy Balance'!F97*(1+Growth!$J74)","v":0},{"$f":"+'Energy Balance'!G97*(1+Growth!$J74)","v":0},{"$f":"+'Energy Balance'!H97*(1+Growth!$J74)","v":0},{"$f":"+'Energy Balance'!I97*(1+Growth!$J74)","v":0},0,{"$f":"+'Energy Balance'!K97*(1+Growth!$J74)","v":0},{"$f":"+'Energy Balance'!L97*(1+Growth!$J74)","v":0},{"$f":"+'Energy Balance'!M97*(1+Growth!$J74)","v":0},{"$f":"+'Energy Balance'!N97*(1+Growth!$J74)","v":0},{"$f":"+'Energy Balance'!O97*(1+Growth!$J74)","v":0},0]
[]
[]
[null,"Electricity balance - 2025"]
[null,"Electricity consumption",null,"GWh",null,"Electricity production","Gwh","Share of production","Efficiency"]
[null,"Total consumption",null,{"$f":"SUM(D74:D93)","v":0},null,"Total",{"$f":"IF(H74=1,0,D73/(1-H74))","v":0}]
[null,"    Industry - steel",null,{"$f":"+'Energy Balance'!D103*(1+Growth!J$33)","v":0},null,"Losses",{"$f":"G73*H74","v":0},{"$f":"+'Energy Balance'!H103","v":1}]
[null,"    Industry - chemical",null,{"$f":"+'Energy Balance'!D104*(1+Growth!J$33)","v":0},null,"Fossil",{"$f":"SUM(G76:G79)","v":0},{"$f":"SUM(H76:H79)","v":4}]
[null,"    Industry - non metallic mineral",null,{"$f":"+'Energy Balance'!D105*(1+Growth!J$33)","v":0},null,"Lignite",{"$f":"G$73*H76","v":0},{"$f":"+'Energy Balance'!H105","v":1},{"$f":"+'Energy Balance'!I105","v":0}]
[null,"    Industry - food processing and beverage",null,{"$f":"+'Energy Balance'!D106*(1+Growth!J$33)","v":0},null,"Coal",{"$f":"G$73*H77","v":0},{"$f":"+'Energy Balance'!H106","v":1},{"$f":"+'Energy Balance'!I106","v":0}]
[null,"    Industry - construction",null,{"$f":"+'Energy Balance'!D107*(1+Growth!J$33)","v":0},null,"Oil",0,{"$f":"+'Energy Balance'!H107","v":1},{"$f":"+'Energy Balance'!I107","v":0}]
[null,"    Industry - mining",null,{"$f":"+'Energy Balance'!D108*(1+Growth!J$33)","v":0},null,"Natural Gas",0,{"$f":"+'Energy Balance'!H108","v":1},{"$f":"+'Energy Balance'!I108","v":0}]
[null,"    Industry - machinery",null,{"$f":"+'Energy Balance'!D109*(1+Growth!J$33)","v":0},null,"Nuclear",0,{"$f":"+'Energy Balance'!H109","v":1}]
[null,"    Industry - non ferrous metals",null,{"$f":"+'Energy Balance'!D110*(1+Growth!J$33)","v":0},null,"Net import",0,{"$f":"+'Energy Balance'!H110","v":1}]
[null,"    Industry - paper and pulp",null,{"$f":"+'Energy Balance'!D111*(1+Growth!J$33)","v":0},null,"Renewables",{"$f":"SUM(G83:G87)","v":0},{"$f":"SUM(H83:H87)","v":5}]
[null,"    Industry - transport equipment",null,{"$f":"+'Energy Balance'!D112*(1+Growth!J$33)","v":0},null,"Hydro",{"$f":"G$73*H83","v":0},{"$f":"+'Energy Balance'!H112","v":1}]
[null,"    Industry - textile and leather",null,{"$f":"+'Energy Balance'!D113*(1+Growth!J$33)","v":0},null,"Wind",{"$f":"G$73*H84","v":0},{"$f":"+'Energy Balance'!H113","v":1}]
[null,"    Industry - miscellaneous",null,{"$f":"+'Energy Balance'!D114*(1+Growth!J$33)","v":0},null,"Solar",{"$f":"G$73*H85","v":0},{"$f":"+'Energy Balance'!H114","v":1}]
[null,"    Transport - road",null,{"$f":"+'Energy Balance'!D115*(1+Growth!J$39)","v":0},null,"Biomass",{"$f":"G$73*H86","v":0},{"$f":"+'Energy Balance'!H115","v":1}]
[null,"    Transport - rail",null,{"$f":"+'Energy Balance'!D116*(1+Growth!J$39)","v":0},null,"Geothermal",{"$f":"G$73*H87","v":0},{"$f":"+'Energy Balance'!H116","v":1}]
[null,"    Transport - domestic air",null,{"$f":"+'Energy Balance'!D117*(1+Growth!J$39)","v":0}]
[null,"    Transport - navigation",null,{"$f":"+'Energy Balance'!D118*(1+Growth!J$39)","v":0}]
[null,"    Households",null,{"$f":"+'Energy Balance'!D119*(1+Growth!J44)","v":0}]
[null,"    Services",null,{"$f":"+'Energy Balance'!D120*(1+Growth!J47)","v":0}]
[null,"    Agriculture & Fishery",null,{"$f":"+'Energy Balance'!D121*(1+Growth!J50)","v":0}]
[null,"    Non energy - chemical feedstocs",null,{"$f":"+'Energy Balance'!D122*(1+Growth!J74)","v":0}]
[]
[]
[]
[]
[]
[]
[null,{"$f":"\"Fossil fuel balance - 2030 - \"&Assumptions!C9","v":"Fossil fuel balance - 2030 - "}]
[null,"TJ units",null,"LPG","Gasoline","Jet Fuel","Diesel","Fueloil","Kerosene and other","Total oil products","Coal","Lignite","Gas","Coke","Petrocoke","Total energy (fossil)"]
[null,"Unit",null,"TJ","TJ","TJ","TJ","TJ","TJ","TJ","TJ","TJ","TJ","TJ","TJ","TJ"]
[null,"Total",null,{"$f":"+D104+D105","v":0},0,0,0,0,0,0,0,0,0,0,0,{"$f":"SUM(J103:O103)","v":0}]
[null,"    Fossil power plants",null,{"$f":"D133/E127","v":0},0,0,0,0,0,{"$f":"SUM(D104:I104)","v":0},{"$f":"K133/L127","v":0},{"$f":"L133/M127","v":0},{"$f":"M133/N127","v":0},null,null,0]
[null,"FINAL CONSUMPTION",null,{"$f":"SUM(D106:D125)","v":0},0,0,0,0,0,0,0,0,0,0,0,0]
[null,"    Industry - steel",null,{"$f":"+'Energy Balance'!D21*(1+Growth!$K21)","v":0},{"$f":"+'Energy Balance'!E21*(1+Growth!$K21)","v":0},{"$f":"+'Energy Balance'!F21*(1+Growth!$K21)","v":0},{"$f":"+'Energy Balance'!G21*(1+Growth!$K21)","v":0},{"$f":"+'Energy Balance'!H21*(1+Growth!$K21)","v":0},{"$f":"+'Energy Balance'!I21*(1+Growth!$K21)","v":0},{"$f":"SUM(D106:I106)","v":0},{"$f":"+'Energy Balance'!K21*(1+Growth!$K21)","v":0},{"$f":"+'Energy Balance'!L21*(1+Growth!$K21)","v":0},{"$f":"+'Energy Balance'!M21*(1+Growth!$K21)","v":0},{"$f":"+'Energy Balance'!N21*(1+Growth!$K21)","v":0},{"$f":"+'Energy Balance'!O21*(1+Growth!$K21)","v":0},0]
[null,"    Industry - chemical",null,{"$f":"+'Energy Balance'!D22*(1+Growth!$K22)","v":0},{"$f":"+'Energy Balance'!E22*(1+Growth!$K22)","v":0},{"$f":"+'Energy Balance'!F22*(1+Growth!$K22)","v":0},{"$f":"+'Energy Balance'!G22*(1+Growth!$K22)","v":0},{"$f":"+'Energy Balance'!H22*(1+Growth!$K22)","v":0},{"$f":"+'Energy Balance'!I22*(1+Growth!$K22)","v":0},0,{"$f":"+'Energy Balance'!K22*(1+Growth!$K22)","v":0},{"$f":"+'Energy Balance'!L22*(1+Growth!$K22)","v":0},{"$f":"+'Energy Balance'!M22*(1+Growth!$K22)","v":0},{"$f":"+'Energy Balance'!N22*(1+Growth!$K22)","v":0},{"$f":"+'Energy Balance'!O22*(1+Growth!$K22)","v":0},0]
[null,"    Industry - non metallic mineral",null,{"$f":"+'Energy Balance'!D23*(1+Growth!$K23)","v":0},{"$f":"+'Energy Balance'!E23*(1+Growth!$K23)","v":0},{"$f":"+'Energy Balance'!F23*(1+Growth!$K23)","v":0},{"$f":"+'Energy Balance'!G23*(1+Growth!$K23)","v":0},{"$f":"+'Energy Balance'!H23*(1+Growth!$K23)","v":0},{"$f":"+'Energy Balance'!I23*(1+Growth!$K23)","v":0},0,{"$f":"+'Energy Balance'!K23*(1+Growth!$K23)","v":0},{"$f":"+'Energy Balance'!L23*(1+Growth!$K23)","v":0},{"$f":"+'Energy Balance'!M23*(1+Growth!$K23)","v":0},{"$f":"+'Energy Balance'!N23*(1+Growth!$K23)","v":0},{"$f":"+'Energy Balance'!O23*(1+Growth!$K23)","v":0},0]
[null,"    Industry - food processing and beverage",null,{"$f":"+'Energy Balance'!D24*(1+Growth!$K24)","v":0},{"$f":"+'Energy Balance'!E24*(1+Growth!$K24)","v":0},{"$f":"+'Energy Balance'!F24*(1+Growth!$K24)","v":0},{"$f":"+'Energy Balance'!G24*(1+Growth!$K24)","v":0},{"$f":"+'Energy Balance'!H24*(1+Growth!$K24)","v":0},{"$f":"+'Energy Balance'!I24*(1+Growth!$K24)","v":0},0,{"$f":"+'Energy Balance'!K24*(1+Growth!$K24)","v":0},{"$f":"+'Energy Balance'!L24*(1+Growth!$K24)","v":0},{"$f":"+'Energy Balance'!M24*(1+Growth!$K24)","v":0},{"$f":"+'Energy Balance'!N24*(1+Growth!$K24)","v":0},{"$f":"+'Energy Balance'!O24*(1+Growth!$K24)","v":0},0]
[null,"    Industry - construction",null,{"$f":"+'Energy Balance'!D25*(1+Growth!$K25)","v":0},{"$f":"+'Energy Balance'!E25*(1+Growth!$K25)","v":0},{"$f":"+'Energy Balance'!F25*(1+Growth!$K25)","v":0},{"$f":"+'Energy Balance'!G25*(1+Growth!$K25)","v":0},{"$f":"+'Energy Balance'!H25*(1+Growth!$K25)","v":0},{"$f":"+'Energy Balance'!I25*(1+Growth!$K25)","v":0},0,{"$f":"+'Energy Balance'!K25*(1+Growth!$K25)","v":0},{"$f":"+'Energy Balance'!L25*(1+Growth!$K25)","v":0},{"$f":"+'Energy Balance'!M25*(1+Growth!$K25)","v":0},{"$f":"+'Energy Balance'!N25*(1+Growth!$K25)","v":0},{"$f":"+'Energy Balance'!O25*(1+Growth!$K25)","v":0},0]
[null,"    Industry - mining",null,{"$f":"+'Energy Balance'!D26*(1+Growth!$K26)","v":0},{"$f":"+'Energy Balance'!E26*(1+Growth!$K26)","v":0},{"$f":"+'Energy Balance'!F26*(1+Growth!$K26)","v":0},{"$f":"+'Energy Balance'!G26*(1+Growth!$K26)","v":0},{"$f":"+'Energy Balance'!H26*(1+Growth!$K26)","v":0},{"$f":"+'Energy Balance'!I26*(1+Growth!$K26)","v":0},0,{"$f":"+'Energy Balance'!K26*(1+Growth!$K26)","v":0},{"$f":"+'Energy Balance'!L26*(1+Growth!$K26)","v":0},{"$f":"+'Energy Balance'!M26*(1+Growth!$K26)","v":0},{"$f":"+'Energy Balance'!N26*(1+Growth!$K26)","v":0},{"$f":"+'Energy Balance'!O26*(1+Growth!$K26)","v":0},0]
[null,"    Industry - machinery",null,{"$f":"+'Energy Balance'!D27*(1+Growth!$K27)","v":0},{"$f":"+'Energy Balance'!E27*(1+Growth!$K27)","v":0},{"$f":"+'Energy Balance'!F27*(1+Growth!$K27)","v":0},{"$f":"+'Energy Balance'!G27*(1+Growth!$K27)","v":0},{"$f":"+'Energy Balance'!H27*(1+Growth!$K27)","v":0},{"$f":"+'Energy Balance'!I27*(1+Growth!$K27)","v":0},0,{"$f":"+'Energy Balance'!K27*(1+Growth!$K27)","v":0},{"$f":"+'Energy Balance'!L27*(1+Growth!$K27)","v":0},{"$f":"+'Energy Balance'!M27*(1+Growth!$K27)","v":0},{"$f":"+'Energy Balance'!N27*(1+Growth!$K27)","v":0},{"$f":"+'Energy Balance'!O27*(1+Growth!$K27)","v":0},0]
[null,"    Industry - non ferrous metals",null,{"$f":"+'Energy Balance'!D28*(1+Growth!$K28)","v":0},{"$f":"+'Energy Balance'!E28*(1+Growth!$K28)","v":0},{"$f":"+'Energy Balance'!F28*(1+Growth!$K28)","v":0},{"$f":"+'Energy Balance'!G28*(1+Growth!$K28)","v":0},{"$f":"+'Energy Balance'!H28*(1+Growth!$K28)","v":0},{"$f":"+'Energy Balance'!I28*(1+Growth!$K28)","v":0},0,{"$f":"+'Energy Balance'!K28*(1+Growth!$K28)","v":0},{"$f":"+'Energy Balance'!L28*(1+Growth!$K28)","v":0},{"$f":"+'Energy Balance'!M28*(1+Growth!$K28)","v":0},{"$f":"+'Energy Balance'!N28*(1+Growth!$K28)","v":0},{"$f":"+'Energy Balance'!O28*(1+Growth!$K28)","v":0},0]
[null,"    Industry - paper and pulp",null,{"$f":"+'Energy Balance'!D29*(1+Growth!$K29)","v":0},{"$f":"+'Energy Balance'!E29*(1+Growth!$K29)","v":0},{"$f":"+'Energy Balance'!F29*(1+Growth!$K29)","v":0},{"$f":"+'Energy Balance'!G29*(1+Growth!$K29)","v":0},{"$f":"+'Energy Balance'!H29*(1+Growth!$K29)","v":0},{"$f":"+'Energy Balance'!I29*(1+Growth!$K29)","v":0},0,{"$f":"+'Energy Balance'!K29*(1+Growth!$K29)","v":0},{"$f":"+'Energy Balance'!L29*(1+Growth!$K29)","v":0},{"$f":"+'Energy Balance'!M29*(1+Growth!$K29)","v":0},{"$f":"+'Energy Balance'!N29*(1+Growth!$K29)","v":0},{"$f":"+'Energy Balance'!O29*(1+Growth!$K29)","v":0},0]
[null,"    Industry - transport equipment",null,{"$f":"+'Energy Balance'!D30*(1+Growth!$K30)","v":0},{"$f":"+'Energy Balance'!E30*(1+Growth!$K30)","v":0},{"$f":"+'Energy Balance'!F30*(1+Growth!$K30)","v":0},{"$f":"+'Energy Balance'!G30*(1+Growth!$K30)","v":0},{"$f":"+'Energy Balance'!H30*(1+Growth!$K30)","v":0},{"$f":"+'Energy Balance'!I30*(1+Growth!$K30)","v":0},0,{"$f":"+'Energy Balance'!K30*(1+Growth!$K30)","v":0},{"$f":"+'Energy Balance'!L30*(1+Growth!$K30)","v":0},{"$f":"+'Energy Balance'!M30*(1+Growth!$K30)","v":0},{"$f":"+'Energy Balance'!N30*(1+Growth!$K30)","v":0},{"$f":"+'Energy Balance'!O30*(1+Growth!$K30)","v":0},0]
[null,"    Industry - textile and leather",null,{"$f":"+'Energy Balance'!D31*(1+Growth!$K31)","v":0},{"$f":"+'Energy Balance'!E31*(1+Growth!$K31)","v":0},{"$f":"+'Energy Balance'!F31*(1+Growth!$K31)","v":0},{"$f":"+'Energy Balance'!G31*(1+Growth!$K31)","v":0},{"$f":"+'Energy Balance'!H31*(1+Growth!$K31)","v":0},{"$f":"+'Energy Balance'!I31*(1+Growth!$K31)","v":0},0,{"$f":"+'Energy Balance'!K31*(1+Growth!$K31)","v":0},{"$f":"+'Energy Balance'!L31*(1+Growth!$K31)","v":0},{"$f":"+'Energy Balance'!M31*(1+Growth!$K31)","v":0},{"$f":"+'Energy Balance'!N31*(1+Growth!$K31)","v":0},{"$f":"+'Energy Balance'!O31*(1+Growth!$K31)","v":0},0]
[null,"    Industry - miscellaneous",null,{"$f":"+'Energy Balance'!D32*(1+Growth!$K32)","v":0},{"$f":"+'Energy Balance'!E32*(1+Growth!$K32)","v":0},{"$f":"+'Energy Balance'!F32*(1+Growth!$K32)","v":0},{"$f":"+'Energy Balance'!G32*(1+Growth!$K32)","v":0},{"$f":"+'Energy Balance'!H32*(1+Growth!$K32)","v":0},{"$f":"+'Energy Balance'!I32*(1+Growth!$K32)","v":0},0,{"$f":"+'Energy Balance'!K32*(1+Growth!$K32)","v":0},{"$f":"+'Energy Balance'!L32*(1+Growth!$K32)","v":0},{"$f":"+'Energy Balance'!M32*(1+Growth!$K32)","v":0},{"$f":"+'Energy Balance'!N32*(1+Growth!$K32)","v":0},{"$f":"+'Energy Balance'!O32*(1+Growth!$K32)","v":0},0]
[null,"    Transport - road",null,{"$f":"+'Energy Balance'!D33*(1+Growth!$K35)","v":0},{"$f":"+'Energy Balance'!E33*(1+Growth!$K35)","v":0},{"$f":"+'Energy Balance'!F33*(1+Growth!$K35)","v":0},{"$f":"+'Energy Balance'!G33*(1+Growth!$K35)","v":0},{"$f":"+'Energy Balance'!H33*(1+Growth!$K35)","v":0},{"$f":"+'Energy Balance'!I33*(1+Growth!$K35)","v":0},0,{"$f":"+'Energy Balance'!K33*(1+Growth!$K35)","v":0},{"$f":"+'Energy Balance'!L33*(1+Growth!$K35)","v":0},{"$f":"+'Energy Balance'!M33*(1+Growth!$K35)","v":0},{"$f":"+'Energy Balance'!N33*(1+Growth!$K35)","v":0},{"$f":"+'Energy Balance'!O33*(1+Growth!$K35)","v":0},0]
[null,"    Transport - rail",null,{"$f":"+'Energy Balance'!D34*(1+Growth!$K36)","v":0},{"$f":"+'Energy Balance'!E34*(1+Growth!$K36)","v":0},{"$f":"+'Energy Balance'!F34*(1+Growth!$K36)","v":0},{"$f":"+'Energy Balance'!G34*(1+Growth!$K36)","v":0},{"$f":"+'Energy Balance'!H34*(1+Growth!$K36)","v":0},{"$f":"+'Energy Balance'!I34*(1+Growth!$K36)","v":0},0,{"$f":"+'Energy Balance'!K34*(1+Growth!$K36)","v":0},{"$f":"+'Energy Balance'!L34*(1+Growth!$K36)","v":0},{"$f":"+'Energy Balance'!M34*(1+Growth!$K36)","v":0},{"$f":"+'Energy Balance'!N34*(1+Growth!$K36)","v":0},{"$f":"+'Energy Balance'!O34*(1+Growth!$K36)","v":0},0]
[null,"    Transport - domestic air",null,{"$f":"+'Energy Balance'!D35*(1+Growth!$K37)","v":0},{"$f":"+'Energy Balance'!E35*(1+Growth!$K37)","v":0},{"$f":"+'Energy Balance'!F35*(1+Growth!$K37)","v":0},{"$f":"+'Energy Balance'!G35*(1+Growth!$K37)","v":0},{"$f":"+'Energy Balance'!H35*(1+Growth!$K37)","v":0},{"$f":"+'Energy Balance'!I35*(1+Growth!$K37)","v":0},0,{"$f":"+'Energy Balance'!K35*(1+Growth!$K37)","v":0},{"$f":"+'Energy Balance'!L35*(1+Growth!$K37)","v":0},{"$f":"+'Energy Balance'!M35*(1+Growth!$K37)","v":0},{"$f":"+'Energy Balance'!N35*(1+Growth!$K37)","v":0},{"$f":"+'Energy Balance'!O35*(1+Growth!$K37)","v":0},0]
[null,"    Transport - navigation",null,{"$f":"+'Energy Balance'!D36*(1+Growth!$K38)","v":0},{"$f":"+'Energy Balance'!E36*(1+Growth!$K38)","v":0},{"$f":"+'Energy Balance'!F36*(1+Growth!$K38)","v":0},{"$f":"+'Energy Balance'!G36*(1+Growth!$K38)","v":0},{"$f":"+'Energy Balance'!H36*(1+Growth!$K38)","v":0},{"$f":"+'Energy Balance'!I36*(1+Growth!$K38)","v":0},0,{"$f":"+'Energy Balance'!K36*(1+Growth!$K38)","v":0},{"$f":"+'Energy Balance'!L36*(1+Growth!$K38)","v":0},{"$f":"+'Energy Balance'!M36*(1+Growth!$K38)","v":0},{"$f":"+'Energy Balance'!N36*(1+Growth!$K38)","v":0},{"$f":"+'Energy Balance'!O36*(1+Growth!$K38)","v":0},0]
[null,"    Households",null,{"$f":"+'Energy Balance'!D37*(1+Growth!$K42)","v":0},{"$f":"+'Energy Balance'!E37*(1+Growth!$K42)","v":0},{"$f":"+'Energy Balance'!F37*(1+Growth!$K42)","v":0},{"$f":"+'Energy Balance'!G37*(1+Growth!$K42)","v":0},{"$f":"+'Energy Balance'!H37*(1+Growth!$K42)","v":0},{"$f":"+'Energy Balance'!I37*(1+Growth!$K43)","v":0},0,{"$f":"+'Energy Balance'!K37*(1+Growth!$K42)","v":0},{"$f":"+'Energy Balance'!L37*(1+Growth!$K42)","v":0},{"$f":"+'Energy Balance'!M37*(1+Growth!$K42)","v":0},{"$f":"+'Energy Balance'!N37*(1+Growth!$K42)","v":0},{"$f":"+'Energy Balance'!O37*(1+Growth!$K42)","v":0},0]
[null,"    Services",null,{"$f":"+'Energy Balance'!D38*(1+Growth!$K46)","v":0},{"$f":"+'Energy Balance'!E38*(1+Growth!$K46)","v":0},{"$f":"+'Energy Balance'!F38*(1+Growth!$K46)","v":0},{"$f":"+'Energy Balance'!G38*(1+Growth!$K46)","v":0},{"$f":"+'Energy Balance'!H38*(1+Growth!$K46)","v":0},{"$f":"+'Energy Balance'!I38*(1+Growth!$K46)","v":0},0,{"$f":"+'Energy Balance'!K38*(1+Growth!$K46)","v":0},{"$f":"+'Energy Balance'!L38*(1+Growth!$K46)","v":0},{"$f":"+'Energy Balance'!M38*(1+Growth!$K46)","v":0},{"$f":"+'Energy Balance'!N38*(1+Growth!$K46)","v":0},{"$f":"+'Energy Balance'!O38*(1+Growth!$K46)","v":0},0]
[null,"    Agriculture & Fishery",null,{"$f":"+'Energy Balance'!D39*(1+Growth!$K49)","v":0},{"$f":"+'Energy Balance'!E39*(1+Growth!$K49)","v":0},{"$f":"+'Energy Balance'!F39*(1+Growth!$K49)","v":0},{"$f":"+'Energy Balance'!G39*(1+Growth!$K49)","v":0},{"$f":"+'Energy Balance'!H39*(1+Growth!$K49)","v":0},{"$f":"+'Energy Balance'!I39*(1+Growth!$K49)","v":0},0,{"$f":"+'Energy Balance'!K39*(1+Growth!$K49)","v":0},{"$f":"+'Energy Balance'!L39*(1+Growth!$K49)","v":0},{"$f":"+'Energy Balance'!M39*(1+Growth!$K49)","v":0},{"$f":"+'Energy Balance'!N39*(1+Growth!$K49)","v":0},{"$f":"+'Energy Balance'!O39*(1+Growth!$K49)","v":0},0]
[null,"    Non energy uses",null,{"$f":"+'Energy Balance'!D40*(1+Growth!$K74)","v":0},{"$f":"+'Energy Balance'!E40*(1+Growth!$K74)","v":0},{"$f":"+'Energy Balance'!F40*(1+Growth!$K74)","v":0},{"$f":"+'Energy Balance'!G40*(1+Growth!$K74)","v":0},{"$f":"+'Energy Balance'!H40*(1+Growth!$K74)","v":0},{"$f":"+'Energy Balance'!I40*(1+Growth!$K74)","v":0},0,{"$f":"+'Energy Balance'!K40*(1+Growth!$K74)","v":0},{"$f":"+'Energy Balance'!L40*(1+Growth!$K74)","v":0},{"$f":"+'Energy Balance'!M40*(1+Growth!$K74)","v":0},{"$f":"+'Energy Balance'!N40*(1+Growth!$K74)","v":0},{"$f":"+'Energy Balance'!O40*(1+Growth!$K74)","v":0},0]
[]
[null,null,null,null,2.3884589662749593E-2,2.3884589662749593E-2,2.3884589662749593E-2,2.3884589662749593E-2,2.3884589662749593E-2,2.3884589662749593E-2,null,2.3884589662749593E-2,2.3884589662749593E-2,2.3884589662749593E-2,2.3884589662749593E-2,2.3884589662749593E-2]
[]
[null,{"$f":"\"Fossil fuel balance - 2030 - \"&Assumptions!C9","v":"Fossil fuel balance - 2030 - "}]
[null,"ktoe units",null,"LPG","Gasoline","Jet Fuel","Diesel","Fueloil","Kerosene and other","Total oil products","Coal","Lignite","Gas","Coke","Petrocoke","Total"]
[null,"Unit",null,"ktoe","ktoe","ktoe","ktoe","ktoe","ktoe","ktoe","ktoe","ktoe","ktoe","ktoe","ktoe","ktoe"]
[null,"Total consumption",null,{"$f":"+D133+D134","v":0},0,0,0,0,0,0,0,0,0,0,0,0]
[null,"    Fossil power plants",null,{"$f":"IFERROR(IF($G161=0,0,$J133*IF('Energy Balance'!$J76>0,'Energy Balance'!D76/'Energy Balance'!$J76,0)),0)","v":0},{"$f":"IFERROR(IF($G161=0,0,$J133*IF('Energy Balance'!$J76>0,'Energy Balance'!E76/'Energy Balance'!$J76,0)),0)","v":0},{"$f":"IFERROR(IF($G161=0,0,$J133*IF('Energy Balance'!$J76>0,'Energy Balance'!F76/'Energy Balance'!$J76,0)),0)","v":0},{"$f":"IFERROR(IF($G161=0,0,$J133*IF('Energy Balance'!$J76>0,'Energy Balance'!G76/'Energy Balance'!$J76,0)),0)","v":0},{"$f":"IFERROR(IF($G161=0,0,$J133*IF('Energy Balance'!$J76>0,'Energy Balance'!H76/'Energy Balance'!$J76,0)),0)","v":0},{"$f":"IFERROR(IF($G161=0,0,$J133*IF('Energy Balance'!$J76>0,'Energy Balance'!I76/'Energy Balance'!$J76,0)),0)","v":0},{"$f":"IFERROR(IF(G161=0,0,G164/11.63/I164),0)","v":0},{"$f":"IF(I163>0,G163/11.63/I163,0)","v":0},{"$f":"IF(I162>0,G162/11.63/I162,0)","v":0},{"$f":"IF(I165>0,G165/11.63/I165,0)","v":0},null,null,{"$f":"SUM(J133:O133)","v":0}]
[null,"FINAL CONSUMPTION",null,{"$f":"SUM(D135:D154)","v":0},0,0,0,0,0,{"$f":"SUM(D134:I134)","v":0},{"$f":"SUM(K135:K154)","v":0},0,0,0,0,0]
[null,"    Industry - steel",null,{"$f":"+'Energy Balance'!D78*(1+Growth!$K21)","v":0},{"$f":"+'Energy Balance'!E78*(1+Growth!$K21)","v":0},{"$f":"+'Energy Balance'!F78*(1+Growth!$K21)","v":0},{"$f":"+'Energy Balance'!G78*(1+Growth!$K21)","v":0},{"$f":"+'Energy Balance'!H78*(1+Growth!$K21)","v":0},{"$f":"+'Energy Balance'!I78*(1+Growth!$K21)","v":0},0,{"$f":"+'Energy Balance'!K78*(1+Growth!$K21)","v":0},{"$f":"+'Energy Balance'!L78*(1+Growth!$K21)","v":0},{"$f":"+'Energy Balance'!M78*(1+Growth!$K21)","v":0},{"$f":"+'Energy Balance'!N78*(1+Growth!$K21)","v":0},{"$f":"+'Energy Balance'!O78*(1+Growth!$K21)","v":0},{"$f":"SUM(J135:O135)","v":0}]
[null,"    Industry - chemical",null,{"$f":"+'Energy Balance'!D79*(1+Growth!$K22)","v":0},{"$f":"+'Energy Balance'!E79*(1+Growth!$K22)","v":0},{"$f":"+'Energy Balance'!F79*(1+Growth!$K22)","v":0},{"$f":"+'Energy Balance'!G79*(1+Growth!$K22)","v":0},{"$f":"+'Energy Balance'!H79*(1+Growth!$K22)","v":0},{"$f":"+'Energy Balance'!I79*(1+Growth!$K22)","v":0},0,{"$f":"+'Energy Balance'!K79*(1+Growth!$K22)","v":0},{"$f":"+'Energy Balance'!L79*(1+Growth!$K22)","v":0},{"$f":"+'Energy Balance'!M79*(1+Growth!$K22)","v":0},{"$f":"+'Energy Balance'!N79*(1+Growth!$K22)","v":0},{"$f":"+'Energy Balance'!O79*(1+Growth!$K22)","v":0},0]
[null,"    Industry - non metallic mineral",null,{"$f":"+'Energy Balance'!D80*(1+Growth!$K23)","v":0},{"$f":"+'Energy Balance'!E80*(1+Growth!$K23)","v":0},{"$f":"+'Energy Balance'!F80*(1+Growth!$K23)","v":0},{"$f":"+'Energy Balance'!G80*(1+Growth!$K23)","v":0},{"$f":"+'Energy Balance'!H80*(1+Growth!$K23)","v":0},{"$f":"+'Energy Balance'!I80*(1+Growth!$K23)","v":0},0,{"$f":"+'Energy Balance'!K80*(1+Growth!$K23)","v":0},{"$f":"+'Energy Balance'!L80*(1+Growth!$K23)","v":0},{"$f":"+'Energy Balance'!M80*(1+Growth!$K23)","v":0},{"$f":"+'Energy Balance'!N80*(1+Growth!$K23)","v":0},{"$f":"+'Energy Balance'!O80*(1+Growth!$K23)","v":0},0]
[null,"    Industry - food processing and beverage",null,{"$f":"+'Energy Balance'!D81*(1+Growth!$K24)","v":0},{"$f":"+'Energy Balance'!E81*(1+Growth!$K24)","v":0},{"$f":"+'Energy Balance'!F81*(1+Growth!$K24)","v":0},{"$f":"+'Energy Balance'!G81*(1+Growth!$K24)","v":0},{"$f":"+'Energy Balance'!H81*(1+Growth!$K24)","v":0},{"$f":"+'Energy Balance'!I81*(1+Growth!$K24)","v":0},0,{"$f":"+'Energy Balance'!K81*(1+Growth!$K24)","v":0},{"$f":"+'Energy Balance'!L81*(1+Growth!$K24)","v":0},{"$f":"+'Energy Balance'!M81*(1+Growth!$K24)","v":0},{"$f":"+'Energy Balance'!N81*(1+Growth!$K24)","v":0},{"$f":"+'Energy Balance'!O81*(1+Growth!$K24)","v":0},0]
[null,"    Industry - construction",null,{"$f":"+'Energy Balance'!D82*(1+Growth!$K25)","v":0},{"$f":"+'Energy Balance'!E82*(1+Growth!$K25)","v":0},{"$f":"+'Energy Balance'!F82*(1+Growth!$K25)","v":0},{"$f":"+'Energy Balance'!G82*(1+Growth!$K25)","v":0},{"$f":"+'Energy Balance'!H82*(1+Growth!$K25)","v":0},{"$f":"+'Energy Balance'!I82*(1+Growth!$K25)","v":0},0,{"$f":"+'Energy Balance'!K82*(1+Growth!$K25)","v":0},{"$f":"+'Energy Balance'!L82*(1+Growth!$K25)","v":0},{"$f":"+'Energy Balance'!M82*(1+Growth!$K25)","v":0},{"$f":"+'Energy Balance'!N82*(1+Growth!$K25)","v":0},{"$f":"+'Energy Balance'!O82*(1+Growth!$K25)","v":0},0]
[null,"    Industry - mining",null,{"$f":"+'Energy Balance'!D83*(1+Growth!$K26)","v":0},{"$f":"+'Energy Balance'!E83*(1+Growth!$K26)","v":0},{"$f":"+'Energy Balance'!F83*(1+Growth!$K26)","v":0},{"$f":"+'Energy Balance'!G83*(1+Growth!$K26)","v":0},{"$f":"+'Energy Balance'!H83*(1+Growth!$K26)","v":0},{"$f":"+'Energy Balance'!I83*(1+Growth!$K26)","v":0},0,{"$f":"+'Energy Balance'!K83*(1+Growth!$K26)","v":0},{"$f":"+'Energy Balance'!L83*(1+Growth!$K26)","v":0},{"$f":"+'Energy Balance'!M83*(1+Growth!$K26)","v":0},{"$f":"+'Energy Balance'!N83*(1+Growth!$K26)","v":0},{"$f":"+'Energy Balance'!O83*(1+Growth!$K26)","v":0},0]
[null,"    Industry - machinery",null,{"$f":"+'Energy Balance'!D84*(1+Growth!$K27)","v":0},{"$f":"+'Energy Balance'!E84*(1+Growth!$K27)","v":0},{"$f":"+'Energy Balance'!F84*(1+Growth!$K27)","v":0},{"$f":"+'Energy Balance'!G84*(1+Growth!$K27)","v":0},{"$f":"+'Energy Balance'!H84*(1+Growth!$K27)","v":0},{"$f":"+'Energy Balance'!I84*(1+Growth!$K27)","v":0},0,{"$f":"+'Energy Balance'!K84*(1+Growth!$K27)","v":0},{"$f":"+'Energy Balance'!L84*(1+Growth!$K27)","v":0},{"$f":"+'Energy Balance'!M84*(1+Growth!$K27)","v":0},{"$f":"+'Energy Balance'!N84*(1+Growth!$K27)","v":0},{"$f":"+'Energy Balance'!O84*(1+Growth!$K27)","v":0},0]
[null,"    Industry - non ferrous metals",null,{"$f":"+'Energy Balance'!D85*(1+Growth!$K28)","v":0},{"$f":"+'Energy Balance'!E85*(1+Growth!$K28)","v":0},{"$f":"+'Energy Balance'!F85*(1+Growth!$K28)","v":0},{"$f":"+'Energy Balance'!G85*(1+Growth!$K28)","v":0},{"$f":"+'Energy Balance'!H85*(1+Growth!$K28)","v":0},{"$f":"+'Energy Balance'!I85*(1+Growth!$K28)","v":0},0,{"$f":"+'Energy Balance'!K85*(1+Growth!$K28)","v":0},{"$f":"+'Energy Balance'!L85*(1+Growth!$K28)","v":0},{"$f":"+'Energy Balance'!M85*(1+Growth!$K28)","v":0},{"$f":"+'Energy Balance'!N85*(1+Growth!$K28)","v":0},{"$f":"+'Energy Balance'!O85*(1+Growth!$K28)","v":0},0]
[null,"    Industry - paper and pulp",null,{"$f":"+'Energy Balance'!D86*(1+Growth!$K29)","v":0},{"$f":"+'Energy Balance'!E86*(1+Growth!$K29)","v":0},{"$f":"+'Energy Balance'!F86*(1+Growth!$K29)","v":0},{"$f":"+'Energy Balance'!G86*(1+Growth!$K29)","v":0},{"$f":"+'Energy Balance'!H86*(1+Growth!$K29)","v":0},{"$f":"+'Energy Balance'!I86*(1+Growth!$K29)","v":0},0,{"$f":"+'Energy Balance'!K86*(1+Growth!$K29)","v":0},{"$f":"+'Energy Balance'!L86*(1+Growth!$K29)","v":0},{"$f":"+'Energy Balance'!M86*(1+Growth!$K29)","v":0},{"$f":"+'Energy Balance'!N86*(1+Growth!$K29)","v":0},{"$f":"+'Energy Balance'!O86*(1+Growth!$K29)","v":0},0]
[null,"    Industry - transport equipment",null,{"$f":"+'Energy Balance'!D87*(1+Growth!$K30)","v":0},{"$f":"+'Energy Balance'!E87*(1+Growth!$K30)","v":0},{"$f":"+'Energy Balance'!F87*(1+Growth!$K30)","v":0},{"$f":"+'Energy Balance'!G87*(1+Growth!$K30)","v":0},{"$f":"+'Energy Balance'!H87*(1+Growth!$K30)","v":0},{"$f":"+'Energy Balance'!I87*(1+Growth!$K30)","v":0},0,{"$f":"+'Energy Balance'!K87*(1+Growth!$K30)","v":0},{"$f":"+'Energy Balance'!L87*(1+Growth!$K30)","v":0},{"$f":"+'Energy Balance'!M87*(1+Growth!$K30)","v":0},{"$f":"+'Energy Balance'!N87*(1+Growth!$K30)","v":0},{"$f":"+'Energy Balance'!O87*(1+Growth!$K30)","v":0},0]
[null,"    Industry - textile and leather",null,{"$f":"+'Energy Balance'!D88*(1+Growth!$K31)","v":0},{"$f":"+'Energy Balance'!E88*(1+Growth!$K31)","v":0},{"$f":"+'Energy Balance'!F88*(1+Growth!$K31)","v":0},{"$f":"+'Energy Balance'!G88*(1+Growth!$K31)","v":0},{"$f":"+'Energy Balance'!H88*(1+Growth!$K31)","v":0},{"$f":"+'Energy Balance'!I88*(1+Growth!$K31)","v":0},0,{"$f":"+'Energy Balance'!K88*(1+Growth!$K31)","v":0},{"$f":"+'Energy Balance'!L88*(1+Growth!$K31)","v":0},{"$f":"+'Energy Balance'!M88*(1+Growth!$K31)","v":0},{"$f":"+'Energy Balance'!N88*(1+Growth!$K31)","v":0},{"$f":"+'Energy Balance'!O88*(1+Growth!$K31)","v":0},0]
[null,"    Industry - miscellaneous",null,{"$f":"+'Energy Balance'!D89*(1+Growth!$K32)","v":0},{"$f":"+'Energy Balance'!E89*(1+Growth!$K32)","v":0},{"$f":"+'Energy Balance'!F89*(1+Growth!$K32)","v":0},{"$f":"+'Energy Balance'!G89*(1+Growth!$K32)","v":0},{"$f":"+'Energy Balance'!H89*(1+Growth!$K32)","v":0},{"$f":"+'Energy Balance'!I89*(1+Growth!$K32)","v":0},0,{"$f":"+'Energy Balance'!K89*(1+Growth!$K32)","v":0},{"$f":"+'Energy Balance'!L89*(1+Growth!$K32)","v":0},{"$f":"+'Energy Balance'!M89*(1+Growth!$K32)","v":0},{"$f":"+'Energy Balance'!N89*(1+Growth!$K32)","v":0},{"$f":"+'Energy Balance'!O89*(1+Growth!$K32)","v":0},0]
[null,"    Transport - road",null,{"$f":"+'Energy Balance'!D90*(1+Growth!$K35)","v":0},{"$f":"+'Energy Balance'!E90*(1+Growth!$K35)","v":0},{"$f":"+'Energy Balance'!F90*(1+Growth!$K35)","v":0},{"$f":"+'Energy Balance'!G90*(1+Growth!$K35)","v":0},{"$f":"+'Energy Balance'!H90*(1+Growth!$K35)","v":0},{"$f":"+'Energy Balance'!I90*(1+Growth!$K35)","v":0},0,{"$f":"+'Energy Balance'!K90*(1+Growth!$K35)","v":0},{"$f":"+'Energy Balance'!L90*(1+Growth!$K35)","v":0},{"$f":"+'Energy Balance'!M90*(1+Growth!$K35)","v":0},{"$f":"+'Energy Balance'!N90*(1+Growth!$K35)","v":0},{"$f":"+'Energy Balance'!O90*(1+Growth!$K35)","v":0},0]
[null,"    Transport - rail",null,{"$f":"+'Energy Balance'!D91*(1+Growth!$K36)","v":0},{"$f":"+'Energy Balance'!E91*(1+Growth!$K36)","v":0},{"$f":"+'Energy Balance'!F91*(1+Growth!$K36)","v":0},{"$f":"+'Energy Balance'!G91*(1+Growth!$K36)","v":0},{"$f":"+'Energy Balance'!H91*(1+Growth!$K36)","v":0},{"$f":"+'Energy Balance'!I91*(1+Growth!$K36)","v":0},0,{"$f":"+'Energy Balance'!K91*(1+Growth!$K36)","v":0},{"$f":"+'Energy Balance'!L91*(1+Growth!$K36)","v":0},{"$f":"+'Energy Balance'!M91*(1+Growth!$K36)","v":0},{"$f":"+'Energy Balance'!N91*(1+Growth!$K36)","v":0},{"$f":"+'Energy Balance'!O91*(1+Growth!$K36)","v":0},0]
[null,"    Transport - domestic air",null,{"$f":"+'Energy Balance'!D92*(1+Growth!$K37)","v":0},{"$f":"+'Energy Balance'!E92*(1+Growth!$K37)","v":0},{"$f":"+'Energy Balance'!F92*(1+Growth!$K37)","v":0},{"$f":"+'Energy Balance'!G92*(1+Growth!$K37)","v":0},{"$f":"+'Energy Balance'!H92*(1+Growth!$K37)","v":0},{"$f":"+'Energy Balance'!I92*(1+Growth!$K37)","v":0},0,{"$f":"+'Energy Balance'!K92*(1+Growth!$K37)","v":0},{"$f":"+'Energy Balance'!L92*(1+Growth!$K37)","v":0},{"$f":"+'Energy Balance'!M92*(1+Growth!$K37)","v":0},{"$f":"+'Energy Balance'!N92*(1+Growth!$K37)","v":0},{"$f":"+'Energy Balance'!O92*(1+Growth!$K37)","v":0},0]
[null,"    Transport - navigation",null,{"$f":"+'Energy Balance'!D93*(1+Growth!$K38)","v":0},{"$f":"+'Energy Balance'!E93*(1+Growth!$K38)","v":0},{"$f":"+'Energy Balance'!F93*(1+Growth!$K38)","v":0},{"$f":"+'Energy Balance'!G93*(1+Growth!$K38)","v":0},{"$f":"+'Energy Balance'!H93*(1+Growth!$K38)","v":0},{"$f":"+'Energy Balance'!I93*(1+Growth!$K38)","v":0},0,{"$f":"+'Energy Balance'!K93*(1+Growth!$K38)","v":0},{"$f":"+'Energy Balance'!L93*(1+Growth!$K38)","v":0},{"$f":"+'Energy Balance'!M93*(1+Growth!$K38)","v":0},{"$f":"+'Energy Balance'!N93*(1+Growth!$K38)","v":0},{"$f":"+'Energy Balance'!O93*(1+Growth!$K38)","v":0},0]
[null,"    Households",null,{"$f":"+'Energy Balance'!D94*(1+Growth!$K42)","v":0},{"$f":"+'Energy Balance'!E94*(1+Growth!$K42)","v":0},{"$f":"+'Energy Balance'!F94*(1+Growth!$K42)","v":0},{"$f":"+'Energy Balance'!G94*(1+Growth!$K42)","v":0},{"$f":"+'Energy Balance'!H94*(1+Growth!$K42)","v":0},{"$f":"+'Energy Balance'!I94*(1+Growth!$K43)","v":0},0,{"$f":"+'Energy Balance'!K94*(1+Growth!$K42)","v":0},{"$f":"+'Energy Balance'!L94*(1+Growth!$K42)","v":0},{"$f":"+'Energy Balance'!M94*(1+Growth!$K42)","v":0},{"$f":"+'Energy Balance'!N94*(1+Growth!$K42)","v":0},{"$f":"+'Energy Balance'!O94*(1+Growth!$K42)","v":0},0]
[null,"    Services",null,{"$f":"+'Energy Balance'!D95*(1+Growth!$K46)","v":0},{"$f":"+'Energy Balance'!E95*(1+Growth!$K46)","v":0},{"$f":"+'Energy Balance'!F95*(1+Growth!$K46)","v":0},{"$f":"+'Energy Balance'!G95*(1+Growth!$K46)","v":0},{"$f":"+'Energy Balance'!H95*(1+Growth!$K46)","v":0},{"$f":"+'Energy Balance'!I95*(1+Growth!$K46)","v":0},0,{"$f":"+'Energy Balance'!K95*(1+Growth!$K46)","v":0},{"$f":"+'Energy Balance'!L95*(1+Growth!$K46)","v":0},{"$f":"+'Energy Balance'!M95*(1+Growth!$K46)","v":0},{"$f":"+'Energy Balance'!N95*(1+Growth!$K46)","v":0},{"$f":"+'Energy Balance'!O95*(1+Growth!$K46)","v":0},0]
[null,"    Agriculture & Fishery",null,{"$f":"+'Energy Balance'!D96*(1+Growth!$K49)","v":0},{"$f":"+'Energy Balance'!E96*(1+Growth!$K49)","v":0},{"$f":"+'Energy Balance'!F96*(1+Growth!$K49)","v":0},{"$f":"+'Energy Balance'!G96*(1+Growth!$K49)","v":0},{"$f":"+'Energy Balance'!H96*(1+Growth!$K49)","v":0},{"$f":"+'Energy Balance'!I96*(1+Growth!$K49)","v":0},0,{"$f":"+'Energy Balance'!K96*(1+Growth!$K49)","v":0},{"$f":"+'Energy Balance'!L96*(1+Growth!$K49)","v":0},{"$f":"+'Energy Balance'!M96*(1+Growth!$K49)","v":0},{"$f":"+'Energy Balance'!N96*(1+Growth!$K49)","v":0},{"$f":"+'Energy Balance'!O96*(1+Growth!$K49)","v":0},0]
[null,"    Non energy uses",null,{"$f":"+'Energy Balance'!D97*(1+Growth!$K74)","v":0},{"$f":"+'Energy Balance'!E97*(1+Growth!$K74)","v":0},{"$f":"+'Energy Balance'!F97*(1+Growth!$K74)","v":0},{"$f":"+'Energy Balance'!G97*(1+Growth!$K74)","v":0},{"$f":"+'Energy Balance'!H97*(1+Growth!$K74)","v":0},{"$f":"+'Energy Balance'!I97*(1+Growth!$K74)","v":0},0,{"$f":"+'Energy Balance'!K97*(1+Growth!$K74)","v":0},{"$f":"+'Energy Balance'!L97*(1+Growth!$K74)","v":0},{"$f":"+'Energy Balance'!M97*(1+Growth!$K74)","v":0},{"$f":"+'Energy Balance'!N97*(1+Growth!$K74)","v":0},{"$f":"+'Energy Balance'!O97*(1+Growth!$K74)","v":0},0]
[]
[]
[null,"Electricity balance in GWh - 2030"]
[null,"Electricity consumption",null,"Gwh",null,"Electricity production","Gwh","Share of production","Efficiency"]
[null,"Total consumption",null,{"$f":"SUM(D160:D179)","v":0},null,"Total",{"$f":"IF(H160=1,0,D159/(1-H160))","v":0}]
[null,"    Industry - steel",null,{"$f":"+'Energy Balance'!D103*(1+Growth!K$33)","v":0},null,"Losses",{"$f":"G159*H160","v":0},{"$f":"+'BAU projected Energy Balances'!H74","v":1}]
[null,"    Industry - chemical",null,{"$f":"+'Energy Balance'!D104*(1+Growth!K$33)","v":0},null,"Fossil",{"$f":"SUM(G162:G165)","v":0},{"$f":"SUM(H162:H165)","v":4}]
[null,"    Industry - non metallic mineral",null,{"$f":"+'Energy Balance'!D105*(1+Growth!K$33)","v":0},null,"Lignite",{"$f":"G$159*H162","v":0},{"$f":"+'BAU projected Energy Balances'!H76","v":1},{"$f":"+'BAU projected Energy Balances'!I76","v":0}]
[null,"    Industry - food processing and beverage",null,{"$f":"+'Energy Balance'!D106*(1+Growth!K$33)","v":0},null,"Coal",0,{"$f":"+'BAU projected Energy Balances'!H77","v":1},{"$f":"+'BAU projected Energy Balances'!I77","v":0}]
[null,"    Industry - construction",null,{"$f":"+'Energy Balance'!D107*(1+Growth!K$33)","v":0},null,"Oil",0,{"$f":"+'BAU projected Energy Balances'!H78","v":1},{"$f":"+'BAU projected Energy Balances'!I78","v":0}]
[null,"    Industry - mining",null,{"$f":"+'Energy Balance'!D108*(1+Growth!K$33)","v":0},null,"Natural Gas",0,{"$f":"+'BAU projected Energy Balances'!H79","v":1},{"$f":"+'BAU projected Energy Balances'!I79","v":0}]
[null,"    Industry - machinery",null,{"$f":"+'Energy Balance'!D109*(1+Growth!K$33)","v":0},null,"Nuclear",0,{"$f":"+'BAU projected Energy Balances'!H80","v":1}]
[null,"    Industry - non ferrous metals",null,{"$f":"+'Energy Balance'!D110*(1+Growth!K$33)","v":0},null,"Net import",0,{"$f":"+'BAU projected Energy Balances'!H81","v":1}]
[null,"    Industry - paper and pulp",null,{"$f":"+'Energy Balance'!D111*(1+Growth!K$33)","v":0},null,"Renewables",{"$f":"SUM(G169:G173)","v":0},{"$f":"SUM(H169:H173)","v":5}]
[null,"    Industry - transport equipment",null,{"$f":"+'Energy Balance'!D112*(1+Growth!K$33)","v":0},null,"Hydro",{"$f":"G$159*H169","v":0},{"$f":"+'BAU projected Energy Balances'!H83","v":1}]
[null,"    Industry - textile and leather",null,{"$f":"+'Energy Balance'!D113*(1+Growth!K$33)","v":0},null,"Wind",{"$f":"G$159*H170","v":0},{"$f":"+'BAU projected Energy Balances'!H84","v":1}]
[null,"    Industry - miscellaneous",null,{"$f":"+'Energy Balance'!D114*(1+Growth!K$33)","v":0},null,"Solar",{"$f":"G$159*H171","v":0},{"$f":"+'BAU projected Energy Balances'!H85","v":1}]
[null,"    Transport - road",null,{"$f":"+'Energy Balance'!D115*(1+Growth!K$39)","v":0},null,"Biomass",{"$f":"G$159*H172","v":0},{"$f":"+'BAU projected Energy Balances'!H86","v":1}]
[null,"    Transport - rail",null,{"$f":"+'Energy Balance'!D116*(1+Growth!K$39)","v":0},null,"Geothermal",{"$f":"G$159*H173","v":0},{"$f":"+'BAU projected Energy Balances'!H87","v":1}]
[null,"    Transport - domestic air",null,{"$f":"+'Energy Balance'!D117*(1+Growth!K$39)","v":0}]
[null,"    Transport - navigation",null,{"$f":"+'Energy Balance'!D118*(1+Growth!K$39)","v":0}]
[null,"    Households",null,{"$f":"+'Energy Balance'!D119*(1+Growth!K44)","v":0}]
[null,"    Services",null,{"$f":"+'Energy Balance'!D120*(1+Growth!K47)","v":0}]
[null,"    Agriculture & Fishery",null,{"$f":"+'Energy Balance'!D121*(1+Growth!K50)","v":0}]
[null,"    Non energy - chemical feedstocs",null,{"$f":"+'Energy Balance'!D122*(1+Growth!K74)","v":0}]
[]
[]
[]
[]
[]
[]
[null,{"$f":"\"Fossil fuel balance - 2035 - \"&Assumptions!C9","v":"Fossil fuel balance - 2035 - "}]
[null,"TJ units",null,"LPG","Gasoline","Jet Fuel","Diesel","Fueloil","Kerosene and other","Total oil products","Coal","Lignite","Gas","Coke","Petrocoke","Total energy (fossil)"]
[null,"Unit",null,"TJ","TJ","TJ","TJ","TJ","TJ","TJ","TJ","TJ","TJ","TJ","TJ","TJ"]
[null,"Total",null,{"$f":"+D190+D191","v":0},0,0,0,0,0,0,0,0,0,0,0,{"$f":"SUM(J189:O189)","v":0}]
[null,"    Fossil power plants",null,{"$f":"D219/E213","v":0},{"$f":"E219/F213","v":0},{"$f":"F219/G213","v":0},{"$f":"G219/H213","v":0},{"$f":"H219/I213","v":0},{"$f":"I219/J213","v":0},{"$f":"SUM(D190:I190)","v":0},{"$f":"K219/L213","v":0},{"$f":"L219/M213","v":0},{"$f":"M219/N213","v":0},null,null,0]
[null,"FINAL CONSUMPTION",null,{"$f":"SUM(D192:D211)","v":0},0,0,0,0,0,0,0,0,0,0,0,0]
[null,"    Industry - steel",null,{"$f":"+'Energy Balance'!D21*(1+Growth!$L21)","v":0},{"$f":"+'Energy Balance'!E21*(1+Growth!$L21)","v":0},{"$f":"+'Energy Balance'!F21*(1+Growth!$L21)","v":0},{"$f":"+'Energy Balance'!G21*(1+Growth!$L21)","v":0},{"$f":"+'Energy Balance'!H21*(1+Growth!$L21)","v":0},{"$f":"+'Energy Balance'!I21*(1+Growth!$L21)","v":0},{"$f":"+'Energy Balance'!J21*(1+Growth!$L21)","v":0},{"$f":"+'Energy Balance'!K21*(1+Growth!$L21)","v":0},{"$f":"+'Energy Balance'!L21*(1+Growth!$L21)","v":0},{"$f":"+'Energy Balance'!M21*(1+Growth!$L21)","v":0},{"$f":"+'Energy Balance'!N21*(1+Growth!$L21)","v":0},{"$f":"+'Energy Balance'!O21*(1+Growth!$L21)","v":0},0]
[null,"    Industry - chemical",null,{"$f":"+'Energy Balance'!D22*(1+Growth!$L22)","v":0},{"$f":"+'Energy Balance'!E22*(1+Growth!$L22)","v":0},{"$f":"+'Energy Balance'!F22*(1+Growth!$L22)","v":0},{"$f":"+'Energy Balance'!G22*(1+Growth!$L22)","v":0},{"$f":"+'Energy Balance'!H22*(1+Growth!$L22)","v":0},{"$f":"+'Energy Balance'!I22*(1+Growth!$L22)","v":0},{"$f":"+'Energy Balance'!J22*(1+Growth!$L22)","v":0},{"$f":"+'Energy Balance'!K22*(1+Growth!$L22)","v":0},{"$f":"+'Energy Balance'!L22*(1+Growth!$L22)","v":0},{"$f":"+'Energy Balance'!M22*(1+Growth!$L22)","v":0},{"$f":"+'Energy Balance'!N22*(1+Growth!$L22)","v":0},{"$f":"+'Energy Balance'!O22*(1+Growth!$L22)","v":0},0]
[null,"    Industry - non metallic mineral",null,{"$f":"+'Energy Balance'!D23*(1+Growth!$L23)","v":0},{"$f":"+'Energy Balance'!E23*(1+Growth!$L23)","v":0},{"$f":"+'Energy Balance'!F23*(1+Growth!$L23)","v":0},{"$f":"+'Energy Balance'!G23*(1+Growth!$L23)","v":0},{"$f":"+'Energy Balance'!H23*(1+Growth!$L23)","v":0},{"$f":"+'Energy Balance'!I23*(1+Growth!$L23)","v":0},{"$f":"+'Energy Balance'!J23*(1+Growth!$L23)","v":0},{"$f":"+'Energy Balance'!K23*(1+Growth!$L23)","v":0},{"$f":"+'Energy Balance'!L23*(1+Growth!$L23)","v":0},{"$f":"+'Energy Balance'!M23*(1+Growth!$L23)","v":0},{"$f":"+'Energy Balance'!N23*(1+Growth!$L23)","v":0},{"$f":"+'Energy Balance'!O23*(1+Growth!$L23)","v":0},0]
[null,"    Industry - food processing and beverage",null,{"$f":"+'Energy Balance'!D24*(1+Growth!$L24)","v":0},{"$f":"+'Energy Balance'!E24*(1+Growth!$L24)","v":0},{"$f":"+'Energy Balance'!F24*(1+Growth!$L24)","v":0},{"$f":"+'Energy Balance'!G24*(1+Growth!$L24)","v":0},{"$f":"+'Energy Balance'!H24*(1+Growth!$L24)","v":0},{"$f":"+'Energy Balance'!I24*(1+Growth!$L24)","v":0},{"$f":"+'Energy Balance'!J24*(1+Growth!$L24)","v":0},{"$f":"+'Energy Balance'!K24*(1+Growth!$L24)","v":0},{"$f":"+'Energy Balance'!L24*(1+Growth!$L24)","v":0},{"$f":"+'Energy Balance'!M24*(1+Growth!$L24)","v":0},{"$f":"+'Energy Balance'!N24*(1+Growth!$L24)","v":0},{"$f":"+'Energy Balance'!O24*(1+Growth!$L24)","v":0},0]
[null,"    Industry - construction",null,{"$f":"+'Energy Balance'!D25*(1+Growth!$L25)","v":0},{"$f":"+'Energy Balance'!E25*(1+Growth!$L25)","v":0},{"$f":"+'Energy Balance'!F25*(1+Growth!$L25)","v":0},{"$f":"+'Energy Balance'!G25*(1+Growth!$L25)","v":0},{"$f":"+'Energy Balance'!H25*(1+Growth!$L25)","v":0},{"$f":"+'Energy Balance'!I25*(1+Growth!$L25)","v":0},{"$f":"+'Energy Balance'!J25*(1+Growth!$L25)","v":0},{"$f":"+'Energy Balance'!K25*(1+Growth!$L25)","v":0},{"$f":"+'Energy Balance'!L25*(1+Growth!$L25)","v":0},{"$f":"+'Energy Balance'!M25*(1+Growth!$L25)","v":0},{"$f":"+'Energy Balance'!N25*(1+Growth!$L25)","v":0},{"$f":"+'Energy Balance'!O25*(1+Growth!$L25)","v":0},0]
[null,"    Industry - mining",null,{"$f":"+'Energy Balance'!D26*(1+Growth!$L26)","v":0},{"$f":"+'Energy Balance'!E26*(1+Growth!$L26)","v":0},{"$f":"+'Energy Balance'!F26*(1+Growth!$L26)","v":0},{"$f":"+'Energy Balance'!G26*(1+Growth!$L26)","v":0},{"$f":"+'Energy Balance'!H26*(1+Growth!$L26)","v":0},{"$f":"+'Energy Balance'!I26*(1+Growth!$L26)","v":0},{"$f":"+'Energy Balance'!J26*(1+Growth!$L26)","v":0},{"$f":"+'Energy Balance'!K26*(1+Growth!$L26)","v":0},{"$f":"+'Energy Balance'!L26*(1+Growth!$L26)","v":0},{"$f":"+'Energy Balance'!M26*(1+Growth!$L26)","v":0},{"$f":"+'Energy Balance'!N26*(1+Growth!$L26)","v":0},{"$f":"+'Energy Balance'!O26*(1+Growth!$L26)","v":0},0]
[null,"    Industry - machinery",null,{"$f":"+'Energy Balance'!D27*(1+Growth!$L27)","v":0},{"$f":"+'Energy Balance'!E27*(1+Growth!$L27)","v":0},{"$f":"+'Energy Balance'!F27*(1+Growth!$L27)","v":0},{"$f":"+'Energy Balance'!G27*(1+Growth!$L27)","v":0},{"$f":"+'Energy Balance'!H27*(1+Growth!$L27)","v":0},{"$f":"+'Energy Balance'!I27*(1+Growth!$L27)","v":0},{"$f":"+'Energy Balance'!J27*(1+Growth!$L27)","v":0},{"$f":"+'Energy Balance'!K27*(1+Growth!$L27)","v":0},{"$f":"+'Energy Balance'!L27*(1+Growth!$L27)","v":0},{"$f":"+'Energy Balance'!M27*(1+Growth!$L27)","v":0},{"$f":"+'Energy Balance'!N27*(1+Growth!$L27)","v":0},{"$f":"+'Energy Balance'!O27*(1+Growth!$L27)","v":0},0]
[null,"    Industry - non ferrous metals",null,{"$f":"+'Energy Balance'!D28*(1+Growth!$L28)","v":0},{"$f":"+'Energy Balance'!E28*(1+Growth!$L28)","v":0},{"$f":"+'Energy Balance'!F28*(1+Growth!$L28)","v":0},{"$f":"+'Energy Balance'!G28*(1+Growth!$L28)","v":0},{"$f":"+'Energy Balance'!H28*(1+Growth!$L28)","v":0},{"$f":"+'Energy Balance'!I28*(1+Growth!$L28)","v":0},{"$f":"+'Energy Balance'!J28*(1+Growth!$L28)","v":0},{"$f":"+'Energy Balance'!K28*(1+Growth!$L28)","v":0},{"$f":"+'Energy Balance'!L28*(1+Growth!$L28)","v":0},{"$f":"+'Energy Balance'!M28*(1+Growth!$L28)","v":0},{"$f":"+'Energy Balance'!N28*(1+Growth!$L28)","v":0},{"$f":"+'Energy Balance'!O28*(1+Growth!$L28)","v":0},0]
[null,"    Industry - paper and pulp",null,{"$f":"+'Energy Balance'!D29*(1+Growth!$L29)","v":0},{"$f":"+'Energy Balance'!E29*(1+Growth!$L29)","v":0},{"$f":"+'Energy Balance'!F29*(1+Growth!$L29)","v":0},{"$f":"+'Energy Balance'!G29*(1+Growth!$L29)","v":0},{"$f":"+'Energy Balance'!H29*(1+Growth!$L29)","v":0},{"$f":"+'Energy Balance'!I29*(1+Growth!$L29)","v":0},{"$f":"+'Energy Balance'!J29*(1+Growth!$L29)","v":0},{"$f":"+'Energy Balance'!K29*(1+Growth!$L29)","v":0},{"$f":"+'Energy Balance'!L29*(1+Growth!$L29)","v":0},{"$f":"+'Energy Balance'!M29*(1+Growth!$L29)","v":0},{"$f":"+'Energy Balance'!N29*(1+Growth!$L29)","v":0},{"$f":"+'Energy Balance'!O29*(1+Growth!$L29)","v":0},0]
[null,"    Industry - transport equipment",null,{"$f":"+'Energy Balance'!D30*(1+Growth!$L30)","v":0},{"$f":"+'Energy Balance'!E30*(1+Growth!$L30)","v":0},{"$f":"+'Energy Balance'!F30*(1+Growth!$L30)","v":0},{"$f":"+'Energy Balance'!G30*(1+Growth!$L30)","v":0},{"$f":"+'Energy Balance'!H30*(1+Growth!$L30)","v":0},{"$f":"+'Energy Balance'!I30*(1+Growth!$L30)","v":0},{"$f":"+'Energy Balance'!J30*(1+Growth!$L30)","v":0},{"$f":"+'Energy Balance'!K30*(1+Growth!$L30)","v":0},{"$f":"+'Energy Balance'!L30*(1+Growth!$L30)","v":0},{"$f":"+'Energy Balance'!M30*(1+Growth!$L30)","v":0},{"$f":"+'Energy Balance'!N30*(1+Growth!$L30)","v":0},{"$f":"+'Energy Balance'!O30*(1+Growth!$L30)","v":0},0]
[null,"    Industry - textile and leather",null,{"$f":"+'Energy Balance'!D31*(1+Growth!$L31)","v":0},{"$f":"+'Energy Balance'!E31*(1+Growth!$L31)","v":0},{"$f":"+'Energy Balance'!F31*(1+Growth!$L31)","v":0},{"$f":"+'Energy Balance'!G31*(1+Growth!$L31)","v":0},{"$f":"+'Energy Balance'!H31*(1+Growth!$L31)","v":0},{"$f":"+'Energy Balance'!I31*(1+Growth!$L31)","v":0},{"$f":"+'Energy Balance'!J31*(1+Growth!$L31)","v":0},{"$f":"+'Energy Balance'!K31*(1+Growth!$L31)","v":0},{"$f":"+'Energy Balance'!L31*(1+Growth!$L31)","v":0},{"$f":"+'Energy Balance'!M31*(1+Growth!$L31)","v":0},{"$f":"+'Energy Balance'!N31*(1+Growth!$L31)","v":0},{"$f":"+'Energy Balance'!O31*(1+Growth!$L31)","v":0},0]
[null,"    Industry - miscellaneous",null,{"$f":"+'Energy Balance'!D32*(1+Growth!$L32)","v":0},{"$f":"+'Energy Balance'!E32*(1+Growth!$L32)","v":0},{"$f":"+'Energy Balance'!F32*(1+Growth!$L32)","v":0},{"$f":"+'Energy Balance'!G32*(1+Growth!$L32)","v":0},{"$f":"+'Energy Balance'!H32*(1+Growth!$L32)","v":0},{"$f":"+'Energy Balance'!I32*(1+Growth!$L32)","v":0},{"$f":"+'Energy Balance'!J32*(1+Growth!$L32)","v":0},{"$f":"+'Energy Balance'!K32*(1+Growth!$L32)","v":0},{"$f":"+'Energy Balance'!L32*(1+Growth!$L32)","v":0},{"$f":"+'Energy Balance'!M32*(1+Growth!$L32)","v":0},{"$f":"+'Energy Balance'!N32*(1+Growth!$L32)","v":0},{"$f":"+'Energy Balance'!O32*(1+Growth!$L32)","v":0},0]
[null,"    Transport - road",null,{"$f":"+'Energy Balance'!D33*(1+Growth!$L35)","v":0},{"$f":"+'Energy Balance'!E33*(1+Growth!$L35)","v":0},{"$f":"+'Energy Balance'!F33*(1+Growth!$L35)","v":0},{"$f":"+'Energy Balance'!G33*(1+Growth!$L35)","v":0},{"$f":"+'Energy Balance'!H33*(1+Growth!$L35)","v":0},{"$f":"+'Energy Balance'!I33*(1+Growth!$L35)","v":0},{"$f":"+'Energy Balance'!J33*(1+Growth!$L35)","v":0},{"$f":"+'Energy Balance'!K33*(1+Growth!$L35)","v":0},{"$f":"+'Energy Balance'!L33*(1+Growth!$L35)","v":0},{"$f":"+'Energy Balance'!M33*(1+Growth!$L35)","v":0},{"$f":"+'Energy Balance'!N33*(1+Growth!$L35)","v":0},{"$f":"+'Energy Balance'!O33*(1+Growth!$L35)","v":0},0]
[null,"    Transport - rail",null,{"$f":"+'Energy Balance'!D34*(1+Growth!$L36)","v":0},{"$f":"+'Energy Balance'!E34*(1+Growth!$L36)","v":0},{"$f":"+'Energy Balance'!F34*(1+Growth!$L36)","v":0},{"$f":"+'Energy Balance'!G34*(1+Growth!$L36)","v":0},{"$f":"+'Energy Balance'!H34*(1+Growth!$L36)","v":0},{"$f":"+'Energy Balance'!I34*(1+Growth!$L36)","v":0},{"$f":"+'Energy Balance'!J34*(1+Growth!$L36)","v":0},{"$f":"+'Energy Balance'!K34*(1+Growth!$L36)","v":0},{"$f":"+'Energy Balance'!L34*(1+Growth!$L36)","v":0},{"$f":"+'Energy Balance'!M34*(1+Growth!$L36)","v":0},{"$f":"+'Energy Balance'!N34*(1+Growth!$L36)","v":0},{"$f":"+'Energy Balance'!O34*(1+Growth!$L36)","v":0},0]
[null,"    Transport - domestic air",null,{"$f":"+'Energy Balance'!D35*(1+Growth!$L37)","v":0},{"$f":"+'Energy Balance'!E35*(1+Growth!$L37)","v":0},{"$f":"+'Energy Balance'!F35*(1+Growth!$L37)","v":0},{"$f":"+'Energy Balance'!G35*(1+Growth!$L37)","v":0},{"$f":"+'Energy Balance'!H35*(1+Growth!$L37)","v":0},{"$f":"+'Energy Balance'!I35*(1+Growth!$L37)","v":0},{"$f":"+'Energy Balance'!J35*(1+Growth!$L37)","v":0},{"$f":"+'Energy Balance'!K35*(1+Growth!$L37)","v":0},{"$f":"+'Energy Balance'!L35*(1+Growth!$L37)","v":0},{"$f":"+'Energy Balance'!M35*(1+Growth!$L37)","v":0},{"$f":"+'Energy Balance'!N35*(1+Growth!$L37)","v":0},{"$f":"+'Energy Balance'!O35*(1+Growth!$L37)","v":0},0]
[null,"    Transport - navigation",null,{"$f":"+'Energy Balance'!D36*(1+Growth!$L38)","v":0},{"$f":"+'Energy Balance'!E36*(1+Growth!$L38)","v":0},{"$f":"+'Energy Balance'!F36*(1+Growth!$L38)","v":0},{"$f":"+'Energy Balance'!G36*(1+Growth!$L38)","v":0},{"$f":"+'Energy Balance'!H36*(1+Growth!$L38)","v":0},{"$f":"+'Energy Balance'!I36*(1+Growth!$L38)","v":0},{"$f":"+'Energy Balance'!J36*(1+Growth!$L38)","v":0},{"$f":"+'Energy Balance'!K36*(1+Growth!$L38)","v":0},{"$f":"+'Energy Balance'!L36*(1+Growth!$L38)","v":0},{"$f":"+'Energy Balance'!M36*(1+Growth!$L38)","v":0},{"$f":"+'Energy Balance'!N36*(1+Growth!$L38)","v":0},{"$f":"+'Energy Balance'!O36*(1+Growth!$L38)","v":0},0]
[null,"    Households",null,{"$f":"+'Energy Balance'!D37*(1+Growth!$L42)","v":0},{"$f":"+'Energy Balance'!E37*(1+Growth!$L42)","v":0},{"$f":"+'Energy Balance'!F37*(1+Growth!$L42)","v":0},{"$f":"+'Energy Balance'!G37*(1+Growth!$L42)","v":0},{"$f":"+'Energy Balance'!H37*(1+Growth!$L42)","v":0},{"$f":"+'Energy Balance'!I37*(1+Growth!$L42)","v":0},{"$f":"+'Energy Balance'!J37*(1+Growth!$L42)","v":0},{"$f":"+'Energy Balance'!K37*(1+Growth!$L42)","v":0},{"$f":"+'Energy Balance'!L37*(1+Growth!$L42)","v":0},{"$f":"+'Energy Balance'!M37*(1+Growth!$L42)","v":0},{"$f":"+'Energy Balance'!N37*(1+Growth!$L42)","v":0},{"$f":"+'Energy Balance'!O37*(1+Growth!$L42)","v":0},0]
[null,"    Services",null,{"$f":"+'Energy Balance'!D38*(1+Growth!$L46)","v":0},{"$f":"+'Energy Balance'!E38*(1+Growth!$L46)","v":0},{"$f":"+'Energy Balance'!F38*(1+Growth!$L46)","v":0},{"$f":"+'Energy Balance'!G38*(1+Growth!$L46)","v":0},{"$f":"+'Energy Balance'!H38*(1+Growth!$L46)","v":0},{"$f":"+'Energy Balance'!I38*(1+Growth!$L46)","v":0},{"$f":"+'Energy Balance'!J38*(1+Growth!$L46)","v":0},{"$f":"+'Energy Balance'!K38*(1+Growth!$L46)","v":0},{"$f":"+'Energy Balance'!L38*(1+Growth!$L46)","v":0},{"$f":"+'Energy Balance'!M38*(1+Growth!$L46)","v":0},{"$f":"+'Energy Balance'!N38*(1+Growth!$L46)","v":0},{"$f":"+'Energy Balance'!O38*(1+Growth!$L46)","v":0},0]
[null,"    Agriculture & Fishery",null,{"$f":"+'Energy Balance'!D39*(1+Growth!$L49)","v":0},{"$f":"+'Energy Balance'!E39*(1+Growth!$L49)","v":0},{"$f":"+'Energy Balance'!F39*(1+Growth!$L49)","v":0},{"$f":"+'Energy Balance'!G39*(1+Growth!$L49)","v":0},{"$f":"+'Energy Balance'!H39*(1+Growth!$L49)","v":0},{"$f":"+'Energy Balance'!I39*(1+Growth!$L49)","v":0},{"$f":"+'Energy Balance'!J39*(1+Growth!$L49)","v":0},{"$f":"+'Energy Balance'!K39*(1+Growth!$L49)","v":0},{"$f":"+'Energy Balance'!L39*(1+Growth!$L49)","v":0},{"$f":"+'Energy Balance'!M39*(1+Growth!$L49)","v":0},{"$f":"+'Energy Balance'!N39*(1+Growth!$L49)","v":0},{"$f":"+'Energy Balance'!O39*(1+Growth!$L49)","v":0},0]
[null,"    Non energy uses",null,{"$f":"+'Energy Balance'!D40*(1+Growth!$L74)","v":0},{"$f":"+'Energy Balance'!E40*(1+Growth!$L74)","v":0},{"$f":"+'Energy Balance'!F40*(1+Growth!$L74)","v":0},{"$f":"+'Energy Balance'!G40*(1+Growth!$L74)","v":0},{"$f":"+'Energy Balance'!H40*(1+Growth!$L74)","v":0},{"$f":"+'Energy Balance'!I40*(1+Growth!$L74)","v":0},{"$f":"+'Energy Balance'!J40*(1+Growth!$L74)","v":0},{"$f":"+'Energy Balance'!K40*(1+Growth!$L74)","v":0},{"$f":"+'Energy Balance'!L40*(1+Growth!$L74)","v":0},{"$f":"+'Energy Balance'!M40*(1+Growth!$L74)","v":0},{"$f":"+'Energy Balance'!N40*(1+Growth!$L74)","v":0},{"$f":"+'Energy Balance'!O40*(1+Growth!$L74)","v":0},0]
[]
[null,null,null,null,2.3884589662749593E-2,2.3884589662749593E-2,2.3884589662749593E-2,2.3884589662749593E-2,2.3884589662749593E-2,2.3884589662749593E-2,null,2.3884589662749593E-2,2.3884589662749593E-2,2.3884589662749593E-2,2.3884589662749593E-2,2.3884589662749593E-2]
[]
[null,{"$f":"\"Fossil fuel balance - 2035 - \"&Assumptions!C9","v":"Fossil fuel balance - 2035 - "}]
[null,"ktoe units",null,"LPG","Gasoline","Jet Fuel","Diesel","Fueloil","Kerosene and other","Total oil products","Coal","Lignite","Gas","Coke","Petrocoke","Total"]
[null,"Unit",null,"ktoe","ktoe","ktoe","ktoe","ktoe","ktoe","ktoe","ktoe","ktoe","ktoe","ktoe","ktoe","ktoe"]
[null,"Total consumption",null,{"$f":"+D219+D220","v":0},0,0,0,0,0,0,0,0,0,0,0,0]
[null,"    Fossil power plants",null,{"$f":"IFERROR(IF($G247=0,0,$J219*IF('Energy Balance'!$J76>0,'Energy Balance'!D76/'Energy Balance'!$J76,0)),0)","v":0},{"$f":"IFERROR(IF($G247=0,0,$J219*IF('Energy Balance'!$J76>0,'Energy Balance'!E76/'Energy Balance'!$J76,0)),0)","v":0},{"$f":"IFERROR(IF($G247=0,0,$J219*IF('Energy Balance'!$J76>0,'Energy Balance'!F76/'Energy Balance'!$J76,0)),0)","v":0},{"$f":"IFERROR(IF($G247=0,0,$J219*IF('Energy Balance'!$J76>0,'Energy Balance'!G76/'Energy Balance'!$J76,0)),0)","v":0},{"$f":"IFERROR(IF($G247=0,0,$J219*IF('Energy Balance'!$J76>0,'Energy Balance'!H76/'Energy Balance'!$J76,0)),0)","v":0},{"$f":"IFERROR(IF($G247=0,0,$J219*IF('Energy Balance'!$J76>0,'Energy Balance'!I76/'Energy Balance'!$J76,0)),0)","v":0},{"$f":"IFERROR(IF(G247=0,0,G250/11.63/I250),0)","v":0},{"$f":"IF(I249>0,G249/11.63/I249,0)","v":0},{"$f":"IF(I248>0,G248/11.63/I248,0)","v":0},{"$f":"IF(I251>0,G251/11.63/I251,0)","v":0},null,null,{"$f":"SUM(J219:O219)","v":0}]
[null,"FINAL CONSUMPTION",null,{"$f":"SUM(D221:D240)","v":0},0,0,0,0,0,{"$f":"SUM(D220:I220)","v":0},{"$f":"SUM(K221:K240)","v":0},0,0,0,0,0]
[null,"    Industry - steel",null,{"$f":"+'Energy Balance'!D78*(1+Growth!$L21)","v":0},{"$f":"+'Energy Balance'!E78*(1+Growth!$L21)","v":0},{"$f":"+'Energy Balance'!F78*(1+Growth!$L21)","v":0},{"$f":"+'Energy Balance'!G78*(1+Growth!$L21)","v":0},{"$f":"+'Energy Balance'!H78*(1+Growth!$L21)","v":0},{"$f":"+'Energy Balance'!I78*(1+Growth!$L21)","v":0},0,{"$f":"+'Energy Balance'!K78*(1+Growth!$L21)","v":0},{"$f":"+'Energy Balance'!L78*(1+Growth!$L21)","v":0},{"$f":"+'Energy Balance'!M78*(1+Growth!$L21)","v":0},{"$f":"+'Energy Balance'!N78*(1+Growth!$L21)","v":0},{"$f":"+'Energy Balance'!O78*(1+Growth!$L21)","v":0},{"$f":"SUM(J221:O221)","v":0}]
[null,"    Industry - chemical",null,{"$f":"+'Energy Balance'!D79*(1+Growth!$L22)","v":0},{"$f":"+'Energy Balance'!E79*(1+Growth!$L22)","v":0},{"$f":"+'Energy Balance'!F79*(1+Growth!$L22)","v":0},{"$f":"+'Energy Balance'!G79*(1+Growth!$L22)","v":0},{"$f":"+'Energy Balance'!H79*(1+Growth!$L22)","v":0},{"$f":"+'Energy Balance'!I79*(1+Growth!$L22)","v":0},0,{"$f":"+'Energy Balance'!K79*(1+Growth!$L22)","v":0},{"$f":"+'Energy Balance'!L79*(1+Growth!$L22)","v":0},{"$f":"+'Energy Balance'!M79*(1+Growth!$L22)","v":0},{"$f":"+'Energy Balance'!N79*(1+Growth!$L22)","v":0},{"$f":"+'Energy Balance'!O79*(1+Growth!$L22)","v":0},0]
[null,"    Industry - non metallic mineral",null,{"$f":"+'Energy Balance'!D80*(1+Growth!$L23)","v":0},{"$f":"+'Energy Balance'!E80*(1+Growth!$L23)","v":0},{"$f":"+'Energy Balance'!F80*(1+Growth!$L23)","v":0},{"$f":"+'Energy Balance'!G80*(1+Growth!$L23)","v":0},{"$f":"+'Energy Balance'!H80*(1+Growth!$L23)","v":0},{"$f":"+'Energy Balance'!I80*(1+Growth!$L23)","v":0},0,{"$f":"+'Energy Balance'!K80*(1+Growth!$L23)","v":0},{"$f":"+'Energy Balance'!L80*(1+Growth!$L23)","v":0},{"$f":"+'Energy Balance'!M80*(1+Growth!$L23)","v":0},{"$f":"+'Energy Balance'!N80*(1+Growth!$L23)","v":0},{"$f":"+'Energy Balance'!O80*(1+Growth!$L23)","v":0},0]
[null,"    Industry - food processing and beverage",null,{"$f":"+'Energy Balance'!D81*(1+Growth!$L24)","v":0},{"$f":"+'Energy Balance'!E81*(1+Growth!$L24)","v":0},{"$f":"+'Energy Balance'!F81*(1+Growth!$L24)","v":0},{"$f":"+'Energy Balance'!G81*(1+Growth!$L24)","v":0},{"$f":"+'Energy Balance'!H81*(1+Growth!$L24)","v":0},{"$f":"+'Energy Balance'!I81*(1+Growth!$L24)","v":0},0,{"$f":"+'Energy Balance'!K81*(1+Growth!$L24)","v":0},{"$f":"+'Energy Balance'!L81*(1+Growth!$L24)","v":0},{"$f":"+'Energy Balance'!M81*(1+Growth!$L24)","v":0},{"$f":"+'Energy Balance'!N81*(1+Growth!$L24)","v":0},{"$f":"+'Energy Balance'!O81*(1+Growth!$L24)","v":0},0]
[null,"    Industry - construction",null,{"$f":"+'Energy Balance'!D82*(1+Growth!$L25)","v":0},{"$f":"+'Energy Balance'!E82*(1+Growth!$L25)","v":0},{"$f":"+'Energy Balance'!F82*(1+Growth!$L25)","v":0},{"$f":"+'Energy Balance'!G82*(1+Growth!$L25)","v":0},{"$f":"+'Energy Balance'!H82*(1+Growth!$L25)","v":0},{"$f":"+'Energy Balance'!I82*(1+Growth!$L25)","v":0},0,{"$f":"+'Energy Balance'!K82*(1+Growth!$L25)","v":0},{"$f":"+'Energy Balance'!L82*(1+Growth!$L25)","v":0},{"$f":"+'Energy Balance'!M82*(1+Growth!$L25)","v":0},{"$f":"+'Energy Balance'!N82*(1+Growth!$L25)","v":0},{"$f":"+'Energy Balance'!O82*(1+Growth!$L25)","v":0},0]
[null,"    Industry - mining",null,{"$f":"+'Energy Balance'!D83*(1+Growth!$L26)","v":0},{"$f":"+'Energy Balance'!E83*(1+Growth!$L26)","v":0},{"$f":"+'Energy Balance'!F83*(1+Growth!$L26)","v":0},{"$f":"+'Energy Balance'!G83*(1+Growth!$L26)","v":0},{"$f":"+'Energy Balance'!H83*(1+Growth!$L26)","v":0},{"$f":"+'Energy Balance'!I83*(1+Growth!$L26)","v":0},0,{"$f":"+'Energy Balance'!K83*(1+Growth!$L26)","v":0},{"$f":"+'Energy Balance'!L83*(1+Growth!$L26)","v":0},{"$f":"+'Energy Balance'!M83*(1+Growth!$L26)","v":0},{"$f":"+'Energy Balance'!N83*(1+Growth!$L26)","v":0},{"$f":"+'Energy Balance'!O83*(1+Growth!$L26)","v":0},0]
[null,"    Industry - machinery",null,{"$f":"+'Energy Balance'!D84*(1+Growth!$L27)","v":0},{"$f":"+'Energy Balance'!E84*(1+Growth!$L27)","v":0},{"$f":"+'Energy Balance'!F84*(1+Growth!$L27)","v":0},{"$f":"+'Energy Balance'!G84*(1+Growth!$L27)","v":0},{"$f":"+'Energy Balance'!H84*(1+Growth!$L27)","v":0},{"$f":"+'Energy Balance'!I84*(1+Growth!$L27)","v":0},0,{"$f":"+'Energy Balance'!K84*(1+Growth!$L27)","v":0},{"$f":"+'Energy Balance'!L84*(1+Growth!$L27)","v":0},{"$f":"+'Energy Balance'!M84*(1+Growth!$L27)","v":0},{"$f":"+'Energy Balance'!N84*(1+Growth!$L27)","v":0},{"$f":"+'Energy Balance'!O84*(1+Growth!$L27)","v":0},0]
[null,"    Industry - non ferrous metals",null,{"$f":"+'Energy Balance'!D85*(1+Growth!$L28)","v":0},{"$f":"+'Energy Balance'!E85*(1+Growth!$L28)","v":0},{"$f":"+'Energy Balance'!F85*(1+Growth!$L28)","v":0},{"$f":"+'Energy Balance'!G85*(1+Growth!$L28)","v":0},{"$f":"+'Energy Balance'!H85*(1+Growth!$L28)","v":0},{"$f":"+'Energy Balance'!I85*(1+Growth!$L28)","v":0},0,{"$f":"+'Energy Balance'!K85*(1+Growth!$L28)","v":0},{"$f":"+'Energy Balance'!L85*(1+Growth!$L28)","v":0},{"$f":"+'Energy Balance'!M85*(1+Growth!$L28)","v":0},{"$f":"+'Energy Balance'!N85*(1+Growth!$L28)","v":0},{"$f":"+'Energy Balance'!O85*(1+Growth!$L28)","v":0},0]
[null,"    Industry - paper and pulp",null,{"$f":"+'Energy Balance'!D86*(1+Growth!$L29)","v":0},{"$f":"+'Energy Balance'!E86*(1+Growth!$L29)","v":0},{"$f":"+'Energy Balance'!F86*(1+Growth!$L29)","v":0},{"$f":"+'Energy Balance'!G86*(1+Growth!$L29)","v":0},{"$f":"+'Energy Balance'!H86*(1+Growth!$L29)","v":0},{"$f":"+'Energy Balance'!I86*(1+Growth!$L29)","v":0},0,{"$f":"+'Energy Balance'!K86*(1+Growth!$L29)","v":0},{"$f":"+'Energy Balance'!L86*(1+Growth!$L29)","v":0},{"$f":"+'Energy Balance'!M86*(1+Growth!$L29)","v":0},{"$f":"+'Energy Balance'!N86*(1+Growth!$L29)","v":0},{"$f":"+'Energy Balance'!O86*(1+Growth!$L29)","v":0},0]
[null,"    Industry - transport equipment",null,{"$f":"+'Energy Balance'!D87*(1+Growth!$L30)","v":0},{"$f":"+'Energy Balance'!E87*(1+Growth!$L30)","v":0},{"$f":"+'Energy Balance'!F87*(1+Growth!$L30)","v":0},{"$f":"+'Energy Balance'!G87*(1+Growth!$L30)","v":0},{"$f":"+'Energy Balance'!H87*(1+Growth!$L30)","v":0},{"$f":"+'Energy Balance'!I87*(1+Growth!$L30)","v":0},0,{"$f":"+'Energy Balance'!K87*(1+Growth!$L30)","v":0},{"$f":"+'Energy Balance'!L87*(1+Growth!$L30)","v":0},{"$f":"+'Energy Balance'!M87*(1+Growth!$L30)","v":0},{"$f":"+'Energy Balance'!N87*(1+Growth!$L30)","v":0},{"$f":"+'Energy Balance'!O87*(1+Growth!$L30)","v":0},0]
[null,"    Industry - textile and leather",null,{"$f":"+'Energy Balance'!D88*(1+Growth!$L31)","v":0},{"$f":"+'Energy Balance'!E88*(1+Growth!$L31)","v":0},{"$f":"+'Energy Balance'!F88*(1+Growth!$L31)","v":0},{"$f":"+'Energy Balance'!G88*(1+Growth!$L31)","v":0},{"$f":"+'Energy Balance'!H88*(1+Growth!$L31)","v":0},{"$f":"+'Energy Balance'!I88*(1+Growth!$L31)","v":0},0,{"$f":"+'Energy Balance'!K88*(1+Growth!$L31)","v":0},{"$f":"+'Energy Balance'!L88*(1+Growth!$L31)","v":0},{"$f":"+'Energy Balance'!M88*(1+Growth!$L31)","v":0},{"$f":"+'Energy Balance'!N88*(1+Growth!$L31)","v":0},{"$f":"+'Energy Balance'!O88*(1+Growth!$L31)","v":0},0]
[null,"    Industry - miscellaneous",null,{"$f":"+'Energy Balance'!D89*(1+Growth!$L32)","v":0},{"$f":"+'Energy Balance'!E89*(1+Growth!$L32)","v":0},{"$f":"+'Energy Balance'!F89*(1+Growth!$L32)","v":0},{"$f":"+'Energy Balance'!G89*(1+Growth!$L32)","v":0},{"$f":"+'Energy Balance'!H89*(1+Growth!$L32)","v":0},{"$f":"+'Energy Balance'!I89*(1+Growth!$L32)","v":0},0,{"$f":"+'Energy Balance'!K89*(1+Growth!$L32)","v":0},{"$f":"+'Energy Balance'!L89*(1+Growth!$L32)","v":0},{"$f":"+'Energy Balance'!M89*(1+Growth!$L32)","v":0},{"$f":"+'Energy Balance'!N89*(1+Growth!$L32)","v":0},{"$f":"+'Energy Balance'!O89*(1+Growth!$L32)","v":0},0]
[null,"    Transport - road",null,{"$f":"+'Energy Balance'!D90*(1+Growth!$L35)","v":0},{"$f":"+'Energy Balance'!E90*(1+Growth!$L35)","v":0},{"$f":"+'Energy Balance'!F90*(1+Growth!$L35)","v":0},{"$f":"+'Energy Balance'!G90*(1+Growth!$L35)","v":0},{"$f":"+'Energy Balance'!H90*(1+Growth!$L35)","v":0},{"$f":"+'Energy Balance'!I90*(1+Growth!$L35)","v":0},0,{"$f":"+'Energy Balance'!K90*(1+Growth!$L35)","v":0},{"$f":"+'Energy Balance'!L90*(1+Growth!$L35)","v":0},{"$f":"+'Energy Balance'!M90*(1+Growth!$L35)","v":0},{"$f":"+'Energy Balance'!N90*(1+Growth!$L35)","v":0},{"$f":"+'Energy Balance'!O90*(1+Growth!$L35)","v":0},0]
[null,"    Transport - rail",null,{"$f":"+'Energy Balance'!D91*(1+Growth!$L36)","v":0},{"$f":"+'Energy Balance'!E91*(1+Growth!$L36)","v":0},{"$f":"+'Energy Balance'!F91*(1+Growth!$L36)","v":0},{"$f":"+'Energy Balance'!G91*(1+Growth!$L36)","v":0},{"$f":"+'Energy Balance'!H91*(1+Growth!$L36)","v":0},{"$f":"+'Energy Balance'!I91*(1+Growth!$L36)","v":0},0,{"$f":"+'Energy Balance'!K91*(1+Growth!$L36)","v":0},{"$f":"+'Energy Balance'!L91*(1+Growth!$L36)","v":0},{"$f":"+'Energy Balance'!M91*(1+Growth!$L36)","v":0},{"$f":"+'Energy Balance'!N91*(1+Growth!$L36)","v":0},{"$f":"+'Energy Balance'!O91*(1+Growth!$L36)","v":0},0]
[null,"    Transport - domestic air",null,{"$f":"+'Energy Balance'!D92*(1+Growth!$L37)","v":0},{"$f":"+'Energy Balance'!E92*(1+Growth!$L37)","v":0},{"$f":"+'Energy Balance'!F92*(1+Growth!$L37)","v":0},{"$f":"+'Energy Balance'!G92*(1+Growth!$L37)","v":0},{"$f":"+'Energy Balance'!H92*(1+Growth!$L37)","v":0},{"$f":"+'Energy Balance'!I92*(1+Growth!$L37)","v":0},0,{"$f":"+'Energy Balance'!K92*(1+Growth!$L37)","v":0},{"$f":"+'Energy Balance'!L92*(1+Growth!$L37)","v":0},{"$f":"+'Energy Balance'!M92*(1+Growth!$L37)","v":0},{"$f":"+'Energy Balance'!N92*(1+Growth!$L37)","v":0},{"$f":"+'Energy Balance'!O92*(1+Growth!$L37)","v":0},0]
[null,"    Transport - navigation",null,{"$f":"+'Energy Balance'!D93*(1+Growth!$L38)","v":0},{"$f":"+'Energy Balance'!E93*(1+Growth!$L38)","v":0},{"$f":"+'Energy Balance'!F93*(1+Growth!$L38)","v":0},{"$f":"+'Energy Balance'!G93*(1+Growth!$L38)","v":0},{"$f":"+'Energy Balance'!H93*(1+Growth!$L38)","v":0},{"$f":"+'Energy Balance'!I93*(1+Growth!$L38)","v":0},0,{"$f":"+'Energy Balance'!K93*(1+Growth!$L38)","v":0},{"$f":"+'Energy Balance'!L93*(1+Growth!$L38)","v":0},{"$f":"+'Energy Balance'!M93*(1+Growth!$L38)","v":0},{"$f":"+'Energy Balance'!N93*(1+Growth!$L38)","v":0},{"$f":"+'Energy Balance'!O93*(1+Growth!$L38)","v":0},0]
[null,"    Households",null,{"$f":"+'Energy Balance'!D94*(1+Growth!$L42)","v":0},{"$f":"+'Energy Balance'!E94*(1+Growth!$L42)","v":0},{"$f":"+'Energy Balance'!F94*(1+Growth!$L42)","v":0},{"$f":"+'Energy Balance'!G94*(1+Growth!$L42)","v":0},{"$f":"+'Energy Balance'!H94*(1+Growth!$L42)","v":0},{"$f":"+'Energy Balance'!I94*(1+Growth!$L42)","v":0},0,{"$f":"+'Energy Balance'!K94*(1+Growth!$L42)","v":0},{"$f":"+'Energy Balance'!L94*(1+Growth!$L42)","v":0},{"$f":"+'Energy Balance'!M94*(1+Growth!$L42)","v":0},{"$f":"+'Energy Balance'!N94*(1+Growth!$L42)","v":0},{"$f":"+'Energy Balance'!O94*(1+Growth!$L42)","v":0},0]
[null,"    Services",null,{"$f":"+'Energy Balance'!D95*(1+Growth!$L46)","v":0},{"$f":"+'Energy Balance'!E95*(1+Growth!$L46)","v":0},{"$f":"+'Energy Balance'!F95*(1+Growth!$L46)","v":0},{"$f":"+'Energy Balance'!G95*(1+Growth!$L46)","v":0},{"$f":"+'Energy Balance'!H95*(1+Growth!$L46)","v":0},{"$f":"+'Energy Balance'!I95*(1+Growth!$L46)","v":0},0,{"$f":"+'Energy Balance'!K95*(1+Growth!$L46)","v":0},{"$f":"+'Energy Balance'!L95*(1+Growth!$L46)","v":0},{"$f":"+'Energy Balance'!M95*(1+Growth!$L46)","v":0},{"$f":"+'Energy Balance'!N95*(1+Growth!$L46)","v":0},{"$f":"+'Energy Balance'!O95*(1+Growth!$L46)","v":0},0]
[null,"    Agriculture & Fishery",null,{"$f":"+'Energy Balance'!D96*(1+Growth!$L49)","v":0},{"$f":"+'Energy Balance'!E96*(1+Growth!$L49)","v":0},{"$f":"+'Energy Balance'!F96*(1+Growth!$L49)","v":0},{"$f":"+'Energy Balance'!G96*(1+Growth!$L49)","v":0},{"$f":"+'Energy Balance'!H96*(1+Growth!$L49)","v":0},{"$f":"+'Energy Balance'!I96*(1+Growth!$L49)","v":0},0,{"$f":"+'Energy Balance'!K96*(1+Growth!$L49)","v":0},{"$f":"+'Energy Balance'!L96*(1+Growth!$L49)","v":0},{"$f":"+'Energy Balance'!M96*(1+Growth!$L49)","v":0},{"$f":"+'Energy Balance'!N96*(1+Growth!$L49)","v":0},{"$f":"+'Energy Balance'!O96*(1+Growth!$L49)","v":0},0]
[null,"    Non energy uses",null,{"$f":"+'Energy Balance'!D97*(1+Growth!$L74)","v":0},{"$f":"+'Energy Balance'!E97*(1+Growth!$L74)","v":0},{"$f":"+'Energy Balance'!F97*(1+Growth!$L74)","v":0},{"$f":"+'Energy Balance'!G97*(1+Growth!$L74)","v":0},{"$f":"+'Energy Balance'!H97*(1+Growth!$L74)","v":0},{"$f":"+'Energy Balance'!I97*(1+Growth!$L74)","v":0},0,{"$f":"+'Energy Balance'!K97*(1+Growth!$L74)","v":0},{"$f":"+'Energy Balance'!L97*(1+Growth!$L74)","v":0},{"$f":"+'Energy Balance'!M97*(1+Growth!$L74)","v":0},{"$f":"+'Energy Balance'!N97*(1+Growth!$L74)","v":0},{"$f":"+'Energy Balance'!O97*(1+Growth!$L74)","v":0},0]
[]
[]
[null,"Electricity balance in GWh - 2035"]
[null,"Electricity consumption",null,"Gwh",null,"Electricity production","Gwh","Share of production","Efficiency"]
[null,"Total consumption",null,{"$f":"SUM(D246:D265)","v":0},null,"Total",{"$f":"IF(H246=1,0,D245/(1-H246))","v":0}]
[null,"    Industry - steel",null,{"$f":"+'Energy Balance'!D103*(1+Growth!L$33)","v":0},null,"Losses",{"$f":"G245*H246","v":0},{"$f":"+'BAU projected Energy Balances'!H74","v":1}]
[null,"    Industry - chemical",null,{"$f":"+'Energy Balance'!D104*(1+Growth!L$33)","v":0},null,"Fossil",{"$f":"SUM(G248:G251)","v":0},{"$f":"SUM(H248:H251)","v":4}]
[null,"    Industry - non metallic mineral",null,{"$f":"+'Energy Balance'!D105*(1+Growth!L$33)","v":0},null,"Lignite",{"$f":"G$245*H248","v":0},{"$f":"+'BAU projected Energy Balances'!H76","v":1},{"$f":"+'BAU projected Energy Balances'!I76","v":0}]
[null,"    Industry - food processing and beverage",null,{"$f":"+'Energy Balance'!D106*(1+Growth!L$33)","v":0},null,"Coal",{"$f":"G$245*H249","v":0},{"$f":"+'BAU projected Energy Balances'!H77","v":1},{"$f":"+'BAU projected Energy Balances'!I77","v":0}]
[null,"    Industry - construction",null,{"$f":"+'Energy Balance'!D107*(1+Growth!L$33)","v":0},null,"Oil",0,{"$f":"+'BAU projected Energy Balances'!H78","v":1},{"$f":"+'BAU projected Energy Balances'!I78","v":0}]
[null,"    Industry - mining",null,{"$f":"+'Energy Balance'!D108*(1+Growth!L$33)","v":0},null,"Natural Gas",0,{"$f":"+'BAU projected Energy Balances'!H79","v":1},{"$f":"+'BAU projected Energy Balances'!I79","v":0}]
[null,"    Industry - machinery",null,{"$f":"+'Energy Balance'!D109*(1+Growth!L$33)","v":0},null,"Nuclear",0,{"$f":"+'BAU projected Energy Balances'!H80","v":1}]
[null,"    Industry - non ferrous metals",null,{"$f":"+'Energy Balance'!D110*(1+Growth!L$33)","v":0},null,"Net import",0,{"$f":"+'BAU projected Energy Balances'!H81","v":1}]
[null,"    Industry - paper and pulp",null,{"$f":"+'Energy Balance'!D111*(1+Growth!L$33)","v":0},null,"Renewables",{"$f":"SUM(G255:G259)","v":0},{"$f":"SUM(H255:H259)","v":5}]
[null,"    Industry - transport equipment",null,{"$f":"+'Energy Balance'!D112*(1+Growth!L$33)","v":0},null,"Hydro",{"$f":"G$245*H255","v":0},{"$f":"+'BAU projected Energy Balances'!H83","v":1}]
[null,"    Industry - textile and leather",null,{"$f":"+'Energy Balance'!D113*(1+Growth!L$33)","v":0},null,"Wind",{"$f":"G$245*H256","v":0},{"$f":"+'BAU projected Energy Balances'!H84","v":1}]
[null,"    Industry - miscellaneous",null,{"$f":"+'Energy Balance'!D114*(1+Growth!L$33)","v":0},null,"Solar",0,{"$f":"+'BAU projected Energy Balances'!H85","v":1}]
[null,"    Transport - road",null,{"$f":"+'Energy Balance'!D115*(1+Growth!L$39)","v":0},null,"Biomass",0,{"$f":"+'BAU projected Energy Balances'!H86","v":1}]
[null,"    Transport - rail",null,{"$f":"+'Energy Balance'!D116*(1+Growth!L$39)","v":0},null,"Geothermal",0,{"$f":"+'BAU projected Energy Balances'!H87","v":1}]
[null,"    Transport - domestic air",null,{"$f":"+'Energy Balance'!D117*(1+Growth!L$39)","v":0}]
[null,"    Transport - navigation",null,{"$f":"+'Energy Balance'!D118*(1+Growth!L$39)","v":0}]
[null,"    Households",null,{"$f":"+'Energy Balance'!D119*(1+Growth!L$44)","v":0}]
[null,"    Services",null,{"$f":"+'Energy Balance'!D120*(1+Growth!L$47)","v":0}]
[null,"    Agriculture & Fishery",null,{"$f":"+'Energy Balance'!D121*(1+Growth!L$50)","v":0}]
[null,"    Non energy - chemical feedstocs",null,{"$f":"+'Energy Balance'!D122*(1+Growth!L$74)","v":0}]
[]
[]
[]
[]
[]
[]
[null,{"$f":"\"Fossil fuel balance - 2040 - \"&Assumptions!C9","v":"Fossil fuel balance - 2040 - "}]
[null,"TJ units",null,"LPG","Gasoline","Jet Fuel","Diesel","Fueloil","Kerosene and other","Total oil products","Coal","Lignite","Gas","Coke","Petrocoke","Total energy (fossil)"]
[null,"Unit",null,"TJ","TJ","TJ","TJ","TJ","TJ","TJ","TJ","TJ","TJ","TJ","TJ","TJ"]
[null,"Total",null,{"$f":"+D276+D277","v":0},{"$f":"+E276+E277","v":0},{"$f":"+F276+F277","v":0},{"$f":"+G276+G277","v":0},0,{"$f":"+I276+I277","v":0},{"$f":"+J276+J277","v":0},0,{"$f":"+L276+L277","v":0},{"$f":"+M276+M277","v":0},0,0,{"$f":"SUM(J275:O275)","v":0}]
[null,"    Fossil power plants",null,{"$f":"D305/E299","v":0},0,0,0,0,0,{"$f":"SUM(D276:I276)","v":0},{"$f":"K305/L299","v":0},{"$f":"L305/M299","v":0},{"$f":"M305/N299","v":0},null,null,{"$f":"SUM(J276:O276)","v":0}]
[null,"FINAL CONSUMPTION",null,{"$f":"SUM(D278:D297)","v":0},{"$f":"SUM(E278:E297)","v":0},0,{"$f":"SUM(G278:G297)","v":0},0,0,{"$f":"SUM(J278:J297)","v":0},{"$f":"SUM(K278:K297)","v":0},{"$f":"SUM(L278:L297)","v":0},{"$f":"SUM(M278:M297)","v":0},0,0,{"$f":"SUM(J277:O277)","v":0}]
[null,"    Industry - steel",null,{"$f":"+'Energy Balance'!D21*(1+Growth!$M21)","v":0},{"$f":"+'Energy Balance'!E21*(1+Growth!$M21)","v":0},{"$f":"+'Energy Balance'!F21*(1+Growth!$M21)","v":0},{"$f":"+'Energy Balance'!G21*(1+Growth!$M21)","v":0},{"$f":"+'Energy Balance'!H21*(1+Growth!$M21)","v":0},{"$f":"+'Energy Balance'!I21*(1+Growth!$M21)","v":0},{"$f":"+'Energy Balance'!J21*(1+Growth!$M21)","v":0},{"$f":"+'Energy Balance'!K21*(1+Growth!$M21)","v":0},{"$f":"+'Energy Balance'!L21*(1+Growth!$M21)","v":0},{"$f":"+'Energy Balance'!M21*(1+Growth!$M21)","v":0},{"$f":"+'Energy Balance'!N21*(1+Growth!$M21)","v":0},{"$f":"+'Energy Balance'!O21*(1+Growth!$M21)","v":0},{"$f":"SUM(J278:O278)","v":0}]
[null,"    Industry - chemical",null,{"$f":"+'Energy Balance'!D22*(1+Growth!$M22)","v":0},{"$f":"+'Energy Balance'!E22*(1+Growth!$M22)","v":0},{"$f":"+'Energy Balance'!F22*(1+Growth!$M22)","v":0},{"$f":"+'Energy Balance'!G22*(1+Growth!$M22)","v":0},{"$f":"+'Energy Balance'!H22*(1+Growth!$M22)","v":0},{"$f":"+'Energy Balance'!I22*(1+Growth!$M22)","v":0},{"$f":"+'Energy Balance'!J22*(1+Growth!$M22)","v":0},{"$f":"+'Energy Balance'!K22*(1+Growth!$M22)","v":0},{"$f":"+'Energy Balance'!L22*(1+Growth!$M22)","v":0},{"$f":"+'Energy Balance'!M22*(1+Growth!$M22)","v":0},{"$f":"+'Energy Balance'!N22*(1+Growth!$M22)","v":0},{"$f":"+'Energy Balance'!O22*(1+Growth!$M22)","v":0},{"$f":"SUM(J279:O279)","v":0}]
[null,"    Industry - non metallic mineral",null,{"$f":"+'Energy Balance'!D23*(1+Growth!$M23)","v":0},{"$f":"+'Energy Balance'!E23*(1+Growth!$M23)","v":0},{"$f":"+'Energy Balance'!F23*(1+Growth!$M23)","v":0},{"$f":"+'Energy Balance'!G23*(1+Growth!$M23)","v":0},{"$f":"+'Energy Balance'!H23*(1+Growth!$M23)","v":0},{"$f":"+'Energy Balance'!I23*(1+Growth!$M23)","v":0},{"$f":"+'Energy Balance'!J23*(1+Growth!$M23)","v":0},{"$f":"+'Energy Balance'!K23*(1+Growth!$M23)","v":0},{"$f":"+'Energy Balance'!L23*(1+Growth!$M23)","v":0},{"$f":"+'Energy Balance'!M23*(1+Growth!$M23)","v":0},{"$f":"+'Energy Balance'!N23*(1+Growth!$M23)","v":0},{"$f":"+'Energy Balance'!O23*(1+Growth!$M23)","v":0},0]
[null,"    Industry - food processing and beverage",null,{"$f":"+'Energy Balance'!D24*(1+Growth!$M24)","v":0},{"$f":"+'Energy Balance'!E24*(1+Growth!$M24)","v":0},{"$f":"+'Energy Balance'!F24*(1+Growth!$M24)","v":0},{"$f":"+'Energy Balance'!G24*(1+Growth!$M24)","v":0},{"$f":"+'Energy Balance'!H24*(1+Growth!$M24)","v":0},{"$f":"+'Energy Balance'!I24*(1+Growth!$M24)","v":0},{"$f":"+'Energy Balance'!J24*(1+Growth!$M24)","v":0},{"$f":"+'Energy Balance'!K24*(1+Growth!$M24)","v":0},{"$f":"+'Energy Balance'!L24*(1+Growth!$M24)","v":0},{"$f":"+'Energy Balance'!M24*(1+Growth!$M24)","v":0},{"$f":"+'Energy Balance'!N24*(1+Growth!$M24)","v":0},{"$f":"+'Energy Balance'!O24*(1+Growth!$M24)","v":0},0]
[null,"    Industry - construction",null,{"$f":"+'Energy Balance'!D25*(1+Growth!$M25)","v":0},{"$f":"+'Energy Balance'!E25*(1+Growth!$M25)","v":0},{"$f":"+'Energy Balance'!F25*(1+Growth!$M25)","v":0},{"$f":"+'Energy Balance'!G25*(1+Growth!$M25)","v":0},{"$f":"+'Energy Balance'!H25*(1+Growth!$M25)","v":0},{"$f":"+'Energy Balance'!I25*(1+Growth!$M25)","v":0},{"$f":"+'Energy Balance'!J25*(1+Growth!$M25)","v":0},{"$f":"+'Energy Balance'!K25*(1+Growth!$M25)","v":0},{"$f":"+'Energy Balance'!L25*(1+Growth!$M25)","v":0},{"$f":"+'Energy Balance'!M25*(1+Growth!$M25)","v":0},{"$f":"+'Energy Balance'!N25*(1+Growth!$M25)","v":0},{"$f":"+'Energy Balance'!O25*(1+Growth!$M25)","v":0},0]
[null,"    Industry - mining",null,{"$f":"+'Energy Balance'!D26*(1+Growth!$M26)","v":0},{"$f":"+'Energy Balance'!E26*(1+Growth!$M26)","v":0},{"$f":"+'Energy Balance'!F26*(1+Growth!$M26)","v":0},{"$f":"+'Energy Balance'!G26*(1+Growth!$M26)","v":0},{"$f":"+'Energy Balance'!H26*(1+Growth!$M26)","v":0},{"$f":"+'Energy Balance'!I26*(1+Growth!$M26)","v":0},{"$f":"+'Energy Balance'!J26*(1+Growth!$M26)","v":0},{"$f":"+'Energy Balance'!K26*(1+Growth!$M26)","v":0},{"$f":"+'Energy Balance'!L26*(1+Growth!$M26)","v":0},{"$f":"+'Energy Balance'!M26*(1+Growth!$M26)","v":0},{"$f":"+'Energy Balance'!N26*(1+Growth!$M26)","v":0},{"$f":"+'Energy Balance'!O26*(1+Growth!$M26)","v":0},0]
[null,"    Industry - machinery",null,{"$f":"+'Energy Balance'!D27*(1+Growth!$M27)","v":0},{"$f":"+'Energy Balance'!E27*(1+Growth!$M27)","v":0},{"$f":"+'Energy Balance'!F27*(1+Growth!$M27)","v":0},{"$f":"+'Energy Balance'!G27*(1+Growth!$M27)","v":0},{"$f":"+'Energy Balance'!H27*(1+Growth!$M27)","v":0},{"$f":"+'Energy Balance'!I27*(1+Growth!$M27)","v":0},{"$f":"+'Energy Balance'!J27*(1+Growth!$M27)","v":0},{"$f":"+'Energy Balance'!K27*(1+Growth!$M27)","v":0},{"$f":"+'Energy Balance'!L27*(1+Growth!$M27)","v":0},{"$f":"+'Energy Balance'!M27*(1+Growth!$M27)","v":0},{"$f":"+'Energy Balance'!N27*(1+Growth!$M27)","v":0},{"$f":"+'Energy Balance'!O27*(1+Growth!$M27)","v":0},0]
[null,"    Industry - non ferrous metals",null,{"$f":"+'Energy Balance'!D28*(1+Growth!$M28)","v":0},{"$f":"+'Energy Balance'!E28*(1+Growth!$M28)","v":0},{"$f":"+'Energy Balance'!F28*(1+Growth!$M28)","v":0},{"$f":"+'Energy Balance'!G28*(1+Growth!$M28)","v":0},{"$f":"+'Energy Balance'!H28*(1+Growth!$M28)","v":0},{"$f":"+'Energy Balance'!I28*(1+Growth!$M28)","v":0},{"$f":"+'Energy Balance'!J28*(1+Growth!$M28)","v":0},{"$f":"+'Energy Balance'!K28*(1+Growth!$M28)","v":0},{"$f":"+'Energy Balance'!L28*(1+Growth!$M28)","v":0},{"$f":"+'Energy Balance'!M28*(1+Growth!$M28)","v":0},{"$f":"+'Energy Balance'!N28*(1+Growth!$M28)","v":0},{"$f":"+'Energy Balance'!O28*(1+Growth!$M28)","v":0},0]
[null,"    Industry - paper and pulp",null,{"$f":"+'Energy Balance'!D29*(1+Growth!$M29)","v":0},{"$f":"+'Energy Balance'!E29*(1+Growth!$M29)","v":0},{"$f":"+'Energy Balance'!F29*(1+Growth!$M29)","v":0},{"$f":"+'Energy Balance'!G29*(1+Growth!$M29)","v":0},{"$f":"+'Energy Balance'!H29*(1+Growth!$M29)","v":0},{"$f":"+'Energy Balance'!I29*(1+Growth!$M29)","v":0},{"$f":"+'Energy Balance'!J29*(1+Growth!$M29)","v":0},{"$f":"+'Energy Balance'!K29*(1+Growth!$M29)","v":0},{"$f":"+'Energy Balance'!L29*(1+Growth!$M29)","v":0},{"$f":"+'Energy Balance'!M29*(1+Growth!$M29)","v":0},{"$f":"+'Energy Balance'!N29*(1+Growth!$M29)","v":0},{"$f":"+'Energy Balance'!O29*(1+Growth!$M29)","v":0},0]
[null,"    Industry - transport equipment",null,{"$f":"+'Energy Balance'!D30*(1+Growth!$M30)","v":0},{"$f":"+'Energy Balance'!E30*(1+Growth!$M30)","v":0},{"$f":"+'Energy Balance'!F30*(1+Growth!$M30)","v":0},{"$f":"+'Energy Balance'!G30*(1+Growth!$M30)","v":0},{"$f":"+'Energy Balance'!H30*(1+Growth!$M30)","v":0},{"$f":"+'Energy Balance'!I30*(1+Growth!$M30)","v":0},{"$f":"+'Energy Balance'!J30*(1+Growth!$M30)","v":0},{"$f":"+'Energy Balance'!K30*(1+Growth!$M30)","v":0},{"$f":"+'Energy Balance'!L30*(1+Growth!$M30)","v":0},{"$f":"+'Energy Balance'!M30*(1+Growth!$M30)","v":0},{"$f":"+'Energy Balance'!N30*(1+Growth!$M30)","v":0},{"$f":"+'Energy Balance'!O30*(1+Growth!$M30)","v":0},0]
[null,"    Industry - textile and leather",null,{"$f":"+'Energy Balance'!D31*(1+Growth!$M31)","v":0},{"$f":"+'Energy Balance'!E31*(1+Growth!$M31)","v":0},{"$f":"+'Energy Balance'!F31*(1+Growth!$M31)","v":0},{"$f":"+'Energy Balance'!G31*(1+Growth!$M31)","v":0},{"$f":"+'Energy Balance'!H31*(1+Growth!$M31)","v":0},{"$f":"+'Energy Balance'!I31*(1+Growth!$M31)","v":0},{"$f":"+'Energy Balance'!J31*(1+Growth!$M31)","v":0},{"$f":"+'Energy Balance'!K31*(1+Growth!$M31)","v":0},{"$f":"+'Energy Balance'!L31*(1+Growth!$M31)","v":0},{"$f":"+'Energy Balance'!M31*(1+Growth!$M31)","v":0},{"$f":"+'Energy Balance'!N31*(1+Growth!$M31)","v":0},{"$f":"+'Energy Balance'!O31*(1+Growth!$M31)","v":0},0]
[null,"    Industry - miscellaneous",null,{"$f":"+'Energy Balance'!D32*(1+Growth!$M32)","v":0},{"$f":"+'Energy Balance'!E32*(1+Growth!$M32)","v":0},{"$f":"+'Energy Balance'!F32*(1+Growth!$M32)","v":0},{"$f":"+'Energy Balance'!G32*(1+Growth!$M32)","v":0},{"$f":"+'Energy Balance'!H32*(1+Growth!$M32)","v":0},{"$f":"+'Energy Balance'!I32*(1+Growth!$M32)","v":0},{"$f":"+'Energy Balance'!J32*(1+Growth!$M32)","v":0},{"$f":"+'Energy Balance'!K32*(1+Growth!$M32)","v":0},{"$f":"+'Energy Balance'!L32*(1+Growth!$M32)","v":0},{"$f":"+'Energy Balance'!M32*(1+Growth!$M32)","v":0},{"$f":"+'Energy Balance'!N32*(1+Growth!$M32)","v":0},{"$f":"+'Energy Balance'!O32*(1+Growth!$M32)","v":0},0]
[null,"    Transport - road",null,{"$f":"+'Energy Balance'!D33*(1+Growth!$M35)","v":0},{"$f":"+'Energy Balance'!E33*(1+Growth!$M35)","v":0},{"$f":"+'Energy Balance'!F33*(1+Growth!$M35)","v":0},{"$f":"+'Energy Balance'!G33*(1+Growth!$M35)","v":0},{"$f":"+'Energy Balance'!H33*(1+Growth!$M35)","v":0},{"$f":"+'Energy Balance'!I33*(1+Growth!$M35)","v":0},{"$f":"+'Energy Balance'!J33*(1+Growth!$M35)","v":0},{"$f":"+'Energy Balance'!K33*(1+Growth!$M35)","v":0},{"$f":"+'Energy Balance'!L33*(1+Growth!$M35)","v":0},{"$f":"+'Energy Balance'!M33*(1+Growth!$M35)","v":0},{"$f":"+'Energy Balance'!N33*(1+Growth!$M35)","v":0},{"$f":"+'Energy Balance'!O33*(1+Growth!$M35)","v":0},0]
[null,"    Transport - rail",null,{"$f":"+'Energy Balance'!D34*(1+Growth!$M36)","v":0},{"$f":"+'Energy Balance'!E34*(1+Growth!$M36)","v":0},{"$f":"+'Energy Balance'!F34*(1+Growth!$M36)","v":0},{"$f":"+'Energy Balance'!G34*(1+Growth!$M36)","v":0},{"$f":"+'Energy Balance'!H34*(1+Growth!$M36)","v":0},{"$f":"+'Energy Balance'!I34*(1+Growth!$M36)","v":0},{"$f":"+'Energy Balance'!J34*(1+Growth!$M36)","v":0},{"$f":"+'Energy Balance'!K34*(1+Growth!$M36)","v":0},{"$f":"+'Energy Balance'!L34*(1+Growth!$M36)","v":0},{"$f":"+'Energy Balance'!M34*(1+Growth!$M36)","v":0},{"$f":"+'Energy Balance'!N34*(1+Growth!$M36)","v":0},{"$f":"+'Energy Balance'!O34*(1+Growth!$M36)","v":0},{"$f":"SUM(J291:O291)","v":0}]
[null,"    Transport - domestic air",null,{"$f":"+'Energy Balance'!D35*(1+Growth!$M37)","v":0},{"$f":"+'Energy Balance'!E35*(1+Growth!$M37)","v":0},{"$f":"+'Energy Balance'!F35*(1+Growth!$M37)","v":0},{"$f":"+'Energy Balance'!G35*(1+Growth!$M37)","v":0},{"$f":"+'Energy Balance'!H35*(1+Growth!$M37)","v":0},{"$f":"+'Energy Balance'!I35*(1+Growth!$M37)","v":0},{"$f":"+'Energy Balance'!J35*(1+Growth!$M37)","v":0},{"$f":"+'Energy Balance'!K35*(1+Growth!$M37)","v":0},{"$f":"+'Energy Balance'!L35*(1+Growth!$M37)","v":0},{"$f":"+'Energy Balance'!M35*(1+Growth!$M37)","v":0},{"$f":"+'Energy Balance'!N35*(1+Growth!$M37)","v":0},{"$f":"+'Energy Balance'!O35*(1+Growth!$M37)","v":0},0]
[null,"    Transport - navigation",null,{"$f":"+'Energy Balance'!D36*(1+Growth!$M38)","v":0},{"$f":"+'Energy Balance'!E36*(1+Growth!$M38)","v":0},{"$f":"+'Energy Balance'!F36*(1+Growth!$M38)","v":0},{"$f":"+'Energy Balance'!G36*(1+Growth!$M38)","v":0},{"$f":"+'Energy Balance'!H36*(1+Growth!$M38)","v":0},{"$f":"+'Energy Balance'!I36*(1+Growth!$M38)","v":0},{"$f":"+'Energy Balance'!J36*(1+Growth!$M38)","v":0},{"$f":"+'Energy Balance'!K36*(1+Growth!$M38)","v":0},{"$f":"+'Energy Balance'!L36*(1+Growth!$M38)","v":0},{"$f":"+'Energy Balance'!M36*(1+Growth!$M38)","v":0},{"$f":"+'Energy Balance'!N36*(1+Growth!$M38)","v":0},{"$f":"+'Energy Balance'!O36*(1+Growth!$M38)","v":0},0]
[null,"    Households",null,{"$f":"+'Energy Balance'!D37*(1+Growth!$M42)","v":0},{"$f":"+'Energy Balance'!E37*(1+Growth!$M42)","v":0},{"$f":"+'Energy Balance'!F37*(1+Growth!$M42)","v":0},{"$f":"+'Energy Balance'!G37*(1+Growth!$M42)","v":0},{"$f":"+'Energy Balance'!H37*(1+Growth!$M42)","v":0},{"$f":"+'Energy Balance'!I37*(1+Growth!$M42)","v":0},{"$f":"+'Energy Balance'!J37*(1+Growth!$M42)","v":0},{"$f":"+'Energy Balance'!K37*(1+Growth!$M42)","v":0},{"$f":"+'Energy Balance'!L37*(1+Growth!$M42)","v":0},{"$f":"+'Energy Balance'!M37*(1+Growth!$M42)","v":0},{"$f":"+'Energy Balance'!N37*(1+Growth!$M42)","v":0},{"$f":"+'Energy Balance'!O37*(1+Growth!$M42)","v":0},0]
[null,"    Services",null,{"$f":"+'Energy Balance'!D38*(1+Growth!$M46)","v":0},{"$f":"+'Energy Balance'!E38*(1+Growth!$M46)","v":0},{"$f":"+'Energy Balance'!F38*(1+Growth!$M46)","v":0},{"$f":"+'Energy Balance'!G38*(1+Growth!$M46)","v":0},{"$f":"+'Energy Balance'!H38*(1+Growth!$M46)","v":0},{"$f":"+'Energy Balance'!I38*(1+Growth!$M46)","v":0},{"$f":"+'Energy Balance'!J38*(1+Growth!$M46)","v":0},{"$f":"+'Energy Balance'!K38*(1+Growth!$M46)","v":0},{"$f":"+'Energy Balance'!L38*(1+Growth!$M46)","v":0},{"$f":"+'Energy Balance'!M38*(1+Growth!$M46)","v":0},{"$f":"+'Energy Balance'!N38*(1+Growth!$M46)","v":0},{"$f":"+'Energy Balance'!O38*(1+Growth!$M46)","v":0},0]
[null,"    Agriculture & Fishery",null,{"$f":"+'Energy Balance'!D39*(1+Growth!$M49)","v":0},{"$f":"+'Energy Balance'!E39*(1+Growth!$M49)","v":0},{"$f":"+'Energy Balance'!F39*(1+Growth!$M49)","v":0},{"$f":"+'Energy Balance'!G39*(1+Growth!$M49)","v":0},{"$f":"+'Energy Balance'!H39*(1+Growth!$M49)","v":0},{"$f":"+'Energy Balance'!I39*(1+Growth!$M49)","v":0},{"$f":"+'Energy Balance'!J39*(1+Growth!$M49)","v":0},{"$f":"+'Energy Balance'!K39*(1+Growth!$M49)","v":0},{"$f":"+'Energy Balance'!L39*(1+Growth!$M49)","v":0},{"$f":"+'Energy Balance'!M39*(1+Growth!$M49)","v":0},{"$f":"+'Energy Balance'!N39*(1+Growth!$M49)","v":0},{"$f":"+'Energy Balance'!O39*(1+Growth!$M49)","v":0},0]
[null,"    Non energy uses",null,{"$f":"+'Energy Balance'!D40*(1+Growth!$M74)","v":0},{"$f":"+'Energy Balance'!E40*(1+Growth!$M74)","v":0},{"$f":"+'Energy Balance'!F40*(1+Growth!$M74)","v":0},{"$f":"+'Energy Balance'!G40*(1+Growth!$M74)","v":0},{"$f":"+'Energy Balance'!H40*(1+Growth!$M74)","v":0},{"$f":"+'Energy Balance'!I40*(1+Growth!$M74)","v":0},{"$f":"+'Energy Balance'!J40*(1+Growth!$M74)","v":0},{"$f":"+'Energy Balance'!K40*(1+Growth!$M74)","v":0},{"$f":"+'Energy Balance'!L40*(1+Growth!$M74)","v":0},{"$f":"+'Energy Balance'!M40*(1+Growth!$M74)","v":0},{"$f":"+'Energy Balance'!N40*(1+Growth!$M74)","v":0},{"$f":"+'Energy Balance'!O40*(1+Growth!$M74)","v":0},{"$f":"SUM(J297:O297)","v":0}]
[]
[null,null,null,null,2.3884589662749593E-2,2.3884589662749593E-2,2.3884589662749593E-2,2.3884589662749593E-2,2.3884589662749593E-2,2.3884589662749593E-2,null,2.3884589662749593E-2,2.3884589662749593E-2,2.3884589662749593E-2,2.3884589662749593E-2,2.3884589662749593E-2]
[]
[null,{"$f":"\"Fossil fuel balance - 2040 - \"&Assumptions!C9","v":"Fossil fuel balance - 2040 - "}]
[null,"ktoe units",null,"LPG","Gasoline","Jet Fuel","Diesel","Fueloil","Kerosene and other","Total oil products","Coal","Lignite","Gas","Coke","Petrocoke","Total"]
[null,"Unit",null,"ktoe","ktoe","ktoe","ktoe","ktoe","ktoe","ktoe","ktoe","ktoe","ktoe","ktoe","ktoe","ktoe"]
[null,"Total consumption",null,{"$f":"+D305+D306","v":0},{"$f":"+E305+E306","v":0},0,0,0,0,0,0,0,0,0,{"$f":"+O305+O306","v":0},{"$f":"+P305+P306","v":0}]
[null,"    Fossil power plants",null,{"$f":"IFERROR(IF($G333=0,0,$J305*IF('Energy Balance'!$J76>0,'Energy Balance'!D76/'Energy Balance'!$J76,0)),0)","v":0},{"$f":"IFERROR(IF($G333=0,0,$J305*IF('Energy Balance'!$J76>0,'Energy Balance'!E76/'Energy Balance'!$J76,0)),0)","v":0},{"$f":"IFERROR(IF($G333=0,0,$J305*IF('Energy Balance'!$J76>0,'Energy Balance'!F76/'Energy Balance'!$J76,0)),0)","v":0},{"$f":"IFERROR(IF($G333=0,0,$J305*IF('Energy Balance'!$J76>0,'Energy Balance'!G76/'Energy Balance'!$J76,0)),0)","v":0},{"$f":"IFERROR(IF($G333=0,0,$J305*IF('Energy Balance'!$J76>0,'Energy Balance'!H76/'Energy Balance'!$J76,0)),0)","v":0},{"$f":"IFERROR(IF($G333=0,0,$J305*IF('Energy Balance'!$J76>0,'Energy Balance'!I76/'Energy Balance'!$J76,0)),0)","v":0},{"$f":"IFERROR(IF(G333=0,0,G336/11.63/I336),0)","v":0},{"$f":"IF(I335>0,G335/11.63/I335,0)","v":0},{"$f":"IF(I334>0,G334/11.63/I334,0)","v":0},{"$f":"IF(I337>0,G337/11.63/I337,0)","v":0},null,null,{"$f":"SUM(J305:O305)","v":0}]
[null,"FINAL CONSUMPTION",null,{"$f":"SUM(D307:D326)","v":0},{"$f":"SUM(E307:E326)","v":0},0,{"$f":"SUM(G307:G326)","v":0},0,0,{"$f":"SUM(D306:I306)","v":0},{"$f":"SUM(K307:K326)","v":0},{"$f":"SUM(L307:L326)","v":0},{"$f":"SUM(M307:M326)","v":0},{"$f":"SUM(N307:N326)","v":0},{"$f":"SUM(O307:O326)","v":0},{"$f":"SUM(P307:P326)","v":0}]
[null,"    Industry - steel",null,{"$f":"+'Energy Balance'!D78*(1+Growth!$M21)","v":0},{"$f":"+'Energy Balance'!E78*(1+Growth!$M21)","v":0},{"$f":"+'Energy Balance'!F78*(1+Growth!$M21)","v":0},{"$f":"+'Energy Balance'!G78*(1+Growth!$M21)","v":0},{"$f":"+'Energy Balance'!H78*(1+Growth!$M21)","v":0},{"$f":"+'Energy Balance'!I78*(1+Growth!$M21)","v":0},{"$f":"SUM(D307:I307)","v":0},{"$f":"+'Energy Balance'!K78*(1+Growth!$M21)","v":0},{"$f":"+'Energy Balance'!L78*(1+Growth!$M21)","v":0},{"$f":"+'Energy Balance'!M78*(1+Growth!$M21)","v":0},{"$f":"+'Energy Balance'!N78*(1+Growth!$M21)","v":0},{"$f":"+'Energy Balance'!O78*(1+Growth!$M21)","v":0},{"$f":"SUM(J307:O307)","v":0}]
[null,"    Industry - chemical",null,{"$f":"+'Energy Balance'!D79*(1+Growth!$M22)","v":0},{"$f":"+'Energy Balance'!E79*(1+Growth!$M22)","v":0},{"$f":"+'Energy Balance'!F79*(1+Growth!$M22)","v":0},{"$f":"+'Energy Balance'!G79*(1+Growth!$M22)","v":0},{"$f":"+'Energy Balance'!H79*(1+Growth!$M22)","v":0},{"$f":"+'Energy Balance'!I79*(1+Growth!$M22)","v":0},{"$f":"SUM(D308:I308)","v":0},{"$f":"+'Energy Balance'!K79*(1+Growth!$M22)","v":0},{"$f":"+'Energy Balance'!L79*(1+Growth!$M22)","v":0},{"$f":"+'Energy Balance'!M79*(1+Growth!$M22)","v":0},{"$f":"+'Energy Balance'!N79*(1+Growth!$M22)","v":0},{"$f":"+'Energy Balance'!O79*(1+Growth!$M22)","v":0},0]
[null,"    Industry - non metallic mineral",null,{"$f":"+'Energy Balance'!D80*(1+Growth!$M23)","v":0},{"$f":"+'Energy Balance'!E80*(1+Growth!$M23)","v":0},{"$f":"+'Energy Balance'!F80*(1+Growth!$M23)","v":0},{"$f":"+'Energy Balance'!G80*(1+Growth!$M23)","v":0},{"$f":"+'Energy Balance'!H80*(1+Growth!$M23)","v":0},{"$f":"+'Energy Balance'!I80*(1+Growth!$M23)","v":0},{"$f":"SUM(D309:I309)","v":0},{"$f":"+'Energy Balance'!K80*(1+Growth!$M23)","v":0},{"$f":"+'Energy Balance'!L80*(1+Growth!$M23)","v":0},{"$f":"+'Energy Balance'!M80*(1+Growth!$M23)","v":0},{"$f":"+'Energy Balance'!N80*(1+Growth!$M23)","v":0},{"$f":"+'Energy Balance'!O80*(1+Growth!$M23)","v":0},0]
[null,"    Industry - food processing and beverage",null,{"$f":"+'Energy Balance'!D81*(1+Growth!$M24)","v":0},{"$f":"+'Energy Balance'!E81*(1+Growth!$M24)","v":0},{"$f":"+'Energy Balance'!F81*(1+Growth!$M24)","v":0},{"$f":"+'Energy Balance'!G81*(1+Growth!$M24)","v":0},{"$f":"+'Energy Balance'!H81*(1+Growth!$M24)","v":0},{"$f":"+'Energy Balance'!I81*(1+Growth!$M24)","v":0},0,{"$f":"+'Energy Balance'!K81*(1+Growth!$M24)","v":0},{"$f":"+'Energy Balance'!L81*(1+Growth!$M24)","v":0},{"$f":"+'Energy Balance'!M81*(1+Growth!$M24)","v":0},{"$f":"+'Energy Balance'!N81*(1+Growth!$M24)","v":0},{"$f":"+'Energy Balance'!O81*(1+Growth!$M24)","v":0},0]
[null,"    Industry - construction",null,{"$f":"+'Energy Balance'!D82*(1+Growth!$M25)","v":0},{"$f":"+'Energy Balance'!E82*(1+Growth!$M25)","v":0},{"$f":"+'Energy Balance'!F82*(1+Growth!$M25)","v":0},{"$f":"+'Energy Balance'!G82*(1+Growth!$M25)","v":0},{"$f":"+'Energy Balance'!H82*(1+Growth!$M25)","v":0},{"$f":"+'Energy Balance'!I82*(1+Growth!$M25)","v":0},{"$f":"SUM(D311:I311)","v":0},{"$f":"+'Energy Balance'!K82*(1+Growth!$M25)","v":0},{"$f":"+'Energy Balance'!L82*(1+Growth!$M25)","v":0},{"$f":"+'Energy Balance'!M82*(1+Growth!$M25)","v":0},{"$f":"+'Energy Balance'!N82*(1+Growth!$M25)","v":0},{"$f":"+'Energy Balance'!O82*(1+Growth!$M25)","v":0},0]
[null,"    Industry - mining",null,{"$f":"+'Energy Balance'!D83*(1+Growth!$M26)","v":0},{"$f":"+'Energy Balance'!E83*(1+Growth!$M26)","v":0},{"$f":"+'Energy Balance'!F83*(1+Growth!$M26)","v":0},{"$f":"+'Energy Balance'!G83*(1+Growth!$M26)","v":0},{"$f":"+'Energy Balance'!H83*(1+Growth!$M26)","v":0},{"$f":"+'Energy Balance'!I83*(1+Growth!$M26)","v":0},0,{"$f":"+'Energy Balance'!K83*(1+Growth!$M26)","v":0},{"$f":"+'Energy Balance'!L83*(1+Growth!$M26)","v":0},{"$f":"+'Energy Balance'!M83*(1+Growth!$M26)","v":0},{"$f":"+'Energy Balance'!N83*(1+Growth!$M26)","v":0},{"$f":"+'Energy Balance'!O83*(1+Growth!$M26)","v":0},0]
[null,"    Industry - machinery",null,{"$f":"+'Energy Balance'!D84*(1+Growth!$M27)","v":0},{"$f":"+'Energy Balance'!E84*(1+Growth!$M27)","v":0},{"$f":"+'Energy Balance'!F84*(1+Growth!$M27)","v":0},{"$f":"+'Energy Balance'!G84*(1+Growth!$M27)","v":0},{"$f":"+'Energy Balance'!H84*(1+Growth!$M27)","v":0},{"$f":"+'Energy Balance'!I84*(1+Growth!$M27)","v":0},0,{"$f":"+'Energy Balance'!K84*(1+Growth!$M27)","v":0},{"$f":"+'Energy Balance'!L84*(1+Growth!$M27)","v":0},{"$f":"+'Energy Balance'!M84*(1+Growth!$M27)","v":0},{"$f":"+'Energy Balance'!N84*(1+Growth!$M27)","v":0},{"$f":"+'Energy Balance'!O84*(1+Growth!$M27)","v":0},0]
[null,"    Industry - non ferrous metals",null,{"$f":"+'Energy Balance'!D85*(1+Growth!$M28)","v":0},{"$f":"+'Energy Balance'!E85*(1+Growth!$M28)","v":0},{"$f":"+'Energy Balance'!F85*(1+Growth!$M28)","v":0},{"$f":"+'Energy Balance'!G85*(1+Growth!$M28)","v":0},{"$f":"+'Energy Balance'!H85*(1+Growth!$M28)","v":0},{"$f":"+'Energy Balance'!I85*(1+Growth!$M28)","v":0},0,{"$f":"+'Energy Balance'!K85*(1+Growth!$M28)","v":0},{"$f":"+'Energy Balance'!L85*(1+Growth!$M28)","v":0},{"$f":"+'Energy Balance'!M85*(1+Growth!$M28)","v":0},{"$f":"+'Energy Balance'!N85*(1+Growth!$M28)","v":0},{"$f":"+'Energy Balance'!O85*(1+Growth!$M28)","v":0},0]
[null,"    Industry - paper and pulp",null,{"$f":"+'Energy Balance'!D86*(1+Growth!$M29)","v":0},{"$f":"+'Energy Balance'!E86*(1+Growth!$M29)","v":0},{"$f":"+'Energy Balance'!F86*(1+Growth!$M29)","v":0},{"$f":"+'Energy Balance'!G86*(1+Growth!$M29)","v":0},{"$f":"+'Energy Balance'!H86*(1+Growth!$M29)","v":0},{"$f":"+'Energy Balance'!I86*(1+Growth!$M29)","v":0},0,{"$f":"+'Energy Balance'!K86*(1+Growth!$M29)","v":0},{"$f":"+'Energy Balance'!L86*(1+Growth!$M29)","v":0},{"$f":"+'Energy Balance'!M86*(1+Growth!$M29)","v":0},{"$f":"+'Energy Balance'!N86*(1+Growth!$M29)","v":0},{"$f":"+'Energy Balance'!O86*(1+Growth!$M29)","v":0},0]
[null,"    Industry - transport equipment",null,{"$f":"+'Energy Balance'!D87*(1+Growth!$M30)","v":0},{"$f":"+'Energy Balance'!E87*(1+Growth!$M30)","v":0},{"$f":"+'Energy Balance'!F87*(1+Growth!$M30)","v":0},{"$f":"+'Energy Balance'!G87*(1+Growth!$M30)","v":0},{"$f":"+'Energy Balance'!H87*(1+Growth!$M30)","v":0},{"$f":"+'Energy Balance'!I87*(1+Growth!$M30)","v":0},0,{"$f":"+'Energy Balance'!K87*(1+Growth!$M30)","v":0},{"$f":"+'Energy Balance'!L87*(1+Growth!$M30)","v":0},{"$f":"+'Energy Balance'!M87*(1+Growth!$M30)","v":0},{"$f":"+'Energy Balance'!N87*(1+Growth!$M30)","v":0},{"$f":"+'Energy Balance'!O87*(1+Growth!$M30)","v":0},0]
[null,"    Industry - textile and leather",null,{"$f":"+'Energy Balance'!D88*(1+Growth!$M31)","v":0},{"$f":"+'Energy Balance'!E88*(1+Growth!$M31)","v":0},{"$f":"+'Energy Balance'!F88*(1+Growth!$M31)","v":0},{"$f":"+'Energy Balance'!G88*(1+Growth!$M31)","v":0},{"$f":"+'Energy Balance'!H88*(1+Growth!$M31)","v":0},{"$f":"+'Energy Balance'!I88*(1+Growth!$M31)","v":0},0,{"$f":"+'Energy Balance'!K88*(1+Growth!$M31)","v":0},{"$f":"+'Energy Balance'!L88*(1+Growth!$M31)","v":0},{"$f":"+'Energy Balance'!M88*(1+Growth!$M31)","v":0},{"$f":"+'Energy Balance'!N88*(1+Growth!$M31)","v":0},{"$f":"+'Energy Balance'!O88*(1+Growth!$M31)","v":0},{"$f":"SUM(J317:O317)","v":0}]
[null,"    Industry - miscellaneous",null,{"$f":"+'Energy Balance'!D89*(1+Growth!$M32)","v":0},{"$f":"+'Energy Balance'!E89*(1+Growth!$M32)","v":0},{"$f":"+'Energy Balance'!F89*(1+Growth!$M32)","v":0},{"$f":"+'Energy Balance'!G89*(1+Growth!$M32)","v":0},{"$f":"+'Energy Balance'!H89*(1+Growth!$M32)","v":0},{"$f":"+'Energy Balance'!I89*(1+Growth!$M32)","v":0},{"$f":"SUM(D318:I318)","v":0},{"$f":"+'Energy Balance'!K89*(1+Growth!$M32)","v":0},{"$f":"+'Energy Balance'!L89*(1+Growth!$M32)","v":0},{"$f":"+'Energy Balance'!M89*(1+Growth!$M32)","v":0},{"$f":"+'Energy Balance'!N89*(1+Growth!$M32)","v":0},{"$f":"+'Energy Balance'!O89*(1+Growth!$M32)","v":0},0]
[null,"    Transport - road",null,{"$f":"+'Energy Balance'!D90*(1+Growth!$M35)","v":0},{"$f":"+'Energy Balance'!E90*(1+Growth!$M35)","v":0},{"$f":"+'Energy Balance'!F90*(1+Growth!$M35)","v":0},{"$f":"+'Energy Balance'!G90*(1+Growth!$M35)","v":0},{"$f":"+'Energy Balance'!H90*(1+Growth!$M35)","v":0},{"$f":"+'Energy Balance'!I90*(1+Growth!$M35)","v":0},0,{"$f":"+'Energy Balance'!K90*(1+Growth!$M35)","v":0},{"$f":"+'Energy Balance'!L90*(1+Growth!$M35)","v":0},{"$f":"+'Energy Balance'!M90*(1+Growth!$M35)","v":0},{"$f":"+'Energy Balance'!N90*(1+Growth!$M35)","v":0},{"$f":"+'Energy Balance'!O90*(1+Growth!$M35)","v":0},0]
[null,"    Transport - rail",null,{"$f":"+'Energy Balance'!D91*(1+Growth!$M36)","v":0},{"$f":"+'Energy Balance'!E91*(1+Growth!$M36)","v":0},{"$f":"+'Energy Balance'!F91*(1+Growth!$M36)","v":0},{"$f":"+'Energy Balance'!G91*(1+Growth!$M36)","v":0},{"$f":"+'Energy Balance'!H91*(1+Growth!$M36)","v":0},{"$f":"+'Energy Balance'!I91*(1+Growth!$M36)","v":0},0,{"$f":"+'Energy Balance'!K91*(1+Growth!$M36)","v":0},{"$f":"+'Energy Balance'!L91*(1+Growth!$M36)","v":0},{"$f":"+'Energy Balance'!M91*(1+Growth!$M36)","v":0},{"$f":"+'Energy Balance'!N91*(1+Growth!$M36)","v":0},{"$f":"+'Energy Balance'!O91*(1+Growth!$M36)","v":0},0]
[null,"    Transport - domestic air",null,{"$f":"+'Energy Balance'!D92*(1+Growth!$M37)","v":0},{"$f":"+'Energy Balance'!E92*(1+Growth!$M37)","v":0},{"$f":"+'Energy Balance'!F92*(1+Growth!$M37)","v":0},{"$f":"+'Energy Balance'!G92*(1+Growth!$M37)","v":0},{"$f":"+'Energy Balance'!H92*(1+Growth!$M37)","v":0},{"$f":"+'Energy Balance'!I92*(1+Growth!$M37)","v":0},0,{"$f":"+'Energy Balance'!K92*(1+Growth!$M37)","v":0},{"$f":"+'Energy Balance'!L92*(1+Growth!$M37)","v":0},{"$f":"+'Energy Balance'!M92*(1+Growth!$M37)","v":0},{"$f":"+'Energy Balance'!N92*(1+Growth!$M37)","v":0},{"$f":"+'Energy Balance'!O92*(1+Growth!$M37)","v":0},0]
[null,"    Transport - navigation",null,{"$f":"+'Energy Balance'!D93*(1+Growth!$M38)","v":0},{"$f":"+'Energy Balance'!E93*(1+Growth!$M38)","v":0},{"$f":"+'Energy Balance'!F93*(1+Growth!$M38)","v":0},{"$f":"+'Energy Balance'!G93*(1+Growth!$M38)","v":0},{"$f":"+'Energy Balance'!H93*(1+Growth!$M38)","v":0},{"$f":"+'Energy Balance'!I93*(1+Growth!$M38)","v":0},0,{"$f":"+'Energy Balance'!K93*(1+Growth!$M38)","v":0},{"$f":"+'Energy Balance'!L93*(1+Growth!$M38)","v":0},{"$f":"+'Energy Balance'!M93*(1+Growth!$M38)","v":0},{"$f":"+'Energy Balance'!N93*(1+Growth!$M38)","v":0},{"$f":"+'Energy Balance'!O93*(1+Growth!$M38)","v":0},0]
[null,"    Households",null,{"$f":"+'Energy Balance'!D94*(1+Growth!$M42)","v":0},{"$f":"+'Energy Balance'!E94*(1+Growth!$M42)","v":0},{"$f":"+'Energy Balance'!F94*(1+Growth!$M42)","v":0},{"$f":"+'Energy Balance'!G94*(1+Growth!$M42)","v":0},{"$f":"+'Energy Balance'!H94*(1+Growth!$M42)","v":0},{"$f":"+'Energy Balance'!I94*(1+Growth!$M42)","v":0},0,{"$f":"+'Energy Balance'!K94*(1+Growth!$M42)","v":0},{"$f":"+'Energy Balance'!L94*(1+Growth!$M42)","v":0},{"$f":"+'Energy Balance'!M94*(1+Growth!$M42)","v":0},{"$f":"+'Energy Balance'!N94*(1+Growth!$M42)","v":0},{"$f":"+'Energy Balance'!O94*(1+Growth!$M42)","v":0},0]
[null,"    Services",null,{"$f":"+'Energy Balance'!D95*(1+Growth!$M46)","v":0},{"$f":"+'Energy Balance'!E95*(1+Growth!$M46)","v":0},{"$f":"+'Energy Balance'!F95*(1+Growth!$M46)","v":0},{"$f":"+'Energy Balance'!G95*(1+Growth!$M46)","v":0},{"$f":"+'Energy Balance'!H95*(1+Growth!$M46)","v":0},{"$f":"+'Energy Balance'!I95*(1+Growth!$M46)","v":0},0,{"$f":"+'Energy Balance'!K95*(1+Growth!$M46)","v":0},{"$f":"+'Energy Balance'!L95*(1+Growth!$M46)","v":0},{"$f":"+'Energy Balance'!M95*(1+Growth!$M46)","v":0},{"$f":"+'Energy Balance'!N95*(1+Growth!$M46)","v":0},{"$f":"+'Energy Balance'!O95*(1+Growth!$M46)","v":0},0]
[null,"    Agriculture & Fishery",null,{"$f":"+'Energy Balance'!D96*(1+Growth!$M49)","v":0},{"$f":"+'Energy Balance'!E96*(1+Growth!$M49)","v":0},{"$f":"+'Energy Balance'!F96*(1+Growth!$M49)","v":0},{"$f":"+'Energy Balance'!G96*(1+Growth!$M49)","v":0},{"$f":"+'Energy Balance'!H96*(1+Growth!$M49)","v":0},{"$f":"+'Energy Balance'!I96*(1+Growth!$M49)","v":0},0,{"$f":"+'Energy Balance'!K96*(1+Growth!$M49)","v":0},{"$f":"+'Energy Balance'!L96*(1+Growth!$M49)","v":0},{"$f":"+'Energy Balance'!M96*(1+Growth!$M49)","v":0},{"$f":"+'Energy Balance'!N96*(1+Growth!$M49)","v":0},{"$f":"+'Energy Balance'!O96*(1+Growth!$M49)","v":0},0]
[null,"    Non energy uses",null,{"$f":"+'Energy Balance'!D97*(1+Growth!$M74)","v":0},{"$f":"+'Energy Balance'!E97*(1+Growth!$M74)","v":0},{"$f":"+'Energy Balance'!F97*(1+Growth!$M74)","v":0},{"$f":"+'Energy Balance'!G97*(1+Growth!$M74)","v":0},{"$f":"+'Energy Balance'!H97*(1+Growth!$M74)","v":0},{"$f":"+'Energy Balance'!I97*(1+Growth!$M74)","v":0},0,{"$f":"+'Energy Balance'!K97*(1+Growth!$M74)","v":0},{"$f":"+'Energy Balance'!L97*(1+Growth!$M74)","v":0},{"$f":"+'Energy Balance'!M97*(1+Growth!$M74)","v":0},{"$f":"+'Energy Balance'!N97*(1+Growth!$M74)","v":0},{"$f":"+'Energy Balance'!O97*(1+Growth!$M74)","v":0},0]
[]
[]
[null,"Electricity balance in GWh - 2040"]
[null,"Electricity consumption",null,"Gwh",null,"Electricity production","Gwh","Share of production","Efficiency"]
[null,"Total consumption",null,{"$f":"SUM(D332:D351)","v":0},null,"Total",{"$f":"IF(H332=1,0,D331/(1-H332))","v":0}]
[null,"    Industry - steel",null,{"$f":"+'Energy Balance'!D103*(1+Growth!M$33)","v":0},null,"Losses",{"$f":"G331*H332","v":0},{"$f":"+'BAU projected Energy Balances'!H74","v":1}]
[null,"    Industry - chemical",null,{"$f":"+'Energy Balance'!D104*(1+Growth!M$33)","v":0},null,"Fossil",{"$f":"SUM(G334:G337)","v":0},{"$f":"SUM(H334:H337)","v":4}]
[null,"    Industry - non metallic mineral",null,{"$f":"+'Energy Balance'!D105*(1+Growth!M$33)","v":0},null,"Lignite",{"$f":"G$331*H334","v":0},{"$f":"+'BAU projected Energy Balances'!H76","v":1},{"$f":"+'BAU projected Energy Balances'!I76","v":0}]
[null,"    Industry - food processing and beverage",null,{"$f":"+'Energy Balance'!D106*(1+Growth!M$33)","v":0},null,"Coal",0,{"$f":"+'BAU projected Energy Balances'!H77","v":1},{"$f":"+'BAU projected Energy Balances'!I77","v":0}]
[null,"    Industry - construction",null,{"$f":"+'Energy Balance'!D107*(1+Growth!M$33)","v":0},null,"Oil",0,{"$f":"+'BAU projected Energy Balances'!H78","v":1},{"$f":"+'BAU projected Energy Balances'!I78","v":0}]
[null,"    Industry - mining",null,{"$f":"+'Energy Balance'!D108*(1+Growth!M$33)","v":0},null,"Natural Gas",0,{"$f":"+'BAU projected Energy Balances'!H79","v":1},{"$f":"+'BAU projected Energy Balances'!I79","v":0}]
[null,"    Industry - machinery",null,{"$f":"+'Energy Balance'!D109*(1+Growth!M$33)","v":0},null,"Nuclear",0,{"$f":"+'BAU projected Energy Balances'!H80","v":1}]
[null,"    Industry - non ferrous metals",null,{"$f":"+'Energy Balance'!D110*(1+Growth!M$33)","v":0},null,"Net import",0,{"$f":"+'BAU projected Energy Balances'!H81","v":1}]
[null,"    Industry - paper and pulp",null,{"$f":"+'Energy Balance'!D111*(1+Growth!M$33)","v":0},null,"Renewables",{"$f":"SUM(G341:G345)","v":0},{"$f":"SUM(H341:H345)","v":5}]
[null,"    Industry - transport equipment",null,{"$f":"+'Energy Balance'!D112*(1+Growth!M$33)","v":0},null,"Hydro",{"$f":"G$331*H341","v":0},{"$f":"+'BAU projected Energy Balances'!H83","v":1}]
[null,"    Industry - textile and leather",null,{"$f":"+'Energy Balance'!D113*(1+Growth!M$33)","v":0},null,"Wind",{"$f":"G$331*H342","v":0},{"$f":"+'BAU projected Energy Balances'!H84","v":1}]
[null,"    Industry - miscellaneous",null,{"$f":"+'Energy Balance'!D114*(1+Growth!M$33)","v":0},null,"Solar",{"$f":"G$331*H343","v":0},{"$f":"+'BAU projected Energy Balances'!H85","v":1}]
[null,"    Transport - road",null,{"$f":"+'Energy Balance'!D115*(1+Growth!M$39)","v":0},null,"Biomass",{"$f":"G$331*H344","v":0},{"$f":"+'BAU projected Energy Balances'!H86","v":1}]
[null,"    Transport - rail",null,{"$f":"+'Energy Balance'!D116*(1+Growth!M$39)","v":0},null,"Geothermal",{"$f":"G$331*H345","v":0},{"$f":"+'BAU projected Energy Balances'!H87","v":1}]
[null,"    Transport - domestic air",null,{"$f":"+'Energy Balance'!D117*(1+Growth!M$39)","v":0}]
[null,"    Transport - navigation",null,{"$f":"+'Energy Balance'!D118*(1+Growth!M$39)","v":0}]
[null,"    Households",null,{"$f":"+'Energy Balance'!D119*(1+Growth!M$44)","v":0}]
[null,"    Services",null,{"$f":"+'Energy Balance'!D120*(1+Growth!M$47)","v":0}]
[null,"    Agriculture & Fishery",null,{"$f":"+'Energy Balance'!D121*(1+Growth!M$50)","v":0}]
[null,"    Non energy - chemical feedstocs",null,{"$f":"+'Energy Balance'!D122*(1+Growth!M$74)","v":0}]
[]
[]
[]
[]
[]
[]
[null,{"$f":"\"Fossil fuel balance - 2045 - \"&Assumptions!C9","v":"Fossil fuel balance - 2045 - "}]
[null,"TJ units",null,"LPG","Gasoline","Jet Fuel","Diesel","Fueloil","Kerosene and other","Total oil products","Coal","Lignite","Gas","Coke","Petrocoke","Total energy (fossil)"]
[null,"Unit",null,"TJ","TJ","TJ","TJ","TJ","TJ","TJ","TJ","TJ","TJ","TJ","TJ","TJ"]
[null,"Total",null,{"$f":"+D362+D363","v":0},0,0,0,0,0,0,0,0,0,0,0,{"$f":"SUM(J361:O361)","v":0}]
[null,"    Fossil power plants",null,{"$f":"D391/E385","v":0},0,0,0,0,0,{"$f":"SUM(D362:I362)","v":0},{"$f":"K391/L385","v":0},{"$f":"L391/M385","v":0},{"$f":"M391/N385","v":0},null,null,0]
[null,"FINAL CONSUMPTION",null,{"$f":"SUM(D364:D383)","v":0},0,0,0,0,0,0,0,0,0,0,0,0]
[null,"    Industry - steel",null,{"$f":"+'Energy Balance'!D21*(1+Growth!$N21)","v":0},{"$f":"+'Energy Balance'!E21*(1+Growth!$N21)","v":0},{"$f":"+'Energy Balance'!F21*(1+Growth!$N21)","v":0},{"$f":"+'Energy Balance'!G21*(1+Growth!$N21)","v":0},{"$f":"+'Energy Balance'!H21*(1+Growth!$N21)","v":0},{"$f":"+'Energy Balance'!I21*(1+Growth!$N21)","v":0},{"$f":"+'Energy Balance'!J21*(1+Growth!$N21)","v":0},{"$f":"+'Energy Balance'!K21*(1+Growth!$N21)","v":0},{"$f":"+'Energy Balance'!L21*(1+Growth!$N21)","v":0},{"$f":"+'Energy Balance'!M21*(1+Growth!$N21)","v":0},{"$f":"+'Energy Balance'!N21*(1+Growth!$N21)","v":0},{"$f":"+'Energy Balance'!O21*(1+Growth!$N21)","v":0},0]
[null,"    Industry - chemical",null,{"$f":"+'Energy Balance'!D22*(1+Growth!$N22)","v":0},{"$f":"+'Energy Balance'!E22*(1+Growth!$N22)","v":0},{"$f":"+'Energy Balance'!F22*(1+Growth!$N22)","v":0},{"$f":"+'Energy Balance'!G22*(1+Growth!$N22)","v":0},{"$f":"+'Energy Balance'!H22*(1+Growth!$N22)","v":0},{"$f":"+'Energy Balance'!I22*(1+Growth!$N22)","v":0},{"$f":"+'Energy Balance'!J22*(1+Growth!$N22)","v":0},{"$f":"+'Energy Balance'!K22*(1+Growth!$N22)","v":0},{"$f":"+'Energy Balance'!L22*(1+Growth!$N22)","v":0},{"$f":"+'Energy Balance'!M22*(1+Growth!$N22)","v":0},{"$f":"+'Energy Balance'!N22*(1+Growth!$N22)","v":0},{"$f":"+'Energy Balance'!O22*(1+Growth!$N22)","v":0},0]
[null,"    Industry - non metallic mineral",null,{"$f":"+'Energy Balance'!D23*(1+Growth!$N23)","v":0},{"$f":"+'Energy Balance'!E23*(1+Growth!$N23)","v":0},{"$f":"+'Energy Balance'!F23*(1+Growth!$N23)","v":0},{"$f":"+'Energy Balance'!G23*(1+Growth!$N23)","v":0},{"$f":"+'Energy Balance'!H23*(1+Growth!$N23)","v":0},{"$f":"+'Energy Balance'!I23*(1+Growth!$N23)","v":0},{"$f":"+'Energy Balance'!J23*(1+Growth!$N23)","v":0},{"$f":"+'Energy Balance'!K23*(1+Growth!$N23)","v":0},{"$f":"+'Energy Balance'!L23*(1+Growth!$N23)","v":0},{"$f":"+'Energy Balance'!M23*(1+Growth!$N23)","v":0},{"$f":"+'Energy Balance'!N23*(1+Growth!$N23)","v":0},{"$f":"+'Energy Balance'!O23*(1+Growth!$N23)","v":0},0]
[null,"    Industry - food processing and beverage",null,{"$f":"+'Energy Balance'!D24*(1+Growth!$N24)","v":0},{"$f":"+'Energy Balance'!E24*(1+Growth!$N24)","v":0},{"$f":"+'Energy Balance'!F24*(1+Growth!$N24)","v":0},{"$f":"+'Energy Balance'!G24*(1+Growth!$N24)","v":0},{"$f":"+'Energy Balance'!H24*(1+Growth!$N24)","v":0},{"$f":"+'Energy Balance'!I24*(1+Growth!$N24)","v":0},{"$f":"+'Energy Balance'!J24*(1+Growth!$N24)","v":0},{"$f":"+'Energy Balance'!K24*(1+Growth!$N24)","v":0},{"$f":"+'Energy Balance'!L24*(1+Growth!$N24)","v":0},{"$f":"+'Energy Balance'!M24*(1+Growth!$N24)","v":0},{"$f":"+'Energy Balance'!N24*(1+Growth!$N24)","v":0},{"$f":"+'Energy Balance'!O24*(1+Growth!$N24)","v":0},0]
[null,"    Industry - construction",null,{"$f":"+'Energy Balance'!D25*(1+Growth!$N25)","v":0},{"$f":"+'Energy Balance'!E25*(1+Growth!$N25)","v":0},{"$f":"+'Energy Balance'!F25*(1+Growth!$N25)","v":0},{"$f":"+'Energy Balance'!G25*(1+Growth!$N25)","v":0},{"$f":"+'Energy Balance'!H25*(1+Growth!$N25)","v":0},{"$f":"+'Energy Balance'!I25*(1+Growth!$N25)","v":0},{"$f":"+'Energy Balance'!J25*(1+Growth!$N25)","v":0},{"$f":"+'Energy Balance'!K25*(1+Growth!$N25)","v":0},{"$f":"+'Energy Balance'!L25*(1+Growth!$N25)","v":0},{"$f":"+'Energy Balance'!M25*(1+Growth!$N25)","v":0},{"$f":"+'Energy Balance'!N25*(1+Growth!$N25)","v":0},{"$f":"+'Energy Balance'!O25*(1+Growth!$N25)","v":0},0]
[null,"    Industry - mining",null,{"$f":"+'Energy Balance'!D26*(1+Growth!$N26)","v":0},{"$f":"+'Energy Balance'!E26*(1+Growth!$N26)","v":0},{"$f":"+'Energy Balance'!F26*(1+Growth!$N26)","v":0},{"$f":"+'Energy Balance'!G26*(1+Growth!$N26)","v":0},{"$f":"+'Energy Balance'!H26*(1+Growth!$N26)","v":0},{"$f":"+'Energy Balance'!I26*(1+Growth!$N26)","v":0},{"$f":"+'Energy Balance'!J26*(1+Growth!$N26)","v":0},{"$f":"+'Energy Balance'!K26*(1+Growth!$N26)","v":0},{"$f":"+'Energy Balance'!L26*(1+Growth!$N26)","v":0},{"$f":"+'Energy Balance'!M26*(1+Growth!$N26)","v":0},{"$f":"+'Energy Balance'!N26*(1+Growth!$N26)","v":0},{"$f":"+'Energy Balance'!O26*(1+Growth!$N26)","v":0},0]
[null,"    Industry - machinery",null,{"$f":"+'Energy Balance'!D27*(1+Growth!$N27)","v":0},{"$f":"+'Energy Balance'!E27*(1+Growth!$N27)","v":0},{"$f":"+'Energy Balance'!F27*(1+Growth!$N27)","v":0},{"$f":"+'Energy Balance'!G27*(1+Growth!$N27)","v":0},{"$f":"+'Energy Balance'!H27*(1+Growth!$N27)","v":0},{"$f":"+'Energy Balance'!I27*(1+Growth!$N27)","v":0},{"$f":"+'Energy Balance'!J27*(1+Growth!$N27)","v":0},{"$f":"+'Energy Balance'!K27*(1+Growth!$N27)","v":0},{"$f":"+'Energy Balance'!L27*(1+Growth!$N27)","v":0},{"$f":"+'Energy Balance'!M27*(1+Growth!$N27)","v":0},{"$f":"+'Energy Balance'!N27*(1+Growth!$N27)","v":0},{"$f":"+'Energy Balance'!O27*(1+Growth!$N27)","v":0},0]
[null,"    Industry - non ferrous metals",null,{"$f":"+'Energy Balance'!D28*(1+Growth!$N28)","v":0},{"$f":"+'Energy Balance'!E28*(1+Growth!$N28)","v":0},{"$f":"+'Energy Balance'!F28*(1+Growth!$N28)","v":0},{"$f":"+'Energy Balance'!G28*(1+Growth!$N28)","v":0},{"$f":"+'Energy Balance'!H28*(1+Growth!$N28)","v":0},{"$f":"+'Energy Balance'!I28*(1+Growth!$N28)","v":0},{"$f":"+'Energy Balance'!J28*(1+Growth!$N28)","v":0},{"$f":"+'Energy Balance'!K28*(1+Growth!$N28)","v":0},{"$f":"+'Energy Balance'!L28*(1+Growth!$N28)","v":0},{"$f":"+'Energy Balance'!M28*(1+Growth!$N28)","v":0},{"$f":"+'Energy Balance'!N28*(1+Growth!$N28)","v":0},{"$f":"+'Energy Balance'!O28*(1+Growth!$N28)","v":0},0]
[null,"    Industry - paper and pulp",null,{"$f":"+'Energy Balance'!D29*(1+Growth!$N29)","v":0},{"$f":"+'Energy Balance'!E29*(1+Growth!$N29)","v":0},{"$f":"+'Energy Balance'!F29*(1+Growth!$N29)","v":0},{"$f":"+'Energy Balance'!G29*(1+Growth!$N29)","v":0},{"$f":"+'Energy Balance'!H29*(1+Growth!$N29)","v":0},{"$f":"+'Energy Balance'!I29*(1+Growth!$N29)","v":0},{"$f":"+'Energy Balance'!J29*(1+Growth!$N29)","v":0},{"$f":"+'Energy Balance'!K29*(1+Growth!$N29)","v":0},{"$f":"+'Energy Balance'!L29*(1+Growth!$N29)","v":0},{"$f":"+'Energy Balance'!M29*(1+Growth!$N29)","v":0},{"$f":"+'Energy Balance'!N29*(1+Growth!$N29)","v":0},{"$f":"+'Energy Balance'!O29*(1+Growth!$N29)","v":0},0]
[null,"    Industry - transport equipment",null,{"$f":"+'Energy Balance'!D30*(1+Growth!$N30)","v":0},{"$f":"+'Energy Balance'!E30*(1+Growth!$N30)","v":0},{"$f":"+'Energy Balance'!F30*(1+Growth!$N30)","v":0},{"$f":"+'Energy Balance'!G30*(1+Growth!$N30)","v":0},{"$f":"+'Energy Balance'!H30*(1+Growth!$N30)","v":0},{"$f":"+'Energy Balance'!I30*(1+Growth!$N30)","v":0},{"$f":"+'Energy Balance'!J30*(1+Growth!$N30)","v":0},{"$f":"+'Energy Balance'!K30*(1+Growth!$N30)","v":0},{"$f":"+'Energy Balance'!L30*(1+Growth!$N30)","v":0},{"$f":"+'Energy Balance'!M30*(1+Growth!$N30)","v":0},{"$f":"+'Energy Balance'!N30*(1+Growth!$N30)","v":0},{"$f":"+'Energy Balance'!O30*(1+Growth!$N30)","v":0},0]
[null,"    Industry - textile and leather",null,{"$f":"+'Energy Balance'!D31*(1+Growth!$N31)","v":0},{"$f":"+'Energy Balance'!E31*(1+Growth!$N31)","v":0},{"$f":"+'Energy Balance'!F31*(1+Growth!$N31)","v":0},{"$f":"+'Energy Balance'!G31*(1+Growth!$N31)","v":0},{"$f":"+'Energy Balance'!H31*(1+Growth!$N31)","v":0},{"$f":"+'Energy Balance'!I31*(1+Growth!$N31)","v":0},{"$f":"+'Energy Balance'!J31*(1+Growth!$N31)","v":0},{"$f":"+'Energy Balance'!K31*(1+Growth!$N31)","v":0},{"$f":"+'Energy Balance'!L31*(1+Growth!$N31)","v":0},{"$f":"+'Energy Balance'!M31*(1+Growth!$N31)","v":0},{"$f":"+'Energy Balance'!N31*(1+Growth!$N31)","v":0},{"$f":"+'Energy Balance'!O31*(1+Growth!$N31)","v":0},0]
[null,"    Industry - miscellaneous",null,{"$f":"+'Energy Balance'!D32*(1+Growth!$N32)","v":0},{"$f":"+'Energy Balance'!E32*(1+Growth!$N32)","v":0},{"$f":"+'Energy Balance'!F32*(1+Growth!$N32)","v":0},{"$f":"+'Energy Balance'!G32*(1+Growth!$N32)","v":0},{"$f":"+'Energy Balance'!H32*(1+Growth!$N32)","v":0},{"$f":"+'Energy Balance'!I32*(1+Growth!$N32)","v":0},{"$f":"+'Energy Balance'!J32*(1+Growth!$N32)","v":0},{"$f":"+'Energy Balance'!K32*(1+Growth!$N32)","v":0},{"$f":"+'Energy Balance'!L32*(1+Growth!$N32)","v":0},{"$f":"+'Energy Balance'!M32*(1+Growth!$N32)","v":0},{"$f":"+'Energy Balance'!N32*(1+Growth!$N32)","v":0},{"$f":"+'Energy Balance'!O32*(1+Growth!$N32)","v":0},0]
[null,"    Transport - road",null,{"$f":"+'Energy Balance'!D33*(1+Growth!$N35)","v":0},{"$f":"+'Energy Balance'!E33*(1+Growth!$N35)","v":0},{"$f":"+'Energy Balance'!F33*(1+Growth!$N35)","v":0},{"$f":"+'Energy Balance'!G33*(1+Growth!$N35)","v":0},{"$f":"+'Energy Balance'!H33*(1+Growth!$N35)","v":0},{"$f":"+'Energy Balance'!I33*(1+Growth!$N35)","v":0},{"$f":"+'Energy Balance'!J33*(1+Growth!$N35)","v":0},{"$f":"+'Energy Balance'!K33*(1+Growth!$N35)","v":0},{"$f":"+'Energy Balance'!L33*(1+Growth!$N35)","v":0},{"$f":"+'Energy Balance'!M33*(1+Growth!$N35)","v":0},{"$f":"+'Energy Balance'!N33*(1+Growth!$N35)","v":0},{"$f":"+'Energy Balance'!O33*(1+Growth!$N35)","v":0},0]
[null,"    Transport - rail",null,{"$f":"+'Energy Balance'!D34*(1+Growth!$N36)","v":0},{"$f":"+'Energy Balance'!E34*(1+Growth!$N36)","v":0},{"$f":"+'Energy Balance'!F34*(1+Growth!$N36)","v":0},{"$f":"+'Energy Balance'!G34*(1+Growth!$N36)","v":0},{"$f":"+'Energy Balance'!H34*(1+Growth!$N36)","v":0},{"$f":"+'Energy Balance'!I34*(1+Growth!$N36)","v":0},{"$f":"+'Energy Balance'!J34*(1+Growth!$N36)","v":0},{"$f":"+'Energy Balance'!K34*(1+Growth!$N36)","v":0},{"$f":"+'Energy Balance'!L34*(1+Growth!$N36)","v":0},{"$f":"+'Energy Balance'!M34*(1+Growth!$N36)","v":0},{"$f":"+'Energy Balance'!N34*(1+Growth!$N36)","v":0},{"$f":"+'Energy Balance'!O34*(1+Growth!$N36)","v":0},0]
[null,"    Transport - domestic air",null,{"$f":"+'Energy Balance'!D35*(1+Growth!$N37)","v":0},{"$f":"+'Energy Balance'!E35*(1+Growth!$N37)","v":0},{"$f":"+'Energy Balance'!F35*(1+Growth!$N37)","v":0},{"$f":"+'Energy Balance'!G35*(1+Growth!$N37)","v":0},{"$f":"+'Energy Balance'!H35*(1+Growth!$N37)","v":0},{"$f":"+'Energy Balance'!I35*(1+Growth!$N37)","v":0},{"$f":"+'Energy Balance'!J35*(1+Growth!$N37)","v":0},{"$f":"+'Energy Balance'!K35*(1+Growth!$N37)","v":0},{"$f":"+'Energy Balance'!L35*(1+Growth!$N37)","v":0},{"$f":"+'Energy Balance'!M35*(1+Growth!$N37)","v":0},{"$f":"+'Energy Balance'!N35*(1+Growth!$N37)","v":0},{"$f":"+'Energy Balance'!O35*(1+Growth!$N37)","v":0},0]
[null,"    Transport - navigation",null,{"$f":"+'Energy Balance'!D36*(1+Growth!$N38)","v":0},{"$f":"+'Energy Balance'!E36*(1+Growth!$N38)","v":0},{"$f":"+'Energy Balance'!F36*(1+Growth!$N38)","v":0},{"$f":"+'Energy Balance'!G36*(1+Growth!$N38)","v":0},{"$f":"+'Energy Balance'!H36*(1+Growth!$N38)","v":0},{"$f":"+'Energy Balance'!I36*(1+Growth!$N38)","v":0},{"$f":"+'Energy Balance'!J36*(1+Growth!$N38)","v":0},{"$f":"+'Energy Balance'!K36*(1+Growth!$N38)","v":0},{"$f":"+'Energy Balance'!L36*(1+Growth!$N38)","v":0},{"$f":"+'Energy Balance'!M36*(1+Growth!$N38)","v":0},{"$f":"+'Energy Balance'!N36*(1+Growth!$N38)","v":0},{"$f":"+'Energy Balance'!O36*(1+Growth!$N38)","v":0},0]
[null,"    Households",null,{"$f":"+'Energy Balance'!D37*(1+Growth!$N42)","v":0},{"$f":"+'Energy Balance'!E37*(1+Growth!$N42)","v":0},{"$f":"+'Energy Balance'!F37*(1+Growth!$N42)","v":0},{"$f":"+'Energy Balance'!G37*(1+Growth!$N42)","v":0},{"$f":"+'Energy Balance'!H37*(1+Growth!$N42)","v":0},{"$f":"+'Energy Balance'!I37*(1+Growth!$N42)","v":0},{"$f":"+'Energy Balance'!J37*(1+Growth!$N42)","v":0},{"$f":"+'Energy Balance'!K37*(1+Growth!$N42)","v":0},{"$f":"+'Energy Balance'!L37*(1+Growth!$N42)","v":0},{"$f":"+'Energy Balance'!M37*(1+Growth!$N42)","v":0},{"$f":"+'Energy Balance'!N37*(1+Growth!$N42)","v":0},{"$f":"+'Energy Balance'!O37*(1+Growth!$N42)","v":0},0]
[null,"    Services",null,{"$f":"+'Energy Balance'!D38*(1+Growth!$N46)","v":0},{"$f":"+'Energy Balance'!E38*(1+Growth!$N46)","v":0},{"$f":"+'Energy Balance'!F38*(1+Growth!$N46)","v":0},{"$f":"+'Energy Balance'!G38*(1+Growth!$N46)","v":0},{"$f":"+'Energy Balance'!H38*(1+Growth!$N46)","v":0},{"$f":"+'Energy Balance'!I38*(1+Growth!$N46)","v":0},{"$f":"+'Energy Balance'!J38*(1+Growth!$N46)","v":0},{"$f":"+'Energy Balance'!K38*(1+Growth!$N46)","v":0},{"$f":"+'Energy Balance'!L38*(1+Growth!$N46)","v":0},{"$f":"+'Energy Balance'!M38*(1+Growth!$N46)","v":0},{"$f":"+'Energy Balance'!N38*(1+Growth!$N46)","v":0},{"$f":"+'Energy Balance'!O38*(1+Growth!$N46)","v":0},0]
[null,"    Agriculture & Fishery",null,{"$f":"+'Energy Balance'!D39*(1+Growth!$N49)","v":0},{"$f":"+'Energy Balance'!E39*(1+Growth!$N49)","v":0},{"$f":"+'Energy Balance'!F39*(1+Growth!$N49)","v":0},{"$f":"+'Energy Balance'!G39*(1+Growth!$N49)","v":0},{"$f":"+'Energy Balance'!H39*(1+Growth!$N49)","v":0},{"$f":"+'Energy Balance'!I39*(1+Growth!$N49)","v":0},{"$f":"+'Energy Balance'!J39*(1+Growth!$N49)","v":0},{"$f":"+'Energy Balance'!K39*(1+Growth!$N49)","v":0},{"$f":"+'Energy Balance'!L39*(1+Growth!$N49)","v":0},{"$f":"+'Energy Balance'!M39*(1+Growth!$N49)","v":0},{"$f":"+'Energy Balance'!N39*(1+Growth!$N49)","v":0},{"$f":"+'Energy Balance'!O39*(1+Growth!$N49)","v":0},0]
[null,"    Non energy uses",null,{"$f":"+'Energy Balance'!D40*(1+Growth!$N74)","v":0},{"$f":"+'Energy Balance'!E40*(1+Growth!$N74)","v":0},{"$f":"+'Energy Balance'!F40*(1+Growth!$N74)","v":0},{"$f":"+'Energy Balance'!G40*(1+Growth!$N74)","v":0},{"$f":"+'Energy Balance'!H40*(1+Growth!$N74)","v":0},{"$f":"+'Energy Balance'!I40*(1+Growth!$N74)","v":0},{"$f":"+'Energy Balance'!J40*(1+Growth!$N74)","v":0},{"$f":"+'Energy Balance'!K40*(1+Growth!$N74)","v":0},{"$f":"+'Energy Balance'!L40*(1+Growth!$N74)","v":0},{"$f":"+'Energy Balance'!M40*(1+Growth!$N74)","v":0},{"$f":"+'Energy Balance'!N40*(1+Growth!$N74)","v":0},{"$f":"+'Energy Balance'!O40*(1+Growth!$N74)","v":0},0]
[]
[null,null,null,null,2.3884589662749593E-2,2.3884589662749593E-2,2.3884589662749593E-2,2.3884589662749593E-2,2.3884589662749593E-2,2.3884589662749593E-2,null,2.3884589662749593E-2,2.3884589662749593E-2,2.3884589662749593E-2,2.3884589662749593E-2,2.3884589662749593E-2]
[]
[null,{"$f":"\"Fossil fuel balance - 2045 - \"&Assumptions!C9","v":"Fossil fuel balance - 2045 - "}]
[null,"ktoe units",null,"LPG","Gasoline","Jet Fuel","Diesel","Fueloil","Kerosene and other","Total oil products","Coal","Lignite","Gas","Coke","Petrocoke","Total"]
[null,"Unit",null,"ktoe","ktoe","ktoe","ktoe","ktoe","ktoe","ktoe","ktoe","ktoe","ktoe","ktoe","ktoe","ktoe"]
[null,"Total consumption",null,{"$f":"+D391+D392","v":0},{"$f":"+E391+E392","v":0},{"$f":"+F391+F392","v":0},{"$f":"+G391+G392","v":0},{"$f":"+H391+H392","v":0},{"$f":"+I391+I392","v":0},0,0,0,0,0,0,0]
[null,"    Fossil power plants",null,{"$f":"IFERROR(IF($G419=0,0,$J391*IF('Energy Balance'!$J76>0,'Energy Balance'!D76/'Energy Balance'!$J76,0)),0)","v":0},{"$f":"IFERROR(IF($G419=0,0,$J391*IF('Energy Balance'!$J76>0,'Energy Balance'!E76/'Energy Balance'!$J76,0)),0)","v":0},{"$f":"IFERROR(IF($G419=0,0,$J391*IF('Energy Balance'!$J76>0,'Energy Balance'!F76/'Energy Balance'!$J76,0)),0)","v":0},{"$f":"IFERROR(IF($G419=0,0,$J391*IF('Energy Balance'!$J76>0,'Energy Balance'!G76/'Energy Balance'!$J76,0)),0)","v":0},{"$f":"IFERROR(IF($G419=0,0,$J391*IF('Energy Balance'!$J76>0,'Energy Balance'!H76/'Energy Balance'!$J76,0)),0)","v":0},{"$f":"IFERROR(IF($G419=0,0,$J391*IF('Energy Balance'!$J76>0,'Energy Balance'!I76/'Energy Balance'!$J76,0)),0)","v":0},{"$f":"IFERROR(IF(G419=0,0,G422/11.63/I422),0)","v":0},{"$f":"IF(I421>0,G421/11.63/I421,0)","v":0},{"$f":"IF(I420>0,G420/11.63/I420,0)","v":0},{"$f":"IF(I423>0,G423/11.63/I423,0)","v":0},null,null,{"$f":"SUM(J391:O391)","v":0}]
[null,"FINAL CONSUMPTION",null,{"$f":"SUM(D393:D412)","v":0},0,0,0,0,0,{"$f":"SUM(D392:I392)","v":0},{"$f":"SUM(K393:K412)","v":0},0,0,0,0,0]
[null,"    Industry - steel",null,{"$f":"+'Energy Balance'!D78*(1+Growth!$N21)","v":0},{"$f":"+'Energy Balance'!E78*(1+Growth!$N21)","v":0},{"$f":"+'Energy Balance'!F78*(1+Growth!$N21)","v":0},{"$f":"+'Energy Balance'!G78*(1+Growth!$N21)","v":0},{"$f":"+'Energy Balance'!H78*(1+Growth!$N21)","v":0},{"$f":"+'Energy Balance'!I78*(1+Growth!$N21)","v":0},0,{"$f":"+'Energy Balance'!K78*(1+Growth!$N21)","v":0},{"$f":"+'Energy Balance'!L78*(1+Growth!$N21)","v":0},{"$f":"+'Energy Balance'!M78*(1+Growth!$N21)","v":0},{"$f":"+'Energy Balance'!N78*(1+Growth!$N21)","v":0},{"$f":"+'Energy Balance'!O78*(1+Growth!$N21)","v":0},{"$f":"SUM(J393:O393)","v":0}]
[null,"    Industry - chemical",null,{"$f":"+'Energy Balance'!D79*(1+Growth!$N22)","v":0},{"$f":"+'Energy Balance'!E79*(1+Growth!$N22)","v":0},{"$f":"+'Energy Balance'!F79*(1+Growth!$N22)","v":0},{"$f":"+'Energy Balance'!G79*(1+Growth!$N22)","v":0},{"$f":"+'Energy Balance'!H79*(1+Growth!$N22)","v":0},{"$f":"+'Energy Balance'!I79*(1+Growth!$N22)","v":0},0,{"$f":"+'Energy Balance'!K79*(1+Growth!$N22)","v":0},{"$f":"+'Energy Balance'!L79*(1+Growth!$N22)","v":0},{"$f":"+'Energy Balance'!M79*(1+Growth!$N22)","v":0},{"$f":"+'Energy Balance'!N79*(1+Growth!$N22)","v":0},{"$f":"+'Energy Balance'!O79*(1+Growth!$N22)","v":0},0]
[null,"    Industry - non metallic mineral",null,{"$f":"+'Energy Balance'!D80*(1+Growth!$N23)","v":0},{"$f":"+'Energy Balance'!E80*(1+Growth!$N23)","v":0},{"$f":"+'Energy Balance'!F80*(1+Growth!$N23)","v":0},{"$f":"+'Energy Balance'!G80*(1+Growth!$N23)","v":0},{"$f":"+'Energy Balance'!H80*(1+Growth!$N23)","v":0},{"$f":"+'Energy Balance'!I80*(1+Growth!$N23)","v":0},0,{"$f":"+'Energy Balance'!K80*(1+Growth!$N23)","v":0},{"$f":"+'Energy Balance'!L80*(1+Growth!$N23)","v":0},{"$f":"+'Energy Balance'!M80*(1+Growth!$N23)","v":0},{"$f":"+'Energy Balance'!N80*(1+Growth!$N23)","v":0},{"$f":"+'Energy Balance'!O80*(1+Growth!$N23)","v":0},0]
[null,"    Industry - food processing and beverage",null,{"$f":"+'Energy Balance'!D81*(1+Growth!$N24)","v":0},{"$f":"+'Energy Balance'!E81*(1+Growth!$N24)","v":0},{"$f":"+'Energy Balance'!F81*(1+Growth!$N24)","v":0},{"$f":"+'Energy Balance'!G81*(1+Growth!$N24)","v":0},{"$f":"+'Energy Balance'!H81*(1+Growth!$N24)","v":0},{"$f":"+'Energy Balance'!I81*(1+Growth!$N24)","v":0},0,{"$f":"+'Energy Balance'!K81*(1+Growth!$N24)","v":0},{"$f":"+'Energy Balance'!L81*(1+Growth!$N24)","v":0},{"$f":"+'Energy Balance'!M81*(1+Growth!$N24)","v":0},{"$f":"+'Energy Balance'!N81*(1+Growth!$N24)","v":0},{"$f":"+'Energy Balance'!O81*(1+Growth!$N24)","v":0},0]
[null,"    Industry - construction",null,{"$f":"+'Energy Balance'!D82*(1+Growth!$N25)","v":0},{"$f":"+'Energy Balance'!E82*(1+Growth!$N25)","v":0},{"$f":"+'Energy Balance'!F82*(1+Growth!$N25)","v":0},{"$f":"+'Energy Balance'!G82*(1+Growth!$N25)","v":0},{"$f":"+'Energy Balance'!H82*(1+Growth!$N25)","v":0},{"$f":"+'Energy Balance'!I82*(1+Growth!$N25)","v":0},0,{"$f":"+'Energy Balance'!K82*(1+Growth!$N25)","v":0},{"$f":"+'Energy Balance'!L82*(1+Growth!$N25)","v":0},{"$f":"+'Energy Balance'!M82*(1+Growth!$N25)","v":0},{"$f":"+'Energy Balance'!N82*(1+Growth!$N25)","v":0},{"$f":"+'Energy Balance'!O82*(1+Growth!$N25)","v":0},0]
[null,"    Industry - mining",null,{"$f":"+'Energy Balance'!D83*(1+Growth!$N26)","v":0},{"$f":"+'Energy Balance'!E83*(1+Growth!$N26)","v":0},{"$f":"+'Energy Balance'!F83*(1+Growth!$N26)","v":0},{"$f":"+'Energy Balance'!G83*(1+Growth!$N26)","v":0},{"$f":"+'Energy Balance'!H83*(1+Growth!$N26)","v":0},{"$f":"+'Energy Balance'!I83*(1+Growth!$N26)","v":0},0,{"$f":"+'Energy Balance'!K83*(1+Growth!$N26)","v":0},{"$f":"+'Energy Balance'!L83*(1+Growth!$N26)","v":0},{"$f":"+'Energy Balance'!M83*(1+Growth!$N26)","v":0},{"$f":"+'Energy Balance'!N83*(1+Growth!$N26)","v":0},{"$f":"+'Energy Balance'!O83*(1+Growth!$N26)","v":0},0]
[null,"    Industry - machinery",null,{"$f":"+'Energy Balance'!D84*(1+Growth!$N27)","v":0},{"$f":"+'Energy Balance'!E84*(1+Growth!$N27)","v":0},{"$f":"+'Energy Balance'!F84*(1+Growth!$N27)","v":0},{"$f":"+'Energy Balance'!G84*(1+Growth!$N27)","v":0},{"$f":"+'Energy Balance'!H84*(1+Growth!$N27)","v":0},{"$f":"+'Energy Balance'!I84*(1+Growth!$N27)","v":0},0,{"$f":"+'Energy Balance'!K84*(1+Growth!$N27)","v":0},{"$f":"+'Energy Balance'!L84*(1+Growth!$N27)","v":0},{"$f":"+'Energy Balance'!M84*(1+Growth!$N27)","v":0},{"$f":"+'Energy Balance'!N84*(1+Growth!$N27)","v":0},{"$f":"+'Energy Balance'!O84*(1+Growth!$N27)","v":0},0]
[null,"    Industry - non ferrous metals",null,{"$f":"+'Energy Balance'!D85*(1+Growth!$N28)","v":0},{"$f":"+'Energy Balance'!E85*(1+Growth!$N28)","v":0},{"$f":"+'Energy Balance'!F85*(1+Growth!$N28)","v":0},{"$f":"+'Energy Balance'!G85*(1+Growth!$N28)","v":0},{"$f":"+'Energy Balance'!H85*(1+Growth!$N28)","v":0},{"$f":"+'Energy Balance'!I85*(1+Growth!$N28)","v":0},0,{"$f":"+'Energy Balance'!K85*(1+Growth!$N28)","v":0},{"$f":"+'Energy Balance'!L85*(1+Growth!$N28)","v":0},{"$f":"+'Energy Balance'!M85*(1+Growth!$N28)","v":0},{"$f":"+'Energy Balance'!N85*(1+Growth!$N28)","v":0},{"$f":"+'Energy Balance'!O85*(1+Growth!$N28)","v":0},0]
[null,"    Industry - paper and pulp",null,{"$f":"+'Energy Balance'!D86*(1+Growth!$N29)","v":0},{"$f":"+'Energy Balance'!E86*(1+Growth!$N29)","v":0},{"$f":"+'Energy Balance'!F86*(1+Growth!$N29)","v":0},{"$f":"+'Energy Balance'!G86*(1+Growth!$N29)","v":0},{"$f":"+'Energy Balance'!H86*(1+Growth!$N29)","v":0},{"$f":"+'Energy Balance'!I86*(1+Growth!$N29)","v":0},0,{"$f":"+'Energy Balance'!K86*(1+Growth!$N29)","v":0},{"$f":"+'Energy Balance'!L86*(1+Growth!$N29)","v":0},{"$f":"+'Energy Balance'!M86*(1+Growth!$N29)","v":0},{"$f":"+'Energy Balance'!N86*(1+Growth!$N29)","v":0},{"$f":"+'Energy Balance'!O86*(1+Growth!$N29)","v":0},0]
[null,"    Industry - transport equipment",null,{"$f":"+'Energy Balance'!D87*(1+Growth!$N30)","v":0},{"$f":"+'Energy Balance'!E87*(1+Growth!$N30)","v":0},{"$f":"+'Energy Balance'!F87*(1+Growth!$N30)","v":0},{"$f":"+'Energy Balance'!G87*(1+Growth!$N30)","v":0},{"$f":"+'Energy Balance'!H87*(1+Growth!$N30)","v":0},{"$f":"+'Energy Balance'!I87*(1+Growth!$N30)","v":0},0,{"$f":"+'Energy Balance'!K87*(1+Growth!$N30)","v":0},{"$f":"+'Energy Balance'!L87*(1+Growth!$N30)","v":0},{"$f":"+'Energy Balance'!M87*(1+Growth!$N30)","v":0},{"$f":"+'Energy Balance'!N87*(1+Growth!$N30)","v":0},{"$f":"+'Energy Balance'!O87*(1+Growth!$N30)","v":0},0]
[null,"    Industry - textile and leather",null,{"$f":"+'Energy Balance'!D88*(1+Growth!$N31)","v":0},{"$f":"+'Energy Balance'!E88*(1+Growth!$N31)","v":0},{"$f":"+'Energy Balance'!F88*(1+Growth!$N31)","v":0},{"$f":"+'Energy Balance'!G88*(1+Growth!$N31)","v":0},{"$f":"+'Energy Balance'!H88*(1+Growth!$N31)","v":0},{"$f":"+'Energy Balance'!I88*(1+Growth!$N31)","v":0},0,{"$f":"+'Energy Balance'!K88*(1+Growth!$N31)","v":0},{"$f":"+'Energy Balance'!L88*(1+Growth!$N31)","v":0},{"$f":"+'Energy Balance'!M88*(1+Growth!$N31)","v":0},{"$f":"+'Energy Balance'!N88*(1+Growth!$N31)","v":0},{"$f":"+'Energy Balance'!O88*(1+Growth!$N31)","v":0},0]
[null,"    Industry - miscellaneous",null,{"$f":"+'Energy Balance'!D89*(1+Growth!$N32)","v":0},{"$f":"+'Energy Balance'!E89*(1+Growth!$N32)","v":0},{"$f":"+'Energy Balance'!F89*(1+Growth!$N32)","v":0},{"$f":"+'Energy Balance'!G89*(1+Growth!$N32)","v":0},{"$f":"+'Energy Balance'!H89*(1+Growth!$N32)","v":0},{"$f":"+'Energy Balance'!I89*(1+Growth!$N32)","v":0},0,{"$f":"+'Energy Balance'!K89*(1+Growth!$N32)","v":0},{"$f":"+'Energy Balance'!L89*(1+Growth!$N32)","v":0},{"$f":"+'Energy Balance'!M89*(1+Growth!$N32)","v":0},{"$f":"+'Energy Balance'!N89*(1+Growth!$N32)","v":0},{"$f":"+'Energy Balance'!O89*(1+Growth!$N32)","v":0},0]
[null,"    Transport - road",null,{"$f":"+'Energy Balance'!D90*(1+Growth!$N35)","v":0},{"$f":"+'Energy Balance'!E90*(1+Growth!$N35)","v":0},{"$f":"+'Energy Balance'!F90*(1+Growth!$N35)","v":0},{"$f":"+'Energy Balance'!G90*(1+Growth!$N35)","v":0},{"$f":"+'Energy Balance'!H90*(1+Growth!$N35)","v":0},{"$f":"+'Energy Balance'!I90*(1+Growth!$N35)","v":0},0,{"$f":"+'Energy Balance'!K90*(1+Growth!$N35)","v":0},{"$f":"+'Energy Balance'!L90*(1+Growth!$N35)","v":0},{"$f":"+'Energy Balance'!M90*(1+Growth!$N35)","v":0},{"$f":"+'Energy Balance'!N90*(1+Growth!$N35)","v":0},{"$f":"+'Energy Balance'!O90*(1+Growth!$N35)","v":0},0]
[null,"    Transport - rail",null,{"$f":"+'Energy Balance'!D91*(1+Growth!$N36)","v":0},{"$f":"+'Energy Balance'!E91*(1+Growth!$N36)","v":0},{"$f":"+'Energy Balance'!F91*(1+Growth!$N36)","v":0},{"$f":"+'Energy Balance'!G91*(1+Growth!$N36)","v":0},{"$f":"+'Energy Balance'!H91*(1+Growth!$N36)","v":0},{"$f":"+'Energy Balance'!I91*(1+Growth!$N36)","v":0},0,{"$f":"+'Energy Balance'!K91*(1+Growth!$N36)","v":0},{"$f":"+'Energy Balance'!L91*(1+Growth!$N36)","v":0},{"$f":"+'Energy Balance'!M91*(1+Growth!$N36)","v":0},{"$f":"+'Energy Balance'!N91*(1+Growth!$N36)","v":0},{"$f":"+'Energy Balance'!O91*(1+Growth!$N36)","v":0},0]
[null,"    Transport - domestic air",null,{"$f":"+'Energy Balance'!D92*(1+Growth!$N37)","v":0},{"$f":"+'Energy Balance'!E92*(1+Growth!$N37)","v":0},{"$f":"+'Energy Balance'!F92*(1+Growth!$N37)","v":0},{"$f":"+'Energy Balance'!G92*(1+Growth!$N37)","v":0},{"$f":"+'Energy Balance'!H92*(1+Growth!$N37)","v":0},{"$f":"+'Energy Balance'!I92*(1+Growth!$N37)","v":0},0,{"$f":"+'Energy Balance'!K92*(1+Growth!$N37)","v":0},{"$f":"+'Energy Balance'!L92*(1+Growth!$N37)","v":0},{"$f":"+'Energy Balance'!M92*(1+Growth!$N37)","v":0},{"$f":"+'Energy Balance'!N92*(1+Growth!$N37)","v":0},{"$f":"+'Energy Balance'!O92*(1+Growth!$N37)","v":0},0]
[null,"    Transport - navigation",null,{"$f":"+'Energy Balance'!D93*(1+Growth!$N38)","v":0},{"$f":"+'Energy Balance'!E93*(1+Growth!$N38)","v":0},{"$f":"+'Energy Balance'!F93*(1+Growth!$N38)","v":0},{"$f":"+'Energy Balance'!G93*(1+Growth!$N38)","v":0},{"$f":"+'Energy Balance'!H93*(1+Growth!$N38)","v":0},{"$f":"+'Energy Balance'!I93*(1+Growth!$N38)","v":0},0,{"$f":"+'Energy Balance'!K93*(1+Growth!$N38)","v":0},{"$f":"+'Energy Balance'!L93*(1+Growth!$N38)","v":0},{"$f":"+'Energy Balance'!M93*(1+Growth!$N38)","v":0},{"$f":"+'Energy Balance'!N93*(1+Growth!$N38)","v":0},{"$f":"+'Energy Balance'!O93*(1+Growth!$N38)","v":0},0]
[null,"    Households",null,{"$f":"+'Energy Balance'!D94*(1+Growth!$N42)","v":0},{"$f":"+'Energy Balance'!E94*(1+Growth!$N42)","v":0},{"$f":"+'Energy Balance'!F94*(1+Growth!$N42)","v":0},{"$f":"+'Energy Balance'!G94*(1+Growth!$N42)","v":0},{"$f":"+'Energy Balance'!H94*(1+Growth!$N42)","v":0},{"$f":"+'Energy Balance'!I94*(1+Growth!$N42)","v":0},0,{"$f":"+'Energy Balance'!K94*(1+Growth!$N42)","v":0},{"$f":"+'Energy Balance'!L94*(1+Growth!$N42)","v":0},{"$f":"+'Energy Balance'!M94*(1+Growth!$N42)","v":0},{"$f":"+'Energy Balance'!N94*(1+Growth!$N42)","v":0},{"$f":"+'Energy Balance'!O94*(1+Growth!$N42)","v":0},0]
[null,"    Services",null,{"$f":"+'Energy Balance'!D95*(1+Growth!$N46)","v":0},{"$f":"+'Energy Balance'!E95*(1+Growth!$N46)","v":0},{"$f":"+'Energy Balance'!F95*(1+Growth!$N46)","v":0},{"$f":"+'Energy Balance'!G95*(1+Growth!$N46)","v":0},{"$f":"+'Energy Balance'!H95*(1+Growth!$N46)","v":0},{"$f":"+'Energy Balance'!I95*(1+Growth!$N46)","v":0},0,{"$f":"+'Energy Balance'!K95*(1+Growth!$N46)","v":0},{"$f":"+'Energy Balance'!L95*(1+Growth!$N46)","v":0},{"$f":"+'Energy Balance'!M95*(1+Growth!$N46)","v":0},{"$f":"+'Energy Balance'!N95*(1+Growth!$N46)","v":0},{"$f":"+'Energy Balance'!O95*(1+Growth!$N46)","v":0},0]
[null,"    Agriculture & Fishery",null,{"$f":"+'Energy Balance'!D96*(1+Growth!$N49)","v":0},{"$f":"+'Energy Balance'!E96*(1+Growth!$N49)","v":0},{"$f":"+'Energy Balance'!F96*(1+Growth!$N49)","v":0},{"$f":"+'Energy Balance'!G96*(1+Growth!$N49)","v":0},{"$f":"+'Energy Balance'!H96*(1+Growth!$N49)","v":0},{"$f":"+'Energy Balance'!I96*(1+Growth!$N49)","v":0},0,{"$f":"+'Energy Balance'!K96*(1+Growth!$N49)","v":0},{"$f":"+'Energy Balance'!L96*(1+Growth!$N49)","v":0},{"$f":"+'Energy Balance'!M96*(1+Growth!$N49)","v":0},{"$f":"+'Energy Balance'!N96*(1+Growth!$N49)","v":0},{"$f":"+'Energy Balance'!O96*(1+Growth!$N49)","v":0},0]
[null,"    Non energy uses",null,{"$f":"+'Energy Balance'!D97*(1+Growth!$N74)","v":0},{"$f":"+'Energy Balance'!E97*(1+Growth!$N74)","v":0},{"$f":"+'Energy Balance'!F97*(1+Growth!$N74)","v":0},{"$f":"+'Energy Balance'!G97*(1+Growth!$N74)","v":0},{"$f":"+'Energy Balance'!H97*(1+Growth!$N74)","v":0},{"$f":"+'Energy Balance'!I97*(1+Growth!$N74)","v":0},0,{"$f":"+'Energy Balance'!K97*(1+Growth!$N74)","v":0},{"$f":"+'Energy Balance'!L97*(1+Growth!$N74)","v":0},{"$f":"+'Energy Balance'!M97*(1+Growth!$N74)","v":0},{"$f":"+'Energy Balance'!N97*(1+Growth!$N74)","v":0},{"$f":"+'Energy Balance'!O97*(1+Growth!$N74)","v":0},0]
[]
[]
[null,"Electricity balance in GWh - 2045"]
[null,"Electricity consumption",null,"Gwh",null,"Electricity production","Gwh","Share of production","Efficiency"]
[null,"Total consumption",null,{"$f":"SUM(D418:D437)","v":0},null,"Total",{"$f":"IF(H418=1,0,D417/(1-H418))","v":0}]
[null,"    Industry - steel",null,{"$f":"+'Energy Balance'!D103*(1+Growth!N$33)","v":0},null,"Losses",{"$f":"G417*H418","v":0},{"$f":"+'BAU projected Energy Balances'!H74","v":1}]
[null,"    Industry - chemical",null,{"$f":"+'Energy Balance'!D104*(1+Growth!N$33)","v":0},null,"Fossil",{"$f":"SUM(G420:G423)","v":0},{"$f":"SUM(H420:H423)","v":4}]
[null,"    Industry - non metallic mineral",null,{"$f":"+'Energy Balance'!D105*(1+Growth!N$33)","v":0},null,"Lignite",{"$f":"G$417*H420","v":0},{"$f":"+'BAU projected Energy Balances'!H76","v":1},{"$f":"+'BAU projected Energy Balances'!I76","v":0}]
[null,"    Industry - food processing and beverage",null,{"$f":"+'Energy Balance'!D106*(1+Growth!N$33)","v":0},null,"Coal",0,{"$f":"+'BAU projected Energy Balances'!H77","v":1},{"$f":"+'BAU projected Energy Balances'!I77","v":0}]
[null,"    Industry - construction",null,{"$f":"+'Energy Balance'!D107*(1+Growth!N$33)","v":0},null,"Oil",0,{"$f":"+'BAU projected Energy Balances'!H78","v":1},{"$f":"+'BAU projected Energy Balances'!I78","v":0}]
[null,"    Industry - mining",null,{"$f":"+'Energy Balance'!D108*(1+Growth!N$33)","v":0},null,"Natural Gas",0,{"$f":"+'BAU projected Energy Balances'!H79","v":1},{"$f":"+'BAU projected Energy Balances'!I79","v":0}]
[null,"    Industry - machinery",null,{"$f":"+'Energy Balance'!D109*(1+Growth!N$33)","v":0},null,"Nuclear",0,{"$f":"+'BAU projected Energy Balances'!H80","v":1}]
[null,"    Industry - non ferrous metals",null,{"$f":"+'Energy Balance'!D110*(1+Growth!N$33)","v":0},null,"Net import",0,{"$f":"+'BAU projected Energy Balances'!H81","v":1}]
[null,"    Industry - paper and pulp",null,{"$f":"+'Energy Balance'!D111*(1+Growth!N$33)","v":0},null,"Renewables",{"$f":"SUM(G427:G431)","v":0},{"$f":"SUM(H427:H431)","v":5}]
[null,"    Industry - transport equipment",null,{"$f":"+'Energy Balance'!D112*(1+Growth!N$33)","v":0},null,"Hydro",{"$f":"G$417*H427","v":0},{"$f":"+'BAU projected Energy Balances'!H83","v":1}]
[null,"    Industry - textile and leather",null,{"$f":"+'Energy Balance'!D113*(1+Growth!N$33)","v":0},null,"Wind",{"$f":"G$417*H428","v":0},{"$f":"+'BAU projected Energy Balances'!H84","v":1}]
[null,"    Industry - miscellaneous",null,{"$f":"+'Energy Balance'!D114*(1+Growth!N$33)","v":0},null,"Solar",{"$f":"G$417*H429","v":0},{"$f":"+'BAU projected Energy Balances'!H85","v":1}]
[null,"    Transport - road",null,{"$f":"+'Energy Balance'!D115*(1+Growth!N$39)","v":0},null,"Biomass",{"$f":"G$417*H430","v":0},{"$f":"+'BAU projected Energy Balances'!H86","v":1}]
[null,"    Transport - rail",null,{"$f":"+'Energy Balance'!D116*(1+Growth!N$39)","v":0},null,"Geothermal",{"$f":"G$417*H431","v":0},{"$f":"+'BAU projected Energy Balances'!H87","v":1}]
[null,"    Transport - domestic air",null,{"$f":"+'Energy Balance'!D117*(1+Growth!N$39)","v":0}]
[null,"    Transport - navigation",null,{"$f":"+'Energy Balance'!D118*(1+Growth!N$39)","v":0}]
[null,"    Households",null,{"$f":"+'Energy Balance'!D119*(1+Growth!N$44)","v":0}]
[null,"    Services",null,{"$f":"+'Energy Balance'!D120*(1+Growth!N$47)","v":0}]
[null,"    Agriculture & Fishery",null,{"$f":"+'Energy Balance'!D121*(1+Growth!N$50)","v":0}]
[null,"    Non energy - chemical feedstocs",null,{"$f":"+'Energy Balance'!D122*(1+Growth!N$74)","v":0}]
[]
[]
[]
[]
[]
[]
[null,{"$f":"\"Fossil fuel balance - 2050 - \"&Assumptions!C9","v":"Fossil fuel balance - 2050 - "}]
[null,"TJ units",null,"LPG","Gasoline","Jet Fuel","Diesel","Fueloil","Kerosene and other","Total oil products","Coal","Lignite","Gas","Coke","Petrocoke","Total energy (fossil)"]
[null,"Unit",null,"TJ","TJ","TJ","TJ","TJ","TJ","TJ","TJ","TJ","TJ","TJ","TJ","TJ"]
[null,"Total",null,{"$f":"+D448+D449","v":0},{"$f":"+E448+E449","v":0},0,{"$f":"+G448+G449","v":0},0,0,{"$f":"+J448+J449","v":0},0,{"$f":"+L448+L449","v":0},0,0,0,{"$f":"SUM(J447:O447)","v":0}]
[null,"    Fossil power plants",null,{"$f":"D477/E471","v":0},0,0,0,0,0,{"$f":"SUM(D448:I448)","v":0},{"$f":"K477/L471","v":0},{"$f":"L477/M471","v":0},{"$f":"M477/N471","v":0},null,null,{"$f":"SUM(J448:O448)","v":0}]
[null,"FINAL CONSUMPTION",null,{"$f":"SUM(D450:D469)","v":0},{"$f":"SUM(E450:E469)","v":0},0,{"$f":"SUM(G450:G469)","v":0},0,0,{"$f":"SUM(J450:J469)","v":0},0,{"$f":"SUM(L450:L469)","v":0},0,{"$f":"SUM(N450:N469)","v":0},0,{"$f":"SUM(J449:O449)","v":0}]
[null,"    Industry - steel",null,{"$f":"+'Energy Balance'!D21*(1+Growth!$O21)","v":0},{"$f":"+'Energy Balance'!E21*(1+Growth!$O21)","v":0},{"$f":"+'Energy Balance'!F21*(1+Growth!$O21)","v":0},{"$f":"+'Energy Balance'!G21*(1+Growth!$O21)","v":0},{"$f":"+'Energy Balance'!H21*(1+Growth!$O21)","v":0},{"$f":"+'Energy Balance'!I21*(1+Growth!$O21)","v":0},{"$f":"SUM(D450:I450)","v":0},{"$f":"+'Energy Balance'!K21*(1+Growth!$O21)","v":0},{"$f":"+'Energy Balance'!L21*(1+Growth!$O21)","v":0},{"$f":"+'Energy Balance'!M21*(1+Growth!$O21)","v":0},{"$f":"+'Energy Balance'!N21*(1+Growth!$O21)","v":0},{"$f":"+'Energy Balance'!O21*(1+Growth!$O21)","v":0},{"$f":"SUM(J450:O450)","v":0}]
[null,"    Industry - chemical",null,{"$f":"+'Energy Balance'!D22*(1+Growth!$O22)","v":0},{"$f":"+'Energy Balance'!E22*(1+Growth!$O22)","v":0},{"$f":"+'Energy Balance'!F22*(1+Growth!$O22)","v":0},{"$f":"+'Energy Balance'!G22*(1+Growth!$O22)","v":0},{"$f":"+'Energy Balance'!H22*(1+Growth!$O22)","v":0},{"$f":"+'Energy Balance'!I22*(1+Growth!$O22)","v":0},0,{"$f":"+'Energy Balance'!K22*(1+Growth!$O22)","v":0},{"$f":"+'Energy Balance'!L22*(1+Growth!$O22)","v":0},{"$f":"+'Energy Balance'!M22*(1+Growth!$O22)","v":0},{"$f":"+'Energy Balance'!N22*(1+Growth!$O22)","v":0},{"$f":"+'Energy Balance'!O22*(1+Growth!$O22)","v":0},0]
[null,"    Industry - non metallic mineral",null,{"$f":"+'Energy Balance'!D23*(1+Growth!$O23)","v":0},{"$f":"+'Energy Balance'!E23*(1+Growth!$O23)","v":0},{"$f":"+'Energy Balance'!F23*(1+Growth!$O23)","v":0},{"$f":"+'Energy Balance'!G23*(1+Growth!$O23)","v":0},{"$f":"+'Energy Balance'!H23*(1+Growth!$O23)","v":0},{"$f":"+'Energy Balance'!I23*(1+Growth!$O23)","v":0},0,{"$f":"+'Energy Balance'!K23*(1+Growth!$O23)","v":0},{"$f":"+'Energy Balance'!L23*(1+Growth!$O23)","v":0},{"$f":"+'Energy Balance'!M23*(1+Growth!$O23)","v":0},{"$f":"+'Energy Balance'!N23*(1+Growth!$O23)","v":0},{"$f":"+'Energy Balance'!O23*(1+Growth!$O23)","v":0},{"$f":"SUM(J452:O452)","v":0}]
[null,"    Industry - food processing and beverage",null,{"$f":"+'Energy Balance'!D24*(1+Growth!$O24)","v":0},{"$f":"+'Energy Balance'!E24*(1+Growth!$O24)","v":0},{"$f":"+'Energy Balance'!F24*(1+Growth!$O24)","v":0},{"$f":"+'Energy Balance'!G24*(1+Growth!$O24)","v":0},{"$f":"+'Energy Balance'!H24*(1+Growth!$O24)","v":0},{"$f":"+'Energy Balance'!I24*(1+Growth!$O24)","v":0},0,{"$f":"+'Energy Balance'!K24*(1+Growth!$O24)","v":0},{"$f":"+'Energy Balance'!L24*(1+Growth!$O24)","v":0},{"$f":"+'Energy Balance'!M24*(1+Growth!$O24)","v":0},{"$f":"+'Energy Balance'!N24*(1+Growth!$O24)","v":0},{"$f":"+'Energy Balance'!O24*(1+Growth!$O24)","v":0},0]
[null,"    Industry - construction",null,{"$f":"+'Energy Balance'!D25*(1+Growth!$O25)","v":0},{"$f":"+'Energy Balance'!E25*(1+Growth!$O25)","v":0},{"$f":"+'Energy Balance'!F25*(1+Growth!$O25)","v":0},{"$f":"+'Energy Balance'!G25*(1+Growth!$O25)","v":0},{"$f":"+'Energy Balance'!H25*(1+Growth!$O25)","v":0},{"$f":"+'Energy Balance'!I25*(1+Growth!$O25)","v":0},0,{"$f":"+'Energy Balance'!K25*(1+Growth!$O25)","v":0},{"$f":"+'Energy Balance'!L25*(1+Growth!$O25)","v":0},{"$f":"+'Energy Balance'!M25*(1+Growth!$O25)","v":0},{"$f":"+'Energy Balance'!N25*(1+Growth!$O25)","v":0},{"$f":"+'Energy Balance'!O25*(1+Growth!$O25)","v":0},0]
[null,"    Industry - mining",null,{"$f":"+'Energy Balance'!D26*(1+Growth!$O26)","v":0},{"$f":"+'Energy Balance'!E26*(1+Growth!$O26)","v":0},{"$f":"+'Energy Balance'!F26*(1+Growth!$O26)","v":0},{"$f":"+'Energy Balance'!G26*(1+Growth!$O26)","v":0},{"$f":"+'Energy Balance'!H26*(1+Growth!$O26)","v":0},{"$f":"+'Energy Balance'!I26*(1+Growth!$O26)","v":0},0,{"$f":"+'Energy Balance'!K26*(1+Growth!$O26)","v":0},{"$f":"+'Energy Balance'!L26*(1+Growth!$O26)","v":0},{"$f":"+'Energy Balance'!M26*(1+Growth!$O26)","v":0},{"$f":"+'Energy Balance'!N26*(1+Growth!$O26)","v":0},{"$f":"+'Energy Balance'!O26*(1+Growth!$O26)","v":0},0]
[null,"    Industry - machinery",null,{"$f":"+'Energy Balance'!D27*(1+Growth!$O27)","v":0},{"$f":"+'Energy Balance'!E27*(1+Growth!$O27)","v":0},{"$f":"+'Energy Balance'!F27*(1+Growth!$O27)","v":0},{"$f":"+'Energy Balance'!G27*(1+Growth!$O27)","v":0},{"$f":"+'Energy Balance'!H27*(1+Growth!$O27)","v":0},{"$f":"+'Energy Balance'!I27*(1+Growth!$O27)","v":0},0,{"$f":"+'Energy Balance'!K27*(1+Growth!$O27)","v":0},{"$f":"+'Energy Balance'!L27*(1+Growth!$O27)","v":0},{"$f":"+'Energy Balance'!M27*(1+Growth!$O27)","v":0},{"$f":"+'Energy Balance'!N27*(1+Growth!$O27)","v":0},{"$f":"+'Energy Balance'!O27*(1+Growth!$O27)","v":0},0]
[null,"    Industry - non ferrous metals",null,{"$f":"+'Energy Balance'!D28*(1+Growth!$O28)","v":0},{"$f":"+'Energy Balance'!E28*(1+Growth!$O28)","v":0},{"$f":"+'Energy Balance'!F28*(1+Growth!$O28)","v":0},{"$f":"+'Energy Balance'!G28*(1+Growth!$O28)","v":0},{"$f":"+'Energy Balance'!H28*(1+Growth!$O28)","v":0},{"$f":"+'Energy Balance'!I28*(1+Growth!$O28)","v":0},0,{"$f":"+'Energy Balance'!K28*(1+Growth!$O28)","v":0},{"$f":"+'Energy Balance'!L28*(1+Growth!$O28)","v":0},{"$f":"+'Energy Balance'!M28*(1+Growth!$O28)","v":0},{"$f":"+'Energy Balance'!N28*(1+Growth!$O28)","v":0},{"$f":"+'Energy Balance'!O28*(1+Growth!$O28)","v":0},0]
[null,"    Industry - paper and pulp",null,{"$f":"+'Energy Balance'!D29*(1+Growth!$O29)","v":0},{"$f":"+'Energy Balance'!E29*(1+Growth!$O29)","v":0},{"$f":"+'Energy Balance'!F29*(1+Growth!$O29)","v":0},{"$f":"+'Energy Balance'!G29*(1+Growth!$O29)","v":0},{"$f":"+'Energy Balance'!H29*(1+Growth!$O29)","v":0},{"$f":"+'Energy Balance'!I29*(1+Growth!$O29)","v":0},0,{"$f":"+'Energy Balance'!K29*(1+Growth!$O29)","v":0},{"$f":"+'Energy Balance'!L29*(1+Growth!$O29)","v":0},{"$f":"+'Energy Balance'!M29*(1+Growth!$O29)","v":0},{"$f":"+'Energy Balance'!N29*(1+Growth!$O29)","v":0},{"$f":"+'Energy Balance'!O29*(1+Growth!$O29)","v":0},0]
[null,"    Industry - transport equipment",null,{"$f":"+'Energy Balance'!D30*(1+Growth!$O30)","v":0},{"$f":"+'Energy Balance'!E30*(1+Growth!$O30)","v":0},{"$f":"+'Energy Balance'!F30*(1+Growth!$O30)","v":0},{"$f":"+'Energy Balance'!G30*(1+Growth!$O30)","v":0},{"$f":"+'Energy Balance'!H30*(1+Growth!$O30)","v":0},{"$f":"+'Energy Balance'!I30*(1+Growth!$O30)","v":0},0,{"$f":"+'Energy Balance'!K30*(1+Growth!$O30)","v":0},{"$f":"+'Energy Balance'!L30*(1+Growth!$O30)","v":0},{"$f":"+'Energy Balance'!M30*(1+Growth!$O30)","v":0},{"$f":"+'Energy Balance'!N30*(1+Growth!$O30)","v":0},{"$f":"+'Energy Balance'!O30*(1+Growth!$O30)","v":0},0]
[null,"    Industry - textile and leather",null,{"$f":"+'Energy Balance'!D31*(1+Growth!$O31)","v":0},{"$f":"+'Energy Balance'!E31*(1+Growth!$O31)","v":0},{"$f":"+'Energy Balance'!F31*(1+Growth!$O31)","v":0},{"$f":"+'Energy Balance'!G31*(1+Growth!$O31)","v":0},{"$f":"+'Energy Balance'!H31*(1+Growth!$O31)","v":0},{"$f":"+'Energy Balance'!I31*(1+Growth!$O31)","v":0},{"$f":"SUM(D460:I460)","v":0},{"$f":"+'Energy Balance'!K31*(1+Growth!$O31)","v":0},{"$f":"+'Energy Balance'!L31*(1+Growth!$O31)","v":0},{"$f":"+'Energy Balance'!M31*(1+Growth!$O31)","v":0},{"$f":"+'Energy Balance'!N31*(1+Growth!$O31)","v":0},{"$f":"+'Energy Balance'!O31*(1+Growth!$O31)","v":0},0]
[null,"    Industry - miscellaneous",null,{"$f":"+'Energy Balance'!D32*(1+Growth!$O32)","v":0},{"$f":"+'Energy Balance'!E32*(1+Growth!$O32)","v":0},{"$f":"+'Energy Balance'!F32*(1+Growth!$O32)","v":0},{"$f":"+'Energy Balance'!G32*(1+Growth!$O32)","v":0},{"$f":"+'Energy Balance'!H32*(1+Growth!$O32)","v":0},{"$f":"+'Energy Balance'!I32*(1+Growth!$O32)","v":0},0,{"$f":"+'Energy Balance'!K32*(1+Growth!$O32)","v":0},{"$f":"+'Energy Balance'!L32*(1+Growth!$O32)","v":0},{"$f":"+'Energy Balance'!M32*(1+Growth!$O32)","v":0},{"$f":"+'Energy Balance'!N32*(1+Growth!$O32)","v":0},{"$f":"+'Energy Balance'!O32*(1+Growth!$O32)","v":0},0]
[null,"    Transport - road",null,{"$f":"+'Energy Balance'!D33*(1+Growth!$O35)","v":0},{"$f":"+'Energy Balance'!E33*(1+Growth!$O35)","v":0},{"$f":"+'Energy Balance'!F33*(1+Growth!$O35)","v":0},{"$f":"+'Energy Balance'!G33*(1+Growth!$O35)","v":0},{"$f":"+'Energy Balance'!H33*(1+Growth!$O35)","v":0},{"$f":"+'Energy Balance'!I33*(1+Growth!$O35)","v":0},0,{"$f":"+'Energy Balance'!K33*(1+Growth!$O35)","v":0},{"$f":"+'Energy Balance'!L33*(1+Growth!$O35)","v":0},{"$f":"+'Energy Balance'!M33*(1+Growth!$O35)","v":0},{"$f":"+'Energy Balance'!N33*(1+Growth!$O35)","v":0},{"$f":"+'Energy Balance'!O33*(1+Growth!$O35)","v":0},0]
[null,"    Transport - rail",null,{"$f":"+'Energy Balance'!D34*(1+Growth!$O36)","v":0},{"$f":"+'Energy Balance'!E34*(1+Growth!$O36)","v":0},{"$f":"+'Energy Balance'!F34*(1+Growth!$O36)","v":0},{"$f":"+'Energy Balance'!G34*(1+Growth!$O36)","v":0},{"$f":"+'Energy Balance'!H34*(1+Growth!$O36)","v":0},{"$f":"+'Energy Balance'!I34*(1+Growth!$O36)","v":0},0,{"$f":"+'Energy Balance'!K34*(1+Growth!$O36)","v":0},{"$f":"+'Energy Balance'!L34*(1+Growth!$O36)","v":0},{"$f":"+'Energy Balance'!M34*(1+Growth!$O36)","v":0},{"$f":"+'Energy Balance'!N34*(1+Growth!$O36)","v":0},{"$f":"+'Energy Balance'!O34*(1+Growth!$O36)","v":0},{"$f":"SUM(J463:O463)","v":0}]
[null,"    Transport - domestic air",null,{"$f":"+'Energy Balance'!D35*(1+Growth!$O37)","v":0},{"$f":"+'Energy Balance'!E35*(1+Growth!$O37)","v":0},{"$f":"+'Energy Balance'!F35*(1+Growth!$O37)","v":0},{"$f":"+'Energy Balance'!G35*(1+Growth!$O37)","v":0},{"$f":"+'Energy Balance'!H35*(1+Growth!$O37)","v":0},{"$f":"+'Energy Balance'!I35*(1+Growth!$O37)","v":0},0,{"$f":"+'Energy Balance'!K35*(1+Growth!$O37)","v":0},{"$f":"+'Energy Balance'!L35*(1+Growth!$O37)","v":0},{"$f":"+'Energy Balance'!M35*(1+Growth!$O37)","v":0},{"$f":"+'Energy Balance'!N35*(1+Growth!$O37)","v":0},{"$f":"+'Energy Balance'!O35*(1+Growth!$O37)","v":0},0]
[null,"    Transport - navigation",null,{"$f":"+'Energy Balance'!D36*(1+Growth!$O38)","v":0},{"$f":"+'Energy Balance'!E36*(1+Growth!$O38)","v":0},{"$f":"+'Energy Balance'!F36*(1+Growth!$O38)","v":0},{"$f":"+'Energy Balance'!G36*(1+Growth!$O38)","v":0},{"$f":"+'Energy Balance'!H36*(1+Growth!$O38)","v":0},{"$f":"+'Energy Balance'!I36*(1+Growth!$O38)","v":0},0,{"$f":"+'Energy Balance'!K36*(1+Growth!$O38)","v":0},{"$f":"+'Energy Balance'!L36*(1+Growth!$O38)","v":0},{"$f":"+'Energy Balance'!M36*(1+Growth!$O38)","v":0},{"$f":"+'Energy Balance'!N36*(1+Growth!$O38)","v":0},{"$f":"+'Energy Balance'!O36*(1+Growth!$O38)","v":0},0]
[null,"    Households",null,{"$f":"+'Energy Balance'!D37*(1+Growth!$O42)","v":0},{"$f":"+'Energy Balance'!E37*(1+Growth!$O42)","v":0},{"$f":"+'Energy Balance'!F37*(1+Growth!$O42)","v":0},{"$f":"+'Energy Balance'!G37*(1+Growth!$O42)","v":0},{"$f":"+'Energy Balance'!H37*(1+Growth!$O42)","v":0},{"$f":"+'Energy Balance'!I37*(1+Growth!$O43)","v":0},{"$f":"SUM(D466:I466)","v":0},{"$f":"+'Energy Balance'!K37*(1+Growth!$O42)","v":0},{"$f":"+'Energy Balance'!L37*(1+Growth!$O42)","v":0},{"$f":"+'Energy Balance'!M37*(1+Growth!$O42)","v":0},{"$f":"+'Energy Balance'!N37*(1+Growth!$O42)","v":0},{"$f":"+'Energy Balance'!O37*(1+Growth!$O42)","v":0},0]
[null,"    Services",null,{"$f":"+'Energy Balance'!D38*(1+Growth!$O46)","v":0},{"$f":"+'Energy Balance'!E38*(1+Growth!$O46)","v":0},{"$f":"+'Energy Balance'!F38*(1+Growth!$O46)","v":0},{"$f":"+'Energy Balance'!G38*(1+Growth!$O46)","v":0},{"$f":"+'Energy Balance'!H38*(1+Growth!$O46)","v":0},{"$f":"+'Energy Balance'!I38*(1+Growth!$O46)","v":0},0,{"$f":"+'Energy Balance'!K38*(1+Growth!$O46)","v":0},{"$f":"+'Energy Balance'!L38*(1+Growth!$O46)","v":0},{"$f":"+'Energy Balance'!M38*(1+Growth!$O46)","v":0},{"$f":"+'Energy Balance'!N38*(1+Growth!$O46)","v":0},{"$f":"+'Energy Balance'!O38*(1+Growth!$O46)","v":0},0]
[null,"    Agriculture & Fishery",null,{"$f":"+'Energy Balance'!D39*(1+Growth!$O49)","v":0},{"$f":"+'Energy Balance'!E39*(1+Growth!$O49)","v":0},{"$f":"+'Energy Balance'!F39*(1+Growth!$O49)","v":0},{"$f":"+'Energy Balance'!G39*(1+Growth!$O49)","v":0},{"$f":"+'Energy Balance'!H39*(1+Growth!$O49)","v":0},{"$f":"+'Energy Balance'!I39*(1+Growth!$O49)","v":0},0,{"$f":"+'Energy Balance'!K39*(1+Growth!$O49)","v":0},{"$f":"+'Energy Balance'!L39*(1+Growth!$O49)","v":0},{"$f":"+'Energy Balance'!M39*(1+Growth!$O49)","v":0},{"$f":"+'Energy Balance'!N39*(1+Growth!$O49)","v":0},{"$f":"+'Energy Balance'!O39*(1+Growth!$O49)","v":0},0]
[null,"    Non energy uses",null,{"$f":"+'Energy Balance'!D40*(1+Growth!$O74)","v":0},{"$f":"+'Energy Balance'!E40*(1+Growth!$O74)","v":0},{"$f":"+'Energy Balance'!F40*(1+Growth!$O74)","v":0},{"$f":"+'Energy Balance'!G40*(1+Growth!$O74)","v":0},{"$f":"+'Energy Balance'!H40*(1+Growth!$O74)","v":0},{"$f":"+'Energy Balance'!I40*(1+Growth!$O74)","v":0},0,{"$f":"+'Energy Balance'!K40*(1+Growth!$O74)","v":0},{"$f":"+'Energy Balance'!L40*(1+Growth!$O74)","v":0},{"$f":"+'Energy Balance'!M40*(1+Growth!$O74)","v":0},{"$f":"+'Energy Balance'!N40*(1+Growth!$O74)","v":0},{"$f":"+'Energy Balance'!O40*(1+Growth!$O74)","v":0},0]
[]
[null,null,null,null,2.3884589662749593E-2,2.3884589662749593E-2,2.3884589662749593E-2,2.3884589662749593E-2,2.3884589662749593E-2,2.3884589662749593E-2,null,2.3884589662749593E-2,2.3884589662749593E-2,2.3884589662749593E-2,2.3884589662749593E-2,2.3884589662749593E-2]
[]
[null,{"$f":"\"Fossil fuel balance - 2050 - \"&Assumptions!C9","v":"Fossil fuel balance - 2050 - "}]
[null,"ktoe units",null,"LPG","Gasoline","Jet Fuel","Diesel","Fueloil","Kerosene and other","Total oil products","Coal","Lignite","Gas","Coke","Petrocoke","Total"]
[null,"Unit",null,"ktoe","ktoe","ktoe","ktoe","ktoe","ktoe","ktoe","ktoe","ktoe","ktoe","ktoe","ktoe","ktoe"]
[null,"Total consumption",null,{"$f":"+D477+D478","v":0},{"$f":"+E477+E478","v":0},0,{"$f":"+G477+G478","v":0},0,0,{"$f":"+J477+J478","v":0},0,{"$f":"+L477+L478","v":0},0,{"$f":"+N477+N478","v":0},0,{"$f":"+P477+P478","v":0}]
[null,"    Fossil power plants",null,{"$f":"IFERROR(IF($G505=0,0,$J477*IF('Energy Balance'!$J76>0,'Energy Balance'!D76/'Energy Balance'!$J76,0)),0)","v":0},{"$f":"IFERROR(IF($G505=0,0,$J477*IF('Energy Balance'!$J76>0,'Energy Balance'!E76/'Energy Balance'!$J76,0)),0)","v":0},{"$f":"IFERROR(IF($G505=0,0,$J477*IF('Energy Balance'!$J76>0,'Energy Balance'!F76/'Energy Balance'!$J76,0)),0)","v":0},{"$f":"IFERROR(IF($G505=0,0,$J477*IF('Energy Balance'!$J76>0,'Energy Balance'!G76/'Energy Balance'!$J76,0)),0)","v":0},{"$f":"IFERROR(IF($G505=0,0,$J477*IF('Energy Balance'!$J76>0,'Energy Balance'!H76/'Energy Balance'!$J76,0)),0)","v":0},{"$f":"IFERROR(IF($G505=0,0,$J477*IF('Energy Balance'!$J76>0,'Energy Balance'!I76/'Energy Balance'!$J76,0)),0)","v":0},{"$f":"IFERROR(IF(G505=0,0,G508/11.63/I508),0)","v":0},{"$f":"IF(I507>0,G507/11.63/I507,0)","v":0},{"$f":"IF(I506>0,G506/11.63/I506,0)","v":0},{"$f":"IF(I509>0,G509/11.63/I509,0)","v":0},null,null,{"$f":"SUM(J477:O477)","v":0}]
[null,"Final consumption",null,{"$f":"SUM(D479:D498)","v":0},{"$f":"SUM(E479:E498)","v":0},{"$f":"SUM(F479:F498)","v":0},{"$f":"SUM(G479:G498)","v":0},{"$f":"SUM(H479:H498)","v":0},0,{"$f":"SUM(D478:I478)","v":0},{"$f":"SUM(K479:K498)","v":0},{"$f":"SUM(L479:L498)","v":0},{"$f":"SUM(M479:M498)","v":0},0,{"$f":"SUM(O479:O498)","v":0},{"$f":"SUM(P479:P498)","v":0}]
[null,"    Industry - steel",null,{"$f":"+'Energy Balance'!D78*(1+Growth!$O21)","v":0},{"$f":"+'Energy Balance'!E78*(1+Growth!$O21)","v":0},{"$f":"+'Energy Balance'!F78*(1+Growth!$O21)","v":0},{"$f":"+'Energy Balance'!G78*(1+Growth!$O21)","v":0},{"$f":"+'Energy Balance'!H78*(1+Growth!$O21)","v":0},{"$f":"+'Energy Balance'!I78*(1+Growth!$O21)","v":0},{"$f":"SUM(D479:I479)","v":0},{"$f":"+'Energy Balance'!K78*(1+Growth!$O21)","v":0},{"$f":"+'Energy Balance'!L78*(1+Growth!$O21)","v":0},{"$f":"+'Energy Balance'!M78*(1+Growth!$O21)","v":0},{"$f":"+'Energy Balance'!N78*(1+Growth!$O21)","v":0},{"$f":"+'Energy Balance'!O78*(1+Growth!$O21)","v":0},{"$f":"SUM(J479:O479)","v":0}]
[null,"    Industry - chemical",null,{"$f":"+'Energy Balance'!D79*(1+Growth!$O22)","v":0},{"$f":"+'Energy Balance'!E79*(1+Growth!$O22)","v":0},{"$f":"+'Energy Balance'!F79*(1+Growth!$O22)","v":0},{"$f":"+'Energy Balance'!G79*(1+Growth!$O22)","v":0},{"$f":"+'Energy Balance'!H79*(1+Growth!$O22)","v":0},{"$f":"+'Energy Balance'!I79*(1+Growth!$O22)","v":0},{"$f":"SUM(D480:I480)","v":0},{"$f":"+'Energy Balance'!K79*(1+Growth!$O22)","v":0},{"$f":"+'Energy Balance'!L79*(1+Growth!$O22)","v":0},{"$f":"+'Energy Balance'!M79*(1+Growth!$O22)","v":0},{"$f":"+'Energy Balance'!N79*(1+Growth!$O22)","v":0},{"$f":"+'Energy Balance'!O79*(1+Growth!$O22)","v":0},{"$f":"SUM(J480:O480)","v":0}]
[null,"    Industry - non metallic mineral",null,{"$f":"+'Energy Balance'!D80*(1+Growth!$O23)","v":0},{"$f":"+'Energy Balance'!E80*(1+Growth!$O23)","v":0},{"$f":"+'Energy Balance'!F80*(1+Growth!$O23)","v":0},{"$f":"+'Energy Balance'!G80*(1+Growth!$O23)","v":0},{"$f":"+'Energy Balance'!H80*(1+Growth!$O23)","v":0},{"$f":"+'Energy Balance'!I80*(1+Growth!$O23)","v":0},0,{"$f":"+'Energy Balance'!K80*(1+Growth!$O23)","v":0},{"$f":"+'Energy Balance'!L80*(1+Growth!$O23)","v":0},{"$f":"+'Energy Balance'!M80*(1+Growth!$O23)","v":0},{"$f":"+'Energy Balance'!N80*(1+Growth!$O23)","v":0},{"$f":"+'Energy Balance'!O80*(1+Growth!$O23)","v":0},0]
[null,"    Industry - food processing and beverage",null,{"$f":"+'Energy Balance'!D81*(1+Growth!$O24)","v":0},{"$f":"+'Energy Balance'!E81*(1+Growth!$O24)","v":0},{"$f":"+'Energy Balance'!F81*(1+Growth!$O24)","v":0},{"$f":"+'Energy Balance'!G81*(1+Growth!$O24)","v":0},{"$f":"+'Energy Balance'!H81*(1+Growth!$O24)","v":0},{"$f":"+'Energy Balance'!I81*(1+Growth!$O24)","v":0},0,{"$f":"+'Energy Balance'!K81*(1+Growth!$O24)","v":0},{"$f":"+'Energy Balance'!L81*(1+Growth!$O24)","v":0},{"$f":"+'Energy Balance'!M81*(1+Growth!$O24)","v":0},{"$f":"+'Energy Balance'!N81*(1+Growth!$O24)","v":0},{"$f":"+'Energy Balance'!O81*(1+Growth!$O24)","v":0},0]
[null,"    Industry - construction",null,{"$f":"+'Energy Balance'!D82*(1+Growth!$O25)","v":0},{"$f":"+'Energy Balance'!E82*(1+Growth!$O25)","v":0},{"$f":"+'Energy Balance'!F82*(1+Growth!$O25)","v":0},{"$f":"+'Energy Balance'!G82*(1+Growth!$O25)","v":0},{"$f":"+'Energy Balance'!H82*(1+Growth!$O25)","v":0},{"$f":"+'Energy Balance'!I82*(1+Growth!$O25)","v":0},0,{"$f":"+'Energy Balance'!K82*(1+Growth!$O25)","v":0},{"$f":"+'Energy Balance'!L82*(1+Growth!$O25)","v":0},{"$f":"+'Energy Balance'!M82*(1+Growth!$O25)","v":0},{"$f":"+'Energy Balance'!N82*(1+Growth!$O25)","v":0},{"$f":"+'Energy Balance'!O82*(1+Growth!$O25)","v":0},{"$f":"SUM(J483:O483)","v":0}]
[null,"    Industry - mining",null,{"$f":"+'Energy Balance'!D83*(1+Growth!$O26)","v":0},{"$f":"+'Energy Balance'!E83*(1+Growth!$O26)","v":0},{"$f":"+'Energy Balance'!F83*(1+Growth!$O26)","v":0},{"$f":"+'Energy Balance'!G83*(1+Growth!$O26)","v":0},{"$f":"+'Energy Balance'!H83*(1+Growth!$O26)","v":0},{"$f":"+'Energy Balance'!I83*(1+Growth!$O26)","v":0},0,{"$f":"+'Energy Balance'!K83*(1+Growth!$O26)","v":0},{"$f":"+'Energy Balance'!L83*(1+Growth!$O26)","v":0},{"$f":"+'Energy Balance'!M83*(1+Growth!$O26)","v":0},{"$f":"+'Energy Balance'!N83*(1+Growth!$O26)","v":0},{"$f":"+'Energy Balance'!O83*(1+Growth!$O26)","v":0},0]
[null,"    Industry - machinery",null,{"$f":"+'Energy Balance'!D84*(1+Growth!$O27)","v":0},{"$f":"+'Energy Balance'!E84*(1+Growth!$O27)","v":0},{"$f":"+'Energy Balance'!F84*(1+Growth!$O27)","v":0},{"$f":"+'Energy Balance'!G84*(1+Growth!$O27)","v":0},{"$f":"+'Energy Balance'!H84*(1+Growth!$O27)","v":0},{"$f":"+'Energy Balance'!I84*(1+Growth!$O27)","v":0},0,{"$f":"+'Energy Balance'!K84*(1+Growth!$O27)","v":0},{"$f":"+'Energy Balance'!L84*(1+Growth!$O27)","v":0},{"$f":"+'Energy Balance'!M84*(1+Growth!$O27)","v":0},{"$f":"+'Energy Balance'!N84*(1+Growth!$O27)","v":0},{"$f":"+'Energy Balance'!O84*(1+Growth!$O27)","v":0},0]
[null,"    Industry - non ferrous metals",null,{"$f":"+'Energy Balance'!D85*(1+Growth!$O28)","v":0},{"$f":"+'Energy Balance'!E85*(1+Growth!$O28)","v":0},{"$f":"+'Energy Balance'!F85*(1+Growth!$O28)","v":0},{"$f":"+'Energy Balance'!G85*(1+Growth!$O28)","v":0},{"$f":"+'Energy Balance'!H85*(1+Growth!$O28)","v":0},{"$f":"+'Energy Balance'!I85*(1+Growth!$O28)","v":0},0,{"$f":"+'Energy Balance'!K85*(1+Growth!$O28)","v":0},{"$f":"+'Energy Balance'!L85*(1+Growth!$O28)","v":0},{"$f":"+'Energy Balance'!M85*(1+Growth!$O28)","v":0},{"$f":"+'Energy Balance'!N85*(1+Growth!$O28)","v":0},{"$f":"+'Energy Balance'!O85*(1+Growth!$O28)","v":0},0]
[null,"    Industry - paper and pulp",null,{"$f":"+'Energy Balance'!D86*(1+Growth!$O29)","v":0},{"$f":"+'Energy Balance'!E86*(1+Growth!$O29)","v":0},{"$f":"+'Energy Balance'!F86*(1+Growth!$O29)","v":0},{"$f":"+'Energy Balance'!G86*(1+Growth!$O29)","v":0},{"$f":"+'Energy Balance'!H86*(1+Growth!$O29)","v":0},{"$f":"+'Energy Balance'!I86*(1+Growth!$O29)","v":0},0,{"$f":"+'Energy Balance'!K86*(1+Growth!$O29)","v":0},{"$f":"+'Energy Balance'!L86*(1+Growth!$O29)","v":0},{"$f":"+'Energy Balance'!M86*(1+Growth!$O29)","v":0},{"$f":"+'Energy Balance'!N86*(1+Growth!$O29)","v":0},{"$f":"+'Energy Balance'!O86*(1+Growth!$O29)","v":0},0]
[null,"    Industry - transport equipment",null,{"$f":"+'Energy Balance'!D87*(1+Growth!$O30)","v":0},{"$f":"+'Energy Balance'!E87*(1+Growth!$O30)","v":0},{"$f":"+'Energy Balance'!F87*(1+Growth!$O30)","v":0},{"$f":"+'Energy Balance'!G87*(1+Growth!$O30)","v":0},{"$f":"+'Energy Balance'!H87*(1+Growth!$O30)","v":0},{"$f":"+'Energy Balance'!I87*(1+Growth!$O30)","v":0},0,{"$f":"+'Energy Balance'!K87*(1+Growth!$O30)","v":0},{"$f":"+'Energy Balance'!L87*(1+Growth!$O30)","v":0},{"$f":"+'Energy Balance'!M87*(1+Growth!$O30)","v":0},{"$f":"+'Energy Balance'!N87*(1+Growth!$O30)","v":0},{"$f":"+'Energy Balance'!O87*(1+Growth!$O30)","v":0},{"$f":"SUM(J488:O488)","v":0}]
[null,"    Industry - textile and leather",null,{"$f":"+'Energy Balance'!D88*(1+Growth!$O31)","v":0},{"$f":"+'Energy Balance'!E88*(1+Growth!$O31)","v":0},{"$f":"+'Energy Balance'!F88*(1+Growth!$O31)","v":0},{"$f":"+'Energy Balance'!G88*(1+Growth!$O31)","v":0},{"$f":"+'Energy Balance'!H88*(1+Growth!$O31)","v":0},{"$f":"+'Energy Balance'!I88*(1+Growth!$O31)","v":0},{"$f":"SUM(D489:I489)","v":0},{"$f":"+'Energy Balance'!K88*(1+Growth!$O31)","v":0},{"$f":"+'Energy Balance'!L88*(1+Growth!$O31)","v":0},{"$f":"+'Energy Balance'!M88*(1+Growth!$O31)","v":0},{"$f":"+'Energy Balance'!N88*(1+Growth!$O31)","v":0},{"$f":"+'Energy Balance'!O88*(1+Growth!$O31)","v":0},0]
[null,"    Industry - miscellaneous",null,{"$f":"+'Energy Balance'!D89*(1+Growth!$O32)","v":0},{"$f":"+'Energy Balance'!E89*(1+Growth!$O32)","v":0},{"$f":"+'Energy Balance'!F89*(1+Growth!$O32)","v":0},{"$f":"+'Energy Balance'!G89*(1+Growth!$O32)","v":0},{"$f":"+'Energy Balance'!H89*(1+Growth!$O32)","v":0},{"$f":"+'Energy Balance'!I89*(1+Growth!$O32)","v":0},{"$f":"SUM(D490:I490)","v":0},{"$f":"+'Energy Balance'!K89*(1+Growth!$O32)","v":0},{"$f":"+'Energy Balance'!L89*(1+Growth!$O32)","v":0},{"$f":"+'Energy Balance'!M89*(1+Growth!$O32)","v":0},{"$f":"+'Energy Balance'!N89*(1+Growth!$O32)","v":0},{"$f":"+'Energy Balance'!O89*(1+Growth!$O32)","v":0},0]
[null,"    Transport - road",null,{"$f":"+'Energy Balance'!D90*(1+Growth!$O35)","v":0},{"$f":"+'Energy Balance'!E90*(1+Growth!$O35)","v":0},{"$f":"+'Energy Balance'!F90*(1+Growth!$O35)","v":0},{"$f":"+'Energy Balance'!G90*(1+Growth!$O35)","v":0},{"$f":"+'Energy Balance'!H90*(1+Growth!$O35)","v":0},{"$f":"+'Energy Balance'!I90*(1+Growth!$O35)","v":0},0,{"$f":"+'Energy Balance'!K90*(1+Growth!$O35)","v":0},{"$f":"+'Energy Balance'!L90*(1+Growth!$O35)","v":0},{"$f":"+'Energy Balance'!M90*(1+Growth!$O35)","v":0},{"$f":"+'Energy Balance'!N90*(1+Growth!$O35)","v":0},{"$f":"+'Energy Balance'!O90*(1+Growth!$O35)","v":0},0]
[null,"    Transport - rail",null,{"$f":"+'Energy Balance'!D91*(1+Growth!$O36)","v":0},{"$f":"+'Energy Balance'!E91*(1+Growth!$O36)","v":0},{"$f":"+'Energy Balance'!F91*(1+Growth!$O36)","v":0},{"$f":"+'Energy Balance'!G91*(1+Growth!$O36)","v":0},{"$f":"+'Energy Balance'!H91*(1+Growth!$O36)","v":0},{"$f":"+'Energy Balance'!I91*(1+Growth!$O36)","v":0},0,{"$f":"+'Energy Balance'!K91*(1+Growth!$O36)","v":0},{"$f":"+'Energy Balance'!L91*(1+Growth!$O36)","v":0},{"$f":"+'Energy Balance'!M91*(1+Growth!$O36)","v":0},{"$f":"+'Energy Balance'!N91*(1+Growth!$O36)","v":0},{"$f":"+'Energy Balance'!O91*(1+Growth!$O36)","v":0},0]
[null,"    Transport - domestic air",null,{"$f":"+'Energy Balance'!D92*(1+Growth!$O37)","v":0},{"$f":"+'Energy Balance'!E92*(1+Growth!$O37)","v":0},{"$f":"+'Energy Balance'!F92*(1+Growth!$O37)","v":0},{"$f":"+'Energy Balance'!G92*(1+Growth!$O37)","v":0},{"$f":"+'Energy Balance'!H92*(1+Growth!$O37)","v":0},{"$f":"+'Energy Balance'!I92*(1+Growth!$O37)","v":0},0,{"$f":"+'Energy Balance'!K92*(1+Growth!$O37)","v":0},{"$f":"+'Energy Balance'!L92*(1+Growth!$O37)","v":0},{"$f":"+'Energy Balance'!M92*(1+Growth!$O37)","v":0},{"$f":"+'Energy Balance'!N92*(1+Growth!$O37)","v":0},{"$f":"+'Energy Balance'!O92*(1+Growth!$O37)","v":0},0]
[null,"    Transport - navigation",null,{"$f":"+'Energy Balance'!D93*(1+Growth!$O38)","v":0},{"$f":"+'Energy Balance'!E93*(1+Growth!$O38)","v":0},{"$f":"+'Energy Balance'!F93*(1+Growth!$O38)","v":0},{"$f":"+'Energy Balance'!G93*(1+Growth!$O38)","v":0},{"$f":"+'Energy Balance'!H93*(1+Growth!$O38)","v":0},{"$f":"+'Energy Balance'!I93*(1+Growth!$O38)","v":0},0,{"$f":"+'Energy Balance'!K93*(1+Growth!$O38)","v":0},{"$f":"+'Energy Balance'!L93*(1+Growth!$O38)","v":0},{"$f":"+'Energy Balance'!M93*(1+Growth!$O38)","v":0},{"$f":"+'Energy Balance'!N93*(1+Growth!$O38)","v":0},{"$f":"+'Energy Balance'!O93*(1+Growth!$O38)","v":0},0]
[null,"    Households",null,{"$f":"+'Energy Balance'!D94*(1+Growth!$O42)","v":0},{"$f":"+'Energy Balance'!E94*(1+Growth!$O42)","v":0},{"$f":"+'Energy Balance'!F94*(1+Growth!$O42)","v":0},{"$f":"+'Energy Balance'!G94*(1+Growth!$O42)","v":0},{"$f":"+'Energy Balance'!H94*(1+Growth!$O42)","v":0},{"$f":"+'Energy Balance'!I94*(1+Growth!$O43)","v":0},0,{"$f":"+'Energy Balance'!K94*(1+Growth!$O42)","v":0},{"$f":"+'Energy Balance'!L94*(1+Growth!$O42)","v":0},{"$f":"+'Energy Balance'!M94*(1+Growth!$O42)","v":0},{"$f":"+'Energy Balance'!N94*(1+Growth!$O42)","v":0},{"$f":"+'Energy Balance'!O94*(1+Growth!$O42)","v":0},0]
[null,"    Services",null,{"$f":"+'Energy Balance'!D95*(1+Growth!$O46)","v":0},{"$f":"+'Energy Balance'!E95*(1+Growth!$O46)","v":0},{"$f":"+'Energy Balance'!F95*(1+Growth!$O46)","v":0},{"$f":"+'Energy Balance'!G95*(1+Growth!$O46)","v":0},{"$f":"+'Energy Balance'!H95*(1+Growth!$O46)","v":0},{"$f":"+'Energy Balance'!I95*(1+Growth!$O46)","v":0},0,{"$f":"+'Energy Balance'!K95*(1+Growth!$O46)","v":0},{"$f":"+'Energy Balance'!L95*(1+Growth!$O46)","v":0},{"$f":"+'Energy Balance'!M95*(1+Growth!$O46)","v":0},{"$f":"+'Energy Balance'!N95*(1+Growth!$O46)","v":0},{"$f":"+'Energy Balance'!O95*(1+Growth!$O46)","v":0},0]
[null,"    Agriculture & Fishery",null,{"$f":"+'Energy Balance'!D96*(1+Growth!$O49)","v":0},{"$f":"+'Energy Balance'!E96*(1+Growth!$O49)","v":0},{"$f":"+'Energy Balance'!F96*(1+Growth!$O49)","v":0},{"$f":"+'Energy Balance'!G96*(1+Growth!$O49)","v":0},{"$f":"+'Energy Balance'!H96*(1+Growth!$O49)","v":0},{"$f":"+'Energy Balance'!I96*(1+Growth!$O49)","v":0},0,{"$f":"+'Energy Balance'!K96*(1+Growth!$O49)","v":0},{"$f":"+'Energy Balance'!L96*(1+Growth!$O49)","v":0},{"$f":"+'Energy Balance'!M96*(1+Growth!$O49)","v":0},{"$f":"+'Energy Balance'!N96*(1+Growth!$O49)","v":0},{"$f":"+'Energy Balance'!O96*(1+Growth!$O49)","v":0},0]
[null,"    Non energy uses",null,{"$f":"+'Energy Balance'!D97*(1+Growth!$O74)","v":0},{"$f":"+'Energy Balance'!E97*(1+Growth!$O74)","v":0},{"$f":"+'Energy Balance'!F97*(1+Growth!$O74)","v":0},{"$f":"+'Energy Balance'!G97*(1+Growth!$O74)","v":0},{"$f":"+'Energy Balance'!H97*(1+Growth!$O74)","v":0},{"$f":"+'Energy Balance'!I97*(1+Growth!$O74)","v":0},0,{"$f":"+'Energy Balance'!K97*(1+Growth!$O74)","v":0},{"$f":"+'Energy Balance'!L97*(1+Growth!$O74)","v":0},{"$f":"+'Energy Balance'!M97*(1+Growth!$O74)","v":0},{"$f":"+'Energy Balance'!N97*(1+Growth!$O74)","v":0},{"$f":"+'Energy Balance'!O97*(1+Growth!$O74)","v":0},{"$f":"SUM(J498:O498)","v":0}]
[]
[]
[null,"Electricity balance in ktoe - 2050"]
[null,"Electricity consumption",null,"Gwh",null,"Electricity production","Gwh","Share of production","Efficiency"]
[null,"Total consumption",null,{"$f":"SUM(D504:D523)","v":0},null,"Total",{"$f":"IF(H504=1,0,D503/(1-H504))","v":0}]
[null,"    Industry - steel",null,{"$f":"+'Energy Balance'!D103*(1+Growth!O$33)","v":0},null,"Losses",{"$f":"G503*H504","v":0},{"$f":"+'BAU projected Energy Balances'!H74","v":1}]
[null,"    Industry - chemical",null,{"$f":"+'Energy Balance'!D104*(1+Growth!O$33)","v":0},null,"Fossil",{"$f":"SUM(G506:G509)","v":0},{"$f":"SUM(H506:H509)","v":4}]
[null,"    Industry - non metallic mineral",null,{"$f":"+'Energy Balance'!D105*(1+Growth!O$33)","v":0},null,"Lignite",{"$f":"G$503*H506","v":0},{"$f":"+'BAU projected Energy Balances'!H76","v":1},{"$f":"+'BAU projected Energy Balances'!I76","v":0}]
[null,"    Industry - food processing and beverage",null,{"$f":"+'Energy Balance'!D106*(1+Growth!O$33)","v":0},null,"Coal",{"$f":"G$503*H507","v":0},{"$f":"+'BAU projected Energy Balances'!H77","v":1},{"$f":"+'BAU projected Energy Balances'!I77","v":0}]
[null,"    Industry - construction",null,{"$f":"+'Energy Balance'!D107*(1+Growth!O$33)","v":0},null,"Oil",{"$f":"G$503*H508","v":0},{"$f":"+'BAU projected Energy Balances'!H78","v":1},{"$f":"+'BAU projected Energy Balances'!I78","v":0}]
[null,"    Industry - mining",null,{"$f":"+'Energy Balance'!D108*(1+Growth!O$33)","v":0},null,"Natural Gas",{"$f":"G$503*H509","v":0},{"$f":"+'BAU projected Energy Balances'!H79","v":1},{"$f":"+'BAU projected Energy Balances'!I79","v":0}]
[null,"    Industry - machinery",null,{"$f":"+'Energy Balance'!D109*(1+Growth!O$33)","v":0},null,"Nuclear",0,{"$f":"+'BAU projected Energy Balances'!H80","v":1}]
[null,"    Industry - non ferrous metals",null,{"$f":"+'Energy Balance'!D110*(1+Growth!O$33)","v":0},null,"Net import",{"$f":"G$503*H511","v":0},{"$f":"+'BAU projected Energy Balances'!H81","v":1}]
[null,"    Industry - paper and pulp",null,{"$f":"+'Energy Balance'!D111*(1+Growth!O$33)","v":0},null,"Renewables",{"$f":"SUM(G513:G517)","v":0},{"$f":"SUM(H513:H517)","v":5}]
[null,"    Industry - transport equipment",null,{"$f":"+'Energy Balance'!D112*(1+Growth!O$33)","v":0},null,"Hydro",{"$f":"G$503*H513","v":0},{"$f":"+'BAU projected Energy Balances'!H83","v":1}]
[null,"    Industry - textile and leather",null,{"$f":"+'Energy Balance'!D113*(1+Growth!O$33)","v":0},null,"Wind",{"$f":"G$503*H514","v":0},{"$f":"+'BAU projected Energy Balances'!H84","v":1}]
[null,"    Industry - miscellaneous",null,{"$f":"+'Energy Balance'!D114*(1+Growth!O$33)","v":0},null,"Solar",{"$f":"G$503*H515","v":0},{"$f":"+'BAU projected Energy Balances'!H85","v":1}]
[null,"    Transport - road",null,{"$f":"+'Energy Balance'!D115*(1+Growth!O$39)","v":0},null,"Biomass",{"$f":"G$503*H516","v":0},{"$f":"+'BAU projected Energy Balances'!H86","v":1}]
[null,"    Transport - rail",null,{"$f":"+'Energy Balance'!D116*(1+Growth!O$39)","v":0},null,"Geothermal",{"$f":"G$503*H517","v":0},{"$f":"+'BAU projected Energy Balances'!H87","v":1}]
[null,"    Transport - domestic air",null,{"$f":"+'Energy Balance'!D117*(1+Growth!O$39)","v":0}]
[null,"    Transport - navigation",null,{"$f":"+'Energy Balance'!D118*(1+Growth!O$39)","v":0}]
[null,"    Households",null,{"$f":"+'Energy Balance'!D119*(1+Growth!O44)","v":0}]
[null,"    Services",null,{"$f":"+'Energy Balance'!D120*(1+Growth!O47)","v":0}]
[null,"    Agriculture & Fishery",null,{"$f":"+'Energy Balance'!D121*(1+Growth!O50)","v":0}]
[null,"    Non energy - chemical feedstocs",null,{"$f":"+'Energy Balance'!D122*(1+Growth!O74)","v":0}]

{"sheet":"BAU projected GHG Balances","index":8,"n_rows":414,"n_cols":20,"rows_kept":414,"cut":false,"hidden":true,"merged":[[68,1,68,2],[67,1,67,2],[413,1,413,2],[344,1,344,2],[275,1,275,2],[274,1,274,2],[206,1,206,2],[385,1,385,6],[13,1,13,15],[83,1,83,15],[358,1,358,15],[3,1,3,2],[3,4,9,15],[151,1,151,15],[220,1,220,15],[289,1,289,15],[40,1,40,6],[110,1,110,6],[178,1,178,6],[247,1,247,6],[316,1,316,6],[205,1,205,2],[138,1,138,2],[137,1,137,2]]}
[]
[null,"Step 6: BAU projected GHG Balances for year 2025, 2030, 2035, 2040, 2045 and 2050"]
[null,null,null,null,null,null,null,null,null,null,null,null,null,null,null,null,null,null,null,2025]
[null,"Select year to display:",null,null,"The BAU projected GHG balances sheet includes the future greenhouse gas emissions balances for the years 2025, 2030, 2035, 2040, 2045 and 2050. The data in this sheet are automatically calculated by GACMO.\n\nThe user should not modify any of the data in the tables CO2 balance and Non-CO2 emissions, non-fuel combustion sectors. However, a user may exceptionally decide to modify a specific data in one of these tables in the case that the user would like to reflect a change in the greenhouse gas balance which is not taken into account by the projections made by GACMO. The user should only make such a change if he/she is completely familiar with those types of data as the change will have an impact on the emissions scenarios and results obtained.\nPlease refer to the Guidance for further details on the data included in this sheet and on how to fill it in.\n\nOnce you have reviewed the tables of the BAU projected GHG Balances sheet, you can click “Go to step 7: Mitigation options”.",null,null,null,null,null,null,null,null,null,null,null,null,null,null,2030]
[null,null,null,null,null,null,null,null,null,null,null,null,null,null,null,null,null,null,null,2050]
[]
[null,null,null,null,null,null,null,null,null,null,null,null,null,null,null,null,null,null,null,"TJ"]
[null,"Selected year:",2025,null,null,null,null,null,null,null,null,null,null,null,null,null,null,null,null,"ktoe"]
[]
[]
[]
[]
[]
[null,{"$f":"\"CO2 emissions from fuel combustion- 2025 - \"&Assumptions!C9","v":"CO2 emissions from fuel combustion- 2025 - "}]
[null,"ktCO2",null,"LPG","Gasoline","Jet Fuel","Diesel","Fueloil","Kerosene and other","Total oil products","Coal","Lignite","Gas","Coke","Petrocoke","Total"]
[null,"Unit",null,"kt","kt","kt","kt","kt","kt","kt","kt","kt","kt","kt","kt","kt"]
[null,"Total",null,{"$f":"+D18+D19","v":0},0,0,0,0,0,0,0,0,0,0,0,0]
[null,"    Fossil power plants",null,{"$f":"'GHG Balance'!D14*'BAU projected Energy Balances'!D47","v":0},{"$f":"'GHG Balance'!E14*'BAU projected Energy Balances'!E47","v":0},{"$f":"'GHG Balance'!F14*'BAU projected Energy Balances'!F47","v":0},{"$f":"'GHG Balance'!G14*'BAU projected Energy Balances'!G47","v":0},{"$f":"'GHG Balance'!H14*'BAU projected Energy Balances'!H47","v":0},{"$f":"'GHG Balance'!I14*'BAU projected Energy Balances'!I47","v":0},{"$f":"SUM(D18:I18)","v":0},{"$f":"'GHG Balance'!K14*'BAU projected Energy Balances'!K47","v":0},{"$f":"'GHG Balance'!L14*'BAU projected Energy Balances'!L47","v":0},{"$f":"'GHG Balance'!M14*'BAU projected Energy Balances'!M47","v":0},{"$f":"'GHG Balance'!N14*'BAU projected Energy Balances'!N47","v":0},{"$f":"'GHG Balance'!O14*'BAU projected Energy Balances'!O47","v":0},{"$f":"SUM(J18:O18)","v":0}]
[null,"FINAL CONSUMPTION",null,{"$f":"SUM(D20:D39)","v":0},0,0,0,0,0,0,{"$f":"SUM(K20:K39)","v":0},{"$f":"SUM(L20:L39)","v":0},0,0,0,0]
[null,"    Industry - steel",null,{"$f":"+'GHG Balance'!D18*(1+Growth!$J21)","v":0},{"$f":"+'GHG Balance'!E18*(1+Growth!$J21)","v":0},{"$f":"+'GHG Balance'!F18*(1+Growth!$J21)","v":0},{"$f":"+'GHG Balance'!G18*(1+Growth!$J21)","v":0},{"$f":"+'GHG Balance'!H18*(1+Growth!$J21)","v":0},{"$f":"+'GHG Balance'!I18*(1+Growth!$J21)","v":0},0,{"$f":"+'GHG Balance'!K18*(1+Growth!$J21)","v":0},{"$f":"+'GHG Balance'!L18*(1+Growth!$J21)","v":0},{"$f":"+'GHG Balance'!M18*(1+Growth!$J21)","v":0},{"$f":"+'GHG Balance'!N18*(1+Growth!$J21)","v":0},{"$f":"+'GHG Balance'!O18*(1+Growth!$J21)","v":0},{"$f":"SUM(J20:O20)","v":0}]
[null,"    Industry - chemical",null,{"$f":"+'GHG Balance'!D19*(1+Growth!$J22)","v":0},{"$f":"+'GHG Balance'!E19*(1+Growth!$J22)","v":0},{"$f":"+'GHG Balance'!F19*(1+Growth!$J22)","v":0},{"$f":"+'GHG Balance'!G19*(1+Growth!$J22)","v":0},{"$f":"+'GHG Balance'!H19*(1+Growth!$J22)","v":0},{"$f":"+'GHG Balance'!I19*(1+Growth!$J22)","v":0},0,{"$f":"+'GHG Balance'!K19*(1+Growth!$J22)","v":0},{"$f":"+'GHG Balance'!L19*(1+Growth!$J22)","v":0},{"$f":"+'GHG Balance'!M19*(1+Growth!$J22)","v":0},{"$f":"+'GHG Balance'!N19*(1+Growth!$J22)","v":0},{"$f":"+'GHG Balance'!O19*(1+Growth!$J22)","v":0},0]
[null,"    Industry - non metallic mineral",null,{"$f":"+'GHG Balance'!D20*(1+Growth!$J23)","v":0},{"$f":"+'GHG Balance'!E20*(1+Growth!$J23)","v":0},{"$f":"+'GHG Balance'!F20*(1+Growth!$J23)","v":0},{"$f":"+'GHG Balance'!G20*(1+Growth!$J23)","v":0},{"$f":"+'GHG Balance'!H20*(1+Growth!$J23)","v":0},{"$f":"+'GHG Balance'!I20*(1+Growth!$J23)","v":0},0,{"$f":"+'GHG Balance'!K20*(1+Growth!$J23)","v":0},{"$f":"+'GHG Balance'!L20*(1+Growth!$J23)","v":0},{"$f":"+'GHG Balance'!M20*(1+Growth!$J23)","v":0},{"$f":"+'GHG Balance'!N20*(1+Growth!$J23)","v":0},{"$f":"+'GHG Balance'!O20*(1+Growth!$J23)","v":0},0]
[null,"    Industry - food processing and beverage",null,{"$f":"+'GHG Balance'!D21*(1+Growth!$J24)","v":0},{"$f":"+'GHG Balance'!E21*(1+Growth!$J24)","v":0},{"$f":"+'GHG Balance'!F21*(1+Growth!$J24)","v":0},{"$f":"+'GHG Balance'!G21*(1+Growth!$J24)","v":0},{"$f":"+'GHG Balance'!H21*(1+Growth!$J24)","v":0},{"$f":"+'GHG Balance'!I21*(1+Growth!$J24)","v":0},0,{"$f":"+'GHG Balance'!K21*(1+Growth!$J24)","v":0},{"$f":"+'GHG Balance'!L21*(1+Growth!$J24)","v":0},{"$f":"+'GHG Balance'!M21*(1+Growth!$J24)","v":0},{"$f":"+'GHG Balance'!N21*(1+Growth!$J24)","v":0},{"$f":"+'GHG Balance'!O21*(1+Growth!$J24)","v":0},0]
[null,"    Industry - construction",null,{"$f":"+'GHG Balance'!D22*(1+Growth!$J25)","v":0},{"$f":"+'GHG Balance'!E22*(1+Growth!$J25)","v":0},{"$f":"+'GHG Balance'!F22*(1+Growth!$J25)","v":0},{"$f":"+'GHG Balance'!G22*(1+Growth!$J25)","v":0},{"$f":"+'GHG Balance'!H22*(1+Growth!$J25)","v":0},{"$f":"+'GHG Balance'!I22*(1+Growth!$J25)","v":0},0,{"$f":"+'GHG Balance'!K22*(1+Growth!$J25)","v":0},{"$f":"+'GHG Balance'!L22*(1+Growth!$J25)","v":0},{"$f":"+'GHG Balance'!M22*(1+Growth!$J25)","v":0},{"$f":"+'GHG Balance'!N22*(1+Growth!$J25)","v":0},{"$f":"+'GHG Balance'!O22*(1+Growth!$J25)","v":0},0]
[null,"    Industry - mining",null,{"$f":"+'GHG Balance'!D23*(1+Growth!$J26)","v":0},{"$f":"+'GHG Balance'!E23*(1+Growth!$J26)","v":0},{"$f":"+'GHG Balance'!F23*(1+Growth!$J26)","v":0},{"$f":"+'GHG Balance'!G23*(1+Growth!$J26)","v":0},{"$f":"+'GHG Balance'!H23*(1+Growth!$J26)","v":0},{"$f":"+'GHG Balance'!I23*(1+Growth!$J26)","v":0},0,{"$f":"+'GHG Balance'!K23*(1+Growth!$J26)","v":0},{"$f":"+'GHG Balance'!L23*(1+Growth!$J26)","v":0},{"$f":"+'GHG Balance'!M23*(1+Growth!$J26)","v":0},{"$f":"+'GHG Balance'!N23*(1+Growth!$J26)","v":0},{"$f":"+'GHG Balance'!O23*(1+Growth!$J26)","v":0},0]
[null,"    Industry - machinery",null,{"$f":"+'GHG Balance'!D24*(1+Growth!$J27)","v":0},{"$f":"+'GHG Balance'!E24*(1+Growth!$J27)","v":0},{"$f":"+'GHG Balance'!F24*(1+Growth!$J27)","v":0},{"$f":"+'GHG Balance'!G24*(1+Growth!$J27)","v":0},{"$f":"+'GHG Balance'!H24*(1+Growth!$J27)","v":0},{"$f":"+'GHG Balance'!I24*(1+Growth!$J27)","v":0},0,{"$f":"+'GHG Balance'!K24*(1+Growth!$J27)","v":0},{"$f":"+'GHG Balance'!L24*(1+Growth!$J27)","v":0},{"$f":"+'GHG Balance'!M24*(1+Growth!$J27)","v":0},{"$f":"+'GHG Balance'!N24*(1+Growth!$J27)","v":0},{"$f":"+'GHG Balance'!O24*(1+Growth!$J27)","v":0},0]
[null,"    Industry - non ferrous metals",null,{"$f":"+'GHG Balance'!D25*(1+Growth!$J28)","v":0},{"$f":"+'GHG Balance'!E25*(1+Growth!$J28)","v":0},{"$f":"+'GHG Balance'!F25*(1+Growth!$J28)","v":0},{"$f":"+'GHG Balance'!G25*(1+Growth!$J28)","v":0},{"$f":"+'GHG Balance'!H25*(1+Growth!$J28)","v":0},{"$f":"+'GHG Balance'!I25*(1+Growth!$J28)","v":0},0,{"$f":"+'GHG Balance'!K25*(1+Growth!$J28)","v":0},{"$f":"+'GHG Balance'!L25*(1+Growth!$J28)","v":0},{"$f":"+'GHG Balance'!M25*(1+Growth!$J28)","v":0},{"$f":"+'GHG Balance'!N25*(1+Growth!$J28)","v":0},{"$f":"+'GHG Balance'!O25*(1+Growth!$J28)","v":0},0]
[null,"    Industry - paper and pulp",null,{"$f":"+'GHG Balance'!D26*(1+Growth!$J29)","v":0},{"$f":"+'GHG Balance'!E26*(1+Growth!$J29)","v":0},{"$f":"+'GHG Balance'!F26*(1+Growth!$J29)","v":0},{"$f":"+'GHG Balance'!G26*(1+Growth!$J29)","v":0},{"$f":"+'GHG Balance'!H26*(1+Growth!$J29)","v":0},{"$f":"+'GHG Balance'!I26*(1+Growth!$J29)","v":0},0,{"$f":"+'GHG Balance'!K26*(1+Growth!$J29)","v":0},{"$f":"+'GHG Balance'!L26*(1+Growth!$J29)","v":0},{"$f":"+'GHG Balance'!M26*(1+Growth!$J29)","v":0},{"$f":"+'GHG Balance'!N26*(1+Growth!$J29)","v":0},{"$f":"+'GHG Balance'!O26*(1+Growth!$J29)","v":0},0]
[null,"    Industry - transport equipment",null,{"$f":"+'GHG Balance'!D27*(1+Growth!$J30)","v":0},{"$f":"+'GHG Balance'!E27*(1+Growth!$J30)","v":0},{"$f":"+'GHG Balance'!F27*(1+Growth!$J30)","v":0},{"$f":"+'GHG Balance'!G27*(1+Growth!$J30)","v":0},{"$f":"+'GHG Balance'!H27*(1+Growth!$J30)","v":0},{"$f":"+'GHG Balance'!I27*(1+Growth!$J30)","v":0},0,{"$f":"+'GHG Balance'!K27*(1+Growth!$J30)","v":0},{"$f":"+'GHG Balance'!L27*(1+Growth!$J30)","v":0},{"$f":"+'GHG Balance'!M27*(1+Growth!$J30)","v":0},{"$f":"+'GHG Balance'!N27*(1+Growth!$J30)","v":0},{"$f":"+'GHG Balance'!O27*(1+Growth!$J30)","v":0},0]
[null,"    Industry - textile and leather",null,{"$f":"+'GHG Balance'!D28*(1+Growth!$J31)","v":0},{"$f":"+'GHG Balance'!E28*(1+Growth!$J31)","v":0},{"$f":"+'GHG Balance'!F28*(1+Growth!$J31)","v":0},{"$f":"+'GHG Balance'!G28*(1+Growth!$J31)","v":0},{"$f":"+'GHG Balance'!H28*(1+Growth!$J31)","v":0},{"$f":"+'GHG Balance'!I28*(1+Growth!$J31)","v":0},0,{"$f":"+'GHG Balance'!K28*(1+Growth!$J31)","v":0},{"$f":"+'GHG Balance'!L28*(1+Growth!$J31)","v":0},{"$f":"+'GHG Balance'!M28*(1+Growth!$J31)","v":0},{"$f":"+'GHG Balance'!N28*(1+Growth!$J31)","v":0},{"$f":"+'GHG Balance'!O28*(1+Growth!$J31)","v":0},0]
[null,"    Industry - miscellaneous",null,{"$f":"+'GHG Balance'!D29*(1+Growth!$J32)","v":0},{"$f":"+'GHG Balance'!E29*(1+Growth!$J32)","v":0},{"$f":"+'GHG Balance'!F29*(1+Growth!$J32)","v":0},{"$f":"+'GHG Balance'!G29*(1+Growth!$J32)","v":0},{"$f":"+'GHG Balance'!H29*(1+Growth!$J32)","v":0},{"$f":"+'GHG Balance'!I29*(1+Growth!$J32)","v":0},0,{"$f":"+'GHG Balance'!K29*(1+Growth!$J32)","v":0},{"$f":"+'GHG Balance'!L29*(1+Growth!$J32)","v":0},{"$f":"+'GHG Balance'!M29*(1+Growth!$J32)","v":0},{"$f":"+'GHG Balance'!N29*(1+Growth!$J32)","v":0},{"$f":"+'GHG Balance'!O29*(1+Growth!$J32)","v":0},0]
[null,"    Transport - road",null,{"$f":"+'GHG Balance'!D30*(1+Growth!$J35)","v":0},{"$f":"+'GHG Balance'!E30*(1+Growth!$J35)","v":0},{"$f":"+'GHG Balance'!F30*(1+Growth!$J35)","v":0},{"$f":"+'GHG Balance'!G30*(1+Growth!$J35)","v":0},{"$f":"+'GHG Balance'!H30*(1+Growth!$J35)","v":0},{"$f":"+'GHG Balance'!I30*(1+Growth!$J35)","v":0},0,{"$f":"+'GHG Balance'!K30*(1+Growth!$J35)","v":0},{"$f":"+'GHG Balance'!L30*(1+Growth!$J35)","v":0},{"$f":"+'GHG Balance'!M30*(1+Growth!$J35)","v":0},{"$f":"+'GHG Balance'!N30*(1+Growth!$J35)","v":0},{"$f":"+'GHG Balance'!O30*(1+Growth!$J35)","v":0},0]
[null,"    Transport - rail",null,{"$f":"+'GHG Balance'!D31*(1+Growth!$J36)","v":0},{"$f":"+'GHG Balance'!E31*(1+Growth!$J36)","v":0},{"$f":"+'GHG Balance'!F31*(1+Growth!$J36)","v":0},{"$f":"+'GHG Balance'!G31*(1+Growth!$J36)","v":0},{"$f":"+'GHG Balance'!H31*(1+Growth!$J36)","v":0},{"$f":"+'GHG Balance'!I31*(1+Growth!$J36)","v":0},0,{"$f":"+'GHG Balance'!K31*(1+Growth!$J36)","v":0},{"$f":"+'GHG Balance'!L31*(1+Growth!$J36)","v":0},{"$f":"+'GHG Balance'!M31*(1+Growth!$J36)","v":0},{"$f":"+'GHG Balance'!N31*(1+Growth!$J36)","v":0},{"$f":"+'GHG Balance'!O31*(1+Growth!$J36)","v":0},0]
[null,"    Transport - domestic air",null,{"$f":"+'GHG Balance'!D32*(1+Growth!$J37)","v":0},{"$f":"+'GHG Balance'!E32*(1+Growth!$J37)","v":0},{"$f":"+'GHG Balance'!F32*(1+Growth!$J37)","v":0},{"$f":"+'GHG Balance'!G32*(1+Growth!$J37)","v":0},{"$f":"+'GHG Balance'!H32*(1+Growth!$J37)","v":0},{"$f":"+'GHG Balance'!I32*(1+Growth!$J37)","v":0},0,{"$f":"+'GHG Balance'!K32*(1+Growth!$J37)","v":0},{"$f":"+'GHG Balance'!L32*(1+Growth!$J37)","v":0},{"$f":"+'GHG Balance'!M32*(1+Growth!$J37)","v":0},{"$f":"+'GHG Balance'!N32*(1+Growth!$J37)","v":0},{"$f":"+'GHG Balance'!O32*(1+Growth!$J37)","v":0},0]
[null,"    Transport - navigation",null,{"$f":"+'GHG Balance'!D33*(1+Growth!$J38)","v":0},{"$f":"+'GHG Balance'!E33*(1+Growth!$J38)","v":0},{"$f":"+'GHG Balance'!F33*(1+Growth!$J38)","v":0},{"$f":"+'GHG Balance'!G33*(1+Growth!$J38)","v":0},{"$f":"+'GHG Balance'!H33*(1+Growth!$J38)","v":0},{"$f":"+'GHG Balance'!I33*(1+Growth!$J38)","v":0},0,{"$f":"+'GHG Balance'!K33*(1+Growth!$J38)","v":0},{"$f":"+'GHG Balance'!L33*(1+Growth!$J38)","v":0},{"$f":"+'GHG Balance'!M33*(1+Growth!$J38)","v":0},{"$f":"+'GHG Balance'!N33*(1+Growth!$J38)","v":0},{"$f":"+'GHG Balance'!O33*(1+Growth!$J38)","v":0},0]
[null,"    Households",null,{"$f":"+'GHG Balance'!D34*(1+Growth!$J42)","v":0},{"$f":"+'GHG Balance'!E34*(1+Growth!$J42)","v":0},{"$f":"+'GHG Balance'!F34*(1+Growth!$J42)","v":0},{"$f":"+'GHG Balance'!G34*(1+Growth!$J42)","v":0},{"$f":"+'GHG Balance'!H34*(1+Growth!$J42)","v":0},{"$f":"+'GHG Balance'!I34*(1+Growth!$J43)","v":0},0,{"$f":"+'GHG Balance'!K34*(1+Growth!$J42)","v":0},{"$f":"+'GHG Balance'!L34*(1+Growth!$J42)","v":0},{"$f":"+'GHG Balance'!M34*(1+Growth!$J42)","v":0},{"$f":"+'GHG Balance'!N34*(1+Growth!$J42)","v":0},{"$f":"+'GHG Balance'!O34*(1+Growth!$J42)","v":0},0]
[null,"    Services",null,{"$f":"+'GHG Balance'!D35*(1+Growth!$J46)","v":0},{"$f":"+'GHG Balance'!E35*(1+Growth!$J46)","v":0},{"$f":"+'GHG Balance'!F35*(1+Growth!$J46)","v":0},{"$f":"+'GHG Balance'!G35*(1+Growth!$J46)","v":0},{"$f":"+'GHG Balance'!H35*(1+Growth!$J46)","v":0},{"$f":"+'GHG Balance'!I35*(1+Growth!$J46)","v":0},0,{"$f":"+'GHG Balance'!K35*(1+Growth!$J46)","v":0},{"$f":"+'GHG Balance'!L35*(1+Growth!$J46)","v":0},{"$f":"+'GHG Balance'!M35*(1+Growth!$J46)","v":0},{"$f":"+'GHG Balance'!N35*(1+Growth!$J46)","v":0},{"$f":"+'GHG Balance'!O35*(1+Growth!$J46)","v":0},0]
[null,"    Agriculture & Fishery",null,{"$f":"+'GHG Balance'!D36*(1+Growth!$J49)","v":0},{"$f":"+'GHG Balance'!E36*(1+Growth!$J49)","v":0},{"$f":"+'GHG Balance'!F36*(1+Growth!$J49)","v":0},{"$f":"+'GHG Balance'!G36*(1+Growth!$J49)","v":0},{"$f":"+'GHG Balance'!H36*(1+Growth!$J49)","v":0},{"$f":"+'GHG Balance'!I36*(1+Growth!$J49)","v":0},0,{"$f":"+'GHG Balance'!K36*(1+Growth!$J49)","v":0},{"$f":"+'GHG Balance'!L36*(1+Growth!$J49)","v":0},{"$f":"+'GHG Balance'!M36*(1+Growth!$J49)","v":0},{"$f":"+'GHG Balance'!N36*(1+Growth!$J49)","v":0},{"$f":"+'GHG Balance'!O36*(1+Growth!$J49)","v":0},0]
[null,"    Non energy uses",null,{"$f":"+'GHG Balance'!D37*(1+Growth!$J74)","v":0},{"$f":"+'GHG Balance'!E37*(1+Growth!$J74)","v":0},{"$f":"+'GHG Balance'!F37*(1+Growth!$J74)","v":0},{"$f":"+'GHG Balance'!G37*(1+Growth!$J74)","v":0},{"$f":"+'GHG Balance'!H37*(1+Growth!$J74)","v":0},{"$f":"+'GHG Balance'!I37*(1+Growth!$J74)","v":0},0,{"$f":"+'GHG Balance'!K37*(1+Growth!$J74)","v":0},{"$f":"+'GHG Balance'!L37*(1+Growth!$J74)","v":0},{"$f":"+'GHG Balance'!M37*(1+Growth!$J74)","v":0},{"$f":"+'GHG Balance'!N37*(1+Growth!$J74)","v":0},{"$f":"+'GHG Balance'!O37*(1+Growth!$J74)","v":0},0]
[]
[null,"Emissions by sectors and by gases"]
[null,"Unit : ktCO2-equivalent",null,"CO2","CH4","N2O","Total GHG emissions"]
[null,"1. Energy",null,{"$f":"D44+D45","v":0},{"$f":"E44+E45","v":0},{"$f":"F44+F45","v":0},{"$f":"D43+E43+F43","v":0}]
[null,"1.A. Fuel combustion",null,{"$f":"P17","v":0},{"$f":"IF(P17=0,0,+'GHG Balance'!E$43*'BAU projected GHG Balances'!P19/'GHG Balance'!P17)","v":0},{"$f":"IF(P17=0,0,+'GHG Balance'!F$43*'BAU projected GHG Balances'!P19/'GHG Balance'!P17)","v":0},{"$f":"SUM(D44:F44)","v":0}]
[null,"1.B. Fugitive emissions from fuels",null,{"$f":"IF('GHG Balance'!M$15=0,0,'GHG Balance'!D$44*'BAU projected GHG Balances'!M17/'GHG Balance'!M$15)","v":0},{"$f":"IF('GHG Balance'!M$15=0,0,'GHG Balance'!E$44*'BAU projected GHG Balances'!M17/'GHG Balance'!M$15)","v":0},{"$f":"IF('GHG Balance'!M$15=0,0,'GHG Balance'!F$44*'BAU projected GHG Balances'!M17/'GHG Balance'!M$15)","v":0},{"$f":"SUM(D45:F45)","v":0}]
[null,"2.  Industrial processes and product use",null,{"$f":"SUM(D47:D51)","v":0},{"$f":"SUM(E47:E51)","v":0},0,0]
[null,"2.A.  Mineral industry",null,{"$f":"+'GHG Balance'!D$46*(1+Growth!$J$52)","v":0},{"$f":"+'GHG Balance'!E$46*(1+Growth!$J$52)","v":0},{"$f":"+'GHG Balance'!F$46*(1+Growth!$J$52)","v":0},0]
[null,"2.B.  Chemical industry",null,{"$f":"+'GHG Balance'!D$47*(1+Growth!$J$53)","v":0},{"$f":"+'GHG Balance'!E$47*(1+Growth!$J$53)","v":0},{"$f":"+'GHG Balance'!F$47*(1+Growth!$J$53)","v":0},0]
[null,"2.C.  Metal industry",null,{"$f":"+'GHG Balance'!D$48*(1+Growth!$J$54)","v":0},{"$f":"+'GHG Balance'!E$48*(1+Growth!$J$54)","v":0},{"$f":"+'GHG Balance'!F$48*(1+Growth!$J$54)","v":0},0]
[null,"2.F.  Product uses as ODS substitutes ",null,{"$f":"+'GHG Balance'!D$49*(1+Growth!$J$55)","v":0},{"$f":"+'GHG Balance'!E$49*(1+Growth!$J$55)","v":0},{"$f":"+'GHG Balance'!F$49*(1+Growth!$J$55)","v":0},0]
[null,"Other (2.D, 2.E, 2.G. 2.H)",null,{"$f":"+'GHG Balance'!D$50*(1+Growth!$J$56)","v":0},{"$f":"+'GHG Balance'!E$50*(1+Growth!$J$56)","v":0},{"$f":"+'GHG Balance'!F$50*(1+Growth!$J$56)","v":0},0]
[null,"3.  Agriculture",null,{"$f":"SUM(D53:D56)","v":0},{"$f":"SUM(E53:E56)","v":0},{"$f":"SUM(F53:F56)","v":0},0]
[null,"3.A.  Enteric fermentation",null,{"$f":"+'GHG Balance'!D$52*(1+Growth!$J$58)","v":0},{"$f":"+'GHG Balance'!E$52*(1+Growth!$J$58)","v":0},{"$f":"+'GHG Balance'!F$52*(1+Growth!$J$58)","v":0},0]
[null,"3.B.  Manure management",null,{"$f":"+'GHG Balance'!D$53*(1+Growth!$J$59)","v":0},{"$f":"+'GHG Balance'!E$53*(1+Growth!$J$59)","v":0},{"$f":"+'GHG Balance'!F$53*(1+Growth!$J$59)","v":0},0]
[null,"3.D.  Agricultural soils",null,{"$f":"+'GHG Balance'!D$54*(1+Growth!$J$60)","v":0},{"$f":"+'GHG Balance'!E$54*(1+Growth!$J$60)","v":0},{"$f":"+'GHG Balance'!F$54*(1+Growth!$J$60)","v":0},0]
[null,"   Other (3.C, 3.E-3.J)",null,{"$f":"+'GHG Balance'!D$55*(1+Growth!$J$61)","v":0},{"$f":"+'GHG Balance'!E$55*(1+Growth!$J$61)","v":0},{"$f":"+'GHG Balance'!F$55*(1+Growth!$J$61)","v":0},0]
[null,"4. Land use, land-use change and forestry",null,{"$f":"SUM(D58:D62)","v":0},{"$f":"SUM(E58:E62)","v":0},{"$f":"SUM(F58:F62)","v":0},0]
[null,"4.A. Forest land",null,{"$f":"+'GHG Balance'!D$57*(1+Growth!$J$63)","v":0},{"$f":"+'GHG Balance'!E$57*(1+Growth!$J$63)","v":0},{"$f":"+'GHG Balance'!F$57*(1+Growth!$J$63)","v":0},0]
[null,"4.B. Cropland",null,{"$f":"+'GHG Balance'!D$58*(1+Growth!$J$64)","v":0},{"$f":"+'GHG Balance'!E$58*(1+Growth!$J$64)","v":0},{"$f":"+'GHG Balance'!F$58*(1+Growth!$J$64)","v":0},0]
[null,"4.C. Grassland",null,{"$f":"+'GHG Balance'!D$59*(1+Growth!$J$65)","v":0},{"$f":"+'GHG Balance'!E$59*(1+Growth!$J$65)","v":0},{"$f":"+'GHG Balance'!F$59*(1+Growth!$J$65)","v":0},0]
[null,"4.G. Harvested wood products",null,{"$f":"+'GHG Balance'!D$60*(1+Growth!$J$66)","v":0},{"$f":"+'GHG Balance'!E$60*(1+Growth!$J$66)","v":0},{"$f":"+'GHG Balance'!F$60*(1+Growth!$J$66)","v":0},0]
[null,"Other (4.D, 4.E, 4.F, 4.H)",null,{"$f":"+'GHG Balance'!D$61*(1+Growth!$J$67)","v":0},{"$f":"+'GHG Balance'!E$61*(1+Growth!$J$67)","v":0},{"$f":"+'GHG Balance'!F$61*(1+Growth!$J$67)","v":0},0]
[null,"5.  Waste",null,{"$f":"SUM(D64:D67)","v":0},{"$f":"SUM(E64:E67)","v":0},{"$f":"SUM(F64:F67)","v":0},0]
[null,"5.A.  Solid waste disposal ",null,{"$f":"+'GHG Balance'!D$63*(1+Growth!$J$69)","v":0},{"$f":"+'GHG Balance'!E$63*(1+Growth!$J$69)","v":0},{"$f":"+'GHG Balance'!F$63*(1+Growth!$J$69)","v":0},0]
[null,"5.B.  Biological treatment of solid waste",null,{"$f":"+'GHG Balance'!D$64*(1+Growth!$J$70)","v":0},{"$f":"+'GHG Balance'!E$64*(1+Growth!$J$70)","v":0},{"$f":"+'GHG Balance'!F$64*(1+Growth!$J$70)","v":0},0]
[null,"5.D. Waste water treatment and discharge",null,{"$f":"+'GHG Balance'!D$65*(1+Growth!$J$71)","v":0},{"$f":"+'GHG Balance'!E$65*(1+Growth!$J$71)","v":0},{"$f":"+'GHG Balance'!F$65*(1+Growth!$J$71)","v":0},0]
[null,"Other (5.C, 5.E)",null,{"$f":"+'GHG Balance'!D$66*(1+Growth!$J$72)","v":0},{"$f":"+'GHG Balance'!E$66*(1+Growth!$J$72)","v":0},{"$f":"+'GHG Balance'!F$66*(1+Growth!$J$72)","v":0},0]
[null,"Total (including LULUCF)",null,{"$f":"D43+D46+D52+D57+D63","v":0},{"$f":"E43+E46+E52+E57+E63","v":0},{"$f":"F43+F46+F52+F57+F63","v":0},{"$f":"SUM(D68:F68)","v":0}]
[null,"Total (excluding LULUCF)",null,{"$f":"D68-D57","v":0},{"$f":"E68-E57","v":0},{"$f":"F68-F57","v":0},{"$f":"G68-G57","v":0}]
[]
[]
[]
[]
[]
[]
[]
[]
[]
[]
[]
[]
[]
[]
[null,{"$f":"\"CO2 emissions from fuel combustion - 2030 - \"&Assumptions!C9","v":"CO2 emissions from fuel combustion - 2030 - "}]
[null,"ktCO2",null,"LPG","Gasoline","Jet Fuel","Diesel","Fueloil","Kerosene and other","Total oil products","Coal","Lignite","Gas","Coke","Petrocoke","Total"]
[null,"Unit",null,"kt","kt","kt","kt","kt","kt","kt","kt","kt","kt","kt","kt","kt"]
[null,"Total",null,{"$f":"+D88+D89","v":0},0,0,0,0,0,0,0,0,0,{"$f":"+N88+N89","v":0},{"$f":"+O88+O89","v":0},{"$f":"+P88+P89","v":0}]
[null,"    Fossil power plants",null,{"$f":"'GHG Balance'!D14*'BAU projected Energy Balances'!D133","v":0},{"$f":"'GHG Balance'!E14*'BAU projected Energy Balances'!E133","v":0},{"$f":"'GHG Balance'!F14*'BAU projected Energy Balances'!F133","v":0},{"$f":"'GHG Balance'!G14*'BAU projected Energy Balances'!G133","v":0},{"$f":"'GHG Balance'!H14*'BAU projected Energy Balances'!H133","v":0},{"$f":"'GHG Balance'!I14*'BAU projected Energy Balances'!I133","v":0},{"$f":"SUM(D88:I88)","v":0},{"$f":"'GHG Balance'!K14*'BAU projected Energy Balances'!K133","v":0},{"$f":"'GHG Balance'!L14*'BAU projected Energy Balances'!L133","v":0},{"$f":"'GHG Balance'!M14*'BAU projected Energy Balances'!M133","v":0},{"$f":"'GHG Balance'!N14*'BAU projected Energy Balances'!N133","v":0},{"$f":"'GHG Balance'!O14*'BAU projected Energy Balances'!O133","v":0},{"$f":"SUM(J88:O88)","v":0}]
[null,"FINAL CONSUMPTION",null,{"$f":"SUM(D90:D109)","v":0},0,0,0,0,0,{"$f":"SUM(D89:I89)","v":0},{"$f":"SUM(K90:K109)","v":0},0,0,0,0,0]
[null,"    Industry - steel",null,{"$f":"+'GHG Balance'!D18*(1+Growth!$K21)","v":0},{"$f":"+'GHG Balance'!E18*(1+Growth!$K21)","v":0},{"$f":"+'GHG Balance'!F18*(1+Growth!$K21)","v":0},{"$f":"+'GHG Balance'!G18*(1+Growth!$K21)","v":0},{"$f":"+'GHG Balance'!H18*(1+Growth!$K21)","v":0},{"$f":"+'GHG Balance'!I18*(1+Growth!$K21)","v":0},{"$f":"SUM(D90:I90)","v":0},{"$f":"+'GHG Balance'!K18*(1+Growth!$K21)","v":0},{"$f":"+'GHG Balance'!L18*(1+Growth!$K21)","v":0},{"$f":"+'GHG Balance'!M18*(1+Growth!$K21)","v":0},{"$f":"+'GHG Balance'!N18*(1+Growth!$K21)","v":0},{"$f":"+'GHG Balance'!O18*(1+Growth!$K21)","v":0},{"$f":"SUM(J90:O90)","v":0}]
[null,"    Industry - chemical",null,{"$f":"+'GHG Balance'!D19*(1+Growth!$K22)","v":0},{"$f":"+'GHG Balance'!E19*(1+Growth!$K22)","v":0},{"$f":"+'GHG Balance'!F19*(1+Growth!$K22)","v":0},{"$f":"+'GHG Balance'!G19*(1+Growth!$K22)","v":0},{"$f":"+'GHG Balance'!H19*(1+Growth!$K22)","v":0},{"$f":"+'GHG Balance'!I19*(1+Growth!$K22)","v":0},0,{"$f":"+'GHG Balance'!K19*(1+Growth!$K22)","v":0},{"$f":"+'GHG Balance'!L19*(1+Growth!$K22)","v":0},{"$f":"+'GHG Balance'!M19*(1+Growth!$K22)","v":0},{"$f":"+'GHG Balance'!N19*(1+Growth!$K22)","v":0},{"$f":"+'GHG Balance'!O19*(1+Growth!$K22)","v":0},0]
[null,"    Industry - non metallic mineral",null,{"$f":"+'GHG Balance'!D20*(1+Growth!$K23)","v":0},{"$f":"+'GHG Balance'!E20*(1+Growth!$K23)","v":0},{"$f":"+'GHG Balance'!F20*(1+Growth!$K23)","v":0},{"$f":"+'GHG Balance'!G20*(1+Growth!$K23)","v":0},{"$f":"+'GHG Balance'!H20*(1+Growth!$K23)","v":0},{"$f":"+'GHG Balance'!I20*(1+Growth!$K23)","v":0},0,{"$f":"+'GHG Balance'!K20*(1+Growth!$K23)","v":0},{"$f":"+'GHG Balance'!L20*(1+Growth!$K23)","v":0},{"$f":"+'GHG Balance'!M20*(1+Growth!$K23)","v":0},{"$f":"+'GHG Balance'!N20*(1+Growth!$K23)","v":0},{"$f":"+'GHG Balance'!O20*(1+Growth!$K23)","v":0},0]
[null,"    Industry - food processing and beverage",null,{"$f":"+'GHG Balance'!D21*(1+Growth!$K24)","v":0},{"$f":"+'GHG Balance'!E21*(1+Growth!$K24)","v":0},{"$f":"+'GHG Balance'!F21*(1+Growth!$K24)","v":0},{"$f":"+'GHG Balance'!G21*(1+Growth!$K24)","v":0},{"$f":"+'GHG Balance'!H21*(1+Growth!$K24)","v":0},{"$f":"+'GHG Balance'!I21*(1+Growth!$K24)","v":0},0,{"$f":"+'GHG Balance'!K21*(1+Growth!$K24)","v":0},{"$f":"+'GHG Balance'!L21*(1+Growth!$K24)","v":0},{"$f":"+'GHG Balance'!M21*(1+Growth!$K24)","v":0},{"$f":"+'GHG Balance'!N21*(1+Growth!$K24)","v":0},{"$f":"+'GHG Balance'!O21*(1+Growth!$K24)","v":0},0]
[null,"    Industry - construction",null,{"$f":"+'GHG Balance'!D22*(1+Growth!$K25)","v":0},{"$f":"+'GHG Balance'!E22*(1+Growth!$K25)","v":0},{"$f":"+'GHG Balance'!F22*(1+Growth!$K25)","v":0},{"$f":"+'GHG Balance'!G22*(1+Growth!$K25)","v":0},{"$f":"+'GHG Balance'!H22*(1+Growth!$K25)","v":0},{"$f":"+'GHG Balance'!I22*(1+Growth!$K25)","v":0},0,{"$f":"+'GHG Balance'!K22*(1+Growth!$K25)","v":0},{"$f":"+'GHG Balance'!L22*(1+Growth!$K25)","v":0},{"$f":"+'GHG Balance'!M22*(1+Growth!$K25)","v":0},{"$f":"+'GHG Balance'!N22*(1+Growth!$K25)","v":0},{"$f":"+'GHG Balance'!O22*(1+Growth!$K25)","v":0},0]
[null,"    Industry - mining",null,{"$f":"+'GHG Balance'!D23*(1+Growth!$K26)","v":0},{"$f":"+'GHG Balance'!E23*(1+Growth!$K26)","v":0},{"$f":"+'GHG Balance'!F23*(1+Growth!$K26)","v":0},{"$f":"+'GHG Balance'!G23*(1+Growth!$K26)","v":0},{"$f":"+'GHG Balance'!H23*(1+Growth!$K26)","v":0},{"$f":"+'GHG Balance'!I23*(1+Growth!$K26)","v":0},0,{"$f":"+'GHG Balance'!K23*(1+Growth!$K26)","v":0},{"$f":"+'GHG Balance'!L23*(1+Growth!$K26)","v":0},{"$f":"+'GHG Balance'!M23*(1+Growth!$K26)","v":0},{"$f":"+'GHG Balance'!N23*(1+Growth!$K26)","v":0},{"$f":"+'GHG Balance'!O23*(1+Growth!$K26)","v":0},0]
[null,"    Industry - machinery",null,{"$f":"+'GHG Balance'!D24*(1+Growth!$K27)","v":0},{"$f":"+'GHG Balance'!E24*(1+Growth!$K27)","v":0},{"$f":"+'GHG Balance'!F24*(1+Growth!$K27)","v":0},{"$f":"+'GHG Balance'!G24*(1+Growth!$K27)","v":0},{"$f":"+'GHG Balance'!H24*(1+Growth!$K27)","v":0},{"$f":"+'GHG Balance'!I24*(1+Growth!$K27)","v":0},0,{"$f":"+'GHG Balance'!K24*(1+Growth!$K27)","v":0},{"$f":"+'GHG Balance'!L24*(1+Growth!$K27)","v":0},{"$f":"+'GHG Balance'!M24*(1+Growth!$K27)","v":0},{"$f":"+'GHG Balance'!N24*(1+Growth!$K27)","v":0},{"$f":"+'GHG Balance'!O24*(1+Growth!$K27)","v":0},0]
[null,"    Industry - non ferrous metals",null,{"$f":"+'GHG Balance'!D25*(1+Growth!$K28)","v":0},{"$f":"+'GHG Balance'!E25*(1+Growth!$K28)","v":0},{"$f":"+'GHG Balance'!F25*(1+Growth!$K28)","v":0},{"$f":"+'GHG Balance'!G25*(1+Growth!$K28)","v":0},{"$f":"+'GHG Balance'!H25*(1+Growth!$K28)","v":0},{"$f":"+'GHG Balance'!I25*(1+Growth!$K28)","v":0},0,{"$f":"+'GHG Balance'!K25*(1+Growth!$K28)","v":0},{"$f":"+'GHG Balance'!L25*(1+Growth!$K28)","v":0},{"$f":"+'GHG Balance'!M25*(1+Growth!$K28)","v":0},{"$f":"+'GHG Balance'!N25*(1+Growth!$K28)","v":0},{"$f":"+'GHG Balance'!O25*(1+Growth!$K28)","v":0},0]
[null,"    Industry - paper and pulp",null,{"$f":"+'GHG Balance'!D26*(1+Growth!$K29)","v":0},{"$f":"+'GHG Balance'!E26*(1+Growth!$K29)","v":0},{"$f":"+'GHG Balance'!F26*(1+Growth!$K29)","v":0},{"$f":"+'GHG Balance'!G26*(1+Growth!$K29)","v":0},{"$f":"+'GHG Balance'!H26*(1+Growth!$K29)","v":0},{"$f":"+'GHG Balance'!I26*(1+Growth!$K29)","v":0},0,{"$f":"+'GHG Balance'!K26*(1+Growth!$K29)","v":0},{"$f":"+'GHG Balance'!L26*(1+Growth!$K29)","v":0},{"$f":"+'GHG Balance'!M26*(1+Growth!$K29)","v":0},{"$f":"+'GHG Balance'!N26*(1+Growth!$K29)","v":0},{"$f":"+'GHG Balance'!O26*(1+Growth!$K29)","v":0},0]
[null,"    Industry - transport equipment",null,{"$f":"+'GHG Balance'!D27*(1+Growth!$K30)","v":0},{"$f":"+'GHG Balance'!E27*(1+Growth!$K30)","v":0},{"$f":"+'GHG Balance'!F27*(1+Growth!$K30)","v":0},{"$f":"+'GHG Balance'!G27*(1+Growth!$K30)","v":0},{"$f":"+'GHG Balance'!H27*(1+Growth!$K30)","v":0},{"$f":"+'GHG Balance'!I27*(1+Growth!$K30)","v":0},0,{"$f":"+'GHG Balance'!K27*(1+Growth!$K30)","v":0},{"$f":"+'GHG Balance'!L27*(1+Growth!$K30)","v":0},{"$f":"+'GHG Balance'!M27*(1+Growth!$K30)","v":0},{"$f":"+'GHG Balance'!N27*(1+Growth!$K30)","v":0},{"$f":"+'GHG Balance'!O27*(1+Growth!$K30)","v":0},0]
[null,"    Industry - textile and leather",null,{"$f":"+'GHG Balance'!D28*(1+Growth!$K31)","v":0},{"$f":"+'GHG Balance'!E28*(1+Growth!$K31)","v":0},{"$f":"+'GHG Balance'!F28*(1+Growth!$K31)","v":0},{"$f":"+'GHG Balance'!G28*(1+Growth!$K31)","v":0},{"$f":"+'GHG Balance'!H28*(1+Growth!$K31)","v":0},{"$f":"+'GHG Balance'!I28*(1+Growth!$K31)","v":0},0,{"$f":"+'GHG Balance'!K28*(1+Growth!$K31)","v":0},{"$f":"+'GHG Balance'!L28*(1+Growth!$K31)","v":0},{"$f":"+'GHG Balance'!M28*(1+Growth!$K31)","v":0},{"$f":"+'GHG Balance'!N28*(1+Growth!$K31)","v":0},{"$f":"+'GHG Balance'!O28*(1+Growth!$K31)","v":0},0]
[null,"    Industry - miscellaneous",null,{"$f":"+'GHG Balance'!D29*(1+Growth!$K32)","v":0},{"$f":"+'GHG Balance'!E29*(1+Growth!$K32)","v":0},{"$f":"+'GHG Balance'!F29*(1+Growth!$K32)","v":0},{"$f":"+'GHG Balance'!G29*(1+Growth!$K32)","v":0},{"$f":"+'GHG Balance'!H29*(1+Growth!$K32)","v":0},{"$f":"+'GHG Balance'!I29*(1+Growth!$K32)","v":0},0,{"$f":"+'GHG Balance'!K29*(1+Growth!$K32)","v":0},{"$f":"+'GHG Balance'!L29*(1+Growth!$K32)","v":0},{"$f":"+'GHG Balance'!M29*(1+Growth!$K32)","v":0},{"$f":"+'GHG Balance'!N29*(1+Growth!$K32)","v":0},{"$f":"+'GHG Balance'!O29*(1+Growth!$K32)","v":0},0]
[null,"    Transport - road",null,{"$f":"+'GHG Balance'!D30*(1+Growth!$K35)","v":0},{"$f":"+'GHG Balance'!E30*(1+Growth!$K35)","v":0},{"$f":"+'GHG Balance'!F30*(1+Growth!$K35)","v":0},{"$f":"+'GHG Balance'!G30*(1+Growth!$K35)","v":0},{"$f":"+'GHG Balance'!H30*(1+Growth!$K35)","v":0},{"$f":"+'GHG Balance'!I30*(1+Growth!$K35)","v":0},0,{"$f":"+'GHG Balance'!K30*(1+Growth!$K35)","v":0},{"$f":"+'GHG Balance'!L30*(1+Growth!$K35)","v":0},{"$f":"+'GHG Balance'!M30*(1+Growth!$K35)","v":0},{"$f":"+'GHG Balance'!N30*(1+Growth!$K35)","v":0},{"$f":"+'GHG Balance'!O30*(1+Growth!$K35)","v":0},0]
[null,"    Transport - rail",null,{"$f":"+'GHG Balance'!D31*(1+Growth!$K36)","v":0},{"$f":"+'GHG Balance'!E31*(1+Growth!$K36)","v":0},{"$f":"+'GHG Balance'!F31*(1+Growth!$K36)","v":0},{"$f":"+'GHG Balance'!G31*(1+Growth!$K36)","v":0},{"$f":"+'GHG Balance'!H31*(1+Growth!$K36)","v":0},{"$f":"+'GHG Balance'!I31*(1+Growth!$K36)","v":0},0,{"$f":"+'GHG Balance'!K31*(1+Growth!$K36)","v":0},{"$f":"+'GHG Balance'!L31*(1+Growth!$K36)","v":0},{"$f":"+'GHG Balance'!M31*(1+Growth!$K36)","v":0},{"$f":"+'GHG Balance'!N31*(1+Growth!$K36)","v":0},{"$f":"+'GHG Balance'!O31*(1+Growth!$K36)","v":0},0]
[null,"    Transport - domestic air",null,{"$f":"+'GHG Balance'!D32*(1+Growth!$K37)","v":0},{"$f":"+'GHG Balance'!E32*(1+Growth!$K37)","v":0},{"$f":"+'GHG Balance'!F32*(1+Growth!$K37)","v":0},{"$f":"+'GHG Balance'!G32*(1+Growth!$K37)","v":0},{"$f":"+'GHG Balance'!H32*(1+Growth!$K37)","v":0},{"$f":"+'GHG Balance'!I32*(1+Growth!$K37)","v":0},0,{"$f":"+'GHG Balance'!K32*(1+Growth!$K37)","v":0},{"$f":"+'GHG Balance'!L32*(1+Growth!$K37)","v":0},{"$f":"+'GHG Balance'!M32*(1+Growth!$K37)","v":0},{"$f":"+'GHG Balance'!N32*(1+Growth!$K37)","v":0},{"$f":"+'GHG Balance'!O32*(1+Growth!$K37)","v":0},0]
[null,"    Transport - navigation",null,{"$f":"+'GHG Balance'!D33*(1+Growth!$K38)","v":0},{"$f":"+'GHG Balance'!E33*(1+Growth!$K38)","v":0},{"$f":"+'GHG Balance'!F33*(1+Growth!$K38)","v":0},{"$f":"+'GHG Balance'!G33*(1+Growth!$K38)","v":0},{"$f":"+'GHG Balance'!H33*(1+Growth!$K38)","v":0},{"$f":"+'GHG Balance'!I33*(1+Growth!$K38)","v":0},0,{"$f":"+'GHG Balance'!K33*(1+Growth!$K38)","v":0},{"$f":"+'GHG Balance'!L33*(1+Growth!$K38)","v":0},{"$f":"+'GHG Balance'!M33*(1+Growth!$K38)","v":0},{"$f":"+'GHG Balance'!N33*(1+Growth!$K38)","v":0},{"$f":"+'GHG Balance'!O33*(1+Growth!$K38)","v":0},0]
[null,"    Households",null,{"$f":"+'GHG Balance'!D34*(1+Growth!$K42)","v":0},{"$f":"+'GHG Balance'!E34*(1+Growth!$K42)","v":0},{"$f":"+'GHG Balance'!F34*(1+Growth!$K42)","v":0},{"$f":"+'GHG Balance'!G34*(1+Growth!$K42)","v":0},{"$f":"+'GHG Balance'!H34*(1+Growth!$K42)","v":0},{"$f":"+'GHG Balance'!I34*(1+Growth!$K43)","v":0},0,{"$f":"+'GHG Balance'!K34*(1+Growth!$K42)","v":0},{"$f":"+'GHG Balance'!L34*(1+Growth!$K42)","v":0},{"$f":"+'GHG Balance'!M34*(1+Growth!$K42)","v":0},{"$f":"+'GHG Balance'!N34*(1+Growth!$K42)","v":0},{"$f":"+'GHG Balance'!O34*(1+Growth!$K42)","v":0},0]
[null,"    Services",null,{"$f":"+'GHG Balance'!D35*(1+Growth!$K46)","v":0},{"$f":"+'GHG Balance'!E35*(1+Growth!$K46)","v":0},{"$f":"+'GHG Balance'!F35*(1+Growth!$K46)","v":0},{"$f":"+'GHG Balance'!G35*(1+Growth!$K46)","v":0},{"$f":"+'GHG Balance'!H35*(1+Growth!$K46)","v":0},{"$f":"+'GHG Balance'!I35*(1+Growth!$K46)","v":0},0,{"$f":"+'GHG Balance'!K35*(1+Growth!$K46)","v":0},{"$f":"+'GHG Balance'!L35*(1+Growth!$K46)","v":0},{"$f":"+'GHG Balance'!M35*(1+Growth!$K46)","v":0},{"$f":"+'GHG Balance'!N35*(1+Growth!$K46)","v":0},{"$f":"+'GHG Balance'!O35*(1+Growth!$K46)","v":0},0]
[null,"    Agriculture & Fishery",null,{"$f":"+'GHG Balance'!D36*(1+Growth!$K49)","v":0},{"$f":"+'GHG Balance'!E36*(1+Growth!$K49)","v":0},{"$f":"+'GHG Balance'!F36*(1+Growth!$K49)","v":0},{"$f":"+'GHG Balance'!G36*(1+Growth!$K49)","v":0},{"$f":"+'GHG Balance'!H36*(1+Growth!$K49)","v":0},{"$f":"+'GHG Balance'!I36*(1+Growth!$K49)","v":0},0,{"$f":"+'GHG Balance'!K36*(1+Growth!$K49)","v":0},{"$f":"+'GHG Balance'!L36*(1+Growth!$K49)","v":0},{"$f":"+'GHG Balance'!M36*(1+Growth!$K49)","v":0},{"$f":"+'GHG Balance'!N36*(1+Growth!$K49)","v":0},{"$f":"+'GHG Balance'!O36*(1+Growth!$K49)","v":0},0]
[null,"    Non energy uses",null,{"$f":"+'GHG Balance'!D37*(1+Growth!$K74)","v":0},{"$f":"+'GHG Balance'!E37*(1+Growth!$K74)","v":0},{"$f":"+'GHG Balance'!F37*(1+Growth!$K74)","v":0},{"$f":"+'GHG Balance'!G37*(1+Growth!$K74)","v":0},{"$f":"+'GHG Balance'!H37*(1+Growth!$K74)","v":0},{"$f":"+'GHG Balance'!I37*(1+Growth!$K74)","v":0},0,{"$f":"+'GHG Balance'!K37*(1+Growth!$K74)","v":0},{"$f":"+'GHG Balance'!L37*(1+Growth!$K74)","v":0},{"$f":"+'GHG Balance'!M37*(1+Growth!$K74)","v":0},{"$f":"+'GHG Balance'!N37*(1+Growth!$K74)","v":0},{"$f":"+'GHG Balance'!O37*(1+Growth!$K74)","v":0},0]
[]
[null,"Emissions by sectors and by gases"]
[null,"Unit : ktCO2-equivalent",null,"CO2","CH4","N2O","Total GHG emissions"]
[null,"1. Energy",null,{"$f":"D114+D115","v":0},{"$f":"E114+E115","v":0},{"$f":"F114+F115","v":0},{"$f":"D113+E113+F113","v":0}]
[null,"1.A. Fuel combustion",null,{"$f":"P87","v":0},{"$f":"IF(P87=0,0,+'GHG Balance'!E$43*'BAU projected GHG Balances'!P89/'GHG Balance'!P$17)","v":0},{"$f":"IF(P87=0,0,+'GHG Balance'!F$43*'BAU projected GHG Balances'!P89/'GHG Balance'!P$17)","v":0},{"$f":"SUM(D114:F114)","v":0}]
[null,"1.B. Fugitive emissions from fuels",null,{"$f":"IF('GHG Balance'!M$15=0,0,'GHG Balance'!D$44*'BAU projected GHG Balances'!M87/'GHG Balance'!M$15)","v":0},{"$f":"IF('GHG Balance'!M$15=0,0,'GHG Balance'!E$44*'BAU projected GHG Balances'!M87/'GHG Balance'!M$15)","v":0},{"$f":"IF('GHG Balance'!M$15=0,0,'GHG Balance'!F$44*'BAU projected GHG Balances'!M87/'GHG Balance'!M$15)","v":0},{"$f":"SUM(D115:F115)","v":0}]
[null,"2.  Industrial processes and product use",null,{"$f":"SUM(D117:D121)","v":0},{"$f":"SUM(E117:E121)","v":0},0,{"$f":"SUM(D116:F116)","v":0}]
[null,"2.A.  Mineral industry",null,{"$f":"+'GHG Balance'!D$46*(1+Growth!$K$52)","v":0},{"$f":"+'GHG Balance'!E$46*(1+Growth!$K$52)","v":0},{"$f":"+'GHG Balance'!F$46*(1+Growth!$K$52)","v":0},0]
[null,"2.B.  Chemical industry",null,{"$f":"+'GHG Balance'!D$47*(1+Growth!$K$53)","v":0},{"$f":"+'GHG Balance'!E$47*(1+Growth!$K$53)","v":0},{"$f":"+'GHG Balance'!F$47*(1+Growth!$K$53)","v":0},0]
[null,"2.C.  Metal industry",null,{"$f":"+'GHG Balance'!D$48*(1+Growth!$K$54)","v":0},{"$f":"+'GHG Balance'!E$48*(1+Growth!$K$54)","v":0},{"$f":"+'GHG Balance'!F$48*(1+Growth!$K$54)","v":0},0]
[null,"2.F.  Product uses as ODS substitutes ",null,{"$f":"+'GHG Balance'!D$49*(1+Growth!$K$55)","v":0},{"$f":"+'GHG Balance'!E$49*(1+Growth!$K$55)","v":0},{"$f":"+'GHG Balance'!F$49*(1+Growth!$K$55)","v":0},0]
[null,"Other (2.D, 2.E, 2.G. 2.H)",null,{"$f":"+'GHG Balance'!D$50*(1+Growth!$K$56)","v":0},{"$f":"+'GHG Balance'!E$50*(1+Growth!$K$56)","v":0},{"$f":"+'GHG Balance'!F$50*(1+Growth!$K$56)","v":0},0]
[null,"3.  Agriculture",null,{"$f":"SUM(D123:D126)","v":0},{"$f":"SUM(E123:E126)","v":0},{"$f":"SUM(F123:F126)","v":0},0]
[null,"3.A.  Enteric fermentation",null,{"$f":"+'GHG Balance'!D$52*(1+Growth!$K$58)","v":0},{"$f":"+'GHG Balance'!E$52*(1+Growth!$K$58)","v":0},{"$f":"+'GHG Balance'!F$52*(1+Growth!$K$58)","v":0},0]
[null,"3.B.  Manure management",null,{"$f":"+'GHG Balance'!D$53*(1+Growth!$K$59)","v":0},{"$f":"+'GHG Balance'!E$53*(1+Growth!$K$59)","v":0},{"$f":"+'GHG Balance'!F$53*(1+Growth!$K$59)","v":0},0]
[null,"3.D.  Agricultural soils",null,{"$f":"+'GHG Balance'!D$54*(1+Growth!$K$60)","v":0},{"$f":"+'GHG Balance'!E$54*(1+Growth!$K$60)","v":0},{"$f":"+'GHG Balance'!F$54*(1+Growth!$K$60)","v":0},0]
[null,"   Other (3.C, 3.E-3.J)",null,{"$f":"+'GHG Balance'!D$55*(1+Growth!$K$61)","v":0},{"$f":"+'GHG Balance'!E$55*(1+Growth!$K$61)","v":0},{"$f":"+'GHG Balance'!F$55*(1+Growth!$K$61)","v":0},0]
[null,"4. Land use, land-use change and forestry",null,{"$f":"SUM(D128:D132)","v":0},{"$f":"SUM(E128:E132)","v":0},{"$f":"SUM(F128:F132)","v":0},0]
[null,"4.A. Forest land",null,{"$f":"+'GHG Balance'!D$57*(1+Growth!$K$63)","v":0},{"$f":"+'GHG Balance'!E$57*(1+Growth!$K$63)","v":0},{"$f":"+'GHG Balance'!F$57*(1+Growth!$K$63)","v":0},0]
[null,"4.B. Cropland",null,{"$f":"+'GHG Balance'!D$58*(1+Growth!$K$64)","v":0},{"$f":"+'GHG Balance'!E$58*(1+Growth!$K$64)","v":0},{"$f":"+'GHG Balance'!F$58*(1+Growth!$K$64)","v":0},0]
[null,"4.C. Grassland",null,{"$f":"+'GHG Balance'!D$59*(1+Growth!$K$65)","v":0},{"$f":"+'GHG Balance'!E$59*(1+Growth!$K$65)","v":0},{"$f":"+'GHG Balance'!F$59*(1+Growth!$K$65)","v":0},0]
[null,"4.G. Harvested wood products",null,{"$f":"+'GHG Balance'!D$60*(1+Growth!$K$66)","v":0},{"$f":"+'GHG Balance'!E$60*(1+Growth!$K$66)","v":0},{"$f":"+'GHG Balance'!F$60*(1+Growth!$K$66)","v":0},0]
[null,"Other (4.D, 4.E, 4.F, 4.H)",null,{"$f":"+'GHG Balance'!D$61*(1+Growth!$K$67)","v":0},{"$f":"+'GHG Balance'!E$61*(1+Growth!$K$67)","v":0},{"$f":"+'GHG Balance'!F$61*(1+Growth!$K$67)","v":0},0]
[null,"5.  Waste",null,{"$f":"SUM(D134:D137)","v":0},{"$f":"SUM(E134:E137)","v":0},{"$f":"SUM(F134:F137)","v":0},0]
[null,"5.A.  Solid waste disposal ",null,{"$f":"+'GHG Balance'!D$63*(1+Growth!$K$69)","v":0},{"$f":"+'GHG Balance'!E$63*(1+Growth!$K$69)","v":0},{"$f":"+'GHG Balance'!F$63*(1+Growth!$K$69)","v":0},0]
[null,"5.B.  Biological treatment of solid waste",null,{"$f":"+'GHG Balance'!D$64*(1+Growth!$K$70)","v":0},{"$f":"+'GHG Balance'!E$64*(1+Growth!$K$70)","v":0},{"$f":"+'GHG Balance'!F$64*(1+Growth!$K$70)","v":0},0]
[null,"5.D. Waste water treatment and discharge",null,{"$f":"+'GHG Balance'!D$65*(1+Growth!$K$71)","v":0},{"$f":"+'GHG Balance'!E$65*(1+Growth!$K$71)","v":0},{"$f":"+'GHG Balance'!F$65*(1+Growth!$K$71)","v":0},0]
[null,"Other (5.C, 5.E)",null,{"$f":"+'GHG Balance'!D$66*(1+Growth!$K$72)","v":0},{"$f":"+'GHG Balance'!E$66*(1+Growth!$K$72)","v":0},{"$f":"+'GHG Balance'!F$66*(1+Growth!$K$72)","v":0},0]
[null,"Total (including LULUCF)",null,{"$f":"D113+D116+D122+D127+D133","v":0},{"$f":"E113+E116+E122+E127+E133","v":0},{"$f":"F113+F116+F122+F127+F133","v":0},{"$f":"SUM(D138:F138)","v":0}]
[null,"Total (excluding LULUCF)",null,{"$f":"D138-D127","v":0},{"$f":"E138-E127","v":0},{"$f":"F138-F127","v":0},{"$f":"G138-G127","v":0}]
[]
[]
[]
[]
[]
[]
[]
[]
[]
[]
[]
[]
[null,{"$f":"\"CO2 emissions from fuel combustion - 2035 - \"&Assumptions!C9","v":"CO2 emissions from fuel combustion - 2035 - "}]
[null,"ktCO2",null,"LPG","Gasoline","Jet Fuel","Diesel","Fueloil","Kerosene and other","Total oil products","Coal","Lignite","Gas","Coke","Petrocoke","Total"]
[null,"Unit",null,"kt","kt","kt","kt","kt","kt","kt","kt","kt","kt","kt","kt","kt"]
[null,"Total",null,{"$f":"+D156+D157","v":0},0,0,0,0,0,0,0,0,0,0,0,0]
[null,"    Fossil power plants",null,{"$f":"'GHG Balance'!D14*'BAU projected Energy Balances'!D219","v":0},{"$f":"'GHG Balance'!E14*'BAU projected Energy Balances'!E219","v":0},{"$f":"'GHG Balance'!F14*'BAU projected Energy Balances'!F219","v":0},{"$f":"'GHG Balance'!G14*'BAU projected Energy Balances'!G219","v":0},{"$f":"'GHG Balance'!H14*'BAU projected Energy Balances'!H219","v":0},{"$f":"'GHG Balance'!I14*'BAU projected Energy Balances'!I219","v":0},{"$f":"SUM(D156:I156)","v":0},{"$f":"'GHG Balance'!K14*'BAU projected Energy Balances'!K219","v":0},{"$f":"'GHG Balance'!L14*'BAU projected Energy Balances'!L219","v":0},{"$f":"'GHG Balance'!M14*'BAU projected Energy Balances'!M219","v":0},{"$f":"'GHG Balance'!N14*'BAU projected Energy Balances'!N219","v":0},{"$f":"'GHG Balance'!O14*'BAU projected Energy Balances'!O219","v":0},{"$f":"SUM(J156:O156)","v":0}]
[null,"FINAL CONSUMPTION",null,{"$f":"SUM(D158:D177)","v":0},0,0,0,0,0,{"$f":"SUM(D157:I157)","v":0},{"$f":"SUM(K158:K177)","v":0},{"$f":"SUM(L158:L177)","v":0},0,0,0,{"$f":"SUM(P158:P177)","v":0}]
[null,"    Industry - steel",null,{"$f":"+'GHG Balance'!D18*(1+Growth!$L21)","v":0},{"$f":"+'GHG Balance'!E18*(1+Growth!$L21)","v":0},{"$f":"+'GHG Balance'!F18*(1+Growth!$L21)","v":0},{"$f":"+'GHG Balance'!G18*(1+Growth!$L21)","v":0},{"$f":"+'GHG Balance'!H18*(1+Growth!$L21)","v":0},{"$f":"+'GHG Balance'!I18*(1+Growth!$L21)","v":0},0,{"$f":"+'GHG Balance'!K18*(1+Growth!$L21)","v":0},{"$f":"+'GHG Balance'!L18*(1+Growth!$L21)","v":0},{"$f":"+'GHG Balance'!M18*(1+Growth!$L21)","v":0},{"$f":"+'GHG Balance'!N18*(1+Growth!$L21)","v":0},{"$f":"+'GHG Balance'!O18*(1+Growth!$L21)","v":0},{"$f":"SUM(J158:O158)","v":0}]
[null,"    Industry - chemical",null,{"$f":"+'GHG Balance'!D19*(1+Growth!$L22)","v":0},{"$f":"+'GHG Balance'!E19*(1+Growth!$L22)","v":0},{"$f":"+'GHG Balance'!F19*(1+Growth!$L22)","v":0},{"$f":"+'GHG Balance'!G19*(1+Growth!$L22)","v":0},{"$f":"+'GHG Balance'!H19*(1+Growth!$L22)","v":0},{"$f":"+'GHG Balance'!I19*(1+Growth!$L22)","v":0},0,{"$f":"+'GHG Balance'!K19*(1+Growth!$L22)","v":0},{"$f":"+'GHG Balance'!L19*(1+Growth!$L22)","v":0},{"$f":"+'GHG Balance'!M19*(1+Growth!$L22)","v":0},{"$f":"+'GHG Balance'!N19*(1+Growth!$L22)","v":0},{"$f":"+'GHG Balance'!O19*(1+Growth!$L22)","v":0},{"$f":"SUM(J159:O159)","v":0}]
[null,"    Industry - non metallic mineral",null,{"$f":"+'GHG Balance'!D20*(1+Growth!$L23)","v":0},{"$f":"+'GHG Balance'!E20*(1+Growth!$L23)","v":0},{"$f":"+'GHG Balance'!F20*(1+Growth!$L23)","v":0},{"$f":"+'GHG Balance'!G20*(1+Growth!$L23)","v":0},{"$f":"+'GHG Balance'!H20*(1+Growth!$L23)","v":0},{"$f":"+'GHG Balance'!I20*(1+Growth!$L23)","v":0},0,{"$f":"+'GHG Balance'!K20*(1+Growth!$L23)","v":0},{"$f":"+'GHG Balance'!L20*(1+Growth!$L23)","v":0},{"$f":"+'GHG Balance'!M20*(1+Growth!$L23)","v":0},{"$f":"+'GHG Balance'!N20*(1+Growth!$L23)","v":0},{"$f":"+'GHG Balance'!O20*(1+Growth!$L23)","v":0},0]
[null,"    Industry - food processing and beverage",null,{"$f":"+'GHG Balance'!D21*(1+Growth!$L24)","v":0},{"$f":"+'GHG Balance'!E21*(1+Growth!$L24)","v":0},{"$f":"+'GHG Balance'!F21*(1+Growth!$L24)","v":0},{"$f":"+'GHG Balance'!G21*(1+Growth!$L24)","v":0},{"$f":"+'GHG Balance'!H21*(1+Growth!$L24)","v":0},{"$f":"+'GHG Balance'!I21*(1+Growth!$L24)","v":0},0,{"$f":"+'GHG Balance'!K21*(1+Growth!$L24)","v":0},{"$f":"+'GHG Balance'!L21*(1+Growth!$L24)","v":0},{"$f":"+'GHG Balance'!M21*(1+Growth!$L24)","v":0},{"$f":"+'GHG Balance'!N21*(1+Growth!$L24)","v":0},{"$f":"+'GHG Balance'!O21*(1+Growth!$L24)","v":0},0]
[null,"    Industry - construction",null,{"$f":"+'GHG Balance'!D22*(1+Growth!$L25)","v":0},{"$f":"+'GHG Balance'!E22*(1+Growth!$L25)","v":0},{"$f":"+'GHG Balance'!F22*(1+Growth!$L25)","v":0},{"$f":"+'GHG Balance'!G22*(1+Growth!$L25)","v":0},{"$f":"+'GHG Balance'!H22*(1+Growth!$L25)","v":0},{"$f":"+'GHG Balance'!I22*(1+Growth!$L25)","v":0},0,{"$f":"+'GHG Balance'!K22*(1+Growth!$L25)","v":0},{"$f":"+'GHG Balance'!L22*(1+Growth!$L25)","v":0},{"$f":"+'GHG Balance'!M22*(1+Growth!$L25)","v":0},{"$f":"+'GHG Balance'!N22*(1+Growth!$L25)","v":0},{"$f":"+'GHG Balance'!O22*(1+Growth!$L25)","v":0},0]
[null,"    Industry - mining",null,{"$f":"+'GHG Balance'!D23*(1+Growth!$L26)","v":0},{"$f":"+'GHG Balance'!E23*(1+Growth!$L26)","v":0},{"$f":"+'GHG Balance'!F23*(1+Growth!$L26)","v":0},{"$f":"+'GHG Balance'!G23*(1+Growth!$L26)","v":0},{"$f":"+'GHG Balance'!H23*(1+Growth!$L26)","v":0},{"$f":"+'GHG Balance'!I23*(1+Growth!$L26)","v":0},0,{"$f":"+'GHG Balance'!K23*(1+Growth!$L26)","v":0},{"$f":"+'GHG Balance'!L23*(1+Growth!$L26)","v":0},{"$f":"+'GHG Balance'!M23*(1+Growth!$L26)","v":0},{"$f":"+'GHG Balance'!N23*(1+Growth!$L26)","v":0},{"$f":"+'GHG Balance'!O23*(1+Growth!$L26)","v":0},0]
[null,"    Industry - machinery",null,{"$f":"+'GHG Balance'!D24*(1+Growth!$L27)","v":0},{"$f":"+'GHG Balance'!E24*(1+Growth!$L27)","v":0},{"$f":"+'GHG Balance'!F24*(1+Growth!$L27)","v":0},{"$f":"+'GHG Balance'!G24*(1+Growth!$L27)","v":0},{"$f":"+'GHG Balance'!H24*(1+Growth!$L27)","v":0},{"$f":"+'GHG Balance'!I24*(1+Growth!$L27)","v":0},0,{"$f":"+'GHG Balance'!K24*(1+Growth!$L27)","v":0},{"$f":"+'GHG Balance'!L24*(1+Growth!$L27)","v":0},{"$f":"+'GHG Balance'!M24*(1+Growth!$L27)","v":0},{"$f":"+'GHG Balance'!N24*(1+Growth!$L27)","v":0},{"$f":"+'GHG Balance'!O24*(1+Growth!$L27)","v":0},0]
[null,"    Industry - non ferrous metals",null,{"$f":"+'GHG Balance'!D25*(1+Growth!$L28)","v":0},{"$f":"+'GHG Balance'!E25*(1+Growth!$L28)","v":0},{"$f":"+'GHG Balance'!F25*(1+Growth!$L28)","v":0},{"$f":"+'GHG Balance'!G25*(1+Growth!$L28)","v":0},{"$f":"+'GHG Balance'!H25*(1+Growth!$L28)","v":0},{"$f":"+'GHG Balance'!I25*(1+Growth!$L28)","v":0},0,{"$f":"+'GHG Balance'!K25*(1+Growth!$L28)","v":0},{"$f":"+'GHG Balance'!L25*(1+Growth!$L28)","v":0},{"$f":"+'GHG Balance'!M25*(1+Growth!$L28)","v":0},{"$f":"+'GHG Balance'!N25*(1+Growth!$L28)","v":0},{"$f":"+'GHG Balance'!O25*(1+Growth!$L28)","v":0},0]
[null,"    Industry - paper and pulp",null,{"$f":"+'GHG Balance'!D26*(1+Growth!$L29)","v":0},{"$f":"+'GHG Balance'!E26*(1+Growth!$L29)","v":0},{"$f":"+'GHG Balance'!F26*(1+Growth!$L29)","v":0},{"$f":"+'GHG Balance'!G26*(1+Growth!$L29)","v":0},{"$f":"+'GHG Balance'!H26*(1+Growth!$L29)","v":0},{"$f":"+'GHG Balance'!I26*(1+Growth!$L29)","v":0},0,{"$f":"+'GHG Balance'!K26*(1+Growth!$L29)","v":0},{"$f":"+'GHG Balance'!L26*(1+Growth!$L29)","v":0},{"$f":"+'GHG Balance'!M26*(1+Growth!$L29)","v":0},{"$f":"+'GHG Balance'!N26*(1+Growth!$L29)","v":0},{"$f":"+'GHG Balance'!O26*(1+Growth!$L29)","v":0},0]
[null,"    Industry - transport equipment",null,{"$f":"+'GHG Balance'!D27*(1+Growth!$L30)","v":0},{"$f":"+'GHG Balance'!E27*(1+Growth!$L30)","v":0},{"$f":"+'GHG Balance'!F27*(1+Growth!$L30)","v":0},{"$f":"+'GHG Balance'!G27*(1+Growth!$L30)","v":0},{"$f":"+'GHG Balance'!H27*(1+Growth!$L30)","v":0},{"$f":"+'GHG Balance'!I27*(1+Growth!$L30)","v":0},0,{"$f":"+'GHG Balance'!K27*(1+Growth!$L30)","v":0},{"$f":"+'GHG Balance'!L27*(1+Growth!$L30)","v":0},{"$f":"+'GHG Balance'!M27*(1+Growth!$L30)","v":0},{"$f":"+'GHG Balance'!N27*(1+Growth!$L30)","v":0},{"$f":"+'GHG Balance'!O27*(1+Growth!$L30)","v":0},0]
[null,"    Industry - textile and leather",null,{"$f":"+'GHG Balance'!D28*(1+Growth!$L31)","v":0},{"$f":"+'GHG Balance'!E28*(1+Growth!$L31)","v":0},{"$f":"+'GHG Balance'!F28*(1+Growth!$L31)","v":0},{"$f":"+'GHG Balance'!G28*(1+Growth!$L31)","v":0},{"$f":"+'GHG Balance'!H28*(1+Growth!$L31)","v":0},{"$f":"+'GHG Balance'!I28*(1+Growth!$L31)","v":0},0,{"$f":"+'GHG Balance'!K28*(1+Growth!$L31)","v":0},{"$f":"+'GHG Balance'!L28*(1+Growth!$L31)","v":0},{"$f":"+'GHG Balance'!M28*(1+Growth!$L31)","v":0},{"$f":"+'GHG Balance'!N28*(1+Growth!$L31)","v":0},{"$f":"+'GHG Balance'!O28*(1+Growth!$L31)","v":0},0]
[null,"    Industry - miscellaneous",null,{"$f":"+'GHG Balance'!D29*(1+Growth!$L32)","v":0},{"$f":"+'GHG Balance'!E29*(1+Growth!$L32)","v":0},{"$f":"+'GHG Balance'!F29*(1+Growth!$L32)","v":0},{"$f":"+'GHG Balance'!G29*(1+Growth!$L32)","v":0},{"$f":"+'GHG Balance'!H29*(1+Growth!$L32)","v":0},{"$f":"+'GHG Balance'!I29*(1+Growth!$L32)","v":0},0,{"$f":"+'GHG Balance'!K29*(1+Growth!$L32)","v":0},{"$f":"+'GHG Balance'!L29*(1+Growth!$L32)","v":0},{"$f":"+'GHG Balance'!M29*(1+Growth!$L32)","v":0},{"$f":"+'GHG Balance'!N29*(1+Growth!$L32)","v":0},{"$f":"+'GHG Balance'!O29*(1+Growth!$L32)","v":0},0]
[null,"    Transport - road",null,{"$f":"+'GHG Balance'!D30*(1+Growth!$L35)","v":0},{"$f":"+'GHG Balance'!E30*(1+Growth!$L35)","v":0},{"$f":"+'GHG Balance'!F30*(1+Growth!$L35)","v":0},{"$f":"+'GHG Balance'!G30*(1+Growth!$L35)","v":0},{"$f":"+'GHG Balance'!H30*(1+Growth!$L35)","v":0},{"$f":"+'GHG Balance'!I30*(1+Growth!$L35)","v":0},0,{"$f":"+'GHG Balance'!K30*(1+Growth!$L35)","v":0},{"$f":"+'GHG Balance'!L30*(1+Growth!$L35)","v":0},{"$f":"+'GHG Balance'!M30*(1+Growth!$L35)","v":0},{"$f":"+'GHG Balance'!N30*(1+Growth!$L35)","v":0},{"$f":"+'GHG Balance'!O30*(1+Growth!$L35)","v":0},0]
[null,"    Transport - rail",null,{"$f":"+'GHG Balance'!D31*(1+Growth!$L36)","v":0},{"$f":"+'GHG Balance'!E31*(1+Growth!$L36)","v":0},{"$f":"+'GHG Balance'!F31*(1+Growth!$L36)","v":0},{"$f":"+'GHG Balance'!G31*(1+Growth!$L36)","v":0},{"$f":"+'GHG Balance'!H31*(1+Growth!$L36)","v":0},{"$f":"+'GHG Balance'!I31*(1+Growth!$L36)","v":0},0,{"$f":"+'GHG Balance'!K31*(1+Growth!$L36)","v":0},{"$f":"+'GHG Balance'!L31*(1+Growth!$L36)","v":0},{"$f":"+'GHG Balance'!M31*(1+Growth!$L36)","v":0},{"$f":"+'GHG Balance'!N31*(1+Growth!$L36)","v":0},{"$f":"+'GHG Balance'!O31*(1+Growth!$L36)","v":0},0]
[null,"    Transport - domestic air",null,{"$f":"+'GHG Balance'!D32*(1+Growth!$L37)","v":0},{"$f":"+'GHG Balance'!E32*(1+Growth!$L37)","v":0},{"$f":"+'GHG Balance'!F32*(1+Growth!$L37)","v":0},{"$f":"+'GHG Balance'!G32*(1+Growth!$L37)","v":0},{"$f":"+'GHG Balance'!H32*(1+Growth!$L37)","v":0},{"$f":"+'GHG Balance'!I32*(1+Growth!$L37)","v":0},0,{"$f":"+'GHG Balance'!K32*(1+Growth!$L37)","v":0},{"$f":"+'GHG Balance'!L32*(1+Growth!$L37)","v":0},{"$f":"+'GHG Balance'!M32*(1+Growth!$L37)","v":0},{"$f":"+'GHG Balance'!N32*(1+Growth!$L37)","v":0},{"$f":"+'GHG Balance'!O32*(1+Growth!$L37)","v":0},0]
[null,"    Transport - navigation",null,{"$f":"+'GHG Balance'!D33*(1+Growth!$L38)","v":0},{"$f":"+'GHG Balance'!E33*(1+Growth!$L38)","v":0},{"$f":"+'GHG Balance'!F33*(1+Growth!$L38)","v":0},{"$f":"+'GHG Balance'!G33*(1+Growth!$L38)","v":0},{"$f":"+'GHG Balance'!H33*(1+Growth!$L38)","v":0},{"$f":"+'GHG Balance'!I33*(1+Growth!$L38)","v":0},0,{"$f":"+'GHG Balance'!K33*(1+Growth!$L38)","v":0},{"$f":"+'GHG Balance'!L33*(1+Growth!$L38)","v":0},{"$f":"+'GHG Balance'!M33*(1+Growth!$L38)","v":0},{"$f":"+'GHG Balance'!N33*(1+Growth!$L38)","v":0},{"$f":"+'GHG Balance'!O33*(1+Growth!$L38)","v":0},0]
[null,"    Households",null,{"$f":"+'GHG Balance'!D34*(1+Growth!$L42)","v":0},{"$f":"+'GHG Balance'!E34*(1+Growth!$L42)","v":0},{"$f":"+'GHG Balance'!F34*(1+Growth!$L42)","v":0},{"$f":"+'GHG Balance'!G34*(1+Growth!$L42)","v":0},{"$f":"+'GHG Balance'!H34*(1+Growth!$L42)","v":0},{"$f":"+'GHG Balance'!I34*(1+Growth!$L42)","v":0},0,{"$f":"+'GHG Balance'!K34*(1+Growth!$L42)","v":0},{"$f":"+'GHG Balance'!L34*(1+Growth!$L42)","v":0},{"$f":"+'GHG Balance'!M34*(1+Growth!$L42)","v":0},{"$f":"+'GHG Balance'!N34*(1+Growth!$L42)","v":0},{"$f":"+'GHG Balance'!O34*(1+Growth!$L42)","v":0},0]
[null,"    Services",null,{"$f":"+'GHG Balance'!D35*(1+Growth!$L46)","v":0},{"$f":"+'GHG Balance'!E35*(1+Growth!$L46)","v":0},{"$f":"+'GHG Balance'!F35*(1+Growth!$L46)","v":0},{"$f":"+'GHG Balance'!G35*(1+Growth!$L46)","v":0},{"$f":"+'GHG Balance'!H35*(1+Growth!$L46)","v":0},{"$f":"+'GHG Balance'!I35*(1+Growth!$L46)","v":0},0,{"$f":"+'GHG Balance'!K35*(1+Growth!$L46)","v":0},{"$f":"+'GHG Balance'!L35*(1+Growth!$L46)","v":0},{"$f":"+'GHG Balance'!M35*(1+Growth!$L46)","v":0},{"$f":"+'GHG Balance'!N35*(1+Growth!$L46)","v":0},{"$f":"+'GHG Balance'!O35*(1+Growth!$L46)","v":0},0]
[null,"    Agriculture & Fishery",null,{"$f":"+'GHG Balance'!D36*(1+Growth!$L49)","v":0},{"$f":"+'GHG Balance'!E36*(1+Growth!$L49)","v":0},{"$f":"+'GHG Balance'!F36*(1+Growth!$L49)","v":0},{"$f":"+'GHG Balance'!G36*(1+Growth!$L49)","v":0},{"$f":"+'GHG Balance'!H36*(1+Growth!$L49)","v":0},{"$f":"+'GHG Balance'!I36*(1+Growth!$L49)","v":0},0,{"$f":"+'GHG Balance'!K36*(1+Growth!$L49)","v":0},{"$f":"+'GHG Balance'!L36*(1+Growth!$L49)","v":0},{"$f":"+'GHG Balance'!M36*(1+Growth!$L49)","v":0},{"$f":"+'GHG Balance'!N36*(1+Growth!$L49)","v":0},{"$f":"+'GHG Balance'!O36*(1+Growth!$L49)","v":0},0]
[null,"    Non energy uses",null,{"$f":"+'GHG Balance'!D37*(1+Growth!$L74)","v":0},{"$f":"+'GHG Balance'!E37*(1+Growth!$L74)","v":0},{"$f":"+'GHG Balance'!F37*(1+Growth!$L74)","v":0},{"$f":"+'GHG Balance'!G37*(1+Growth!$L74)","v":0},{"$f":"+'GHG Balance'!H37*(1+Growth!$L74)","v":0},{"$f":"+'GHG Balance'!I37*(1+Growth!$L74)","v":0},0,{"$f":"+'GHG Balance'!K37*(1+Growth!$L74)","v":0},{"$f":"+'GHG Balance'!L37*(1+Growth!$L74)","v":0},{"$f":"+'GHG Balance'!M37*(1+Growth!$L74)","v":0},{"$f":"+'GHG Balance'!N37*(1+Growth!$L74)","v":0},{"$f":"+'GHG Balance'!O37*(1+Growth!$L74)","v":0},0]
[]
[null,"Emissions by sectors and by gases"]
[null,"Unit : ktCO2-equivalent",null,"CO2","CH4","N2O","Total GHG emissions"]
[null,"1. Energy",null,{"$f":"D182+D183","v":0},{"$f":"E182+E183","v":0},{"$f":"F182+F183","v":0},{"$f":"D181+E181+F181","v":0}]
[null,"1.A. Fuel combustion",null,{"$f":"P155","v":0},{"$f":"IF(P155=0,0,+'GHG Balance'!E$43*'BAU projected GHG Balances'!P157/'GHG Balance'!P$17)","v":0},{"$f":"IF(P155=0,0,+'GHG Balance'!F$43*'BAU projected GHG Balances'!P157/'GHG Balance'!P$17)","v":0},{"$f":"SUM(D182:F182)","v":0}]
[null,"1.B. Fugitive emissions from fuels",null,{"$f":"IF('GHG Balance'!M$15=0,0,'GHG Balance'!D$44*'BAU projected GHG Balances'!M155/'GHG Balance'!M$15)","v":0},{"$f":"IF('GHG Balance'!M$15=0,0,'GHG Balance'!E$44*'BAU projected GHG Balances'!M155/'GHG Balance'!M$15)","v":0},{"$f":"IF('GHG Balance'!M$15=0,0,'GHG Balance'!F$44*'BAU projected GHG Balances'!M155/'GHG Balance'!M$15)","v":0},{"$f":"SUM(D183:F183)","v":0}]
[null,"2.  Industrial processes and product use",null,{"$f":"SUM(D185:D189)","v":0},{"$f":"SUM(E185:E189)","v":0},0,{"$f":"SUM(D184:F184)","v":0}]
[null,"2.A.  Mineral industry",null,{"$f":"+'GHG Balance'!D$46*(1+Growth!$L$52)","v":0},{"$f":"+'GHG Balance'!E$46*(1+Growth!$L$52)","v":0},{"$f":"+'GHG Balance'!F$46*(1+Growth!$L$52)","v":0},{"$f":"SUM(D185:F185)","v":0}]
[null,"2.B.  Chemical industry",null,{"$f":"+'GHG Balance'!D$47*(1+Growth!$L$53)","v":0},{"$f":"+'GHG Balance'!E$47*(1+Growth!$L$53)","v":0},{"$f":"+'GHG Balance'!F$47*(1+Growth!$L$53)","v":0},0]
[null,"2.C.  Metal industry",null,{"$f":"+'GHG Balance'!D$48*(1+Growth!$L$54)","v":0},{"$f":"+'GHG Balance'!E$48*(1+Growth!$L$54)","v":0},{"$f":"+'GHG Balance'!F$48*(1+Growth!$L$54)","v":0},0]
[null,"2.F.  Product uses as ODS substitutes ",null,{"$f":"+'GHG Balance'!D$49*(1+Growth!$L$55)","v":0},{"$f":"+'GHG Balance'!E$49*(1+Growth!$L$55)","v":0},{"$f":"+'GHG Balance'!F$49*(1+Growth!$L$55)","v":0},0]
[null,"Other (2.D, 2.E, 2.G. 2.H)",null,{"$f":"+'GHG Balance'!D$50*(1+Growth!$L$56)","v":0},{"$f":"+'GHG Balance'!E$50*(1+Growth!$L$56)","v":0},{"$f":"+'GHG Balance'!F$50*(1+Growth!$L$56)","v":0},0]
[null,"3.  Agriculture",null,{"$f":"SUM(D191:D194)","v":0},{"$f":"SUM(E191:E194)","v":0},{"$f":"SUM(F191:F194)","v":0},0]
[null,"3.A.  Enteric fermentation",null,{"$f":"+'GHG Balance'!D$52*(1+Growth!$L$58)","v":0},{"$f":"+'GHG Balance'!E$52*(1+Growth!$L$58)","v":0},{"$f":"+'GHG Balance'!F$52*(1+Growth!$L$58)","v":0},0]
[null,"3.B.  Manure management",null,{"$f":"+'GHG Balance'!D$53*(1+Growth!$L$59)","v":0},{"$f":"+'GHG Balance'!E$53*(1+Growth!$L$59)","v":0},{"$f":"+'GHG Balance'!F$53*(1+Growth!$L$59)","v":0},0]
[null,"3.D.  Agricultural soils",null,{"$f":"+'GHG Balance'!D$54*(1+Growth!$L$60)","v":0},{"$f":"+'GHG Balance'!E$54*(1+Growth!$L$60)","v":0},{"$f":"+'GHG Balance'!F$54*(1+Growth!$L$60)","v":0},0]
[null,"   Other (3.C, 3.E-3.J)",null,{"$f":"+'GHG Balance'!D$55*(1+Growth!$L$61)","v":0},{"$f":"+'GHG Balance'!E$55*(1+Growth!$L$61)","v":0},{"$f":"+'GHG Balance'!F$55*(1+Growth!$L$61)","v":0},0]
[null,"4. Land use, land-use change and forestry",null,{"$f":"SUM(D196:D200)","v":0},{"$f":"SUM(E196:E200)","v":0},{"$f":"SUM(F196:F200)","v":0},0]
[null,"4.A. Forest land",null,{"$f":"+'GHG Balance'!D$57*(1+Growth!$L$63)","v":0},{"$f":"+'GHG Balance'!E$57*(1+Growth!$L$63)","v":0},{"$f":"+'GHG Balance'!F$57*(1+Growth!$L$63)","v":0},0]
[null,"4.B. Cropland",null,{"$f":"+'GHG Balance'!D$58*(1+Growth!$L$64)","v":0},{"$f":"+'GHG Balance'!E$58*(1+Growth!$L$64)","v":0},{"$f":"+'GHG Balance'!F$58*(1+Growth!$L$64)","v":0},0]
[null,"4.C. Grassland",null,{"$f":"+'GHG Balance'!D$59*(1+Growth!$L$65)","v":0},{"$f":"+'GHG Balance'!E$59*(1+Growth!$L$65)","v":0},{"$f":"+'GHG Balance'!F$59*(1+Growth!$L$65)","v":0},0]
[null,"4.G. Harvested wood products",null,{"$f":"+'GHG Balance'!D$60*(1+Growth!$L$66)","v":0},{"$f":"+'GHG Balance'!E$60*(1+Growth!$L$66)","v":0},{"$f":"+'GHG Balance'!F$60*(1+Growth!$L$66)","v":0},0]
[null,"Other (4.D, 4.E, 4.F, 4.H)",null,{"$f":"+'GHG Balance'!D$61*(1+Growth!$L$67)","v":0},{"$f":"+'GHG Balance'!E$61*(1+Growth!$L$67)","v":0},{"$f":"+'GHG Balance'!F$61*(1+Growth!$L$67)","v":0},0]
[null,"5.  Waste",null,{"$f":"SUM(D202:D205)","v":0},{"$f":"SUM(E202:E205)","v":0},{"$f":"SUM(F202:F205)","v":0},0]
[null,"5.A.  Solid waste disposal ",null,{"$f":"+'GHG Balance'!D$63*(1+Growth!$L$69)","v":0},{"$f":"+'GHG Balance'!E$63*(1+Growth!$L$69)","v":0},{"$f":"+'GHG Balance'!F$63*(1+Growth!$L$69)","v":0},0]
[null,"5.B.  Biological treatment of solid waste",null,{"$f":"+'GHG Balance'!D$64*(1+Growth!$L$70)","v":0},{"$f":"+'GHG Balance'!E$64*(1+Growth!$L$70)","v":0},{"$f":"+'GHG Balance'!F$64*(1+Growth!$L$70)","v":0},0]
[null,"5.D. Waste water treatment and discharge",null,{"$f":"+'GHG Balance'!D$65*(1+Growth!$L$71)","v":0},{"$f":"+'GHG Balance'!E$65*(1+Growth!$L$71)","v":0},{"$f":"+'GHG Balance'!F$65*(1+Growth!$L$71)","v":0},0]
[null,"Other (5.C, 5.E)",null,{"$f":"+'GHG Balance'!D$66*(1+Growth!$L$72)","v":0},{"$f":"+'GHG Balance'!E$66*(1+Growth!$L$72)","v":0},{"$f":"+'GHG Balance'!F$66*(1+Growth!$L$72)","v":0},0]
[null,"Total (including LULUCF)",null,{"$f":"D181+D184+D190+D195+D201","v":0},{"$f":"E181+E184+E190+E195+E201","v":0},{"$f":"F181+F184+F190+F195+F201","v":0},{"$f":"SUM(D206:F206)","v":0}]
[null,"Total (excluding LULUCF)",null,{"$f":"D206-D195","v":0},{"$f":"E206-E195","v":0},{"$f":"F206-F195","v":0},{"$f":"G206-G195","v":0}]
[]
[]
[]
[]
[]
[]
[]
[]
[]
[]
[]
[]
[]
[null,{"$f":"\"CO2 emissions from fuel combustion - 2040 - \"&Assumptions!C9","v":"CO2 emissions from fuel combustion - 2040 - "}]
[null,"ktCO2",null,"LPG","Gasoline","Jet Fuel","Diesel","Fueloil","Kerosene and other","Total oil products","Coal","Lignite","Gas","Coke","Petrocoke","Total"]
[null,"Unit",null,"kt","kt","kt","kt","kt","kt","kt","kt","kt","kt","kt","kt","kt"]
[null,"Total",null,{"$f":"+D225+D226","v":0},0,0,0,0,0,0,0,0,0,0,0,0]
[null,"    Fossil power plants",null,{"$f":"'GHG Balance'!D14*'BAU projected Energy Balances'!D305","v":0},{"$f":"'GHG Balance'!E14*'BAU projected Energy Balances'!E305","v":0},{"$f":"'GHG Balance'!F14*'BAU projected Energy Balances'!F305","v":0},{"$f":"'GHG Balance'!G14*'BAU projected Energy Balances'!G305","v":0},{"$f":"'GHG Balance'!H14*'BAU projected Energy Balances'!H305","v":0},{"$f":"'GHG Balance'!I14*'BAU projected Energy Balances'!I305","v":0},{"$f":"SUM(D225:I225)","v":0},{"$f":"'GHG Balance'!K14*'BAU projected Energy Balances'!K305","v":0},{"$f":"'GHG Balance'!L14*'BAU projected Energy Balances'!L305","v":0},{"$f":"'GHG Balance'!M14*'BAU projected Energy Balances'!M305","v":0},{"$f":"'GHG Balance'!N14*'BAU projected Energy Balances'!N305","v":0},{"$f":"'GHG Balance'!O14*'BAU projected Energy Balances'!O305","v":0},{"$f":"SUM(J225:O225)","v":0}]
[null,"FINAL CONSUMPTION",null,{"$f":"SUM(D227:D246)","v":0},{"$f":"SUM(E227:E246)","v":0},0,{"$f":"SUM(G227:G246)","v":0},0,0,{"$f":"SUM(D226:I226)","v":0},{"$f":"SUM(K227:K246)","v":0},{"$f":"SUM(L227:L246)","v":0},0,{"$f":"SUM(N227:N246)","v":0},0,{"$f":"SUM(P227:P246)","v":0}]
[null,"    Industry - steel",null,{"$f":"+'GHG Balance'!D18*(1+Growth!$M21)","v":0},{"$f":"+'GHG Balance'!E18*(1+Growth!$M21)","v":0},{"$f":"+'GHG Balance'!F18*(1+Growth!$M21)","v":0},{"$f":"+'GHG Balance'!G18*(1+Growth!$M21)","v":0},{"$f":"+'GHG Balance'!H18*(1+Growth!$M21)","v":0},{"$f":"+'GHG Balance'!I18*(1+Growth!$M21)","v":0},{"$f":"SUM(D227:I227)","v":0},{"$f":"+'GHG Balance'!K18*(1+Growth!$M21)","v":0},{"$f":"+'GHG Balance'!L18*(1+Growth!$M21)","v":0},{"$f":"+'GHG Balance'!M18*(1+Growth!$M21)","v":0},{"$f":"+'GHG Balance'!N18*(1+Growth!$M21)","v":0},{"$f":"+'GHG Balance'!O18*(1+Growth!$M21)","v":0},{"$f":"SUM(J227:O227)","v":0}]
[null,"    Industry - chemical",null,{"$f":"+'GHG Balance'!D19*(1+Growth!$M22)","v":0},{"$f":"+'GHG Balance'!E19*(1+Growth!$M22)","v":0},{"$f":"+'GHG Balance'!F19*(1+Growth!$M22)","v":0},{"$f":"+'GHG Balance'!G19*(1+Growth!$M22)","v":0},{"$f":"+'GHG Balance'!H19*(1+Growth!$M22)","v":0},{"$f":"+'GHG Balance'!I19*(1+Growth!$M22)","v":0},0,{"$f":"+'GHG Balance'!K19*(1+Growth!$M22)","v":0},{"$f":"+'GHG Balance'!L19*(1+Growth!$M22)","v":0},{"$f":"+'GHG Balance'!M19*(1+Growth!$M22)","v":0},{"$f":"+'GHG Balance'!N19*(1+Growth!$M22)","v":0},{"$f":"+'GHG Balance'!O19*(1+Growth!$M22)","v":0},0]
[null,"    Industry - non metallic mineral",null,{"$f":"+'GHG Balance'!D20*(1+Growth!$M23)","v":0},{"$f":"+'GHG Balance'!E20*(1+Growth!$M23)","v":0},{"$f":"+'GHG Balance'!F20*(1+Growth!$M23)","v":0},{"$f":"+'GHG Balance'!G20*(1+Growth!$M23)","v":0},{"$f":"+'GHG Balance'!H20*(1+Growth!$M23)","v":0},{"$f":"+'GHG Balance'!I20*(1+Growth!$M23)","v":0},0,{"$f":"+'GHG Balance'!K20*(1+Growth!$M23)","v":0},{"$f":"+'GHG Balance'!L20*(1+Growth!$M23)","v":0},{"$f":"+'GHG Balance'!M20*(1+Growth!$M23)","v":0},{"$f":"+'GHG Balance'!N20*(1+Growth!$M23)","v":0},{"$f":"+'GHG Balance'!O20*(1+Growth!$M23)","v":0},0]
[null,"    Industry - food processing and beverage",null,{"$f":"+'GHG Balance'!D21*(1+Growth!$M24)","v":0},{"$f":"+'GHG Balance'!E21*(1+Growth!$M24)","v":0},{"$f":"+'GHG Balance'!F21*(1+Growth!$M24)","v":0},{"$f":"+'GHG Balance'!G21*(1+Growth!$M24)","v":0},{"$f":"+'GHG Balance'!H21*(1+Growth!$M24)","v":0},{"$f":"+'GHG Balance'!I21*(1+Growth!$M24)","v":0},0,{"$f":"+'GHG Balance'!K21*(1+Growth!$M24)","v":0},{"$f":"+'GHG Balance'!L21*(1+Growth!$M24)","v":0},{"$f":"+'GHG Balance'!M21*(1+Growth!$M24)","v":0},{"$f":"+'GHG Balance'!N21*(1+Growth!$M24)","v":0},{"$f":"+'GHG Balance'!O21*(1+Growth!$M24)","v":0},0]
[null,"    Industry - construction",null,{"$f":"+'GHG Balance'!D22*(1+Growth!$M25)","v":0},{"$f":"+'GHG Balance'!E22*(1+Growth!$M25)","v":0},{"$f":"+'GHG Balance'!F22*(1+Growth!$M25)","v":0},{"$f":"+'GHG Balance'!G22*(1+Growth!$M25)","v":0},{"$f":"+'GHG Balance'!H22*(1+Growth!$M25)","v":0},{"$f":"+'GHG Balance'!I22*(1+Growth!$M25)","v":0},0,{"$f":"+'GHG Balance'!K22*(1+Growth!$M25)","v":0},{"$f":"+'GHG Balance'!L22*(1+Growth!$M25)","v":0},{"$f":"+'GHG Balance'!M22*(1+Growth!$M25)","v":0},{"$f":"+'GHG Balance'!N22*(1+Growth!$M25)","v":0},{"$f":"+'GHG Balance'!O22*(1+Growth!$M25)","v":0},0]
[null,"    Industry - mining",null,{"$f":"+'GHG Balance'!D23*(1+Growth!$M26)","v":0},{"$f":"+'GHG Balance'!E23*(1+Growth!$M26)","v":0},{"$f":"+'GHG Balance'!F23*(1+Growth!$M26)","v":0},{"$f":"+'GHG Balance'!G23*(1+Growth!$M26)","v":0},{"$f":"+'GHG Balance'!H23*(1+Growth!$M26)","v":0},{"$f":"+'GHG Balance'!I23*(1+Growth!$M26)","v":0},0,{"$f":"+'GHG Balance'!K23*(1+Growth!$M26)","v":0},{"$f":"+'GHG Balance'!L23*(1+Growth!$M26)","v":0},{"$f":"+'GHG Balance'!M23*(1+Growth!$M26)","v":0},{"$f":"+'GHG Balance'!N23*(1+Growth!$M26)","v":0},{"$f":"+'GHG Balance'!O23*(1+Growth!$M26)","v":0},0]
[null,"    Industry - machinery",null,{"$f":"+'GHG Balance'!D24*(1+Growth!$M27)","v":0},{"$f":"+'GHG Balance'!E24*(1+Growth!$M27)","v":0},{"$f":"+'GHG Balance'!F24*(1+Growth!$M27)","v":0},{"$f":"+'GHG Balance'!G24*(1+Growth!$M27)","v":0},{"$f":"+'GHG Balance'!H24*(1+Growth!$M27)","v":0},{"$f":"+'GHG Balance'!I24*(1+Growth!$M27)","v":0},{"$f":"SUM(D233:I233)","v":0},{"$f":"+'GHG Balance'!K24*(1+Growth!$M27)","v":0},{"$f":"+'GHG Balance'!L24*(1+Growth!$M27)","v":0},{"$f":"+'GHG Balance'!M24*(1+Growth!$M27)","v":0},{"$f":"+'GHG Balance'!N24*(1+Growth!$M27)","v":0},{"$f":"+'GHG Balance'!O24*(1+Growth!$M27)","v":0},{"$f":"SUM(J233:O233)","v":0}]
[null,"    Industry - non ferrous metals",null,{"$f":"+'GHG Balance'!D25*(1+Growth!$M28)","v":0},{"$f":"+'GHG Balance'!E25*(1+Growth!$M28)","v":0},{"$f":"+'GHG Balance'!F25*(1+Growth!$M28)","v":0},{"$f":"+'GHG Balance'!G25*(1+Growth!$M28)","v":0},{"$f":"+'GHG Balance'!H25*(1+Growth!$M28)","v":0},{"$f":"+'GHG Balance'!I25*(1+Growth!$M28)","v":0},0,{"$f":"+'GHG Balance'!K25*(1+Growth!$M28)","v":0},{"$f":"+'GHG Balance'!L25*(1+Growth!$M28)","v":0},{"$f":"+'GHG Balance'!M25*(1+Growth!$M28)","v":0},{"$f":"+'GHG Balance'!N25*(1+Growth!$M28)","v":0},{"$f":"+'GHG Balance'!O25*(1+Growth!$M28)","v":0},0]
[null,"    Industry - paper and pulp",null,{"$f":"+'GHG Balance'!D26*(1+Growth!$M29)","v":0},{"$f":"+'GHG Balance'!E26*(1+Growth!$M29)","v":0},{"$f":"+'GHG Balance'!F26*(1+Growth!$M29)","v":0},{"$f":"+'GHG Balance'!G26*(1+Growth!$M29)","v":0},{"$f":"+'GHG Balance'!H26*(1+Growth!$M29)","v":0},{"$f":"+'GHG Balance'!I26*(1+Growth!$M29)","v":0},0,{"$f":"+'GHG Balance'!K26*(1+Growth!$M29)","v":0},{"$f":"+'GHG Balance'!L26*(1+Growth!$M29)","v":0},{"$f":"+'GHG Balance'!M26*(1+Growth!$M29)","v":0},{"$f":"+'GHG Balance'!N26*(1+Growth!$M29)","v":0},{"$f":"+'GHG Balance'!O26*(1+Growth!$M29)","v":0},0]
[null,"    Industry - transport equipment",null,{"$f":"+'GHG Balance'!D27*(1+Growth!$M30)","v":0},{"$f":"+'GHG Balance'!E27*(1+Growth!$M30)","v":0},{"$f":"+'GHG Balance'!F27*(1+Growth!$M30)","v":0},{"$f":"+'GHG Balance'!G27*(1+Growth!$M30)","v":0},{"$f":"+'GHG Balance'!H27*(1+Growth!$M30)","v":0},{"$f":"+'GHG Balance'!I27*(1+Growth!$M30)","v":0},0,{"$f":"+'GHG Balance'!K27*(1+Growth!$M30)","v":0},{"$f":"+'GHG Balance'!L27*(1+Growth!$M30)","v":0},{"$f":"+'GHG Balance'!M27*(1+Growth!$M30)","v":0},{"$f":"+'GHG Balance'!N27*(1+Growth!$M30)","v":0},{"$f":"+'GHG Balance'!O27*(1+Growth!$M30)","v":0},0]
[null,"    Industry - textile and leather",null,{"$f":"+'GHG Balance'!D28*(1+Growth!$M31)","v":0},{"$f":"+'GHG Balance'!E28*(1+Growth!$M31)","v":0},{"$f":"+'GHG Balance'!F28*(1+Growth!$M31)","v":0},{"$f":"+'GHG Balance'!G28*(1+Growth!$M31)","v":0},{"$f":"+'GHG Balance'!H28*(1+Growth!$M31)","v":0},{"$f":"+'GHG Balance'!I28*(1+Growth!$M31)","v":0},0,{"$f":"+'GHG Balance'!K28*(1+Growth!$M31)","v":0},{"$f":"+'GHG Balance'!L28*(1+Growth!$M31)","v":0},{"$f":"+'GHG Balance'!M28*(1+Growth!$M31)","v":0},{"$f":"+'GHG Balance'!N28*(1+Growth!$M31)","v":0},{"$f":"+'GHG Balance'!O28*(1+Growth!$M31)","v":0},0]
[null,"    Industry - miscellaneous",null,{"$f":"+'GHG Balance'!D29*(1+Growth!$M32)","v":0},{"$f":"+'GHG Balance'!E29*(1+Growth!$M32)","v":0},{"$f":"+'GHG Balance'!F29*(1+Growth!$M32)","v":0},{"$f":"+'GHG Balance'!G29*(1+Growth!$M32)","v":0},{"$f":"+'GHG Balance'!H29*(1+Growth!$M32)","v":0},{"$f":"+'GHG Balance'!I29*(1+Growth!$M32)","v":0},0,{"$f":"+'GHG Balance'!K29*(1+Growth!$M32)","v":0},{"$f":"+'GHG Balance'!L29*(1+Growth!$M32)","v":0},{"$f":"+'GHG Balance'!M29*(1+Growth!$M32)","v":0},{"$f":"+'GHG Balance'!N29*(1+Growth!$M32)","v":0},{"$f":"+'GHG Balance'!O29*(1+Growth!$M32)","v":0},0]
[null,"    Transport - road",null,{"$f":"+'GHG Balance'!D30*(1+Growth!$M35)","v":0},{"$f":"+'GHG Balance'!E30*(1+Growth!$M35)","v":0},{"$f":"+'GHG Balance'!F30*(1+Growth!$M35)","v":0},{"$f":"+'GHG Balance'!G30*(1+Growth!$M35)","v":0},{"$f":"+'GHG Balance'!H30*(1+Growth!$M35)","v":0},{"$f":"+'GHG Balance'!I30*(1+Growth!$M35)","v":0},0,{"$f":"+'GHG Balance'!K30*(1+Growth!$M35)","v":0},{"$f":"+'GHG Balance'!L30*(1+Growth!$M35)","v":0},{"$f":"+'GHG Balance'!M30*(1+Growth!$M35)","v":0},{"$f":"+'GHG Balance'!N30*(1+Growth!$M35)","v":0},{"$f":"+'GHG Balance'!O30*(1+Growth!$M35)","v":0},0]
[null,"    Transport - rail",null,{"$f":"+'GHG Balance'!D31*(1+Growth!$M36)","v":0},{"$f":"+'GHG Balance'!E31*(1+Growth!$M36)","v":0},{"$f":"+'GHG Balance'!F31*(1+Growth!$M36)","v":0},{"$f":"+'GHG Balance'!G31*(1+Growth!$M36)","v":0},{"$f":"+'GHG Balance'!H31*(1+Growth!$M36)","v":0},{"$f":"+'GHG Balance'!I31*(1+Growth!$M36)","v":0},0,{"$f":"+'GHG Balance'!K31*(1+Growth!$M36)","v":0},{"$f":"+'GHG Balance'!L31*(1+Growth!$M36)","v":0},{"$f":"+'GHG Balance'!M31*(1+Growth!$M36)","v":0},{"$f":"+'GHG Balance'!N31*(1+Growth!$M36)","v":0},{"$f":"+'GHG Balance'!O31*(1+Growth!$M36)","v":0},0]
[null,"    Transport - domestic air",null,{"$f":"+'GHG Balance'!D32*(1+Growth!$M37)","v":0},{"$f":"+'GHG Balance'!E32*(1+Growth!$M37)","v":0},{"$f":"+'GHG Balance'!F32*(1+Growth!$M37)","v":0},{"$f":"+'GHG Balance'!G32*(1+Growth!$M37)","v":0},{"$f":"+'GHG Balance'!H32*(1+Growth!$M37)","v":0},{"$f":"+'GHG Balance'!I32*(1+Growth!$M37)","v":0},0,{"$f":"+'GHG Balance'!K32*(1+Growth!$M37)","v":0},{"$f":"+'GHG Balance'!L32*(1+Growth!$M37)","v":0},{"$f":"+'GHG Balance'!M32*(1+Growth!$M37)","v":0},{"$f":"+'GHG Balance'!N32*(1+Growth!$M37)","v":0},{"$f":"+'GHG Balance'!O32*(1+Growth!$M37)","v":0},0]
[null,"    Transport - navigation",null,{"$f":"+'GHG Balance'!D33*(1+Growth!$M38)","v":0},{"$f":"+'GHG Balance'!E33*(1+Growth!$M38)","v":0},{"$f":"+'GHG Balance'!F33*(1+Growth!$M38)","v":0},{"$f":"+'GHG Balance'!G33*(1+Growth!$M38)","v":0},{"$f":"+'GHG Balance'!H33*(1+Growth!$M38)","v":0},{"$f":"+'GHG Balance'!I33*(1+Growth!$M38)","v":0},0,{"$f":"+'GHG Balance'!K33*(1+Growth!$M38)","v":0},{"$f":"+'GHG Balance'!L33*(1+Growth!$M38)","v":0},{"$f":"+'GHG Balance'!M33*(1+Growth!$M38)","v":0},{"$f":"+'GHG Balance'!N33*(1+Growth!$M38)","v":0},{"$f":"+'GHG Balance'!O33*(1+Growth!$M38)","v":0},0]
[null,"    Households",null,{"$f":"+'GHG Balance'!D34*(1+Growth!$M42)","v":0},{"$f":"+'GHG Balance'!E34*(1+Growth!$M42)","v":0},{"$f":"+'GHG Balance'!F34*(1+Growth!$M42)","v":0},{"$f":"+'GHG Balance'!G34*(1+Growth!$M42)","v":0},{"$f":"+'GHG Balance'!H34*(1+Growth!$M42)","v":0},{"$f":"+'GHG Balance'!I34*(1+Growth!$M42)","v":0},0,{"$f":"+'GHG Balance'!K34*(1+Growth!$M42)","v":0},{"$f":"+'GHG Balance'!L34*(1+Growth!$M42)","v":0},{"$f":"+'GHG Balance'!M34*(1+Growth!$M42)","v":0},{"$f":"+'GHG Balance'!N34*(1+Growth!$M42)","v":0},{"$f":"+'GHG Balance'!O34*(1+Growth!$M42)","v":0},0]
[null,"    Services",null,{"$f":"+'GHG Balance'!D35*(1+Growth!$M46)","v":0},{"$f":"+'GHG Balance'!E35*(1+Growth!$M46)","v":0},{"$f":"+'GHG Balance'!F35*(1+Growth!$M46)","v":0},{"$f":"+'GHG Balance'!G35*(1+Growth!$M46)","v":0},{"$f":"+'GHG Balance'!H35*(1+Growth!$M46)","v":0},{"$f":"+'GHG Balance'!I35*(1+Growth!$M46)","v":0},0,{"$f":"+'GHG Balance'!K35*(1+Growth!$M46)","v":0},{"$f":"+'GHG Balance'!L35*(1+Growth!$M46)","v":0},{"$f":"+'GHG Balance'!M35*(1+Growth!$M46)","v":0},{"$f":"+'GHG Balance'!N35*(1+Growth!$M46)","v":0},{"$f":"+'GHG Balance'!O35*(1+Growth!$M46)","v":0},0]
[null,"    Agriculture & Fishery",null,{"$f":"+'GHG Balance'!D36*(1+Growth!$M49)","v":0},{"$f":"+'GHG Balance'!E36*(1+Growth!$M49)","v":0},{"$f":"+'GHG Balance'!F36*(1+Growth!$M49)","v":0},{"$f":"+'GHG Balance'!G36*(1+Growth!$M49)","v":0},{"$f":"+'GHG Balance'!H36*(1+Growth!$M49)","v":0},{"$f":"+'GHG Balance'!I36*(1+Growth!$M49)","v":0},0,{"$f":"+'GHG Balance'!K36*(1+Growth!$M49)","v":0},{"$f":"+'GHG Balance'!L36*(1+Growth!$M49)","v":0},{"$f":"+'GHG Balance'!M36*(1+Growth!$M49)","v":0},{"$f":"+'GHG Balance'!N36*(1+Growth!$M49)","v":0},{"$f":"+'GHG Balance'!O36*(1+Growth!$M49)","v":0},0]
[null,"    Non energy uses",null,{"$f":"+'GHG Balance'!D37*(1+Growth!$M74)","v":0},{"$f":"+'GHG Balance'!E37*(1+Growth!$M74)","v":0},{"$f":"+'GHG Balance'!F37*(1+Growth!$M74)","v":0},{"$f":"+'GHG Balance'!G37*(1+Growth!$M74)","v":0},{"$f":"+'GHG Balance'!H37*(1+Growth!$M74)","v":0},{"$f":"+'GHG Balance'!I37*(1+Growth!$M74)","v":0},{"$f":"SUM(D246:I246)","v":0},{"$f":"+'GHG Balance'!K37*(1+Growth!$M74)","v":0},{"$f":"+'GHG Balance'!L37*(1+Growth!$M74)","v":0},{"$f":"+'GHG Balance'!M37*(1+Growth!$M74)","v":0},{"$f":"+'GHG Balance'!N37*(1+Growth!$M74)","v":0},{"$f":"+'GHG Balance'!O37*(1+Growth!$M74)","v":0},0]
[]
[null,"Emissions by sectors and by gases"]
[null,"Unit : ktCO2-equivalent",null,"CO2","CH4","N2O","Total GHG emissions"]
[null,"1. Energy",null,{"$f":"D251+D252","v":0},{"$f":"E251+E252","v":0},{"$f":"F251+F252","v":0},{"$f":"D250+E250+F250","v":0}]
[null,"1.A. Fuel combustion",null,{"$f":"P224","v":0},{"$f":"IF(P224=0,0,+'GHG Balance'!E$43*'BAU projected GHG Balances'!P226/'GHG Balance'!P$17)","v":0},{"$f":"IF(P224=0,0,+'GHG Balance'!F$43*'BAU projected GHG Balances'!P226/'GHG Balance'!P$17)","v":0},{"$f":"SUM(D251:F251)","v":0}]
[null,"1.B. Fugitive emissions from fuels",null,{"$f":"IF('GHG Balance'!M$15=0,0,'GHG Balance'!D$44*'BAU projected GHG Balances'!M224/'GHG Balance'!M$15)","v":0},{"$f":"IF('GHG Balance'!M$15=0,0,'GHG Balance'!E$44*'BAU projected GHG Balances'!M224/'GHG Balance'!M$15)","v":0},{"$f":"IF('GHG Balance'!M$15=0,0,'GHG Balance'!F$44*'BAU projected GHG Balances'!M224/'GHG Balance'!M$15)","v":0},{"$f":"SUM(D252:F252)","v":0}]
[null,"2.  Industrial processes and product use",null,{"$f":"SUM(D254:D258)","v":0},{"$f":"SUM(E254:E258)","v":0},0,0]
[null,"2.A.  Mineral industry",null,{"$f":"+'GHG Balance'!D$46*(1+Growth!$M$52)","v":0},{"$f":"+'GHG Balance'!E$46*(1+Growth!$M$52)","v":0},{"$f":"+'GHG Balance'!F$46*(1+Growth!$M$52)","v":0},0]
[null,"2.B.  Chemical industry",null,{"$f":"+'GHG Balance'!D$47*(1+Growth!$M$53)","v":0},{"$f":"+'GHG Balance'!E$47*(1+Growth!$M$53)","v":0},{"$f":"+'GHG Balance'!F$47*(1+Growth!$M$53)","v":0},0]
[null,"2.C.  Metal industry",null,{"$f":"+'GHG Balance'!D$48*(1+Growth!$M$54)","v":0},{"$f":"+'GHG Balance'!E$48*(1+Growth!$M$54)","v":0},{"$f":"+'GHG Balance'!F$48*(1+Growth!$M$54)","v":0},0]
[null,"2.F.  Product uses as ODS substitutes ",null,{"$f":"+'GHG Balance'!D$49*(1+Growth!$M$55)","v":0},{"$f":"+'GHG Balance'!E$49*(1+Growth!$M$55)","v":0},{"$f":"+'GHG Balance'!F$49*(1+Growth!$M$55)","v":0},0]
[null,"Other (2.D, 2.E, 2.G. 2.H)",null,{"$f":"+'GHG Balance'!D$50*(1+Growth!$M$56)","v":0},{"$f":"+'GHG Balance'!E$50*(1+Growth!$M$56)","v":0},{"$f":"+'GHG Balance'!F$50*(1+Growth!$M$56)","v":0},0]
[null,"3.  Agriculture",null,{"$f":"SUM(D260:D263)","v":0},{"$f":"SUM(E260:E263)","v":0},{"$f":"SUM(F260:F263)","v":0},0]
[null,"3.A.  Enteric fermentation",null,{"$f":"+'GHG Balance'!D$52*(1+Growth!$M$58)","v":0},{"$f":"+'GHG Balance'!E$52*(1+Growth!$M$58)","v":0},{"$f":"+'GHG Balance'!F$52*(1+Growth!$M$58)","v":0},0]
[null,"3.B.  Manure management",null,{"$f":"+'GHG Balance'!D$53*(1+Growth!$M$59)","v":0},{"$f":"+'GHG Balance'!E$53*(1+Growth!$M$59)","v":0},{"$f":"+'GHG Balance'!F$53*(1+Growth!$M$59)","v":0},0]
[null,"3.D.  Agricultural soils",null,{"$f":"+'GHG Balance'!D$54*(1+Growth!$M$60)","v":0},{"$f":"+'GHG Balance'!E$54*(1+Growth!$M$60)","v":0},{"$f":"+'GHG Balance'!F$54*(1+Growth!$M$60)","v":0},0]
[null,"   Other (3.C, 3.E-3.J)",null,{"$f":"+'GHG Balance'!D$55*(1+Growth!$M$61)","v":0},{"$f":"+'GHG Balance'!E$55*(1+Growth!$M$61)","v":0},{"$f":"+'GHG Balance'!F$55*(1+Growth!$M$61)","v":0},0]
[null,"4. Land use, land-use change and forestry",null,{"$f":"SUM(D265:D269)","v":0},{"$f":"SUM(E265:E269)","v":0},{"$f":"SUM(F265:F269)","v":0},0]
[null,"4.A. Forest land",null,{"$f":"+'GHG Balance'!D$57*(1+Growth!$M$63)","v":0},{"$f":"+'GHG Balance'!E$57*(1+Growth!$M$63)","v":0},{"$f":"+'GHG Balance'!F$57*(1+Growth!$M$63)","v":0},0]
[null,"4.B. Cropland",null,{"$f":"+'GHG Balance'!D$58*(1+Growth!$M$64)","v":0},{"$f":"+'GHG Balance'!E$58*(1+Growth!$M$64)","v":0},{"$f":"+'GHG Balance'!F$58*(1+Growth!$M$64)","v":0},0]
[null,"4.C. Grassland",null,{"$f":"+'GHG Balance'!D$59*(1+Growth!$M$65)","v":0},{"$f":"+'GHG Balance'!E$59*(1+Growth!$M$65)","v":0},{"$f":"+'GHG Balance'!F$59*(1+Growth!$M$65)","v":0},0]
[null,"4.G. Harvested wood products",null,{"$f":"+'GHG Balance'!D$60*(1+Growth!$M$66)","v":0},{"$f":"+'GHG Balance'!E$60*(1+Growth!$M$66)","v":0},{"$f":"+'GHG Balance'!F$60*(1+Growth!$M$66)","v":0},0]
[null,"Other (4.D, 4.E, 4.F, 4.H)",null,{"$f":"+'GHG Balance'!D$61*(1+Growth!$M$67)","v":0},{"$f":"+'GHG Balance'!E$61*(1+Growth!$M$67)","v":0},{"$f":"+'GHG Balance'!F$61*(1+Growth!$M$67)","v":0},0]
[null,"5.  Waste",null,{"$f":"SUM(D271:D274)","v":0},{"$f":"SUM(E271:E274)","v":0},{"$f":"SUM(F271:F274)","v":0},0]
[null,"5.A.  Solid waste disposal ",null,{"$f":"+'GHG Balance'!D$63*(1+Growth!$M$69)","v":0},{"$f":"+'GHG Balance'!E$63*(1+Growth!$M$69)","v":0},{"$f":"+'GHG Balance'!F$63*(1+Growth!$M$69)","v":0},0]
[null,"5.B.  Biological treatment of solid waste",null,{"$f":"+'GHG Balance'!D$64*(1+Growth!$M$70)","v":0},{"$f":"+'GHG Balance'!E$64*(1+Growth!$M$70)","v":0},{"$f":"+'GHG Balance'!F$64*(1+Growth!$M$70)","v":0},0]
[null,"5.D. Waste water treatment and discharge",null,{"$f":"+'GHG Balance'!D$65*(1+Growth!$M$71)","v":0},{"$f":"+'GHG Balance'!E$65*(1+Growth!$M$71)","v":0},{"$f":"+'GHG Balance'!F$65*(1+Growth!$M$71)","v":0},0]
[null,"Other (5.C, 5.E)",null,{"$f":"+'GHG Balance'!D$66*(1+Growth!$M$72)","v":0},{"$f":"+'GHG Balance'!E$66*(1+Growth!$M$72)","v":0},{"$f":"+'GHG Balance'!F$66*(1+Growth!$M$72)","v":0},0]
[null,"Total (including LULUCF)",null,{"$f":"D250+D253+D259+D264+D270","v":0},{"$f":"E250+E253+E259+E264+E270","v":0},{"$f":"F250+F253+F259+F264+F270","v":0},{"$f":"SUM(D275:F275)","v":0}]
[null,"Total (excluding LULUCF)",null,{"$f":"D275-D264","v":0},{"$f":"E275-E264","v":0},{"$f":"F275-F264","v":0},{"$f":"G275-G264","v":0}]
[]
[]
[]
[]
[]
[]
[]
[]
[]
[]
[]
[]
[]
[null,{"$f":"\"CO2 emissions from fuel combustion - 2045 - \"&Assumptions!C9","v":"CO2 emissions from fuel combustion - 2045 - "}]
[null,"ktCO2",null,"LPG","Gasoline","Jet Fuel","Diesel","Fueloil","Kerosene and other","Total oil products","Coal","Lignite","Gas","Coke","Petrocoke","Total"]
[null,"Unit",null,"kt","kt","kt","kt","kt","kt","kt","kt","kt","kt","kt","kt","kt"]
[null,"Total",null,{"$f":"+D294+D295","v":0},0,0,0,0,0,0,0,0,0,0,0,0]
[null,"    Fossil power plants",null,{"$f":"'GHG Balance'!D14*'BAU projected Energy Balances'!D391","v":0},{"$f":"'GHG Balance'!E14*'BAU projected Energy Balances'!E391","v":0},{"$f":"'GHG Balance'!F14*'BAU projected Energy Balances'!F391","v":0},{"$f":"'GHG Balance'!G14*'BAU projected Energy Balances'!G391","v":0},{"$f":"'GHG Balance'!H14*'BAU projected Energy Balances'!H391","v":0},{"$f":"'GHG Balance'!I14*'BAU projected Energy Balances'!I391","v":0},{"$f":"SUM(D294:I294)","v":0},{"$f":"'GHG Balance'!K14*'BAU projected Energy Balances'!K391","v":0},{"$f":"'GHG Balance'!L14*'BAU projected Energy Balances'!L391","v":0},{"$f":"'GHG Balance'!M14*'BAU projected Energy Balances'!M391","v":0},{"$f":"'GHG Balance'!N14*'BAU projected Energy Balances'!N391","v":0},{"$f":"'GHG Balance'!O14*'BAU projected Energy Balances'!O391","v":0},{"$f":"SUM(J294:O294)","v":0}]
[null,"FINAL CONSUMPTION",null,{"$f":"SUM(D296:D315)","v":0},{"$f":"SUM(E296:E315)","v":0},{"$f":"SUM(F296:F315)","v":0},{"$f":"SUM(G296:G315)","v":0},{"$f":"SUM(H296:H315)","v":0},{"$f":"SUM(I296:I315)","v":0},{"$f":"SUM(D295:I295)","v":0},{"$f":"SUM(K296:K315)","v":0},{"$f":"SUM(L296:L315)","v":0},{"$f":"SUM(M296:M315)","v":0},{"$f":"SUM(N296:N315)","v":0},{"$f":"SUM(O296:O315)","v":0},{"$f":"SUM(P296:P315)","v":0}]
[null,"    Industry - steel",null,{"$f":"+'GHG Balance'!D18*(1+Growth!$N21)","v":0},{"$f":"+'GHG Balance'!E18*(1+Growth!$N21)","v":0},{"$f":"+'GHG Balance'!F18*(1+Growth!$N21)","v":0},{"$f":"+'GHG Balance'!G18*(1+Growth!$N21)","v":0},{"$f":"+'GHG Balance'!H18*(1+Growth!$N21)","v":0},{"$f":"+'GHG Balance'!I18*(1+Growth!$N21)","v":0},{"$f":"SUM(D296:I296)","v":0},{"$f":"+'GHG Balance'!K18*(1+Growth!$N21)","v":0},{"$f":"+'GHG Balance'!L18*(1+Growth!$N21)","v":0},{"$f":"+'GHG Balance'!M18*(1+Growth!$N21)","v":0},{"$f":"+'GHG Balance'!N18*(1+Growth!$N21)","v":0},{"$f":"+'GHG Balance'!O18*(1+Growth!$N21)","v":0},{"$f":"SUM(J296:O296)","v":0}]
[null,"    Industry - chemical",null,{"$f":"+'GHG Balance'!D19*(1+Growth!$N22)","v":0},{"$f":"+'GHG Balance'!E19*(1+Growth!$N22)","v":0},{"$f":"+'GHG Balance'!F19*(1+Growth!$N22)","v":0},{"$f":"+'GHG Balance'!G19*(1+Growth!$N22)","v":0},{"$f":"+'GHG Balance'!H19*(1+Growth!$N22)","v":0},{"$f":"+'GHG Balance'!I19*(1+Growth!$N22)","v":0},0,{"$f":"+'GHG Balance'!K19*(1+Growth!$N22)","v":0},{"$f":"+'GHG Balance'!L19*(1+Growth!$N22)","v":0},{"$f":"+'GHG Balance'!M19*(1+Growth!$N22)","v":0},{"$f":"+'GHG Balance'!N19*(1+Growth!$N22)","v":0},{"$f":"+'GHG Balance'!O19*(1+Growth!$N22)","v":0},0]
[null,"    Industry - non metallic mineral",null,{"$f":"+'GHG Balance'!D20*(1+Growth!$N23)","v":0},{"$f":"+'GHG Balance'!E20*(1+Growth!$N23)","v":0},{"$f":"+'GHG Balance'!F20*(1+Growth!$N23)","v":0},{"$f":"+'GHG Balance'!G20*(1+Growth!$N23)","v":0},{"$f":"+'GHG Balance'!H20*(1+Growth!$N23)","v":0},{"$f":"+'GHG Balance'!I20*(1+Growth!$N23)","v":0},{"$f":"SUM(D298:I298)","v":0},{"$f":"+'GHG Balance'!K20*(1+Growth!$N23)","v":0},{"$f":"+'GHG Balance'!L20*(1+Growth!$N23)","v":0},{"$f":"+'GHG Balance'!M20*(1+Growth!$N23)","v":0},{"$f":"+'GHG Balance'!N20*(1+Growth!$N23)","v":0},{"$f":"+'GHG Balance'!O20*(1+Growth!$N23)","v":0},0]
[null,"    Industry - food processing and beverage",null,{"$f":"+'GHG Balance'!D21*(1+Growth!$N24)","v":0},{"$f":"+'GHG Balance'!E21*(1+Growth!$N24)","v":0},{"$f":"+'GHG Balance'!F21*(1+Growth!$N24)","v":0},{"$f":"+'GHG Balance'!G21*(1+Growth!$N24)","v":0},{"$f":"+'GHG Balance'!H21*(1+Growth!$N24)","v":0},{"$f":"+'GHG Balance'!I21*(1+Growth!$N24)","v":0},0,{"$f":"+'GHG Balance'!K21*(1+Growth!$N24)","v":0},{"$f":"+'GHG Balance'!L21*(1+Growth!$N24)","v":0},{"$f":"+'GHG Balance'!M21*(1+Growth!$N24)","v":0},{"$f":"+'GHG Balance'!N21*(1+Growth!$N24)","v":0},{"$f":"+'GHG Balance'!O21*(1+Growth!$N24)","v":0},0]
[null,"    Industry - construction",null,{"$f":"+'GHG Balance'!D22*(1+Growth!$N25)","v":0},{"$f":"+'GHG Balance'!E22*(1+Growth!$N25)","v":0},{"$f":"+'GHG Balance'!F22*(1+Growth!$N25)","v":0},{"$f":"+'GHG Balance'!G22*(1+Growth!$N25)","v":0},{"$f":"+'GHG Balance'!H22*(1+Growth!$N25)","v":0},{"$f":"+'GHG Balance'!I22*(1+Growth!$N25)","v":0},0,{"$f":"+'GHG Balance'!K22*(1+Growth!$N25)","v":0},{"$f":"+'GHG Balance'!L22*(1+Growth!$N25)","v":0},{"$f":"+'GHG Balance'!M22*(1+Growth!$N25)","v":0},{"$f":"+'GHG Balance'!N22*(1+Growth!$N25)","v":0},{"$f":"+'GHG Balance'!O22*(1+Growth!$N25)","v":0},0]
[null,"    Industry - mining",null,{"$f":"+'GHG Balance'!D23*(1+Growth!$N26)","v":0},{"$f":"+'GHG Balance'!E23*(1+Growth!$N26)","v":0},{"$f":"+'GHG Balance'!F23*(1+Growth!$N26)","v":0},{"$f":"+'GHG Balance'!G23*(1+Growth!$N26)","v":0},{"$f":"+'GHG Balance'!H23*(1+Growth!$N26)","v":0},{"$f":"+'GHG Balance'!I23*(1+Growth!$N26)","v":0},0,{"$f":"+'GHG Balance'!K23*(1+Growth!$N26)","v":0},{"$f":"+'GHG Balance'!L23*(1+Growth!$N26)","v":0},{"$f":"+'GHG Balance'!M23*(1+Growth!$N26)","v":0},{"$f":"+'GHG Balance'!N23*(1+Growth!$N26)","v":0},{"$f":"+'GHG Balance'!O23*(1+Growth!$N26)","v":0},0]
[null,"    Industry - machinery",null,{"$f":"+'GHG Balance'!D24*(1+Growth!$N27)","v":0},{"$f":"+'GHG Balance'!E24*(1+Growth!$N27)","v":0},{"$f":"+'GHG Balance'!F24*(1+Growth!$N27)","v":0},{"$f":"+'GHG Balance'!G24*(1+Growth!$N27)","v":0},{"$f":"+'GHG Balance'!H24*(1+Growth!$N27)","v":0},{"$f":"+'GHG Balance'!I24*(1+Growth!$N27)","v":0},{"$f":"SUM(D302:I302)","v":0},{"$f":"+'GHG Balance'!K24*(1+Growth!$N27)","v":0},{"$f":"+'GHG Balance'!L24*(1+Growth!$N27)","v":0},{"$f":"+'GHG Balance'!M24*(1+Growth!$N27)","v":0},{"$f":"+'GHG Balance'!N24*(1+Growth!$N27)","v":0},{"$f":"+'GHG Balance'!O24*(1+Growth!$N27)","v":0},{"$f":"SUM(J302:O302)","v":0}]
[null,"    Industry - non ferrous metals",null,{"$f":"+'GHG Balance'!D25*(1+Growth!$N28)","v":0},{"$f":"+'GHG Balance'!E25*(1+Growth!$N28)","v":0},{"$f":"+'GHG Balance'!F25*(1+Growth!$N28)","v":0},{"$f":"+'GHG Balance'!G25*(1+Growth!$N28)","v":0},{"$f":"+'GHG Balance'!H25*(1+Growth!$N28)","v":0},{"$f":"+'GHG Balance'!I25*(1+Growth!$N28)","v":0},{"$f":"SUM(D303:I303)","v":0},{"$f":"+'GHG Balance'!K25*(1+Growth!$N28)","v":0},{"$f":"+'GHG Balance'!L25*(1+Growth!$N28)","v":0},{"$f":"+'GHG Balance'!M25*(1+Growth!$N28)","v":0},{"$f":"+'GHG Balance'!N25*(1+Growth!$N28)","v":0},{"$f":"+'GHG Balance'!O25*(1+Growth!$N28)","v":0},{"$f":"SUM(J303:O303)","v":0}]
[null,"    Industry - paper and pulp",null,{"$f":"+'GHG Balance'!D26*(1+Growth!$N29)","v":0},{"$f":"+'GHG Balance'!E26*(1+Growth!$N29)","v":0},{"$f":"+'GHG Balance'!F26*(1+Growth!$N29)","v":0},{"$f":"+'GHG Balance'!G26*(1+Growth!$N29)","v":0},{"$f":"+'GHG Balance'!H26*(1+Growth!$N29)","v":0},{"$f":"+'GHG Balance'!I26*(1+Growth!$N29)","v":0},0,{"$f":"+'GHG Balance'!K26*(1+Growth!$N29)","v":0},{"$f":"+'GHG Balance'!L26*(1+Growth!$N29)","v":0},{"$f":"+'GHG Balance'!M26*(1+Growth!$N29)","v":0},{"$f":"+'GHG Balance'!N26*(1+Growth!$N29)","v":0},{"$f":"+'GHG Balance'!O26*(1+Growth!$N29)","v":0},0]
[null,"    Industry - transport equipment",null,{"$f":"+'GHG Balance'!D27*(1+Growth!$N30)","v":0},{"$f":"+'GHG Balance'!E27*(1+Growth!$N30)","v":0},{"$f":"+'GHG Balance'!F27*(1+Growth!$N30)","v":0},{"$f":"+'GHG Balance'!G27*(1+Growth!$N30)","v":0},{"$f":"+'GHG Balance'!H27*(1+Growth!$N30)","v":0},{"$f":"+'GHG Balance'!I27*(1+Growth!$N30)","v":0},0,{"$f":"+'GHG Balance'!K27*(1+Growth!$N30)","v":0},{"$f":"+'GHG Balance'!L27*(1+Growth!$N30)","v":0},{"$f":"+'GHG Balance'!M27*(1+Growth!$N30)","v":0},{"$f":"+'GHG Balance'!N27*(1+Growth!$N30)","v":0},{"$f":"+'GHG Balance'!O27*(1+Growth!$N30)","v":0},0]
[null,"    Industry - textile and leather",null,{"$f":"+'GHG Balance'!D28*(1+Growth!$N31)","v":0},{"$f":"+'GHG Balance'!E28*(1+Growth!$N31)","v":0},{"$f":"+'GHG Balance'!F28*(1+Growth!$N31)","v":0},{"$f":"+'GHG Balance'!G28*(1+Growth!$N31)","v":0},{"$f":"+'GHG Balance'!H28*(1+Growth!$N31)","v":0},{"$f":"+'GHG Balance'!I28*(1+Growth!$N31)","v":0},0,{"$f":"+'GHG Balance'!K28*(1+Growth!$N31)","v":0},{"$f":"+'GHG Balance'!L28*(1+Growth!$N31)","v":0},{"$f":"+'GHG Balance'!M28*(1+Growth!$N31)","v":0},{"$f":"+'GHG Balance'!N28*(1+Growth!$N31)","v":0},{"$f":"+'GHG Balance'!O28*(1+Growth!$N31)","v":0},0]
[null,"    Industry - miscellaneous",null,{"$f":"+'GHG Balance'!D29*(1+Growth!$N32)","v":0},{"$f":"+'GHG Balance'!E29*(1+Growth!$N32)","v":0},{"$f":"+'GHG Balance'!F29*(1+Growth!$N32)","v":0},{"$f":"+'GHG Balance'!G29*(1+Growth!$N32)","v":0},{"$f":"+'GHG Balance'!H29*(1+Growth!$N32)","v":0},{"$f":"+'GHG Balance'!I29*(1+Growth!$N32)","v":0},0,{"$f":"+'GHG Balance'!K29*(1+Growth!$N32)","v":0},{"$f":"+'GHG Balance'!L29*(1+Growth!$N32)","v":0},{"$f":"+'GHG Balance'!M29*(1+Growth!$N32)","v":0},{"$f":"+'GHG Balance'!N29*(1+Growth!$N32)","v":0},{"$f":"+'GHG Balance'!O29*(1+Growth!$N32)","v":0},0]
[null,"    Transport - road",null,{"$f":"+'GHG Balance'!D30*(1+Growth!$N35)","v":0},{"$f":"+'GHG Balance'!E30*(1+Growth!$N35)","v":0},{"$f":"+'GHG Balance'!F30*(1+Growth!$N35)","v":0},{"$f":"+'GHG Balance'!G30*(1+Growth!$N35)","v":0},{"$f":"+'GHG Balance'!H30*(1+Growth!$N35)","v":0},{"$f":"+'GHG Balance'!I30*(1+Growth!$N35)","v":0},{"$f":"SUM(D308:I308)","v":0},{"$f":"+'GHG Balance'!K30*(1+Growth!$N35)","v":0},{"$f":"+'GHG Balance'!L30*(1+Growth!$N35)","v":0},{"$f":"+'GHG Balance'!M30*(1+Growth!$N35)","v":0},{"$f":"+'GHG Balance'!N30*(1+Growth!$N35)","v":0},{"$f":"+'GHG Balance'!O30*(1+Growth!$N35)","v":0},0]
[null,"    Transport - rail",null,{"$f":"+'GHG Balance'!D31*(1+Growth!$N36)","v":0},{"$f":"+'GHG Balance'!E31*(1+Growth!$N36)","v":0},{"$f":"+'GHG Balance'!F31*(1+Growth!$N36)","v":0},{"$f":"+'GHG Balance'!G31*(1+Growth!$N36)","v":0},{"$f":"+'GHG Balance'!H31*(1+Growth!$N36)","v":0},{"$f":"+'GHG Balance'!I31*(1+Growth!$N36)","v":0},0,{"$f":"+'GHG Balance'!K31*(1+Growth!$N36)","v":0},{"$f":"+'GHG Balance'!L31*(1+Growth!$N36)","v":0},{"$f":"+'GHG Balance'!M31*(1+Growth!$N36)","v":0},{"$f":"+'GHG Balance'!N31*(1+Growth!$N36)","v":0},{"$f":"+'GHG Balance'!O31*(1+Growth!$N36)","v":0},0]
[null,"    Transport - domestic air",null,{"$f":"+'GHG Balance'!D32*(1+Growth!$N37)","v":0},{"$f":"+'GHG Balance'!E32*(1+Growth!$N37)","v":0},{"$f":"+'GHG Balance'!F32*(1+Growth!$N37)","v":0},{"$f":"+'GHG Balance'!G32*(1+Growth!$N37)","v":0},{"$f":"+'GHG Balance'!H32*(1+Growth!$N37)","v":0},{"$f":"+'GHG Balance'!I32*(1+Growth!$N37)","v":0},0,{"$f":"+'GHG Balance'!K32*(1+Growth!$N37)","v":0},{"$f":"+'GHG Balance'!L32*(1+Growth!$N37)","v":0},{"$f":"+'GHG Balance'!M32*(1+Growth!$N37)","v":0},{"$f":"+'GHG Balance'!N32*(1+Growth!$N37)","v":0},{"$f":"+'GHG Balance'!O32*(1+Growth!$N37)","v":0},0]
[null,"    Transport - navigation",null,{"$f":"+'GHG Balance'!D33*(1+Growth!$N38)","v":0},{"$f":"+'GHG Balance'!E33*(1+Growth!$N38)","v":0},{"$f":"+'GHG Balance'!F33*(1+Growth!$N38)","v":0},{"$f":"+'GHG Balance'!G33*(1+Growth!$N38)","v":0},{"$f":"+'GHG Balance'!H33*(1+Growth!$N38)","v":0},{"$f":"+'GHG Balance'!I33*(1+Growth!$N38)","v":0},0,{"$f":"+'GHG Balance'!K33*(1+Growth!$N38)","v":0},{"$f":"+'GHG Balance'!L33*(1+Growth!$N38)","v":0},{"$f":"+'GHG Balance'!M33*(1+Growth!$N38)","v":0},{"$f":"+'GHG Balance'!N33*(1+Growth!$N38)","v":0},{"$f":"+'GHG Balance'!O33*(1+Growth!$N38)","v":0},0]
[null,"    Households",null,{"$f":"+'GHG Balance'!D34*(1+Growth!$N42)","v":0},{"$f":"+'GHG Balance'!E34*(1+Growth!$N42)","v":0},{"$f":"+'GHG Balance'!F34*(1+Growth!$N42)","v":0},{"$f":"+'GHG Balance'!G34*(1+Growth!$N42)","v":0},{"$f":"+'GHG Balance'!H34*(1+Growth!$N42)","v":0},{"$f":"+'GHG Balance'!I34*(1+Growth!$N42)","v":0},0,{"$f":"+'GHG Balance'!K34*(1+Growth!$N42)","v":0},{"$f":"+'GHG Balance'!L34*(1+Growth!$N42)","v":0},{"$f":"+'GHG Balance'!M34*(1+Growth!$N42)","v":0},{"$f":"+'GHG Balance'!N34*(1+Growth!$N42)","v":0},{"$f":"+'GHG Balance'!O34*(1+Growth!$N42)","v":0},0]
[null,"    Services",null,{"$f":"+'GHG Balance'!D35*(1+Growth!$N46)","v":0},{"$f":"+'GHG Balance'!E35*(1+Growth!$N46)","v":0},{"$f":"+'GHG Balance'!F35*(1+Growth!$N46)","v":0},{"$f":"+'GHG Balance'!G35*(1+Growth!$N46)","v":0},{"$f":"+'GHG Balance'!H35*(1+Growth!$N46)","v":0},{"$f":"+'GHG Balance'!I35*(1+Growth!$N46)","v":0},0,{"$f":"+'GHG Balance'!K35*(1+Growth!$N46)","v":0},{"$f":"+'GHG Balance'!L35*(1+Growth!$N46)","v":0},{"$f":"+'GHG Balance'!M35*(1+Growth!$N46)","v":0},{"$f":"+'GHG Balance'!N35*(1+Growth!$N46)","v":0},{"$f":"+'GHG Balance'!O35*(1+Growth!$N46)","v":0},0]
[null,"    Agriculture & Fishery",null,{"$f":"+'GHG Balance'!D36*(1+Growth!$N49)","v":0},{"$f":"+'GHG Balance'!E36*(1+Growth!$N49)","v":0},{"$f":"+'GHG Balance'!F36*(1+Growth!$N49)","v":0},{"$f":"+'GHG Balance'!G36*(1+Growth!$N49)","v":0},{"$f":"+'GHG Balance'!H36*(1+Growth!$N49)","v":0},{"$f":"+'GHG Balance'!I36*(1+Growth!$N49)","v":0},0,{"$f":"+'GHG Balance'!K36*(1+Growth!$N49)","v":0},{"$f":"+'GHG Balance'!L36*(1+Growth!$N49)","v":0},{"$f":"+'GHG Balance'!M36*(1+Growth!$N49)","v":0},{"$f":"+'GHG Balance'!N36*(1+Growth!$N49)","v":0},{"$f":"+'GHG Balance'!O36*(1+Growth!$N49)","v":0},0]
[null,"    Non energy uses",null,{"$f":"+'GHG Balance'!D37*(1+Growth!$N74)","v":0},{"$f":"+'GHG Balance'!E37*(1+Growth!$N74)","v":0},{"$f":"+'GHG Balance'!F37*(1+Growth!$N74)","v":0},{"$f":"+'GHG Balance'!G37*(1+Growth!$N74)","v":0},{"$f":"+'GHG Balance'!H37*(1+Growth!$N74)","v":0},{"$f":"+'GHG Balance'!I37*(1+Growth!$N74)","v":0},{"$f":"SUM(D315:I315)","v":0},{"$f":"+'GHG Balance'!K37*(1+Growth!$N74)","v":0},{"$f":"+'GHG Balance'!L37*(1+Growth!$N74)","v":0},{"$f":"+'GHG Balance'!M37*(1+Growth!$N74)","v":0},{"$f":"+'GHG Balance'!N37*(1+Growth!$N74)","v":0},{"$f":"+'GHG Balance'!O37*(1+Growth!$N74)","v":0},0]
[]
[null,"Emissions by sectors and by gases"]
[null,"Unit : ktCO2-equivalent",null,"CO2","CH4","N2O","Total GHG emissions"]
[null,"1. Energy",null,{"$f":"D320+D321","v":0},{"$f":"E320+E321","v":0},{"$f":"F320+F321","v":0},{"$f":"D319+E319+F319","v":0}]
[null,"1.A. Fuel combustion",null,{"$f":"P293","v":0},{"$f":"IF(P293=0,0,+'GHG Balance'!E$43*'BAU projected GHG Balances'!P295/'GHG Balance'!P$17)","v":0},{"$f":"IF(P293=0,0,+'GHG Balance'!F$43*'BAU projected GHG Balances'!P295/'GHG Balance'!P$17)","v":0},{"$f":"SUM(D320:F320)","v":0}]
[null,"1.B. Fugitive emissions from fuels",null,{"$f":"IF('GHG Balance'!M$15=0,0,'GHG Balance'!D$44*'BAU projected GHG Balances'!M293/'GHG Balance'!M$15)","v":0},{"$f":"IF('GHG Balance'!M$15=0,0,'GHG Balance'!E$44*'BAU projected GHG Balances'!M293/'GHG Balance'!M$15)","v":0},{"$f":"IF('GHG Balance'!M$15=0,0,'GHG Balance'!F$44*'BAU projected GHG Balances'!M293/'GHG Balance'!M$15)","v":0},{"$f":"SUM(D321:F321)","v":0}]
[null,"2.  Industrial processes and product use",null,{"$f":"SUM(D323:D327)","v":0},{"$f":"SUM(E323:E327)","v":0},0,0]
[null,"2.A.  Mineral industry",null,{"$f":"+'GHG Balance'!D$46*(1+Growth!$N$52)","v":0},{"$f":"+'GHG Balance'!E$46*(1+Growth!$N$52)","v":0},{"$f":"+'GHG Balance'!F$46*(1+Growth!$N$52)","v":0},0]
[null,"2.B.  Chemical industry",null,{"$f":"+'GHG Balance'!D$47*(1+Growth!$N$53)","v":0},{"$f":"+'GHG Balance'!E$47*(1+Growth!$N$53)","v":0},{"$f":"+'GHG Balance'!F$47*(1+Growth!$N$53)","v":0},0]
[null,"2.C.  Metal industry",null,{"$f":"+'GHG Balance'!D$48*(1+Growth!$N$54)","v":0},{"$f":"+'GHG Balance'!E$48*(1+Growth!$N$54)","v":0},{"$f":"+'GHG Balance'!F$48*(1+Growth!$N$54)","v":0},0]
[null,"2.F.  Product uses as ODS substitutes ",null,{"$f":"+'GHG Balance'!D$49*(1+Growth!$N$55)","v":0},{"$f":"+'GHG Balance'!E$49*(1+Growth!$N$55)","v":0},{"$f":"+'GHG Balance'!F$49*(1+Growth!$N$55)","v":0},0]
[null,"Other (2.D, 2.E, 2.G. 2.H)",null,{"$f":"+'GHG Balance'!D$50*(1+Growth!$N$56)","v":0},{"$f":"+'GHG Balance'!E$50*(1+Growth!$N$56)","v":0},{"$f":"+'GHG Balance'!F$50*(1+Growth!$N$56)","v":0},0]
[null,"3.  Agriculture",null,{"$f":"SUM(D329:D332)","v":0},{"$f":"SUM(E329:E332)","v":0},{"$f":"SUM(F329:F332)","v":0},0]
[null,"3.A.  Enteric fermentation",null,{"$f":"+'GHG Balance'!D$52*(1+Growth!$N$58)","v":0},{"$f":"+'GHG Balance'!E$52*(1+Growth!$N$58)","v":0},{"$f":"+'GHG Balance'!F$52*(1+Growth!$N$58)","v":0},0]
[null,"3.B.  Manure management",null,{"$f":"+'GHG Balance'!D$53*(1+Growth!$N$59)","v":0},{"$f":"+'GHG Balance'!E$53*(1+Growth!$N$59)","v":0},{"$f":"+'GHG Balance'!F$53*(1+Growth!$N$59)","v":0},0]
[null,"3.D.  Agricultural soils",null,{"$f":"+'GHG Balance'!D$54*(1+Growth!$N$60)","v":0},{"$f":"+'GHG Balance'!E$54*(1+Growth!$N$60)","v":0},{"$f":"+'GHG Balance'!F$54*(1+Growth!$N$60)","v":0},0]
[null,"   Other (3.C, 3.E-3.J)",null,{"$f":"+'GHG Balance'!D$55*(1+Growth!$N$61)","v":0},{"$f":"+'GHG Balance'!E$55*(1+Growth!$N$61)","v":0},{"$f":"+'GHG Balance'!F$55*(1+Growth!$N$61)","v":0},0]
[null,"4. Land use, land-use change and forestry",null,{"$f":"SUM(D334:D338)","v":0},{"$f":"SUM(E334:E338)","v":0},{"$f":"SUM(F334:F338)","v":0},0]
[null,"4.A. Forest land",null,{"$f":"+'GHG Balance'!D$57*(1+Growth!$N$63)","v":0},{"$f":"+'GHG Balance'!E$57*(1+Growth!$N$63)","v":0},{"$f":"+'GHG Balance'!F$57*(1+Growth!$N$63)","v":0},0]
[null,"4.B. Cropland",null,{"$f":"+'GHG Balance'!D$58*(1+Growth!$N$64)","v":0},{"$f":"+'GHG Balance'!E$58*(1+Growth!$N$64)","v":0},{"$f":"+'GHG Balance'!F$58*(1+Growth!$N$64)","v":0},0]
[null,"4.C. Grassland",null,{"$f":"+'GHG Balance'!D$59*(1+Growth!$N$65)","v":0},{"$f":"+'GHG Balance'!E$59*(1+Growth!$N$65)","v":0},{"$f":"+'GHG Balance'!F$59*(1+Growth!$N$65)","v":0},0]
[null,"4.G. Harvested wood products",null,{"$f":"+'GHG Balance'!D$60*(1+Growth!$N$66)","v":0},{"$f":"+'GHG Balance'!E$60*(1+Growth!$N$66)","v":0},{"$f":"+'GHG Balance'!F$60*(1+Growth!$N$66)","v":0},0]
[null,"Other (4.D, 4.E, 4.F, 4.H)",null,{"$f":"+'GHG Balance'!D$61*(1+Growth!$N$67)","v":0},{"$f":"+'GHG Balance'!E$61*(1+Growth!$N$67)","v":0},{"$f":"+'GHG Balance'!F$61*(1+Growth!$N$67)","v":0},0]
[null,"5.  Waste",null,{"$f":"SUM(D340:D343)","v":0},{"$f":"SUM(E340:E343)","v":0},{"$f":"SUM(F340:F343)","v":0},0]
[null,"5.A.  Solid waste disposal ",null,{"$f":"+'GHG Balance'!D$63*(1+Growth!$N$69)","v":0},{"$f":"+'GHG Balance'!E$63*(1+Growth!$N$69)","v":0},{"$f":"+'GHG Balance'!F$63*(1+Growth!$N$69)","v":0},0]
[null,"5.B.  Biological treatment of solid waste",null,{"$f":"+'GHG Balance'!D$64*(1+Growth!$N$70)","v":0},{"$f":"+'GHG Balance'!E$64*(1+Growth!$N$70)","v":0},{"$f":"+'GHG Balance'!F$64*(1+Growth!$N$70)","v":0},0]
[null,"5.D. Waste water treatment and discharge",null,{"$f":"+'GHG Balance'!D$65*(1+Growth!$N$71)","v":0},{"$f":"+'GHG Balance'!E$65*(1+Growth!$N$71)","v":0},{"$f":"+'GHG Balance'!F$65*(1+Growth!$N$71)","v":0},0]
[null,"Other (5.C, 5.E)",null,{"$f":"+'GHG Balance'!D$66*(1+Growth!$N$72)","v":0},{"$f":"+'GHG Balance'!E$66*(1+Growth!$N$72)","v":0},{"$f":"+'GHG Balance'!F$66*(1+Growth!$N$72)","v":0},0]
[null,"Total (including LULUCF)",null,{"$f":"D319+D322+D328+D333+D339","v":0},{"$f":"E319+E322+E328+E333+E339","v":0},{"$f":"F319+F322+F328+F333+F339","v":0},{"$f":"SUM(D344:F344)","v":0}]
[null,"Total (excluding LULUCF)",null,{"$f":"D344-D333","v":0},{"$f":"E344-E333","v":0},{"$f":"F344-F333","v":0},{"$f":"G344-G333","v":0}]
[]
[]
[]
[]
[]
[]
[]
[]
[]
[]
[]
[]
[]
[null,{"$f":"\"CO2 emissions from fuel combustion - 2050 - \"&Assumptions!C9","v":"CO2 emissions from fuel combustion - 2050 - "}]
[null,"ktCO2",null,"LPG","Gasoline","Jet Fuel","Diesel","Fueloil","Kerosene and other","Total oil products","Coal","Lignite","Gas","Coke","Petrocoke","Total"]
[null,"Unit",null,"kt","kt","kt","kt","kt","kt","kt","kt","kt","kt","kt","kt","kt"]
[null,"Total",null,{"$f":"+D363+D364","v":0},{"$f":"+E363+E364","v":0},0,0,0,{"$f":"+I363+I364","v":0},{"$f":"+J363+J364","v":0},0,0,0,0,{"$f":"+O363+O364","v":0},{"$f":"+P363+P364","v":0}]
[null,"    Fossil power plants",null,{"$f":"'GHG Balance'!D14*'BAU projected Energy Balances'!D477","v":0},{"$f":"'GHG Balance'!E14*'BAU projected Energy Balances'!E477","v":0},{"$f":"'GHG Balance'!F14*'BAU projected Energy Balances'!F477","v":0},{"$f":"'GHG Balance'!G14*'BAU projected Energy Balances'!G477","v":0},{"$f":"'GHG Balance'!H14*'BAU projected Energy Balances'!H477","v":0},{"$f":"'GHG Balance'!I14*'BAU projected Energy Balances'!I477","v":0},{"$f":"SUM(D363:I363)","v":0},{"$f":"'GHG Balance'!K14*'BAU projected Energy Balances'!K477","v":0},{"$f":"'GHG Balance'!L14*'BAU projected Energy Balances'!L477","v":0},{"$f":"'GHG Balance'!M14*'BAU projected Energy Balances'!M477","v":0},{"$f":"'GHG Balance'!N14*'BAU projected Energy Balances'!N477","v":0},{"$f":"'GHG Balance'!O14*'BAU projected Energy Balances'!O477","v":0},{"$f":"SUM(J363:O363)","v":0}]
[null,"FINAL CONSUMPTION",null,{"$f":"SUM(D365:D384)","v":0},0,0,0,0,0,0,{"$f":"SUM(K365:K384)","v":0},0,0,0,0,0]
[null,"    Industry - steel",null,{"$f":"+'GHG Balance'!D18*(1+Growth!$O21)","v":0},{"$f":"+'GHG Balance'!E18*(1+Growth!$O21)","v":0},{"$f":"+'GHG Balance'!F18*(1+Growth!$O21)","v":0},{"$f":"+'GHG Balance'!G18*(1+Growth!$O21)","v":0},{"$f":"+'GHG Balance'!H18*(1+Growth!$O21)","v":0},{"$f":"+'GHG Balance'!I18*(1+Growth!$O21)","v":0},0,{"$f":"+'GHG Balance'!K18*(1+Growth!$O21)","v":0},{"$f":"+'GHG Balance'!L18*(1+Growth!$O21)","v":0},{"$f":"+'GHG Balance'!M18*(1+Growth!$O21)","v":0},{"$f":"+'GHG Balance'!N18*(1+Growth!$O21)","v":0},{"$f":"+'GHG Balance'!O18*(1+Growth!$O21)","v":0},{"$f":"SUM(J365:O365)","v":0}]
[null,"    Industry - chemical",null,{"$f":"+'GHG Balance'!D19*(1+Growth!$O22)","v":0},{"$f":"+'GHG Balance'!E19*(1+Growth!$O22)","v":0},{"$f":"+'GHG Balance'!F19*(1+Growth!$O22)","v":0},{"$f":"+'GHG Balance'!G19*(1+Growth!$O22)","v":0},{"$f":"+'GHG Balance'!H19*(1+Growth!$O22)","v":0},{"$f":"+'GHG Balance'!I19*(1+Growth!$O22)","v":0},0,{"$f":"+'GHG Balance'!K19*(1+Growth!$O22)","v":0},{"$f":"+'GHG Balance'!L19*(1+Growth!$O22)","v":0},{"$f":"+'GHG Balance'!M19*(1+Growth!$O22)","v":0},{"$f":"+'GHG Balance'!N19*(1+Growth!$O22)","v":0},{"$f":"+'GHG Balance'!O19*(1+Growth!$O22)","v":0},0]
[null,"    Industry - non metallic mineral",null,{"$f":"+'GHG Balance'!D20*(1+Growth!$O23)","v":0},{"$f":"+'GHG Balance'!E20*(1+Growth!$O23)","v":0},{"$f":"+'GHG Balance'!F20*(1+Growth!$O23)","v":0},{"$f":"+'GHG Balance'!G20*(1+Growth!$O23)","v":0},{"$f":"+'GHG Balance'!H20*(1+Growth!$O23)","v":0},{"$f":"+'GHG Balance'!I20*(1+Growth!$O23)","v":0},0,{"$f":"+'GHG Balance'!K20*(1+Growth!$O23)","v":0},{"$f":"+'GHG Balance'!L20*(1+Growth!$O23)","v":0},{"$f":"+'GHG Balance'!M20*(1+Growth!$O23)","v":0},{"$f":"+'GHG Balance'!N20*(1+Growth!$O23)","v":0},{"$f":"+'GHG Balance'!O20*(1+Growth!$O23)","v":0},0]
[null,"    Industry - food processing and beverage",null,{"$f":"+'GHG Balance'!D21*(1+Growth!$O24)","v":0},{"$f":"+'GHG Balance'!E21*(1+Growth!$O24)","v":0},{"$f":"+'GHG Balance'!F21*(1+Growth!$O24)","v":0},{"$f":"+'GHG Balance'!G21*(1+Growth!$O24)","v":0},{"$f":"+'GHG Balance'!H21*(1+Growth!$O24)","v":0},{"$f":"+'GHG Balance'!I21*(1+Growth!$O24)","v":0},0,{"$f":"+'GHG Balance'!K21*(1+Growth!$O24)","v":0},{"$f":"+'GHG Balance'!L21*(1+Growth!$O24)","v":0},{"$f":"+'GHG Balance'!M21*(1+Growth!$O24)","v":0},{"$f":"+'GHG Balance'!N21*(1+Growth!$O24)","v":0},{"$f":"+'GHG Balance'!O21*(1+Growth!$O24)","v":0},0]
[null,"    Industry - construction",null,{"$f":"+'GHG Balance'!D22*(1+Growth!$O25)","v":0},{"$f":"+'GHG Balance'!E22*(1+Growth!$O25)","v":0},{"$f":"+'GHG Balance'!F22*(1+Growth!$O25)","v":0},{"$f":"+'GHG Balance'!G22*(1+Growth!$O25)","v":0},{"$f":"+'GHG Balance'!H22*(1+Growth!$O25)","v":0},{"$f":"+'GHG Balance'!I22*(1+Growth!$O25)","v":0},0,{"$f":"+'GHG Balance'!K22*(1+Growth!$O25)","v":0},{"$f":"+'GHG Balance'!L22*(1+Growth!$O25)","v":0},{"$f":"+'GHG Balance'!M22*(1+Growth!$O25)","v":0},{"$f":"+'GHG Balance'!N22*(1+Growth!$O25)","v":0},{"$f":"+'GHG Balance'!O22*(1+Growth!$O25)","v":0},0]
[null,"    Industry - mining",null,{"$f":"+'GHG Balance'!D23*(1+Growth!$O26)","v":0},{"$f":"+'GHG Balance'!E23*(1+Growth!$O26)","v":0},{"$f":"+'GHG Balance'!F23*(1+Growth!$O26)","v":0},{"$f":"+'GHG Balance'!G23*(1+Growth!$O26)","v":0},{"$f":"+'GHG Balance'!H23*(1+Growth!$O26)","v":0},{"$f":"+'GHG Balance'!I23*(1+Growth!$O26)","v":0},0,{"$f":"+'GHG Balance'!K23*(1+Growth!$O26)","v":0},{"$f":"+'GHG Balance'!L23*(1+Growth!$O26)","v":0},{"$f":"+'GHG Balance'!M23*(1+Growth!$O26)","v":0},{"$f":"+'GHG Balance'!N23*(1+Growth!$O26)","v":0},{"$f":"+'GHG Balance'!O23*(1+Growth!$O26)","v":0},0]
[null,"    Industry - machinery",null,{"$f":"+'GHG Balance'!D24*(1+Growth!$O27)","v":0},{"$f":"+'GHG Balance'!E24*(1+Growth!$O27)","v":0},{"$f":"+'GHG Balance'!F24*(1+Growth!$O27)","v":0},{"$f":"+'GHG Balance'!G24*(1+Growth!$O27)","v":0},{"$f":"+'GHG Balance'!H24*(1+Growth!$O27)","v":0},{"$f":"+'GHG Balance'!I24*(1+Growth!$O27)","v":0},0,{"$f":"+'GHG Balance'!K24*(1+Growth!$O27)","v":0},{"$f":"+'GHG Balance'!L24*(1+Growth!$O27)","v":0},{"$f":"+'GHG Balance'!M24*(1+Growth!$O27)","v":0},{"$f":"+'GHG Balance'!N24*(1+Growth!$O27)","v":0},{"$f":"+'GHG Balance'!O24*(1+Growth!$O27)","v":0},0]
[null,"    Industry - non ferrous metals",null,{"$f":"+'GHG Balance'!D25*(1+Growth!$O28)","v":0},{"$f":"+'GHG Balance'!E25*(1+Growth!$O28)","v":0},{"$f":"+'GHG Balance'!F25*(1+Growth!$O28)","v":0},{"$f":"+'GHG Balance'!G25*(1+Growth!$O28)","v":0},{"$f":"+'GHG Balance'!H25*(1+Growth!$O28)","v":0},{"$f":"+'GHG Balance'!I25*(1+Growth!$O28)","v":0},0,{"$f":"+'GHG Balance'!K25*(1+Growth!$O28)","v":0},{"$f":"+'GHG Balance'!L25*(1+Growth!$O28)","v":0},{"$f":"+'GHG Balance'!M25*(1+Growth!$O28)","v":0},{"$f":"+'GHG Balance'!N25*(1+Growth!$O28)","v":0},{"$f":"+'GHG Balance'!O25*(1+Growth!$O28)","v":0},0]
[null,"    Industry - paper and pulp",null,{"$f":"+'GHG Balance'!D26*(1+Growth!$O29)","v":0},{"$f":"+'GHG Balance'!E26*(1+Growth!$O29)","v":0},{"$f":"+'GHG Balance'!F26*(1+Growth!$O29)","v":0},{"$f":"+'GHG Balance'!G26*(1+Growth!$O29)","v":0},{"$f":"+'GHG Balance'!H26*(1+Growth!$O29)","v":0},{"$f":"+'GHG Balance'!I26*(1+Growth!$O29)","v":0},0,{"$f":"+'GHG Balance'!K26*(1+Growth!$O29)","v":0},{"$f":"+'GHG Balance'!L26*(1+Growth!$O29)","v":0},{"$f":"+'GHG Balance'!M26*(1+Growth!$O29)","v":0},{"$f":"+'GHG Balance'!N26*(1+Growth!$O29)","v":0},{"$f":"+'GHG Balance'!O26*(1+Growth!$O29)","v":0},0]
[null,"    Industry - transport equipment",null,{"$f":"+'GHG Balance'!D27*(1+Growth!$O30)","v":0},{"$f":"+'GHG Balance'!E27*(1+Growth!$O30)","v":0},{"$f":"+'GHG Balance'!F27*(1+Growth!$O30)","v":0},{"$f":"+'GHG Balance'!G27*(1+Growth!$O30)","v":0},{"$f":"+'GHG Balance'!H27*(1+Growth!$O30)","v":0},{"$f":"+'GHG Balance'!I27*(1+Growth!$O30)","v":0},0,{"$f":"+'GHG Balance'!K27*(1+Growth!$O30)","v":0},{"$f":"+'GHG Balance'!L27*(1+Growth!$O30)","v":0},{"$f":"+'GHG Balance'!M27*(1+Growth!$O30)","v":0},{"$f":"+'GHG Balance'!N27*(1+Growth!$O30)","v":0},{"$f":"+'GHG Balance'!O27*(1+Growth!$O30)","v":0},0]
[null,"    Industry - textile and leather",null,{"$f":"+'GHG Balance'!D28*(1+Growth!$O31)","v":0},{"$f":"+'GHG Balance'!E28*(1+Growth!$O31)","v":0},{"$f":"+'GHG Balance'!F28*(1+Growth!$O31)","v":0},{"$f":"+'GHG Balance'!G28*(1+Growth!$O31)","v":0},{"$f":"+'GHG Balance'!H28*(1+Growth!$O31)","v":0},{"$f":"+'GHG Balance'!I28*(1+Growth!$O31)","v":0},0,{"$f":"+'GHG Balance'!K28*(1+Growth!$O31)","v":0},{"$f":"+'GHG Balance'!L28*(1+Growth!$O31)","v":0},{"$f":"+'GHG Balance'!M28*(1+Growth!$O31)","v":0},{"$f":"+'GHG Balance'!N28*(1+Growth!$O31)","v":0},{"$f":"+'GHG Balance'!O28*(1+Growth!$O31)","v":0},0]
[null,"    Industry - miscellaneous",null,{"$f":"+'GHG Balance'!D29*(1+Growth!$O32)","v":0},{"$f":"+'GHG Balance'!E29*(1+Growth!$O32)","v":0},{"$f":"+'GHG Balance'!F29*(1+Growth!$O32)","v":0},{"$f":"+'GHG Balance'!G29*(1+Growth!$O32)","v":0},{"$f":"+'GHG Balance'!H29*(1+Growth!$O32)","v":0},{"$f":"+'GHG Balance'!I29*(1+Growth!$O32)","v":0},0,{"$f":"+'GHG Balance'!K29*(1+Growth!$O32)","v":0},{"$f":"+'GHG Balance'!L29*(1+Growth!$O32)","v":0},{"$f":"+'GHG Balance'!M29*(1+Growth!$O32)","v":0},{"$f":"+'GHG Balance'!N29*(1+Growth!$O32)","v":0},{"$f":"+'GHG Balance'!O29*(1+Growth!$O32)","v":0},0]
[null,"    Transport - road",null,{"$f":"+'GHG Balance'!D30*(1+Growth!$O35)","v":0},{"$f":"+'GHG Balance'!E30*(1+Growth!$O35)","v":0},{"$f":"+'GHG Balance'!F30*(1+Growth!$O35)","v":0},{"$f":"+'GHG Balance'!G30*(1+Growth!$O35)","v":0},{"$f":"+'GHG Balance'!H30*(1+Growth!$O35)","v":0},{"$f":"+'GHG Balance'!I30*(1+Growth!$O35)","v":0},0,{"$f":"+'GHG Balance'!K30*(1+Growth!$O35)","v":0},{"$f":"+'GHG Balance'!L30*(1+Growth!$O35)","v":0},{"$f":"+'GHG Balance'!M30*(1+Growth!$O35)","v":0},{"$f":"+'GHG Balance'!N30*(1+Growth!$O35)","v":0},{"$f":"+'GHG Balance'!O30*(1+Growth!$O35)","v":0},0]
[null,"    Transport - rail",null,{"$f":"+'GHG Balance'!D31*(1+Growth!$O36)","v":0},{"$f":"+'GHG Balance'!E31*(1+Growth!$O36)","v":0},{"$f":"+'GHG Balance'!F31*(1+Growth!$O36)","v":0},{"$f":"+'GHG Balance'!G31*(1+Growth!$O36)","v":0},{"$f":"+'GHG Balance'!H31*(1+Growth!$O36)","v":0},{"$f":"+'GHG Balance'!I31*(1+Growth!$O36)","v":0},0,{"$f":"+'GHG Balance'!K31*(1+Growth!$O36)","v":0},{"$f":"+'GHG Balance'!L31*(1+Growth!$O36)","v":0},{"$f":"+'GHG Balance'!M31*(1+Growth!$O36)","v":0},{"$f":"+'GHG Balance'!N31*(1+Growth!$O36)","v":0},{"$f":"+'GHG Balance'!O31*(1+Growth!$O36)","v":0},0]
[null,"    Transport - domestic air",null,{"$f":"+'GHG Balance'!D32*(1+Growth!$O37)","v":0},{"$f":"+'GHG Balance'!E32*(1+Growth!$O37)","v":0},{"$f":"+'GHG Balance'!F32*(1+Growth!$O37)","v":0},{"$f":"+'GHG Balance'!G32*(1+Growth!$O37)","v":0},{"$f":"+'GHG Balance'!H32*(1+Growth!$O37)","v":0},{"$f":"+'GHG Balance'!I32*(1+Growth!$O37)","v":0},0,{"$f":"+'GHG Balance'!K32*(1+Growth!$O37)","v":0},{"$f":"+'GHG Balance'!L32*(1+Growth!$O37)","v":0},{"$f":"+'GHG Balance'!M32*(1+Growth!$O37)","v":0},{"$f":"+'GHG Balance'!N32*(1+Growth!$O37)","v":0},{"$f":"+'GHG Balance'!O32*(1+Growth!$O37)","v":0},0]
[null,"    Transport - navigation",null,{"$f":"+'GHG Balance'!D33*(1+Growth!$O38)","v":0},{"$f":"+'GHG Balance'!E33*(1+Growth!$O38)","v":0},{"$f":"+'GHG Balance'!F33*(1+Growth!$O38)","v":0},{"$f":"+'GHG Balance'!G33*(1+Growth!$O38)","v":0},{"$f":"+'GHG Balance'!H33*(1+Growth!$O38)","v":0},{"$f":"+'GHG Balance'!I33*(1+Growth!$O38)","v":0},0,{"$f":"+'GHG Balance'!K33*(1+Growth!$O38)","v":0},{"$f":"+'GHG Balance'!L33*(1+Growth!$O38)","v":0},{"$f":"+'GHG Balance'!M33*(1+Growth!$O38)","v":0},{"$f":"+'GHG Balance'!N33*(1+Growth!$O38)","v":0},{"$f":"+'GHG Balance'!O33*(1+Growth!$O38)","v":0},0]
[null,"    Households",null,{"$f":"+'GHG Balance'!D34*(1+Growth!$O42)","v":0},{"$f":"+'GHG Balance'!E34*(1+Growth!$O42)","v":0},{"$f":"+'GHG Balance'!F34*(1+Growth!$O42)","v":0},{"$f":"+'GHG Balance'!G34*(1+Growth!$O42)","v":0},{"$f":"+'GHG Balance'!H34*(1+Growth!$O42)","v":0},{"$f":"+'GHG Balance'!I34*(1+Growth!$O43)","v":0},0,{"$f":"+'GHG Balance'!K34*(1+Growth!$O42)","v":0},{"$f":"+'GHG Balance'!L34*(1+Growth!$O42)","v":0},{"$f":"+'GHG Balance'!M34*(1+Growth!$O42)","v":0},{"$f":"+'GHG Balance'!N34*(1+Growth!$O42)","v":0},{"$f":"+'GHG Balance'!O34*(1+Growth!$O42)","v":0},0]
[null,"    Services",null,{"$f":"+'GHG Balance'!D35*(1+Growth!$O46)","v":0},{"$f":"+'GHG Balance'!E35*(1+Growth!$O46)","v":0},{"$f":"+'GHG Balance'!F35*(1+Growth!$O46)","v":0},{"$f":"+'GHG Balance'!G35*(1+Growth!$O46)","v":0},{"$f":"+'GHG Balance'!H35*(1+Growth!$O46)","v":0},{"$f":"+'GHG Balance'!I35*(1+Growth!$O46)","v":0},0,{"$f":"+'GHG Balance'!K35*(1+Growth!$O46)","v":0},{"$f":"+'GHG Balance'!L35*(1+Growth!$O46)","v":0},{"$f":"+'GHG Balance'!M35*(1+Growth!$O46)","v":0},{"$f":"+'GHG Balance'!N35*(1+Growth!$O46)","v":0},{"$f":"+'GHG Balance'!O35*(1+Growth!$O46)","v":0},0]
[null,"    Agriculture & Fishery",null,{"$f":"+'GHG Balance'!D36*(1+Growth!$O49)","v":0},{"$f":"+'GHG Balance'!E36*(1+Growth!$O49)","v":0},{"$f":"+'GHG Balance'!F36*(1+Growth!$O49)","v":0},{"$f":"+'GHG Balance'!G36*(1+Growth!$O49)","v":0},{"$f":"+'GHG Balance'!H36*(1+Growth!$O49)","v":0},{"$f":"+'GHG Balance'!I36*(1+Growth!$O49)","v":0},0,{"$f":"+'GHG Balance'!K36*(1+Growth!$O49)","v":0},{"$f":"+'GHG Balance'!L36*(1+Growth!$O49)","v":0},{"$f":"+'GHG Balance'!M36*(1+Growth!$O49)","v":0},{"$f":"+'GHG Balance'!N36*(1+Growth!$O49)","v":0},{"$f":"+'GHG Balance'!O36*(1+Growth!$O49)","v":0},0]
[null,"    Non energy uses",null,{"$f":"+'GHG Balance'!D37*(1+Growth!$O74)","v":0},{"$f":"+'GHG Balance'!E37*(1+Growth!$O74)","v":0},{"$f":"+'GHG Balance'!F37*(1+Growth!$O74)","v":0},{"$f":"+'GHG Balance'!G37*(1+Growth!$O74)","v":0},{"$f":"+'GHG Balance'!H37*(1+Growth!$O74)","v":0},{"$f":"+'GHG Balance'!I37*(1+Growth!$O74)","v":0},0,{"$f":"+'GHG Balance'!K37*(1+Growth!$O74)","v":0},{"$f":"+'GHG Balance'!L37*(1+Growth!$O74)","v":0},{"$f":"+'GHG Balance'!M37*(1+Growth!$O74)","v":0},{"$f":"+'GHG Balance'!N37*(1+Growth!$O74)","v":0},{"$f":"+'GHG Balance'!O37*(1+Growth!$O74)","v":0},0]
[]
[null,"Emissions by sectors and by gases"]
[null,"Unit : ktCO2-equivalent",null,"CO2","CH4","N2O","Total GHG emissions"]
[null,"1. Energy",null,{"$f":"D389+D390","v":0},{"$f":"E389+E390","v":0},{"$f":"F389+F390","v":0},{"$f":"D388+E388+F388","v":0}]
[null,"1.A. Fuel combustion",null,{"$f":"P362","v":0},{"$f":"IF(P362=0,0,+'GHG Balance'!E$43*'BAU projected GHG Balances'!P364/'GHG Balance'!P$17)","v":0},{"$f":"IF(P362=0,0,+'GHG Balance'!F$43*'BAU projected GHG Balances'!P364/'GHG Balance'!P$17)","v":0},{"$f":"SUM(D389:F389)","v":0}]
[null,"1.B. Fugitive emissions from fuels",null,{"$f":"IF('GHG Balance'!M$15=0,0,'GHG Balance'!D$44*'BAU projected GHG Balances'!M362/'GHG Balance'!M$15)","v":0},{"$f":"IF('GHG Balance'!M$15=0,0,'GHG Balance'!E$44*'BAU projected GHG Balances'!M362/'GHG Balance'!M$15)","v":0},{"$f":"IF('GHG Balance'!M$15=0,0,'GHG Balance'!F$44*'BAU projected GHG Balances'!M362/'GHG Balance'!M$15)","v":0},{"$f":"SUM(D390:F390)","v":0}]
[null,"2.  Industrial processes and product use",null,{"$f":"SUM(D392:D396)","v":0},{"$f":"SUM(E392:E396)","v":0},0,0]
[null,"2.A.  Mineral industry",null,{"$f":"+'GHG Balance'!D$46*(1+Growth!$O$52)","v":0},{"$f":"+'GHG Balance'!E$46*(1+Growth!$O$52)","v":0},{"$f":"+'GHG Balance'!F$46*(1+Growth!$O$52)","v":0},0]
[null,"2.B.  Chemical industry",null,{"$f":"+'GHG Balance'!D$47*(1+Growth!$O$53)","v":0},{"$f":"+'GHG Balance'!E$47*(1+Growth!$O$53)","v":0},{"$f":"+'GHG Balance'!F$47*(1+Growth!$O$53)","v":0},0]
[null,"2.C.  Metal industry",null,{"$f":"+'GHG Balance'!D$48*(1+Growth!$O$54)","v":0},{"$f":"+'GHG Balance'!E$48*(1+Growth!$O$54)","v":0},{"$f":"+'GHG Balance'!F$48*(1+Growth!$O$54)","v":0},0]
[null,"2.F.  Product uses as ODS substitutes ",null,{"$f":"+'GHG Balance'!D$49*(1+Growth!$O$55)","v":0},{"$f":"+'GHG Balance'!E$49*(1+Growth!$O$55)","v":0},{"$f":"+'GHG Balance'!F$49*(1+Growth!$O$55)","v":0},0]
[null,"Other (2.D, 2.E, 2.G. 2.H)",null,{"$f":"+'GHG Balance'!D$50*(1+Growth!$O$56)","v":0},{"$f":"+'GHG Balance'!E$50*(1+Growth!$O$56)","v":0},{"$f":"+'GHG Balance'!F$50*(1+Growth!$O$56)","v":0},0]
[null,"3.  Agriculture",null,{"$f":"SUM(D398:D401)","v":0},{"$f":"SUM(E398:E401)","v":0},{"$f":"SUM(F398:F401)","v":0},0]
[null,"3.A.  Enteric fermentation",null,{"$f":"+'GHG Balance'!D$52*(1+Growth!$O$58)","v":0},{"$f":"+'GHG Balance'!E$52*(1+Growth!$O$58)","v":0},{"$f":"+'GHG Balance'!F$52*(1+Growth!$O$58)","v":0},0]
[null,"3.B.  Manure management",null,{"$f":"+'GHG Balance'!D$53*(1+Growth!$O$59)","v":0},{"$f":"+'GHG Balance'!E$53*(1+Growth!$O$59)","v":0},{"$f":"+'GHG Balance'!F$53*(1+Growth!$O$59)","v":0},0]
[null,"3.D.  Agricultural soils",null,{"$f":"+'GHG Balance'!D$54*(1+Growth!$O$60)","v":0},{"$f":"+'GHG Balance'!E$54*(1+Growth!$O$60)","v":0},{"$f":"+'GHG Balance'!F$54*(1+Growth!$O$60)","v":0},0]
[null,"   Other (3.C, 3.E-3.J)",null,{"$f":"+'GHG Balance'!D$55*(1+Growth!$O$61)","v":0},{"$f":"+'GHG Balance'!E$55*(1+Growth!$O$61)","v":0},{"$f":"+'GHG Balance'!F$55*(1+Growth!$O$61)","v":0},0]
[null,"4. Land use, land-use change and forestry",null,{"$f":"SUM(D403:D407)","v":0},{"$f":"SUM(E403:E407)","v":0},{"$f":"SUM(F403:F407)","v":0},0]
[null,"4.A. Forest land",null,{"$f":"+'GHG Balance'!D$57*(1+Growth!$O$63)","v":0},{"$f":"+'GHG Balance'!E$57*(1+Growth!$O$63)","v":0},{"$f":"+'GHG Balance'!F$57*(1+Growth!$O$63)","v":0},0]
[null,"4.B. Cropland",null,{"$f":"+'GHG Balance'!D$58*(1+Growth!$O$64)","v":0},{"$f":"+'GHG Balance'!E$58*(1+Growth!$O$64)","v":0},{"$f":"+'GHG Balance'!F$58*(1+Growth!$O$64)","v":0},0]
[null,"4.C. Grassland",null,{"$f":"+'GHG Balance'!D$59*(1+Growth!$O$65)","v":0},{"$f":"+'GHG Balance'!E$59*(1+Growth!$O$65)","v":0},{"$f":"+'GHG Balance'!F$59*(1+Growth!$O$65)","v":0},0]
[null,"4.G. Harvested wood products",null,{"$f":"+'GHG Balance'!D$60*(1+Growth!$O$66)","v":0},{"$f":"+'GHG Balance'!E$60*(1+Growth!$O$66)","v":0},{"$f":"+'GHG Balance'!F$60*(1+Growth!$O$66)","v":0},0]
[null,"Other (4.D, 4.E, 4.F, 4.H)",null,{"$f":"+'GHG Balance'!D$61*(1+Growth!$O$67)","v":0},{"$f":"+'GHG Balance'!E$61*(1+Growth!$O$67)","v":0},{"$f":"+'GHG Balance'!F$61*(1+Growth!$O$67)","v":0},0]
[null,"5.  Waste",null,{"$f":"SUM(D409:D412)","v":0},{"$f":"SUM(E409:E412)","v":0},{"$f":"SUM(F409:F412)","v":0},0]
[null,"5.A.  Solid waste disposal ",null,{"$f":"+'GHG Balance'!D$63*(1+Growth!$O$69)","v":0},{"$f":"+'GHG Balance'!E$63*(1+Growth!$O$69)","v":0},{"$f":"+'GHG Balance'!F$63*(1+Growth!$O$69)","v":0},0]
[null,"5.B.  Biological treatment of solid waste",null,{"$f":"+'GHG Balance'!D$64*(1+Growth!$O$70)","v":0},{"$f":"+'GHG Balance'!E$64*(1+Growth!$O$70)","v":0},{"$f":"+'GHG Balance'!F$64*(1+Growth!$O$70)","v":0},0]
[null,"5.D. Waste water treatment and discharge",null,{"$f":"+'GHG Balance'!D$65*(1+Growth!$O$71)","v":0},{"$f":"+'GHG Balance'!E$65*(1+Growth!$O$71)","v":0},{"$f":"+'GHG Balance'!F$65*(1+Growth!$O$71)","v":0},0]
[null,"Other (5.C, 5.E)",null,{"$f":"+'GHG Balance'!D$66*(1+Growth!$O$72)","v":0},{"$f":"+'GHG Balance'!E$66*(1+Growth!$O$72)","v":0},{"$f":"+'GHG Balance'!F$66*(1+Growth!$O$72)","v":0},0]
[null,"Total (including LULUCF)",null,{"$f":"D388+D391+D397+D402+D408","v":0},{"$f":"E388+E391+E397+E402+E408","v":0},{"$f":"F388+F391+F397+F402+F408","v":0},{"$f":"SUM(D413:F413)","v":0}]
[null,"Total (excluding LULUCF)",null,{"$f":"D413-D402","v":0},{"$f":"E413-E402","v":0},0,0]

{"sheet":"coordinates","index":9,"n_rows":13,"n_cols":26,"rows_kept":13,"cut":false,"hidden":true,"merged":[[0,8,0,10],[0,11,0,15],[0,16,0,20],[0,23,0,25],[0,1,0,3]]}
["xSum:","Sorted values (All values)",null,null,null,null,null,"xSum (included)","Sorted values (meeting thresholds)",null,null,"X-coordinates (reduction of CO2)",null,null,null,null,"Y-coordinates (Cost of reduction option)",null,null,null,null,null,null,"Options omitted from graph"]
[{"$f":"SUM(D3:D100)","v":246822.70149109038},"Reduction option","US$/tonCO2","Emission reduction in 2020 per option kt/year",null,null,null,{"$f":"SUM(K3:K100)","v":219330.67388464598},"Reduction option","US$/tonCO2","Emission reduction in 2020 per option kt/year","Point 1","Point 2","halfway","Point 3","Point 4","Point 1","Point 2","Point 3","halfway","Point 4",null,null,"Reduction option","US$/tonCO2","Emission reduction in 2020 per option kt/year"]
[null,"Hydro power connected to main grid",358.20337391064447,144229.91250000001,null,"count(included)",{"$f":"COUNTA(I3:I300)","v":8},null,"Hydro power connected to main grid",358.20337391064447,144229.91250000001,0,0,72114.956250000003,144229.91250000001,144229.91250000001,0,358.20337391064447,358.20337391064447,358.20337391064447,0,null,null,"20% Biodiesel blend in all  diesel",-341.38428078461817,25478.183748382304]
[null,"Wind turbines, on-shore",353.36321175438417,19420,null,"count(excluded)",{"$f":"COUNTA(X3:X300)","v":3},null,"Wind turbines, on-shore",353.36321175438417,19420,144229.91250000001,144229.91250000001,153939.91250000001,163649.91250000001,163649.91250000001,0,353.36321175438417,353.36321175438417,353.36321175438417,0,null,null,"15% Bioethanol blend in all gasoline",-438.25908438907754,2013.7800739215268]
[null,"Solar PVs, large grid",235.21646813494516,8860.375,null,null,null,null,"Solar PVs, large grid",235.21646813494516,8860.375,163649.91250000001,163649.91250000001,168080.1,172510.28750000001,172510.28750000001,0,235.21646813494516,235.21646813494516,235.21646813494516,0,null,null,"Efficient hotel washing machine ",-38248.887086086397,6.3784140573812431E-2]
[null,"New bicycle lanes",175.20776103567539,68.658271182439023,null,null,null,null,"New bicycle lanes",175.20776103567539,68.658271182439023,172510.28750000001,172510.28750000001,172544.61663559123,172578.94577118245,172578.94577118245,0,175.20776103567539,175.20776103567539,175.20776103567539,0]
[null,"Electric cars",64.336923922351488,753.31499999999971,null,null,null,null,"Electric cars",64.336923922351488,753.31499999999971,172578.94577118245,172578.94577118245,172955.60327118245,173332.26077118245,173332.26077118245,0,64.336923922351488,64.336923922351488,64.336923922351488,0]
[null,"Energy efficiency in industry",-0.94392925743255707,24884.9629674723,null,null,null,null,"Energy efficiency in industry",-0.94392925743255707,24884.9629674723,173332.26077118245,173332.26077118245,185774.74225491862,198217.22373865475,198217.22373865475,0,-0.94392925743255707,-0.94392925743255707,-0.94392925743255707,0]
[null,"Energy efficiency in service",-0.94392925743255718,8004.9501459912226,null,null,null,null,"Energy efficiency in service",-0.94392925743255718,8004.9501459912226,198217.22373865475,198217.22373865475,202219.69881165036,206222.17388464598,206222.17388464598,0,-0.94392925743255718,-0.94392925743255718,-0.94392925743255718,0]
[null,"Efficient electric grids",-145.2399599818103,13108.5,null,null,null,null,"Efficient electric grids",-145.2399599818103,13108.5,206222.17388464598,206222.17388464598,212776.42388464598,219330.67388464598,219330.67388464598,0,-145.2399599818103,-145.2399599818103,-145.2399599818103,0]
[null,"20% Biodiesel blend in all  diesel",-341.38428078461817,25478.183748382304]
[null,"15% Bioethanol blend in all gasoline",-438.25908438907754,2013.7800739215268]
[null,"Efficient hotel washing machine ",-38248.887086086368,6.3784140573812431E-2]

{"sheet":"Mitigation options","index":10,"n_rows":935,"n_cols":50,"rows_kept":935,"cut":false,"hidden":true,"merged":[[606,5,607,7],[606,8,606,10],[138,5,139,7],[138,8,138,10],[294,5,295,7],[294,8,294,10],[450,5,451,7],[450,8,450,10],[762,5,763,7],[762,8,762,10],[762,11,762,13],[918,5,919,7],[918,8,918,10],[918,11,918,13],[482,17,484,17],[482,18,484,18],[482,19,484,19],[606,11,606,13],[0,38,0,39],[450,11,450,13],[3,2,4,2],[13,17,13,19],[14,17,16,17],[14,18,16,18],[14,19,16,19],[8,2,9,2],[8,1,9,1],[11,1,12,1],[11,2,12,2],[138,11,138,13],[294,11,294,13]]}
[null,null,null,null,null,null,null,null,null,null,null,null,null,null,null,null,null,null,null,null,null,null,null,null,null,null,null,null,null,null,null,null,null,null,null,"Year:",2025,{"$f":"COUNTA(AL2:AL31)","v":25},2025,null,2030,null,2035,null,2050,null,2040,null,2045]
[null,"Step 7 - Selection of the mitigation options for year 2025, 2030, 2035, 2040, 2045 and 2050",null,null,null,null,null,null,null,null,null,null,null,null,null,null,null,null,null,null,null,null,null,null,null,null,null,null,null,null,null,null,null,null,null,null,"Selected","Select sector/type of emission reduction here","Start row","End row","Start row","End row","Start row","End row","Start row","End row","Start row","End row","Start row","End row"]
[null,null,null,null,null,null,null,null,null,null,null,null,null,null,null,null,null,null,null,null,null,null,null,null,null,null,null,null,null,null,null,null,null,null,null,{"$f":"AN3-AM3+1","v":7},1,"Agriculture",{"$f":"INDEX($A$18:$A$136,MATCH($AL3,$B$18:$B$136,0))","v":18},{"$f":"AM4-1","v":24},{"$f":"INDEX($A$174:$A$292,MATCH($AL3,$B$174:$B$292,0))","v":174},{"$f":"AO4-1","v":180},{"$f":"INDEX($A$330:$A$448,MATCH($AL3,$B$330:$B$448,0))","v":330},{"$f":"AQ4-1","v":336},{"$f":"INDEX($A$486:$A$604,MATCH($AL3,$B$486:$B$604,0))","v":486},{"$f":"AS4-1","v":492},{"$f":"INDEX($A$642:$A$760,MATCH($AL3,$B$642:$B$760,0))","v":642},{"$f":"AU4-1","v":648},{"$f":"INDEX($A$798:$A$916,MATCH($AL3,$B$798:$B$916,0))","v":798},{"$f":"AW4-1","v":804}]
[null,null,null,null,null,null,null,null,null,null,null,null,null,null,null,null,null,null,null,null,null,null,null,null,null,null,null,null,null,null,null,null,null,null,null,{"$f":"AN4-AM4+1","v":3},1,"Biomass energy",{"$f":"INDEX($A$18:$A$136,MATCH($AL4,$B$18:$B$136,0))","v":25},{"$f":"AM5-1","v":27},181,{"$f":"AO5-1","v":183},337,{"$f":"AQ5-1","v":339},{"$f":"INDEX($A$486:$A$604,MATCH($AL4,$B$486:$B$604,0))","v":493},495,649,{"$f":"AU5-1","v":651},805,{"$f":"AW5-1","v":807}]
[null,null,null,null,null,null,null,null,null,null,null,null,null,null,null,null,null,null,null,null,null,null,null,null,null,null,null,null,null,null,null,null,null,null,null,1,1,"CCS",28,{"$f":"AM6-1","v":28},184,184,340,{"$f":"AQ6-1","v":340},{"$f":"INDEX($A$486:$A$604,MATCH($AL5,$B$486:$B$604,0))","v":496},496,652,{"$f":"AU6-1","v":652},808,{"$f":"AW6-1","v":808}]
[null,null,null,null,null,null,null,null,null,null,null,null,null,null,null,null,null,null,null,null,null,null,null,null,null,null,null,null,null,null,null,null,null,null,null,1,1,"Cement",29,29,185,185,341,341,497,497,653,653,809,809]
[null,null,null,null,null,null,null,null,null,null,null,null,null,null,null,null,null,null,null,null,null,null,null,null,null,null,null,null,null,null,null,null,null,null,null,1,1,"Coal bed mine methane",30,30,186,186,342,342,498,498,654,654,810,810]
[null,null,null,null,null,null,null,null,null,null,null,null,null,null,null,null,null,null,null,null,null,null,null,null,null,null,null,null,null,null,null,null,null,null,null,11,1,"EE households",31,41,187,197,343,353,{"$f":"INDEX($A$486:$A$604,MATCH($AL8,$B$486:$B$604,0))","v":499},509,655,665,811,821]
[null,null,null,null,null,null,null,null,null,null,null,null,null,null,null,null,null,null,null,null,null,null,null,null,null,null,null,null,null,null,null,null,null,null,null,3,1,"EE industry",{"$f":"INDEX($A$18:$A$136,MATCH($AL9,$B$18:$B$136,0))","v":42},44,198,200,354,356,510,512,666,668,822,824]
[null,null,null,null,null,null,null,null,null,null,null,null,null,null,null,null,null,null,null,null,null,null,null,null,null,null,null,null,null,null,null,null,null,null,null,2,1,"EE own generation",45,46,201,202,357,358,513,514,669,670,825,826]
[null,null,null,null,null,null,null,null,null,null,null,null,null,null,null,null,null,null,null,null,null,null,null,null,null,null,null,null,null,null,null,null,null,null,null,14,1,"EE service",47,{"$f":"AM12-1","v":60},203,{"$f":"AO12-1","v":216},359,{"$f":"AQ12-1","v":372},515,{"$f":"AS12-1","v":528},671,{"$f":"AU12-1","v":684},827,{"$f":"AW12-1","v":840}]
[null,"Selected year:",2025,null,null,null,null,null,null,null,null,null,null,null,null,null,null,null,null,null,null,null,null,null,null,null,null,null,null,null,null,null,null,null,null,{"$f":"AN12-AM12+1","v":4},1,"EE supply side",{"$f":"INDEX($A$18:$A$136,MATCH($AL12,$B$18:$B$136,0))","v":61},64,217,220,373,376,529,{"$f":"AS13-1","v":532},685,{"$f":"AU13-1","v":688},841,{"$f":"AW13-1","v":844}]
[null,null,null,null,null,null,null,null,null,null,null,null,null,null,null,null,null,"How should this be used: DELETE!!!!!",null,null,null,null,null,null,null,null,null,null,null,null,null,null,null,null,null,5,1,"Energy distribution",65,69,221,225,377,381,533,{"$f":"AS14-1","v":537},689,693,845,849]
[null,"Total GHG mitigation in",{"$f":"+Assumptions!$C$9","v":0},null,null,null,null,null,null,null,null,null,null,null,null,null,null,"Sorted Values - according to revenue potential",null,null,null,null,null,null,null,null,null,null,null,null,null,null,null,null,null,5,1,"Forestry",70,74,226,230,382,{"$f":"AQ15-1","v":386},538,{"$f":"AS15-1","v":542},694,{"$f":"AU15-1","v":698},{"$f":"INDEX($A$798:$A$916,MATCH($AL14,$B$798:$B$916,0))","v":850},{"$f":"AW15-1","v":854}]
[null,null,null,null,null,"Emission","Investment","Annual","Units","Emission reduction in 2025",null,null,"Diesel","Gasoline","Electricity","Electricity",null,"Reduction option","US$/ktCO2 (Revenue)","Emission reduction in 2020 per option (ktCO2/yr)",null,null,null,null,null,null,null,null,null,null,null,null,null,null,null,2,1,"Fossil fuel switch",75,76,231,232,387,{"$f":"AQ16-1","v":388},543,544,699,{"$f":"AU16-1","v":700},855,{"$f":"AW16-1","v":856}]
[null,null,null,null,null,"reduction",null,"costs","penetrating","Per option","Added",null,"saved","saved","saved","produced",null,null,null,null,null,null,null,null,null,null,null,null,null,null,null,null,null,null,null,4,1,"Fugitive",77,80,233,236,389,392,545,548,701,704,857,860]
[null,"Type","Reduction option","US$/tCO2e","Sub-type unit","tCO2e/unit","Million US$","MUS$/year","in 2025","ktCO2e/year","ktCO2e/year","Frac.of total","ktoe","ktoe","GWh","GWh",null,null,null,null,null,null,null,null,null,null,null,null,null,null,null,null,null,null,null,2,1,"Geothermal",81,82,237,238,393,394,549,550,705,706,861,862]
[{"$f":"ROW(B18)","v":18},"Agriculture","Rice crop CH4 reduction",{"$f":"Agriculture!E30","v":1.2},"Rice crop CH4 red.(1000 ha)",{"$f":"Agriculture!E27","v":3421.6000000000004},{"$f":"Agriculture!$E$17*I18/1000000","v":0},{"$f":"Agriculture!$E$22*I18/1000000","v":0},null,{"$f":"F18*I18/1000","v":0},{"$f":"OFFSET(K18,-1,0)+J18","v":0},{"$f":"K18/TotalEmis2025","v":{"$error":"#DIV/0!"}},null,null,null,null,null,"Cogeneration in industry",846.94169522496975,22.257980312399994,null,null,null,null,null,null,null,null,null,null,null,null,null,null,null,1,1,"HFCs, PFCs, SF6",83,83,239,239,395,395,551,551,707,707,863,863]
[null,null,"Zero tillage",{"$f":"+Agriculture!E194","v":-157.6154964832983},"1000 ha",{"$f":"+Agriculture!E192","v":85.727053103999992},{"$f":"Agriculture!$E$182*I19/1000000","v":0},{"$f":"Agriculture!$E$187*I19/1000000","v":0},null,0,{"$f":"OFFSET(K19,-1,0)+J19","v":0},{"$error":"#DIV/0!"},null,null,null,null,null,"Efficient domestic lighting with LEDs",376.50264622351369,12.005988943488944,null,null,null,null,null,null,null,null,null,null,null,null,null,null,null,3,1,"Hydro",84,86,240,242,396,398,552,554,708,710,864,866]
[null,null,"Cover crops",{"$f":"+Agriculture!E89","v":81.040268456375827},"1000 ha",{"$f":"+Agriculture!E87","v":1490},{"$f":"Agriculture!$E$77*I20/1000000","v":0},{"$f":"Agriculture!$E$82*I20/1000000","v":0},null,0,{"$f":"OFFSET(K20,-1,0)+J20","v":0},{"$error":"#DIV/0!"},null,null,null,null,null,null,null,null,null,null,null,null,null,null,null,null,null,null,null,null,null,null,null,7,1,"Landfills",87,93,243,249,399,405,555,561,711,717,867,873]
[null,null,"Nitrification inhibitors (1000 ha)",{"$f":"+Agriculture!E117","v":67.689873417721515},"1000 ha",{"$f":"+Agriculture!E115","v":790},{"$f":"Agriculture!$E$105*I21/1000000","v":0},{"$f":"Agriculture!$E$110*I21/1000000","v":0},null,0,{"$f":"OFFSET(K21,-1,0)+J21","v":0},{"$error":"#DIV/0!"},null,null,null,null,null,null,null,null,null,null,null,null,null,null,null,null,null,null,null,null,null,null,null,2,1,"Marine",94,95,250,251,406,407,562,563,718,719,874,875]
[null,null,"Covering slurry stores (1 slurry store)",{"$f":"+Agriculture!E143","v":496.77098857426722},"1 slurry store",{"$f":"+Agriculture!E141","v":0.20130000000000001},{"$f":"Agriculture!$E$131*I22/1000000","v":0},{"$f":"Agriculture!$E$136*I22/1000000","v":0},null,0,0,{"$error":"#DIV/0!"},null,null,null,null,null,null,null,null,null,null,null,null,null,null,null,null,null,null,null,null,null,null,null,4,1,"Methane avoidance",96,99,252,255,408,411,564,567,720,723,876,879]
[null,null,"Fat supplementation in ruminants diets (%DM fat added) ",{"$f":"+Agriculture!E168","v":80.5},"%DM fat added",{"$f":"+Agriculture!E166","v":0},{"$f":"Agriculture!$E$156*I23/1000000","v":0},{"$f":"Agriculture!$N$161*I23/1000000","v":0},null,0,0,{"$error":"#DIV/0!"},null,null,null,null,null,null,null,null,null,null,null,null,null,null,null,null,null,null,null,null,null,null,null,1,1,"N2O",100,100,256,256,412,412,568,568,724,724,880,880]
[null,null,"Tobacco curing",{"$f":"+Agriculture!E62","v":-20.960693100011099},"100 t tobacco/yr",{"$f":"+Agriculture!E60","v":561.96940800000016},{"$f":"Agriculture!$E$50*I24/1000000","v":0},{"$f":"Agriculture!$E$55*I24/1000000","v":0},null,0,0,{"$error":"#DIV/0!"},null,null,null,null,null,"Efficient domestic lighting with LEDs",376.50264622351369,60.029944717444721,null,null,null,null,null,null,null,null,null,null,null,null,null,null,null,14,1,"Solar",101,114,257,270,413,426,569,582,725,738,881,894]
[{"$f":"ROW(B25)","v":25},"Biomass energy","Rice husk cogeneration plants",{"$f":"+'Biomass energy'!E24","v":127.59687237849138},"1 MW cogeneration",{"$f":"+'Biomass energy'!E22","v":5757.3447425999984},{"$f":"+'Biomass energy'!$E$12*I25/1000000","v":0},{"$f":"+'Biomass energy'!$E$17*I25/1000000","v":0},null,0,0,{"$error":"#DIV/0!"},null,null,null,{"$f":"+'Biomass energy'!$H$22/'Biomass energy'!$H$19*I25/1000","v":0},null,"Geothermal power",356.54297189567728,131.25,null,null,null,null,null,null,null,null,null,null,null,null,null,null,null,19,1,"Transport",115,133,271,289,427,445,583,601,739,757,895,913]
[null,null,"Biomass power from biomass residues ",{"$f":"+'Biomass energy'!E57","v":0},"1 MW CHP plant",{"$f":"+'Biomass energy'!E55","v":0},{"$f":"+'Biomass energy'!$E$45*I26/1000000","v":0},{"$f":"+'Biomass energy'!$E$50*I26/1000000","v":0},null,0,0,{"$error":"#DIV/0!"},null,null,null,{"$f":"+'Biomass energy'!$H$53*I26/1000","v":0},null,"Wind turbines, on-shore",351.70346418747732,48.437500000000007,null,null,null,null,null,null,null,null,null,null,null,null,null,null,null,3,1,"Wind",134,{"$f":"AM26+2","v":136},290,{"$f":"AO26+2","v":292},446,{"$f":"AQ26+2","v":448},602,{"$f":"AS26+2","v":604},758,{"$f":"AU26+2","v":760},914,{"$f":"AW26+2","v":916}]
[null,null,"Bagasse power",{"$f":"'Biomass energy'!E88","v":0},"100 kt sugar cane/year",{"$f":"'Biomass energy'!E86","v":0},{"$f":"'Biomass energy'!$E$76*I27/1000000","v":0},{"$f":"'Biomass energy'!$E$81*I27/1000000","v":0},null,0,0,{"$error":"#DIV/0!"},null,null,null,{"$f":"'Biomass energy'!$H$87/'Biomass energy'!$H$81*100*I27/1000","v":0},null,"Efficient residential airconditioning",343.0009209504687,84.334366286613474,null,null,null,null,null,null,null,null,null,null,null,null,null,null,null,{"$f":"SUM(AJ3:AJ26)","v":119}]
[{"$f":"ROW(B28)","v":28},"CCS","CCS plant",{"$f":"+CCS!E22","v":107.96190476190478},"1 MW",{"$f":"+CCS!E20","v":5412.3711340206182},{"$f":"CCS!$E$10*I28/1000000","v":0},{"$f":"CCS!$E$15*I28/1000000","v":0},null,0,0,{"$error":"#DIV/0!"},null,null,null,{"$f":"+CCS!H16/CCS!$H$13*I28/1000","v":0},null,"Efficient street lights",331.55292123150736,6.0534398034398036,null,null,null,null,null,null,null,null,null,null,null,null,null,null,null,null,null,null,null,null,null,null,null,null,null,"NB!! The end rows on the last Sector need to be adjusted manually!"]
[{"$f":"ROW(B29)","v":29},"Cement","Clinker replacement",{"$f":"+Cement!E23","v":-3.3289122068909709},"1000 tonnes cement/day",{"$f":"+Cement!E21","v":164175.34722087739},{"$f":"Cement!$E$10*I29/1000000","v":0},{"$f":"Cement!$E$16*I29/1000000","v":0},null,0,0,{"$error":"#DIV/0!"},null,null,null,null,null,"Efficient electric stoves",320.09690467746441,4.7911547911547911]
[{"$f":"ROW(B30)","v":30},"Coal bed mine methane","Coal mine methane",{"$f":"+'Coal bed mine methane'!E24","v":7.6156689322941142},"10 Mm3 CMM/year",{"$f":"+'Coal bed mine methane'!E22","v":33818.400000000001},{"$f":"+'Coal bed mine methane'!$E$12/1000000*I30","v":0},{"$f":"+'Coal bed mine methane'!$E$17/1000000*I30","v":0},null,0,0,{"$error":"#DIV/0!"},null,null,null,{"$f":"+'Coal bed mine methane'!$H$27/'Coal bed mine methane'!$H$22*10*I30/1000","v":0},null,"Solar PVs, large grid",298.30348054423251,76.376250000000013]
[{"$f":"ROW(B31)","v":31},"EE households","Efficient residential airconditioning",{"$f":"+'EE households'!E30","v":{"$error":"#DIV/0!"}},"1000 Airconditioners",{"$f":"+'EE households'!E28","v":{"$error":"#DIV/0!"}},{"$f":"+'EE households'!$E$18*I31/1000000","v":0},{"$f":"+'EE households'!$E$23*I31/1000000","v":0},null,{"$error":"#DIV/0!"},{"$error":"#DIV/0!"},{"$error":"#DIV/0!"},null,null,{"$f":"+'EE households'!$H$42*I31/1000","v":0},null,null,"Efficient refrigerators",259.14169143569569,26.366093366093363]
[null,null,"Efficient lighting with CFLs",{"$f":"+'EE households'!E64","v":{"$error":"#DIV/0!"}},"1000 Bulps",{"$f":"+'EE households'!E62","v":{"$error":"#DIV/0!"}},{"$f":"+'EE households'!$E$52*I32/1000000","v":0},{"$f":"+'EE households'!$E$57*I32/1000000","v":0},null,{"$error":"#DIV/0!"},{"$error":"#DIV/0!"},{"$error":"#DIV/0!"},null,null,{"$f":"'EE households'!$H$65*I32/1000","v":0},null,null,"Assisted forest regeneration",14.619934280835016,261.25]
[null,null,"Efficient lighting with LEDs",{"$f":"+'EE households'!E96","v":{"$error":"#DIV/0!"}},"1000 Bulps",{"$f":"+'EE households'!E94","v":{"$error":"#DIV/0!"}},{"$f":"+'EE households'!$E$84*I33/1000000","v":0},{"$f":"+'EE households'!$E$89*I33/1000000","v":0},null,{"$f":"F33*I33/1000","v":{"$error":"#DIV/0!"}},{"$error":"#DIV/0!"},{"$error":"#DIV/0!"},null,null,{"$f":"+'EE households'!$H$101*I33/1000","v":0},null,null,"Biogas at big farms",9.9447304779003396,28.095701492537316]
[null,null,"Efficient lighting with LEDs replacing CFL",{"$f":"+'EE households'!E122","v":{"$error":"#DIV/0!"}},"1000 Bulps",{"$f":"+'EE households'!E120","v":{"$error":"#DIV/0!"}},{"$f":"'EE households'!$E$110*I34/1000000","v":0},{"$f":"'EE households'!$E$115*I34/1000000","v":0},null,{"$f":"F34*I34/1000","v":{"$error":"#DIV/0!"}},{"$error":"#DIV/0!"},{"$error":"#DIV/0!"},null,null,{"$f":"+'EE households'!$H125*I34/1000","v":0}]
[null,null,"Efficient wood stoves",{"$f":"+'EE households'!E178","v":-939.80904939809022},"1000 stoves",{"$f":"+'EE households'!E176","v":1338.3333333333335},{"$f":"+'EE households'!$E$166*I35/1000000","v":0},{"$f":"+'EE households'!$E$171*I35/1000000","v":0},null,0,{"$error":"#DIV/0!"},{"$error":"#DIV/0!"},null,null,null,null,null,"Composting of Municipal Solid Waste",7.1766578192024264,7.271018999999999]
[null,null,"Efficient charcoal stoves",{"$f":"+'EE households'!E206","v":-71.000933997509335},"1000 stoves",{"$f":"+'EE households'!E204","v":292.91691871829062},{"$f":"+'EE households'!$E$194*I36/1000000","v":0},{"$f":"+'EE households'!$E$199*I36/1000000","v":0},null,0,{"$error":"#DIV/0!"},{"$error":"#DIV/0!"}]
[null,null,"LPG stoves replacing wood stoves",{"$f":"+'EE households'!E238","v":73.526386172475128},"1000 stoves",{"$f":"+'EE households'!E236","v":2054.9439166666671},{"$f":"'EE households'!$E$226*I37/1000000","v":0},{"$f":"'EE households'!$E$231*I37/1000000","v":0},null,0,{"$error":"#DIV/0!"},{"$error":"#DIV/0!"},null,null,null,null,null,"Biodiesel from MSW",0.13747288818502965,64.266900859929322]
[null,null,"Efficient electric stoves",{"$f":"+'EE households'!E267","v":{"$error":"#DIV/0!"}},"1000 stoves",{"$f":"+'EE households'!E265","v":{"$error":"#DIV/0!"}},{"$f":"'EE households'!$E$255*I38/1000000","v":0},{"$f":"'EE households'!$E$260*I38/1000000","v":0},null,{"$error":"#DIV/0!"},{"$error":"#DIV/0!"},{"$error":"#DIV/0!"},null,null,{"$f":"'EE households'!$H$274*I38/1000","v":0},null,null,"Biogas at rural farms",-1.2107375121073751,11.27412]
[null,null,"Induction based cooking",{"$f":"+'EE households'!E293","v":{"$error":"#DIV/0!"}},"1000 stoves",{"$f":"+'EE households'!E291","v":{"$error":"#DIV/0!"}},{"$f":"'EE households'!$E$281*I39/1000000","v":0},{"$f":"'EE households'!$E$286*I39/1000000","v":0},null,{"$error":"#DIV/0!"},{"$error":"#DIV/0!"},{"$error":"#DIV/0!"},null,null,{"$f":"'EE households'!$H$301*I39/1000","v":0}]
[null,null,"New passive home",{"$f":"+'EE households'!$E$321","v":{"$error":"#DIV/0!"}},"1000 new homes",{"$f":"+'EE households'!$E$319","v":{"$error":"#DIV/0!"}},{"$f":"'EE households'!$E$309*I40/1000000","v":0},{"$f":"+I40*'EE households'!$E$314/1000000","v":0},null,{"$error":"#DIV/0!"},{"$error":"#DIV/0!"},{"$error":"#DIV/0!"},null,null,{"$f":"'EE households'!$H$326*I40/1000","v":0}]
[null,null,"Efficient refrigerators",{"$f":"+'EE households'!E148","v":{"$error":"#DIV/0!"}},"1000 refrigerators",{"$f":"+'EE households'!E146","v":{"$error":"#DIV/0!"}},{"$f":"+'EE households'!$E$136*I41/1000000","v":0},{"$f":"+'EE households'!$E$141*I41/1000000","v":0},null,{"$error":"#DIV/0!"},{"$error":"#DIV/0!"},{"$error":"#DIV/0!"},null,null,{"$f":"+'EE households'!$H$159*I41/1000","v":0},null,null,"Charcoal production",-1.7335955431728083,21.150720720720727]
[{"$f":"ROW(B42)","v":42},"EE industry","Efficient electric motors",{"$f":"+'EE industry'!E25","v":{"$error":"#DIV/0!"}},"1 kW",{"$f":"+'EE industry'!E23","v":{"$error":"#DIV/0!"}},{"$f":"+'EE industry'!$E$13*I42/1000000","v":0},{"$f":"+'EE industry'!$E$18*I42/1000000","v":0},null,{"$error":"#DIV/0!"},{"$error":"#DIV/0!"},{"$error":"#DIV/0!"},null,null,{"$f":"I42*'EE industry'!$H$25/1000000","v":0},null,null,"Efficient wood stoves",-1.8120937773601851,206.41561111111119]
[null,null,"Energy efficiency in industry",{"$f":"+'EE industry'!E84","v":0},"10% red. of energy demand",{"$f":"+'EE industry'!E82","v":0},{"$f":"+'EE industry'!$E$72*I43/1000000","v":0},{"$f":"'EE industry'!$E$77*I43/1000000","v":0},null,0,{"$error":"#DIV/0!"},{"$error":"#DIV/0!"},null,null,null,null,null,"Clinker replacement",-12.670683878672387,111.93037021324331]
[null,null,"Building materials",{"$f":"+'EE industry'!E55","v":-19.573889817018777},"1 million bricks",{"$f":"+'EE industry'!E53","v":520.30000000000007},{"$f":"'EE industry'!$E$43*I44/1000000","v":0},{"$f":"'EE industry'!$E$48*I44/1000000","v":0},null,0,{"$error":"#DIV/0!"},{"$error":"#DIV/0!"},null,null,null,null,null,"LPG stoves replacing wood stoves",-30.548223216530872,353.75763500000005]
[{"$f":"ROW(B45)","v":45},"EE own generation","Waste heat recovery at cement plant",{"$f":"+'EE own generation'!E23","v":0},"1 Cement plant",{"$f":"+'EE own generation'!E21","v":0},{"$f":"+'EE own generation'!$E$11*I45/1000000","v":0},{"$f":"+'EE own generation'!$E$16*I45/1000000","v":0},null,{"$f":"F45*I45/1000","v":0},{"$error":"#DIV/0!"},{"$error":"#DIV/0!"},null,null,null,{"$f":"+'EE own generation'!$H$17*'Mitigation options'!I45/1000","v":0},null,"Efficient electric grids",-131.29270020402106,49]
[null,null,"Waste heat recovery at steel plant",{"$f":"+'EE own generation'!E53","v":0},"1 Steel plant",{"$f":"+'EE own generation'!E51","v":0},{"$f":"+'EE own generation'!$E$41*I46/1000000","v":0},{"$f":"+'EE own generation'!$E$46*I46/1000000","v":0},null,0,{"$error":"#DIV/0!"},{"$error":"#DIV/0!"},null,null,null,{"$f":"'EE own generation'!$H$46*'Mitigation options'!I46/1000","v":0},null,"Reforestation",-11574.114638994388,1.32]
[{"$f":"ROW(B47)","v":47},"EE service","Efficient electric motors",{"$f":"+'EE service'!E29","v":{"$error":"#DIV/0!"}},"1 kW",{"$f":"+'EE service'!E27","v":{"$error":"#DIV/0!"}},{"$f":"+'EE service'!$E$17*I47/1000000","v":0},{"$f":"+'EE service'!$E$22*I47/1000000","v":0},null,{"$error":"#DIV/0!"},{"$error":"#DIV/0!"},{"$error":"#DIV/0!"},null,null,{"$f":"I47*'EE service'!$H$29/1000000","v":0}]
[null,null,"Efficient office lighting with CFLs",{"$f":"+'EE service'!E57","v":{"$error":"#DIV/0!"}},"1000 lights",{"$f":"+'EE service'!E55","v":{"$error":"#DIV/0!"}},{"$f":"+'EE service'!$E$45*I48/1000000","v":0},{"$f":"+'EE service'!$E$50*I48/1000000","v":0},null,{"$error":"#DIV/0!"},{"$error":"#DIV/0!"},{"$error":"#DIV/0!"},null,null,{"$f":"+'EE service'!$H$57*I48/1000","v":0}]
[null,null,"Efficient office lighting with LEDs",{"$f":"+'EE service'!E89","v":{"$error":"#DIV/0!"}},"1000 lights",{"$f":"+'EE service'!E87","v":{"$error":"#DIV/0!"}},{"$f":"+'EE service'!$E$77*I49/1000000","v":0},{"$f":"+'EE service'!$E$82*I49/1000000","v":0},null,{"$f":"F49*I49/1000","v":{"$error":"#DIV/0!"}},{"$error":"#DIV/0!"},{"$error":"#DIV/0!"},null,null,{"$f":"+'EE service'!$H$89*I49/1000","v":0}]
[null,null,"Efficient street lights",{"$f":"+'EE service'!E123","v":{"$error":"#DIV/0!"}},"1000 lights",{"$f":"+'EE service'!E121","v":{"$error":"#DIV/0!"}},{"$f":"+'EE service'!$E$111*I50/1000000","v":0},{"$f":"+'EE service'!$E$116*I50/1000000","v":0},null,{"$error":"#DIV/0!"},{"$error":"#DIV/0!"},{"$error":"#DIV/0!"},null,null,{"$f":"+'EE service'!$H$136*I50/1000","v":0}]
[null,null,"Efficient water pumping",{"$f":"+'EE service'!E159","v":{"$error":"#DIV/0!"}},"4 Million m3 water",{"$f":"+'EE service'!E157","v":{"$error":"#DIV/0!"}},{"$f":"+'EE service'!$E$147*I51/1000000","v":0},{"$f":"+'EE service'!$E$152*I51/1000000","v":0},null,{"$error":"#DIV/0!"},{"$error":"#DIV/0!"},{"$error":"#DIV/0!"},null,null,{"$f":"+'EE service'!$H$158*I51","v":0}]
[null,null,"HVAC",{"$f":"+'EE service'!E248","v":0},"100,000 m2 floor area",{"$f":"+'EE service'!E246","v":0},{"$f":"'EE service'!$E$236*I52/1000000","v":0},{"$f":"'EE service'!$E$241*I52/1000000","v":0},null,0,{"$error":"#DIV/0!"},{"$error":"#DIV/0!"},null,null,{"$f":"+'EE service'!$H$254*I52/1000","v":0}]
[null,null,"Efficient Chiller > 300 TR",{"$f":"+'EE service'!E277","v":22.896661292960445},"1 TR",{"$f":"+'EE service'!E275","v":1.4266999999999999},{"$f":"'EE service'!$E$265*I53/1000000","v":0},{"$f":"'EE service'!$E$270*I53/1000000","v":0},null,{"$f":"F53*I53/1000","v":0},{"$error":"#DIV/0!"},{"$f":"+K53/TotalEmis2025","v":{"$error":"#DIV/0!"}},null,null,{"$f":"+'EE service'!$H$290*I53/1000000","v":0}]
[null,null,"Efficient Chiller < 300 TR",{"$f":"+'EE service'!E309","v":42.055092170743677},"1 TR",{"$f":"+'EE service'!E307","v":0.71334999999999993},{"$f":"'EE service'!$E$297*I54/1000000","v":0},{"$f":"'EE service'!$E$302*I54/1000000","v":0},null,0,{"$error":"#DIV/0!"},{"$error":"#DIV/0!"},null,null,{"$f":"+'EE service'!$H$321*I54/1000000","v":0}]
[null,null,"Efficient room airconditioner",{"$f":"+'EE service'!E341","v":{"$error":"#DIV/0!"}},"1 Airconditioner",{"$f":"+'EE service'!E339","v":{"$error":"#DIV/0!"}},{"$f":"'EE service'!$E$329*I55/1000000","v":0},{"$f":"'EE service'!$E$334*I55/1000000","v":0},null,{"$error":"#DIV/0!"},{"$error":"#DIV/0!"},{"$error":"#DIV/0!"},null,null,{"$f":"+'EE service'!$H$353*I55/1000000","v":0}]
[null,null,"Efficient commercial dishwashing machine ",{"$f":"+'EE service'!E374","v":0},"1000 meals/day",{"$f":"+'EE service'!E372","v":0},{"$f":"'EE service'!$E$362*I56/1000000","v":0},{"$f":"'EE service'!$E$367*I56/1000000","v":0},null,0,{"$error":"#DIV/0!"},{"$error":"#DIV/0!"},null,null,{"$f":"+'EE service'!$H$388*I56/1000000","v":0}]
[null,null,"Efficient hotel refrigerator",{"$f":"+'EE service'!E409","v":{"$error":"#DIV/0!"}},"1 refrigerator",{"$f":"+'EE service'!E407","v":{"$error":"#DIV/0!"}},{"$f":"'EE service'!$E$397*I57/1000000","v":0},{"$f":"'EE service'!$E$402*I57/1000000","v":0},null,{"$error":"#DIV/0!"},{"$error":"#DIV/0!"},{"$error":"#DIV/0!"},null,null,{"$f":"+'EE service'!$H$415*I57/1000000","v":0}]
[null,null,"Efficient hotel washing machine ",{"$f":"+'EE service'!E439","v":{"$error":"#DIV/0!"}},"1000 Guest Nights (GN)",{"$f":"+'EE service'!E437","v":{"$error":"#DIV/0!"}},{"$f":"'EE service'!$E$427*I58/1000000","v":0},{"$f":"'EE service'!$E$432*I58/1000000","v":0},null,{"$error":"#DIV/0!"},{"$error":"#DIV/0!"},{"$error":"#DIV/0!"},null,null,{"$f":"+'EE service'!$H$459*I58/1000000","v":0}]
[null,null,"Energy efficiency in service",{"$f":"+'EE service'!E223","v":0},"10% red. of energy demand",{"$f":"+'EE service'!E221","v":0},{"$f":"'EE service'!$E$211*I59/1000000","v":0},{"$f":"'EE service'!$E$216*I59/1000000","v":0},null,{"$f":"F59*I59/1000","v":0},{"$error":"#DIV/0!"},{"$f":"K59/TotalEmis2025","v":{"$error":"#DIV/0!"}}]
[null,null,"New office building with central cooling",{"$f":"+'EE service'!E188","v":{"$error":"#DIV/0!"}},"1000 m2",{"$f":"+'EE service'!E186","v":{"$error":"#DIV/0!"}},{"$f":"+'EE service'!$E$176*I60/1000000","v":0},{"$f":"+'EE service'!$E$181*I60/1000000","v":0},null,{"$f":"(F60*I60)/1000","v":{"$error":"#DIV/0!"}},{"$f":"OFFSET(K60,-1,0,1,1)+J60","v":{"$error":"#DIV/0!"}},{"$error":"#DIV/0!"},null,null,{"$f":"+'EE service'!$H$201*I60*1000/1000","v":0}]
[{"$f":"ROW(B61)","v":61},"EE supply side","New natural gas power plant",{"$f":"'EE supply side'!E25","v":-80.713482089291574},"1 MW",{"$f":"+'EE supply side'!E23","v":-2754},{"$f":"+'EE supply side'!$E$13/1000000*I61","v":0},{"$f":"+'EE supply side'!$E$18/1000000*I61","v":0},null,{"$f":"(F61*I61)/1000","v":0},{"$error":"#DIV/0!"},{"$f":"K61/TotalEmis2025","v":{"$error":"#DIV/0!"}}]
[null,null,"Switch from fuel oil to natural gas",{"$f":"'EE supply side'!E172","v":-339.53206503966459},"1 MW",{"$f":"+'EE supply side'!E170","v":1454.3571428571436},{"$f":"+'EE supply side'!$E$160/1000000*I62","v":0},{"$f":"+'EE supply side'!$E$165/1000000*I62","v":0},null,0,{"$error":"#DIV/0!"},{"$error":"#DIV/0!"}]
[null,null,"Cogeneration in industry",{"$f":"+'EE supply side'!E113","v":-57.542861861768735},"1 MW",{"$f":"+'EE supply side'!E111","v":-6633.0554875199996},{"$f":"+'EE supply side'!$E$102*I63/1000000","v":0},{"$f":"+'EE supply side'!$E$106*I63/1000000","v":0},null,0,{"$error":"#DIV/0!"},{"$error":"#DIV/0!"},null,null,{"$f":"+'EE supply side'!$H$112*I63/1000","v":0}]
[null,null,"Single cycle to combined cycle",{"$f":"+'EE supply side'!E83","v":0},"100 MW increase",{"$f":"+'EE supply side'!E81","v":0},{"$f":"'EE supply side'!$E$72*I64/1000000","v":0},{"$f":"'EE supply side'!$E$76*I64/1000000","v":0},null,0,{"$error":"#DIV/0!"},{"$error":"#DIV/0!"},null,null,{"$f":"+'EE supply side'!$H$91*I64/1000","v":0}]
[{"$f":"ROW(B65)","v":65},"Energy distribution","Efficient electric grids",{"$f":"+'Energy distribution'!E26","v":0},"1 GWh loss reduction",{"$f":"+'Energy distribution'!E24","v":0},{"$f":"+'Energy distribution'!$E$14*I65/1000000","v":0},{"$f":"+'Energy distribution'!$E$19*I65/1000000","v":0},null,0,{"$error":"#DIV/0!"},{"$error":"#DIV/0!"},null,null,{"$f":"+I67*'Energy distribution'!$H$22","v":{"$error":"#DIV/0!"}}]
[null,null,"Connection of isolated grid to central grid ",{"$f":"+'Energy distribution'!E55","v":0},"1 GWh consumption",{"$f":"+'Energy distribution'!E53","v":0},{"$f":"+'Energy distribution'!$E$43*I66/1000000","v":0},{"$f":"+'Energy distribution'!$E$48*I66/1000000","v":0},null,0,{"$error":"#DIV/0!"},{"$error":"#DIV/0!"}]
[null,null,"Power factor increase",{"$f":"+'Energy distribution'!E85","v":0},"1000 commerce/industry buildings",{"$f":"+'Energy distribution'!E83","v":0},{"$f":"'Energy distribution'!$E$73*I67/1000000","v":0},{"$f":"'Energy distribution'!$E$78*I67/1000000","v":0},null,0,{"$error":"#DIV/0!"},{"$error":"#DIV/0!"},null,null,{"$f":"I69*'Energy distribution'!$H$92","v":0}]
[null,null,"District heating network rehabilitation (100,000 flats supplied)",{"$f":"+'Energy distribution'!E114","v":-158.05408627123262},"100,000 flats supplied",{"$f":"+'Energy distribution'!E112","v":33649.053412333342},{"$f":"'Energy distribution'!$E$101*I68/1000000","v":0},{"$f":"'Energy distribution'!$E$107*I68/1000000","v":0},null,0,{"$error":"#DIV/0!"},{"$f":"+K68/TotalEmis2025","v":{"$error":"#DIV/0!"}}]
[null,null,"District cooling network (1 million m2 new city area covered)",{"$f":"+'Energy distribution'!E153","v":-189.15402700930974},"1 million m2 new city area covered",{"$f":"+'Energy distribution'!E151","v":13725.623132042594},{"$f":"'Energy distribution'!$E$141*I69/1000000","v":0},{"$f":"'Energy distribution'!$E$146*I69/1000000","v":0},null,0,{"$error":"#DIV/0!"},{"$f":"+K69/TotalEmis2025","v":{"$error":"#DIV/0!"}}]
[{"$f":"ROW(B70)","v":70},"Forestry","Reforestation",{"$f":"+Forestry!E28","v":8.1818181818181817},"Reforestation of 1000 ha",{"$f":"Forestry!E26","v":3666.666666666667},{"$f":"Forestry!$E$15*I70/1000000","v":0},{"$f":"Forestry!$E$21/1000000*I70","v":0},null,0,{"$error":"#DIV/0!"},{"$f":"K70/TotalEmis2025","v":{"$error":"#DIV/0!"}}]
[null,null,"REDD: Avoided deforestation",{"$f":"+Forestry!E56","v":-5.5},"No deforestation for 1000 ha",{"$f":"Forestry!E54","v":3666.666666666667},{"$f":"Forestry!$E$44*I71/1000000","v":0},{"$f":"Forestry!$E$49/1000000*I71","v":0},null,0,{"$error":"#DIV/0!"},{"$error":"#DIV/0!"}]
[null,null,"Assisted forest regeneration",{"$f":"Forestry!E84","v":-2.0454545454545454},"Reforestation of 1000 ha",{"$f":"Forestry!E82","v":3666.666666666667},{"$f":"Forestry!$E$72/1000000*I72","v":0},{"$f":"Forestry!$E$77/1000000*I72","v":0},null,0,{"$error":"#DIV/0!"},{"$error":"#DIV/0!"}]
[null,null,"Reforestation with agroforestry",{"$f":"Forestry!E113","v":-0.27272727272727271},"Reforestation of 1000 ha",{"$f":"Forestry!E111","v":3666.666666666667},{"$f":"Forestry!$E$100/1000000*I73","v":0},{"$f":"Forestry!$E$106/1000000*I73","v":0},null,0,{"$error":"#DIV/0!"},{"$error":"#DIV/0!"}]
[null,null,"Reforestation with Silvopasture",{"$f":"Forestry!E143","v":-0.27272727272727271},"Reforestation of 1000 ha",{"$f":"Forestry!E141","v":3666.666666666667},{"$f":"Forestry!$E$130/1000000*I74","v":0},{"$f":"Forestry!$E$136/1000000*I74","v":0},null,0,{"$error":"#DIV/0!"},{"$error":"#DIV/0!"}]
[{"$f":"ROW(B75)","v":75},"Fossil fuel switch","Switch from coal to natural gas in industry",{"$f":"+'Fossil fuel switch'!E24","v":29.648354344806059},"100 TJ fuel use/year",{"$f":"+'Fossil fuel switch'!E22","v":3850},{"$f":"'Fossil fuel switch'!$E$12/1000000*I75","v":0},{"$f":"'Fossil fuel switch'!$E$17/1000000*I75","v":0},null,0,{"$error":"#DIV/0!"},{"$error":"#DIV/0!"}]
[null,null,"Switch from fuel oil to natural gas in industry",{"$f":"'Fossil fuel switch'!E53","v":-136.87543961201254},"100 TJ fuel use/year",{"$f":"'Fossil fuel switch'!E51","v":2126.6666666666679},{"$f":"'Fossil fuel switch'!$E$41/1000000*I76","v":0},{"$f":"'Fossil fuel switch'!$E$46/1000000*I76","v":0},null,0,{"$error":"#DIV/0!"},{"$error":"#DIV/0!"}]
[{"$f":"ROW(B77)","v":77},"Fugitive","Reduced flaring at oil field",{"$f":"+Fugitive!E25","v":-11.666162152975813},"1 MMSCF/day",{"$f":"+Fugitive!E23","v":22613.499908999998},{"$f":"+Fugitive!$E$13*I77/1000000","v":0},{"$f":"+Fugitive!$E$18*I77/1000000","v":0},null,0,{"$error":"#DIV/0!"},{"$error":"#DIV/0!"}]
[null,null,"Reduced flaring at oil refineries",{"$f":"+Fugitive!E54","v":159.98532895280397},"1 MMSCF/day",{"$f":"+Fugitive!E52","v":20797.217999999997},{"$f":"+Fugitive!$E$42*I78/1000000","v":0},{"$f":"+Fugitive!$E$47*I78/1000000","v":0},null,0,{"$error":"#DIV/0!"},{"$error":"#DIV/0!"}]
[null,null,"Leak reduction in natural gas pipelines",{"$f":"Fugitive!E81","v":-4.7340603277169917},"1 Mm3 CH/year leaking",{"$f":"+Fugitive!E79","v":20104.000000000004},{"$f":"Fugitive!$E$69*I79/1000000","v":0},{"$f":"Fugitive!$E$74*I79/1000000","v":0},null,0,{"$error":"#DIV/0!"},{"$error":"#DIV/0!"}]
[null,null,"Charcoal production",{"$f":"+Fugitive!E108","v":0.76723985653613069},"100,000 ton charcoal/yr",{"$f":"+Fugitive!E106","v":156404.80480480485},{"$f":"Fugitive!$E$97*I80/1000000","v":0},{"$f":"Fugitive!$E$101*I80/1000000","v":0},null,0,{"$error":"#DIV/0!"},{"$error":"#DIV/0!"}]
[{"$f":"ROW(B81)","v":81},"Geothermal","Geothermal power",{"$f":"+Geothermal!E22","v":0},"1 MW",{"$f":"+Geothermal!E20","v":0},{"$f":"+Geothermal!$E$10*I81/1000000","v":0},{"$f":"+Geothermal!$E$15*I81/1000000","v":0},null,0,{"$error":"#DIV/0!"},{"$error":"#DIV/0!"},null,null,null,{"$f":"+Geothermal!$H$18*I83/1000","v":0}]
[null,null,"Geothermal heat",{"$f":"+Geothermal!E50","v":-12.72414473942839},"1000 m2 heated area",{"$f":"+Geothermal!E48","v":17.056285714285721},{"$f":"Geothermal!$E$38*I82/1000000","v":0},{"$f":"Geothermal!$E$43*I82/1000000","v":0},null,0,{"$error":"#DIV/0!"},{"$error":"#DIV/0!"}]
[{"$f":"ROW(B83)","v":83},"HFCs, PFCs, SF6","Reduced PFCs from aluminum production",{"$f":"+'HFCs, PFCs, SF6'!E22","v":-3.4084892300915444E-2},"100,000 ton Aluminium/yr",{"$f":"+'HFCs, PFCs, SF6'!E20","v":-64696},{"$f":"+'HFCs, PFCs, SF6'!$E$10*I83/1000000","v":0},{"$f":"+'HFCs, PFCs, SF6'!$E$15*I83/1000000","v":0},null,0,{"$error":"#DIV/0!"},{"$error":"#DIV/0!"}]
[{"$f":"ROW(B84)","v":84},"Hydro","Hydro power connected to main grid",{"$f":"+Hydro!E25","v":0},"1 MW",{"$f":"+Hydro!E23","v":0},{"$f":"+Hydro!$E$13*I84/1000000","v":0},{"$f":"+Hydro!$E$18*I84/1000000","v":0},null,0,{"$error":"#DIV/0!"},{"$error":"#DIV/0!"},null,null,null,{"$f":"+Hydro!$H$21*I86/1000","v":0}]
[null,null,"Mini hydro power connected to main grid",{"$f":"+Hydro!E54","v":0},"1 MW",{"$f":"+Hydro!E52","v":0},{"$f":"+Hydro!$E$42*I85/1000000","v":0},{"$f":"+Hydro!$E$47*I85/1000000","v":0},null,0,{"$error":"#DIV/0!"},{"$error":"#DIV/0!"},null,null,null,{"$f":"Hydro!$H$50/Hydro!$H$47*I87/1000","v":0}]
[null,null,"Mini hydro power off grid",{"$f":"+Hydro!E83","v":-71.909842771818788},"1 MW",{"$f":"+Hydro!E81","v":3231.9999999999995},{"$f":"+Hydro!$E$71*I86/1000000","v":0},{"$f":"Hydro!$E$76*I86/1000000","v":0},null,0,{"$error":"#DIV/0!"},{"$error":"#DIV/0!"},null,null,null,{"$f":"Hydro!$H$77/Hydro!$H$74*I88/1000","v":0}]
[{"$f":"ROW(B87)","v":87},"Landfills","Landfill gas plant with power production",{"$f":"Landfills!E27","v":4.9007373033746724},"200 t/day plant",{"$f":"Landfills!E25","v":165886.95200000002},{"$f":"+Landfills!$E$15*I87/1000000","v":0},{"$f":"+Landfills!$E$20*I87/1000000","v":0},null,0,{"$error":"#DIV/0!"},{"$error":"#DIV/0!"},null,null,null,{"$f":"+Landfills!$H$36*I89/1000","v":0}]
[null,null,"Landfill gas flaring",{"$f":"+Landfills!E118","v":476.51498863888366},"1 t/day plant",{"$f":"+Landfills!E116","v":165886.95200000002},{"$f":"+Landfills!$E$106*I88/1000000","v":0},{"$f":"Landfills!$E$111*I88/1000000","v":0},null,0,{"$error":"#DIV/0!"},{"$error":"#DIV/0!"}]
[null,null,"Incineration plant",{"$f":"+Landfills!E91","v":46.439980403039769},"200 t/day plant",{"$f":"Landfills!E89","v":124415.21400000001},{"$f":"Landfills!$E$79*I89/1000000","v":0},{"$f":"Landfills!$E$84*I89/1000000","v":0},null,0,{"$error":"#DIV/0!"},{"$error":"#DIV/0!"}]
[null,null,"Recycling of plastics",{"$f":"+Landfills!E197","v":-255.84635716143856},"1000 t MSW/year plant",{"$f":"Landfills!E195","v":833.25},{"$f":"Landfills!$E$184*I90/1000000","v":0},{"$f":"Landfills!$E$190*I90/1000000","v":0},null,0,{"$error":"#DIV/0!"},{"$error":"#DIV/0!"}]
[null,null,"Refuce Derived Fuel (RDF) from MSW",{"$f":"+Landfills!E171","v":51.693454591314826},"200 t/day plant",{"$f":"Landfills!E169","v":20389.428571428572},{"$f":"Landfills!$E$159*I91/1000000","v":0},{"$f":"Landfills!$E$164*I91/1000000","v":0},null,0,{"$error":"#DIV/0!"},{"$error":"#DIV/0!"}]
[null,null,"Biogas from Municipal Solid Waste",{"$f":"+Landfills!E146","v":0.11077632045373981},"1000 t/year plant",{"$f":"+Landfills!E144","v":16248.960000000001},{"$f":"+Landfills!$E$134*I92/1000000","v":0},{"$f":"Landfills!$E$139*I92/1000000","v":0},null,0,{"$error":"#DIV/0!"},{"$error":"#DIV/0!"}]
[null,null,"Composting of Municipal Solid Waste",{"$f":"+Landfills!E63","v":-0.10545358888876404},"1000 t/day plant",{"$f":"+Landfills!E61","v":5515709.472000001},{"$f":"+Landfills!$E$50*I93/1000000","v":0},{"$f":"+Landfills!$E$56*I93/1000000","v":0},null,0,{"$error":"#DIV/0!"},{"$error":"#DIV/0!"}]
[{"$f":"ROW(B94)","v":94},"Marine","Tidal",{"$f":"Marine!E22","v":0},"1 MW of tidal power",{"$f":"Marine!E20","v":0},{"$f":"Marine!$E$10*I94/1000000","v":0},{"$f":"Marine!$E$15*I94/1000000","v":0},null,0,{"$error":"#DIV/0!"},{"$error":"#DIV/0!"},null,null,null,{"$f":"+Marine!$H$18*I96/1000","v":0}]
[null,null,"Wave",{"$f":"Marine!E47","v":0},"1 MW of wave power",{"$f":"Marine!E45","v":0},{"$f":"Marine!$E$35*I95/1000000","v":0},{"$f":"Marine!$E$40*I95/1000000","v":0},null,0,{"$error":"#DIV/0!"},{"$error":"#DIV/0!"},null,null,null,{"$f":"+Marine!$H$43*I97/1000","v":0}]
[{"$f":"ROW(B96)","v":96},"Methane avoidance","Biogas at rural farms using kerosene",{"$f":"+'Methane avoidance'!E24","v":-160.8114705432757},"1000 units",{"$f":"+'Methane avoidance'!E22","v":1227.6264000000001},{"$f":"+'Methane avoidance'!$E$12*I96/1000000","v":0},{"$f":"+'Methane avoidance'!$E$17*I96/1000000","v":0},null,0,{"$error":"#DIV/0!"},{"$error":"#DIV/0!"}]
[null,null,"Biogas at rural farms using non-renewable fuelwood",{"$f":"+'Methane avoidance'!E51","v":1.2107375121073751},"1000 units",{"$f":"+'Methane avoidance'!E49","v":11274.12},{"$f":"+'Methane avoidance'!$E$39*I97/1000000","v":0},{"$f":"+'Methane avoidance'!$E$44*I97/1000000","v":0},null,0,{"$error":"#DIV/0!"},{"$error":"#DIV/0!"}]
[null,null,"Biogas at pig farms",{"$f":"+'Methane avoidance'!E78","v":6.9197562715191454},"84000 pigs",{"$f":"+'Methane avoidance'!E76","v":88480},{"$f":"'Methane avoidance'!$E$66*I98/1000000","v":0},{"$f":"'Methane avoidance'!$E$71*I98/1000000","v":0},null,0,{"$error":"#DIV/0!"},{"$error":"#DIV/0!"},null,null,null,{"$f":"+'Methane avoidance'!$H$80*I100/1000","v":0}]
[null,null,"Biogas from industrial waste water ",{"$f":"+'Methane avoidance'!E106","v":28.620352250489237},"1 plant",{"$f":"+'Methane avoidance'!E104","v":15624},{"$f":"+'Methane avoidance'!$E$94*I99/1000000","v":0},{"$f":"+'Methane avoidance'!$E$99*I99/1000000","v":0},null,0,{"$error":"#DIV/0!"},{"$error":"#DIV/0!"}]
[{"$f":"ROW(B100)","v":100},"N2O","Nitric acid plant (N2O destruction)",{"$f":"+N2O!E21","v":1.1954749909658409},"100 ton HNO3/day",{"$f":"+N2O!E19","v":59002.25},{"$f":"+N2O!$E$10*I100/1000000","v":0},{"$f":"N2O!$E$14*I100/1000000","v":0},null,0,{"$error":"#DIV/0!"},{"$error":"#DIV/0!"}]
[{"$f":"ROW(B101)","v":101},"Solar","PV pump replacing electric pump",{"$f":"Solar!E361","v":0},"1 pump",{"$f":"+Solar!E359","v":0},{"$f":"Solar!$E$349*I101/1000000","v":0},{"$f":"+Solar!$E$354*I101/1000000","v":0},null,{"$f":"F101*I101/1000","v":0},{"$f":"OFFSET(K101,-1,0)+J101","v":{"$error":"#DIV/0!"}},{"$error":"#DIV/0!"},null,null,{"$f":"(+Solar!$H$369*I101)/1000000","v":0}]
[null,null,"PV pump replacing diesel pump",{"$f":"Solar!E389","v":-139.91618112414818},"1 pump",{"$f":"+Solar!E387","v":12.699954539999998},{"$f":"Solar!$E$377*I102/1000000","v":0},{"$f":"+Solar!$E$382*I102/1000000","v":0},null,{"$f":"F102*I102/1000","v":0},{"$f":"OFFSET(K102,-1,0)+J102","v":{"$error":"#DIV/0!"}},{"$error":"#DIV/0!"},{"$f":"J102/3.1","v":0}]
[null,null,"Solar water heater, residential",{"$f":"Solar!E33","v":0},"1000 units",{"$f":"Solar!E31","v":0},{"$f":"+Solar!$E$21*I103/1000000","v":0},{"$f":"+Solar!$E$26*I103/1000000","v":0},null,{"$f":"F103*I103/1000","v":0},{"$f":"OFFSET(K103,-1,0)+J103","v":{"$error":"#DIV/0!"}},{"$f":"K103/TotalEmis2025","v":{"$error":"#DIV/0!"}},null,null,{"$f":"+Solar!$H$39*I103/1000000","v":0}]
[null,null,"Solar water heater, large",{"$f":"+Solar!E60","v":0},"1 unit",{"$f":"+Solar!E58","v":0},{"$f":"+Solar!$E$48*I104/1000000","v":0},{"$f":"+Solar!$E$53*I104/1000000","v":0},null,{"$f":"(F104*I104)/1000","v":0},{"$f":"OFFSET(K104,-1,0,1,1)+J104","v":{"$error":"#DIV/0!"}},{"$error":"#DIV/0!"},null,null,{"$f":"+Solar!$H$68*I104/1000000","v":0}]
[null,null,"Solar PVs, large grid",{"$f":"Solar!E90","v":0},"1 MW",{"$f":"Solar!E88","v":0},{"$f":"+Solar!$E$78*I105/1000000","v":0},{"$f":"+Solar!$E$83*I105/1000000","v":0},null,{"$f":"(F105*I105)/1000","v":0},{"$error":"#DIV/0!"},{"$error":"#DIV/0!"},null,null,null,{"$f":"+Solar!$H$88*I105/1000","v":0}]
[null,null,"Solar PVs, large grid with 24h storage",{"$f":"Solar!E114","v":0},"1 MW",{"$f":"Solar!E112","v":0},{"$f":"+Solar!$E$102*I106/1000000","v":0},{"$f":"+Solar!$E$107*I106/1000000","v":0},null,{"$f":"(F106*I106)/1000","v":0},{"$error":"#DIV/0!"},{"$f":"+K106/TotalEmis2025","v":{"$error":"#DIV/0!"}},null,null,null,{"$f":"+Solar!$H$112*I106/1000","v":0}]
[null,null,"Solar house PVs",{"$f":"+Solar!E139","v":0},"500 W",{"$f":"+Solar!E137","v":0},{"$f":"+Solar!$E$127*I107/1000000","v":0},{"$f":"+Solar!$E$132*I107/1000000","v":0},null,0,{"$error":"#DIV/0!"},{"$f":"+K107/TotalEmis2020","v":{"$error":"#DIV/0!"}},null,null,null,{"$f":"+Solar!$H138*I107/1000","v":0}]
[null,null,"Solar cottage PVs",{"$f":"+Solar!E166","v":0},"50 W",{"$f":"+Solar!E164","v":0},{"$f":"+Solar!$E$154*I108/1000000","v":0},{"$f":"+Solar!$E$159*I108/1000000","v":0},null,0,{"$error":"#DIV/0!"},{"$f":"K108/TotalEmis2025","v":{"$error":"#DIV/0!"}},null,null,null,{"$f":"+Solar!$H$169*I108/1000","v":0}]
[null,null,"Solar/diesel mini-grid",{"$f":"+Solar!E191","v":49.644079804749254},"40 kW from solar",{"$f":"+Solar!E189","v":58.400000000000006},{"$f":"+Solar!$E$179*I109/1000000","v":0},{"$f":"Solar!$E$184*I109/1000000","v":0},null,{"$f":"(F109*I109)/1000","v":0},{"$error":"#DIV/0!"},{"$error":"#DIV/0!"},null,null,null,{"$f":"+Solar!$H$196*I109/1000","v":0}]
[null,null,"Solar LED lamps",{"$f":"+Solar!E303","v":-130.33365170942039},"1000 lamps",{"$f":"+Solar!E301","v":93.908173333333366},{"$f":"Solar!$E$291*I110/1000000","v":0},{"$f":"Solar!$E$296*I110/1000000","v":0},null,{"$f":"(F110*I110)/1000","v":0},{"$error":"#DIV/0!"},{"$error":"#DIV/0!"}]
[null,null,"Solar PVs, small isolated grid, 100% solar",{"$f":"+Solar!E219","v":249.72792998477931},"2 MW",{"$f":"+Solar!E217","v":2628},{"$f":"+Solar!$E$207*I111/1000000","v":0},{"$f":"+Solar!$E$212*I111/1000000","v":0},null,{"$f":"(F111*I111)/1000","v":0},{"$error":"#DIV/0!"},{"$error":"#DIV/0!"},null,null,null,{"$f":"+Solar!$H$222*I111/1000","v":0}]
[null,null,"Solar street lights",{"$f":"+Solar!E330","v":0},"1000 locations  (0.05 MW)",{"$f":"+Solar!E328","v":0},{"$f":"+Solar!$E$318*I112/1000000","v":0},{"$f":"+Solar!$E$323*I112/1000000","v":0},null,{"$f":"(F112*I112)/1000","v":0},{"$error":"#DIV/0!"},{"$error":"#DIV/0!"},null,null,null,{"$f":"+Solar!$H$341*I112/1000","v":0}]
[null,null,"Parabolic through CSP, no storage",{"$f":"Solar!E248","v":0},"1 MW",{"$f":"Solar!E246","v":0},{"$f":"Solar!$E$236*I113/1000000","v":0},{"$f":"Solar!$E$241*I113/1000000","v":0},null,0,{"$error":"#DIV/0!"},{"$error":"#DIV/0!"},null,null,null,{"$f":"+Solar!$H$244*I113/1000","v":0}]
[null,null,"Solar tower CSP, with storage",{"$f":"+Solar!E275","v":0},"1 MW",{"$f":"+Solar!E273","v":0},{"$f":"+Solar!$E$263*I114/1000000","v":0},{"$f":"+Solar!$E$268*I114/1000000","v":0},null,0,{"$error":"#DIV/0!"},{"$error":"#DIV/0!"},null,null,null,{"$f":"+Solar!$H$271*I114/1000","v":0}]
[{"$f":"ROW(B115)","v":115},"Transport","20% Biodiesel blend in all  diesel",{"$f":"+Transport!E39","v":0},"20% blend in transport",{"$f":"+Transport!E37","v":0},{"$f":"+Transport!$E$27*I115/1000000","v":0},{"$f":"+Transport!$E$32*I115/1000000","v":0},null,0,{"$error":"#DIV/0!"},{"$error":"#DIV/0!"}]
[null,null,"15% Bioethanol blend in all gasoline",{"$f":"+Transport!E68","v":0},"15% blend in transport",{"$f":"+Transport!E66","v":0},{"$f":"+Transport!$E$55*I116/1000000","v":0},{"$f":"+Transport!$E$60*I116/1000000","v":0},null,0,{"$error":"#DIV/0!"},{"$error":"#DIV/0!"}]
[null,null,"Bus Rapid Transit (BRT)",{"$f":"Transport!E480","v":20.512423721756154},"1 km BRT line",{"$f":"+Transport!E478","v":1983.4616326530609},{"$f":"Transport!$E$467*I117/1000000","v":0},{"$f":"Transport!$E$473*I117/1000000","v":0},null,0,{"$error":"#DIV/0!"},{"$error":"#DIV/0!"},{"$f":"J117/3.1","v":0}]
[null,null,"More efficient gasoline cars",{"$f":"+Transport!E99","v":-210.54575187549142},"1000 cars",{"$f":"+Transport!E97","v":408.90380487804828},{"$f":"+Transport!$E$86*I118/1000000","v":0},{"$f":"+Transport!$E$92*I118/1000000","v":0},null,0,{"$error":"#DIV/0!"},{"$error":"#DIV/0!"},null,{"$f":"J118/2.9","v":0}]
[null,null,"More efficient diesel cars",{"$f":"+Transport!E125","v":-158.52638703809453},"1000 cars",{"$f":"+Transport!E123","v":179.7212853333333},{"$f":"+Transport!$E$112*I119/1000000","v":0},{"$f":"+Transport!$E$118*I119/1000000","v":0},null,0,{"$error":"#DIV/0!"},{"$error":"#DIV/0!"},{"$f":"J119/3.1","v":0}]
[null,null,"Natural Gas cars",{"$f":"+Transport!E396","v":-193.28908089616741},"1000 cars using natural gas",{"$f":"+Transport!E394","v":778.08450104036592},{"$f":"+Transport!$E$384*I120/1000000","v":0},{"$f":"+Transport!$E$389*I120/1000000","v":0},null,{"$f":"(F120*I120)/1000","v":0},{"$error":"#DIV/0!"},{"$error":"#DIV/0!"},{"$f":"J120/3.1","v":0}]
[null,null,"Electric cars",{"$f":"+Transport!E149","v":1049.7542435435521},"1000 cars",{"$f":"+Transport!E147","v":1596.6719999999996},{"$f":"+Transport!$E$137*I121/1000000","v":0},{"$f":"+Transport!$E$142*I121/1000000","v":0},null,0,{"$error":"#DIV/0!"},{"$f":"K121/TotalEmis2025","v":{"$error":"#DIV/0!"}},null,{"$f":"J121/2.9","v":0}]
[null,null,"Electric 18m buses",{"$f":"+Transport!E179","v":301.5992264266178},"1000 buses",{"$f":"+Transport!E177","v":72468.260215053771},{"$f":"+Transport!$E$167*I122/1000000","v":0},{"$f":"+Transport!$E$172*I122/1000000","v":0},null,0,{"$error":"#DIV/0!"},{"$error":"#DIV/0!"},{"$f":"J122/3.1","v":0}]
[null,null,"Electric 12m buses",{"$f":"+Transport!E210","v":477.69485847506917},"1000 buses",{"$f":"+Transport!E208","v":27649.428512820505},{"$f":"+Transport!$E$198*I123/1000000","v":0},{"$f":"+Transport!$E$203*I123/1000000","v":0},null,0,{"$error":"#DIV/0!"},{"$error":"#DIV/0!"},{"$f":"J123/3.1","v":0}]
[null,null,"Electric heavy trucks",{"$f":"+Transport!E241","v":1076.2026709127038},"1000 trucks",{"$f":"+Transport!E239","v":29733.300882352945},{"$f":"+Transport!$E$229*I124/1000000","v":0},{"$f":"+Transport!$E$234*I124/1000000","v":0},null,0,{"$error":"#DIV/0!"},{"$error":"#DIV/0!"},{"$f":"J124/3.1","v":0}]
[null,null,"Electric light trucks",{"$f":"+Transport!E273","v":656.64682174531401},"1000 trucks",{"$f":"+Transport!E271","v":8743.1976648648633},{"$f":"+Transport!$E$261*I125/1000000","v":0},{"$f":"+Transport!$E$266*I125/1000000","v":0},null,{"$f":"(F125*I125)/1000","v":0},{"$error":"#DIV/0!"},{"$error":"#DIV/0!"},{"$f":"J125/3.1","v":0}]
[null,null,"Electric rail ",{"$f":"+Transport!E305","v":529.90789219490932},"1 Million trainkm/year",{"$f":"+Transport!E303","v":6461.8788141599998},{"$f":"Transport!$E$293*I126/1000000","v":0},{"$f":"Transport!$E$298*I126/1000000","v":0},null,{"$f":"(F126*I126)/1000","v":0},{"$error":"#DIV/0!"},{"$error":"#DIV/0!"},{"$f":"J126/3.1","v":0}]
[null,null,"Shifting passengers from car to rail",{"$f":"+Transport!E336","v":653.94483871636305},"1 Million personkm/day",{"$f":"+Transport!E334","v":35457.80333333333},{"$f":"+Transport!$E$324*I127/1000","v":0},{"$f":"+Transport!$E$329*I127/1000","v":0},null,{"$f":"(F127*I127)/1000","v":0},{"$error":"#DIV/0!"},{"$error":"#DIV/0!"},0]
[null,null,"Shifting freight transport from road to rail",{"$f":"+Transport!E365","v":-1534.825994878948},"1000 tonkm/day",{"$f":"+Transport!E363","v":241.3646113413127},{"$f":"+Transport!$E$353*I128/1000","v":0},{"$f":"+Transport!$E$358*I128/1000","v":0},null,{"$f":"(F128*I128)/1000","v":0},{"$error":"#DIV/0!"},{"$error":"#DIV/0!"},{"$f":"J128/3.1","v":0}]
[null,null,"Restriction on import of used cars",{"$f":"+Transport!E425","v":-210.54575187549128},"1000 cars",{"$f":"+Transport!E423","v":931.3919999999996},{"$f":"+Transport!$E$412*I129/1000000","v":0},{"$f":"+Transport!$E$418*I129/1000000","v":0},null,0,{"$error":"#DIV/0!"},{"$error":"#DIV/0!"},0]
[null,null,"New bicycle lanes",{"$f":"+Transport!E510","v":-148.09367209802946},"1 km bicycle lane",{"$f":"+Transport!E508","v":686.58271182439023},{"$f":"+Transport!$E$498*I130/1000000","v":0},{"$f":"+Transport!$E$503*I130/1000000","v":0},null,0,{"$error":"#DIV/0!"},{"$error":"#DIV/0!"},0]
[null,null,"Electric three-wheelers",{"$f":"+Transport!E536","v":-126.40003242852107},"1000 three-wheelers",{"$f":"+Transport!E534","v":500.22403199999997},{"$f":"Transport!$E$524*I131/1000000","v":0},{"$f":"Transport!$E$529*I131/1000000","v":0},null,0,{"$error":"#DIV/0!"},{"$f":"+K131/TotalEmis2025","v":{"$error":"#DIV/0!"}},null,{"$f":"J131/2.9","v":0}]
[null,null,"Electric two-wheelers",{"$f":"+Transport!E565","v":495.52287085979833},"1000 two-wheelers",{"$f":"+Transport!E563","v":232.84799999999998},{"$f":"Transport!$E$553*I132/1000000","v":0},{"$f":"Transport!$E$558*I132/1000000","v":0},null,0,{"$error":"#DIV/0!"},{"$f":"+K132/TotalEmis2025","v":{"$error":"#DIV/0!"}},null,{"$f":"J132/2.9","v":0}]
[null,null,"Better maintenance and use of motor bikes",{"$f":"+Transport!E452","v":-189.07251611654121},"1000 bikes",{"$f":"+Transport!E450","v":116.42400000000004},{"$f":"+Transport!$E$440*I133/1000000","v":0},{"$f":"+Transport!$E$445*I133/1000000","v":0},null,0,{"$error":"#DIV/0!"},{"$f":"K133/TotalEmis2025","v":{"$error":"#DIV/0!"}},null,{"$f":"J133/2.9","v":0}]
[{"$f":"ROW(B134)","v":134},"Wind","Wind turbines, on-shore",{"$f":"Wind!$E$23","v":0},"1 MW",{"$f":"Wind!E21","v":0},{"$f":"+Wind!$E$11*I134/1000000","v":0},{"$f":"+Wind!$E$16*I134/1000000","v":0},null,{"$f":"(F134*I134)/1000","v":0},{"$error":"#DIV/0!"},{"$f":"K134/TotalEmis2025","v":{"$error":"#DIV/0!"}},{"$f":"J134/3.1","v":0},null,null,{"$f":"+Wind!$H$19*I134/1000","v":0}]
[null,null,"Wind turbines, on-shore with 24 storage",{"$f":"Wind!E47","v":0},"1 MW",{"$f":"Wind!E45","v":0},{"$f":"+Wind!$E$35*I135/1000000","v":0},{"$f":"+Wind!$E$40*I135/1000000","v":0},null,0,{"$f":"OFFSET(K135,-1,0,1,1)+J135","v":{"$error":"#DIV/0!"}},{"$f":"+K135/TotalEmis2025","v":{"$error":"#DIV/0!"}},{"$f":"J135/3.1","v":0},null,null,{"$f":"+Wind!$H$43*I135/1000","v":0}]
[null,null,"Wind turbines, off-shore",{"$f":"Wind!$E$72","v":0},"1 MW",{"$f":"Wind!E70","v":0},{"$f":"+Wind!$E$60*I136/1000000","v":0},{"$f":"+Wind!$E$65*I136/1000000","v":0},null,0,{"$error":"#DIV/0!"},{"$f":"K136/TotalEmis2025","v":{"$error":"#DIV/0!"}},{"$f":"J136/3.1","v":0},null,null,{"$f":"+Wind!$H$68*I136/1000","v":0}]
[null,"# GHG reduction options:",{"$f":"COUNTA(C18:C136)","v":119},null,null,"Totals:",{"$f":"SUM(G18:G136)","v":0},{"$f":"SUM(H18:H136)","v":0},null,null,null,null,{"$f":"SUM(M18:M136)","v":0},{"$f":"SUM(N18:N136)","v":0},{"$f":"SUM(O18:O136)","v":{"$error":"#DIV/0!"}},{"$f":"SUM(P18:P136)","v":0}]
[]
[null,null,null,null,null,"GHG emissions: ktCO2e in 2025",null,null,"BAU",null,null,"Reduction",null,null,"New total"]
[null,null,null,null,null,null,null,null,"CO2","CH4","N2O","CO2","CH4","N2O","GHG"]
[null,null,null,null,null,"1. Energy",null,null,{"$f":"I142+I149","v":0},{"$f":"J142+J149","v":0},0,{"$error":"#DIV/0!"},0,0,{"$f":"O142+O149","v":{"$error":"#DIV/0!"}}]
[null,null,null,null,null,"1.A. Fuel combustion",null,null,{"$f":"I143+I144+I145+I146+I147+I148","v":0},{"$f":"SUM(J143:J148)","v":0},{"$f":"SUM(K143:K148)","v":0},{"$f":"L143+L144+L145+L146+L147+L148","v":{"$error":"#DIV/0!"}},{"$f":"M143+M144+M145+M146+M147+M148","v":0},0,{"$f":"I142+J142+K142-L142-M142-N142","v":{"$error":"#DIV/0!"}}]
[null,null,null,null,null,"       1.A.1.  Energy industries",null,null,{"$f":"+'BAU projected GHG Balances'!$P$18","v":0},{"$f":"'BAU projected GHG Balances'!$E$44","v":0},{"$f":"'BAU projected GHG Balances'!$F$44","v":0},{"$f":"SUM(J$25:J$27)+J$28+SUM(J$61:J$67)+J$81+SUM(J$84:J$86)+J$94+J$95+SUM(J$104:J$109)+J$111+J$113+J$114+SUM(J$134:J$136)+J$101+J$102","v":0},null,null,{"$f":"SUM(I143:K143)-SUM(L143:N143)","v":0}]
[null,null,null,null,null,"1.A.2.  Manufacturing industries and construction",null,null,{"$f":"SUM('BAU projected GHG Balances'!$P$20:$P$31)","v":0},null,null,{"$f":"SUM(J$44:J$46)+J$42+J$43+J$75+J$76","v":{"$error":"#DIV/0!"}},null,null,{"$f":"SUM(I144:K144)-SUM(L144:N144)","v":{"$error":"#DIV/0!"}}]
[null,null,null,null,null,"1.A.3.  Transport",null,null,{"$f":"SUM('BAU projected GHG Balances'!$P$32:$P$35)","v":0},null,null,{"$f":"SUM(J$115:J$133)","v":0},null,null,0]
[null,null,null,null,null,"1.A.4.b.  Residential ",null,null,{"$f":"+'BAU projected GHG Balances'!$P$36","v":0},null,null,{"$f":"SUM(J$31:J$41)+J$68+J$69+J$82+J$103+J$104+J$110","v":{"$error":"#DIV/0!"}},null,null,{"$error":"#DIV/0!"}]
[null,null,null,null,null,"1.A.4.a.  Commercial/institutional",null,null,{"$f":"+'BAU projected GHG Balances'!$P$37","v":0},null,null,{"$f":"SUM(J$47:J$60)+J$112","v":{"$error":"#DIV/0!"}},null,null,{"$error":"#DIV/0!"}]
[null,null,null,null,null,"1.A.4.c.  Agriculture/forestry/fishing",null,null,{"$f":"+'BAU projected GHG Balances'!$P$38","v":0},null,null,{"$f":"J$96+J$97","v":0},null,null,0]
[null,null,null,null,null,"1.B. Fugitive emissions from fuels",null,null,{"$f":"'BAU projected GHG Balances'!$D$45","v":0},{"$f":"'BAU projected GHG Balances'!$E$45","v":0},{"$f":"'BAU projected GHG Balances'!$F$45","v":0},{"$f":"SUM(J$77:J$78)+J$80","v":0},{"$f":"J$30+J$79","v":0},null,{"$f":"SUM(I149:K149)-SUM(L149:N149)","v":0}]
[null,null,null,null,null,"2.  Industrial processes and product use",null,null,{"$f":"'BAU projected GHG Balances'!D$46+'BAU projected GHG Balances'!$P$39","v":0},{"$f":"'BAU projected GHG Balances'!E$46","v":0},{"$f":"'BAU projected GHG Balances'!F$46","v":0},{"$f":"J$29+J$83","v":0},null,{"$f":"J$100","v":0},{"$f":"SUM(I150:K150)-SUM(L150:N150)","v":0}]
[null,null,null,null,null,"3.  Agriculture",null,null,{"$f":"'BAU projected GHG Balances'!D$52","v":0},{"$f":"'BAU projected GHG Balances'!E$52","v":0},{"$f":"'BAU projected GHG Balances'!F$52","v":0},{"$f":"SUM(J$19:J$20)+J$24","v":0},{"$f":"J$18+J$23+J$98","v":0},{"$f":"J$21+J$22","v":0},0]
[null,null,null,null,null,"4. Land use, land-use change and forestry",null,null,{"$f":"'BAU projected GHG Balances'!D$57","v":0},{"$f":"'BAU projected GHG Balances'!E$57","v":0},{"$f":"'BAU projected GHG Balances'!F$57","v":0},{"$f":"SUM(J$70:J$74)","v":0},null,null,0]
[null,null,null,null,null,"5. Waste",null,null,{"$f":"'BAU projected GHG Balances'!D$63","v":0},{"$f":"'BAU projected GHG Balances'!E$63","v":0},{"$f":"'BAU projected GHG Balances'!F$63","v":0},null,{"$f":"J$99+SUM(J$87:J$93)","v":0},null,0]
[null,null,null,null,null,"Total (including LULUCF)",null,null,{"$f":"I141+I150+I151+I152+I153","v":0},0,0,{"$error":"#DIV/0!"},0,0,{"$f":"O141+O150+O151+O152+O153","v":{"$error":"#DIV/0!"}}]
[null,null,null,null,null,"Total (excluding LULUCF)",null,null,{"$f":"I154-I152","v":0},{"$f":"J154-J152","v":0},0,{"$error":"#DIV/0!"},0,0,{"$error":"#DIV/0!"}]
[]
[]
[]
[]
[]
[]
[]
[]
[]
[]
[]
[]
[]
[]
[null,"Total GHG mitigation in",{"$f":"+Assumptions!$C$9","v":0},"In 2030"]
[null,null,null,null,null,"Emission","Investment","Annual","Units","Emission reduction in 2030",null,null,"Diesel","Gasoline","Electricity","Electricity",null,"Reduction option","US$/ktCO2 (Revenue)","Emission reduction in 2020 per option (ktCO2/yr)"]
[null,null,null,null,null,"reduction",null,"costs","penetrating","Per option","Added",null,"saved","saved","saved","produced"]
[null,"Type","Reduction option","US$/tCO2e","Sub-type unit","tCO2e/unit","Million US$","MUS$/year","in 2030","ktCO2e/year","ktCO2e/year","Frac.of total","ktoe","ktoe","GWh","GWh"]
[{"$f":"ROW(B174)","v":174},"Agriculture","Rice crop CH4 reduction",{"$f":"Agriculture!$E$30","v":1.2},"Rice crop CH4 red.(1000 ha)",{"$f":"Agriculture!$E$27","v":3421.6000000000004},{"$f":"Agriculture!$E$17*I174/1000000","v":0},{"$f":"Agriculture!$E$22*I174/1000000","v":0},null,{"$f":"F174*I174/1000","v":0},{"$f":"OFFSET(K174,-1,0)+J174","v":0},{"$f":"K174/Totalemis2030","v":{"$error":"#DIV/0!"}},null,null,null,null,null,"Hydro power connected to main grid",358.20337391064447,144229.91250000001]
[null,null,"Zero tillage",{"$f":"+Agriculture!$E$194","v":-157.6154964832983},"1000 ha",{"$f":"+Agriculture!$E$192","v":85.727053103999992},{"$f":"Agriculture!$E$182*I175/1000000","v":0},{"$f":"Agriculture!$E$187*I175/1000000","v":0},null,{"$f":"F175*I175/1000","v":0},0,{"$f":"K175/Totalemis2030","v":{"$error":"#DIV/0!"}},null,null,null,null,null,"Wind turbines, on-shore",353.36321175438417,19420]
[null,null,"Cover crops",{"$f":"+Agriculture!$E$89","v":81.040268456375827},"1000 ha",{"$f":"+Agriculture!$E$87","v":1490},{"$f":"Agriculture!$E$77*I176/1000000","v":0},{"$f":"Agriculture!$E$82*I176/1000000","v":0},null,{"$f":"F176*I176/1000","v":0},0,{"$error":"#DIV/0!"},null,null,null,null,null,"Solar PVs, large grid",235.21646813494516,8860.375]
[null,null,"Nitrification inhibitors (1000 ha)",{"$f":"+Agriculture!$E$117","v":67.689873417721515},"1000 ha",{"$f":"+Agriculture!$E$115","v":790},{"$f":"Agriculture!$E$105*I177/1000000","v":0},{"$f":"Agriculture!$E$110*I177/1000000","v":0},null,{"$f":"F177*I177/1000","v":0},0,{"$error":"#DIV/0!"},null,null,null,null,null,"New bicycle lanes",175.20776103567539,68.658271182439023]
[null,null,"Covering slurry stores (1 slurry store)",{"$f":"+Agriculture!$E$143","v":496.77098857426722},"1 slurry store",{"$f":"+Agriculture!$E$141","v":0.20130000000000001},{"$f":"Agriculture!$E$131*I178/1000000","v":0},{"$f":"Agriculture!$E$136*I178/1000000","v":0},null,0,0,{"$error":"#DIV/0!"},null,null,null,null,null,"Electric cars",64.336923922351488,753.31499999999971]
[null,null,"Fat supplementation in ruminants diets (%DM fat added) ",{"$f":"+Agriculture!$N$168","v":80.5},"%DM fat added",{"$f":"+Agriculture!$N$166","v":0},{"$f":"Agriculture!$N$156*I179/1000000","v":0},{"$f":"Agriculture!$N$161*I179/1000000","v":0},null,0,0,{"$error":"#DIV/0!"},null,null,null,null,null,"Energy efficiency in industry",-0.94392925743255707,24884.9629674723]
[null,null,"Tobacco curing",{"$f":"+Agriculture!$E$62","v":-20.960693100011099},"100 t tobacco/yr",{"$f":"+Agriculture!$E$60","v":561.96940800000016},{"$f":"Agriculture!$E$50*I180/1000000","v":0},{"$f":"Agriculture!$E$55*I180/1000000","v":0},null,0,0,{"$error":"#DIV/0!"},null,null,null,null,null,"Energy efficiency in service",-0.94392925743255718,8004.9501459912226]
[{"$f":"ROW(B181)","v":181},"Biomass energy","Rice husk cogeneration plants",{"$f":"+'Biomass energy'!$E$24","v":127.59687237849138},"1 MW cogeneration",{"$f":"+'Biomass energy'!$E$22","v":5757.3447425999984},{"$f":"+'Biomass energy'!$E$12*I181/1000000","v":0},{"$f":"+'Biomass energy'!$E$17*I181/1000000","v":0},null,0,0,{"$error":"#DIV/0!"},null,null,null,{"$f":"+'Biomass energy'!$H$22/'Biomass energy'!$H$19*I181/1000","v":0},null,"Efficient electric grids",-145.2399599818103,13108.5]
[null,null,"Biomass power from biomass residues ",{"$f":"+'Biomass energy'!$N$57","v":0},"1 MW CHP plant",{"$f":"+'Biomass energy'!$N$55","v":0},{"$f":"+'Biomass energy'!$N$45*I182/1000000","v":0},{"$f":"+'Biomass energy'!$N$50*I182/1000000","v":0},null,0,0,{"$error":"#DIV/0!"},null,null,null,{"$f":"+'Biomass energy'!$Q$53*I182/1000","v":0},null,"20% Biodiesel blend in all  diesel",-341.38428078461817,25478.183748382304]
[null,null,"Bagasse power",{"$f":"'Biomass energy'!$E$88","v":0},"100 kt sugar cane/year",{"$f":"'Biomass energy'!$E$86","v":0},{"$f":"'Biomass energy'!$E$76*I183/1000000","v":0},{"$f":"'Biomass energy'!$E$81*I183/1000000","v":0},null,0,0,{"$error":"#DIV/0!"},null,null,null,{"$f":"'Biomass energy'!$H$87/'Biomass energy'!$H$81*100*I183/1000","v":0},null,"15% Bioethanol blend in all gasoline",-438.25908438907754,2013.7800739215268]
[{"$f":"ROW(B184)","v":184},"CCS","CCS plant",{"$f":"+CCS!$E$22","v":107.96190476190478},"1 MW",{"$f":"+CCS!$E$20","v":5412.3711340206182},{"$f":"CCS!$E$10*I184/1000000","v":0},{"$f":"CCS!$E$15*I184/1000000","v":0},null,0,0,{"$error":"#DIV/0!"},null,null,null,{"$f":"+CCS!H16/CCS!$H$13*I184/1000","v":0},null,"Efficient hotel washing machine ",-38248.887086086368,6.3784140573812431E-2]
[{"$f":"ROW(B185)","v":185},"Cement","Clinker replacement",{"$f":"+Cement!$E$23","v":-3.3289122068909709},"1000 tonnes cement/day",{"$f":"+Cement!$E$21","v":164175.34722087739},{"$f":"Cement!$E$10*I185/1000000","v":0},{"$f":"Cement!$E$16*I185/1000000","v":0},null,0,0,{"$error":"#DIV/0!"}]
[{"$f":"ROW(B186)","v":186},"Coal bed mine methane","Coal mine methane",{"$f":"+'Coal bed mine methane'!$E$24","v":7.6156689322941142},"10 Mm3 CMM/year",{"$f":"+'Coal bed mine methane'!$E$22","v":33818.400000000001},{"$f":"+'Coal bed mine methane'!$E$12/1000000*I186","v":0},{"$f":"+'Coal bed mine methane'!$E$17/1000000*I186","v":0},null,0,0,{"$error":"#DIV/0!"},null,null,null,{"$f":"+'Coal bed mine methane'!$H$27/'Coal bed mine methane'!$H$22*10*I186/1000","v":0}]
[{"$f":"ROW(B187)","v":187},"EE households","Efficient residential airconditioning",{"$f":"+'EE households'!$E$30","v":{"$error":"#DIV/0!"}},"1000 Airconditioners",{"$f":"+'EE households'!$E$28","v":{"$error":"#DIV/0!"}},{"$f":"+'EE households'!$E$18*I187/1000000","v":0},{"$f":"+'EE households'!$E$23*I187/1000000","v":0},null,{"$error":"#DIV/0!"},{"$error":"#DIV/0!"},{"$f":"K187/Totalemis2030","v":{"$error":"#DIV/0!"}},null,null,{"$f":"+'EE households'!$H$42*I187/1000","v":0}]
[null,null,"Efficient lighting with CFLs",{"$f":"+'EE households'!$E$64","v":{"$error":"#DIV/0!"}},"1000 Bulps",{"$f":"+'EE households'!$E$62","v":{"$error":"#DIV/0!"}},{"$f":"+'EE households'!$E$52*I188/1000000","v":0},{"$f":"+'EE households'!$E$57*I188/1000000","v":0},null,{"$error":"#DIV/0!"},{"$error":"#DIV/0!"},{"$error":"#DIV/0!"},null,null,{"$f":"'EE households'!$H$65*I188/1000","v":0}]
[null,null,"Efficient lighting with LEDs",{"$f":"+'EE households'!$E$96","v":{"$error":"#DIV/0!"}},"1000 Bulps",{"$f":"+'EE households'!$E$94","v":{"$error":"#DIV/0!"}},{"$f":"+'EE households'!$E$84*I189/1000000","v":0},{"$f":"+'EE households'!$E$89*I189/1000000","v":0},null,{"$error":"#DIV/0!"},{"$error":"#DIV/0!"},{"$error":"#DIV/0!"},null,null,{"$f":"+'EE households'!$H$101*I189/1000","v":0}]
[null,null,"Efficient lighting with LEDs replacing CFL",{"$f":"+'EE households'!$E$122","v":{"$error":"#DIV/0!"}},"1000 Bulps",{"$f":"+'EE households'!$E$120","v":{"$error":"#DIV/0!"}},{"$f":"'EE households'!$E$110*I190/1000000","v":0},{"$f":"'EE households'!$E$115*I190/1000000","v":0},null,{"$error":"#DIV/0!"},{"$error":"#DIV/0!"},{"$error":"#DIV/0!"},null,null,{"$f":"+'EE households'!$H125*I190/1000","v":0}]
[null,null,"Efficient wood stoves",{"$f":"+'EE households'!$E$178","v":-939.80904939809022},"1000 stoves",{"$f":"+'EE households'!$E$176","v":1338.3333333333335},{"$f":"+'EE households'!$E$166*I191/1000000","v":0},{"$f":"+'EE households'!$E$171*I191/1000000","v":0},null,0,{"$error":"#DIV/0!"},{"$error":"#DIV/0!"}]
[null,null,"Efficient charcoal stoves",{"$f":"+'EE households'!$E$206","v":-71.000933997509335},"1000 stoves",{"$f":"+'EE households'!$E$204","v":292.91691871829062},{"$f":"+'EE households'!$E$194*I192/1000000","v":0},{"$f":"+'EE households'!$E$199*I192/1000000","v":0},null,0,{"$error":"#DIV/0!"},{"$error":"#DIV/0!"}]
[null,null,"LPG stoves replacing wood stoves",{"$f":"+'EE households'!$E$238","v":73.526386172475128},"1000 stoves",{"$f":"+'EE households'!$E$236","v":2054.9439166666671},{"$f":"'EE households'!$E$226*I193/1000000","v":0},{"$f":"'EE households'!$E$231*I193/1000000","v":0},null,0,{"$error":"#DIV/0!"},{"$error":"#DIV/0!"}]
[null,null,"Efficient electric stoves",{"$f":"+'EE households'!$E$267","v":{"$error":"#DIV/0!"}},"1000 stoves",{"$f":"+'EE households'!$E$265","v":{"$error":"#DIV/0!"}},{"$f":"'EE households'!$E$255*I194/1000000","v":0},{"$f":"'EE households'!$E$260*I194/1000000","v":0},null,{"$error":"#DIV/0!"},{"$error":"#DIV/0!"},{"$error":"#DIV/0!"},null,null,{"$f":"'EE households'!$H$274*I194/1000","v":0}]
[null,null,"Induction based cooking",{"$f":"+'EE households'!$E$293","v":{"$error":"#DIV/0!"}},"1000 stoves",{"$f":"+'EE households'!$E$291","v":{"$error":"#DIV/0!"}},{"$f":"'EE households'!$E$281*I195/1000000","v":0},{"$f":"'EE households'!$E$286*I195/1000000","v":0},null,{"$error":"#DIV/0!"},{"$error":"#DIV/0!"},{"$error":"#DIV/0!"},null,null,{"$f":"'EE households'!$H$301*I195/1000","v":0}]
[null,null,"New passive home",{"$f":"+'EE households'!$E$321","v":{"$error":"#DIV/0!"}},"1000 new homes",{"$f":"+'EE households'!E$319","v":{"$error":"#DIV/0!"}},{"$f":"'EE households'!$E$309*I196/1000000","v":0},{"$f":"+I196*'EE households'!$E$314/1000000","v":0},null,{"$error":"#DIV/0!"},{"$error":"#DIV/0!"},{"$f":"K196/Totalemis2030","v":{"$error":"#DIV/0!"}},null,null,{"$f":"'EE households'!$H$326*I196/1000","v":0}]
[null,null,"Efficient refrigerators",{"$f":"+'EE households'!$E$148","v":{"$error":"#DIV/0!"}},"1000 refrigerators",{"$f":"+'EE households'!$E$146","v":{"$error":"#DIV/0!"}},{"$f":"+'EE households'!$E$136*I197/1000000","v":0},{"$f":"+'EE households'!$E$141*I197/1000000","v":0},null,{"$error":"#DIV/0!"},{"$error":"#DIV/0!"},{"$f":"K197/Totalemis2030","v":{"$error":"#DIV/0!"}},null,null,{"$f":"+'EE households'!$H$159*I197/1000","v":0}]
[{"$f":"ROW(B198)","v":198},"EE industry","Efficient electric motors",{"$f":"+'EE industry'!$E$25","v":{"$error":"#DIV/0!"}},"1 kW",{"$f":"+'EE industry'!$E$23","v":{"$error":"#DIV/0!"}},{"$f":"+'EE industry'!$E$13*I198/1000000","v":0},{"$f":"+'EE industry'!$E$18*I198/1000000","v":0},null,{"$error":"#DIV/0!"},{"$error":"#DIV/0!"},{"$error":"#DIV/0!"},null,null,{"$f":"I198*'EE industry'!$H$25/1000000","v":0}]
[null,null,"Energy efficiency in industry",{"$f":"+'EE industry'!$N$84","v":0},"10% red. of energy demand",{"$f":"+'EE industry'!$N$82","v":0},{"$f":"+'EE industry'!$N$72*I199/1000000","v":0},{"$f":"'EE industry'!$N$77*I199/1000000","v":0},null,0,{"$error":"#DIV/0!"},{"$error":"#DIV/0!"}]
[null,null,"Building materials",{"$f":"+'EE industry'!$E$55","v":-19.573889817018777},"1 million bricks",{"$f":"+'EE industry'!$E$53","v":520.30000000000007},{"$f":"'EE industry'!$E$43*I200/1000000","v":0},{"$f":"'EE industry'!$E$48*I200/1000000","v":0},null,0,{"$f":"OFFSET(K200,-1,0)+J200","v":{"$error":"#DIV/0!"}},{"$error":"#DIV/0!"}]
[{"$f":"ROW(B201)","v":201},"EE own generation","Waste heat recovery at cement plant",{"$f":"+'EE own generation'!$E$23","v":0},"1 Cement plant",{"$f":"+'EE own generation'!$E$21","v":0},{"$f":"+'EE own generation'!$E$11*I201/1000000","v":0},{"$f":"+'EE own generation'!$E$16*I201/1000000","v":0},null,0,{"$f":"OFFSET(K201,-1,0)+J201","v":{"$error":"#DIV/0!"}},{"$error":"#DIV/0!"},null,null,null,{"$f":"+'EE own generation'!$H$17*'Mitigation options'!I201/1000","v":0}]
[null,null,"Waste heat recovery at steel plant",{"$f":"+'EE own generation'!$E$53","v":0},"1 Steel plant",{"$f":"+'EE own generation'!$E$51","v":0},{"$f":"+'EE own generation'!$E$41*I202/1000000","v":0},{"$f":"+'EE own generation'!$E$46*I202/1000000","v":0},null,0,{"$error":"#DIV/0!"},{"$error":"#DIV/0!"},null,null,null,{"$f":"'EE own generation'!$H$46*'Mitigation options'!I202/1000","v":0}]
[{"$f":"ROW(B203)","v":203},"EE service","Efficient electric motors",{"$f":"+'EE service'!$E$29","v":{"$error":"#DIV/0!"}},"1 kW",{"$f":"+'EE service'!$E$27","v":{"$error":"#DIV/0!"}},{"$f":"+'EE service'!$E$17*I203/1000000","v":0},{"$f":"+'EE service'!$E$22*I203/1000000","v":0},null,{"$error":"#DIV/0!"},{"$error":"#DIV/0!"},{"$error":"#DIV/0!"},null,null,{"$f":"I203*'EE service'!$H$29/1000000","v":0}]
[null,null,"Efficient office lighting with CFLs",{"$f":"+'EE service'!$E$57","v":{"$error":"#DIV/0!"}},"1000 lights",{"$f":"+'EE service'!$E$55","v":{"$error":"#DIV/0!"}},{"$f":"+'EE service'!$E$45*I204/1000000","v":0},{"$f":"+'EE service'!$E$50*I204/1000000","v":0},null,{"$error":"#DIV/0!"},{"$error":"#DIV/0!"},{"$error":"#DIV/0!"},null,null,{"$f":"+'EE service'!$H$57*I204/1000","v":0}]
[null,null,"Efficient office lighting with LEDs",{"$f":"+'EE service'!$E$89","v":{"$error":"#DIV/0!"}},"1000 lights",{"$f":"+'EE service'!$E$87","v":{"$error":"#DIV/0!"}},{"$f":"+'EE service'!$E$77*I205/1000000","v":0},{"$f":"+'EE service'!$E$82*I205/1000000","v":0},null,{"$f":"F205*I205/1000","v":{"$error":"#DIV/0!"}},{"$error":"#DIV/0!"},{"$error":"#DIV/0!"},null,null,{"$f":"+'EE service'!$H$89*I205/1000","v":0}]
[null,null,"Efficient street lights",{"$f":"+'EE service'!$E$123","v":{"$error":"#DIV/0!"}},"1000 lights",{"$f":"+'EE service'!$E$121","v":{"$error":"#DIV/0!"}},{"$f":"+'EE service'!$E$111*I206/1000000","v":0},{"$f":"+'EE service'!$E$116*I206/1000000","v":0},null,{"$error":"#DIV/0!"},{"$error":"#DIV/0!"},{"$error":"#DIV/0!"},null,null,{"$f":"+'EE service'!$H$136*I206/1000","v":0}]
[null,null,"Efficient water pumping",{"$f":"+'EE service'!$E$159","v":{"$error":"#DIV/0!"}},"4 Million m3 water",{"$f":"+'EE service'!$E$157","v":{"$error":"#DIV/0!"}},{"$f":"+'EE service'!$E$147*I207/1000000","v":0},{"$f":"+'EE service'!$E$152*I207/1000000","v":0},null,{"$error":"#DIV/0!"},{"$error":"#DIV/0!"},{"$error":"#DIV/0!"},null,null,{"$f":"+'EE service'!$H$158*I207","v":0}]
[null,null,"HVAC",{"$f":"+'EE service'!$E$248","v":0},"100,000 m2 floor area",{"$f":"+'EE service'!$E$246","v":0},{"$f":"'EE service'!$E$236*I208/1000000","v":0},{"$f":"'EE service'!$E$241*I208/1000000","v":0},null,0,{"$error":"#DIV/0!"},{"$error":"#DIV/0!"},null,null,{"$f":"+'EE service'!$H$254*I208/1000","v":0}]
[null,null,"Efficient Chiller > 300 TR",{"$f":"+'EE service'!$E$277","v":22.896661292960445},"1 TR",{"$f":"+'EE service'!$E$275","v":1.4266999999999999},{"$f":"'EE service'!$E$265*I209/1000000","v":0},{"$f":"'EE service'!$E$270*I209/1000000","v":0},null,0,{"$error":"#DIV/0!"},{"$f":"+K209/Totalemis2030","v":{"$error":"#DIV/0!"}},null,null,{"$f":"+'EE service'!$H$290*I209/1000000","v":0}]
[null,null,"Efficient Chiller < 300 TR",{"$f":"+'EE service'!$E$309","v":42.055092170743677},"1 TR",{"$f":"+'EE service'!$E$307","v":0.71334999999999993},{"$f":"'EE service'!$E$297*I210/1000000","v":0},{"$f":"'EE service'!$E$302*I210/1000000","v":0},null,0,{"$error":"#DIV/0!"},{"$error":"#DIV/0!"},null,null,{"$f":"+'EE service'!$H$321*I210/1000000","v":0}]
[null,null,"Efficient room airconditioner",{"$f":"+'EE service'!$E$341","v":{"$error":"#DIV/0!"}},"1 Airconditioner",{"$f":"+'EE service'!$E$339","v":{"$error":"#DIV/0!"}},{"$f":"'EE service'!$E$329*I211/1000000","v":0},{"$f":"'EE service'!$E$334*I211/1000000","v":0},null,{"$error":"#DIV/0!"},{"$error":"#DIV/0!"},{"$error":"#DIV/0!"},null,null,{"$f":"+'EE service'!$H$353*I211/1000000","v":0}]
[null,null,"Efficient commercial dishwashing machine ",{"$f":"+'EE service'!$E$374","v":0},"1000 meals/day",{"$f":"+'EE service'!$E$372","v":0},{"$f":"'EE service'!$E$362*I212/1000000","v":0},{"$f":"'EE service'!$E$367*I212/1000000","v":0},null,0,{"$error":"#DIV/0!"},{"$error":"#DIV/0!"},null,null,{"$f":"+'EE service'!$H$388*I212/1000000","v":0}]
[null,null,"Efficient hotel refrigerator",{"$f":"+'EE service'!$E$409","v":{"$error":"#DIV/0!"}},"1 refrigerator",{"$f":"+'EE service'!$E$407","v":{"$error":"#DIV/0!"}},{"$f":"'EE service'!$E$397*I213/1000000","v":0},{"$f":"'EE service'!$E$402*I213/1000000","v":0},null,{"$error":"#DIV/0!"},{"$error":"#DIV/0!"},{"$error":"#DIV/0!"},null,null,{"$f":"+'EE service'!$H$415*I213/1000000","v":0}]
[null,null,"Efficient hotel washing machine ",{"$f":"+'EE service'!$E$439","v":{"$error":"#DIV/0!"}},"1000 Guest Nights (GN)",{"$f":"+'EE service'!$E$437","v":{"$error":"#DIV/0!"}},{"$f":"'EE service'!$E$427*I214/1000000","v":0},{"$f":"'EE service'!$E$432*I214/1000000","v":0},null,{"$error":"#DIV/0!"},{"$error":"#DIV/0!"},{"$error":"#DIV/0!"},null,null,{"$f":"+'EE service'!$H$459*I214/1000000","v":0}]
[null,null,"Energy efficiency in service",{"$f":"+'EE service'!$N$223","v":0},"10% red. of energy demand",{"$f":"+'EE service'!$N$221","v":0},{"$f":"'EE service'!$N$211*I215/1000000","v":0},{"$f":"'EE service'!$N$216*I215/1000000","v":0},null,0,{"$error":"#DIV/0!"},{"$f":"K215/Totalemis2030","v":{"$error":"#DIV/0!"}}]
[null,null,"New office building with central cooling",{"$f":"+'EE service'!$E$188","v":{"$error":"#DIV/0!"}},"1000 m2",{"$f":"+'EE service'!$E$186","v":{"$error":"#DIV/0!"}},{"$f":"+'EE service'!$E$176*I216/1000000","v":0},{"$f":"+'EE service'!$E$181*I216/1000000","v":0},null,{"$f":"(F216*I216)/1000","v":{"$error":"#DIV/0!"}},{"$f":"OFFSET(K216,-1,0,1,1)+J216","v":{"$error":"#DIV/0!"}},{"$error":"#DIV/0!"},null,null,{"$f":"+'EE service'!$H$201*I216*1000/1000","v":0}]
[{"$f":"ROW(B217)","v":217},"EE supply side","New natural gas power plant",{"$f":"'EE supply side'!$N$25","v":-81.299877173082734},"1 MW",{"$f":"+'EE supply side'!$N$23","v":-2692.8},{"$f":"+'EE supply side'!$N$13/1000000*I217","v":0},{"$f":"+'EE supply side'!$N$18/1000000*I217","v":0},null,0,{"$error":"#DIV/0!"},{"$f":"K217/Totalemis2030","v":{"$error":"#DIV/0!"}}]
[null,null,"Switch from fuel oil to natural gas",{"$f":"'EE supply side'!$E$172","v":-339.53206503966459},"1 MW",{"$f":"+'EE supply side'!$E$170","v":1454.3571428571436},{"$f":"+'EE supply side'!$E$160/1000000*I218","v":0},{"$f":"+'EE supply side'!$E$165/1000000*I218","v":0},null,0,{"$error":"#DIV/0!"},{"$error":"#DIV/0!"}]
[null,null,"Cogeneration in industry",{"$f":"+'EE supply side'!$E$113","v":-57.542861861768735},"1 MW",{"$f":"+'EE supply side'!$E$111","v":-6633.0554875199996},{"$f":"+'EE supply side'!$E$102*I219/1000000","v":0},{"$f":"+'EE supply side'!$E$106*I219/1000000","v":0},null,0,{"$error":"#DIV/0!"},{"$error":"#DIV/0!"},null,null,{"$f":"+'EE supply side'!$H$112*I221/1000","v":0}]
[null,null,"Single cycle to combined cycle",{"$f":"+'EE supply side'!$E$83","v":0},"100 MW increase",{"$f":"+'EE supply side'!$E$81","v":0},{"$f":"'EE supply side'!$E$72*I220/1000000","v":0},{"$f":"'EE supply side'!$E$76*I220/1000000","v":0},null,0,{"$error":"#DIV/0!"},{"$error":"#DIV/0!"},null,null,{"$f":"+'EE supply side'!$H$91*I222/1000","v":0}]
[{"$f":"ROW(B221)","v":221},"Energy distribution","Efficient electric grids",{"$f":"+'Energy distribution'!$E$26","v":0},"1 GWh loss reduction",{"$f":"+'Energy distribution'!$E$24","v":0},{"$f":"+'Energy distribution'!$E$14*I221/1000000","v":0},{"$f":"+'Energy distribution'!$E$19*I221/1000000","v":0},null,0,{"$error":"#DIV/0!"},{"$error":"#DIV/0!"},null,null,{"$f":"+I223*'Energy distribution'!$H$22","v":{"$error":"#DIV/0!"}}]
[null,null,"Connection of isolated grid to central grid ",{"$f":"+'Energy distribution'!$E$55","v":0},"1 GWh consumption",{"$f":"+'Energy distribution'!$E$53","v":0},{"$f":"+'Energy distribution'!$E$43*I222/1000000","v":0},{"$f":"+'Energy distribution'!$E$48*I222/1000000","v":0},null,0,{"$error":"#DIV/0!"},{"$error":"#DIV/0!"}]
[null,null,"Power factor increase",{"$f":"+'Energy distribution'!$E$85","v":0},"1000 commerce/industry buildings",{"$f":"+'Energy distribution'!$E$83","v":0},{"$f":"'Energy distribution'!$E$73*I223/1000000","v":0},{"$f":"'Energy distribution'!$E$78*I223/1000000","v":0},null,0,{"$error":"#DIV/0!"},{"$error":"#DIV/0!"},null,null,{"$f":"I225*'Energy distribution'!$H$92","v":0}]
[null,null,"District heating network rehabilitation (100,000 flats supplied)",{"$f":"+'Energy distribution'!$E$114","v":-158.05408627123262},"100,000 flats supplied",{"$f":"+'Energy distribution'!$E$112","v":33649.053412333342},{"$f":"'Energy distribution'!$E$101*I224/1000000","v":0},{"$f":"'Energy distribution'!$E$107*I224/1000000","v":0},null,0,{"$error":"#DIV/0!"},{"$f":"+K224/Totalemis2030","v":{"$error":"#DIV/0!"}}]
[null,null,"District cooling network (1 million m2 new city area covered)",{"$f":"+'Energy distribution'!$E$153","v":-189.15402700930974},"1 million m2 new city area covered",{"$f":"+'Energy distribution'!$E$151","v":13725.623132042594},{"$f":"'Energy distribution'!$E$141*I225/1000000","v":0},{"$f":"'Energy distribution'!$E$146*I225/1000000","v":0},null,0,{"$error":"#DIV/0!"},{"$f":"+K225/Totalemis2030","v":{"$error":"#DIV/0!"}}]
[{"$f":"ROW(B226)","v":226},"Forestry","Reforestation",{"$f":"+Forestry!$E$28","v":8.1818181818181817},"Reforestation of 1000 ha",{"$f":"Forestry!$E$26","v":3666.666666666667},{"$f":"Forestry!$E$15*I226/1000000","v":0},{"$f":"Forestry!$E$21/1000000*I226","v":0},null,0,{"$error":"#DIV/0!"},{"$f":"K226/Totalemis2030","v":{"$error":"#DIV/0!"}}]
[null,null,"REDD: Avoided deforestation",{"$f":"+Forestry!$E$56","v":-5.5},"No deforestation for 1000 ha",{"$f":"Forestry!$E$54","v":3666.666666666667},{"$f":"Forestry!$E$44*I227/1000000","v":0},{"$f":"Forestry!$E$49/1000000*I227","v":0},null,0,{"$error":"#DIV/0!"},{"$error":"#DIV/0!"}]
[null,null,"Assisted forest regeneration",{"$f":"Forestry!$E$84","v":-2.0454545454545454},"Reforestation of 1000 ha",{"$f":"Forestry!$E$82","v":3666.666666666667},{"$f":"Forestry!$E$72/1000000*I228","v":0},{"$f":"Forestry!$E$77/1000000*I228","v":0},null,0,{"$error":"#DIV/0!"},{"$error":"#DIV/0!"}]
[null,null,"Reforestation with agroforestry",{"$f":"Forestry!$E$113","v":-0.27272727272727271},"Reforestation of 1000 ha",{"$f":"Forestry!$E$111","v":3666.666666666667},{"$f":"Forestry!$E$100/1000000*I229","v":0},{"$f":"Forestry!$E$106/1000000*I229","v":0},null,0,{"$error":"#DIV/0!"},{"$error":"#DIV/0!"}]
[null,null,"Reforestation with Silvopasture",{"$f":"Forestry!$E$143","v":-0.27272727272727271},"Reforestation of 1000 ha",{"$f":"Forestry!$E$141","v":3666.666666666667},{"$f":"Forestry!$E$130/1000000*I230","v":0},{"$f":"Forestry!$E$136/1000000*I230","v":0},null,0,{"$error":"#DIV/0!"},{"$error":"#DIV/0!"}]
[{"$f":"ROW(B231)","v":231},"Fossil fuel switch","Switch from coal to natural gas in industry",{"$f":"+'Fossil fuel switch'!$E$24","v":29.648354344806059},"100 TJ fuel use/year",{"$f":"+'Fossil fuel switch'!$E$22","v":3850},{"$f":"'Fossil fuel switch'!$E$12/1000000*I231","v":0},{"$f":"'Fossil fuel switch'!$E$17/1000000*I231","v":0},null,0,{"$error":"#DIV/0!"},{"$error":"#DIV/0!"}]
[null,null,"Switch from fuel oil to natural gas in industry",{"$f":"'Fossil fuel switch'!$E$53","v":-136.87543961201254},"100 TJ fuel use/year",{"$f":"'Fossil fuel switch'!$E$51","v":2126.6666666666679},{"$f":"'Fossil fuel switch'!$E$41/1000000*I232","v":0},{"$f":"'Fossil fuel switch'!$E$46/1000000*I232","v":0},null,0,{"$error":"#DIV/0!"},{"$error":"#DIV/0!"}]
[{"$f":"ROW(B233)","v":233},"Fugitive","Reduced flaring at oil field",{"$f":"+Fugitive!$E$25","v":-11.666162152975813},"1 MMSCF/day",{"$f":"+Fugitive!$E$23","v":22613.499908999998},{"$f":"+Fugitive!$E$13*I233/1000000","v":0},{"$f":"+Fugitive!$E$18*I233/1000000","v":0},null,0,{"$error":"#DIV/0!"},{"$error":"#DIV/0!"}]
[null,null,"Reduced flaring at oil refineries",{"$f":"+Fugitive!$E$54","v":159.98532895280397},"1 MMSCF/day",{"$f":"+Fugitive!$E$52","v":20797.217999999997},{"$f":"+Fugitive!$E$42*I234/1000000","v":0},{"$f":"+Fugitive!$E$47*I234/1000000","v":0},null,0,{"$error":"#DIV/0!"},{"$error":"#DIV/0!"}]
[null,null,"Leak reduction in natural gas pipelines",{"$f":"Fugitive!$E$81","v":-4.7340603277169917},"1 Mm3 CH/year leaking",{"$f":"+Fugitive!$E$79","v":20104.000000000004},{"$f":"Fugitive!$E$69*I235/1000000","v":0},{"$f":"Fugitive!$E$74*I235/1000000","v":0},null,0,{"$error":"#DIV/0!"},{"$error":"#DIV/0!"}]
[null,null,"Charcoal production",{"$f":"+Fugitive!$E$108","v":0.76723985653613069},"100,000 ton charcoal/yr",{"$f":"+Fugitive!$E$106","v":156404.80480480485},{"$f":"Fugitive!$E$97*I236/1000000","v":0},{"$f":"Fugitive!$E$101*I236/1000000","v":0},null,0,{"$error":"#DIV/0!"},{"$error":"#DIV/0!"}]
[{"$f":"ROW(B237)","v":237},"Geothermal","Geothermal power",{"$f":"+Geothermal!$N$22","v":0},"1 MW",{"$f":"+Geothermal!$N$20","v":0},{"$f":"+Geothermal!$N$10*I237/1000000","v":0},{"$f":"+Geothermal!$N$15*I237/1000000","v":0},null,0,{"$error":"#DIV/0!"},{"$error":"#DIV/0!"},null,null,null,{"$f":"+Geothermal!$Q$18*I239/1000","v":0}]
[null,null,"Geothermal heat",{"$f":"+Geothermal!$E$50","v":-12.72414473942839},"1000 m2 heated area",{"$f":"+Geothermal!$E$48","v":17.056285714285721},{"$f":"Geothermal!$E$38*I238/1000000","v":0},{"$f":"Geothermal!$E$43*I238/1000000","v":0},null,0,{"$error":"#DIV/0!"},{"$error":"#DIV/0!"}]
[{"$f":"ROW(B239)","v":239},"HFCs, PFCs, SF6","Reduced PFCs from aluminum production",{"$f":"+'HFCs, PFCs, SF6'!$E$22","v":-3.4084892300915444E-2},"100,000 ton Aluminium/yr",{"$f":"+'HFCs, PFCs, SF6'!$E$20","v":-64696},{"$f":"+'HFCs, PFCs, SF6'!$E$10*I239/1000000","v":0},{"$f":"+'HFCs, PFCs, SF6'!$E$15*I239/1000000","v":0},null,0,{"$error":"#DIV/0!"},{"$error":"#DIV/0!"}]
[{"$f":"ROW(B240)","v":240},"Hydro","Hydro power connected to main grid",{"$f":"+Hydro!$N$25","v":0},"1 MW",{"$f":"+Hydro!$N$23","v":0},{"$f":"+Hydro!$N$13*I240/1000000","v":0},{"$f":"+Hydro!$N$18*I240/1000000","v":0},null,0,{"$error":"#DIV/0!"},{"$error":"#DIV/0!"},null,null,null,{"$f":"+Hydro!$Q$21*I242/1000","v":0}]
[null,null,"Mini hydro power connected to main grid",{"$f":"+Hydro!$E$54","v":0},"1 MW",{"$f":"+Hydro!$E$52","v":0},{"$f":"+Hydro!$E$42*I241/1000000","v":0},{"$f":"+Hydro!$E$47*I241/1000000","v":0},null,0,{"$error":"#DIV/0!"},{"$error":"#DIV/0!"},null,null,null,{"$f":"Hydro!$H$50/Hydro!$H$47*I243/1000","v":0}]
[null,null,"Mini hydro power off grid",{"$f":"+Hydro!$E$83","v":-71.909842771818788},"1 MW",{"$f":"+Hydro!$E$81","v":3231.9999999999995},{"$f":"+Hydro!$E$71*I242/1000000","v":0},{"$f":"Hydro!$E$76*I242/1000000","v":0},null,0,{"$error":"#DIV/0!"},{"$error":"#DIV/0!"},null,null,null,{"$f":"Hydro!$H$77/Hydro!$H$74*I244/1000","v":0}]
[{"$f":"ROW(B243)","v":243},"Landfills","Landfill gas plant with power production",{"$f":"Landfills!$E$27","v":4.9007373033746724},"200 t/day plant",{"$f":"Landfills!$E$25","v":165886.95200000002},{"$f":"+Landfills!$E$15*I243/1000000","v":0},{"$f":"+Landfills!$E$20*I243/1000000","v":0},null,0,{"$error":"#DIV/0!"},{"$error":"#DIV/0!"},null,null,null,{"$f":"+Landfills!$H$36*I245/1000","v":0}]
[null,null,"Landfill gas flaring",{"$f":"+Landfills!$E$118","v":476.51498863888366},"1 t/day plant",{"$f":"+Landfills!$E$116","v":165886.95200000002},{"$f":"+Landfills!$E$106*I244/1000000","v":0},{"$f":"Landfills!$E$111*I244/1000000","v":0},null,0,{"$error":"#DIV/0!"},{"$error":"#DIV/0!"}]
[null,null,"Incineration plant",{"$f":"+Landfills!$E$91","v":46.439980403039769},"200 t/day plant",{"$f":"Landfills!$E$89","v":124415.21400000001},{"$f":"Landfills!$E$79*I245/1000000","v":0},{"$f":"Landfills!$E$84*I245/1000000","v":0},null,0,{"$error":"#DIV/0!"},{"$error":"#DIV/0!"}]
[null,null,"Recycling of plastics",{"$f":"+Landfills!$E$197","v":-255.84635716143856},"1000 t/year plant",{"$f":"Landfills!$E$195","v":833.25},{"$f":"Landfills!$E$184*I246/1000000","v":0},{"$f":"Landfills!$E$190*I246/1000000","v":0},null,0,{"$error":"#DIV/0!"},{"$error":"#DIV/0!"}]
[null,null,"Refuce Derived Fuel (RDF) from MSW",{"$f":"+Landfills!$E$171","v":51.693454591314826},"200 t MSW/day plant",{"$f":"Landfills!$E$169","v":20389.428571428572},{"$f":"Landfills!$E$159*I247/1000000","v":0},{"$f":"Landfills!$E$164*I247/1000000","v":0},null,0,{"$error":"#DIV/0!"},{"$error":"#DIV/0!"}]
[null,null,"Biogas from Municipal Solid Waste",{"$f":"+Landfills!$E$146","v":0.11077632045373981},"1000 t/year plant",{"$f":"+Landfills!$E$144","v":16248.960000000001},{"$f":"+Landfills!$E$134*I248/1000000","v":0},{"$f":"Landfills!$E$139*I248/1000000","v":0},null,0,{"$error":"#DIV/0!"},{"$error":"#DIV/0!"}]
[null,null,"Composting of Municipal Solid Waste",{"$f":"+Landfills!$E$63","v":-0.10545358888876404},"1000 t/day plant",{"$f":"+Landfills!$E$61","v":5515709.472000001},{"$f":"+Landfills!$E$50*I249/1000000","v":0},{"$f":"+Landfills!$E$56*I249/1000000","v":0},null,0,{"$error":"#DIV/0!"},{"$error":"#DIV/0!"}]
[{"$f":"ROW(B250)","v":250},"Marine","Tidal",{"$f":"Marine!$N$22","v":0},"1 MW of tidal power",{"$f":"Marine!$N$20","v":0},{"$f":"Marine!$N$10*I250/1000000","v":0},{"$f":"Marine!$N$15*I250/1000000","v":0},null,0,{"$error":"#DIV/0!"},{"$error":"#DIV/0!"},null,null,null,{"$f":"+Marine!$Q$18*I250/1000","v":0}]
[null,null,"Wave",{"$f":"Marine!$N$47","v":0},"1 MW of wave power",{"$f":"Marine!$N$45","v":0},{"$f":"Marine!$N$35*I251/1000000","v":0},{"$f":"Marine!$N$40*I251/1000000","v":0},null,0,{"$error":"#DIV/0!"},{"$error":"#DIV/0!"},null,null,null,{"$f":"+Marine!$Q$43*I251/1000","v":0}]
[{"$f":"ROW(B252)","v":252},"Methane avoidance","Biogas at rural farms using kerosene",{"$f":"+'Methane avoidance'!$E$24","v":-160.8114705432757},"1000 units",{"$f":"+'Methane avoidance'!$E$22","v":1227.6264000000001},{"$f":"+'Methane avoidance'!$E$12*I252/1000000","v":0},{"$f":"+'Methane avoidance'!$E$17*I252/1000000","v":0},null,0,{"$error":"#DIV/0!"},{"$error":"#DIV/0!"}]
[null,null,"Biogas at rural farms using non-renewable fuelwood",{"$f":"+'Methane avoidance'!$E$51","v":1.2107375121073751},"1000 units",{"$f":"+'Methane avoidance'!$E$49","v":11274.12},{"$f":"+'Methane avoidance'!$E$39*I253/1000000","v":0},{"$f":"+'Methane avoidance'!$E$44*I253/1000000","v":0},null,0,{"$error":"#DIV/0!"},{"$error":"#DIV/0!"}]
[null,null,"Biogas at pig farms",{"$f":"+'Methane avoidance'!$E$78","v":6.9197562715191454},"84000 pigs",{"$f":"+'Methane avoidance'!$E$76","v":88480},{"$f":"'Methane avoidance'!$E$66*I254/1000000","v":0},{"$f":"'Methane avoidance'!$E$71*I254/1000000","v":0},null,0,{"$error":"#DIV/0!"},{"$error":"#DIV/0!"},null,null,null,{"$f":"+'Methane avoidance'!$H$80*I254/1000","v":0}]
[null,null,"Biogas from industrial waste water ",{"$f":"+'Methane avoidance'!$E$106","v":28.620352250489237},"1 plant",{"$f":"+'Methane avoidance'!$E$104","v":15624},{"$f":"+'Methane avoidance'!$E$94*I255/1000000","v":0},{"$f":"+'Methane avoidance'!$E$99*I255/1000000","v":0},null,0,{"$error":"#DIV/0!"},{"$error":"#DIV/0!"}]
[{"$f":"ROW(B256)","v":256},"N2O","Nitric acid plant (N2O destruction)",{"$f":"+N2O!$E$21","v":1.1954749909658409},"100 ton HNO3/day",{"$f":"+N2O!$E$19","v":59002.25},{"$f":"+N2O!$E$10*I256/1000000","v":0},{"$f":"N2O!$E$14*I256/1000000","v":0},null,0,{"$error":"#DIV/0!"},{"$error":"#DIV/0!"}]
[{"$f":"ROW(B257)","v":257},"Solar","PV pump replacing electric pump",{"$f":"Solar!$E$361","v":0},"1 pump",{"$f":"+Solar!$E$359","v":0},{"$f":"Solar!$E$349*I257/1000000","v":0},{"$f":"+Solar!$E$354*I257/1000000","v":0},null,{"$f":"F257*I257/1000","v":0},{"$f":"OFFSET(K257,-1,0)+J257","v":{"$error":"#DIV/0!"}},{"$error":"#DIV/0!"},null,null,{"$f":"(+Solar!$H$369*I257)/1000000","v":0}]
[null,null,"PV pump replacing diesel pump",{"$f":"Solar!$E$389","v":-139.91618112414818},"1 pump",{"$f":"+Solar!$E$387","v":12.699954539999998},{"$f":"Solar!$E$377*I258/1000000","v":0},{"$f":"+Solar!$E$382*I258/1000000","v":0},null,{"$f":"F258*I258/1000","v":0},{"$f":"OFFSET(K258,-1,0)+J258","v":{"$error":"#DIV/0!"}},{"$error":"#DIV/0!"},{"$f":"J258/3.1","v":0}]
[null,null,"Solar water heater, residential",{"$f":"Solar!$E$33","v":0},"1000 units",{"$f":"Solar!$E$31","v":0},{"$f":"+Solar!$E$21*I259/1000000","v":0},{"$f":"+Solar!$E$26*I259/1000000","v":0},null,{"$f":"F259*I259/1000","v":0},{"$f":"OFFSET(K259,-1,0)+J259","v":{"$error":"#DIV/0!"}},{"$f":"K259/Totalemis2030","v":{"$error":"#DIV/0!"}},null,null,{"$f":"+Solar!$H$39*I259/1000000","v":0}]
[null,null,"Solar water heater, large",{"$f":"+Solar!$E$60","v":0},"1 unit",{"$f":"+Solar!$E$58","v":0},{"$f":"+Solar!$E$48*I260/1000000","v":0},{"$f":"+Solar!$E$53*I260/1000000","v":0},null,{"$f":"(F260*I260)/1000","v":0},{"$f":"OFFSET(K260,-1,0,1,1)+J260","v":{"$error":"#DIV/0!"}},{"$error":"#DIV/0!"},null,null,{"$f":"+Solar!$H$68*I260/1000000","v":0}]
[null,null,"Solar PVs, large grid",{"$f":"Solar!$N$90","v":0},"1 MW",{"$f":"Solar!$N$88","v":0},{"$f":"+Solar!$N$78*I261/1000000","v":0},{"$f":"+Solar!$N$83*I261/1000000","v":0},null,0,{"$error":"#DIV/0!"},{"$error":"#DIV/0!"},null,null,null,{"$f":"+Solar!$Q$88*I261/1000","v":0}]
[null,null,"Solar PVs, large grid with 24h storage",{"$f":"Solar!$N$114","v":0},"1 MW",{"$f":"Solar!$N$112","v":0},{"$f":"+Solar!$N$102*I262/1000000","v":0},{"$f":"+Solar!$N$107*I262/1000000","v":0},null,0,{"$error":"#DIV/0!"},{"$f":"+K262/Totalemis2030","v":{"$error":"#DIV/0!"}},null,null,null,{"$f":"+Solar!$Q$112*I262/1000","v":0}]
[null,null,"Solar house PVs",{"$f":"+Solar!$E$139","v":0},"500 W",{"$f":"+Solar!$E$137","v":0},{"$f":"+Solar!$E$127*I263/1000000","v":0},{"$f":"+Solar!$E$132*I263/1000000","v":0},null,0,{"$error":"#DIV/0!"},{"$f":"+K263/Totalemis2030","v":{"$error":"#DIV/0!"}},null,null,null,{"$f":"+Solar!$H138*I263/1000","v":0}]
[null,null,"Solar cottage PVs",{"$f":"+Solar!$E$166","v":0},"50 W",{"$f":"+Solar!$E$164","v":0},{"$f":"+Solar!$E$154*I264/1000000","v":0},{"$f":"+Solar!$E$159*I264/1000000","v":0},null,0,{"$error":"#DIV/0!"},{"$f":"K264/Totalemis2030","v":{"$error":"#DIV/0!"}},null,null,null,{"$f":"+Solar!$H$169*I264/1000","v":0}]
[null,null,"Solar/diesel mini-grid",{"$f":"+Solar!$E$191","v":49.644079804749254},"40 kW from solar",{"$f":"+Solar!$E$189","v":58.400000000000006},{"$f":"+Solar!$E$179*I265/1000000","v":0},{"$f":"Solar!$E$184*I265/1000000","v":0},null,0,{"$error":"#DIV/0!"},{"$error":"#DIV/0!"},null,null,null,{"$f":"+Solar!$H$196*I265/1000","v":0}]
[null,null,"Solar LED lamps",{"$f":"+Solar!$E$303","v":-130.33365170942039},"1000 lamps",{"$f":"+Solar!$E$301","v":93.908173333333366},{"$f":"Solar!$E$291*I266/1000000","v":0},{"$f":"Solar!$E$296*I266/1000000","v":0},null,0,{"$error":"#DIV/0!"},{"$error":"#DIV/0!"}]
[null,null,"Solar PVs, small isolated grid, 100% solar",{"$f":"+Solar!$E$219","v":249.72792998477931},"2 MW",{"$f":"+Solar!$E$217","v":2628},{"$f":"+Solar!$E$207*I267/1000000","v":0},{"$f":"+Solar!$E$212*I267/1000000","v":0},null,0,{"$error":"#DIV/0!"},{"$error":"#DIV/0!"},null,null,null,{"$f":"+Solar!$H$222*I267/1000","v":0}]
[null,null,"Solar street lights",{"$f":"+Solar!$E$330","v":0},"1000 locations  (0.05 MW)",{"$f":"+Solar!$E$328","v":0},{"$f":"+Solar!$E$318*I268/1000000","v":0},{"$f":"+Solar!$E$323*I268/1000000","v":0},null,0,{"$error":"#DIV/0!"},{"$error":"#DIV/0!"},null,null,null,{"$f":"+Solar!$H$341*I268/1000","v":0}]
[null,null,"Parabolic through CSP, no storage",{"$f":"Solar!$N$248","v":0},"1 MW",{"$f":"Solar!$N$246","v":0},{"$f":"Solar!$N$236*I269/1000000","v":0},{"$f":"Solar!$N$241*I269/1000000","v":0},null,0,{"$error":"#DIV/0!"},{"$error":"#DIV/0!"},null,null,null,{"$f":"+Solar!$Q$244*I269/1000","v":0}]
[null,null,"Solar tower CSP, with storage",{"$f":"+Solar!$N$275","v":0},"1 MW",{"$f":"+Solar!$N$273","v":0},{"$f":"+Solar!$N$263*I270/1000000","v":0},{"$f":"+Solar!$N$268*I270/1000000","v":0},null,0,{"$error":"#DIV/0!"},{"$error":"#DIV/0!"},null,null,null,{"$f":"+Solar!$Q$271*I270/1000","v":0}]
[{"$f":"ROW(B271)","v":271},"Transport","20% Biodiesel blend in all  diesel",{"$f":"+Transport!$N$39","v":0},"20% blend in transport",{"$f":"+Transport!$N$37","v":0},{"$f":"+Transport!$N$27*I271/1000000","v":0},{"$f":"+Transport!$N$32*I271/1000000","v":0},null,0,{"$error":"#DIV/0!"},{"$f":"K271/Totalemis2030","v":{"$error":"#DIV/0!"}}]
[null,null,"15% Bioethanol blend in all gasoline",{"$f":"+Transport!$N$68","v":0},"15% blend in transport",{"$f":"+Transport!$N$66","v":0},{"$f":"+Transport!$N$55*I272/1000000","v":0},{"$f":"+Transport!$N$60*I272/1000000","v":0},null,0,{"$error":"#DIV/0!"},{"$error":"#DIV/0!"}]
[null,null,"Bus Rapid Transit (BRT)",{"$f":"Transport!$E$480","v":20.512423721756154},"1 km BRT line",{"$f":"+Transport!$E$478","v":1983.4616326530609},{"$f":"Transport!$E$467*I273/1000000","v":0},{"$f":"Transport!$E$473*I273/1000000","v":0},null,0,{"$f":"OFFSET(K273,-1,0,1,1)+J273","v":{"$error":"#DIV/0!"}},{"$error":"#DIV/0!"},{"$f":"J273/3.1","v":0}]
[null,null,"More efficient gasoline cars",{"$f":"+Transport!$E$99","v":-210.54575187549142},"1000 cars",{"$f":"+Transport!$E$97","v":408.90380487804828},{"$f":"+Transport!$E$86*I274/1000000","v":0},{"$f":"+Transport!$E$92*I274/1000000","v":0},null,0,{"$error":"#DIV/0!"},{"$error":"#DIV/0!"},null,{"$f":"J274/2.9","v":0}]
[null,null,"More efficient diesel cars",{"$f":"+Transport!$E$125","v":-158.52638703809453},"1000 cars",{"$f":"+Transport!$E$123","v":179.7212853333333},{"$f":"+Transport!$E$112*I275/1000000","v":0},{"$f":"+Transport!$E$118*I275/1000000","v":0},null,0,{"$error":"#DIV/0!"},{"$error":"#DIV/0!"},{"$f":"J275/3.1","v":0}]
[null,null,"Natural Gas cars",{"$f":"+Transport!$E$396","v":-193.28908089616741},"1000 cars using natural gas",{"$f":"+Transport!$E$394","v":778.08450104036592},{"$f":"+Transport!$E$384*I276/1000000","v":0},{"$f":"+Transport!$E$389*I276/1000000","v":0},null,0,{"$error":"#DIV/0!"},{"$error":"#DIV/0!"},{"$f":"J276/3.1","v":0}]
[null,null,"Electric cars",{"$f":"+Transport!$N$149","v":838.11403190334022},"1000 cars",{"$f":"+Transport!$N$147","v":1535.2615384615383},{"$f":"+Transport!$N$137*I277/1000000","v":0},{"$f":"+Transport!$N$142*I277/1000000","v":0},null,0,{"$error":"#DIV/0!"},{"$error":"#DIV/0!"},null,{"$f":"J277/2.9","v":0}]
[null,null,"Electric 18m buses",{"$f":"+Transport!$N$179","v":75.764478829343361},"1000 buses",{"$f":"+Transport!$N$177","v":70942.61263157893},{"$f":"+Transport!$N$167*I278/1000000","v":0},{"$f":"+Transport!$N$172*I278/1000000","v":0},null,0,{"$error":"#DIV/0!"},{"$error":"#DIV/0!"},{"$f":"J278/3.1","v":0}]
[null,null,"Electric 12m buses",{"$f":"+Transport!$N$210","v":251.05843745602607},"1000 buses",{"$f":"+Transport!$N$208","v":26958.192799999997},{"$f":"+Transport!$N$198*I279/1000000","v":0},{"$f":"+Transport!$N$203*I279/1000000","v":0},null,0,{"$error":"#DIV/0!"},{"$error":"#DIV/0!"},0]
[null,null,"Electric heavy trucks",{"$f":"+Transport!$N$241","v":955.86047942871107},"1000 trucks",{"$f":"+Transport!$N$239","v":28081.450833333325},{"$f":"+Transport!$N$229*I280/1000000","v":0},{"$f":"+Transport!$N$234*I280/1000000","v":0},null,0,{"$error":"#DIV/0!"},{"$error":"#DIV/0!"},0]
[null,null,"Electric light trucks",{"$f":"+Transport!$N$273","v":152.88471599235615},"1000 trucks",{"$f":"+Transport!$N$271","v":8513.1135157894751},{"$f":"+Transport!$N$261*I281/1000000","v":0},{"$f":"+Transport!$N$266*I281/1000000","v":0},null,0,{"$error":"#DIV/0!"},{"$error":"#DIV/0!"},0]
[null,null,"Electric rail ",{"$f":"+Transport!$E$305","v":529.90789219490932},"1 Million trainkm/year",{"$f":"+Transport!$E$303","v":6461.8788141599998},{"$f":"Transport!$E$293*I282/1000000","v":0},{"$f":"Transport!$E$298*I282/1000000","v":0},null,0,{"$error":"#DIV/0!"},{"$error":"#DIV/0!"},0]
[null,null,"Shifting passengers from car to rail",{"$f":"+Transport!$E$336","v":653.94483871636305},"1 Million personkm/day",{"$f":"+Transport!$E$334","v":35457.80333333333},{"$f":"+Transport!$E$324*I283/1000","v":0},{"$f":"+Transport!$E$329*I283/1000","v":0},null,0,{"$error":"#DIV/0!"},{"$error":"#DIV/0!"},0]
[null,null,"Shifting freight transport from road to rail",{"$f":"+Transport!$E$365","v":-1534.825994878948},"1000 tonkm/day",{"$f":"+Transport!$E$363","v":241.3646113413127},{"$f":"+Transport!$E$353*I284/1000","v":0},{"$f":"+Transport!$E$358*I284/1000","v":0},null,0,{"$error":"#DIV/0!"},{"$error":"#DIV/0!"},0]
[null,null,"Restriction on import of used cars",{"$f":"+Transport!$E$425","v":-210.54575187549128},"1000 cars",{"$f":"+Transport!$E$423","v":931.3919999999996},{"$f":"+Transport!$E$412*I285/1000000","v":0},{"$f":"+Transport!$E$418*I285/1000000","v":0},null,0,{"$error":"#DIV/0!"},{"$error":"#DIV/0!"},0]
[null,null,"New bicycle lanes",{"$f":"+Transport!$E$510","v":-148.09367209802946},"1 km bicycle lane",{"$f":"+Transport!$E$508","v":686.58271182439023},{"$f":"+Transport!$E$498*I286/1000000","v":0},{"$f":"+Transport!$E$503*I286/1000000","v":0},null,0,{"$error":"#DIV/0!"},{"$error":"#DIV/0!"},0]
[null,null,"Electric three-wheelers",{"$f":"+Transport!$E$536","v":-126.40003242852107},"1000 three-wheelers",{"$f":"+Transport!$E$534","v":500.22403199999997},{"$f":"Transport!$E$524*I287/1000000","v":0},{"$f":"Transport!$E$529*I287/1000000","v":0},null,0,{"$error":"#DIV/0!"},{"$f":"+K287/Totalemis2030","v":{"$error":"#DIV/0!"}},null,{"$f":"J287/2.9","v":0}]
[null,null,"Electric two-wheelers",{"$f":"+Transport!$E$565","v":495.52287085979833},"1000 two-wheelers",{"$f":"+Transport!$E$563","v":232.84799999999998},{"$f":"Transport!$E$553*I288/1000000","v":0},{"$f":"Transport!$E$558*I288/1000000","v":0},null,0,{"$error":"#DIV/0!"},{"$f":"+K288/Totalemis2030","v":{"$error":"#DIV/0!"}},null,{"$f":"J288/2.9","v":0}]
[null,null,"Better maintenance and use of motor bikes",{"$f":"+Transport!$E$452","v":-189.07251611654121},"1000 bikes",{"$f":"+Transport!$E$450","v":116.42400000000004},{"$f":"+Transport!$E$440*I289/1000000","v":0},{"$f":"+Transport!$E$445*I289/1000000","v":0},null,0,{"$f":"OFFSET(K289,-1,0,1,1)+J289","v":{"$error":"#DIV/0!"}},{"$f":"K289/Totalemis2030","v":{"$error":"#DIV/0!"}},null,{"$f":"J289/2.9","v":0}]
[{"$f":"ROW(B290)","v":290},"Wind","Wind turbines, on-shore",{"$f":"Wind!$N$23","v":0},"1 MW",{"$f":"Wind!$N$21","v":0},{"$f":"+Wind!$N$11*I290/1000000","v":0},{"$f":"+Wind!$N$16*I290/1000000","v":0},null,0,{"$error":"#DIV/0!"},{"$f":"K290/Totalemis2030","v":{"$error":"#DIV/0!"}},{"$f":"J290/3.1","v":0},null,null,{"$f":"+Wind!$Q$19*I290/1000","v":0}]
[null,null,"Wind turbines, on-shore with 24 storage",{"$f":"Wind!$N$47","v":0},"1 MW",{"$f":"Wind!$N$45","v":0},{"$f":"+Wind!$N$35*I291/1000000","v":0},{"$f":"+Wind!$N$40*I291/1000000","v":0},null,0,{"$error":"#DIV/0!"},{"$f":"+K291/Totalemis2030","v":{"$error":"#DIV/0!"}},{"$f":"J291/3.1","v":0},null,null,{"$f":"+Wind!$Q$43*I291/1000","v":0}]
[null,null,"Wind turbines, off-shore",{"$f":"Wind!$N$72","v":0},"1 MW",{"$f":"Wind!$N$70","v":0},{"$f":"+Wind!$N$60*I292/1000000","v":0},{"$f":"+Wind!$N$65*I292/1000000","v":0},null,0,{"$f":"OFFSET(K292,-1,0,1,1)+J292","v":{"$error":"#DIV/0!"}},{"$f":"K292/Totalemis2030","v":{"$error":"#DIV/0!"}},{"$f":"J292/3.1","v":0},null,null,{"$f":"+Wind!$Q$68*I292/1000","v":0}]
[{"$f":"ROW(B293)","v":293},"# GHG reduction options:",{"$f":"COUNTA(C174:C292)","v":119},null,null,"Totals:",{"$f":"SUM(G174:G292)","v":0},{"$f":"SUM(H174:H292)","v":0},null,null,null,null,{"$f":"SUM(M174:M292)","v":0},{"$f":"SUM(N174:N292)","v":0},{"$f":"SUM(O174:O292)","v":{"$error":"#DIV/0!"}},{"$f":"SUM(P174:P292)","v":0}]
[]
[null,null,null,null,null,"GHG emissions: ktCO2e in 2030",null,null,"BAU",null,null,"Reduction",null,null,"New total"]
[null,null,null,null,null,null,null,null,"CO2","CH4","N2O","CO2","CH4","N2O","GHG"]
[null,null,null,null,null,"1. Energy",null,null,{"$f":"I298+I305","v":0},{"$f":"J298+J305","v":0},0,{"$error":"#DIV/0!"},0,0,{"$f":"O298+O305","v":{"$error":"#DIV/0!"}}]
[null,null,null,null,null,"1.A. Fuel combustion",null,null,{"$f":"I299+I300+I301+I302+I303+I304","v":0},{"$f":"SUM(J299:J304)","v":0},{"$f":"SUM(K299:K304)","v":0},{"$f":"L299+L300+L301+L302+L303+L304","v":{"$error":"#DIV/0!"}},0,0,{"$f":"I298+J298+K298-L298-M298-N298","v":{"$error":"#DIV/0!"}}]
[null,null,null,null,null,"       1.A.1.  Energy industries",null,null,{"$f":"+'BAU projected GHG Balances'!$P$88","v":0},{"$f":"'BAU projected GHG Balances'!$E$114","v":0},{"$f":"'BAU projected GHG Balances'!$F$114","v":0},{"$f":"SUM(J$181:J$183)+J$184+SUM(J$217:J$223)+J$237+SUM(J$240:J$242)+J$250+J$251+SUM(J$260:J$265)+J$267+J$269+J$270+SUM(J$290:J$292)+J$257+J$258","v":0},null,null,{"$f":"SUM(I299:K299)-SUM(L299:N299)","v":0}]
[null,null,null,null,null,"1.A.2.  Manufacturing industries and construction",null,null,{"$f":"SUM('BAU projected GHG Balances'!$P$90:$P$101)","v":0},null,null,{"$f":"SUM(J$200:J$202)+J$198+J$199+J$231+J$232","v":{"$error":"#DIV/0!"}},null,null,{"$error":"#DIV/0!"}]
[null,null,null,null,null,"1.A.3.  Transport",null,null,{"$f":"SUM('BAU projected GHG Balances'!$P$102:$P$105)","v":0},null,null,{"$f":"SUM(J$271:J$289)","v":0},null,null,0]
[null,null,null,null,null,"1.A.4.b.  Residential ",null,null,{"$f":"+'BAU projected GHG Balances'!$P$106","v":0},null,null,{"$f":"SUM(J$187:J$197)+J$224+J$225+J$238+J$259+J$260+J$266","v":{"$error":"#DIV/0!"}},null,null,{"$error":"#DIV/0!"}]
[null,null,null,null,null,"1.A.4.a.  Commercial/institutional",null,null,{"$f":"+'BAU projected GHG Balances'!$P$107","v":0},null,null,{"$f":"SUM(J$203:J$216)+J$268","v":{"$error":"#DIV/0!"}},null,null,{"$error":"#DIV/0!"}]
[null,null,null,null,null,"1.A.4.c.  Agriculture/forestry/fishing",null,null,{"$f":"+'BAU projected GHG Balances'!$P$108","v":0},null,null,{"$f":"J$252+J$253","v":0},null,null,0]
[null,null,null,null,null,"1.B. Fugitive emissions from fuels",null,null,{"$f":"'BAU projected GHG Balances'!$D$115","v":0},{"$f":"'BAU projected GHG Balances'!$E$115","v":0},{"$f":"'BAU projected GHG Balances'!$F$115","v":0},{"$f":"SUM(J$233:J$234)+J$236","v":0},{"$f":"J$186+J$235","v":0},null,0]
[null,null,null,null,null,"2.  Industrial processes and product use",null,null,{"$f":"'BAU projected GHG Balances'!D$116+'BAU projected GHG Balances'!$P$109","v":0},{"$f":"'BAU projected GHG Balances'!E$116","v":0},{"$f":"'BAU projected GHG Balances'!F$116","v":0},{"$f":"J$185+J$239","v":0},null,{"$f":"J$256","v":0},0]
[null,null,null,null,null,"3.  Agriculture",null,null,{"$f":"'BAU projected GHG Balances'!D$122","v":0},{"$f":"'BAU projected GHG Balances'!E$122","v":0},{"$f":"'BAU projected GHG Balances'!F$122","v":0},{"$f":"SUM(J$175:J$176)+J$180","v":0},{"$f":"J$174+J$179+J$254","v":0},{"$f":"J$177+J$178","v":0},0]
[null,null,null,null,null,"4. Land use, land-use change and forestry",null,null,{"$f":"'BAU projected GHG Balances'!D$127","v":0},{"$f":"'BAU projected GHG Balances'!E$127","v":0},{"$f":"'BAU projected GHG Balances'!F$127","v":0},{"$f":"SUM(J$226:J$230)","v":0},null,null,0]
[null,null,null,null,null,"5. Waste",null,null,{"$f":"'BAU projected GHG Balances'!D$133","v":0},{"$f":"'BAU projected GHG Balances'!E$133","v":0},{"$f":"'BAU projected GHG Balances'!F$133","v":0},null,{"$f":"J$255+SUM(J$243:J$249)","v":0},null,0]
[null,null,null,null,null,"Total (including LULUCF)",null,null,{"$f":"I297+I306+I307+I308+I309","v":0},0,0,{"$error":"#DIV/0!"},0,0,{"$error":"#DIV/0!"}]
[null,null,null,null,null,"Total (excluding LULUCF)",null,null,{"$f":"I310-I308","v":0},0,0,{"$error":"#DIV/0!"},0,0,{"$error":"#DIV/0!"}]
[]
[]
[]
[]
[]
[]
[]
[]
[]
[]
[]
[]
[]
[]
[null,"Total GHG mitigation in",{"$f":"+Assumptions!$C$9","v":0},"In 2035"]
[null,null,null,null,null,"Emission","Investment","Annual","Units","Emission reduction in 2035",null,null,"Diesel","Gasoline","Electricity","Electricity",null,"Reduction option","US$/ktCO2 (Revenue)","Emission reduction in 2020 per option (ktCO2/yr)"]
[null,null,null,null,null,"reduction",null,"costs","penetrating","Per option","Added",null,"saved","saved","saved","produced"]
[null,"Type","Reduction option","US$/tCO2e","Sub-type unit","tCO2e/unit","Million US$","MUS$/year","in 2035","ktCO2e/year","ktCO2e/year","Frac.of total","ktoe","ktoe","GWh","GWh"]
[{"$f":"ROW(B330)","v":330},"Agriculture","Rice crop CH4 reduction",{"$f":"Agriculture!$E$30","v":1.2},"Rice crop CH4 red.(1000 ha)",{"$f":"Agriculture!$E$27","v":3421.6000000000004},{"$f":"Agriculture!$E$17*I330/1000000","v":0},{"$f":"Agriculture!$E$22*I330/1000000","v":0},null,{"$f":"F330*I330/1000","v":0},{"$f":"OFFSET(K330,-1,0)+J330","v":0},{"$f":"K330/TotalEmis2035","v":{"$error":"#DIV/0!"}},null,null,null,null,null,"Hydro power connected to main grid",358.20337391064447,144229.91250000001]
[null,null,"Zero tillage",{"$f":"+Agriculture!$E$194","v":-157.6154964832983},"1000 ha",{"$f":"+Agriculture!$E$192","v":85.727053103999992},{"$f":"Agriculture!$E$182*I331/1000000","v":0},{"$f":"Agriculture!$E$187*I331/1000000","v":0},null,0,0,{"$f":"K331/TotalEmis2035","v":{"$error":"#DIV/0!"}},null,null,null,null,null,"Wind turbines, on-shore",353.36321175438417,19420]
[null,null,"Cover crops",{"$f":"+Agriculture!$E$89","v":81.040268456375827},"1000 ha",{"$f":"+Agriculture!$E$87","v":1490},{"$f":"Agriculture!$E$77*I332/1000000","v":0},{"$f":"Agriculture!$E$82*I332/1000000","v":0},null,0,0,{"$f":"K332/TotalEmis2035","v":{"$error":"#DIV/0!"}},null,null,null,null,null,"Solar PVs, large grid",235.21646813494516,8860.375]
[null,null,"Nitrification inhibitors (1000 ha)",{"$f":"+Agriculture!$E$117","v":67.689873417721515},"1000 ha",{"$f":"+Agriculture!$E$115","v":790},{"$f":"Agriculture!$E$105*I333/1000000","v":0},{"$f":"Agriculture!$E$110*I333/1000000","v":0},null,0,{"$f":"OFFSET(K333,-1,0)+J333","v":0},{"$f":"K333/TotalEmis2035","v":{"$error":"#DIV/0!"}},null,null,null,null,null,"New bicycle lanes",175.20776103567539,68.658271182439023]
[null,null,"Covering slurry stores (1 slurry store)",{"$f":"+Agriculture!$E$143","v":496.77098857426722},"1 slurry store",{"$f":"+Agriculture!$E$141","v":0.20130000000000001},{"$f":"Agriculture!$E$131*I334/1000000","v":0},{"$f":"Agriculture!$E$136*I334/1000000","v":0},null,0,0,{"$f":"K334/TotalEmis2035","v":{"$error":"#DIV/0!"}},null,null,null,null,null,"Electric cars",64.336923922351488,753.31499999999971]
[null,null,"Fat supplementation in ruminants diets (%DM fat added) ",{"$f":"+Agriculture!$N$168","v":80.5},"%DM fat added",{"$f":"+Agriculture!$N$166","v":0},{"$f":"Agriculture!$N$156*I335/1000000","v":0},{"$f":"Agriculture!$N$161*I335/1000000","v":0},null,0,0,{"$f":"K335/TotalEmis2035","v":{"$error":"#DIV/0!"}},null,null,null,null,null,"Energy efficiency in industry",-0.94392925743255707,24884.9629674723]
[null,null,"Tobacco curing",{"$f":"+Agriculture!$E$62","v":-20.960693100011099},"100 t tobacco/yr",{"$f":"+Agriculture!$E$60","v":561.96940800000016},{"$f":"Agriculture!$E$50*I336/1000000","v":0},{"$f":"Agriculture!$E$55*I336/1000000","v":0},null,0,0,{"$f":"K336/TotalEmis2035","v":{"$error":"#DIV/0!"}},null,null,null,null,null,"Energy efficiency in service",-0.94392925743255718,8004.9501459912226]
[{"$f":"ROW(B337)","v":337},"Biomass energy","Rice husk cogeneration plants",{"$f":"+'Biomass energy'!$E$24","v":127.59687237849138},"1 MW cogeneration",{"$f":"+'Biomass energy'!$E$22","v":5757.3447425999984},{"$f":"+'Biomass energy'!$E$12*I337/1000000","v":0},{"$f":"+'Biomass energy'!$E$17*I337/1000000","v":0},null,0,0,{"$f":"K337/TotalEmis2035","v":{"$error":"#DIV/0!"}},null,null,null,{"$f":"+'Biomass energy'!$H$22/'Biomass energy'!$H$19*I337/1000","v":0},null,"Efficient electric grids",-145.2399599818103,13108.5]
[null,null,"Biomass power from biomass residues ",{"$f":"+'Biomass energy'!$N$57","v":0},"1 MW CHP plant",{"$f":"+'Biomass energy'!$N$55","v":0},{"$f":"+'Biomass energy'!$N$45*I338/1000000","v":0},{"$f":"+'Biomass energy'!$N$50*I338/1000000","v":0},null,0,0,{"$f":"K338/TotalEmis2035","v":{"$error":"#DIV/0!"}},null,null,null,{"$f":"+'Biomass energy'!$Q$53*I338/1000","v":0},null,"20% Biodiesel blend in all  diesel",-341.38428078461817,25478.183748382304]
[null,null,"Bagasse power",{"$f":"'Biomass energy'!$E$88","v":0},"100 kt sugar cane/year",{"$f":"'Biomass energy'!$E$86","v":0},{"$f":"'Biomass energy'!$E$76*I339/1000000","v":0},{"$f":"'Biomass energy'!$E$81*I339/1000000","v":0},null,0,0,{"$f":"K339/TotalEmis2035","v":{"$error":"#DIV/0!"}},null,null,null,{"$f":"'Biomass energy'!$H$87/'Biomass energy'!$H$81*100*I339/1000","v":0},null,"15% Bioethanol blend in all gasoline",-438.25908438907754,2013.7800739215268]
[{"$f":"ROW(B340)","v":340},"CCS","CCS plant",{"$f":"+CCS!$E$22","v":107.96190476190478},"1 MW",{"$f":"+CCS!$E$20","v":5412.3711340206182},{"$f":"CCS!$E$10*I340/1000000","v":0},{"$f":"CCS!$E$15*I340/1000000","v":0},null,0,0,{"$f":"K340/TotalEmis2035","v":{"$error":"#DIV/0!"}},null,null,null,{"$f":"+CCS!H16/CCS!$H$13*I340/1000","v":0},null,"Efficient hotel washing machine ",-38248.887086086368,6.3784140573812431E-2]
[{"$f":"ROW(B341)","v":341},"Cement","Clinker replacement",{"$f":"+Cement!$E$23","v":-3.3289122068909709},"1000 tonnes cement/day",{"$f":"+Cement!$E$21","v":164175.34722087739},{"$f":"Cement!$E$10*I341/1000000","v":0},{"$f":"Cement!$E$16*I341/1000000","v":0},null,0,0,{"$f":"K341/TotalEmis2035","v":{"$error":"#DIV/0!"}}]
[{"$f":"ROW(B342)","v":342},"Coal bed mine methane","Coal mine methane",{"$f":"+'Coal bed mine methane'!$E$24","v":7.6156689322941142},"10 Mm3 CMM/year",{"$f":"+'Coal bed mine methane'!$E$22","v":33818.400000000001},{"$f":"+'Coal bed mine methane'!$E$12/1000000*I342","v":0},{"$f":"+'Coal bed mine methane'!$E$17/1000000*I342","v":0},null,0,0,{"$f":"K342/TotalEmis2035","v":{"$error":"#DIV/0!"}},null,null,null,{"$f":"+'Coal bed mine methane'!$H$27/'Coal bed mine methane'!$H$22*10*I342/1000","v":0}]
[{"$f":"ROW(B343)","v":343},"EE households","Efficient residential airconditioning",{"$f":"+'EE households'!$E$30","v":{"$error":"#DIV/0!"}},"1000 Airconditioners",{"$f":"+'EE households'!$E$28","v":{"$error":"#DIV/0!"}},{"$f":"+'EE households'!$E$18*I343/1000000","v":0},{"$f":"+'EE households'!$E$23*I343/1000000","v":0},null,{"$error":"#DIV/0!"},{"$error":"#DIV/0!"},{"$f":"K343/TotalEmis2035","v":{"$error":"#DIV/0!"}},null,null,{"$f":"+'EE households'!$H$42*I343/1000","v":0}]
[null,null,"Efficient lighting with CFLs",{"$f":"+'EE households'!$E$64","v":{"$error":"#DIV/0!"}},"1000 Bulps",{"$f":"+'EE households'!$E$62","v":{"$error":"#DIV/0!"}},{"$f":"+'EE households'!$E$52*I344/1000000","v":0},{"$f":"+'EE households'!$E$57*I344/1000000","v":0},null,{"$error":"#DIV/0!"},{"$f":"OFFSET(K344,-1,0)+J344","v":{"$error":"#DIV/0!"}},{"$f":"K344/TotalEmis2035","v":{"$error":"#DIV/0!"}},null,null,{"$f":"'EE households'!$H$65*I344/1000","v":0}]
[null,null,"Efficient lighting with LEDs",{"$f":"+'EE households'!$E$96","v":{"$error":"#DIV/0!"}},"1000 Bulps",{"$f":"+'EE households'!$E$94","v":{"$error":"#DIV/0!"}},{"$f":"+'EE households'!$E$84*I345/1000000","v":0},{"$f":"+'EE households'!$E$89*I345/1000000","v":0},null,{"$error":"#DIV/0!"},{"$error":"#DIV/0!"},{"$f":"K345/TotalEmis2035","v":{"$error":"#DIV/0!"}},null,null,{"$f":"+'EE households'!$H$101*I345/1000","v":0}]
[null,null,"Efficient lighting with LEDs replacing CFL",{"$f":"+'EE households'!$E$122","v":{"$error":"#DIV/0!"}},"1000 Bulps",{"$f":"+'EE households'!$E$120","v":{"$error":"#DIV/0!"}},{"$f":"'EE households'!$E$110*I346/1000000","v":0},{"$f":"'EE households'!$E$115*I346/1000000","v":0},null,{"$error":"#DIV/0!"},{"$error":"#DIV/0!"},{"$f":"K346/TotalEmis2035","v":{"$error":"#DIV/0!"}},null,null,{"$f":"+'EE households'!$H125*I346/1000","v":0}]
[null,null,"Efficient wood stoves",{"$f":"+'EE households'!$E$178","v":-939.80904939809022},"1000 stoves",{"$f":"+'EE households'!$E$176","v":1338.3333333333335},{"$f":"+'EE households'!$E$166*I347/1000000","v":0},{"$f":"+'EE households'!$E$171*I347/1000000","v":0},null,0,{"$error":"#DIV/0!"},{"$f":"K347/TotalEmis2035","v":{"$error":"#DIV/0!"}}]
[null,null,"Efficient charcoal stoves",{"$f":"+'EE households'!$E$206","v":-71.000933997509335},"1000 stoves",{"$f":"+'EE households'!$E$204","v":292.91691871829062},{"$f":"+'EE households'!$E$194*I348/1000000","v":0},{"$f":"+'EE households'!$E$199*I348/1000000","v":0},null,0,{"$error":"#DIV/0!"},{"$f":"K348/TotalEmis2035","v":{"$error":"#DIV/0!"}}]
[null,null,"LPG stoves replacing wood stoves",{"$f":"+'EE households'!$E$238","v":73.526386172475128},"1000 stoves",{"$f":"+'EE households'!$E$236","v":2054.9439166666671},{"$f":"'EE households'!$E$226*I349/1000000","v":0},{"$f":"'EE households'!$E$231*I349/1000000","v":0},null,0,{"$error":"#DIV/0!"},{"$f":"K349/TotalEmis2035","v":{"$error":"#DIV/0!"}}]
[null,null,"Efficient electric stoves",{"$f":"+'EE households'!$E$267","v":{"$error":"#DIV/0!"}},"1000 stoves",{"$f":"+'EE households'!$E$265","v":{"$error":"#DIV/0!"}},{"$f":"'EE households'!$E$255*I350/1000000","v":0},{"$f":"'EE households'!$E$260*I350/1000000","v":0},null,{"$error":"#DIV/0!"},{"$error":"#DIV/0!"},{"$f":"K350/TotalEmis2035","v":{"$error":"#DIV/0!"}},null,null,{"$f":"'EE households'!$H$274*I350/1000","v":0}]
[null,null,"Induction based cooking",{"$f":"+'EE households'!$E$293","v":{"$error":"#DIV/0!"}},"1000 stoves",{"$f":"+'EE households'!$E$291","v":{"$error":"#DIV/0!"}},{"$f":"'EE households'!$E$281*I351/1000000","v":0},{"$f":"'EE households'!$E$286*I351/1000000","v":0},null,{"$error":"#DIV/0!"},{"$error":"#DIV/0!"},{"$f":"K351/TotalEmis2035","v":{"$error":"#DIV/0!"}},null,null,{"$f":"'EE households'!$H$301*I351/1000","v":0}]
[null,null,"New passive home",{"$f":"+'EE households'!$E$321","v":{"$error":"#DIV/0!"}},"1000 new homes",{"$f":"+'EE households'!E$319","v":{"$error":"#DIV/0!"}},{"$f":"'EE households'!$E$309*I352/1000000","v":0},{"$f":"+I352*'EE households'!$E$314/1000000","v":0},null,{"$error":"#DIV/0!"},{"$error":"#DIV/0!"},{"$f":"K352/TotalEmis2035","v":{"$error":"#DIV/0!"}},null,null,{"$f":"'EE households'!$H$326*I352/1000","v":0}]
[null,null,"Efficient refrigerators",{"$f":"+'EE households'!$E$148","v":{"$error":"#DIV/0!"}},"1000 refrigerators",{"$f":"+'EE households'!$E$146","v":{"$error":"#DIV/0!"}},{"$f":"+'EE households'!$E$136*I353/1000000","v":0},{"$f":"+'EE households'!$E$141*I353/1000000","v":0},null,{"$error":"#DIV/0!"},{"$error":"#DIV/0!"},{"$f":"K353/TotalEmis2035","v":{"$error":"#DIV/0!"}},null,null,{"$f":"+'EE households'!$H$159*I353/1000","v":0}]
[{"$f":"ROW(B354)","v":354},"EE industry","Efficient electric motors",{"$f":"+'EE industry'!$E$25","v":{"$error":"#DIV/0!"}},"1 kW",{"$f":"+'EE industry'!$E$23","v":{"$error":"#DIV/0!"}},{"$f":"+'EE industry'!$E$13*I354/1000000","v":0},{"$f":"+'EE industry'!$E$18*I354/1000000","v":0},null,{"$error":"#DIV/0!"},{"$error":"#DIV/0!"},{"$f":"K354/TotalEmis2035","v":{"$error":"#DIV/0!"}},null,null,{"$f":"I354*'EE industry'!$H$25/1000000","v":0}]
[null,null,"Energy efficiency in industry",{"$f":"+'EE industry'!$N$84","v":0},"10% red. of energy demand",{"$f":"+'EE industry'!$N$82","v":0},{"$f":"+'EE industry'!$N$72*I355/1000000","v":0},{"$f":"'EE industry'!$N$77*I355/1000000","v":0},null,0,{"$error":"#DIV/0!"},{"$f":"K355/TotalEmis2035","v":{"$error":"#DIV/0!"}}]
[null,null,"Building materials",{"$f":"+'EE industry'!$E$55","v":-19.573889817018777},"1 million bricks",{"$f":"+'EE industry'!$E$53","v":520.30000000000007},{"$f":"'EE industry'!$E$43*I356/1000000","v":0},{"$f":"'EE industry'!$E$48*I356/1000000","v":0},null,0,{"$error":"#DIV/0!"},{"$f":"K356/TotalEmis2035","v":{"$error":"#DIV/0!"}}]
[{"$f":"ROW(B357)","v":357},"EE own generation","Waste heat recovery at cement plant",{"$f":"+'EE own generation'!$E$23","v":0},"1 Cement plant",{"$f":"+'EE own generation'!$E$21","v":0},{"$f":"+'EE own generation'!$E$11*I357/1000000","v":0},{"$f":"+'EE own generation'!$E$16*I357/1000000","v":0},null,0,{"$error":"#DIV/0!"},{"$f":"K357/TotalEmis2035","v":{"$error":"#DIV/0!"}},null,null,null,{"$f":"+'EE own generation'!$H$17*'Mitigation options'!I357/1000","v":0}]
[null,null,"Waste heat recovery at steel plant",{"$f":"+'EE own generation'!$E$53","v":0},"1 Steel plant",{"$f":"+'EE own generation'!$E$51","v":0},{"$f":"+'EE own generation'!$E$41*I358/1000000","v":0},{"$f":"+'EE own generation'!$E$46*I358/1000000","v":0},null,0,{"$error":"#DIV/0!"},{"$f":"K358/TotalEmis2035","v":{"$error":"#DIV/0!"}},null,null,null,{"$f":"'EE own generation'!$H$46*'Mitigation options'!I358/1000","v":0}]
[{"$f":"ROW(B359)","v":359},"EE service","Efficient electric motors",{"$f":"+'EE service'!$E$29","v":{"$error":"#DIV/0!"}},"1 kW",{"$f":"+'EE service'!$E$27","v":{"$error":"#DIV/0!"}},{"$f":"+'EE service'!$E$17*I359/1000000","v":0},{"$f":"+'EE service'!$E$22*I359/1000000","v":0},null,{"$error":"#DIV/0!"},{"$error":"#DIV/0!"},{"$f":"K359/TotalEmis2035","v":{"$error":"#DIV/0!"}},null,null,{"$f":"I359*'EE service'!$H$29/1000000","v":0}]
[null,null,"Efficient office lighting with CFLs",{"$f":"+'EE service'!$E$57","v":{"$error":"#DIV/0!"}},"1000 lights",{"$f":"+'EE service'!$E$55","v":{"$error":"#DIV/0!"}},{"$f":"+'EE service'!$E$45*I360/1000000","v":0},{"$f":"+'EE service'!$E$50*I360/1000000","v":0},null,{"$error":"#DIV/0!"},{"$error":"#DIV/0!"},{"$f":"K360/TotalEmis2035","v":{"$error":"#DIV/0!"}},null,null,{"$f":"+'EE service'!$H$57*I360/1000","v":0}]
[null,null,"Efficient office lighting with LEDs",{"$f":"+'EE service'!$E$89","v":{"$error":"#DIV/0!"}},"1000 lights",{"$f":"+'EE service'!$E$87","v":{"$error":"#DIV/0!"}},{"$f":"+'EE service'!$E$77*I361/1000000","v":0},{"$f":"+'EE service'!$E$82*I361/1000000","v":0},null,{"$error":"#DIV/0!"},{"$error":"#DIV/0!"},{"$f":"K361/TotalEmis2035","v":{"$error":"#DIV/0!"}},null,null,{"$f":"+'EE service'!$H$89*I361/1000","v":0}]
[null,null,"Efficient street lights",{"$f":"+'EE service'!$E$123","v":{"$error":"#DIV/0!"}},"1000 lights",{"$f":"+'EE service'!$E$121","v":{"$error":"#DIV/0!"}},{"$f":"+'EE service'!$E$111*I362/1000000","v":0},{"$f":"+'EE service'!$E$116*I362/1000000","v":0},null,{"$error":"#DIV/0!"},{"$error":"#DIV/0!"},{"$f":"K362/TotalEmis2035","v":{"$error":"#DIV/0!"}},null,null,{"$f":"+'EE service'!$H$136*I362/1000","v":0}]
[null,null,"Efficient water pumping",{"$f":"+'EE service'!$E$159","v":{"$error":"#DIV/0!"}},"4 Million m3 water",{"$f":"+'EE service'!$E$157","v":{"$error":"#DIV/0!"}},{"$f":"+'EE service'!$E$147*I363/1000000","v":0},{"$f":"+'EE service'!$E$152*I363/1000000","v":0},null,{"$error":"#DIV/0!"},{"$error":"#DIV/0!"},{"$f":"K363/TotalEmis2035","v":{"$error":"#DIV/0!"}},null,null,{"$f":"+'EE service'!$H$158*I363","v":0}]
[null,null,"HVAC",{"$f":"+'EE service'!$E$248","v":0},"100,000 m2 floor area",{"$f":"+'EE service'!$E$246","v":0},{"$f":"'EE service'!$E$236*I364/1000000","v":0},{"$f":"'EE service'!$E$241*I364/1000000","v":0},null,0,{"$error":"#DIV/0!"},{"$f":"K364/TotalEmis2035","v":{"$error":"#DIV/0!"}},null,null,{"$f":"+'EE service'!$H$254*I364/1000","v":0}]
[null,null,"Efficient Chiller > 300 TR",{"$f":"+'EE service'!$E$277","v":22.896661292960445},"1 TR",{"$f":"+'EE service'!$E$275","v":1.4266999999999999},{"$f":"'EE service'!$E$265*I365/1000000","v":0},{"$f":"'EE service'!$E$270*I365/1000000","v":0},null,0,{"$error":"#DIV/0!"},{"$f":"+K365/TotalEmis2035","v":{"$error":"#DIV/0!"}},null,null,{"$f":"+'EE service'!$H$290*I365/1000000","v":0}]
[null,null,"Efficient Chiller < 300 TR",{"$f":"+'EE service'!$E$309","v":42.055092170743677},"1 TR",{"$f":"+'EE service'!$E$307","v":0.71334999999999993},{"$f":"'EE service'!$E$297*I366/1000000","v":0},{"$f":"'EE service'!$E$302*I366/1000000","v":0},null,0,{"$error":"#DIV/0!"},{"$f":"+K366/TotalEmis2035","v":{"$error":"#DIV/0!"}},null,null,{"$f":"+'EE service'!$H$321*I366/1000000","v":0}]
[null,null,"Efficient room airconditioner",{"$f":"+'EE service'!$E$341","v":{"$error":"#DIV/0!"}},"1 Airconditioner",{"$f":"+'EE service'!$E$339","v":{"$error":"#DIV/0!"}},{"$f":"'EE service'!$E$329*I367/1000000","v":0},{"$f":"'EE service'!$E$334*I367/1000000","v":0},null,{"$error":"#DIV/0!"},{"$error":"#DIV/0!"},{"$f":"+K367/TotalEmis2035","v":{"$error":"#DIV/0!"}},null,null,{"$f":"+'EE service'!$H$353*I367/1000000","v":0}]
[null,null,"Efficient commercial dishwashing machine ",{"$f":"+'EE service'!$E$374","v":0},"1000 meals/day",{"$f":"+'EE service'!$E$372","v":0},{"$f":"'EE service'!$E$362*I368/1000000","v":0},{"$f":"'EE service'!$E$367*I368/1000000","v":0},null,0,{"$error":"#DIV/0!"},{"$f":"+K368/TotalEmis2035","v":{"$error":"#DIV/0!"}},null,null,{"$f":"+'EE service'!$H$388*I368/1000000","v":0}]
[null,null,"Efficient hotel refrigerator",{"$f":"+'EE service'!$E$409","v":{"$error":"#DIV/0!"}},"1 refrigerator",{"$f":"+'EE service'!$E$407","v":{"$error":"#DIV/0!"}},{"$f":"'EE service'!$E$397*I369/1000000","v":0},{"$f":"'EE service'!$E$402*I369/1000000","v":0},null,{"$error":"#DIV/0!"},{"$error":"#DIV/0!"},{"$f":"+K369/TotalEmis2035","v":{"$error":"#DIV/0!"}},null,null,{"$f":"+'EE service'!$H$415*I369/1000000","v":0}]
[null,null,"Efficient hotel washing machine ",{"$f":"+'EE service'!$E$439","v":{"$error":"#DIV/0!"}},"1000 Guest Nights (GN)",{"$f":"+'EE service'!$E$437","v":{"$error":"#DIV/0!"}},{"$f":"'EE service'!$E$427*I370/1000000","v":0},{"$f":"'EE service'!$E$432*I370/1000000","v":0},null,{"$error":"#DIV/0!"},{"$error":"#DIV/0!"},{"$f":"+K370/TotalEmis2035","v":{"$error":"#DIV/0!"}},null,null,{"$f":"+'EE service'!$H$459*I370/1000000","v":0}]
[null,null,"Energy efficiency in service",{"$f":"+'EE service'!$N$223","v":0},"10% red. of energy demand",{"$f":"+'EE service'!$N$221","v":0},{"$f":"'EE service'!$N$211*I371/1000000","v":0},{"$f":"'EE service'!$N$216*I371/1000000","v":0},null,0,{"$error":"#DIV/0!"},{"$f":"+K371/TotalEmis2035","v":{"$error":"#DIV/0!"}}]
[null,null,"New office building with central cooling",{"$f":"+'EE service'!$E$188","v":{"$error":"#DIV/0!"}},"1000 m2",{"$f":"+'EE service'!$E$186","v":{"$error":"#DIV/0!"}},{"$f":"+'EE service'!$E$176*I372/1000000","v":0},{"$f":"+'EE service'!$E$181*I372/1000000","v":0},null,{"$f":"(F372*I372)/1000","v":{"$error":"#DIV/0!"}},{"$f":"OFFSET(K372,-1,0,1,1)+J372","v":{"$error":"#DIV/0!"}},{"$f":"+K372/TotalEmis2035","v":{"$error":"#DIV/0!"}},null,null,{"$f":"+'EE service'!$H$201*I372*1000/1000","v":0}]
[{"$f":"ROW(B373)","v":373},"EE supply side","New natural gas power plant",{"$f":"'EE supply side'!$N$25","v":-81.299877173082734},"1 MW",{"$f":"+'EE supply side'!$N$23","v":-2692.8},{"$f":"+'EE supply side'!$N$13/1000000*I373","v":0},{"$f":"+'EE supply side'!$N$18/1000000*I373","v":0},null,{"$f":"(F373*I373)/1000","v":0},{"$f":"OFFSET(K373,-1,0,1,1)+J373","v":{"$error":"#DIV/0!"}},{"$f":"+K373/TotalEmis2035","v":{"$error":"#DIV/0!"}}]
[null,null,"Switch from fuel oil to natural gas",{"$f":"'EE supply side'!$E$172","v":-339.53206503966459},"1 MW",{"$f":"+'EE supply side'!$E$170","v":1454.3571428571436},{"$f":"+'EE supply side'!$E$160/1000000*I374","v":0},{"$f":"+'EE supply side'!$E$165/1000000*I374","v":0},null,0,{"$error":"#DIV/0!"},{"$f":"+K374/TotalEmis2035","v":{"$error":"#DIV/0!"}}]
[null,null,"Cogeneration in industry",{"$f":"+'EE supply side'!$E$113","v":-57.542861861768735},"1 MW",{"$f":"+'EE supply side'!$E$111","v":-6633.0554875199996},{"$f":"+'EE supply side'!$E$102*I375/1000000","v":0},{"$f":"+'EE supply side'!$E$106*I375/1000000","v":0},null,0,{"$error":"#DIV/0!"},{"$f":"+K375/TotalEmis2035","v":{"$error":"#DIV/0!"}},null,null,{"$f":"+'EE supply side'!$H$112*I375/1000","v":0}]
[null,null,"Single cycle to combined cycle",{"$f":"+'EE supply side'!$E$83","v":0},"100 MW increase",{"$f":"+'EE supply side'!$E$81","v":0},{"$f":"'EE supply side'!$E$72*I376/1000000","v":0},{"$f":"'EE supply side'!$E$76*I376/1000000","v":0},null,0,{"$error":"#DIV/0!"},{"$f":"+K376/TotalEmis2035","v":{"$error":"#DIV/0!"}},null,null,{"$f":"+'EE supply side'!$H$91*I376/1000","v":0}]
[{"$f":"ROW(B377)","v":377},"Energy distribution","Efficient electric grids",{"$f":"+'Energy distribution'!$E$26","v":0},"1 GWh loss reduction",{"$f":"+'Energy distribution'!$E$24","v":0},{"$f":"+'Energy distribution'!$E$14*I377/1000000","v":0},{"$f":"+'Energy distribution'!$E$19*I377/1000000","v":0},null,0,{"$error":"#DIV/0!"},{"$f":"+K377/TotalEmis2035","v":{"$error":"#DIV/0!"}},null,null,{"$f":"+I377*'Energy distribution'!$H$22","v":{"$error":"#DIV/0!"}}]
[null,null,"Connection of isolated grid to central grid ",{"$f":"+'Energy distribution'!$E$55","v":0},"1 GWh consumption",{"$f":"+'Energy distribution'!$E$53","v":0},{"$f":"+'Energy distribution'!$E$43*I378/1000000","v":0},{"$f":"+'Energy distribution'!$E$48*I378/1000000","v":0},null,0,{"$error":"#DIV/0!"},{"$f":"+K378/TotalEmis2035","v":{"$error":"#DIV/0!"}}]
[null,null,"Power factor increase",{"$f":"+'Energy distribution'!$E$85","v":0},"1000 commerce/industry buildings",{"$f":"+'Energy distribution'!$E$83","v":0},{"$f":"'Energy distribution'!$E$73*I379/1000000","v":0},{"$f":"'Energy distribution'!$E$78*I379/1000000","v":0},null,0,{"$error":"#DIV/0!"},{"$f":"+K379/TotalEmis2035","v":{"$error":"#DIV/0!"}},null,null,{"$f":"I379*'Energy distribution'!$H$92","v":0}]
[null,null,"District heating network rehabilitation (100,000 flats supplied)",{"$f":"+'Energy distribution'!$E$114","v":-158.05408627123262},"100,000 flats supplied",{"$f":"+'Energy distribution'!$E$112","v":33649.053412333342},{"$f":"'Energy distribution'!$E$101*I380/1000000","v":0},{"$f":"'Energy distribution'!$E$107*I380/1000000","v":0},null,0,{"$error":"#DIV/0!"},{"$f":"+K380/TotalEmis2035","v":{"$error":"#DIV/0!"}}]
[null,null,"District cooling network (1 million m2 new city area covered)",{"$f":"+'Energy distribution'!$E$153","v":-189.15402700930974},"1 million m2 new city area covered",{"$f":"+'Energy distribution'!$E$151","v":13725.623132042594},{"$f":"'Energy distribution'!$E$141*I381/1000000","v":0},{"$f":"'Energy distribution'!$E$146*I381/1000000","v":0},null,0,{"$error":"#DIV/0!"},{"$f":"+K381/TotalEmis2035","v":{"$error":"#DIV/0!"}}]
[{"$f":"ROW(B382)","v":382},"Forestry","Reforestation",{"$f":"+Forestry!$E$28","v":8.1818181818181817},"Reforestation of 1000 ha",{"$f":"Forestry!$E$26","v":3666.666666666667},{"$f":"Forestry!$E$15*I382/1000000","v":0},{"$f":"Forestry!$E$21/1000000*I382","v":0},null,0,{"$error":"#DIV/0!"},{"$f":"+K382/TotalEmis2035","v":{"$error":"#DIV/0!"}}]
[null,null,"REDD: Avoided deforestation",{"$f":"+Forestry!$E$56","v":-5.5},"No deforestation for 1000 ha",{"$f":"Forestry!$E$54","v":3666.666666666667},{"$f":"Forestry!$E$44*I383/1000000","v":0},{"$f":"Forestry!$E$49/1000000*I383","v":0},null,0,{"$error":"#DIV/0!"},{"$f":"+K383/TotalEmis2035","v":{"$error":"#DIV/0!"}}]
[null,null,"Assisted forest regeneration",{"$f":"Forestry!$E$84","v":-2.0454545454545454},"Reforestation of 1000 ha",{"$f":"Forestry!$E$82","v":3666.666666666667},{"$f":"Forestry!$E$72/1000000*I384","v":0},{"$f":"Forestry!$E$77/1000000*I384","v":0},null,0,{"$error":"#DIV/0!"},{"$f":"+K384/TotalEmis2035","v":{"$error":"#DIV/0!"}}]
[null,null,"Reforestation with agroforestry",{"$f":"Forestry!$E$113","v":-0.27272727272727271},"Reforestation of 1000 ha",{"$f":"Forestry!$E$111","v":3666.666666666667},{"$f":"Forestry!$E$100/1000000*I385","v":0},{"$f":"Forestry!$E$106/1000000*I385","v":0},null,0,{"$error":"#DIV/0!"},{"$f":"+K385/TotalEmis2035","v":{"$error":"#DIV/0!"}}]
[null,null,"Reforestation with Silvopasture",{"$f":"Forestry!$E$143","v":-0.27272727272727271},"Reforestation of 1000 ha",{"$f":"Forestry!$E$141","v":3666.666666666667},{"$f":"Forestry!$E$130/1000000*I386","v":0},{"$f":"Forestry!$E$136/1000000*I386","v":0},null,0,{"$error":"#DIV/0!"},{"$f":"+K386/TotalEmis2035","v":{"$error":"#DIV/0!"}}]
[{"$f":"ROW(B387)","v":387},"Fossil fuel switch","Switch from coal to natural gas in industry",{"$f":"+'Fossil fuel switch'!$E$24","v":29.648354344806059},"100 TJ fuel use/year",{"$f":"+'Fossil fuel switch'!$E$22","v":3850},{"$f":"'Fossil fuel switch'!$E$12/1000000*I387","v":0},{"$f":"'Fossil fuel switch'!$E$17/1000000*I387","v":0},null,0,{"$error":"#DIV/0!"},{"$f":"+K387/TotalEmis2035","v":{"$error":"#DIV/0!"}}]
[null,null,"Switch from fuel oil to natural gas in industry",{"$f":"'Fossil fuel switch'!$E$53","v":-136.87543961201254},"100 TJ fuel use/year",{"$f":"'Fossil fuel switch'!$E$51","v":2126.6666666666679},{"$f":"'Fossil fuel switch'!$E$41/1000000*I388","v":0},{"$f":"'Fossil fuel switch'!$E$46/1000000*I388","v":0},null,0,{"$error":"#DIV/0!"},{"$f":"+K388/TotalEmis2035","v":{"$error":"#DIV/0!"}}]
[{"$f":"ROW(B389)","v":389},"Fugitive","Reduced flaring at oil field",{"$f":"+Fugitive!$E$25","v":-11.666162152975813},"1 MMSCF/day",{"$f":"+Fugitive!$E$23","v":22613.499908999998},{"$f":"+Fugitive!$E$13*I389/1000000","v":0},{"$f":"+Fugitive!$E$18*I389/1000000","v":0},null,0,{"$error":"#DIV/0!"},{"$f":"+K389/TotalEmis2035","v":{"$error":"#DIV/0!"}}]
[null,null,"Reduced flaring at oil refineries",{"$f":"+Fugitive!$E$54","v":159.98532895280397},"1 MMSCF/day",{"$f":"+Fugitive!$E$52","v":20797.217999999997},{"$f":"+Fugitive!$E$42*I390/1000000","v":0},{"$f":"+Fugitive!$E$47*I390/1000000","v":0},null,0,{"$error":"#DIV/0!"},{"$f":"+K390/TotalEmis2035","v":{"$error":"#DIV/0!"}}]
[null,null,"Leak reduction in natural gas pipelines",{"$f":"Fugitive!$E$81","v":-4.7340603277169917},"1 Mm3 CH/year leaking",{"$f":"+Fugitive!$E$79","v":20104.000000000004},{"$f":"Fugitive!$E$69*I391/1000000","v":0},{"$f":"Fugitive!$E$74*I391/1000000","v":0},null,0,{"$error":"#DIV/0!"},{"$f":"+K391/TotalEmis2035","v":{"$error":"#DIV/0!"}}]
[null,null,"Charcoal production",{"$f":"+Fugitive!$E$108","v":0.76723985653613069},"100,000 ton charcoal/yr",{"$f":"+Fugitive!$E$106","v":156404.80480480485},{"$f":"Fugitive!$E$97*I392/1000000","v":0},{"$f":"Fugitive!$E$101*I392/1000000","v":0},null,0,{"$error":"#DIV/0!"},{"$f":"+K392/TotalEmis2035","v":{"$error":"#DIV/0!"}}]
[{"$f":"ROW(B393)","v":393},"Geothermal","Geothermal power",{"$f":"+Geothermal!$N$22","v":0},"1 MW",{"$f":"+Geothermal!$N$20","v":0},{"$f":"+Geothermal!$N$10*I393/1000000","v":0},{"$f":"+Geothermal!$N$15*I393/1000000","v":0},null,0,{"$error":"#DIV/0!"},{"$f":"+K393/TotalEmis2035","v":{"$error":"#DIV/0!"}},null,null,null,{"$f":"+Geothermal!$Q$18*I393/1000","v":0}]
[null,null,"Geothermal heat",{"$f":"+Geothermal!$E$50","v":-12.72414473942839},"1000 m2 heated area",{"$f":"+Geothermal!$E$48","v":17.056285714285721},{"$f":"Geothermal!$E$38*I394/1000000","v":0},{"$f":"Geothermal!$E$43*I394/1000000","v":0},null,0,{"$error":"#DIV/0!"},{"$f":"+K394/TotalEmis2035","v":{"$error":"#DIV/0!"}}]
[{"$f":"ROW(B395)","v":395},"HFCs, PFCs, SF6","Reduced PFCs from aluminum production",{"$f":"+'HFCs, PFCs, SF6'!$E$22","v":-3.4084892300915444E-2},"100,000 ton Aluminium/yr",{"$f":"+'HFCs, PFCs, SF6'!$E$20","v":-64696},{"$f":"+'HFCs, PFCs, SF6'!$E$10*I395/1000000","v":0},{"$f":"+'HFCs, PFCs, SF6'!$E$15*I395/1000000","v":0},null,0,{"$error":"#DIV/0!"},{"$f":"+K395/TotalEmis2035","v":{"$error":"#DIV/0!"}}]
[{"$f":"ROW(B396)","v":396},"Hydro","Hydro power connected to main grid",{"$f":"+Hydro!$N$25","v":0},"1 MW",{"$f":"+Hydro!$N$23","v":0},{"$f":"+Hydro!$N$13*I396/1000000","v":0},{"$f":"+Hydro!$N$18*I396/1000000","v":0},null,0,{"$error":"#DIV/0!"},{"$f":"+K396/TotalEmis2035","v":{"$error":"#DIV/0!"}},null,null,null,{"$f":"+Hydro!$Q$21*I396/1000","v":0}]
[null,null,"Mini hydro power connected to main grid",{"$f":"+Hydro!$E$54","v":0},"1 MW",{"$f":"+Hydro!$E$52","v":0},{"$f":"+Hydro!$E$42*I397/1000000","v":0},{"$f":"+Hydro!$E$47*I397/1000000","v":0},null,0,{"$error":"#DIV/0!"},{"$f":"+K397/TotalEmis2035","v":{"$error":"#DIV/0!"}},null,null,null,{"$f":"Hydro!$H$50/Hydro!$H$47*I397/1000","v":0}]
[null,null,"Mini hydro power off grid",{"$f":"+Hydro!$E$83","v":-71.909842771818788},"1 MW",{"$f":"+Hydro!$E$81","v":3231.9999999999995},{"$f":"+Hydro!$E$71*I398/1000000","v":0},{"$f":"Hydro!$E$76*I398/1000000","v":0},null,0,{"$error":"#DIV/0!"},{"$f":"+K398/TotalEmis2035","v":{"$error":"#DIV/0!"}},null,null,null,{"$f":"Hydro!$H$77/Hydro!$H$74*I398/1000","v":0}]
[{"$f":"ROW(B399)","v":399},"Landfills","Landfill gas plant with power production",{"$f":"Landfills!$E$27","v":4.9007373033746724},"200 t/day plant",{"$f":"Landfills!$E$25","v":165886.95200000002},{"$f":"+Landfills!$E$15*I399/1000000","v":0},{"$f":"+Landfills!$E$20*I399/1000000","v":0},null,0,{"$error":"#DIV/0!"},{"$f":"+K399/TotalEmis2035","v":{"$error":"#DIV/0!"}},null,null,null,{"$f":"+Landfills!$H$36*I399/1000","v":0}]
[null,null,"Landfill gas flaring",{"$f":"+Landfills!$E$118","v":476.51498863888366},"1 t/day plant",{"$f":"+Landfills!$E$116","v":165886.95200000002},{"$f":"+Landfills!$E$106*I400/1000000","v":0},{"$f":"Landfills!$E$111*I400/1000000","v":0},null,0,{"$error":"#DIV/0!"},{"$f":"+K400/TotalEmis2035","v":{"$error":"#DIV/0!"}}]
[null,null,"Incineration plant",{"$f":"+Landfills!$E$91","v":46.439980403039769},"200 t/day plant",{"$f":"Landfills!$E$89","v":124415.21400000001},{"$f":"Landfills!$E$79*I401/1000000","v":0},{"$f":"Landfills!$E$84*I401/1000000","v":0},null,0,{"$error":"#DIV/0!"},{"$f":"+K401/TotalEmis2035","v":{"$error":"#DIV/0!"}}]
[null,null,"Recycling of plastics",{"$f":"+Landfills!$E$197","v":-255.84635716143856},"1000 t/year plant",{"$f":"Landfills!$E$195","v":833.25},{"$f":"Landfills!$E$184*I402/1000000","v":0},{"$f":"Landfills!$E$190*I402/1000000","v":0},null,0,{"$error":"#DIV/0!"},{"$f":"+K402/TotalEmis2035","v":{"$error":"#DIV/0!"}}]
[null,null,"Refuce Derived Fuel (RDF) from MSW",{"$f":"+Landfills!$E$171","v":51.693454591314826},"200 t MSW/day plant",{"$f":"Landfills!$E$169","v":20389.428571428572},{"$f":"Landfills!$E$159*I403/1000000","v":0},{"$f":"Landfills!$E$164*I403/1000000","v":0},null,0,{"$error":"#DIV/0!"},{"$f":"+K403/TotalEmis2035","v":{"$error":"#DIV/0!"}}]
[null,null,"Biogas from Municipal Solid Waste",{"$f":"+Landfills!$E$146","v":0.11077632045373981},"1000 t/year plant",{"$f":"+Landfills!$E$144","v":16248.960000000001},{"$f":"+Landfills!$E$134*I404/1000000","v":0},{"$f":"Landfills!$E$139*I404/1000000","v":0},null,0,{"$error":"#DIV/0!"},{"$f":"+K404/TotalEmis2035","v":{"$error":"#DIV/0!"}}]
[null,null,"Composting of Municipal Solid Waste",{"$f":"+Landfills!$E$63","v":-0.10545358888876404},"1000 t/day plant",{"$f":"+Landfills!$E$61","v":5515709.472000001},{"$f":"+Landfills!$E$50*I405/1000000","v":0},{"$f":"+Landfills!$E$56*I405/1000000","v":0},null,0,{"$error":"#DIV/0!"},{"$f":"+K405/TotalEmis2035","v":{"$error":"#DIV/0!"}}]
[{"$f":"ROW(B406)","v":406},"Marine","Tidal",{"$f":"Marine!$N$22","v":0},"1 MW of tidal power",{"$f":"Marine!$N$20","v":0},{"$f":"Marine!$N$10*I406/1000000","v":0},{"$f":"Marine!$N$15*I406/1000000","v":0},null,0,{"$error":"#DIV/0!"},{"$f":"+K406/TotalEmis2035","v":{"$error":"#DIV/0!"}},null,null,null,{"$f":"+Marine!$Q$18*I406/1000","v":0}]
[null,null,"Wave",{"$f":"Marine!$N$47","v":0},"1 MW of wave power",{"$f":"Marine!$N$45","v":0},{"$f":"Marine!$N$35*I407/1000000","v":0},{"$f":"Marine!$N$40*I407/1000000","v":0},null,0,{"$error":"#DIV/0!"},{"$f":"+K407/TotalEmis2035","v":{"$error":"#DIV/0!"}},null,null,null,{"$f":"+Marine!$Q$43*I407/1000","v":0}]
[{"$f":"ROW(B408)","v":408},"Methane avoidance","Biogas at rural farms using kerosene",{"$f":"+'Methane avoidance'!$E$24","v":-160.8114705432757},"1000 units",{"$f":"+'Methane avoidance'!$E$22","v":1227.6264000000001},{"$f":"+'Methane avoidance'!$E$12*I408/1000000","v":0},{"$f":"+'Methane avoidance'!$E$17*I408/1000000","v":0},null,0,{"$error":"#DIV/0!"},{"$f":"+K408/TotalEmis2035","v":{"$error":"#DIV/0!"}}]
[null,null,"Biogas at rural farms using non-renewable fuelwood",{"$f":"+'Methane avoidance'!$E$51","v":1.2107375121073751},"1000 units",{"$f":"+'Methane avoidance'!$E$49","v":11274.12},{"$f":"+'Methane avoidance'!$E$39*I409/1000000","v":0},{"$f":"+'Methane avoidance'!$E$44*I409/1000000","v":0},null,0,{"$error":"#DIV/0!"},{"$f":"+K409/TotalEmis2035","v":{"$error":"#DIV/0!"}}]
[null,null,"Biogas at pig farms",{"$f":"+'Methane avoidance'!$E$78","v":6.9197562715191454},"84000 pigs",{"$f":"+'Methane avoidance'!$E$76","v":88480},{"$f":"'Methane avoidance'!$E$66*I410/1000000","v":0},{"$f":"'Methane avoidance'!$E$71*I410/1000000","v":0},null,0,{"$error":"#DIV/0!"},{"$f":"+K410/TotalEmis2035","v":{"$error":"#DIV/0!"}},null,null,null,{"$f":"+'Methane avoidance'!$H$80*I410/1000","v":0}]
[null,null,"Biogas from industrial waste water ",{"$f":"+'Methane avoidance'!$E$106","v":28.620352250489237},"1 plant",{"$f":"+'Methane avoidance'!$E$104","v":15624},{"$f":"+'Methane avoidance'!$E$94*I411/1000000","v":0},{"$f":"+'Methane avoidance'!$E$99*I411/1000000","v":0},null,0,{"$error":"#DIV/0!"},{"$f":"+K411/TotalEmis2035","v":{"$error":"#DIV/0!"}}]
[{"$f":"ROW(B412)","v":412},"N2O","Nitric acid plant (N2O destruction)",{"$f":"+N2O!$E$21","v":1.1954749909658409},"100 ton HNO3/day",{"$f":"+N2O!$E$19","v":59002.25},{"$f":"+N2O!$E$10*I412/1000000","v":0},{"$f":"N2O!$E$14*I412/1000000","v":0},null,0,{"$error":"#DIV/0!"},{"$f":"+K412/TotalEmis2035","v":{"$error":"#DIV/0!"}}]
[{"$f":"ROW(B413)","v":413},"Solar","PV pump replacing electric pump",{"$f":"Solar!$E$361","v":0},"1 pump",{"$f":"+Solar!$E$359","v":0},{"$f":"Solar!$E$349*I413/1000000","v":0},{"$f":"+Solar!$E$354*I413/1000000","v":0},null,{"$f":"F413*I413/1000","v":0},{"$f":"OFFSET(K413,-1,0)+J413","v":{"$error":"#DIV/0!"}},{"$f":"K413/TotalEmis2035","v":{"$error":"#DIV/0!"}},null,null,{"$f":"(+Solar!$H$369*I413)/1000000","v":0}]
[null,null,"PV pump replacing diesel pump",{"$f":"Solar!$E$389","v":-139.91618112414818},"1 pump",{"$f":"+Solar!$E$387","v":12.699954539999998},{"$f":"Solar!$E$377*I414/1000000","v":0},{"$f":"+Solar!$E$382*I414/1000000","v":0},null,{"$f":"F414*I414/1000","v":0},{"$f":"OFFSET(K414,-1,0)+J414","v":{"$error":"#DIV/0!"}},{"$f":"K414/TotalEmis2035","v":{"$error":"#DIV/0!"}},{"$f":"J414/3.1","v":0}]
[null,null,"Solar water heater, residential",{"$f":"Solar!$E$33","v":0},"1000 units",{"$f":"Solar!$E$31","v":0},{"$f":"+Solar!$E$21*I415/1000000","v":0},{"$f":"+Solar!$E$26*I415/1000000","v":0},null,{"$f":"F415*I415/1000","v":0},{"$f":"OFFSET(K415,-1,0)+J415","v":{"$error":"#DIV/0!"}},{"$f":"+K415/TotalEmis2035","v":{"$error":"#DIV/0!"}},null,null,{"$f":"+Solar!$H$39*I415/1000000","v":0}]
[null,null,"Solar water heater, large",{"$f":"+Solar!$E$60","v":0},"1 unit",{"$f":"+Solar!$E$58","v":0},{"$f":"+Solar!$E$48*I416/1000000","v":0},{"$f":"+Solar!$E$53*I416/1000000","v":0},null,{"$f":"(F416*I416)/1000","v":0},{"$f":"OFFSET(K416,-1,0,1,1)+J416","v":{"$error":"#DIV/0!"}},{"$f":"+K416/TotalEmis2035","v":{"$error":"#DIV/0!"}},null,null,{"$f":"+Solar!$H$68*I416/1000000","v":0}]
[null,null,"Solar PVs, large grid",{"$f":"Solar!$N$90","v":0},"1 MW",{"$f":"Solar!$N$88","v":0},{"$f":"+Solar!$N$78*I417/1000000","v":0},{"$f":"+Solar!$N$83*I417/1000000","v":0},null,0,{"$error":"#DIV/0!"},{"$f":"+K417/TotalEmis2035","v":{"$error":"#DIV/0!"}},null,null,null,{"$f":"+Solar!$Q$88*I417/1000","v":0}]
[null,null,"Solar PVs, large grid with 24h storage",{"$f":"Solar!$N$114","v":0},"1 MW",{"$f":"Solar!$N$112","v":0},{"$f":"+Solar!$N$102*I418/1000000","v":0},{"$f":"+Solar!$N$107*I418/1000000","v":0},null,0,{"$error":"#DIV/0!"},{"$f":"+K418/TotalEmis2035","v":{"$error":"#DIV/0!"}},null,null,null,{"$f":"+Solar!$Q$112*I418/1000","v":0}]
[null,null,"Solar house PVs",{"$f":"+Solar!$E$139","v":0},"500 W",{"$f":"+Solar!$E$137","v":0},{"$f":"+Solar!$E$127*I419/1000000","v":0},{"$f":"+Solar!$E$132*I419/1000000","v":0},null,0,{"$error":"#DIV/0!"},{"$f":"+K419/TotalEmis2035","v":{"$error":"#DIV/0!"}},null,null,null,{"$f":"+Solar!$H138*I419/1000","v":0}]
[null,null,"Solar cottage PVs",{"$f":"+Solar!$E$166","v":0},"50 W",{"$f":"+Solar!$E$164","v":0},{"$f":"+Solar!$E$154*I420/1000000","v":0},{"$f":"+Solar!$E$159*I420/1000000","v":0},null,0,{"$error":"#DIV/0!"},{"$f":"+K420/TotalEmis2035","v":{"$error":"#DIV/0!"}},null,null,null,{"$f":"+Solar!$H$169*I420/1000","v":0}]
[null,null,"Solar/diesel mini-grid",{"$f":"+Solar!$E$191","v":49.644079804749254},"40 kW from solar",{"$f":"+Solar!$E$189","v":58.400000000000006},{"$f":"+Solar!$E$179*I421/1000000","v":0},{"$f":"Solar!$E$184*I421/1000000","v":0},null,0,{"$error":"#DIV/0!"},{"$f":"+K421/TotalEmis2035","v":{"$error":"#DIV/0!"}},null,null,null,{"$f":"+Solar!$H$196*I421/1000","v":0}]
[null,null,"Solar LED lamps",{"$f":"+Solar!$E$303","v":-130.33365170942039},"1000 lamps",{"$f":"+Solar!$E$301","v":93.908173333333366},{"$f":"Solar!$E$291*I422/1000000","v":0},{"$f":"Solar!$E$296*I422/1000000","v":0},null,0,{"$error":"#DIV/0!"},{"$f":"+K422/TotalEmis2035","v":{"$error":"#DIV/0!"}}]
[null,null,"Solar PVs, small isolated grid, 100% solar",{"$f":"+Solar!$E$219","v":249.72792998477931},"2 MW",{"$f":"+Solar!$E$217","v":2628},{"$f":"+Solar!$E$207*I423/1000000","v":0},{"$f":"+Solar!$E$212*I423/1000000","v":0},null,0,{"$error":"#DIV/0!"},{"$f":"+K423/TotalEmis2035","v":{"$error":"#DIV/0!"}},null,null,null,{"$f":"+Solar!$H$222*I423/1000","v":0}]
[null,null,"Solar street lights",{"$f":"+Solar!$E$330","v":0},"1000 locations  (0.05 MW)",{"$f":"+Solar!$E$328","v":0},{"$f":"+Solar!$E$318*I424/1000000","v":0},{"$f":"+Solar!$E$323*I424/1000000","v":0},null,0,{"$error":"#DIV/0!"},{"$f":"+K424/TotalEmis2035","v":{"$error":"#DIV/0!"}},null,null,null,{"$f":"+Solar!$H$341*I424/1000","v":0}]
[null,null,"Parabolic through CSP, no storage",{"$f":"Solar!$N$248","v":0},"1 MW",{"$f":"Solar!$N$246","v":0},{"$f":"Solar!$N$236*I425/1000000","v":0},{"$f":"Solar!$N$241*I425/1000000","v":0},null,0,{"$error":"#DIV/0!"},{"$f":"+K425/TotalEmis2035","v":{"$error":"#DIV/0!"}},null,null,null,{"$f":"+Solar!$Q$244*I425/1000","v":0}]
[null,null,"Solar tower CSP, with storage",{"$f":"+Solar!$N$275","v":0},"1 MW",{"$f":"+Solar!$N$273","v":0},{"$f":"+Solar!$N$263*I426/1000000","v":0},{"$f":"+Solar!$N$268*I426/1000000","v":0},null,0,{"$error":"#DIV/0!"},{"$f":"+K426/TotalEmis2035","v":{"$error":"#DIV/0!"}},null,null,null,{"$f":"+Solar!$Q$271*I426/1000","v":0}]
[{"$f":"ROW(B427)","v":427},"Transport","20% Biodiesel blend in all  diesel",{"$f":"+Transport!$N$39","v":0},"20% blend in transport",{"$f":"+Transport!$N$37","v":0},{"$f":"+Transport!$N$27*I427/1000000","v":0},{"$f":"+Transport!$N$32*I427/1000000","v":0},null,0,{"$error":"#DIV/0!"},{"$f":"+K427/TotalEmis2035","v":{"$error":"#DIV/0!"}}]
[null,null,"15% Bioethanol blend in all gasoline",{"$f":"+Transport!$N$68","v":0},"15% blend in transport",{"$f":"+Transport!$N$66","v":0},{"$f":"+Transport!$N$55*I428/1000000","v":0},{"$f":"+Transport!$N$60*I428/1000000","v":0},null,0,{"$error":"#DIV/0!"},{"$f":"+K428/TotalEmis2035","v":{"$error":"#DIV/0!"}}]
[null,null,"Bus Rapid Transit (BRT)",{"$f":"Transport!$E$480","v":20.512423721756154},"1 km BRT line",{"$f":"+Transport!$E$478","v":1983.4616326530609},{"$f":"Transport!$E$467*I429/1000000","v":0},{"$f":"Transport!$E$473*I429/1000000","v":0},null,0,{"$error":"#DIV/0!"},{"$f":"+K429/TotalEmis2035","v":{"$error":"#DIV/0!"}},{"$f":"J429/3.1","v":0}]
[null,null,"More efficient gasoline cars",{"$f":"+Transport!$E$99","v":-210.54575187549142},"1000 cars",{"$f":"+Transport!$E$97","v":408.90380487804828},{"$f":"+Transport!$E$86*I430/1000000","v":0},{"$f":"+Transport!$E$92*I430/1000000","v":0},null,0,{"$error":"#DIV/0!"},{"$f":"+K430/TotalEmis2035","v":{"$error":"#DIV/0!"}},null,{"$f":"J430/2.9","v":0}]
[null,null,"More efficient diesel cars",{"$f":"+Transport!$E$125","v":-158.52638703809453},"1000 cars",{"$f":"+Transport!$E$123","v":179.7212853333333},{"$f":"+Transport!$E$112*I431/1000000","v":0},{"$f":"+Transport!$E$118*I431/1000000","v":0},null,0,{"$error":"#DIV/0!"},{"$f":"+K431/TotalEmis2035","v":{"$error":"#DIV/0!"}},{"$f":"J431/3.1","v":0}]
[null,null,"Natural Gas cars",{"$f":"+Transport!$E$396","v":-193.28908089616741},"1000 cars using natural gas",{"$f":"+Transport!$E$394","v":778.08450104036592},{"$f":"+Transport!$E$384*I432/1000000","v":0},{"$f":"+Transport!$E$389*I432/1000000","v":0},null,0,{"$error":"#DIV/0!"},{"$f":"+K432/TotalEmis2035","v":{"$error":"#DIV/0!"}},{"$f":"J432/3.1","v":0}]
[null,null,"Electric cars",{"$f":"+Transport!$N$149","v":838.11403190334022},"1000 cars",{"$f":"+Transport!$N$147","v":1535.2615384615383},{"$f":"+Transport!$N$137*I433/1000000","v":0},{"$f":"+Transport!$N$142*I433/1000000","v":0},null,0,{"$error":"#DIV/0!"},{"$f":"+K433/TotalEmis2035","v":{"$error":"#DIV/0!"}},null,{"$f":"J433/2.9","v":0}]
[null,null,"Electric 18m buses",{"$f":"+Transport!$N$179","v":75.764478829343361},"1000 buses",{"$f":"+Transport!$N$177","v":70942.61263157893},{"$f":"+Transport!$N$167*I434/1000000","v":0},{"$f":"+Transport!$N$172*I434/1000000","v":0},null,0,{"$error":"#DIV/0!"},{"$f":"+K434/TotalEmis2035","v":{"$error":"#DIV/0!"}},{"$f":"J434/3.1","v":0}]
[null,null,"Electric 12m buses",{"$f":"+Transport!$N$210","v":251.05843745602607},"1000 buses",{"$f":"+Transport!$N$208","v":26958.192799999997},{"$f":"+Transport!$N$198*I435/1000000","v":0},{"$f":"+Transport!$N$203*I435/1000000","v":0},null,0,{"$error":"#DIV/0!"},{"$f":"+K435/TotalEmis2035","v":{"$error":"#DIV/0!"}},0]
[null,null,"Electric heavy trucks",{"$f":"+Transport!$N$241","v":955.86047942871107},"1000 trucks",{"$f":"+Transport!$N$239","v":28081.450833333325},{"$f":"+Transport!$N$229*I436/1000000","v":0},{"$f":"+Transport!$N$234*I436/1000000","v":0},null,0,{"$error":"#DIV/0!"},{"$f":"+K436/TotalEmis2035","v":{"$error":"#DIV/0!"}},0]
[null,null,"Electric light trucks",{"$f":"+Transport!$N$273","v":152.88471599235615},"1000 trucks",{"$f":"+Transport!$N$271","v":8513.1135157894751},{"$f":"+Transport!$N$261*I437/1000000","v":0},{"$f":"+Transport!$N$266*I437/1000000","v":0},null,0,{"$error":"#DIV/0!"},{"$f":"+K437/TotalEmis2035","v":{"$error":"#DIV/0!"}},0]
[null,null,"Electric rail ",{"$f":"+Transport!$E$305","v":529.90789219490932},"1 Million trainkm/year",{"$f":"+Transport!$E$303","v":6461.8788141599998},{"$f":"Transport!$E$293*I438/1000000","v":0},{"$f":"Transport!$E$298*I438/1000000","v":0},null,0,{"$error":"#DIV/0!"},{"$f":"+K438/TotalEmis2035","v":{"$error":"#DIV/0!"}},0]
[null,null,"Shifting passengers from car to rail",{"$f":"+Transport!$E$336","v":653.94483871636305},"1 Million personkm/day",{"$f":"+Transport!$E$334","v":35457.80333333333},{"$f":"+Transport!$E$324*I439/1000","v":0},{"$f":"+Transport!$E$329*I439/1000","v":0},null,0,{"$error":"#DIV/0!"},{"$f":"+K439/TotalEmis2035","v":{"$error":"#DIV/0!"}},{"$f":"J439/3.1","v":0}]
[null,null,"Shifting freight transport from road to rail",{"$f":"+Transport!$E$365","v":-1534.825994878948},"1000 tonkm/day",{"$f":"+Transport!$E$363","v":241.3646113413127},{"$f":"+Transport!$E$353*I440/1000","v":0},{"$f":"+Transport!$E$358*I440/1000","v":0},null,0,{"$error":"#DIV/0!"},{"$f":"+K440/TotalEmis2035","v":{"$error":"#DIV/0!"}},0]
[null,null,"Restriction on import of used cars",{"$f":"+Transport!$E$425","v":-210.54575187549128},"1000 cars",{"$f":"+Transport!$E$423","v":931.3919999999996},{"$f":"+Transport!$E$412*I441/1000000","v":0},{"$f":"+Transport!$E$418*I441/1000000","v":0},null,0,{"$error":"#DIV/0!"},{"$f":"+K441/TotalEmis2035","v":{"$error":"#DIV/0!"}},0]
[null,null,"New bicycle lanes",{"$f":"+Transport!$E$510","v":-148.09367209802946},"1 km bicycle lane",{"$f":"+Transport!$E$508","v":686.58271182439023},{"$f":"+Transport!$E$498*I442/1000000","v":0},{"$f":"+Transport!$E$503*I442/1000000","v":0},null,0,{"$error":"#DIV/0!"},{"$f":"+K442/TotalEmis2035","v":{"$error":"#DIV/0!"}},0]
[null,null,"Electric three-wheelers",{"$f":"+Transport!$E$536","v":-126.40003242852107},"1000 three-wheelers",{"$f":"+Transport!$E$534","v":500.22403199999997},{"$f":"Transport!$E$524*I443/1000000","v":0},{"$f":"Transport!$E$529*I443/1000000","v":0},null,0,{"$error":"#DIV/0!"},{"$f":"+K443/TotalEmis2035","v":{"$error":"#DIV/0!"}},null,{"$f":"J443/2.9","v":0}]
[null,null,"Electric two-wheelers",{"$f":"+Transport!$E$565","v":495.52287085979833},"1000 two-wheelers",{"$f":"+Transport!$E$563","v":232.84799999999998},{"$f":"Transport!$E$553*I444/1000000","v":0},{"$f":"Transport!$E$558*I444/1000000","v":0},null,0,{"$f":"OFFSET(K444,-1,0,1,1)+J444","v":{"$error":"#DIV/0!"}},{"$f":"+K444/TotalEmis2035","v":{"$error":"#DIV/0!"}},null,{"$f":"J444/2.9","v":0}]
[null,null,"Better maintenance and use of motor bikes",{"$f":"+Transport!$E$452","v":-189.07251611654121},"1000 bikes",{"$f":"+Transport!$E$450","v":116.42400000000004},{"$f":"+Transport!$E$440*I445/1000000","v":0},{"$f":"+Transport!$E$445*I445/1000000","v":0},null,0,{"$error":"#DIV/0!"},{"$f":"+K445/TotalEmis2035","v":{"$error":"#DIV/0!"}},null,{"$f":"J445/2.9","v":0}]
[{"$f":"ROW(B446)","v":446},"Wind","Wind turbines, on-shore",{"$f":"Wind!$N$23","v":0},"1 MW",{"$f":"Wind!$N$21","v":0},{"$f":"+Wind!$N$11*I446/1000000","v":0},{"$f":"+Wind!$N$16*I446/1000000","v":0},null,0,{"$error":"#DIV/0!"},{"$f":"+K446/TotalEmis2035","v":{"$error":"#DIV/0!"}},{"$f":"J446/3.1","v":0},null,null,{"$f":"+Wind!$Q$19*I446/1000","v":0}]
[null,null,"Wind turbines, on-shore with 24 storage",{"$f":"Wind!$N$47","v":0},"1 MW",{"$f":"Wind!$N$45","v":0},{"$f":"+Wind!$N$35*I447/1000000","v":0},{"$f":"+Wind!$N$40*I447/1000000","v":0},null,0,{"$error":"#DIV/0!"},{"$f":"+K447/TotalEmis2035","v":{"$error":"#DIV/0!"}},{"$f":"J447/3.1","v":0},null,null,{"$f":"+Wind!$Q$43*I447/1000","v":0}]
[null,null,"Wind turbines, off-shore",{"$f":"Wind!$N$72","v":0},"1 MW",{"$f":"Wind!$N$70","v":0},{"$f":"+Wind!$N$60*I448/1000000","v":0},{"$f":"+Wind!$N$65*I448/1000000","v":0},null,0,{"$error":"#DIV/0!"},{"$f":"+K448/TotalEmis2035","v":{"$error":"#DIV/0!"}},{"$f":"J448/3.1","v":0},null,null,{"$f":"+Wind!$Q$68*I448/1000","v":0}]
[{"$f":"ROW(B449)","v":449},"# GHG reduction options:",{"$f":"COUNTA(C330:C448)","v":119},null,null,"Totals:",{"$f":"SUM(G330:G448)","v":0},{"$f":"SUM(H330:H448)","v":0},null,null,null,null,{"$f":"SUM(M330:M448)","v":0},{"$f":"SUM(N330:N448)","v":0},{"$f":"SUM(O330:O448)","v":{"$error":"#DIV/0!"}},{"$f":"SUM(P330:P448)","v":0}]
[]
[null,null,null,null,null,"GHG emissions: ktCO2e in 2035",null,null,"BAU",null,null,"Reduction",null,null,"New total"]
[null,null,null,null,null,null,null,null,"CO2","CH4","N2O","CO2","CH4","N2O","GHG"]
[null,null,null,null,null,"1. Energy",null,null,{"$f":"I454+I461","v":0},{"$f":"J454+J461","v":0},0,{"$error":"#DIV/0!"},0,0,{"$f":"O454+O461","v":{"$error":"#DIV/0!"}}]
[null,null,null,null,null,"1.A. Fuel combustion",null,null,{"$f":"I455+I456+I457+I458+I459+I460","v":0},{"$f":"SUM(J455:J460)","v":0},{"$f":"SUM(K455:K460)","v":0},{"$f":"L455+L456+L457+L458+L459+L460","v":{"$error":"#DIV/0!"}},0,0,{"$f":"I454+J454+K454-L454-M454-N454","v":{"$error":"#DIV/0!"}}]
[null,null,null,null,null,"       1.A.1.  Energy industries",null,null,{"$f":"+'BAU projected GHG Balances'!$P$156","v":0},{"$f":"'BAU projected GHG Balances'!$E$182","v":0},{"$f":"'BAU projected GHG Balances'!$F$182","v":0},{"$f":"SUM(J$337:J$339)+J$340+SUM(J$373:J$379)+J$393+SUM(J$396:J$398)+J$406+J$407+SUM(J$416:J$421)+J$423+J$425+J$426+SUM(J$446:J$448)+J$413+J$414","v":0},null,null,{"$f":"SUM(I455:K455)-SUM(L455:N455)","v":0}]
[null,null,null,null,null,"1.A.2.  Manufacturing industries and construction",null,null,{"$f":"SUM('BAU projected GHG Balances'!$P$158:$P$169)","v":0},null,null,{"$f":"SUM(J$356:J$358)+J$354+J$355+J$387+J$388","v":{"$error":"#DIV/0!"}},null,null,{"$error":"#DIV/0!"}]
[null,null,null,null,null,"1.A.3.  Transport",null,null,{"$f":"SUM('BAU projected GHG Balances'!$P$170:$P$173)","v":0},null,null,{"$f":"SUM(J$427:J$445)","v":0},null,null,0]
[null,null,null,null,null,"1.A.4.b.  Residential ",null,null,{"$f":"+'BAU projected GHG Balances'!$P$174","v":0},null,null,{"$f":"SUM(J$343:J$353)+J$380+J$381+J$394+J$415+J$416+J$422","v":{"$error":"#DIV/0!"}},null,null,{"$error":"#DIV/0!"}]
[null,null,null,null,null,"1.A.4.a.  Commercial/institutional",null,null,{"$f":"+'BAU projected GHG Balances'!$P$175","v":0},null,null,{"$f":"SUM(J$359:J$372)+J$424","v":{"$error":"#DIV/0!"}},null,null,{"$error":"#DIV/0!"}]
[null,null,null,null,null,"1.A.4.c.  Agriculture/forestry/fishing",null,null,{"$f":"+'BAU projected GHG Balances'!$P$176","v":0},null,null,{"$f":"J$408+J$409","v":0},null,null,0]
[null,null,null,null,null,"1.B. Fugitive emissions from fuels",null,null,{"$f":"'BAU projected GHG Balances'!$D$183","v":0},{"$f":"'BAU projected GHG Balances'!$E$183","v":0},{"$f":"'BAU projected GHG Balances'!$F$183","v":0},{"$f":"SUM(J$389:J$390)+J$392","v":0},{"$f":"J$342+J$391","v":0},null,0]
[null,null,null,null,null,"2.  Industrial processes and product use",null,null,{"$f":"'BAU projected GHG Balances'!D$184+'BAU projected GHG Balances'!$P$177","v":0},{"$f":"'BAU projected GHG Balances'!E$184","v":0},{"$f":"'BAU projected GHG Balances'!F$184","v":0},{"$f":"J$341+J$395","v":0},null,{"$f":"J$412","v":0},0]
[null,null,null,null,null,"3.  Agriculture",null,null,{"$f":"'BAU projected GHG Balances'!D$190","v":0},{"$f":"'BAU projected GHG Balances'!E$190","v":0},{"$f":"'BAU projected GHG Balances'!F$190","v":0},{"$f":"SUM(J$331:J$332)+J$336","v":0},{"$f":"J$330+J$335+J$410","v":0},{"$f":"J$333+J$334","v":0},0]
[null,null,null,null,null,"4. Land use, land-use change and forestry",null,null,{"$f":"'BAU projected GHG Balances'!D$195","v":0},{"$f":"'BAU projected GHG Balances'!E$195","v":0},{"$f":"'BAU projected GHG Balances'!F$195","v":0},{"$f":"SUM(J$382:J$386)","v":0},null,null,0]
[null,null,null,null,null,"5. Waste",null,null,{"$f":"'BAU projected GHG Balances'!D$201","v":0},{"$f":"'BAU projected GHG Balances'!E$201","v":0},{"$f":"'BAU projected GHG Balances'!F$201","v":0},null,{"$f":"J$411+SUM(J$399:J$405)","v":0},null,0]
[null,null,null,null,null,"Total (including LULUCF)",null,null,{"$f":"I453+I462+I463+I464+I465","v":0},0,0,{"$error":"#DIV/0!"},0,0,{"$error":"#DIV/0!"}]
[null,null,null,null,null,"Total (excluding LULUCF)",null,null,{"$f":"I466-I464","v":0},0,0,{"$error":"#DIV/0!"},0,0,{"$error":"#DIV/0!"}]
[]
[]
[]
[]
[]
[]
[]
[]
[]
[]
[]
[]
[]
[]
[null,"Total GHG mitigation in",{"$f":"+Assumptions!$C$9","v":0},"In 2050"]
[null,null,null,null,null,"Emission","Investment","Annual","Units","Emission reduction in 2050",null,null,"Diesel","Gasoline","Electricity","Electricity",null,"Reduction option","US$/ktCO2 (Revenue)","Emission reduction in 2020 per option (ktCO2/yr)"]
[null,null,null,null,null,"reduction",null,"costs","penetrating","Per option","Added",null,"saved","saved","saved","produced"]
[null,"Type","Reduction option","US$/tCO2e","Sub-type unit","tCO2e/unit","Million US$","MUS$/year","in 2050","ktCO2e/year","ktCO2e/year","Frac.of total","ktoe","ktoe","GWh","GWh"]
[{"$f":"ROW(B486)","v":486},"Agriculture","Rice crop CH4 reduction",{"$f":"Agriculture!E30","v":1.2},"Rice crop CH4 red.(1000 ha)",{"$f":"Agriculture!E27","v":3421.6000000000004},{"$f":"Agriculture!$E$17*I486/1000000","v":0},{"$f":"Agriculture!$E$22*I486/1000000","v":0},null,{"$f":"F486*I486/1000","v":0},{"$f":"OFFSET(K486,-1,0)+J486","v":0},{"$f":"K486/Totalemis2050","v":{"$error":"#DIV/0!"}},null,null,null,null,null,"Efficient lighting with CFLs",448.24887849257937,3.138820638820639]
[null,null,"Zero tillage",{"$f":"+Agriculture!E194","v":-157.6154964832983},"1000 ha",{"$f":"+Agriculture!E192","v":85.727053103999992},{"$f":"Agriculture!$E$182*I487/1000000","v":0},{"$f":"Agriculture!$E$187*I487/1000000","v":0},null,0,{"$f":"OFFSET(K487,-1,0)+J487","v":0},{"$error":"#DIV/0!"},null,null,null,null,null,"Hydro power connected to main grid",374.14062105528905,247.5625]
[null,null,"Cover crops",{"$f":"+Agriculture!E89","v":81.040268456375827},"1000 ha",{"$f":"+Agriculture!E87","v":1490},{"$f":"Agriculture!$E$77*I488/1000000","v":0},{"$f":"Agriculture!$E$82*I488/1000000","v":0},null,{"$f":"F488*I488/1000","v":0},0,{"$error":"#DIV/0!"}]
[null,null,"Nitrification inhibitors (1000 ha)",{"$f":"+Agriculture!E117","v":67.689873417721515},"1000 ha",{"$f":"+Agriculture!E115","v":790},{"$f":"Agriculture!$E$105*I489/1000000","v":0},{"$f":"Agriculture!$E$110*I489/1000000","v":0},null,0,0,{"$error":"#DIV/0!"}]
[null,null,"Covering slurry stores (1 slurry store)",{"$f":"+Agriculture!E143","v":496.77098857426722},"1 slurry store",{"$f":"+Agriculture!E141","v":0.20130000000000001},{"$f":"Agriculture!$E$131*I490/1000000","v":0},{"$f":"Agriculture!$E$136*I490/1000000","v":0},null,0,0,{"$error":"#DIV/0!"}]
[null,null,"Fat supplementation in ruminants diets (%DM fat added) ",{"$f":"+Agriculture!AF168","v":80.5},"%DM fat added",{"$f":"+Agriculture!AF166","v":0},{"$f":"Agriculture!$AF$156*I491/1000000","v":0},{"$f":"Agriculture!$AF$161*I491/1000000","v":0},null,0,0,{"$error":"#DIV/0!"}]
[null,null,"Tobacco curing",{"$f":"+Agriculture!E62","v":-20.960693100011099},"100 t tobacco/yr",{"$f":"+Agriculture!E60","v":561.96940800000016},{"$f":"Agriculture!$E$50*I492/1000000","v":0},{"$f":"Agriculture!$E$55*I492/1000000","v":0},null,0,0,{"$error":"#DIV/0!"},null,null,null,null,null,"Solar PVs, large grid",316.19093165640822,36.5]
[{"$f":"ROW(B493)","v":493},"Biomass energy","Rice husk cogeneration plants",{"$f":"+'Biomass energy'!E24","v":127.59687237849138},"1 MW cogeneration",{"$f":"+'Biomass energy'!E22","v":5757.3447425999984},{"$f":"+'Biomass energy'!$E$12*I493/1000000","v":0},{"$f":"+'Biomass energy'!$E$17*I493/1000000","v":0},null,0,0,{"$error":"#DIV/0!"},null,null,null,{"$f":"+'Biomass energy'!$H$22/'Biomass energy'!$H$19*I493/1000","v":0},null,"Wind turbines, on-shore",262.24199023655234,43.75]
[null,null,"Biomass power from biomass residues ",{"$f":"+'Biomass energy'!AF57","v":0},"1 MW CHP plant",{"$f":"+'Biomass energy'!AF55","v":0},{"$f":"+'Biomass energy'!$AF$45*I494/1000000","v":0},{"$f":"+'Biomass energy'!$AF$50*I494/1000000","v":0},null,0,0,{"$error":"#DIV/0!"},null,null,null,{"$f":"+'Biomass energy'!$AI$53*I494/1000","v":0},null,"Biogas from industrial waste water ",204.22617312736813,26.225999999999999]
[null,null,"Bagasse power",{"$f":"'Biomass energy'!E88","v":0},"100 kt sugar cane/year",{"$f":"'Biomass energy'!E86","v":0},{"$f":"'Biomass energy'!$E$76*I495/1000000","v":0},{"$f":"'Biomass energy'!$E$81*I495/1000000","v":0},null,0,0,{"$error":"#DIV/0!"},null,null,null,{"$f":"'Biomass energy'!$H$87/'Biomass energy'!$H$81*100*I495/1000","v":0},null,"Biogas at rural farms using kerosene",195.03465223140941,73.657584]
[{"$f":"ROW(B496)","v":496},"CCS","CCS plant",{"$f":"+CCS!E22","v":107.96190476190478},"1 MW",{"$f":"+CCS!E20","v":5412.3711340206182},{"$f":"CCS!$E$10*I496/1000000","v":0},{"$f":"CCS!$E$15*I496/1000000","v":0},null,0,0,{"$error":"#DIV/0!"},null,null,null,{"$f":"+CCS!H16/CCS!$H$13*I496/1000","v":0},null,"Landfill gas plant with power production",41.56037990897638,124.41521400000001]
[{"$f":"ROW(B497)","v":497},"Cement","Clinker replacement",{"$f":"+Cement!E23","v":-3.3289122068909709},"1000 tonnes cement/day",{"$f":"+Cement!E21","v":164175.34722087739},{"$f":"Cement!$E$10*I497/1000000","v":0},{"$f":"Cement!$E$16*I497/1000000","v":0},null,0,0,{"$error":"#DIV/0!"},null,null,null,null,null,"REDD: Avoided deforestation",12.920558724980037,73.333333333333343]
[{"$f":"ROW(B498)","v":498},"Coal bed mine methane","Coal mine methane",{"$f":"+'Coal bed mine methane'!E24","v":7.6156689322941142},"10 Mm3 CMM/year",{"$f":"+'Coal bed mine methane'!E22","v":33818.400000000001},{"$f":"+'Coal bed mine methane'!$E$12/1000000*I498","v":0},{"$f":"+'Coal bed mine methane'!$E$17/1000000*I498","v":0},null,0,0,{"$error":"#DIV/0!"},null,null,null,{"$f":"+'Coal bed mine methane'!$H$27/'Coal bed mine methane'!$H$22*10*I498/1000","v":0},null,"Energy efficiency in industry",-1.1745962477254579,23.342012108688721]
[{"$f":"ROW(B499)","v":499},"EE households","Efficient residential airconditioning",{"$f":"+'EE households'!E30","v":{"$error":"#DIV/0!"}},"1000 Airconditioners",{"$f":"+'EE households'!E28","v":{"$error":"#DIV/0!"}},{"$f":"+'EE households'!$E$18*I499/1000000","v":0},{"$f":"+'EE households'!$E$23*I499/1000000","v":0},null,{"$error":"#DIV/0!"},{"$error":"#DIV/0!"},{"$error":"#DIV/0!"},null,null,{"$f":"+'EE households'!$H$42*I499/1000","v":0},null,null,"Energy efficiency in service",-1.1745962477254579,139.4016954576276]
[null,null,"Efficient lighting with CFLs",{"$f":"+'EE households'!E64","v":{"$error":"#DIV/0!"}},"1000 Bulps",{"$f":"+'EE households'!E62","v":{"$error":"#DIV/0!"}},{"$f":"+'EE households'!$E$52*I500/1000000","v":0},{"$f":"+'EE households'!$E$57*I500/1000000","v":0},null,{"$error":"#DIV/0!"},{"$error":"#DIV/0!"},{"$error":"#DIV/0!"},null,null,{"$f":"'EE households'!$H$65*I500/1000","v":0},null,null,"Reforestation",-19.220665871871127,176]
[null,null,"Efficient lighting with LEDs",{"$f":"+'EE households'!E96","v":{"$error":"#DIV/0!"}},"1000 Bulps",{"$f":"+'EE households'!E94","v":{"$error":"#DIV/0!"}},{"$f":"+'EE households'!$E$84*I501/1000000","v":0},{"$f":"+'EE households'!$E$89*I501/1000000","v":0},null,{"$error":"#DIV/0!"},{"$error":"#DIV/0!"},{"$error":"#DIV/0!"},null,null,{"$f":"+'EE households'!$H$101*I501/1000","v":0},null,null,"Efficient electric grids",-185.26562155027011,14.349999999999998]
[null,null,"Efficient lighting with LEDs replacing CFL",{"$f":"+'EE households'!E122","v":{"$error":"#DIV/0!"}},"1000 Bulps",{"$f":"+'EE households'!E120","v":{"$error":"#DIV/0!"}},{"$f":"'EE households'!$E$110*I502/1000000","v":0},{"$f":"'EE households'!$E$115*I502/1000000","v":0},null,{"$error":"#DIV/0!"},{"$error":"#DIV/0!"},{"$error":"#DIV/0!"},null,null,{"$f":"+'EE households'!$H125*I502/1000","v":0}]
[null,null,"Efficient wood stoves",{"$f":"+'EE households'!E178","v":-939.80904939809022},"1000 stoves",{"$f":"+'EE households'!E176","v":1338.3333333333335},{"$f":"+'EE households'!$E$166*I503/1000000","v":0},{"$f":"+'EE households'!$E$171*I503/1000000","v":0},null,0,{"$error":"#DIV/0!"},{"$error":"#DIV/0!"}]
[null,null,"Efficient charcoal stoves",{"$f":"+'EE households'!E206","v":-71.000933997509335},"1000 stoves",{"$f":"+'EE households'!E204","v":292.91691871829062},{"$f":"+'EE households'!$E$194*I504/1000000","v":0},{"$f":"+'EE households'!$E$199*I504/1000000","v":0},null,0,{"$error":"#DIV/0!"},{"$error":"#DIV/0!"}]
[null,null,"LPG stoves replacing wood stoves",{"$f":"+'EE households'!E238","v":73.526386172475128},"1000 stoves",{"$f":"+'EE households'!E236","v":2054.9439166666671},{"$f":"'EE households'!$E$226*I505/1000000","v":0},{"$f":"'EE households'!$E$231*I505/1000000","v":0},null,0,{"$error":"#DIV/0!"},{"$error":"#DIV/0!"}]
[null,null,"Efficient electric stoves",{"$f":"+'EE households'!E267","v":{"$error":"#DIV/0!"}},"1000 stoves",{"$f":"+'EE households'!E265","v":{"$error":"#DIV/0!"}},{"$f":"'EE households'!$E$255*I506/1000000","v":0},{"$f":"'EE households'!$E$260*I506/1000000","v":0},null,{"$error":"#DIV/0!"},{"$error":"#DIV/0!"},{"$error":"#DIV/0!"},null,null,{"$f":"'EE households'!$H$274*I506/1000","v":0}]
[null,null,"Induction based cooking",{"$f":"+'EE households'!E293","v":{"$error":"#DIV/0!"}},"1000 stoves",{"$f":"+'EE households'!E291","v":{"$error":"#DIV/0!"}},{"$f":"'EE households'!$E$281*I507/1000000","v":0},{"$f":"'EE households'!$E$286*I507/1000000","v":0},null,{"$error":"#DIV/0!"},{"$error":"#DIV/0!"},{"$error":"#DIV/0!"},null,null,{"$f":"'EE households'!$H$301*I507/1000","v":0}]
[null,null,"New passive home",{"$f":"+'EE households'!$E$321","v":{"$error":"#DIV/0!"}},"1000 new homes",{"$f":"+'EE households'!$E$319","v":{"$error":"#DIV/0!"}},{"$f":"'EE households'!$E$309*I508/1000000","v":0},{"$f":"+I508*'EE households'!$E$314/1000000","v":0},null,{"$error":"#DIV/0!"},{"$error":"#DIV/0!"},{"$error":"#DIV/0!"},null,null,{"$f":"'EE households'!$H$326*I508/1000","v":0}]
[null,null,"Efficient refrigerators",{"$f":"+'EE households'!E148","v":{"$error":"#DIV/0!"}},"1000 refrigerators",{"$f":"+'EE households'!E146","v":{"$error":"#DIV/0!"}},{"$f":"+'EE households'!$E$136*I509/1000000","v":0},{"$f":"+'EE households'!$E$141*I509/1000000","v":0},null,{"$error":"#DIV/0!"},{"$error":"#DIV/0!"},{"$error":"#DIV/0!"},null,null,{"$f":"+'EE households'!$H$159*I509/1000","v":0}]
[{"$f":"ROW(B510)","v":510},"EE industry","Efficient electric motors",{"$f":"+'EE industry'!E25","v":{"$error":"#DIV/0!"}},"1 kW",{"$f":"+'EE industry'!E23","v":{"$error":"#DIV/0!"}},{"$f":"+'EE industry'!$E$13*I510/1000000","v":0},{"$f":"+'EE industry'!$E$18*I510/1000000","v":0},null,{"$error":"#DIV/0!"},{"$error":"#DIV/0!"},{"$error":"#DIV/0!"},null,null,{"$f":"I510*'EE industry'!$H$25/1000000","v":0}]
[null,null,"Energy efficiency in industry",{"$f":"+'EE industry'!AF84","v":0},"10% red. of energy demand",{"$f":"+'EE industry'!AF82","v":0},{"$f":"+'EE industry'!$AF$72*I511/1000000","v":0},{"$f":"'EE industry'!$AF$77*I511/1000000","v":0},null,0,{"$error":"#DIV/0!"},{"$error":"#DIV/0!"}]
[null,null,"Building materials",{"$f":"+'EE industry'!E55","v":-19.573889817018777},"1 million bricks",{"$f":"+'EE industry'!E53","v":520.30000000000007},{"$f":"'EE industry'!$E$43*I512/1000000","v":0},{"$f":"'EE industry'!$E$48*I512/1000000","v":0},null,0,{"$error":"#DIV/0!"},{"$error":"#DIV/0!"}]
[{"$f":"ROW(B513)","v":513},"EE own generation","Waste heat recovery at cement plant",{"$f":"+'EE own generation'!E23","v":0},"1 Cement plant",{"$f":"+'EE own generation'!E21","v":0},{"$f":"+'EE own generation'!$E$11*I513/1000000","v":0},{"$f":"+'EE own generation'!$E$16*I513/1000000","v":0},null,0,{"$error":"#DIV/0!"},{"$error":"#DIV/0!"},null,null,null,{"$f":"+'EE own generation'!$H$17*'Mitigation options'!I513/1000","v":0}]
[null,null,"Waste heat recovery at steel plant",{"$f":"+'EE own generation'!E53","v":0},"1 Steel plant",{"$f":"+'EE own generation'!E51","v":0},{"$f":"+'EE own generation'!$E$41*I514/1000000","v":0},{"$f":"+'EE own generation'!$E$46*I514/1000000","v":0},null,0,{"$error":"#DIV/0!"},{"$error":"#DIV/0!"},null,null,null,{"$f":"'EE own generation'!$H$46*'Mitigation options'!I514/1000","v":0}]
[{"$f":"ROW(B515)","v":515},"EE service","Efficient electric motors",{"$f":"+'EE service'!E29","v":{"$error":"#DIV/0!"}},"1 kW",{"$f":"+'EE service'!E27","v":{"$error":"#DIV/0!"}},{"$f":"+'EE service'!$E$17*I515/1000000","v":0},{"$f":"+'EE service'!$E$22*I515/1000000","v":0},null,{"$error":"#DIV/0!"},{"$error":"#DIV/0!"},{"$error":"#DIV/0!"},null,null,{"$f":"I515*'EE service'!$H$29/1000000","v":0}]
[null,null,"Efficient office lighting with CFLs",{"$f":"+'EE service'!E57","v":{"$error":"#DIV/0!"}},"1000 lights",{"$f":"+'EE service'!E55","v":{"$error":"#DIV/0!"}},{"$f":"+'EE service'!$E$45*I516/1000000","v":0},{"$f":"+'EE service'!$E$50*I516/1000000","v":0},null,{"$f":"F516*I516/1000","v":{"$error":"#DIV/0!"}},{"$error":"#DIV/0!"},{"$error":"#DIV/0!"},null,null,{"$f":"+'EE service'!$H$57*I516/1000","v":0}]
[null,null,"Efficient office lighting with LEDs",{"$f":"+'EE service'!E89","v":{"$error":"#DIV/0!"}},"1000 lights",{"$f":"+'EE service'!E87","v":{"$error":"#DIV/0!"}},{"$f":"+'EE service'!$E$77*I517/1000000","v":0},{"$f":"+'EE service'!$E$82*I517/1000000","v":0},null,{"$error":"#DIV/0!"},{"$error":"#DIV/0!"},{"$error":"#DIV/0!"},null,null,{"$f":"+'EE service'!$H$89*I517/1000","v":0}]
[null,null,"Efficient street lights",{"$f":"+'EE service'!E123","v":{"$error":"#DIV/0!"}},"1000 lights",{"$f":"+'EE service'!E121","v":{"$error":"#DIV/0!"}},{"$f":"+'EE service'!$E$111*I518/1000000","v":0},{"$f":"+'EE service'!$E$116*I518/1000000","v":0},null,{"$error":"#DIV/0!"},{"$error":"#DIV/0!"},{"$error":"#DIV/0!"},null,null,{"$f":"+'EE service'!$H$136*I518/1000","v":0}]
[null,null,"Efficient water pumping",{"$f":"+'EE service'!E159","v":{"$error":"#DIV/0!"}},"4 Million m3 water",{"$f":"+'EE service'!E157","v":{"$error":"#DIV/0!"}},{"$f":"+'EE service'!$E$147*I519/1000000","v":0},{"$f":"+'EE service'!$E$152*I519/1000000","v":0},null,{"$error":"#DIV/0!"},{"$error":"#DIV/0!"},{"$error":"#DIV/0!"},null,null,{"$f":"+'EE service'!$H$158*I519","v":0}]
[null,null,"HVAC",{"$f":"+'EE service'!E248","v":0},"100,000 m2 floor area",{"$f":"+'EE service'!E246","v":0},{"$f":"'EE service'!$E$236*I520/1000000","v":0},{"$f":"'EE service'!$E$241*I520/1000000","v":0},null,0,{"$error":"#DIV/0!"},{"$error":"#DIV/0!"},null,null,{"$f":"+'EE service'!$H$254*I520/1000","v":0}]
[null,null,"Efficient Chiller > 300 TR",{"$f":"+'EE service'!E277","v":22.896661292960445},"1 TR",{"$f":"+'EE service'!E275","v":1.4266999999999999},{"$f":"'EE service'!$E$265*I521/1000000","v":0},{"$f":"'EE service'!$E$270*I521/1000000","v":0},null,0,{"$error":"#DIV/0!"},{"$f":"+K521/Totalemis2050","v":{"$error":"#DIV/0!"}},null,null,{"$f":"+'EE service'!$H$290*I521/1000000","v":0}]
[null,null,"Efficient Chiller < 300 TR",{"$f":"+'EE service'!E309","v":42.055092170743677},"1 TR",{"$f":"+'EE service'!E307","v":0.71334999999999993},{"$f":"'EE service'!$E$297*I522/1000000","v":0},{"$f":"'EE service'!$E$302*I522/1000000","v":0},null,0,{"$error":"#DIV/0!"},{"$error":"#DIV/0!"},null,null,{"$f":"+'EE service'!$H$321*I522/1000000","v":0}]
[null,null,"Efficient room airconditioner",{"$f":"+'EE service'!E341","v":{"$error":"#DIV/0!"}},"1 Airconditioner",{"$f":"+'EE service'!E339","v":{"$error":"#DIV/0!"}},{"$f":"'EE service'!$E$329*I523/1000000","v":0},{"$f":"'EE service'!$E$334*I523/1000000","v":0},null,{"$error":"#DIV/0!"},{"$f":"OFFSET(K523,-1,0)+J523","v":{"$error":"#DIV/0!"}},{"$error":"#DIV/0!"},null,null,{"$f":"+'EE service'!$H$353*I523/1000000","v":0}]
[null,null,"Efficient commercial dishwashing machine ",{"$f":"+'EE service'!E374","v":0},"1000 meals/day",{"$f":"+'EE service'!E372","v":0},{"$f":"'EE service'!$E$362*I524/1000000","v":0},{"$f":"'EE service'!$E$367*I524/1000000","v":0},null,0,{"$error":"#DIV/0!"},{"$error":"#DIV/0!"},null,null,{"$f":"+'EE service'!$H$388*I524/1000000","v":0}]
[null,null,"Efficient hotel refrigerator",{"$f":"+'EE service'!E409","v":{"$error":"#DIV/0!"}},"1 refrigerator",{"$f":"+'EE service'!E407","v":{"$error":"#DIV/0!"}},{"$f":"'EE service'!$E$397*I525/1000000","v":0},{"$f":"'EE service'!$E$402*I525/1000000","v":0},null,{"$error":"#DIV/0!"},{"$error":"#DIV/0!"},{"$error":"#DIV/0!"},null,null,{"$f":"+'EE service'!$H$415*I525/1000000","v":0}]
[null,null,"Efficient hotel washing machine ",{"$f":"+'EE service'!E439","v":{"$error":"#DIV/0!"}},"1000 Guest Nights (GN)",{"$f":"+'EE service'!E437","v":{"$error":"#DIV/0!"}},{"$f":"'EE service'!$E$427*I526/1000000","v":0},{"$f":"'EE service'!$E$432*I526/1000000","v":0},null,{"$error":"#DIV/0!"},{"$error":"#DIV/0!"},{"$error":"#DIV/0!"},null,null,{"$f":"+'EE service'!$H$459*I526/1000000","v":0}]
[null,null,"Energy efficiency in service",{"$f":"+'EE service'!AF223","v":0},"10% red. of energy demand",{"$f":"+'EE service'!AF221","v":0},{"$f":"'EE service'!$AF$211*I527/1000000","v":0},{"$f":"'EE service'!$AF$216*I527/1000000","v":0},null,0,{"$error":"#DIV/0!"},{"$f":"K527/Totalemis2050","v":{"$error":"#DIV/0!"}}]
[null,null,"New office building with central cooling",{"$f":"+'EE service'!E188","v":{"$error":"#DIV/0!"}},"1000 m2",{"$f":"+'EE service'!E186","v":{"$error":"#DIV/0!"}},{"$f":"+'EE service'!$E$176*I528/1000000","v":0},{"$f":"+'EE service'!$E$181*I528/1000000","v":0},null,{"$f":"(F528*I528)/1000","v":{"$error":"#DIV/0!"}},{"$f":"OFFSET(K528,-1,0,1,1)+J528","v":{"$error":"#DIV/0!"}},{"$error":"#DIV/0!"},null,null,{"$f":"+'EE service'!$H$201*I528*1000/1000","v":0}]
[{"$f":"ROW(B529)","v":529},"EE supply side","New natural gas power plant",{"$f":"'EE supply side'!AF25","v":-81.886272256873895},"1 MW",{"$f":"+'EE supply side'!AF23","v":-2634.2608695652175},{"$f":"+'EE supply side'!$AF$13/1000000*I529","v":0},{"$f":"+'EE supply side'!$AF$18/1000000*I529","v":0},null,{"$f":"(F529*I529)/1000","v":0},{"$f":"OFFSET(K529,-1,0,1,1)+J529","v":{"$error":"#DIV/0!"}},{"$f":"K529/Totalemis2050","v":{"$error":"#DIV/0!"}}]
[null,null,"Switch from fuel oil to natural gas",{"$f":"'EE supply side'!E172","v":-339.53206503966459},"1 MW",{"$f":"+'EE supply side'!E170","v":1454.3571428571436},{"$f":"+'EE supply side'!$E$160/1000000*I530","v":0},{"$f":"+'EE supply side'!$E$165/1000000*I530","v":0},null,0,{"$error":"#DIV/0!"},{"$error":"#DIV/0!"}]
[null,null,"Cogeneration in industry",{"$f":"+'EE supply side'!E113","v":-57.542861861768735},"1 MW",{"$f":"+'EE supply side'!E111","v":-6633.0554875199996},{"$f":"+'EE supply side'!$E$102*I531/1000000","v":0},{"$f":"+'EE supply side'!$E$106*I531/1000000","v":0},null,0,{"$error":"#DIV/0!"},{"$error":"#DIV/0!"},null,null,{"$f":"+'EE supply side'!$H$112*I531/1000","v":0}]
[null,null,"Single cycle to combined cycle",{"$f":"+'EE supply side'!E83","v":0},"100 MW increase",{"$f":"+'EE supply side'!E81","v":0},{"$f":"'EE supply side'!$E$72*I532/1000000","v":0},{"$f":"'EE supply side'!$E$76*I532/1000000","v":0},null,0,{"$error":"#DIV/0!"},{"$error":"#DIV/0!"},null,null,{"$f":"+'EE supply side'!$H$91*I532/1000","v":0}]
[{"$f":"ROW(B533)","v":533},"Energy distribution","Efficient electric grids",{"$f":"+'Energy distribution'!E26","v":0},"1 GWh loss reduction",{"$f":"+'Energy distribution'!E24","v":0},{"$f":"+'Energy distribution'!$E$14*I533/1000000","v":0},{"$f":"+'Energy distribution'!$E$19*I533/1000000","v":0},null,0,{"$error":"#DIV/0!"},{"$error":"#DIV/0!"},null,null,{"$f":"+I533*'Energy distribution'!$H$22","v":{"$error":"#DIV/0!"}}]
[null,null,"Connection of isolated grid to central grid ",{"$f":"+'Energy distribution'!E55","v":0},"1 GWh consumption",{"$f":"+'Energy distribution'!E53","v":0},{"$f":"+'Energy distribution'!$E$43*I534/1000000","v":0},{"$f":"+'Energy distribution'!$E$48*I534/1000000","v":0},null,0,{"$error":"#DIV/0!"},{"$error":"#DIV/0!"}]
[null,null,"Power factor increase",{"$f":"+'Energy distribution'!E85","v":0},"1000 commerce/industry buildings",{"$f":"+'Energy distribution'!E83","v":0},{"$f":"'Energy distribution'!$E$73*I535/1000000","v":0},{"$f":"'Energy distribution'!$E$78*I535/1000000","v":0},null,0,{"$error":"#DIV/0!"},{"$error":"#DIV/0!"},null,null,{"$f":"I535*'Energy distribution'!$H$92","v":0}]
[null,null,"District heating network rehabilitation (100,000 flats supplied)",{"$f":"+'Energy distribution'!E114","v":-158.05408627123262},"100,000 flats supplied",{"$f":"+'Energy distribution'!E112","v":33649.053412333342},{"$f":"'Energy distribution'!$E$101*I536/1000000","v":0},{"$f":"'Energy distribution'!$E$107*I536/1000000","v":0},null,0,{"$error":"#DIV/0!"},{"$f":"+K536/Totalemis2050","v":{"$error":"#DIV/0!"}}]
[null,null,"District cooling network (1 million m2 new city area covered)",{"$f":"+'Energy distribution'!E153","v":-189.15402700930974},"1 million m2 new city area covered",{"$f":"+'Energy distribution'!E151","v":13725.623132042594},{"$f":"'Energy distribution'!$E$141*I537/1000000","v":0},{"$f":"'Energy distribution'!$E$146*I537/1000000","v":0},null,0,{"$error":"#DIV/0!"},{"$f":"+K537/Totalemis2050","v":{"$error":"#DIV/0!"}}]
[{"$f":"ROW(B538)","v":538},"Forestry","Reforestation",{"$f":"+Forestry!E28","v":8.1818181818181817},"Reforestation of 1000 ha",{"$f":"Forestry!E26","v":3666.666666666667},{"$f":"Forestry!$E$15*I538/1000000","v":0},{"$f":"Forestry!$E$21/1000000*I538","v":0},null,0,{"$error":"#DIV/0!"},{"$f":"K538/Totalemis2050","v":{"$error":"#DIV/0!"}}]
[null,null,"REDD: Avoided deforestation",{"$f":"+Forestry!E56","v":-5.5},"No deforestation for 1000 ha",{"$f":"Forestry!E54","v":3666.666666666667},{"$f":"Forestry!$E$44*I539/1000000","v":0},{"$f":"Forestry!$E$49/1000000*I539","v":0},null,0,{"$error":"#DIV/0!"},{"$error":"#DIV/0!"}]
[null,null,"Assisted forest regeneration",{"$f":"Forestry!E84","v":-2.0454545454545454},"Reforestation of 1000 ha",{"$f":"Forestry!E82","v":3666.666666666667},{"$f":"Forestry!$E$72/1000000*I540","v":0},{"$f":"Forestry!$E$77/1000000*I540","v":0},null,0,{"$error":"#DIV/0!"},{"$error":"#DIV/0!"}]
[null,null,"Reforestation with agroforestry",{"$f":"Forestry!E113","v":-0.27272727272727271},"Reforestation of 1000 ha",{"$f":"Forestry!E111","v":3666.666666666667},{"$f":"Forestry!$E$100/1000000*I541","v":0},{"$f":"Forestry!$E$106/1000000*I541","v":0},null,0,{"$error":"#DIV/0!"},{"$error":"#DIV/0!"}]
[null,null,"Reforestation with Silvopasture",{"$f":"Forestry!E143","v":-0.27272727272727271},"Reforestation of 1000 ha",{"$f":"Forestry!E141","v":3666.666666666667},{"$f":"Forestry!$E$130/1000000*I542","v":0},{"$f":"Forestry!$E$136/1000000*I542","v":0},null,0,{"$error":"#DIV/0!"},{"$error":"#DIV/0!"}]
[{"$f":"ROW(B543)","v":543},"Fossil fuel switch","Switch from coal to natural gas in industry",{"$f":"+'Fossil fuel switch'!E24","v":29.648354344806059},"100 TJ fuel use/year",{"$f":"+'Fossil fuel switch'!E22","v":3850},{"$f":"'Fossil fuel switch'!$E$12/1000000*I543","v":0},{"$f":"'Fossil fuel switch'!$E$17/1000000*I543","v":0},null,0,{"$error":"#DIV/0!"},{"$error":"#DIV/0!"}]
[null,null,"Switch from fuel oil to natural gas in industry",{"$f":"'Fossil fuel switch'!E53","v":-136.87543961201254},"100 TJ fuel use/year",{"$f":"'Fossil fuel switch'!E51","v":2126.6666666666679},{"$f":"'Fossil fuel switch'!$E$41/1000000*I544","v":0},{"$f":"'Fossil fuel switch'!$E$46/1000000*I544","v":0},null,0,{"$error":"#DIV/0!"},{"$error":"#DIV/0!"}]
[{"$f":"ROW(B545)","v":545},"Fugitive","Reduced flaring at oil field",{"$f":"+Fugitive!E25","v":-11.666162152975813},"1 MMSCF/day",{"$f":"+Fugitive!E23","v":22613.499908999998},{"$f":"+Fugitive!$E$13*I545/1000000","v":0},{"$f":"+Fugitive!$E$18*I545/1000000","v":0},null,0,{"$error":"#DIV/0!"},{"$error":"#DIV/0!"}]
[null,null,"Reduced flaring at oil refineries",{"$f":"+Fugitive!E54","v":159.98532895280397},"1 MMSCF/day",{"$f":"+Fugitive!E52","v":20797.217999999997},{"$f":"+Fugitive!$E$42*I546/1000000","v":0},{"$f":"+Fugitive!$E$47*I546/1000000","v":0},null,0,{"$error":"#DIV/0!"},{"$error":"#DIV/0!"}]
[null,null,"Leak reduction in natural gas pipelines",{"$f":"Fugitive!E81","v":-4.7340603277169917},"1 Mm3 CH/year leaking",{"$f":"+Fugitive!E79","v":20104.000000000004},{"$f":"Fugitive!$E$69*I547/1000000","v":0},{"$f":"Fugitive!$E$74*I547/1000000","v":0},null,0,{"$error":"#DIV/0!"},{"$error":"#DIV/0!"}]
[null,null,"Charcoal production",{"$f":"+Fugitive!E108","v":0.76723985653613069},"100,000 ton charcoal/yr",{"$f":"+Fugitive!E106","v":156404.80480480485},{"$f":"Fugitive!$E$97*I548/1000000","v":0},{"$f":"Fugitive!$E$101*I548/1000000","v":0},null,0,{"$error":"#DIV/0!"},{"$error":"#DIV/0!"}]
[{"$f":"ROW(B549)","v":549},"Geothermal","Geothermal power",{"$f":"+Geothermal!AF22","v":0},"1 MW",{"$f":"+Geothermal!AF20","v":0},{"$f":"+Geothermal!$AF$10*I549/1000000","v":0},{"$f":"+Geothermal!$AF$15*I549/1000000","v":0},null,0,{"$error":"#DIV/0!"},{"$error":"#DIV/0!"},null,null,null,{"$f":"+Geothermal!$AI$18*I549/1000","v":0}]
[null,null,"Geothermal heat",{"$f":"+Geothermal!E50","v":-12.72414473942839},"1000 m2 heated area",{"$f":"+Geothermal!E48","v":17.056285714285721},{"$f":"Geothermal!$E$38*I550/1000000","v":0},{"$f":"Geothermal!$E$43*I550/1000000","v":0},null,0,{"$error":"#DIV/0!"},{"$error":"#DIV/0!"}]
[{"$f":"ROW(B551)","v":551},"HFCs, PFCs, SF6","Reduced PFCs from aluminum production",{"$f":"+'HFCs, PFCs, SF6'!E22","v":-3.4084892300915444E-2},"100,000 ton Aluminium/yr",{"$f":"+'HFCs, PFCs, SF6'!E20","v":-64696},{"$f":"+'HFCs, PFCs, SF6'!$E$10*I551/1000000","v":0},{"$f":"+'HFCs, PFCs, SF6'!$E$15*I551/1000000","v":0},null,0,{"$error":"#DIV/0!"},{"$error":"#DIV/0!"}]
[{"$f":"ROW(B552)","v":552},"Hydro","Hydro power connected to main grid",{"$f":"+Hydro!AF25","v":0},"1 MW",{"$f":"+Hydro!AF23","v":0},{"$f":"+Hydro!$AF$13*I552/1000000","v":0},{"$f":"+Hydro!$AF$18*I552/1000000","v":0},null,0,{"$error":"#DIV/0!"},{"$error":"#DIV/0!"},null,null,null,{"$f":"+Hydro!$AI$21*I552/1000","v":0}]
[null,null,"Mini hydro power connected to main grid",{"$f":"+Hydro!E54","v":0},"1 MW",{"$f":"+Hydro!E52","v":0},{"$f":"+Hydro!$E$42*I553/1000000","v":0},{"$f":"+Hydro!$E$47*I553/1000000","v":0},null,0,{"$error":"#DIV/0!"},{"$error":"#DIV/0!"},null,null,null,{"$f":"Hydro!$H$50/Hydro!$H$47*I553/1000","v":0}]
[null,null,"Mini hydro power off grid",{"$f":"+Hydro!E83","v":-71.909842771818788},"1 MW",{"$f":"+Hydro!E81","v":3231.9999999999995},{"$f":"+Hydro!$E$71*I554/1000000","v":0},{"$f":"Hydro!$E$76*I554/1000000","v":0},null,0,{"$error":"#DIV/0!"},{"$error":"#DIV/0!"},null,null,null,{"$f":"Hydro!$H$77/Hydro!$H$74*I554/1000","v":0}]
[{"$f":"ROW(B555)","v":555},"Landfills","Landfill gas plant with power production",{"$f":"Landfills!E27","v":4.9007373033746724},"200 t/day plant",{"$f":"Landfills!E25","v":165886.95200000002},{"$f":"+Landfills!$E$15*I555/1000000","v":0},{"$f":"+Landfills!$E$20*I555/1000000","v":0},null,0,{"$error":"#DIV/0!"},{"$error":"#DIV/0!"},null,null,null,{"$f":"+Landfills!$H$36*I555/1000","v":0}]
[null,null,"Landfill gas flaring",{"$f":"+Landfills!E118","v":476.51498863888366},"1 t/day plant",{"$f":"+Landfills!E116","v":165886.95200000002},{"$f":"+Landfills!$E$106*I556/1000000","v":0},{"$f":"Landfills!$E$111*I556/1000000","v":0},null,0,{"$error":"#DIV/0!"},{"$error":"#DIV/0!"}]
[null,null,"Incineration plant",{"$f":"+Landfills!E91","v":46.439980403039769},"200 t/day plant",{"$f":"Landfills!E89","v":124415.21400000001},{"$f":"Landfills!$E$79*I557/1000000","v":0},{"$f":"Landfills!$E$84*I557/1000000","v":0},null,0,{"$error":"#DIV/0!"},{"$error":"#DIV/0!"}]
[null,null,"Recycling of plastics",{"$f":"+Landfills!E197","v":-255.84635716143856},"1000 t/year plant",{"$f":"Landfills!E195","v":833.25},{"$f":"Landfills!$E$184*I558/1000000","v":0},{"$f":"Landfills!$E$190*I558/1000000","v":0},null,0,{"$error":"#DIV/0!"},{"$error":"#DIV/0!"}]
[null,null,"Refuce Derived Fuel (RDF) from MSW",{"$f":"+Landfills!E171","v":51.693454591314826},"200 t MSW/day plant",{"$f":"Landfills!E169","v":20389.428571428572},{"$f":"Landfills!$E$159*I559/1000000","v":0},{"$f":"Landfills!$E$164*I559/1000000","v":0},null,0,{"$error":"#DIV/0!"},{"$error":"#DIV/0!"}]
[null,null,"Biogas from Municipal Solid Waste",{"$f":"+Landfills!E146","v":0.11077632045373981},"1000 t/year plant",{"$f":"+Landfills!E144","v":16248.960000000001},{"$f":"+Landfills!$E$134*I560/1000000","v":0},{"$f":"Landfills!$E$139*I560/1000000","v":0},null,0,{"$error":"#DIV/0!"},{"$error":"#DIV/0!"}]
[null,null,"Composting of Municipal Solid Waste",{"$f":"+Landfills!E63","v":-0.10545358888876404},"1000 t/day plant",{"$f":"+Landfills!E61","v":5515709.472000001},{"$f":"+Landfills!$E$50*I561/1000000","v":0},{"$f":"+Landfills!$E$56*I561/1000000","v":0},null,0,{"$error":"#DIV/0!"},{"$error":"#DIV/0!"}]
[{"$f":"ROW(B562)","v":562},"Marine","Tidal",{"$f":"Marine!AF22","v":0},"1 MW of tidal power",{"$f":"Marine!AF20","v":0},{"$f":"Marine!$AF$10*I562/1000000","v":0},{"$f":"Marine!$AF$15*I562/1000000","v":0},null,0,{"$error":"#DIV/0!"},{"$error":"#DIV/0!"},null,null,null,{"$f":"+Marine!$AI$18*I562/1000","v":0}]
[null,null,"Wave",{"$f":"Marine!AF47","v":0},"1 MW of wave power",{"$f":"Marine!AF45","v":0},{"$f":"Marine!$AF$35*I563/1000000","v":0},{"$f":"Marine!$AF$40*I563/1000000","v":0},null,0,{"$error":"#DIV/0!"},{"$error":"#DIV/0!"},null,null,null,{"$f":"+Marine!$AI$43*I563/1000","v":0}]
[{"$f":"ROW(B564)","v":564},"Methane avoidance","Biogas at rural farms using kerosene",{"$f":"+'Methane avoidance'!E24","v":-160.8114705432757},"1000 units",{"$f":"+'Methane avoidance'!E22","v":1227.6264000000001},{"$f":"+'Methane avoidance'!$E$12*I564/1000000","v":0},{"$f":"+'Methane avoidance'!$E$17*I564/1000000","v":0},null,0,{"$error":"#DIV/0!"},{"$error":"#DIV/0!"}]
[null,null,"Biogas at rural farms using non-renewable fuelwood",{"$f":"+'Methane avoidance'!E51","v":1.2107375121073751},"1000 units",{"$f":"+'Methane avoidance'!E49","v":11274.12},{"$f":"+'Methane avoidance'!$E$39*I565/1000000","v":0},{"$f":"+'Methane avoidance'!$E$44*I565/1000000","v":0},null,0,{"$error":"#DIV/0!"},{"$error":"#DIV/0!"}]
[null,null,"Biogas at pig farms",{"$f":"+'Methane avoidance'!E78","v":6.9197562715191454},"84000 pigs",{"$f":"+'Methane avoidance'!E76","v":88480},{"$f":"'Methane avoidance'!$E$66*I566/1000000","v":0},{"$f":"'Methane avoidance'!$E$71*I566/1000000","v":0},null,0,{"$error":"#DIV/0!"},{"$error":"#DIV/0!"},null,null,null,{"$f":"+'Methane avoidance'!$H$80*I566/1000","v":0}]
[null,null,"Biogas from industrial waste water ",{"$f":"+'Methane avoidance'!E106","v":28.620352250489237},"1 plant",{"$f":"+'Methane avoidance'!E104","v":15624},{"$f":"+'Methane avoidance'!$E$94*I567/1000000","v":0},{"$f":"+'Methane avoidance'!$E$99*I567/1000000","v":0},null,0,{"$error":"#DIV/0!"},{"$error":"#DIV/0!"}]
[{"$f":"ROW(B568)","v":568},"N2O","Nitric acid plant (N2O destruction)",{"$f":"+N2O!E21","v":1.1954749909658409},"100 ton HNO3/day",{"$f":"+N2O!E19","v":59002.25},{"$f":"+N2O!$E$10*I568/1000000","v":0},{"$f":"N2O!$E$14*I568/1000000","v":0},null,0,{"$error":"#DIV/0!"},{"$error":"#DIV/0!"}]
[{"$f":"ROW(B569)","v":569},"Solar","PV pump replacing electric pump",{"$f":"Solar!$E$361","v":0},"1 pump",{"$f":"+Solar!$E$359","v":0},{"$f":"Solar!$E$349*I569/1000000","v":0},{"$f":"+Solar!$E$354*I569/1000000","v":0},null,{"$f":"F569*I569/1000","v":0},{"$f":"OFFSET(K569,-1,0)+J569","v":{"$error":"#DIV/0!"}},{"$error":"#DIV/0!"},null,null,{"$f":"(+Solar!$H$369*I569)/1000000","v":0}]
[null,null,"PV pump replacing diesel pump",{"$f":"Solar!$E$389","v":-139.91618112414818},"1 pump",{"$f":"+Solar!$E$387","v":12.699954539999998},{"$f":"Solar!$E$377*I570/1000000","v":0},{"$f":"+Solar!$E$382*I570/1000000","v":0},null,{"$f":"F570*I570/1000","v":0},{"$f":"OFFSET(K570,-1,0)+J570","v":{"$error":"#DIV/0!"}},{"$error":"#DIV/0!"},{"$f":"J570/3.1","v":0}]
[null,null,"Solar water heater, residential",{"$f":"Solar!E33","v":0},"1000 units",{"$f":"Solar!E31","v":0},{"$f":"+Solar!$E$21*I571/1000000","v":0},{"$f":"+Solar!$E$26*I571/1000000","v":0},null,{"$f":"F571*I571/1000","v":0},{"$f":"OFFSET(K571,-1,0)+J571","v":{"$error":"#DIV/0!"}},{"$f":"K571/Totalemis2050","v":{"$error":"#DIV/0!"}},null,null,{"$f":"+Solar!$H$39*I571/1000000","v":0}]
[null,null,"Solar water heater, large",{"$f":"+Solar!E60","v":0},"1 unit",{"$f":"+Solar!E58","v":0},{"$f":"+Solar!$E$48*I572/1000000","v":0},{"$f":"+Solar!$E$53*I572/1000000","v":0},null,{"$f":"(F572*I572)/1000","v":0},{"$f":"OFFSET(K572,-1,0,1,1)+J572","v":{"$error":"#DIV/0!"}},{"$error":"#DIV/0!"},null,null,{"$f":"+Solar!$H$68*I572/1000000","v":0}]
[null,null,"Solar PVs, large grid",{"$f":"Solar!AF90","v":0},"1 MW",{"$f":"Solar!AF88","v":0},{"$f":"+Solar!$AF$78*I573/1000000","v":0},{"$f":"+Solar!$AF$83*I573/1000000","v":0},null,0,{"$error":"#DIV/0!"},{"$error":"#DIV/0!"},null,null,null,{"$f":"+Solar!$AI$88*I573/1000","v":0}]
[null,null,"Solar PVs, large grid with 24h storage",{"$f":"Solar!AF114","v":0},"1 MW",{"$f":"Solar!AF112","v":0},{"$f":"+Solar!$AF$102*I574/1000000","v":0},{"$f":"+Solar!$AF$107*I574/1000000","v":0},null,0,{"$error":"#DIV/0!"},{"$f":"+K574/Totalemis2050","v":{"$error":"#DIV/0!"}},null,null,null,{"$f":"+Solar!$AI$112*I574/1000","v":0}]
[null,null,"Solar house PVs",{"$f":"+Solar!E139","v":0},"500 W",{"$f":"+Solar!E137","v":0},{"$f":"+Solar!$E$127*I575/1000000","v":0},{"$f":"+Solar!$E$132*I575/1000000","v":0},null,0,{"$error":"#DIV/0!"},{"$f":"+K575/Totalemis2050","v":{"$error":"#DIV/0!"}},null,null,null,{"$f":"+Solar!$H138*I575/1000","v":0}]
[null,null,"Solar cottage PVs",{"$f":"+Solar!E166","v":0},"50 W",{"$f":"+Solar!E164","v":0},{"$f":"+Solar!$E$154*I576/1000000","v":0},{"$f":"+Solar!$E$159*I576/1000000","v":0},null,0,{"$error":"#DIV/0!"},{"$f":"K576/Totalemis2050","v":{"$error":"#DIV/0!"}},null,null,null,{"$f":"+Solar!$H$169*I576/1000","v":0}]
[null,null,"Solar/diesel mini-grid",{"$f":"+Solar!E191","v":49.644079804749254},"40 kW from solar",{"$f":"+Solar!E189","v":58.400000000000006},{"$f":"+Solar!$E$179*I577/1000000","v":0},{"$f":"Solar!$E$184*I577/1000000","v":0},null,0,{"$error":"#DIV/0!"},{"$error":"#DIV/0!"},null,null,null,{"$f":"+Solar!$H$196*I577/1000","v":0}]
[null,null,"Solar LED lamps",{"$f":"+Solar!E303","v":-130.33365170942039},"1000 lamps",{"$f":"+Solar!E301","v":93.908173333333366},{"$f":"Solar!$E$291*I578/1000000","v":0},{"$f":"Solar!$E$296*I578/1000000","v":0},null,0,{"$error":"#DIV/0!"},{"$error":"#DIV/0!"}]
[null,null,"Solar PVs, small isolated grid, 100% solar",{"$f":"+Solar!E219","v":249.72792998477931},"2 MW",{"$f":"+Solar!E217","v":2628},{"$f":"+Solar!$E$207*I579/1000000","v":0},{"$f":"+Solar!$E$212*I579/1000000","v":0},null,0,{"$error":"#DIV/0!"},{"$error":"#DIV/0!"},null,null,null,{"$f":"+Solar!$H$222*I579/1000","v":0}]
[null,null,"Solar street lights",{"$f":"+Solar!E330","v":0},"1000 locations  (0.05 MW)",{"$f":"+Solar!E328","v":0},{"$f":"+Solar!$E$318*I580/1000000","v":0},{"$f":"+Solar!$E$323*I580/1000000","v":0},null,0,{"$error":"#DIV/0!"},{"$error":"#DIV/0!"},null,null,null,{"$f":"+Solar!$H$341*I580/1000","v":0}]
[null,null,"Parabolic through CSP, no storage",{"$f":"Solar!AF248","v":0},"1 MW",{"$f":"Solar!AF246","v":0},{"$f":"Solar!$AF$236*I581/1000000","v":0},{"$f":"Solar!$AF$241*I581/1000000","v":0},null,0,{"$error":"#DIV/0!"},{"$error":"#DIV/0!"},null,null,null,{"$f":"+Solar!$AI$244*I581/1000","v":0}]
[null,null,"Solar tower CSP, with storage",{"$f":"+Solar!AF275","v":0},"1 MW",{"$f":"+Solar!AF273","v":0},{"$f":"+Solar!$AF$263*I582/1000000","v":0},{"$f":"+Solar!$AF$268*I582/1000000","v":0},null,0,{"$error":"#DIV/0!"},{"$error":"#DIV/0!"},null,null,null,{"$f":"+Solar!$AI$271*I582/1000","v":0}]
[{"$f":"ROW(B583)","v":583},"Transport","20% Biodiesel blend in all  diesel",{"$f":"+Transport!AF39","v":0},"20% blend in transport",{"$f":"+Transport!AF37","v":0},{"$f":"+Transport!$AF$27*I583/1000000","v":0},{"$f":"+Transport!$AF$32*I583/1000000","v":0},null,0,{"$error":"#DIV/0!"},{"$error":"#DIV/0!"}]
[null,null,"15% Bioethanol blend in all gasoline",{"$f":"+Transport!AF68","v":0},"15% blend in transport",{"$f":"+Transport!AF66","v":0},{"$f":"+Transport!$AF$55*I584/1000000","v":0},{"$f":"+Transport!$AF$60*I584/1000000","v":0},null,0,{"$error":"#DIV/0!"},{"$error":"#DIV/0!"}]
[null,null,"Bus Rapid Transit (BRT)",{"$f":"Transport!E480","v":20.512423721756154},"1 km BRT line",{"$f":"+Transport!E478","v":1983.4616326530609},{"$f":"Transport!$E$467*I585/1000000","v":0},{"$f":"Transport!$E$473*I585/1000000","v":0},null,0,{"$error":"#DIV/0!"},{"$error":"#DIV/0!"},{"$f":"J585/3.1","v":0}]
[null,null,"More efficient gasoline cars",{"$f":"+Transport!E99","v":-210.54575187549142},"1000 cars",{"$f":"+Transport!E97","v":408.90380487804828},{"$f":"+Transport!$E$86*I586/1000000","v":0},{"$f":"+Transport!$E$92*I586/1000000","v":0},null,0,{"$error":"#DIV/0!"},{"$error":"#DIV/0!"},null,{"$f":"J586/2.9","v":0}]
[null,null,"More efficient diesel cars",{"$f":"+Transport!E125","v":-158.52638703809453},"1000 cars",{"$f":"+Transport!E123","v":179.7212853333333},{"$f":"+Transport!$E$112*I587/1000000","v":0},{"$f":"+Transport!$E$118*I587/1000000","v":0},null,0,{"$error":"#DIV/0!"},{"$error":"#DIV/0!"},{"$f":"J587/3.1","v":0}]
[null,null,"Natural Gas cars",{"$f":"+Transport!E396","v":-193.28908089616741},"1000 cars using natural gas",{"$f":"+Transport!E394","v":778.08450104036592},{"$f":"+Transport!$E$384*I588/1000000","v":0},{"$f":"+Transport!$E$389*I588/1000000","v":0},null,0,{"$error":"#DIV/0!"},{"$error":"#DIV/0!"},{"$f":"J588/3.1","v":0}]
[null,null,"Electric cars",{"$f":"+Transport!AF149","v":662.6991689884776},"1000 cars",{"$f":"+Transport!AF147","v":1397.0879999999997},{"$f":"+Transport!$AF$137*I589/1000000","v":0},{"$f":"+Transport!$AF$142*I589/1000000","v":0},null,0,{"$error":"#DIV/0!"},{"$error":"#DIV/0!"},null,{"$f":"J589/2.9","v":0}]
[null,null,"Electric 18m buses",{"$f":"+Transport!AF179","v":-52.4671015407868},"1000 buses",{"$f":"+Transport!AF177","v":67395.481999999989},{"$f":"+Transport!$AF$167*I590/1000000","v":0},{"$f":"+Transport!$AF$172*I590/1000000","v":0},null,0,{"$error":"#DIV/0!"},{"$f":"K590/Totalemis2050","v":{"$error":"#DIV/0!"}},{"$f":"J590/3.1","v":0}]
[null,null,"Electric 12m buses",{"$f":"+Transport!AF210","v":84.822640423419784},"1000 buses",{"$f":"+Transport!AF208","v":25674.469333333331},{"$f":"+Transport!$AF$198*I591/1000000","v":0},{"$f":"+Transport!$AF$203*I591/1000000","v":0},null,0,{"$error":"#DIV/0!"},{"$error":"#DIV/0!"},0]
[null,null,"Electric heavy trucks",{"$f":"+Transport!AF241","v":881.89350342281193},"1000 trucks",{"$f":"+Transport!AF239","v":25273.30575},{"$f":"+Transport!$AF$229*I592/1000000","v":0},{"$f":"+Transport!$AF$234*I592/1000000","v":0},null,0,{"$error":"#DIV/0!"},{"$error":"#DIV/0!"},0]
[null,null,"Electric light trucks",{"$f":"+Transport!AF273","v":-108.73107336014425},"1000 trucks",{"$f":"+Transport!AF271","v":7702.3407999999981},{"$f":"+Transport!$AF$261*I593/1000000","v":0},{"$f":"+Transport!$AF$266*I593/1000000","v":0},null,0,{"$error":"#DIV/0!"},{"$error":"#DIV/0!"},0]
[null,null,"Electric rail ",{"$f":"+Transport!E305","v":529.90789219490932},"1 Million trainkm/year",{"$f":"+Transport!E303","v":6461.8788141599998},{"$f":"Transport!$E$293*I594/1000000","v":0},{"$f":"Transport!$E$298*I594/1000000","v":0},null,0,{"$error":"#DIV/0!"},{"$error":"#DIV/0!"},0]
[null,null,"Shifting passengers from car to rail",{"$f":"+Transport!E336","v":653.94483871636305},"1 Million personkm/day",{"$f":"+Transport!E334","v":35457.80333333333},{"$f":"+Transport!$E$324*I595/1000","v":0},{"$f":"+Transport!$E$329*I595/1000","v":0},null,0,{"$error":"#DIV/0!"},{"$error":"#DIV/0!"},0]
[null,null,"Shifting freight transport from road to rail",{"$f":"+Transport!E365","v":-1534.825994878948},"1000 tonkm/day",{"$f":"+Transport!E363","v":241.3646113413127},{"$f":"+Transport!$E$353*I596/1000","v":0},{"$f":"+Transport!$E$358*I596/1000","v":0},null,0,{"$error":"#DIV/0!"},{"$error":"#DIV/0!"},0]
[null,null,"Restriction on import of used cars",{"$f":"+Transport!E425","v":-210.54575187549128},"1000 cars",{"$f":"+Transport!E423","v":931.3919999999996},{"$f":"+Transport!$E$412*I597/1000000","v":0},{"$f":"+Transport!$E$418*I597/1000000","v":0},null,0,{"$error":"#DIV/0!"},{"$error":"#DIV/0!"},0]
[null,null,"New bicycle lanes",{"$f":"+Transport!E510","v":-148.09367209802946},"1 km bicycle lane",{"$f":"+Transport!E508","v":686.58271182439023},{"$f":"+Transport!$E$498*I598/1000000","v":0},{"$f":"+Transport!$E$503*I598/1000000","v":0},null,0,{"$error":"#DIV/0!"},{"$error":"#DIV/0!"},0]
[null,null,"Electric three-wheelers",{"$f":"+Transport!E536","v":-126.40003242852107},"1000 three-wheelers",{"$f":"+Transport!E534","v":500.22403199999997},{"$f":"Transport!$E$524*I599/1000000","v":0},{"$f":"Transport!$E$529*I599/1000000","v":0},null,0,{"$error":"#DIV/0!"},{"$f":"+K599/Totalemis2050","v":{"$error":"#DIV/0!"}},null,{"$f":"J599/2.9","v":0}]
[null,null,"Electric two-wheelers",{"$f":"+Transport!E565","v":495.52287085979833},"1000 two-wheelers",{"$f":"+Transport!E563","v":232.84799999999998},{"$f":"Transport!$E$553*I600/1000000","v":0},{"$f":"Transport!$E$558*I600/1000000","v":0},null,0,{"$error":"#DIV/0!"},{"$f":"+K600/Totalemis2050","v":{"$error":"#DIV/0!"}},null,{"$f":"J600/2.9","v":0}]
[null,null,"Better maintenance and use of motor bikes",{"$f":"+Transport!E452","v":-189.07251611654121},"1000 bikes",{"$f":"+Transport!E450","v":116.42400000000004},{"$f":"+Transport!$E$440*I601/1000000","v":0},{"$f":"+Transport!$E$445*I601/1000000","v":0},null,0,{"$error":"#DIV/0!"},{"$f":"K601/Totalemis2050","v":{"$error":"#DIV/0!"}},null,{"$f":"J601/2.9","v":0}]
[{"$f":"ROW(B602)","v":602},"Wind","Wind turbines, on-shore",{"$f":"Wind!$AF$23","v":0},"1 MW",{"$f":"Wind!AF21","v":0},{"$f":"+Wind!$AF$11*I602/1000000","v":0},{"$f":"+Wind!$AF$16*I602/1000000","v":0},null,0,{"$error":"#DIV/0!"},{"$f":"K602/Totalemis2050","v":{"$error":"#DIV/0!"}},{"$f":"J602/3.1","v":0},null,null,{"$f":"+Wind!$AI$19*I602/1000","v":0}]
[null,null,"Wind turbines, on-shore with 24 storage",{"$f":"Wind!AF47","v":0},"1 MW",{"$f":"Wind!AF45","v":0},{"$f":"+Wind!$AF$35*I603/1000000","v":0},{"$f":"+Wind!$AF$40*I603/1000000","v":0},null,0,{"$f":"OFFSET(K603,-1,0,1,1)+J603","v":{"$error":"#DIV/0!"}},{"$f":"+K603/Totalemis2050","v":{"$error":"#DIV/0!"}},{"$f":"J603/3.1","v":0},null,null,{"$f":"+Wind!$AI$43*I603/1000","v":0}]
[null,null,"Wind turbines, off-shore",{"$f":"Wind!$AF$72","v":0},"1 MW",{"$f":"Wind!AF70","v":0},{"$f":"+Wind!$AF$60*I604/1000000","v":0},{"$f":"+Wind!$AF$65*I604/1000000","v":0},null,{"$f":"(F604*I604)/1000","v":0},{"$error":"#DIV/0!"},{"$f":"K604/Totalemis2050","v":{"$error":"#DIV/0!"}},{"$f":"J604/3.1","v":0},null,null,{"$f":"+Wind!$AI$68*I604/1000","v":0}]
[null,"# GHG reduction options:",{"$f":"COUNTA(C486:C604)","v":119},null,null,"Totals:",{"$f":"SUM(G486:G604)","v":0},{"$f":"SUM(H486:H604)","v":0},null,null,null,null,{"$f":"SUM(M486:M604)","v":0},{"$f":"SUM(N486:N604)","v":0},{"$f":"SUM(O486:O604)","v":{"$error":"#DIV/0!"}},{"$f":"SUM(P486:P604)","v":0}]
[]
[null,null,null,null,null,"GHG emissions: ktCO2e in 2050",null,null,"BAU",null,null,"Reduction",null,null,"New total"]
[null,null,null,null,null,null,null,null,"CO2","CH4","N2O","CO2","CH4","N2O","GHG"]
[null,null,null,null,null,"1. Energy",null,null,{"$f":"I610+I617","v":0},{"$f":"J610+J617","v":0},0,{"$error":"#DIV/0!"},0,0,{"$f":"O610+O617","v":{"$error":"#DIV/0!"}}]
[null,null,null,null,null,"1.A. Fuel combustion",null,null,{"$f":"I611+I612+I613+I614+I615+I616","v":0},{"$f":"SUM(J611:J616)","v":0},{"$f":"SUM(K611:K616)","v":0},{"$f":"L611+L612+L613+L614+L615+L616","v":{"$error":"#DIV/0!"}},0,0,{"$f":"I610+J610+K610-L610-M610-N610","v":{"$error":"#DIV/0!"}}]
[null,null,null,null,null,"       1.A.1.  Energy industries",null,null,{"$f":"+'BAU projected GHG Balances'!$P$363","v":0},{"$f":"'BAU projected GHG Balances'!$E$389","v":0},{"$f":"'BAU projected GHG Balances'!$F$389","v":0},{"$f":"SUM(J$493:J$495)+J$496+SUM(J$529:J$535)+J$549+SUM(J$552:J$554)+J$562+J$563+SUM(J$573:J$577)+J$579+J$581+J$582+SUM(J$602:J$604)+J$569+J$570","v":0},null,null,{"$f":"SUM(I611:K611)-SUM(L611:N611)","v":0}]
[null,null,null,null,null,"1.A.2.  Manufacturing industries and construction",null,null,{"$f":"SUM('BAU projected GHG Balances'!$P$365:$P$376)","v":0},null,null,{"$f":"SUM(J$512:J$514)+J$510+J$511+J$543+J$544","v":{"$error":"#DIV/0!"}},null,null,{"$error":"#DIV/0!"}]
[null,null,null,null,null,"1.A.3.  Transport",null,null,{"$f":"SUM('BAU projected GHG Balances'!$P$377:$P$380)","v":0},null,null,{"$f":"SUM(J$583:J$601)","v":0},null,null,0]
[null,null,null,null,null,"1.A.4.b.  Residential ",null,null,{"$f":"+'BAU projected GHG Balances'!$P$381","v":0},null,null,{"$f":"SUM(J$499:J$509)+J$536+J$537+J$550+J$571+J$572+J$578","v":{"$error":"#DIV/0!"}},null,null,{"$error":"#DIV/0!"}]
[null,null,null,null,null,"1.A.4.a.  Commercial/institutional",null,null,{"$f":"+'BAU projected GHG Balances'!$P$382","v":0},null,null,{"$f":"SUM(J$515:J$528)+J$580","v":{"$error":"#DIV/0!"}},null,null,{"$error":"#DIV/0!"}]
[null,null,null,null,null,"1.A.4.c.  Agriculture/forestry/fishing",null,null,{"$f":"+'BAU projected GHG Balances'!$P$383","v":0},null,null,{"$f":"J$564+J$565","v":0},null,null,0]
[null,null,null,null,null,"1.B. Fugitive emissions from fuels",null,null,{"$f":"'BAU projected GHG Balances'!$D$390","v":0},{"$f":"'BAU projected GHG Balances'!$E$390","v":0},{"$f":"'BAU projected GHG Balances'!$F$390","v":0},{"$f":"SUM(J$545:J$546)+J$548","v":0},{"$f":"J$498+J$547","v":0},null,0]
[null,null,null,null,null,"2.  Industrial processes and product use",null,null,{"$f":"'BAU projected GHG Balances'!D$391+'BAU projected GHG Balances'!$P$384","v":0},{"$f":"'BAU projected GHG Balances'!E$391","v":0},{"$f":"'BAU projected GHG Balances'!F$391","v":0},{"$f":"J$497+J$551","v":0},null,{"$f":"J$568","v":0},0]
[null,null,null,null,null,"3.  Agriculture",null,null,{"$f":"'BAU projected GHG Balances'!D$397","v":0},{"$f":"'BAU projected GHG Balances'!E$397","v":0},{"$f":"'BAU projected GHG Balances'!F$397","v":0},{"$f":"SUM(J$487:J$488)+J$492","v":0},{"$f":"J$486+J$491+J$566","v":0},{"$f":"J$489+J$490","v":0},0]
[null,null,null,null,null,"4. Land use, land-use change and forestry",null,null,{"$f":"'BAU projected GHG Balances'!D$402","v":0},{"$f":"'BAU projected GHG Balances'!E$402","v":0},{"$f":"'BAU projected GHG Balances'!F$402","v":0},{"$f":"SUM(J$538:J$542)","v":0},null,null,0]
[null,null,null,null,null,"5. Waste",null,null,{"$f":"'BAU projected GHG Balances'!D$408","v":0},{"$f":"'BAU projected GHG Balances'!E$408","v":0},{"$f":"'BAU projected GHG Balances'!F$408","v":0},null,{"$f":"J$567+SUM(J$555:J$561)","v":0},null,0]
[null,null,null,null,null,"Total (including LULUCF)",null,null,{"$f":"I609+I618+I619+I620+I621","v":0},0,0,{"$error":"#DIV/0!"},0,0,{"$error":"#DIV/0!"}]
[null,null,null,null,null,"Total (excluding LULUCF)",null,null,{"$f":"I622-I620","v":0},0,0,{"$error":"#DIV/0!"},0,0,{"$error":"#DIV/0!"}]
[]
[]
[]
[]
[]
[]
[]
[]
[]
[]
[]
[]
[]
[]
[null,"Total GHG mitigation in",{"$f":"+Assumptions!$C$9","v":0},"In 2040"]
[null,null,null,null,null,"Emission","Investment","Annual","Units","Emission reduction in 2040",null,null,"Diesel","Gasoline","Electricity","Electricity"]
[null,null,null,null,null,"reduction",null,"costs","penetrating","Per option","Added",null,"saved","saved","saved","produced"]
[null,"Type","Reduction option","US$/tCO2e","Sub-type unit","tCO2e/unit","Million US$","MUS$/year","in 2040","ktCO2e/year","ktCO2e/year","Frac.of total","ktoe","ktoe","GWh","GWh"]
[{"$f":"ROW(B642)","v":642},"Agriculture","Rice crop CH4 reduction",{"$f":"Agriculture!$E$30","v":1.2},"Rice crop CH4 red.(1000 ha)",{"$f":"Agriculture!$E$27","v":3421.6000000000004},{"$f":"Agriculture!$E$17*I642/1000000","v":0},{"$f":"Agriculture!$E$22*I642/1000000","v":0},null,{"$f":"F642*I642/1000","v":0},{"$f":"OFFSET(K642,-1,0)+J642","v":0},{"$f":"K642/TotalEmis2040","v":{"$error":"#DIV/0!"}}]
[null,null,"Zero tillage",{"$f":"+Agriculture!$E$194","v":-157.6154964832983},"1000 ha",{"$f":"+Agriculture!$E$192","v":85.727053103999992},{"$f":"Agriculture!$E$182*I643/1000000","v":0},{"$f":"Agriculture!$E$187*I643/1000000","v":0},null,{"$f":"F643*I643/1000","v":0},{"$f":"OFFSET(K643,-1,0)+J643","v":0},{"$error":"#DIV/0!"}]
[null,null,"Cover crops",{"$f":"+Agriculture!$E$89","v":81.040268456375827},"1000 ha",{"$f":"+Agriculture!$E$87","v":1490},{"$f":"Agriculture!$E$77*I644/1000000","v":0},{"$f":"Agriculture!$E$82*I644/1000000","v":0},null,{"$f":"F644*I644/1000","v":0},0,{"$error":"#DIV/0!"}]
[null,null,"Nitrification inhibitors (1000 ha)",{"$f":"+Agriculture!$E$117","v":67.689873417721515},"1000 ha",{"$f":"+Agriculture!$E$115","v":790},{"$f":"Agriculture!$E$105*I645/1000000","v":0},{"$f":"Agriculture!$E$110*I645/1000000","v":0},null,0,0,{"$error":"#DIV/0!"}]
[null,null,"Covering slurry stores (1 slurry store)",{"$f":"+Agriculture!$E$143","v":496.77098857426722},"1 slurry store",{"$f":"+Agriculture!$E$141","v":0.20130000000000001},{"$f":"Agriculture!$E$131*I646/1000000","v":0},{"$f":"Agriculture!$E$136*I646/1000000","v":0},null,0,0,{"$error":"#DIV/0!"}]
[null,null,"Fat supplementation in ruminants diets (%DM fat added) ",{"$f":"+Agriculture!$W$168","v":80.5},"%DM fat added",{"$f":"+Agriculture!$W$166","v":0},{"$f":"Agriculture!$W$156*I647/1000000","v":0},{"$f":"Agriculture!$W$161*I647/1000000","v":0},null,0,0,{"$error":"#DIV/0!"}]
[null,null,"Tobacco curing",{"$f":"+Agriculture!$E$62","v":-20.960693100011099},"100 t tobacco/yr",{"$f":"+Agriculture!$E$60","v":561.96940800000016},{"$f":"Agriculture!$E$50*I648/1000000","v":0},{"$f":"Agriculture!$E$55*I648/1000000","v":0},null,0,0,{"$error":"#DIV/0!"}]
[{"$f":"ROW(B649)","v":649},"Biomass energy","Rice husk cogeneration plants",{"$f":"+'Biomass energy'!$E$24","v":127.59687237849138},"1 MW cogeneration",{"$f":"+'Biomass energy'!$E$22","v":5757.3447425999984},{"$f":"+'Biomass energy'!$E$12*I649/1000000","v":0},{"$f":"+'Biomass energy'!$E$17*I649/1000000","v":0},null,0,0,{"$error":"#DIV/0!"},null,null,null,{"$f":"+'Biomass energy'!$H$22/'Biomass energy'!$H$19*I649/1000","v":0}]
[null,null,"Biomass power from biomass residues ",{"$f":"+'Biomass energy'!$W$57","v":0},"1 MW CHP plant",{"$f":"+'Biomass energy'!$W$55","v":0},{"$f":"+'Biomass energy'!$W$45*I650/1000000","v":0},{"$f":"+'Biomass energy'!$W$50*I650/1000000","v":0},null,0,0,{"$error":"#DIV/0!"},null,null,null,{"$f":"+'Biomass energy'!$Z$53*I650/1000","v":0}]
[null,null,"Bagasse power",{"$f":"'Biomass energy'!$E$88","v":0},"100 kt sugar cane/year",{"$f":"'Biomass energy'!$E$86","v":0},{"$f":"'Biomass energy'!$E$76*I651/1000000","v":0},{"$f":"'Biomass energy'!$E$81*I651/1000000","v":0},null,0,0,{"$error":"#DIV/0!"},null,null,null,{"$f":"'Biomass energy'!$H$87/'Biomass energy'!$H$81*100*I651/1000","v":0}]
[{"$f":"ROW(B652)","v":652},"CCS","CCS plant",{"$f":"+CCS!$E$22","v":107.96190476190478},"1 MW",{"$f":"+CCS!$E$20","v":5412.3711340206182},{"$f":"CCS!$E$10*I652/1000000","v":0},{"$f":"CCS!$E$15*I652/1000000","v":0},null,0,0,{"$error":"#DIV/0!"},null,null,null,{"$f":"+CCS!H16/CCS!$H$13*I652/1000","v":0}]
[{"$f":"ROW(B653)","v":653},"Cement","Clinker replacement",{"$f":"+Cement!$E$23","v":-3.3289122068909709},"1000 tonnes cement/day",{"$f":"+Cement!$E$21","v":164175.34722087739},{"$f":"Cement!$E$10*I653/1000000","v":0},{"$f":"Cement!$E$16*I653/1000000","v":0},null,0,0,{"$error":"#DIV/0!"}]
[{"$f":"ROW(B654)","v":654},"Coal bed mine methane","Coal mine methane",{"$f":"+'Coal bed mine methane'!$E$24","v":7.6156689322941142},"10 Mm3 CMM/year",{"$f":"+'Coal bed mine methane'!$E$22","v":33818.400000000001},{"$f":"+'Coal bed mine methane'!$E$12/1000000*I654","v":0},{"$f":"+'Coal bed mine methane'!$E$17/1000000*I654","v":0},null,0,0,{"$error":"#DIV/0!"},null,null,null,{"$f":"+'Coal bed mine methane'!$H$27/'Coal bed mine methane'!$H$22*10*I654/1000","v":0}]
[{"$f":"ROW(B655)","v":655},"EE households","Efficient residential airconditioning",{"$f":"+'EE households'!$E$30","v":{"$error":"#DIV/0!"}},"1000 Airconditioners",{"$f":"+'EE households'!$E$28","v":{"$error":"#DIV/0!"}},{"$f":"+'EE households'!$E$18*I655/1000000","v":0},{"$f":"+'EE households'!$E$23*I655/1000000","v":0},null,{"$error":"#DIV/0!"},{"$error":"#DIV/0!"},{"$error":"#DIV/0!"},null,null,{"$f":"+'EE households'!$H$42*I655/1000","v":0}]
[null,null,"Efficient lighting with CFLs",{"$f":"+'EE households'!$E$64","v":{"$error":"#DIV/0!"}},"1000 Bulps",{"$f":"+'EE households'!$E$62","v":{"$error":"#DIV/0!"}},{"$f":"+'EE households'!$E$52*I656/1000000","v":0},{"$f":"+'EE households'!$E$57*I656/1000000","v":0},null,{"$error":"#DIV/0!"},{"$error":"#DIV/0!"},{"$error":"#DIV/0!"},null,null,{"$f":"'EE households'!$H$65*I656/1000","v":0}]
[null,null,"Efficient lighting with LEDs",{"$f":"+'EE households'!$E$96","v":{"$error":"#DIV/0!"}},"1000 Bulps",{"$f":"+'EE households'!$E$94","v":{"$error":"#DIV/0!"}},{"$f":"+'EE households'!$E$84*I657/1000000","v":0},{"$f":"+'EE households'!$E$89*I657/1000000","v":0},null,{"$error":"#DIV/0!"},{"$error":"#DIV/0!"},{"$error":"#DIV/0!"},null,null,{"$f":"+'EE households'!$H$101*I657/1000","v":0}]
[null,null,"Efficient lighting with LEDs replacing CFL",{"$f":"+'EE households'!$E$122","v":{"$error":"#DIV/0!"}},"1000 Bulps",{"$f":"+'EE households'!$E$120","v":{"$error":"#DIV/0!"}},{"$f":"'EE households'!$E$110*I658/1000000","v":0},{"$f":"'EE households'!$E$115*I658/1000000","v":0},null,{"$error":"#DIV/0!"},{"$error":"#DIV/0!"},{"$error":"#DIV/0!"},null,null,{"$f":"+'EE households'!$H125*I658/1000","v":0}]
[null,null,"Efficient wood stoves",{"$f":"+'EE households'!$E$178","v":-939.80904939809022},"1000 stoves",{"$f":"+'EE households'!$E$176","v":1338.3333333333335},{"$f":"+'EE households'!$E$166*I659/1000000","v":0},{"$f":"+'EE households'!$E$171*I659/1000000","v":0},null,0,{"$error":"#DIV/0!"},{"$error":"#DIV/0!"}]
[null,null,"Efficient charcoal stoves",{"$f":"+'EE households'!$E$206","v":-71.000933997509335},"1000 stoves",{"$f":"+'EE households'!$E$204","v":292.91691871829062},{"$f":"+'EE households'!$E$194*I660/1000000","v":0},{"$f":"+'EE households'!$E$199*I660/1000000","v":0},null,0,{"$error":"#DIV/0!"},{"$error":"#DIV/0!"}]
[null,null,"LPG stoves replacing wood stoves",{"$f":"+'EE households'!$E$238","v":73.526386172475128},"1000 stoves",{"$f":"+'EE households'!$E$236","v":2054.9439166666671},{"$f":"'EE households'!$E$226*I661/1000000","v":0},{"$f":"'EE households'!$E$231*I661/1000000","v":0},null,0,{"$error":"#DIV/0!"},{"$error":"#DIV/0!"}]
[null,null,"Efficient electric stoves",{"$f":"+'EE households'!$E$267","v":{"$error":"#DIV/0!"}},"1000 stoves",{"$f":"+'EE households'!$E$265","v":{"$error":"#DIV/0!"}},{"$f":"'EE households'!$E$255*I662/1000000","v":0},{"$f":"'EE households'!$E$260*I662/1000000","v":0},null,{"$error":"#DIV/0!"},{"$error":"#DIV/0!"},{"$error":"#DIV/0!"},null,null,{"$f":"'EE households'!$H$274*I662/1000","v":0}]
[null,null,"Induction based cooking",{"$f":"+'EE households'!$E$293","v":{"$error":"#DIV/0!"}},"1000 stoves",{"$f":"+'EE households'!$E$291","v":{"$error":"#DIV/0!"}},{"$f":"'EE households'!$E$281*I663/1000000","v":0},{"$f":"'EE households'!$E$286*I663/1000000","v":0},null,{"$error":"#DIV/0!"},{"$error":"#DIV/0!"},{"$error":"#DIV/0!"},null,null,{"$f":"'EE households'!$H$301*I663/1000","v":0}]
[null,null,"New passive home",{"$f":"+'EE households'!$E$321","v":{"$error":"#DIV/0!"}},"1000 new homes",{"$f":"+'EE households'!E$319","v":{"$error":"#DIV/0!"}},{"$f":"'EE households'!$E$309*I664/1000000","v":0},{"$f":"+I664*'EE households'!$E$314/1000000","v":0},null,{"$error":"#DIV/0!"},{"$error":"#DIV/0!"},{"$error":"#DIV/0!"},null,null,{"$f":"'EE households'!$H$326*I664/1000","v":0}]
[null,null,"Efficient refrigerators",{"$f":"+'EE households'!$E$148","v":{"$error":"#DIV/0!"}},"1000 refrigerators",{"$f":"+'EE households'!$E$146","v":{"$error":"#DIV/0!"}},{"$f":"+'EE households'!$E$136*I665/1000000","v":0},{"$f":"+'EE households'!$E$141*I665/1000000","v":0},null,{"$error":"#DIV/0!"},{"$error":"#DIV/0!"},{"$error":"#DIV/0!"},null,null,{"$f":"+'EE households'!$H$159*I665/1000","v":0}]
[{"$f":"ROW(B666)","v":666},"EE industry","Efficient electric motors",{"$f":"+'EE industry'!$E$25","v":{"$error":"#DIV/0!"}},"1 kW",{"$f":"+'EE industry'!$E$23","v":{"$error":"#DIV/0!"}},{"$f":"+'EE industry'!$E$13*I666/1000000","v":0},{"$f":"+'EE industry'!$E$18*I666/1000000","v":0},null,{"$error":"#DIV/0!"},{"$error":"#DIV/0!"},{"$error":"#DIV/0!"},null,null,{"$f":"I666*'EE industry'!$H$25/1000000","v":0}]
[null,null,"Energy efficiency in industry",{"$f":"+'EE industry'!$W$84","v":0},"10% red. of energy demand",{"$f":"+'EE industry'!$W$82","v":0},{"$f":"+'EE industry'!$W$72*I667/1000000","v":0},{"$f":"'EE industry'!$W$77*I667/1000000","v":0},null,0,{"$error":"#DIV/0!"},{"$error":"#DIV/0!"}]
[null,null,"Building materials",{"$f":"+'EE industry'!$E$55","v":-19.573889817018777},"1 million bricks",{"$f":"+'EE industry'!$E$53","v":520.30000000000007},{"$f":"'EE industry'!$E$43*I668/1000000","v":0},{"$f":"'EE industry'!$E$48*I668/1000000","v":0},null,0,{"$error":"#DIV/0!"},{"$error":"#DIV/0!"}]
[{"$f":"ROW(B669)","v":669},"EE own generation","Waste heat recovery at cement plant",{"$f":"+'EE own generation'!$E$23","v":0},"1 Cement plant",{"$f":"+'EE own generation'!$E$21","v":0},{"$f":"+'EE own generation'!$E$11*I669/1000000","v":0},{"$f":"+'EE own generation'!$E$16*I669/1000000","v":0},null,0,{"$error":"#DIV/0!"},{"$error":"#DIV/0!"},null,null,null,{"$f":"+'EE own generation'!$H$17*'Mitigation options'!I669/1000","v":0}]
[null,null,"Waste heat recovery at steel plant",{"$f":"+'EE own generation'!$E$53","v":0},"1 Steel plant",{"$f":"+'EE own generation'!$E$51","v":0},{"$f":"+'EE own generation'!$E$41*I670/1000000","v":0},{"$f":"+'EE own generation'!$E$46*I670/1000000","v":0},null,0,{"$error":"#DIV/0!"},{"$error":"#DIV/0!"},null,null,null,{"$f":"'EE own generation'!$H$46*'Mitigation options'!I670/1000","v":0}]
[{"$f":"ROW(B671)","v":671},"EE service","Efficient electric motors",{"$f":"+'EE service'!$E$29","v":{"$error":"#DIV/0!"}},"1 kW",{"$f":"+'EE service'!$E$27","v":{"$error":"#DIV/0!"}},{"$f":"+'EE service'!$E$17*I671/1000000","v":0},{"$f":"+'EE service'!$E$22*I671/1000000","v":0},null,{"$error":"#DIV/0!"},{"$error":"#DIV/0!"},{"$error":"#DIV/0!"},null,null,{"$f":"I671*'EE service'!$H$29/1000000","v":0}]
[null,null,"Efficient office lighting with CFLs",{"$f":"+'EE service'!$E$57","v":{"$error":"#DIV/0!"}},"1000 lights",{"$f":"+'EE service'!$E$55","v":{"$error":"#DIV/0!"}},{"$f":"+'EE service'!$E$45*I672/1000000","v":0},{"$f":"+'EE service'!$E$50*I672/1000000","v":0},null,{"$error":"#DIV/0!"},{"$error":"#DIV/0!"},{"$error":"#DIV/0!"},null,null,{"$f":"+'EE service'!$H$57*I672/1000","v":0}]
[null,null,"Efficient office lighting with LEDs",{"$f":"+'EE service'!$E$89","v":{"$error":"#DIV/0!"}},"1000 lights",{"$f":"+'EE service'!$E$87","v":{"$error":"#DIV/0!"}},{"$f":"+'EE service'!$E$77*I673/1000000","v":0},{"$f":"+'EE service'!$E$82*I673/1000000","v":0},null,{"$error":"#DIV/0!"},{"$error":"#DIV/0!"},{"$error":"#DIV/0!"},null,null,{"$f":"+'EE service'!$H$89*I673/1000","v":0}]
[null,null,"Efficient street lights",{"$f":"+'EE service'!$E$123","v":{"$error":"#DIV/0!"}},"1000 lights",{"$f":"+'EE service'!$E$121","v":{"$error":"#DIV/0!"}},{"$f":"+'EE service'!$E$111*I674/1000000","v":0},{"$f":"+'EE service'!$E$116*I674/1000000","v":0},null,{"$error":"#DIV/0!"},{"$error":"#DIV/0!"},{"$error":"#DIV/0!"},null,null,{"$f":"+'EE service'!$H$136*I674/1000","v":0}]
[null,null,"Efficient water pumping",{"$f":"+'EE service'!$E$159","v":{"$error":"#DIV/0!"}},"4 Million m3 water",{"$f":"+'EE service'!$E$157","v":{"$error":"#DIV/0!"}},{"$f":"+'EE service'!$E$147*I675/1000000","v":0},{"$f":"+'EE service'!$E$152*I675/1000000","v":0},null,{"$error":"#DIV/0!"},{"$error":"#DIV/0!"},{"$error":"#DIV/0!"},null,null,{"$f":"+'EE service'!$H$158*I675","v":0}]
[null,null,"HVAC",{"$f":"+'EE service'!$E$248","v":0},"100,000 m2 floor area",{"$f":"+'EE service'!$E$246","v":0},{"$f":"'EE service'!$E$236*I676/1000000","v":0},{"$f":"'EE service'!$E$241*I676/1000000","v":0},null,0,{"$error":"#DIV/0!"},{"$error":"#DIV/0!"},null,null,{"$f":"+'EE service'!$H$254*I676/1000","v":0}]
[null,null,"Efficient Chiller > 300 TR",{"$f":"+'EE service'!$E$277","v":22.896661292960445},"1 TR",{"$f":"+'EE service'!$E$275","v":1.4266999999999999},{"$f":"'EE service'!$E$265*I677/1000000","v":0},{"$f":"'EE service'!$E$270*I677/1000000","v":0},null,{"$f":"F677*I677/1000","v":0},{"$f":"OFFSET(K677,-1,0)+J677","v":{"$error":"#DIV/0!"}},{"$error":"#DIV/0!"},null,null,{"$f":"+'EE service'!$H$290*I677/1000000","v":0}]
[null,null,"Efficient Chiller < 300 TR",{"$f":"+'EE service'!$E$309","v":42.055092170743677},"1 TR",{"$f":"+'EE service'!$E$307","v":0.71334999999999993},{"$f":"'EE service'!$E$297*I678/1000000","v":0},{"$f":"'EE service'!$E$302*I678/1000000","v":0},null,0,{"$error":"#DIV/0!"},{"$error":"#DIV/0!"},null,null,{"$f":"+'EE service'!$H$321*I678/1000000","v":0}]
[null,null,"Efficient room airconditioner",{"$f":"+'EE service'!$E$341","v":{"$error":"#DIV/0!"}},"1 Airconditioner",{"$f":"+'EE service'!$E$339","v":{"$error":"#DIV/0!"}},{"$f":"'EE service'!$E$329*I679/1000000","v":0},{"$f":"'EE service'!$E$334*I679/1000000","v":0},null,{"$error":"#DIV/0!"},{"$error":"#DIV/0!"},{"$error":"#DIV/0!"},null,null,{"$f":"+'EE service'!$H$353*I679/1000000","v":0}]
[null,null,"Efficient commercial dishwashing machine ",{"$f":"+'EE service'!$E$374","v":0},"1000 meals/day",{"$f":"+'EE service'!$E$372","v":0},{"$f":"'EE service'!$E$362*I680/1000000","v":0},{"$f":"'EE service'!$E$367*I680/1000000","v":0},null,0,{"$error":"#DIV/0!"},{"$error":"#DIV/0!"},null,null,{"$f":"+'EE service'!$H$388*I680/1000000","v":0}]
[null,null,"Efficient hotel refrigerator",{"$f":"+'EE service'!$E$409","v":{"$error":"#DIV/0!"}},"1 refrigerator",{"$f":"+'EE service'!$E$407","v":{"$error":"#DIV/0!"}},{"$f":"'EE service'!$E$397*I681/1000000","v":0},{"$f":"'EE service'!$E$402*I681/1000000","v":0},null,{"$error":"#DIV/0!"},{"$error":"#DIV/0!"},{"$error":"#DIV/0!"},null,null,{"$f":"+'EE service'!$H$415*I681/1000000","v":0}]
[null,null,"Efficient hotel washing machine ",{"$f":"+'EE service'!$E$439","v":{"$error":"#DIV/0!"}},"1000 Guest Nights (GN)",{"$f":"+'EE service'!$E$437","v":{"$error":"#DIV/0!"}},{"$f":"'EE service'!$E$427*I682/1000000","v":0},{"$f":"'EE service'!$E$432*I682/1000000","v":0},null,{"$error":"#DIV/0!"},{"$error":"#DIV/0!"},{"$error":"#DIV/0!"},null,null,{"$f":"+'EE service'!$H$459*I682/1000000","v":0}]
[null,null,"Energy efficiency in service",{"$f":"+'EE service'!$W$223","v":0},"10% red. of energy demand",{"$f":"+'EE service'!$W$221","v":0},{"$f":"'EE service'!$W$211*I683/1000000","v":0},{"$f":"'EE service'!$W$216*I683/1000000","v":0},null,0,{"$error":"#DIV/0!"},{"$error":"#DIV/0!"}]
[null,null,"New office building with central cooling",{"$f":"+'EE service'!$E$188","v":{"$error":"#DIV/0!"}},"1000 m2",{"$f":"+'EE service'!$E$186","v":{"$error":"#DIV/0!"}},{"$f":"+'EE service'!$E$176*I684/1000000","v":0},{"$f":"+'EE service'!$E$181*I684/1000000","v":0},null,{"$f":"(F684*I684)/1000","v":{"$error":"#DIV/0!"}},{"$f":"OFFSET(K684,-1,0,1,1)+J684","v":{"$error":"#DIV/0!"}},{"$error":"#DIV/0!"},null,null,{"$f":"+'EE service'!$H$201*I684*1000/1000","v":0}]
[{"$f":"ROW(B685)","v":685},"EE supply side","New natural gas power plant",{"$f":"'EE supply side'!$W$25","v":-81.886272256873895},"1 MW",{"$f":"+'EE supply side'!$W$23","v":-2634.2608695652175},{"$f":"+'EE supply side'!$W$13/1000000*I685","v":0},{"$f":"+'EE supply side'!$W$18/1000000*I685","v":0},null,{"$f":"(F685*I685)/1000","v":0},{"$f":"OFFSET(K685,-1,0,1,1)+J685","v":{"$error":"#DIV/0!"}},{"$f":"+K685/TotalEmis2040","v":{"$error":"#DIV/0!"}}]
[null,null,"Switch from fuel oil to natural gas",{"$f":"'EE supply side'!$E$172","v":-339.53206503966459},"1 MW",{"$f":"+'EE supply side'!$E$170","v":1454.3571428571436},{"$f":"+'EE supply side'!$E$160/1000000*I686","v":0},{"$f":"+'EE supply side'!$E$165/1000000*I686","v":0},null,0,{"$error":"#DIV/0!"},{"$error":"#DIV/0!"}]
[null,null,"Cogeneration in industry",{"$f":"+'EE supply side'!$E$113","v":-57.542861861768735},"1 MW",{"$f":"+'EE supply side'!$E$111","v":-6633.0554875199996},{"$f":"+'EE supply side'!$E$102*I687/1000000","v":0},{"$f":"+'EE supply side'!$E$106*I687/1000000","v":0},null,0,{"$error":"#DIV/0!"},{"$error":"#DIV/0!"},null,null,{"$f":"+'EE supply side'!$H$112*I687/1000","v":0}]
[null,null,"Single cycle to combined cycle",{"$f":"+'EE supply side'!$E$83","v":0},"100 MW increase",{"$f":"+'EE supply side'!$E$81","v":0},{"$f":"'EE supply side'!$E$72*I688/1000000","v":0},{"$f":"'EE supply side'!$E$76*I688/1000000","v":0},null,0,{"$error":"#DIV/0!"},{"$error":"#DIV/0!"},null,null,{"$f":"+'EE supply side'!$H$91*I688/1000","v":0}]
[{"$f":"ROW(B689)","v":689},"Energy distribution","Efficient electric grids",{"$f":"+'Energy distribution'!$E$26","v":0},"1 GWh loss reduction",{"$f":"+'Energy distribution'!$E$24","v":0},{"$f":"+'Energy distribution'!$E$14*I689/1000000","v":0},{"$f":"+'Energy distribution'!$E$19*I689/1000000","v":0},null,0,{"$error":"#DIV/0!"},{"$error":"#DIV/0!"},null,null,{"$f":"+I689*'Energy distribution'!$H$22","v":{"$error":"#DIV/0!"}}]
[null,null,"Connection of isolated grid to central grid ",{"$f":"+'Energy distribution'!$E$55","v":0},"1 GWh consumption",{"$f":"+'Energy distribution'!$E$53","v":0},{"$f":"+'Energy distribution'!$E$43*I690/1000000","v":0},{"$f":"+'Energy distribution'!$E$48*I690/1000000","v":0},null,0,{"$error":"#DIV/0!"},{"$error":"#DIV/0!"}]
[null,null,"Power factor increase",{"$f":"+'Energy distribution'!$E$85","v":0},"1000 commerce/industry buildings",{"$f":"+'Energy distribution'!$E$83","v":0},{"$f":"'Energy distribution'!$E$73*I691/1000000","v":0},{"$f":"'Energy distribution'!$E$78*I691/1000000","v":0},null,0,{"$error":"#DIV/0!"},{"$error":"#DIV/0!"},null,null,{"$f":"I691*'Energy distribution'!$H$92","v":0}]
[null,null,"District heating network rehabilitation (100,000 flats supplied)",{"$f":"+'Energy distribution'!$E$114","v":-158.05408627123262},"100,000 flats supplied",{"$f":"+'Energy distribution'!$E$112","v":33649.053412333342},{"$f":"'Energy distribution'!$E$101*I692/1000000","v":0},{"$f":"'Energy distribution'!$E$107*I692/1000000","v":0},null,0,{"$error":"#DIV/0!"},{"$error":"#DIV/0!"}]
[null,null,"District cooling network (1 million m2 new city area covered)",{"$f":"+'Energy distribution'!$E$153","v":-189.15402700930974},"1 million m2 new city area covered",{"$f":"+'Energy distribution'!$E$151","v":13725.623132042594},{"$f":"'Energy distribution'!$E$141*I693/1000000","v":0},{"$f":"'Energy distribution'!$E$146*I693/1000000","v":0},null,0,{"$error":"#DIV/0!"},{"$error":"#DIV/0!"}]
[{"$f":"ROW(B694)","v":694},"Forestry","Reforestation",{"$f":"+Forestry!$E$28","v":8.1818181818181817},"Reforestation of 1000 ha",{"$f":"Forestry!$E$26","v":3666.666666666667},{"$f":"Forestry!$E$15*I694/1000000","v":0},{"$f":"Forestry!$E$21/1000000*I694","v":0},null,0,{"$error":"#DIV/0!"},{"$error":"#DIV/0!"}]
[null,null,"REDD: Avoided deforestation",{"$f":"+Forestry!$E$56","v":-5.5},"No deforestation for 1000 ha",{"$f":"Forestry!$E$54","v":3666.666666666667},{"$f":"Forestry!$E$44*I695/1000000","v":0},{"$f":"Forestry!$E$49/1000000*I695","v":0},null,0,{"$error":"#DIV/0!"},{"$error":"#DIV/0!"}]
[null,null,"Assisted forest regeneration",{"$f":"Forestry!$E$84","v":-2.0454545454545454},"Reforestation of 1000 ha",{"$f":"Forestry!$E$82","v":3666.666666666667},{"$f":"Forestry!$E$72/1000000*I696","v":0},{"$f":"Forestry!$E$77/1000000*I696","v":0},null,0,{"$error":"#DIV/0!"},{"$error":"#DIV/0!"}]
[null,null,"Reforestation with agroforestry",{"$f":"Forestry!$E$113","v":-0.27272727272727271},"Reforestation of 1000 ha",{"$f":"Forestry!$E$111","v":3666.666666666667},{"$f":"Forestry!$E$100/1000000*I697","v":0},{"$f":"Forestry!$E$106/1000000*I697","v":0},null,0,{"$error":"#DIV/0!"},{"$error":"#DIV/0!"}]
[null,null,"Reforestation with Silvopasture",{"$f":"Forestry!$E$143","v":-0.27272727272727271},"Reforestation of 1000 ha",{"$f":"Forestry!$E$141","v":3666.666666666667},{"$f":"Forestry!$E$130/1000000*I698","v":0},{"$f":"Forestry!$E$136/1000000*I698","v":0},null,0,{"$error":"#DIV/0!"},{"$error":"#DIV/0!"}]
[{"$f":"ROW(B699)","v":699},"Fossil fuel switch","Switch from coal to natural gas in industry",{"$f":"+'Fossil fuel switch'!$E$24","v":29.648354344806059},"100 TJ fuel use/year",{"$f":"+'Fossil fuel switch'!$E$22","v":3850},{"$f":"'Fossil fuel switch'!$E$12/1000000*I699","v":0},{"$f":"'Fossil fuel switch'!$E$17/1000000*I699","v":0},null,0,{"$error":"#DIV/0!"},{"$error":"#DIV/0!"}]
[null,null,"Switch from fuel oil to natural gas in industry",{"$f":"'Fossil fuel switch'!$E$53","v":-136.87543961201254},"100 TJ fuel use/year",{"$f":"'Fossil fuel switch'!$E$51","v":2126.6666666666679},{"$f":"'Fossil fuel switch'!$E$41/1000000*I700","v":0},{"$f":"'Fossil fuel switch'!$E$46/1000000*I700","v":0},null,0,{"$error":"#DIV/0!"},{"$error":"#DIV/0!"}]
[{"$f":"ROW(B701)","v":701},"Fugitive","Reduced flaring at oil field",{"$f":"+Fugitive!$E$25","v":-11.666162152975813},"1 MMSCF/day",{"$f":"+Fugitive!$E$23","v":22613.499908999998},{"$f":"+Fugitive!$E$13*I701/1000000","v":0},{"$f":"+Fugitive!$E$18*I701/1000000","v":0},null,0,{"$error":"#DIV/0!"},{"$error":"#DIV/0!"}]
[null,null,"Reduced flaring at oil refineries",{"$f":"+Fugitive!$E$54","v":159.98532895280397},"1 MMSCF/day",{"$f":"+Fugitive!$E$52","v":20797.217999999997},{"$f":"+Fugitive!$E$42*I702/1000000","v":0},{"$f":"+Fugitive!$E$47*I702/1000000","v":0},null,0,{"$error":"#DIV/0!"},{"$error":"#DIV/0!"}]
[null,null,"Leak reduction in natural gas pipelines",{"$f":"Fugitive!$E$81","v":-4.7340603277169917},"1 Mm3 CH/year leaking",{"$f":"+Fugitive!$E$79","v":20104.000000000004},{"$f":"Fugitive!$E$69*I703/1000000","v":0},{"$f":"Fugitive!$E$74*I703/1000000","v":0},null,0,{"$error":"#DIV/0!"},{"$error":"#DIV/0!"}]
[null,null,"Charcoal production",{"$f":"+Fugitive!$E$108","v":0.76723985653613069},"100,000 ton charcoal/yr",{"$f":"+Fugitive!$E$106","v":156404.80480480485},{"$f":"Fugitive!$E$97*I704/1000000","v":0},{"$f":"Fugitive!$E$101*I704/1000000","v":0},null,0,{"$error":"#DIV/0!"},{"$error":"#DIV/0!"}]
[{"$f":"ROW(B705)","v":705},"Geothermal","Geothermal power",{"$f":"+Geothermal!$W$22","v":0},"1 MW",{"$f":"+Geothermal!$W$20","v":0},{"$f":"+Geothermal!$W$10*I705/1000000","v":0},{"$f":"+Geothermal!$W$15*I705/1000000","v":0},null,0,{"$error":"#DIV/0!"},{"$error":"#DIV/0!"},null,null,null,{"$f":"+Geothermal!$Z$18*I705/1000","v":0}]
[null,null,"Geothermal heat",{"$f":"+Geothermal!$E$50","v":-12.72414473942839},"1000 m2 heated area",{"$f":"+Geothermal!$E$48","v":17.056285714285721},{"$f":"Geothermal!$E$38*I706/1000000","v":0},{"$f":"Geothermal!$E$43*I706/1000000","v":0},null,0,{"$error":"#DIV/0!"},{"$error":"#DIV/0!"}]
[{"$f":"ROW(B707)","v":707},"HFCs, PFCs, SF6","Reduced PFCs from aluminum production",{"$f":"+'HFCs, PFCs, SF6'!$E$22","v":-3.4084892300915444E-2},"100,000 ton Aluminium/yr",{"$f":"+'HFCs, PFCs, SF6'!$E$20","v":-64696},{"$f":"+'HFCs, PFCs, SF6'!$E$10*I707/1000000","v":0},{"$f":"+'HFCs, PFCs, SF6'!$E$15*I707/1000000","v":0},null,0,{"$error":"#DIV/0!"},{"$error":"#DIV/0!"}]
[{"$f":"ROW(B708)","v":708},"Hydro","Hydro power connected to main grid",{"$f":"+Hydro!$W$25","v":0},"1 MW",{"$f":"+Hydro!$W$23","v":0},{"$f":"+Hydro!$W$13*I708/1000000","v":0},{"$f":"+Hydro!$W$18*I708/1000000","v":0},null,0,{"$error":"#DIV/0!"},{"$error":"#DIV/0!"},null,null,null,{"$f":"+Hydro!$Z$21*I708/1000","v":0}]
[null,null,"Mini hydro power connected to main grid",{"$f":"+Hydro!$E$54","v":0},"1 MW",{"$f":"+Hydro!$E$52","v":0},{"$f":"+Hydro!$E$42*I709/1000000","v":0},{"$f":"+Hydro!$E$47*I709/1000000","v":0},null,0,{"$error":"#DIV/0!"},{"$error":"#DIV/0!"},null,null,null,{"$f":"Hydro!$H$50/Hydro!$H$47*I709/1000","v":0}]
[null,null,"Mini hydro power off grid",{"$f":"+Hydro!$E$83","v":-71.909842771818788},"1 MW",{"$f":"+Hydro!$E$81","v":3231.9999999999995},{"$f":"+Hydro!$E$71*I710/1000000","v":0},{"$f":"Hydro!$E$76*I710/1000000","v":0},null,0,{"$error":"#DIV/0!"},{"$error":"#DIV/0!"},null,null,null,{"$f":"Hydro!$H$77/Hydro!$H$74*I710/1000","v":0}]
[{"$f":"ROW(B711)","v":711},"Landfills","Landfill gas plant with power production",{"$f":"Landfills!$E$27","v":4.9007373033746724},"200 t/day plant",{"$f":"Landfills!$E$25","v":165886.95200000002},{"$f":"+Landfills!$E$15*I711/1000000","v":0},{"$f":"+Landfills!$E$20*I711/1000000","v":0},null,0,{"$error":"#DIV/0!"},{"$error":"#DIV/0!"},null,null,null,{"$f":"+Landfills!$H$36*I711/1000","v":0}]
[null,null,"Landfill gas flaring",{"$f":"+Landfills!$E$118","v":476.51498863888366},"1 t/day plant",{"$f":"+Landfills!$E$116","v":165886.95200000002},{"$f":"+Landfills!$E$106*I712/1000000","v":0},{"$f":"Landfills!$E$111*I712/1000000","v":0},null,0,{"$error":"#DIV/0!"},{"$error":"#DIV/0!"}]
[null,null,"Incineration plant",{"$f":"+Landfills!$E$91","v":46.439980403039769},"200 t/day plant",{"$f":"Landfills!$E$89","v":124415.21400000001},{"$f":"Landfills!$E$79*I713/1000000","v":0},{"$f":"Landfills!$E$84*I713/1000000","v":0},null,0,{"$error":"#DIV/0!"},{"$error":"#DIV/0!"}]
[null,null,"Recycling of plastics",{"$f":"+Landfills!$E$197","v":-255.84635716143856},"1000 t/year plant",{"$f":"Landfills!$E$195","v":833.25},{"$f":"Landfills!$E$184*I714/1000000","v":0},{"$f":"Landfills!$E$190*I714/1000000","v":0},null,0,{"$error":"#DIV/0!"},{"$error":"#DIV/0!"}]
[null,null,"Refuce Derived Fuel (RDF) from MSW",{"$f":"+Landfills!$E$171","v":51.693454591314826},"200 t MSW/day plant",{"$f":"Landfills!$E$169","v":20389.428571428572},{"$f":"Landfills!$E$159*I715/1000000","v":0},{"$f":"Landfills!$E$164*I715/1000000","v":0},null,0,{"$error":"#DIV/0!"},{"$error":"#DIV/0!"}]
[null,null,"Biogas from Municipal Solid Waste",{"$f":"+Landfills!$E$146","v":0.11077632045373981},"1000 t/year plant",{"$f":"+Landfills!$E$144","v":16248.960000000001},{"$f":"+Landfills!$E$134*I716/1000000","v":0},{"$f":"Landfills!$E$139*I716/1000000","v":0},null,0,{"$error":"#DIV/0!"},{"$error":"#DIV/0!"}]
[null,null,"Composting of Municipal Solid Waste",{"$f":"+Landfills!$E$63","v":-0.10545358888876404},"1000 t/day plant",{"$f":"+Landfills!$E$61","v":5515709.472000001},{"$f":"+Landfills!$E$50*I717/1000000","v":0},{"$f":"+Landfills!$E$56*I717/1000000","v":0},null,0,{"$error":"#DIV/0!"},{"$error":"#DIV/0!"}]
[{"$f":"ROW(B718)","v":718},"Marine","Tidal",{"$f":"Marine!$W$22","v":0},"1 MW of tidal power",{"$f":"Marine!$W$20","v":0},{"$f":"Marine!$W$10*I718/1000000","v":0},{"$f":"Marine!$W$15*I718/1000000","v":0},null,0,{"$error":"#DIV/0!"},{"$error":"#DIV/0!"},null,null,null,{"$f":"+Marine!$Z$18*I718/1000","v":0}]
[null,null,"Wave",{"$f":"Marine!$W$47","v":0},"1 MW of wave power",{"$f":"Marine!$W$45","v":0},{"$f":"Marine!$W$35*I719/1000000","v":0},{"$f":"Marine!$W$40*I719/1000000","v":0},null,0,{"$error":"#DIV/0!"},{"$error":"#DIV/0!"},null,null,null,{"$f":"+Marine!$Z$43*I719/1000","v":0}]
[{"$f":"ROW(B720)","v":720},"Methane avoidance","Biogas at rural farms using kerosene",{"$f":"+'Methane avoidance'!$E$24","v":-160.8114705432757},"1000 units",{"$f":"+'Methane avoidance'!$E$22","v":1227.6264000000001},{"$f":"+'Methane avoidance'!$E$12*I720/1000000","v":0},{"$f":"+'Methane avoidance'!$E$17*I720/1000000","v":0},null,0,{"$error":"#DIV/0!"},{"$error":"#DIV/0!"}]
[null,null,"Biogas at rural farms using non-renewable fuelwood",{"$f":"+'Methane avoidance'!$E$51","v":1.2107375121073751},"1000 units",{"$f":"+'Methane avoidance'!$E$49","v":11274.12},{"$f":"+'Methane avoidance'!$E$39*I721/1000000","v":0},{"$f":"+'Methane avoidance'!$E$44*I721/1000000","v":0},null,0,{"$error":"#DIV/0!"},{"$error":"#DIV/0!"}]
[null,null,"Biogas at pig farms",{"$f":"+'Methane avoidance'!$E$78","v":6.9197562715191454},"84000 pigs",{"$f":"+'Methane avoidance'!$E$76","v":88480},{"$f":"'Methane avoidance'!$E$66*I722/1000000","v":0},{"$f":"'Methane avoidance'!$E$71*I722/1000000","v":0},null,0,{"$error":"#DIV/0!"},{"$error":"#DIV/0!"},null,null,null,{"$f":"+'Methane avoidance'!$H$80*I722/1000","v":0}]
[null,null,"Biogas from industrial waste water ",{"$f":"+'Methane avoidance'!$E$106","v":28.620352250489237},"1 plant",{"$f":"+'Methane avoidance'!$E$104","v":15624},{"$f":"+'Methane avoidance'!$E$94*I723/1000000","v":0},{"$f":"+'Methane avoidance'!$E$99*I723/1000000","v":0},null,0,{"$error":"#DIV/0!"},{"$error":"#DIV/0!"}]
[{"$f":"ROW(B724)","v":724},"N2O","Nitric acid plant (N2O destruction)",{"$f":"+N2O!$E$21","v":1.1954749909658409},"100 ton HNO3/day",{"$f":"+N2O!$E$19","v":59002.25},{"$f":"+N2O!$E$10*I724/1000000","v":0},{"$f":"N2O!$E$14*I724/1000000","v":0},null,0,{"$error":"#DIV/0!"},{"$error":"#DIV/0!"}]
[{"$f":"ROW(B725)","v":725},"Solar","PV pump replacing electric pump",{"$f":"Solar!$E$361","v":0},"1 pump",{"$f":"+Solar!$E$359","v":0},{"$f":"Solar!$E$349*I725/1000000","v":0},{"$f":"+Solar!$E$354*I725/1000000","v":0},null,{"$f":"F725*I725/1000","v":0},{"$f":"OFFSET(K725,-1,0)+J725","v":{"$error":"#DIV/0!"}},{"$f":"K725/TotalEmis2040","v":{"$error":"#DIV/0!"}},null,null,{"$f":"(+Solar!$H$369*I725)/1000000","v":0}]
[null,null,"PV pump replacing diesel pump",{"$f":"Solar!$E$389","v":-139.91618112414818},"1 pump",{"$f":"+Solar!$E$387","v":12.699954539999998},{"$f":"Solar!$E$377*I726/1000000","v":0},{"$f":"+Solar!$E$382*I726/1000000","v":0},null,{"$f":"F726*I726/1000","v":0},{"$f":"OFFSET(K726,-1,0)+J726","v":{"$error":"#DIV/0!"}},{"$f":"K726/TotalEmis2040","v":{"$error":"#DIV/0!"}},{"$f":"J726/3.1","v":0}]
[null,null,"Solar water heater, residential",{"$f":"Solar!$E$33","v":0},"1000 units",{"$f":"Solar!$E$31","v":0},{"$f":"+Solar!$E$21*I727/1000000","v":0},{"$f":"+Solar!$E$26*I727/1000000","v":0},null,{"$f":"F727*I727/1000","v":0},{"$f":"OFFSET(K727,-1,0)+J727","v":{"$error":"#DIV/0!"}},{"$f":"+K727/TotalEmis2040","v":{"$error":"#DIV/0!"}},null,null,{"$f":"+Solar!$H$39*I727/1000000","v":0}]
[null,null,"Solar water heater, large",{"$f":"+Solar!$E$60","v":0},"1 unit",{"$f":"+Solar!$E$58","v":0},{"$f":"+Solar!$E$48*I728/1000000","v":0},{"$f":"+Solar!$E$53*I728/1000000","v":0},null,{"$f":"(F728*I728)/1000","v":0},{"$f":"OFFSET(K728,-1,0,1,1)+J728","v":{"$error":"#DIV/0!"}},{"$error":"#DIV/0!"},null,null,{"$f":"+Solar!$H$68*I728/1000000","v":0}]
[null,null,"Solar PVs, large grid",{"$f":"Solar!$W$90","v":0},"1 MW",{"$f":"Solar!$W$88","v":0},{"$f":"+Solar!$W$78*I729/1000000","v":0},{"$f":"+Solar!$W$83*I729/1000000","v":0},null,0,{"$error":"#DIV/0!"},{"$error":"#DIV/0!"},null,null,null,{"$f":"+Solar!$Z$88*I729/1000","v":0}]
[null,null,"Solar PVs, large grid with 24h storage",{"$f":"Solar!$W$114","v":0},"1 MW",{"$f":"Solar!$W$112","v":0},{"$f":"+Solar!$W$102*I730/1000000","v":0},{"$f":"+Solar!$W$107*I730/1000000","v":0},null,0,{"$error":"#DIV/0!"},{"$error":"#DIV/0!"},null,null,null,{"$f":"+Solar!$Z$112*I730/1000","v":0}]
[null,null,"Solar house PVs",{"$f":"+Solar!$E$139","v":0},"500 W",{"$f":"+Solar!$E$137","v":0},{"$f":"+Solar!$E$127*I731/1000000","v":0},{"$f":"+Solar!$E$132*I731/1000000","v":0},null,0,{"$error":"#DIV/0!"},{"$error":"#DIV/0!"},null,null,null,{"$f":"+Solar!$H138*I731/1000","v":0}]
[null,null,"Solar cottage PVs",{"$f":"+Solar!$E$166","v":0},"50 W",{"$f":"+Solar!$E$164","v":0},{"$f":"+Solar!$E$154*I732/1000000","v":0},{"$f":"+Solar!$E$159*I732/1000000","v":0},null,0,{"$error":"#DIV/0!"},{"$error":"#DIV/0!"},null,null,null,{"$f":"+Solar!$H$169*I732/1000","v":0}]
[null,null,"Solar/diesel mini-grid",{"$f":"+Solar!$E$191","v":49.644079804749254},"40 kW from solar",{"$f":"+Solar!$E$189","v":58.400000000000006},{"$f":"+Solar!$E$179*I733/1000000","v":0},{"$f":"Solar!$E$184*I733/1000000","v":0},null,0,{"$error":"#DIV/0!"},{"$error":"#DIV/0!"},null,null,null,{"$f":"+Solar!$H$196*I733/1000","v":0}]
[null,null,"Solar LED lamps",{"$f":"+Solar!$E$303","v":-130.33365170942039},"1000 lamps",{"$f":"+Solar!$E$301","v":93.908173333333366},{"$f":"Solar!$E$291*I734/1000000","v":0},{"$f":"Solar!$E$296*I734/1000000","v":0},null,0,{"$error":"#DIV/0!"},{"$error":"#DIV/0!"}]
[null,null,"Solar PVs, small isolated grid, 100% solar",{"$f":"+Solar!$E$219","v":249.72792998477931},"2 MW",{"$f":"+Solar!$E$217","v":2628},{"$f":"+Solar!$E$207*I735/1000000","v":0},{"$f":"+Solar!$E$212*I735/1000000","v":0},null,0,{"$error":"#DIV/0!"},{"$error":"#DIV/0!"},null,null,null,{"$f":"+Solar!$H$222*I735/1000","v":0}]
[null,null,"Solar street lights",{"$f":"+Solar!$E$330","v":0},"1000 locations  (0.05 MW)",{"$f":"+Solar!$E$328","v":0},{"$f":"+Solar!$E$318*I736/1000000","v":0},{"$f":"+Solar!$E$323*I736/1000000","v":0},null,0,{"$error":"#DIV/0!"},{"$error":"#DIV/0!"},null,null,null,{"$f":"+Solar!$H$341*I736/1000","v":0}]
[null,null,"Parabolic through CSP, no storage",{"$f":"Solar!$W$248","v":0},"1 MW",{"$f":"Solar!$W$246","v":0},{"$f":"Solar!$W$236*I737/1000000","v":0},{"$f":"Solar!$W$241*I737/1000000","v":0},null,0,{"$error":"#DIV/0!"},{"$error":"#DIV/0!"},null,null,null,{"$f":"+Solar!$Z$244*I737/1000","v":0}]
[null,null,"Solar tower CSP, with storage",{"$f":"+Solar!$W$275","v":0},"1 MW",{"$f":"+Solar!$W$273","v":0},{"$f":"+Solar!$W$263*I738/1000000","v":0},{"$f":"+Solar!$W$268*I738/1000000","v":0},null,0,{"$error":"#DIV/0!"},{"$error":"#DIV/0!"},null,null,null,{"$f":"+Solar!$Z$271*I738/1000","v":0}]
[{"$f":"ROW(B739)","v":739},"Transport","20% Biodiesel blend in all  diesel",{"$f":"+Transport!$W$39","v":0},"20% blend in transport",{"$f":"+Transport!$W$37","v":0},{"$f":"+Transport!$W$27*I739/1000000","v":0},{"$f":"+Transport!$W$32*I739/1000000","v":0},null,0,{"$error":"#DIV/0!"},{"$error":"#DIV/0!"}]
[null,null,"15% Bioethanol blend in all gasoline",{"$f":"+Transport!$W$68","v":0},"15% blend in transport",{"$f":"+Transport!$W$66","v":0},{"$f":"+Transport!$W$55*I740/1000000","v":0},{"$f":"+Transport!$W$60*I740/1000000","v":0},null,0,{"$error":"#DIV/0!"},{"$error":"#DIV/0!"}]
[null,null,"Bus Rapid Transit (BRT)",{"$f":"Transport!$E$480","v":20.512423721756154},"1 km BRT line",{"$f":"+Transport!$E$478","v":1983.4616326530609},{"$f":"Transport!$E$467*I741/1000000","v":0},{"$f":"Transport!$E$473*I741/1000000","v":0},null,0,{"$error":"#DIV/0!"},{"$error":"#DIV/0!"},{"$f":"J741/3.1","v":0}]
[null,null,"More efficient gasoline cars",{"$f":"+Transport!$E$99","v":-210.54575187549142},"1000 cars",{"$f":"+Transport!$E$97","v":408.90380487804828},{"$f":"+Transport!$E$86*I742/1000000","v":0},{"$f":"+Transport!$E$92*I742/1000000","v":0},null,0,{"$error":"#DIV/0!"},{"$error":"#DIV/0!"},null,{"$f":"J742/2.9","v":0}]
[null,null,"More efficient diesel cars",{"$f":"+Transport!$E$125","v":-158.52638703809453},"1000 cars",{"$f":"+Transport!$E$123","v":179.7212853333333},{"$f":"+Transport!$E$112*I743/1000000","v":0},{"$f":"+Transport!$E$118*I743/1000000","v":0},null,0,{"$error":"#DIV/0!"},{"$error":"#DIV/0!"},{"$f":"J743/3.1","v":0}]
[null,null,"Natural Gas cars",{"$f":"+Transport!$E$396","v":-193.28908089616741},"1000 cars using natural gas",{"$f":"+Transport!$E$394","v":778.08450104036592},{"$f":"+Transport!$E$384*I744/1000000","v":0},{"$f":"+Transport!$E$389*I744/1000000","v":0},null,0,{"$error":"#DIV/0!"},{"$error":"#DIV/0!"},{"$f":"J744/3.1","v":0}]
[null,null,"Electric cars",{"$f":"+Transport!$W$149","v":816.59069192761956},"1000 cars",{"$f":"+Transport!$W$147","v":1397.0879999999997},{"$f":"+Transport!$W$137*I745/1000000","v":0},{"$f":"+Transport!$W$142*I745/1000000","v":0},null,0,{"$error":"#DIV/0!"},{"$error":"#DIV/0!"},null,{"$f":"J745/2.9","v":0}]
[null,null,"Electric 18m buses",{"$f":"+Transport!$W$179","v":-95.063923288175445},"1000 buses",{"$f":"+Transport!$W$177","v":67395.481999999989},{"$f":"+Transport!$W$167*I746/1000000","v":0},{"$f":"+Transport!$W$172*I746/1000000","v":0},null,0,{"$error":"#DIV/0!"},{"$error":"#DIV/0!"},{"$f":"J746/3.1","v":0}]
[null,null,"Electric 12m buses",{"$f":"+Transport!$W$210","v":16.012389908407535},"1000 buses",{"$f":"+Transport!$W$208","v":25674.469333333331},{"$f":"+Transport!$W$198*I747/1000000","v":0},{"$f":"+Transport!$W$203*I747/1000000","v":0},null,0,{"$error":"#DIV/0!"},{"$error":"#DIV/0!"},0]
[null,null,"Electric heavy trucks",{"$f":"+Transport!$W$241","v":777.03978835231715},"1000 trucks",{"$f":"+Transport!$W$239","v":25273.30575},{"$f":"+Transport!$W$229*I748/1000000","v":0},{"$f":"+Transport!$W$234*I748/1000000","v":0},null,0,{"$error":"#DIV/0!"},{"$error":"#DIV/0!"},0]
[null,null,"Electric light trucks",{"$f":"+Transport!$W$273","v":-452.78232593520568},"1000 trucks",{"$f":"+Transport!$W$271","v":7702.3407999999981},{"$f":"+Transport!$W$261*I749/1000000","v":0},{"$f":"+Transport!$W$266*I749/1000000","v":0},null,0,{"$error":"#DIV/0!"},{"$f":"+K749/TotalEmis2040","v":{"$error":"#DIV/0!"}},0]
[null,null,"Electric rail ",{"$f":"+Transport!$E$305","v":529.90789219490932},"1 Million trainkm/year",{"$f":"+Transport!$E$303","v":6461.8788141599998},{"$f":"Transport!$E$293*I750/1000000","v":0},{"$f":"Transport!$E$298*I750/1000000","v":0},null,0,{"$error":"#DIV/0!"},{"$error":"#DIV/0!"},0]
[null,null,"Shifting passengers from car to rail",{"$f":"+Transport!$E$336","v":653.94483871636305},"1 Million personkm/day",{"$f":"+Transport!$E$334","v":35457.80333333333},{"$f":"+Transport!$E$324*I751/1000","v":0},{"$f":"+Transport!$E$329*I751/1000","v":0},null,0,{"$error":"#DIV/0!"},{"$error":"#DIV/0!"},0]
[null,null,"Shifting freight transport from road to rail",{"$f":"+Transport!$E$365","v":-1534.825994878948},"1000 tonkm/day",{"$f":"+Transport!$E$363","v":241.3646113413127},{"$f":"+Transport!$E$353*I752/1000","v":0},{"$f":"+Transport!$E$358*I752/1000","v":0},null,0,{"$error":"#DIV/0!"},{"$error":"#DIV/0!"},0]
[null,null,"Restriction on import of used cars",{"$f":"+Transport!$E$425","v":-210.54575187549128},"1000 cars",{"$f":"+Transport!$E$423","v":931.3919999999996},{"$f":"+Transport!$E$412*I753/1000000","v":0},{"$f":"+Transport!$E$418*I753/1000000","v":0},null,0,{"$error":"#DIV/0!"},{"$error":"#DIV/0!"},0]
[null,null,"New bicycle lanes",{"$f":"+Transport!$E$510","v":-148.09367209802946},"1 km bicycle lane",{"$f":"+Transport!$E$508","v":686.58271182439023},{"$f":"+Transport!$E$498*I754/1000000","v":0},{"$f":"+Transport!$E$503*I754/1000000","v":0},null,0,{"$f":"OFFSET(K754,-1,0,1,1)+J754","v":{"$error":"#DIV/0!"}},{"$error":"#DIV/0!"},0]
[null,null,"Electric three-wheelers",{"$f":"+Transport!$E$536","v":-126.40003242852107},"1000 three-wheelers",{"$f":"+Transport!$E$534","v":500.22403199999997},{"$f":"Transport!$E$524*I755/1000000","v":0},{"$f":"Transport!$E$529*I755/1000000","v":0},null,0,{"$error":"#DIV/0!"},{"$error":"#DIV/0!"},null,{"$f":"J755/2.9","v":0}]
[null,null,"Electric two-wheelers",{"$f":"+Transport!$E$565","v":495.52287085979833},"1000 two-wheelers",{"$f":"+Transport!$E$563","v":232.84799999999998},{"$f":"Transport!$E$553*I756/1000000","v":0},{"$f":"Transport!$E$558*I756/1000000","v":0},null,0,{"$error":"#DIV/0!"},{"$error":"#DIV/0!"},null,{"$f":"J756/2.9","v":0}]
[null,null,"Better maintenance and use of motor bikes",{"$f":"+Transport!$E$452","v":-189.07251611654121},"1000 bikes",{"$f":"+Transport!$E$450","v":116.42400000000004},{"$f":"+Transport!$E$440*I757/1000000","v":0},{"$f":"+Transport!$E$445*I757/1000000","v":0},null,0,{"$error":"#DIV/0!"},{"$error":"#DIV/0!"},null,{"$f":"J757/2.9","v":0}]
[{"$f":"ROW(B758)","v":758},"Wind","Wind turbines, on-shore",{"$f":"Wind!$W$23","v":0},"1 MW",{"$f":"Wind!$W$21","v":0},{"$f":"+Wind!$W$11*I758/1000000","v":0},{"$f":"+Wind!$W$16*I758/1000000","v":0},null,0,{"$error":"#DIV/0!"},{"$error":"#DIV/0!"},{"$f":"J758/3.1","v":0},null,null,{"$f":"+Wind!$Z$19*I758/1000","v":0}]
[null,null,"Wind turbines, on-shore with 24 storage",{"$f":"Wind!$W$47","v":0},"1 MW",{"$f":"Wind!$W$45","v":0},{"$f":"+Wind!$W$35*I759/1000000","v":0},{"$f":"+Wind!$W$40*I759/1000000","v":0},null,0,{"$error":"#DIV/0!"},{"$error":"#DIV/0!"},{"$f":"J759/3.1","v":0},null,null,{"$f":"+Wind!$Z$43*I759/1000","v":0}]
[null,null,"Wind turbines, off-shore",{"$f":"Wind!$W$72","v":0},"1 MW",{"$f":"Wind!$W$70","v":0},{"$f":"+Wind!$W$60*I760/1000000","v":0},{"$f":"+Wind!$W$65*I760/1000000","v":0},null,{"$f":"(F760*I760)/1000","v":0},{"$error":"#DIV/0!"},{"$error":"#DIV/0!"},{"$f":"J760/3.1","v":0},null,null,{"$f":"+Wind!$Z$68*I760/1000","v":0}]
[{"$f":"ROW(B761)","v":761},"# GHG reduction options:",{"$f":"COUNTA(C642:C760)","v":119},null,null,"Totals:",{"$f":"SUM(G642:G760)","v":0},{"$f":"SUM(H642:H760)","v":0},null,null,null,null,{"$f":"SUM(M642:M760)","v":0},{"$f":"SUM(N642:N760)","v":0},{"$f":"SUM(O642:O760)","v":{"$error":"#DIV/0!"}},{"$f":"SUM(P642:P760)","v":0}]
[]
[null,null,null,null,null,"GHG emissions: ktCO2e in 2040",null,null,"BAU",null,null,"Reduction",null,null,"New total"]
[null,null,null,null,null,null,null,null,"CO2","CH4","N2O","CO2","CH4","N2O","GHG"]
[null,null,null,null,null,"1. Energy",null,null,{"$f":"I766+I773","v":0},{"$f":"J766+J773","v":0},0,{"$error":"#DIV/0!"},0,0,{"$f":"O766+O773","v":{"$error":"#DIV/0!"}}]
[null,null,null,null,null,"1.A. Fuel combustion",null,null,{"$f":"I767+I768+I769+I770+I771+I772","v":0},{"$f":"SUM(J767:J772)","v":0},{"$f":"SUM(K767:K772)","v":0},{"$f":"L767+L768+L769+L770+L771+L772","v":{"$error":"#DIV/0!"}},0,0,{"$f":"I766+J766+K766-L766-M766-N766","v":{"$error":"#DIV/0!"}}]
[null,null,null,null,null,"       1.A.1.  Energy industries",null,null,{"$f":"+'BAU projected GHG Balances'!$P$225","v":0},{"$f":"'BAU projected GHG Balances'!$E$251","v":0},{"$f":"'BAU projected GHG Balances'!$F$251","v":0},{"$f":"SUM(J$649:J$651)+J$652+SUM(J$685:J$691)+J$705+SUM(J$708:J$710)+J$718+J$719+SUM(J$729:J$733)+J$735+J$737+J$738+SUM(J$758:J$760)+J$725+J$726","v":0},null,null,{"$f":"SUM(I767:K767)-SUM(L767:N767)","v":0}]
[null,null,null,null,null,"1.A.2.  Manufacturing industries and construction",null,null,{"$f":"SUM('BAU projected GHG Balances'!$P$227:$P$238)","v":0},null,null,{"$f":"SUM(J$668:J$670)+J$666+J$667+J$699+J$700","v":{"$error":"#DIV/0!"}},null,null,{"$error":"#DIV/0!"}]
[null,null,null,null,null,"1.A.3.  Transport",null,null,{"$f":"SUM('BAU projected GHG Balances'!$P$239:$P$242)","v":0},null,null,{"$f":"SUM(J$739:J$757)","v":0},null,null,0]
[null,null,null,null,null,"1.A.4.b.  Residential ",null,null,{"$f":"+'BAU projected GHG Balances'!$P$243","v":0},null,null,{"$f":"SUM(J$655:J$665)+J$692+J$693+J$706+J$727+J$728+J$734","v":{"$error":"#DIV/0!"}},null,null,{"$error":"#DIV/0!"}]
[null,null,null,null,null,"1.A.4.a.  Commercial/institutional",null,null,{"$f":"+'BAU projected GHG Balances'!$P$244","v":0},null,null,{"$f":"SUM(J$671:J$684)+J$736","v":{"$error":"#DIV/0!"}},null,null,{"$error":"#DIV/0!"}]
[null,null,null,null,null,"1.A.4.c.  Agriculture/forestry/fishing",null,null,{"$f":"+'BAU projected GHG Balances'!$P$245","v":0},null,null,{"$f":"J$720+J$721","v":0},null,null,0]
[null,null,null,null,null,"1.B. Fugitive emissions from fuels",null,null,{"$f":"'BAU projected GHG Balances'!$D$252","v":0},{"$f":"'BAU projected GHG Balances'!$E$252","v":0},{"$f":"'BAU projected GHG Balances'!$F$252","v":0},{"$f":"SUM(J$701:J$702)+J$704","v":0},{"$f":"J$654+J$703","v":0},null,0]
[null,null,null,null,null,"2.  Industrial processes and product use",null,null,{"$f":"'BAU projected GHG Balances'!D$253+'BAU projected GHG Balances'!$P$246","v":0},{"$f":"'BAU projected GHG Balances'!E$253","v":0},{"$f":"'BAU projected GHG Balances'!F$253","v":0},{"$f":"J$653+J$707","v":0},null,{"$f":"J$724","v":0},0]
[null,null,null,null,null,"3.  Agriculture",null,null,{"$f":"'BAU projected GHG Balances'!D$259","v":0},{"$f":"'BAU projected GHG Balances'!E$259","v":0},{"$f":"'BAU projected GHG Balances'!F$259","v":0},{"$f":"SUM(J$643:J$644)+J$648","v":0},{"$f":"J$642+J$647+J$722","v":0},{"$f":"J$645+J$646","v":0},0]
[null,null,null,null,null,"4. Land use, land-use change and forestry",null,null,{"$f":"'BAU projected GHG Balances'!D$264","v":0},{"$f":"'BAU projected GHG Balances'!E$264","v":0},{"$f":"'BAU projected GHG Balances'!F$264","v":0},{"$f":"SUM(J$694:J$698)","v":0},null,null,0]
[null,null,null,null,null,"5. Waste",null,null,{"$f":"'BAU projected GHG Balances'!D$270","v":0},{"$f":"'BAU projected GHG Balances'!E$270","v":0},{"$f":"'BAU projected GHG Balances'!F$270","v":0},null,{"$f":"J$723+SUM(J$711:J$717)","v":0},null,0]
[null,null,null,null,null,"Total (including LULUCF)",null,null,{"$f":"I765+I774+I775+I776+I777","v":0},{"$f":"J765+J774+J775+J776+J777","v":0},{"$f":"K765+K774+K775+K776+K777","v":0},{"$f":"L765+L774+L775+L776+L777","v":{"$error":"#DIV/0!"}},{"$f":"M765+M774+M775+M776+M777","v":0},{"$f":"N765+N774+N775+N776+N777","v":0},{"$f":"O765+O774+O775+O776+O777","v":{"$error":"#DIV/0!"}}]
[null,null,null,null,null,"Total (excluding LULUCF)",null,null,{"$f":"I778-I776","v":0},0,0,{"$error":"#DIV/0!"},0,0,{"$error":"#DIV/0!"}]
[]
[]
[]
[]
[]
[]
[]
[]
[]
[]
[]
[]
[]
[]
[null,"Total GHG mitigation in",{"$f":"+Assumptions!$C$9","v":0},"In 2045"]
[null,null,null,null,null,"Emission","Investment","Annual","Units","Emission reduction in 2045",null,null,"Diesel","Gasoline","Electricity","Electricity"]
[null,null,null,null,null,"reduction",null,"costs","penetrating","Per option","Added",null,"saved","saved","saved","produced"]
[null,"Type","Reduction option","US$/tCO2e","Sub-type unit","tCO2e/unit","Million US$","MUS$/year","in 2045","ktCO2e/year","ktCO2e/year","Frac.of total","ktoe","ktoe","GWh","GWh"]
[{"$f":"ROW(B798)","v":798},"Agriculture","Rice crop CH4 reduction",{"$f":"Agriculture!$E$30","v":1.2},"Rice crop CH4 red.(1000 ha)",{"$f":"Agriculture!$E$27","v":3421.6000000000004},{"$f":"Agriculture!$E$17*I798/1000000","v":0},{"$f":"Agriculture!$E$22*I798/1000000","v":0},null,{"$f":"F798*I798/1000","v":0},{"$f":"OFFSET(K798,-1,0)+J798","v":0},{"$f":"K798/TotalEmis2045","v":{"$error":"#DIV/0!"}}]
[null,null,"Zero tillage",{"$f":"+Agriculture!$E$194","v":-157.6154964832983},"1000 ha",{"$f":"+Agriculture!$E$192","v":85.727053103999992},{"$f":"Agriculture!$E$182*I799/1000000","v":0},{"$f":"Agriculture!$E$187*I799/1000000","v":0},null,{"$f":"F799*I799/1000","v":0},{"$f":"OFFSET(K799,-1,0)+J799","v":0},{"$error":"#DIV/0!"}]
[null,null,"Cover crops",{"$f":"+Agriculture!$E$89","v":81.040268456375827},"1000 ha",{"$f":"+Agriculture!$E$87","v":1490},{"$f":"Agriculture!$E$77*I800/1000000","v":0},{"$f":"Agriculture!$E$82*I800/1000000","v":0},null,0,0,{"$error":"#DIV/0!"}]
[null,null,"Nitrification inhibitors (1000 ha)",{"$f":"+Agriculture!$E$117","v":67.689873417721515},"1000 ha",{"$f":"+Agriculture!$E$115","v":790},{"$f":"Agriculture!$E$105*I801/1000000","v":0},{"$f":"Agriculture!$E$110*I801/1000000","v":0},null,{"$f":"F801*I801/1000","v":0},0,{"$error":"#DIV/0!"}]
[null,null,"Covering slurry stores (1 slurry store)",{"$f":"+Agriculture!$E$143","v":496.77098857426722},"1 slurry store",{"$f":"+Agriculture!$E$141","v":0.20130000000000001},{"$f":"Agriculture!$E$131*I802/1000000","v":0},{"$f":"Agriculture!$E$136*I802/1000000","v":0},null,0,0,{"$error":"#DIV/0!"}]
[null,null,"Fat supplementation in ruminants diets (%DM fat added) ",{"$f":"+Agriculture!$W$168","v":80.5},"%DM fat added",{"$f":"+Agriculture!$W$166","v":0},{"$f":"Agriculture!$W$156*I803/1000000","v":0},{"$f":"Agriculture!$W$161*I803/1000000","v":0},null,0,0,{"$error":"#DIV/0!"}]
[null,null,"Tobacco curing",{"$f":"+Agriculture!$E$62","v":-20.960693100011099},"100 t tobacco/yr",{"$f":"+Agriculture!$E$60","v":561.96940800000016},{"$f":"Agriculture!$E$50*I804/1000000","v":0},{"$f":"Agriculture!$E$55*I804/1000000","v":0},null,0,0,{"$error":"#DIV/0!"}]
[{"$f":"ROW(B805)","v":805},"Biomass energy","Rice husk cogeneration plants",{"$f":"+'Biomass energy'!$E$24","v":127.59687237849138},"1 MW cogeneration",{"$f":"+'Biomass energy'!$E$22","v":5757.3447425999984},{"$f":"+'Biomass energy'!$E$12*I805/1000000","v":0},{"$f":"+'Biomass energy'!$E$17*I805/1000000","v":0},null,0,0,{"$error":"#DIV/0!"},null,null,null,{"$f":"+'Biomass energy'!$H$22/'Biomass energy'!$H$19*I805/1000","v":0}]
[null,null,"Biomass power from biomass residues ",{"$f":"+'Biomass energy'!$W$57","v":0},"1 MW CHP plant",{"$f":"+'Biomass energy'!$W$55","v":0},{"$f":"+'Biomass energy'!$W$45*I806/1000000","v":0},{"$f":"+'Biomass energy'!$W$50*I806/1000000","v":0},null,0,0,{"$error":"#DIV/0!"},null,null,null,{"$f":"+'Biomass energy'!$Z$53*I806/1000","v":0}]
[null,null,"Bagasse power",{"$f":"'Biomass energy'!$E$88","v":0},"100 kt sugar cane/year",{"$f":"'Biomass energy'!$E$86","v":0},{"$f":"'Biomass energy'!$E$76*I807/1000000","v":0},{"$f":"'Biomass energy'!$E$81*I807/1000000","v":0},null,0,0,{"$error":"#DIV/0!"},null,null,null,{"$f":"'Biomass energy'!$H$87/'Biomass energy'!$H$81*100*I807/1000","v":0}]
[{"$f":"ROW(B808)","v":808},"CCS","CCS plant",{"$f":"+CCS!$E$22","v":107.96190476190478},"1 MW",{"$f":"+CCS!$E$20","v":5412.3711340206182},{"$f":"CCS!$E$10*I808/1000000","v":0},{"$f":"CCS!$E$15*I808/1000000","v":0},null,0,0,{"$error":"#DIV/0!"},null,null,null,{"$f":"+CCS!H16/CCS!$H$13*I808/1000","v":0}]
[{"$f":"ROW(B809)","v":809},"Cement","Clinker replacement",{"$f":"+Cement!$E$23","v":-3.3289122068909709},"1000 tonnes cement/day",{"$f":"+Cement!$E$21","v":164175.34722087739},{"$f":"Cement!$E$10*I809/1000000","v":0},{"$f":"Cement!$E$16*I809/1000000","v":0},null,0,0,{"$error":"#DIV/0!"}]
[{"$f":"ROW(B810)","v":810},"Coal bed mine methane","Coal mine methane",{"$f":"+'Coal bed mine methane'!$E$24","v":7.6156689322941142},"10 Mm3 CMM/year",{"$f":"+'Coal bed mine methane'!$E$22","v":33818.400000000001},{"$f":"+'Coal bed mine methane'!$E$12/1000000*I810","v":0},{"$f":"+'Coal bed mine methane'!$E$17/1000000*I810","v":0},null,0,0,{"$error":"#DIV/0!"},null,null,null,{"$f":"+'Coal bed mine methane'!$H$27/'Coal bed mine methane'!$H$22*10*I810/1000","v":0}]
[{"$f":"ROW(B811)","v":811},"EE households","Efficient residential airconditioning",{"$f":"+'EE households'!$E$30","v":{"$error":"#DIV/0!"}},"1000 Airconditioners",{"$f":"+'EE households'!$E$28","v":{"$error":"#DIV/0!"}},{"$f":"+'EE households'!$E$18*I811/1000000","v":0},{"$f":"+'EE households'!$E$23*I811/1000000","v":0},null,{"$error":"#DIV/0!"},{"$error":"#DIV/0!"},{"$error":"#DIV/0!"},null,null,{"$f":"+'EE households'!$H$42*I811/1000","v":0}]
[null,null,"Efficient lighting with CFLs",{"$f":"+'EE households'!$E$64","v":{"$error":"#DIV/0!"}},"1000 Bulps",{"$f":"+'EE households'!$E$62","v":{"$error":"#DIV/0!"}},{"$f":"+'EE households'!$E$52*I812/1000000","v":0},{"$f":"+'EE households'!$E$57*I812/1000000","v":0},null,{"$error":"#DIV/0!"},{"$error":"#DIV/0!"},{"$error":"#DIV/0!"},null,null,{"$f":"'EE households'!$H$65*I812/1000","v":0}]
[null,null,"Efficient lighting with LEDs",{"$f":"+'EE households'!$E$96","v":{"$error":"#DIV/0!"}},"1000 Bulps",{"$f":"+'EE households'!$E$94","v":{"$error":"#DIV/0!"}},{"$f":"+'EE households'!$E$84*I813/1000000","v":0},{"$f":"+'EE households'!$E$89*I813/1000000","v":0},null,{"$error":"#DIV/0!"},{"$error":"#DIV/0!"},{"$error":"#DIV/0!"},null,null,{"$f":"+'EE households'!$H$101*I813/1000","v":0}]
[null,null,"Efficient lighting with LEDs replacing CFL",{"$f":"+'EE households'!$E$122","v":{"$error":"#DIV/0!"}},"1000 Bulps",{"$f":"+'EE households'!$E$120","v":{"$error":"#DIV/0!"}},{"$f":"'EE households'!$E$110*I814/1000000","v":0},{"$f":"'EE households'!$E$115*I814/1000000","v":0},null,{"$error":"#DIV/0!"},{"$error":"#DIV/0!"},{"$error":"#DIV/0!"},null,null,{"$f":"+'EE households'!$H125*I814/1000","v":0}]
[null,null,"Efficient wood stoves",{"$f":"+'EE households'!$E$178","v":-939.80904939809022},"1000 stoves",{"$f":"+'EE households'!$E$176","v":1338.3333333333335},{"$f":"+'EE households'!$E$166*I815/1000000","v":0},{"$f":"+'EE households'!$E$171*I815/1000000","v":0},null,0,{"$error":"#DIV/0!"},{"$error":"#DIV/0!"}]
[null,null,"Efficient charcoal stoves",{"$f":"+'EE households'!$E$206","v":-71.000933997509335},"1000 stoves",{"$f":"+'EE households'!$E$204","v":292.91691871829062},{"$f":"+'EE households'!$E$194*I816/1000000","v":0},{"$f":"+'EE households'!$E$199*I816/1000000","v":0},null,0,{"$error":"#DIV/0!"},{"$error":"#DIV/0!"}]
[null,null,"LPG stoves replacing wood stoves",{"$f":"+'EE households'!$E$238","v":73.526386172475128},"1000 stoves",{"$f":"+'EE households'!$E$236","v":2054.9439166666671},{"$f":"'EE households'!$E$226*I817/1000000","v":0},{"$f":"'EE households'!$E$231*I817/1000000","v":0},null,0,{"$error":"#DIV/0!"},{"$error":"#DIV/0!"}]
[null,null,"Efficient electric stoves",{"$f":"+'EE households'!$E$267","v":{"$error":"#DIV/0!"}},"1000 stoves",{"$f":"+'EE households'!$E$265","v":{"$error":"#DIV/0!"}},{"$f":"'EE households'!$E$255*I818/1000000","v":0},{"$f":"'EE households'!$E$260*I818/1000000","v":0},null,{"$error":"#DIV/0!"},{"$error":"#DIV/0!"},{"$error":"#DIV/0!"},null,null,{"$f":"'EE households'!$H$274*I818/1000","v":0}]
[null,null,"Induction based cooking",{"$f":"+'EE households'!$E$293","v":{"$error":"#DIV/0!"}},"1000 stoves",{"$f":"+'EE households'!$E$291","v":{"$error":"#DIV/0!"}},{"$f":"'EE households'!$E$281*I819/1000000","v":0},{"$f":"'EE households'!$E$286*I819/1000000","v":0},null,{"$error":"#DIV/0!"},{"$error":"#DIV/0!"},{"$error":"#DIV/0!"},null,null,{"$f":"'EE households'!$H$301*I819/1000","v":0}]
[null,null,"New passive home",{"$f":"+'EE households'!$E$321","v":{"$error":"#DIV/0!"}},"1000 new homes",{"$f":"+'EE households'!E$319","v":{"$error":"#DIV/0!"}},{"$f":"'EE households'!$E$309*I820/1000000","v":0},{"$f":"+I820*'EE households'!$E$314/1000000","v":0},null,{"$error":"#DIV/0!"},{"$error":"#DIV/0!"},{"$error":"#DIV/0!"},null,null,{"$f":"'EE households'!$H$326*I820/1000","v":0}]
[null,null,"Efficient refrigerators",{"$f":"+'EE households'!$E$148","v":{"$error":"#DIV/0!"}},"1000 refrigerators",{"$f":"+'EE households'!$E$146","v":{"$error":"#DIV/0!"}},{"$f":"+'EE households'!$E$136*I821/1000000","v":0},{"$f":"+'EE households'!$E$141*I821/1000000","v":0},null,{"$error":"#DIV/0!"},{"$error":"#DIV/0!"},{"$error":"#DIV/0!"},null,null,{"$f":"+'EE households'!$H$159*I821/1000","v":0}]
[{"$f":"ROW(B822)","v":822},"EE industry","Efficient electric motors",{"$f":"+'EE industry'!$E$25","v":{"$error":"#DIV/0!"}},"1 kW",{"$f":"+'EE industry'!$E$23","v":{"$error":"#DIV/0!"}},{"$f":"+'EE industry'!$E$13*I822/1000000","v":0},{"$f":"+'EE industry'!$E$18*I822/1000000","v":0},null,{"$error":"#DIV/0!"},{"$error":"#DIV/0!"},{"$error":"#DIV/0!"},null,null,{"$f":"I822*'EE industry'!$H$25/1000000","v":0}]
[null,null,"Energy efficiency in industry",{"$f":"+'EE industry'!$W$84","v":0},"10% red. of energy demand",{"$f":"+'EE industry'!$W$82","v":0},{"$f":"+'EE industry'!$W$72*I823/1000000","v":0},{"$f":"'EE industry'!$W$77*I823/1000000","v":0},null,0,{"$error":"#DIV/0!"},{"$error":"#DIV/0!"}]
[null,null,"Building materials",{"$f":"+'EE industry'!$E$55","v":-19.573889817018777},"1 million bricks",{"$f":"+'EE industry'!$E$53","v":520.30000000000007},{"$f":"'EE industry'!$E$43*I824/1000000","v":0},{"$f":"'EE industry'!$E$48*I824/1000000","v":0},null,0,{"$error":"#DIV/0!"},{"$error":"#DIV/0!"}]
[{"$f":"ROW(B825)","v":825},"EE own generation","Waste heat recovery at cement plant",{"$f":"+'EE own generation'!$E$23","v":0},"1 Cement plant",{"$f":"+'EE own generation'!$E$21","v":0},{"$f":"+'EE own generation'!$E$11*I825/1000000","v":0},{"$f":"+'EE own generation'!$E$16*I825/1000000","v":0},null,0,{"$error":"#DIV/0!"},{"$error":"#DIV/0!"},null,null,null,{"$f":"+'EE own generation'!$H$17*'Mitigation options'!I825/1000","v":0}]
[null,null,"Waste heat recovery at steel plant",{"$f":"+'EE own generation'!$E$53","v":0},"1 Steel plant",{"$f":"+'EE own generation'!$E$51","v":0},{"$f":"+'EE own generation'!$E$41*I826/1000000","v":0},{"$f":"+'EE own generation'!$E$46*I826/1000000","v":0},null,0,{"$error":"#DIV/0!"},{"$error":"#DIV/0!"},null,null,null,{"$f":"'EE own generation'!$H$46*'Mitigation options'!I826/1000","v":0}]
[{"$f":"ROW(B827)","v":827},"EE service","Efficient electric motors",{"$f":"+'EE service'!$E$29","v":{"$error":"#DIV/0!"}},"1 kW",{"$f":"+'EE service'!$E$27","v":{"$error":"#DIV/0!"}},{"$f":"+'EE service'!$E$17*I827/1000000","v":0},{"$f":"+'EE service'!$E$22*I827/1000000","v":0},null,{"$error":"#DIV/0!"},{"$f":"OFFSET(K827,-1,0)+J827","v":{"$error":"#DIV/0!"}},{"$error":"#DIV/0!"},null,null,{"$f":"I827*'EE service'!$H$29/1000000","v":0}]
[null,null,"Efficient office lighting with CFLs",{"$f":"+'EE service'!$E$57","v":{"$error":"#DIV/0!"}},"1000 lights",{"$f":"+'EE service'!$E$55","v":{"$error":"#DIV/0!"}},{"$f":"+'EE service'!$E$45*I828/1000000","v":0},{"$f":"+'EE service'!$E$50*I828/1000000","v":0},null,{"$error":"#DIV/0!"},{"$error":"#DIV/0!"},{"$error":"#DIV/0!"},null,null,{"$f":"+'EE service'!$H$57*I828/1000","v":0}]
[null,null,"Efficient office lighting with LEDs",{"$f":"+'EE service'!$E$89","v":{"$error":"#DIV/0!"}},"1000 lights",{"$f":"+'EE service'!$E$87","v":{"$error":"#DIV/0!"}},{"$f":"+'EE service'!$E$77*I829/1000000","v":0},{"$f":"+'EE service'!$E$82*I829/1000000","v":0},null,{"$f":"F829*I829/1000","v":{"$error":"#DIV/0!"}},{"$error":"#DIV/0!"},{"$error":"#DIV/0!"},null,null,{"$f":"+'EE service'!$H$89*I829/1000","v":0}]
[null,null,"Efficient street lights",{"$f":"+'EE service'!$E$123","v":{"$error":"#DIV/0!"}},"1000 lights",{"$f":"+'EE service'!$E$121","v":{"$error":"#DIV/0!"}},{"$f":"+'EE service'!$E$111*I830/1000000","v":0},{"$f":"+'EE service'!$E$116*I830/1000000","v":0},null,{"$error":"#DIV/0!"},{"$error":"#DIV/0!"},{"$f":"K830/TotalEmis2045","v":{"$error":"#DIV/0!"}},null,null,{"$f":"+'EE service'!$H$136*I830/1000","v":0}]
[null,null,"Efficient water pumping",{"$f":"+'EE service'!$E$159","v":{"$error":"#DIV/0!"}},"4 Million m3 water",{"$f":"+'EE service'!$E$157","v":{"$error":"#DIV/0!"}},{"$f":"+'EE service'!$E$147*I831/1000000","v":0},{"$f":"+'EE service'!$E$152*I831/1000000","v":0},null,{"$error":"#DIV/0!"},{"$error":"#DIV/0!"},{"$error":"#DIV/0!"},null,null,{"$f":"+'EE service'!$H$158*I831","v":0}]
[null,null,"HVAC",{"$f":"+'EE service'!$E$248","v":0},"100,000 m2 floor area",{"$f":"+'EE service'!$E$246","v":0},{"$f":"'EE service'!$E$236*I832/1000000","v":0},{"$f":"'EE service'!$E$241*I832/1000000","v":0},null,0,{"$error":"#DIV/0!"},{"$error":"#DIV/0!"},null,null,{"$f":"+'EE service'!$H$254*I832/1000","v":0}]
[null,null,"Efficient Chiller > 300 TR",{"$f":"+'EE service'!$E$277","v":22.896661292960445},"1 TR",{"$f":"+'EE service'!$E$275","v":1.4266999999999999},{"$f":"'EE service'!$E$265*I833/1000000","v":0},{"$f":"'EE service'!$E$270*I833/1000000","v":0},null,0,{"$error":"#DIV/0!"},{"$error":"#DIV/0!"},null,null,{"$f":"+'EE service'!$H$290*I833/1000000","v":0}]
[null,null,"Efficient Chiller < 300 TR",{"$f":"+'EE service'!$E$309","v":42.055092170743677},"1 TR",{"$f":"+'EE service'!$E$307","v":0.71334999999999993},{"$f":"'EE service'!$E$297*I834/1000000","v":0},{"$f":"'EE service'!$E$302*I834/1000000","v":0},null,0,{"$error":"#DIV/0!"},{"$error":"#DIV/0!"},null,null,{"$f":"+'EE service'!$H$321*I834/1000000","v":0}]
[null,null,"Efficient room airconditioner",{"$f":"+'EE service'!$E$341","v":{"$error":"#DIV/0!"}},"1 Airconditioner",{"$f":"+'EE service'!$E$339","v":{"$error":"#DIV/0!"}},{"$f":"'EE service'!$E$329*I835/1000000","v":0},{"$f":"'EE service'!$E$334*I835/1000000","v":0},null,{"$error":"#DIV/0!"},{"$error":"#DIV/0!"},{"$error":"#DIV/0!"},null,null,{"$f":"+'EE service'!$H$353*I835/1000000","v":0}]
[null,null,"Efficient commercial dishwashing machine ",{"$f":"+'EE service'!$E$374","v":0},"1000 meals/day",{"$f":"+'EE service'!$E$372","v":0},{"$f":"'EE service'!$E$362*I836/1000000","v":0},{"$f":"'EE service'!$E$367*I836/1000000","v":0},null,0,{"$error":"#DIV/0!"},{"$error":"#DIV/0!"},null,null,{"$f":"+'EE service'!$H$388*I836/1000000","v":0}]
[null,null,"Efficient hotel refrigerator",{"$f":"+'EE service'!$E$409","v":{"$error":"#DIV/0!"}},"1 refrigerator",{"$f":"+'EE service'!$E$407","v":{"$error":"#DIV/0!"}},{"$f":"'EE service'!$E$397*I837/1000000","v":0},{"$f":"'EE service'!$E$402*I837/1000000","v":0},null,{"$error":"#DIV/0!"},{"$error":"#DIV/0!"},{"$error":"#DIV/0!"},null,null,{"$f":"+'EE service'!$H$415*I837/1000000","v":0}]
[null,null,"Efficient hotel washing machine ",{"$f":"+'EE service'!$E$439","v":{"$error":"#DIV/0!"}},"1000 Guest Nights (GN)",{"$f":"+'EE service'!$E$437","v":{"$error":"#DIV/0!"}},{"$f":"'EE service'!$E$427*I838/1000000","v":0},{"$f":"'EE service'!$E$432*I838/1000000","v":0},null,{"$error":"#DIV/0!"},{"$error":"#DIV/0!"},{"$error":"#DIV/0!"},null,null,{"$f":"+'EE service'!$H$459*I838/1000000","v":0}]
[null,null,"Energy efficiency in service",{"$f":"+'EE service'!$W$223","v":0},"10% red. of energy demand",{"$f":"+'EE service'!$W$221","v":0},{"$f":"'EE service'!$W$211*I839/1000000","v":0},{"$f":"'EE service'!$W$216*I839/1000000","v":0},null,0,{"$error":"#DIV/0!"},{"$error":"#DIV/0!"}]
[null,null,"New office building with central cooling",{"$f":"+'EE service'!$E$188","v":{"$error":"#DIV/0!"}},"1000 m2",{"$f":"+'EE service'!$E$186","v":{"$error":"#DIV/0!"}},{"$f":"+'EE service'!$E$176*I840/1000000","v":0},{"$f":"+'EE service'!$E$181*I840/1000000","v":0},null,{"$f":"(F840*I840)/1000","v":{"$error":"#DIV/0!"}},{"$f":"OFFSET(K840,-1,0,1,1)+J840","v":{"$error":"#DIV/0!"}},{"$error":"#DIV/0!"},null,null,{"$f":"+'EE service'!$H$201*I840*1000/1000","v":0}]
[{"$f":"ROW(B841)","v":841},"EE supply side","New natural gas power plant",{"$f":"'EE supply side'!$W$25","v":-81.886272256873895},"1 MW",{"$f":"+'EE supply side'!$W$23","v":-2634.2608695652175},{"$f":"+'EE supply side'!$W$13/1000000*I841","v":0},{"$f":"+'EE supply side'!$W$18/1000000*I841","v":0},null,{"$f":"(F841*I841)/1000","v":0},{"$f":"OFFSET(K841,-1,0,1,1)+J841","v":{"$error":"#DIV/0!"}},{"$f":"K841/TotalEmis2045","v":{"$error":"#DIV/0!"}}]
[null,null,"Switch from fuel oil to natural gas",{"$f":"'EE supply side'!$E$172","v":-339.53206503966459},"1 MW",{"$f":"+'EE supply side'!$E$170","v":1454.3571428571436},{"$f":"+'EE supply side'!$E$160/1000000*I842","v":0},{"$f":"+'EE supply side'!$E$165/1000000*I842","v":0},null,0,{"$error":"#DIV/0!"},{"$error":"#DIV/0!"}]
[null,null,"Cogeneration in industry",{"$f":"+'EE supply side'!$E$113","v":-57.542861861768735},"1 MW",{"$f":"+'EE supply side'!$E$111","v":-6633.0554875199996},{"$f":"+'EE supply side'!$E$102*I843/1000000","v":0},{"$f":"+'EE supply side'!$E$106*I843/1000000","v":0},null,0,{"$error":"#DIV/0!"},{"$error":"#DIV/0!"},null,null,{"$f":"+'EE supply side'!$H$112*I843/1000","v":0}]
[null,null,"Single cycle to combined cycle",{"$f":"+'EE supply side'!$E$83","v":0},"100 MW increase",{"$f":"+'EE supply side'!$E$81","v":0},{"$f":"'EE supply side'!$E$72*I844/1000000","v":0},{"$f":"'EE supply side'!$E$76*I844/1000000","v":0},null,0,{"$error":"#DIV/0!"},{"$error":"#DIV/0!"},null,null,{"$f":"+'EE supply side'!$H$91*I844/1000","v":0}]
[{"$f":"ROW(B845)","v":845},"Energy distribution","Efficient electric grids",{"$f":"+'Energy distribution'!$E$26","v":0},"1 GWh loss reduction",{"$f":"+'Energy distribution'!$E$24","v":0},{"$f":"+'Energy distribution'!$E$14*I845/1000000","v":0},{"$f":"+'Energy distribution'!$E$19*I845/1000000","v":0},null,0,{"$error":"#DIV/0!"},{"$error":"#DIV/0!"},null,null,{"$f":"+I845*'Energy distribution'!$H$22","v":{"$error":"#DIV/0!"}}]
[null,null,"Connection of isolated grid to central grid ",{"$f":"+'Energy distribution'!$E$55","v":0},"1 GWh consumption",{"$f":"+'Energy distribution'!$E$53","v":0},{"$f":"+'Energy distribution'!$E$43*I846/1000000","v":0},{"$f":"+'Energy distribution'!$E$48*I846/1000000","v":0},null,0,{"$error":"#DIV/0!"},{"$error":"#DIV/0!"}]
[null,null,"Power factor increase",{"$f":"+'Energy distribution'!$E$85","v":0},"1000 commerce/industry buildings",{"$f":"+'Energy distribution'!$E$83","v":0},{"$f":"'Energy distribution'!$E$73*I847/1000000","v":0},{"$f":"'Energy distribution'!$E$78*I847/1000000","v":0},null,0,{"$error":"#DIV/0!"},{"$error":"#DIV/0!"},null,null,{"$f":"I847*'Energy distribution'!$H$92","v":0}]
[null,null,"District heating network rehabilitation (100,000 flats supplied)",{"$f":"+'Energy distribution'!$E$114","v":-158.05408627123262},"100,000 flats supplied",{"$f":"+'Energy distribution'!$E$112","v":33649.053412333342},{"$f":"'Energy distribution'!$E$101*I848/1000000","v":0},{"$f":"'Energy distribution'!$E$107*I848/1000000","v":0},null,0,{"$error":"#DIV/0!"},{"$error":"#DIV/0!"}]
[null,null,"District cooling network (1 million m2 new city area covered)",{"$f":"+'Energy distribution'!$E$153","v":-189.15402700930974},"1 million m2 new city area covered",{"$f":"+'Energy distribution'!$E$151","v":13725.623132042594},{"$f":"'Energy distribution'!$E$141*I849/1000000","v":0},{"$f":"'Energy distribution'!$E$146*I849/1000000","v":0},null,0,{"$error":"#DIV/0!"},{"$error":"#DIV/0!"}]
[{"$f":"ROW(B850)","v":850},"Forestry","Reforestation",{"$f":"+Forestry!$E$28","v":8.1818181818181817},"Reforestation of 1000 ha",{"$f":"Forestry!$E$26","v":3666.666666666667},{"$f":"Forestry!$E$15*I850/1000000","v":0},{"$f":"Forestry!$E$21/1000000*I850","v":0},null,0,{"$error":"#DIV/0!"},{"$error":"#DIV/0!"}]
[null,null,"REDD: Avoided deforestation",{"$f":"+Forestry!$E$56","v":-5.5},"No deforestation for 1000 ha",{"$f":"Forestry!$E$54","v":3666.666666666667},{"$f":"Forestry!$E$44*I851/1000000","v":0},{"$f":"Forestry!$E$49/1000000*I851","v":0},null,0,{"$error":"#DIV/0!"},{"$error":"#DIV/0!"}]
[null,null,"Assisted forest regeneration",{"$f":"Forestry!$E$84","v":-2.0454545454545454},"Reforestation of 1000 ha",{"$f":"Forestry!$E$82","v":3666.666666666667},{"$f":"Forestry!$E$72/1000000*I852","v":0},{"$f":"Forestry!$E$77/1000000*I852","v":0},null,0,{"$error":"#DIV/0!"},{"$error":"#DIV/0!"}]
[null,null,"Reforestation with agroforestry",{"$f":"Forestry!$E$113","v":-0.27272727272727271},"Reforestation of 1000 ha",{"$f":"Forestry!$E$111","v":3666.666666666667},{"$f":"Forestry!$E$100/1000000*I853","v":0},{"$f":"Forestry!$E$106/1000000*I853","v":0},null,0,{"$error":"#DIV/0!"},{"$error":"#DIV/0!"}]
[null,null,"Reforestation with Silvopasture",{"$f":"Forestry!$E$143","v":-0.27272727272727271},"Reforestation of 1000 ha",{"$f":"Forestry!$E$141","v":3666.666666666667},{"$f":"Forestry!$E$130/1000000*I854","v":0},{"$f":"Forestry!$E$136/1000000*I854","v":0},null,0,{"$error":"#DIV/0!"},{"$error":"#DIV/0!"}]
[{"$f":"ROW(B855)","v":855},"Fossil fuel switch","Switch from coal to natural gas in industry",{"$f":"+'Fossil fuel switch'!$E$24","v":29.648354344806059},"100 TJ fuel use/year",{"$f":"+'Fossil fuel switch'!$E$22","v":3850},{"$f":"'Fossil fuel switch'!$E$12/1000000*I855","v":0},{"$f":"'Fossil fuel switch'!$E$17/1000000*I855","v":0},null,0,{"$error":"#DIV/0!"},{"$error":"#DIV/0!"}]
[null,null,"Switch from fuel oil to natural gas in industry",{"$f":"'Fossil fuel switch'!$E$53","v":-136.87543961201254},"100 TJ fuel use/year",{"$f":"'Fossil fuel switch'!$E$51","v":2126.6666666666679},{"$f":"'Fossil fuel switch'!$E$41/1000000*I856","v":0},{"$f":"'Fossil fuel switch'!$E$46/1000000*I856","v":0},null,0,{"$error":"#DIV/0!"},{"$error":"#DIV/0!"}]
[{"$f":"ROW(B857)","v":857},"Fugitive","Reduced flaring at oil field",{"$f":"+Fugitive!$E$25","v":-11.666162152975813},"1 MMSCF/day",{"$f":"+Fugitive!$E$23","v":22613.499908999998},{"$f":"+Fugitive!$E$13*I857/1000000","v":0},{"$f":"+Fugitive!$E$18*I857/1000000","v":0},null,0,{"$error":"#DIV/0!"},{"$error":"#DIV/0!"}]
[null,null,"Reduced flaring at oil refineries",{"$f":"+Fugitive!$E$54","v":159.98532895280397},"1 MMSCF/day",{"$f":"+Fugitive!$E$52","v":20797.217999999997},{"$f":"+Fugitive!$E$42*I858/1000000","v":0},{"$f":"+Fugitive!$E$47*I858/1000000","v":0},null,0,{"$error":"#DIV/0!"},{"$error":"#DIV/0!"}]
[null,null,"Leak reduction in natural gas pipelines",{"$f":"Fugitive!$E$81","v":-4.7340603277169917},"1 Mm3 CH/year leaking",{"$f":"+Fugitive!$E$79","v":20104.000000000004},{"$f":"Fugitive!$E$69*I859/1000000","v":0},{"$f":"Fugitive!$E$74*I859/1000000","v":0},null,0,{"$error":"#DIV/0!"},{"$error":"#DIV/0!"}]
[null,null,"Charcoal production",{"$f":"+Fugitive!$E$108","v":0.76723985653613069},"100,000 ton charcoal/yr",{"$f":"+Fugitive!$E$106","v":156404.80480480485},{"$f":"Fugitive!$E$97*I860/1000000","v":0},{"$f":"Fugitive!$E$101*I860/1000000","v":0},null,0,{"$error":"#DIV/0!"},{"$f":"K860/TotalEmis2045","v":{"$error":"#DIV/0!"}}]
[{"$f":"ROW(B861)","v":861},"Geothermal","Geothermal power",{"$f":"+Geothermal!$W$22","v":0},"1 MW",{"$f":"+Geothermal!$W$20","v":0},{"$f":"+Geothermal!$W$10*I861/1000000","v":0},{"$f":"+Geothermal!$W$15*I861/1000000","v":0},null,0,{"$error":"#DIV/0!"},{"$error":"#DIV/0!"},null,null,null,{"$f":"+Geothermal!$Z$18*I861/1000","v":0}]
[null,null,"Geothermal heat",{"$f":"+Geothermal!$E$50","v":-12.72414473942839},"1000 m2 heated area",{"$f":"+Geothermal!$E$48","v":17.056285714285721},{"$f":"Geothermal!$E$38*I862/1000000","v":0},{"$f":"Geothermal!$E$43*I862/1000000","v":0},null,0,{"$error":"#DIV/0!"},{"$error":"#DIV/0!"}]
[{"$f":"ROW(B863)","v":863},"HFCs, PFCs, SF6","Reduced PFCs from aluminum production",{"$f":"+'HFCs, PFCs, SF6'!$E$22","v":-3.4084892300915444E-2},"100,000 ton Aluminium/yr",{"$f":"+'HFCs, PFCs, SF6'!$E$20","v":-64696},{"$f":"+'HFCs, PFCs, SF6'!$E$10*I863/1000000","v":0},{"$f":"+'HFCs, PFCs, SF6'!$E$15*I863/1000000","v":0},null,0,{"$error":"#DIV/0!"},{"$error":"#DIV/0!"}]
[{"$f":"ROW(B864)","v":864},"Hydro","Hydro power connected to main grid",{"$f":"+Hydro!$W$25","v":0},"1 MW",{"$f":"+Hydro!$W$23","v":0},{"$f":"+Hydro!$W$13*I864/1000000","v":0},{"$f":"+Hydro!$W$18*I864/1000000","v":0},null,0,{"$error":"#DIV/0!"},{"$error":"#DIV/0!"},null,null,null,{"$f":"+Hydro!$Z$21*I864/1000","v":0}]
[null,null,"Mini hydro power connected to main grid",{"$f":"+Hydro!$E$54","v":0},"1 MW",{"$f":"+Hydro!$E$52","v":0},{"$f":"+Hydro!$E$42*I865/1000000","v":0},{"$f":"+Hydro!$E$47*I865/1000000","v":0},null,0,{"$error":"#DIV/0!"},{"$error":"#DIV/0!"},null,null,null,{"$f":"Hydro!$H$50/Hydro!$H$47*I865/1000","v":0}]
[null,null,"Mini hydro power off grid",{"$f":"+Hydro!$E$83","v":-71.909842771818788},"1 MW",{"$f":"+Hydro!$E$81","v":3231.9999999999995},{"$f":"+Hydro!$E$71*I866/1000000","v":0},{"$f":"Hydro!$E$76*I866/1000000","v":0},null,0,{"$error":"#DIV/0!"},{"$error":"#DIV/0!"},null,null,null,{"$f":"Hydro!$H$77/Hydro!$H$74*I866/1000","v":0}]
[{"$f":"ROW(B867)","v":867},"Landfills","Landfill gas plant with power production",{"$f":"Landfills!$E$27","v":4.9007373033746724},"200 t/day plant",{"$f":"Landfills!$E$25","v":165886.95200000002},{"$f":"+Landfills!$E$15*I867/1000000","v":0},{"$f":"+Landfills!$E$20*I867/1000000","v":0},null,0,{"$error":"#DIV/0!"},{"$error":"#DIV/0!"},null,null,null,{"$f":"+Landfills!$H$36*I867/1000","v":0}]
[null,null,"Landfill gas flaring",{"$f":"+Landfills!$E$118","v":476.51498863888366},"1 t/day plant",{"$f":"+Landfills!$E$116","v":165886.95200000002},{"$f":"+Landfills!$E$106*I868/1000000","v":0},{"$f":"Landfills!$E$111*I868/1000000","v":0},null,0,{"$error":"#DIV/0!"},{"$error":"#DIV/0!"}]
[null,null,"Incineration plant",{"$f":"+Landfills!$E$91","v":46.439980403039769},"200 t/day plant",{"$f":"Landfills!$E$89","v":124415.21400000001},{"$f":"Landfills!$E$79*I869/1000000","v":0},{"$f":"Landfills!$E$84*I869/1000000","v":0},null,0,{"$error":"#DIV/0!"},{"$error":"#DIV/0!"}]
[null,null,"Recycling of plastics",{"$f":"+Landfills!$E$197","v":-255.84635716143856},"1000 t/year plant",{"$f":"Landfills!$E$195","v":833.25},{"$f":"Landfills!$E$184*I870/1000000","v":0},{"$f":"Landfills!$E$190*I870/1000000","v":0},null,0,{"$error":"#DIV/0!"},{"$error":"#DIV/0!"}]
[null,null,"Refuce Derived Fuel (RDF) from MSW",{"$f":"+Landfills!$E$171","v":51.693454591314826},"200 t MSW/day plant",{"$f":"Landfills!$E$169","v":20389.428571428572},{"$f":"Landfills!$E$159*I871/1000000","v":0},{"$f":"Landfills!$E$164*I871/1000000","v":0},null,0,{"$error":"#DIV/0!"},{"$error":"#DIV/0!"}]
[null,null,"Biogas from Municipal Solid Waste",{"$f":"+Landfills!$E$146","v":0.11077632045373981},"1000 t/year plant",{"$f":"+Landfills!$E$144","v":16248.960000000001},{"$f":"+Landfills!$E$134*I872/1000000","v":0},{"$f":"Landfills!$E$139*I872/1000000","v":0},null,0,{"$error":"#DIV/0!"},{"$error":"#DIV/0!"}]
[null,null,"Composting of Municipal Solid Waste",{"$f":"+Landfills!$E$63","v":-0.10545358888876404},"1000 t/day plant",{"$f":"+Landfills!$E$61","v":5515709.472000001},{"$f":"+Landfills!$E$50*I873/1000000","v":0},{"$f":"+Landfills!$E$56*I873/1000000","v":0},null,0,{"$error":"#DIV/0!"},{"$error":"#DIV/0!"}]
[{"$f":"ROW(B874)","v":874},"Marine","Tidal",{"$f":"Marine!$W$22","v":0},"1 MW of tidal power",{"$f":"Marine!$W$20","v":0},{"$f":"Marine!$W$10*I874/1000000","v":0},{"$f":"Marine!$W$15*I874/1000000","v":0},null,0,{"$error":"#DIV/0!"},{"$error":"#DIV/0!"},null,null,null,{"$f":"+Marine!$Z$18*I874/1000","v":0}]
[null,null,"Wave",{"$f":"Marine!$W$47","v":0},"1 MW of wave power",{"$f":"Marine!$W$45","v":0},{"$f":"Marine!$W$35*I875/1000000","v":0},{"$f":"Marine!$W$40*I875/1000000","v":0},null,0,{"$error":"#DIV/0!"},{"$error":"#DIV/0!"},null,null,null,{"$f":"+Marine!$Z$43*I875/1000","v":0}]
[{"$f":"ROW(B876)","v":876},"Methane avoidance","Biogas at rural farms using kerosene",{"$f":"+'Methane avoidance'!$E$24","v":-160.8114705432757},"1000 units",{"$f":"+'Methane avoidance'!$E$22","v":1227.6264000000001},{"$f":"+'Methane avoidance'!$E$12*I876/1000000","v":0},{"$f":"+'Methane avoidance'!$E$17*I876/1000000","v":0},null,0,{"$error":"#DIV/0!"},{"$error":"#DIV/0!"}]
[null,null,"Biogas at rural farms using non-renewable fuelwood",{"$f":"+'Methane avoidance'!$E$51","v":1.2107375121073751},"1000 units",{"$f":"+'Methane avoidance'!$E$49","v":11274.12},{"$f":"+'Methane avoidance'!$E$39*I877/1000000","v":0},{"$f":"+'Methane avoidance'!$E$44*I877/1000000","v":0},null,0,{"$error":"#DIV/0!"},{"$error":"#DIV/0!"}]
[null,null,"Biogas at pig farms",{"$f":"+'Methane avoidance'!$E$78","v":6.9197562715191454},"84000 pigs",{"$f":"+'Methane avoidance'!$E$76","v":88480},{"$f":"'Methane avoidance'!$E$66*I878/1000000","v":0},{"$f":"'Methane avoidance'!$E$71*I878/1000000","v":0},null,0,{"$error":"#DIV/0!"},{"$f":"K878/TotalEmis2045","v":{"$error":"#DIV/0!"}},null,null,null,{"$f":"+'Methane avoidance'!$H$80*I878/1000","v":0}]
[null,null,"Biogas from industrial waste water ",{"$f":"+'Methane avoidance'!$E$106","v":28.620352250489237},"1 plant",{"$f":"+'Methane avoidance'!$E$104","v":15624},{"$f":"+'Methane avoidance'!$E$94*I879/1000000","v":0},{"$f":"+'Methane avoidance'!$E$99*I879/1000000","v":0},null,0,{"$error":"#DIV/0!"},{"$f":"K879/TotalEmis2045","v":{"$error":"#DIV/0!"}}]
[{"$f":"ROW(B880)","v":880},"N2O","Nitric acid plant (N2O destruction)",{"$f":"+N2O!$E$21","v":1.1954749909658409},"100 ton HNO3/day",{"$f":"+N2O!$E$19","v":59002.25},{"$f":"+N2O!$E$10*I880/1000000","v":0},{"$f":"N2O!$E$14*I880/1000000","v":0},null,0,{"$error":"#DIV/0!"},{"$f":"K880/TotalEmis2045","v":{"$error":"#DIV/0!"}}]
[{"$f":"ROW(B881)","v":881},"Solar","PV pump replacing electric pump",{"$f":"Solar!$E$361","v":0},"1 pump",{"$f":"+Solar!$E$359","v":0},{"$f":"Solar!$E$349*I881/1000000","v":0},{"$f":"+Solar!$E$354*I881/1000000","v":0},null,{"$f":"F881*I881/1000","v":0},{"$f":"OFFSET(K881,-1,0)+J881","v":{"$error":"#DIV/0!"}},{"$f":"K881/TotalEmis2045","v":{"$error":"#DIV/0!"}},null,null,{"$f":"(+Solar!$H$369*I881)/1000000","v":0}]
[null,null,"PV pump replacing diesel pump",{"$f":"Solar!$E$389","v":-139.91618112414818},"1 pump",{"$f":"+Solar!$E$387","v":12.699954539999998},{"$f":"Solar!$E$377*I882/1000000","v":0},{"$f":"+Solar!$E$382*I882/1000000","v":0},null,{"$f":"F882*I882/1000","v":0},{"$f":"OFFSET(K882,-1,0)+J882","v":{"$error":"#DIV/0!"}},{"$f":"K882/TotalEmis2045","v":{"$error":"#DIV/0!"}},{"$f":"J882/3.1","v":0}]
[null,null,"Solar water heater, residential",{"$f":"Solar!$E$33","v":0},"1000 units",{"$f":"Solar!$E$31","v":0},{"$f":"+Solar!$E$21*I883/1000000","v":0},{"$f":"+Solar!$E$26*I883/1000000","v":0},null,{"$f":"F883*I883/1000","v":0},{"$f":"OFFSET(K883,-1,0)+J883","v":{"$error":"#DIV/0!"}},{"$f":"+K883/TotalEmis2045","v":{"$error":"#DIV/0!"}},null,null,{"$f":"+Solar!$H$39*I883/1000000","v":0}]
[null,null,"Solar water heater, large",{"$f":"+Solar!$E$60","v":0},"1 unit",{"$f":"+Solar!$E$58","v":0},{"$f":"+Solar!$E$48*I884/1000000","v":0},{"$f":"+Solar!$E$53*I884/1000000","v":0},null,{"$f":"(F884*I884)/1000","v":0},{"$f":"OFFSET(K884,-1,0,1,1)+J884","v":{"$error":"#DIV/0!"}},{"$error":"#DIV/0!"},null,null,{"$f":"+Solar!$H$68*I884/1000000","v":0}]
[null,null,"Solar PVs, large grid",{"$f":"Solar!$W$90","v":0},"1 MW",{"$f":"Solar!$W$88","v":0},{"$f":"+Solar!$W$78*I885/1000000","v":0},{"$f":"+Solar!$W$83*I885/1000000","v":0},null,0,{"$error":"#DIV/0!"},{"$error":"#DIV/0!"},null,null,null,{"$f":"+Solar!$Z$88*I885/1000","v":0}]
[null,null,"Solar PVs, large grid with 24h storage",{"$f":"Solar!$W$114","v":0},"1 MW",{"$f":"Solar!$W$112","v":0},{"$f":"+Solar!$W$102*I886/1000000","v":0},{"$f":"+Solar!$W$107*I886/1000000","v":0},null,0,{"$error":"#DIV/0!"},{"$error":"#DIV/0!"},null,null,null,{"$f":"+Solar!$Z$112*I886/1000","v":0}]
[null,null,"Solar house PVs",{"$f":"+Solar!$E$139","v":0},"500 W",{"$f":"+Solar!$E$137","v":0},{"$f":"+Solar!$E$127*I887/1000000","v":0},{"$f":"+Solar!$E$132*I887/1000000","v":0},null,0,{"$error":"#DIV/0!"},{"$error":"#DIV/0!"},null,null,null,{"$f":"+Solar!$H138*I887/1000","v":0}]
[null,null,"Solar cottage PVs",{"$f":"+Solar!$E$166","v":0},"50 W",{"$f":"+Solar!$E$164","v":0},{"$f":"+Solar!$E$154*I888/1000000","v":0},{"$f":"+Solar!$E$159*I888/1000000","v":0},null,0,{"$error":"#DIV/0!"},{"$error":"#DIV/0!"},null,null,null,{"$f":"+Solar!$H$169*I888/1000","v":0}]
[null,null,"Solar/diesel mini-grid",{"$f":"+Solar!$E$191","v":49.644079804749254},"40 kW from solar",{"$f":"+Solar!$E$189","v":58.400000000000006},{"$f":"+Solar!$E$179*I889/1000000","v":0},{"$f":"Solar!$E$184*I889/1000000","v":0},null,{"$f":"(F889*I889)/1000","v":0},{"$error":"#DIV/0!"},{"$error":"#DIV/0!"},null,null,null,{"$f":"+Solar!$H$196*I889/1000","v":0}]
[null,null,"Solar LED lamps",{"$f":"+Solar!$E$303","v":-130.33365170942039},"1000 lamps",{"$f":"+Solar!$E$301","v":93.908173333333366},{"$f":"Solar!$E$291*I890/1000000","v":0},{"$f":"Solar!$E$296*I890/1000000","v":0},null,0,{"$error":"#DIV/0!"},{"$error":"#DIV/0!"}]
[null,null,"Solar PVs, small isolated grid, 100% solar",{"$f":"+Solar!$E$219","v":249.72792998477931},"2 MW",{"$f":"+Solar!$E$217","v":2628},{"$f":"+Solar!$E$207*I891/1000000","v":0},{"$f":"+Solar!$E$212*I891/1000000","v":0},null,0,{"$error":"#DIV/0!"},{"$error":"#DIV/0!"},null,null,null,{"$f":"+Solar!$H$222*I891/1000","v":0}]
[null,null,"Solar street lights",{"$f":"+Solar!$E$330","v":0},"1000 locations  (0.05 MW)",{"$f":"+Solar!$E$328","v":0},{"$f":"+Solar!$E$318*I892/1000000","v":0},{"$f":"+Solar!$E$323*I892/1000000","v":0},null,0,{"$error":"#DIV/0!"},{"$error":"#DIV/0!"},null,null,null,{"$f":"+Solar!$H$341*I892/1000","v":0}]
[null,null,"Parabolic through CSP, no storage",{"$f":"Solar!$W$248","v":0},"1 MW",{"$f":"Solar!$W$246","v":0},{"$f":"Solar!$W$236*I893/1000000","v":0},{"$f":"Solar!$W$241*I893/1000000","v":0},null,0,{"$error":"#DIV/0!"},{"$error":"#DIV/0!"},null,null,null,{"$f":"+Solar!$Z$244*I893/1000","v":0}]
[null,null,"Solar tower CSP, with storage",{"$f":"+Solar!$W$275","v":0},"1 MW",{"$f":"+Solar!$W$273","v":0},{"$f":"+Solar!$W$263*I894/1000000","v":0},{"$f":"+Solar!$W$268*I894/1000000","v":0},null,0,{"$error":"#DIV/0!"},{"$error":"#DIV/0!"},null,null,null,{"$f":"+Solar!$Z$271*I894/1000","v":0}]
[{"$f":"ROW(B895)","v":895},"Transport","20% Biodiesel blend in all  diesel",{"$f":"+Transport!$W$39","v":0},"20% blend in transport",{"$f":"+Transport!$W$37","v":0},{"$f":"+Transport!$W$27*I895/1000000","v":0},{"$f":"+Transport!$W$32*I895/1000000","v":0},null,0,{"$error":"#DIV/0!"},{"$error":"#DIV/0!"}]
[null,null,"15% Bioethanol blend in all gasoline",{"$f":"+Transport!$W$68","v":0},"15% blend in transport",{"$f":"+Transport!$W$66","v":0},{"$f":"+Transport!$W$55*I896/1000000","v":0},{"$f":"+Transport!$W$60*I896/1000000","v":0},null,0,{"$error":"#DIV/0!"},{"$error":"#DIV/0!"}]
[null,null,"Bus Rapid Transit (BRT)",{"$f":"Transport!$E$480","v":20.512423721756154},"1 km BRT line",{"$f":"+Transport!$E$478","v":1983.4616326530609},{"$f":"Transport!$E$467*I897/1000000","v":0},{"$f":"Transport!$E$473*I897/1000000","v":0},null,0,{"$error":"#DIV/0!"},{"$error":"#DIV/0!"},{"$f":"J897/3.1","v":0}]
[null,null,"More efficient gasoline cars",{"$f":"+Transport!$E$99","v":-210.54575187549142},"1000 cars",{"$f":"+Transport!$E$97","v":408.90380487804828},{"$f":"+Transport!$E$86*I898/1000000","v":0},{"$f":"+Transport!$E$92*I898/1000000","v":0},null,0,{"$error":"#DIV/0!"},{"$error":"#DIV/0!"},null,{"$f":"J898/2.9","v":0}]
[null,null,"More efficient diesel cars",{"$f":"+Transport!$E$125","v":-158.52638703809453},"1000 cars",{"$f":"+Transport!$E$123","v":179.7212853333333},{"$f":"+Transport!$E$112*I899/1000000","v":0},{"$f":"+Transport!$E$118*I899/1000000","v":0},null,0,{"$error":"#DIV/0!"},{"$error":"#DIV/0!"},{"$f":"J899/3.1","v":0}]
[null,null,"Natural Gas cars",{"$f":"+Transport!$E$396","v":-193.28908089616741},"1000 cars using natural gas",{"$f":"+Transport!$E$394","v":778.08450104036592},{"$f":"+Transport!$E$384*I900/1000000","v":0},{"$f":"+Transport!$E$389*I900/1000000","v":0},null,0,{"$f":"OFFSET(K900,-1,0,1,1)+J900","v":{"$error":"#DIV/0!"}},{"$error":"#DIV/0!"},{"$f":"J900/3.1","v":0}]
[null,null,"Electric cars",{"$f":"+Transport!$W$149","v":816.59069192761956},"1000 cars",{"$f":"+Transport!$W$147","v":1397.0879999999997},{"$f":"+Transport!$W$137*I901/1000000","v":0},{"$f":"+Transport!$W$142*I901/1000000","v":0},null,0,{"$f":"OFFSET(K901,-1,0,1,1)+J901","v":{"$error":"#DIV/0!"}},{"$error":"#DIV/0!"},null,{"$f":"J901/2.9","v":0}]
[null,null,"Electric 18m buses",{"$f":"+Transport!$W$179","v":-95.063923288175445},"1000 buses",{"$f":"+Transport!$W$177","v":67395.481999999989},{"$f":"+Transport!$W$167*I902/1000000","v":0},{"$f":"+Transport!$W$172*I902/1000000","v":0},null,0,{"$error":"#DIV/0!"},{"$error":"#DIV/0!"},{"$f":"J902/3.1","v":0}]
[null,null,"Electric 12m buses",{"$f":"+Transport!$W$210","v":16.012389908407535},"1000 buses",{"$f":"+Transport!$W$208","v":25674.469333333331},{"$f":"+Transport!$W$198*I903/1000000","v":0},{"$f":"+Transport!$W$203*I903/1000000","v":0},null,0,{"$error":"#DIV/0!"},{"$error":"#DIV/0!"},0]
[null,null,"Electric heavy trucks",{"$f":"+Transport!$W$241","v":777.03978835231715},"1000 trucks",{"$f":"+Transport!$W$239","v":25273.30575},{"$f":"+Transport!$W$229*I904/1000000","v":0},{"$f":"+Transport!$W$234*I904/1000000","v":0},null,0,{"$error":"#DIV/0!"},{"$error":"#DIV/0!"},0]
[null,null,"Electric light trucks",{"$f":"+Transport!$W$273","v":-452.78232593520568},"1000 trucks",{"$f":"+Transport!$W$271","v":7702.3407999999981},{"$f":"+Transport!$W$261*I905/1000000","v":0},{"$f":"+Transport!$W$266*I905/1000000","v":0},null,0,{"$error":"#DIV/0!"},{"$error":"#DIV/0!"},0]
[null,null,"Electric rail ",{"$f":"+Transport!$E$305","v":529.90789219490932},"1 Million trainkm/year",{"$f":"+Transport!$E$303","v":6461.8788141599998},{"$f":"Transport!$E$293*I906/1000000","v":0},{"$f":"Transport!$E$298*I906/1000000","v":0},null,0,{"$error":"#DIV/0!"},{"$error":"#DIV/0!"},0]
[null,null,"Shifting passengers from car to rail",{"$f":"+Transport!$E$336","v":653.94483871636305},"1 Million personkm/day",{"$f":"+Transport!$E$334","v":35457.80333333333},{"$f":"+Transport!$E$324*I907/1000","v":0},{"$f":"+Transport!$E$329*I907/1000","v":0},null,0,{"$error":"#DIV/0!"},{"$error":"#DIV/0!"},0]
[null,null,"Shifting freight transport from road to rail",{"$f":"+Transport!$E$365","v":-1534.825994878948},"1000 tonkm/day",{"$f":"+Transport!$E$363","v":241.3646113413127},{"$f":"+Transport!$E$353*I908/1000","v":0},{"$f":"+Transport!$E$358*I908/1000","v":0},null,0,{"$error":"#DIV/0!"},{"$error":"#DIV/0!"},0]
[null,null,"Restriction on import of used cars",{"$f":"+Transport!$E$425","v":-210.54575187549128},"1000 cars",{"$f":"+Transport!$E$423","v":931.3919999999996},{"$f":"+Transport!$E$412*I909/1000000","v":0},{"$f":"+Transport!$E$418*I909/1000000","v":0},null,0,{"$error":"#DIV/0!"},{"$error":"#DIV/0!"},0]
[null,null,"New bicycle lanes",{"$f":"+Transport!$E$510","v":-148.09367209802946},"1 km bicycle lane",{"$f":"+Transport!$E$508","v":686.58271182439023},{"$f":"+Transport!$E$498*I910/1000000","v":0},{"$f":"+Transport!$E$503*I910/1000000","v":0},null,0,{"$error":"#DIV/0!"},{"$error":"#DIV/0!"},0]
[null,null,"Electric three-wheelers",{"$f":"+Transport!$E$536","v":-126.40003242852107},"1000 three-wheelers",{"$f":"+Transport!$E$534","v":500.22403199999997},{"$f":"Transport!$E$524*I911/1000000","v":0},{"$f":"Transport!$E$529*I911/1000000","v":0},null,0,{"$f":"OFFSET(K911,-1,0,1,1)+J911","v":{"$error":"#DIV/0!"}},{"$error":"#DIV/0!"},null,{"$f":"J911/2.9","v":0}]
[null,null,"Electric two-wheelers",{"$f":"+Transport!$E$565","v":495.52287085979833},"1000 two-wheelers",{"$f":"+Transport!$E$563","v":232.84799999999998},{"$f":"Transport!$E$553*I912/1000000","v":0},{"$f":"Transport!$E$558*I912/1000000","v":0},null,0,{"$f":"OFFSET(K912,-1,0,1,1)+J912","v":{"$error":"#DIV/0!"}},{"$error":"#DIV/0!"},null,{"$f":"J912/2.9","v":0}]
[null,null,"Better maintenance and use of motor bikes",{"$f":"+Transport!$E$452","v":-189.07251611654121},"1000 bikes",{"$f":"+Transport!$E$450","v":116.42400000000004},{"$f":"+Transport!$E$440*I913/1000000","v":0},{"$f":"+Transport!$E$445*I913/1000000","v":0},null,0,{"$error":"#DIV/0!"},{"$error":"#DIV/0!"},null,{"$f":"J913/2.9","v":0}]
[{"$f":"ROW(B914)","v":914},"Wind","Wind turbines, on-shore",{"$f":"Wind!$W$23","v":0},"1 MW",{"$f":"Wind!$W$21","v":0},{"$f":"+Wind!$W$11*I914/1000000","v":0},{"$f":"+Wind!$W$16*I914/1000000","v":0},null,0,{"$error":"#DIV/0!"},{"$error":"#DIV/0!"},{"$f":"J914/3.1","v":0},null,null,{"$f":"+Wind!$Z$19*I914/1000","v":0}]
[null,null,"Wind turbines, on-shore with 24 storage",{"$f":"Wind!$W$47","v":0},"1 MW",{"$f":"Wind!$W$45","v":0},{"$f":"+Wind!$W$35*I915/1000000","v":0},{"$f":"+Wind!$W$40*I915/1000000","v":0},null,0,{"$error":"#DIV/0!"},{"$error":"#DIV/0!"},{"$f":"J915/3.1","v":0},null,null,{"$f":"+Wind!$Z$43*I915/1000","v":0}]
[null,null,"Wind turbines, off-shore",{"$f":"Wind!$W$72","v":0},"1 MW",{"$f":"Wind!$W$70","v":0},{"$f":"+Wind!$W$60*I916/1000000","v":0},{"$f":"+Wind!$W$65*I916/1000000","v":0},null,0,{"$error":"#DIV/0!"},{"$error":"#DIV/0!"},{"$f":"J916/3.1","v":0},null,null,{"$f":"+Wind!$Z$68*I916/1000","v":0}]
[{"$f":"ROW(B917)","v":917},"# GHG reduction options:",{"$f":"COUNTA(C798:C916)","v":119},null,null,"Totals:",{"$f":"SUM(G798:G916)","v":0},{"$f":"SUM(H798:H916)","v":0},null,null,null,null,{"$f":"SUM(M798:M916)","v":0},{"$f":"SUM(N798:N916)","v":0},{"$f":"SUM(O798:O916)","v":{"$error":"#DIV/0!"}},{"$f":"SUM(P798:P916)","v":0}]
[]
[null,null,null,null,null,"GHG emissions: ktCO2e in 2045",null,null,"BAU",null,null,"Reduction",null,null,"New total"]
[null,null,null,null,null,null,null,null,"CO2","CH4","N2O","CO2","CH4","N2O","GHG"]
[null,null,null,null,null,"1. Energy",null,null,{"$f":"I922+I929","v":0},{"$f":"J922+J929","v":0},0,{"$error":"#DIV/0!"},0,0,{"$f":"O922+O929","v":{"$error":"#DIV/0!"}}]
[null,null,null,null,null,"1.A. Fuel combustion",null,null,{"$f":"I923+I924+I925+I926+I927+I928","v":0},{"$f":"SUM(J923:J928)","v":0},{"$f":"SUM(K923:K928)","v":0},{"$f":"L923+L924+L925+L926+L927+L928","v":{"$error":"#DIV/0!"}},0,0,{"$f":"I922+J922+K922-L922-M922-N922","v":{"$error":"#DIV/0!"}}]
[null,null,null,null,null,"       1.A.1.  Energy industries",null,null,{"$f":"+'BAU projected GHG Balances'!$P$294","v":0},{"$f":"'BAU projected GHG Balances'!$E$320","v":0},{"$f":"'BAU projected GHG Balances'!$F$320","v":0},{"$f":"SUM(J$805:J$807)+J$808+SUM(J$841:J$847)+J$861+SUM(J$864:J$866)+J$874+J$875+SUM(J$885:J$889)+J$891+J$893+J$894+SUM(J$914:J$916)+J$881+J$882","v":0},null,null,{"$f":"SUM(I923:K923)-SUM(L923:N923)","v":0}]
[null,null,null,null,null,"1.A.2.  Manufacturing industries and construction",null,null,{"$f":"SUM('BAU projected GHG Balances'!$P$296:$P$307)","v":0},null,null,{"$f":"SUM(J$824:J$826)+J$822+J$823+J$855+J$856","v":{"$error":"#DIV/0!"}},null,null,{"$error":"#DIV/0!"}]
[null,null,null,null,null,"1.A.3.  Transport",null,null,{"$f":"SUM('BAU projected GHG Balances'!$P$308:$P$311)","v":0},null,null,{"$f":"SUM(J$895:J$913)","v":0},null,null,0]
[null,null,null,null,null,"1.A.4.b.  Residential ",null,null,{"$f":"+'BAU projected GHG Balances'!$P$312","v":0},null,null,{"$f":"SUM(J$811:J$821)+J$848+J$849+J$862+J$883+J$884+J$890","v":{"$error":"#DIV/0!"}},null,null,{"$error":"#DIV/0!"}]
[null,null,null,null,null,"1.A.4.a.  Commercial/institutional",null,null,{"$f":"+'BAU projected GHG Balances'!$P$313","v":0},null,null,{"$f":"SUM(J$827:J$840)+J$892","v":{"$error":"#DIV/0!"}},null,null,{"$error":"#DIV/0!"}]
[null,null,null,null,null,"1.A.4.c.  Agriculture/forestry/fishing",null,null,{"$f":"+'BAU projected GHG Balances'!$P$314","v":0},null,null,{"$f":"J$876+J$877","v":0},null,null,0]
[null,null,null,null,null,"1.B. Fugitive emissions from fuels",null,null,{"$f":"'BAU projected GHG Balances'!$D$321","v":0},{"$f":"'BAU projected GHG Balances'!$E$321","v":0},{"$f":"'BAU projected GHG Balances'!$F$321","v":0},{"$f":"SUM(J$857:J$858)+J$860","v":0},{"$f":"J$810+J$859","v":0},null,0]
[null,null,null,null,null,"2.  Industrial processes and product use",null,null,{"$f":"'BAU projected GHG Balances'!D$322+'BAU projected GHG Balances'!$P$315","v":0},{"$f":"'BAU projected GHG Balances'!E$322","v":0},{"$f":"'BAU projected GHG Balances'!F$322","v":0},{"$f":"J$809+J$863","v":0},null,{"$f":"J$880","v":0},0]
[null,null,null,null,null,"3.  Agriculture",null,null,{"$f":"'BAU projected GHG Balances'!D$328","v":0},{"$f":"'BAU projected GHG Balances'!E$328","v":0},{"$f":"'BAU projected GHG Balances'!F$328","v":0},{"$f":"SUM(J$799:J$800)+J$804","v":0},{"$f":"J$798+J$803+J$878","v":0},{"$f":"J$801+J$802","v":0},0]
[null,null,null,null,null,"4. Land use, land-use change and forestry",null,null,{"$f":"'BAU projected GHG Balances'!D$333","v":0},{"$f":"'BAU projected GHG Balances'!E$333","v":0},{"$f":"'BAU projected GHG Balances'!F$333","v":0},{"$f":"SUM(J$850:J$854)","v":0},null,null,0]
[null,null,null,null,null,"5. Waste",null,null,{"$f":"'BAU projected GHG Balances'!D$339","v":0},{"$f":"'BAU projected GHG Balances'!E$339","v":0},{"$f":"'BAU projected GHG Balances'!F$339","v":0},null,{"$f":"J$879+SUM(J$867:J$873)","v":0},null,0]
[null,null,null,null,null,"Total (including LULUCF)",null,null,{"$f":"I921+I930+I931+I932+I933","v":0},{"$f":"J921+J930+J931+J932+J933","v":0},{"$f":"K921+K930+K931+K932+K933","v":0},{"$f":"L921+L930+L931+L932+L933","v":{"$error":"#DIV/0!"}},{"$f":"M921+M930+M931+M932+M933","v":0},{"$f":"N921+N930+N931+N932+N933","v":0},{"$f":"O921+O930+O931+O932+O933","v":{"$error":"#DIV/0!"}}]
[null,null,null,null,null,"Total (excluding LULUCF)",null,null,{"$f":"I934-I932","v":0},0,0,{"$error":"#DIV/0!"},0,0,{"$error":"#DIV/0!"}]

{"sheet":"Report_print.1","index":11,"n_rows":102,"n_cols":8,"rows_kept":102,"cut":false,"hidden":true,"merged":[[0,0,1,9],[2,0,2,9],[79,3,82,3],[100,3,100,9],[101,0,102,9],[26,2,28,7],[51,3,51,9],[52,0,53,9],[64,1,64,5],[75,3,78,3]]}
["Greenhouse gas Abatement Cost MOdel"]
[]
[{"$f":"Assumptions!C9","v":0}]
[]
[]
[]
[]
[]
[]
[]
[]
[]
[]
[]
[]
[]
[]
[]
[]
[]
[]
[]
[]
[]
[]
[]
[]
[]
[]
[]
[]
[]
[]
[]
[]
[]
[]
[]
[]
[]
[]
[]
[]
[]
[]
[]
[]
[]
[]
[]
["Date:",{"$f":"TODAY()","v":"2025-04-14"}]
[{"$f":"Introduction!B2","v":"GACMO version 2.2"},null,null,"UNEP Copenhagen Climate Centre"]
["Assumptions and background information"]
[]
[]
[null,"Model start year and financial"]
[null,"Basic start year:",null,{"$f":"Assumptions!C10","v":0}]
[null,"Currency",null,{"$f":"Currency","v":0}]
[null,{"$f":"\"USD/\"&D58&\":\"","v":"USD/0:"},null,{"$f":"Assumptions!C12","v":0}]
[null,"Discount rate",null,{"$f":"DiscountRate","v":0}]
[]
[]
[]
[null,"Fossil Fuels and Electricity prices"]
[null,"Sector specific Emission factors (kg GHG/GJ)"]
[null,"Sector","Emission factors","CO2","CH4","N2O"]
[null,"Power plant","Fuel oil",{"$f":"Assumptions!D45","v":77.366666666666674},{"$f":"Assumptions!E45","v":3.0000000000000001E-3},{"$f":"Assumptions!F45","v":5.9999999999999995E-4}]
[null,null,"Diesel oil",{"$f":"Assumptions!D46","v":74.066666666666663},{"$f":"Assumptions!E46","v":3.0000000000000001E-3},{"$f":"Assumptions!F46","v":5.9999999999999995E-4}]
[null,null,"Gasoline",{"$f":"Assumptions!D47","v":69.3},{"$f":"Assumptions!E47","v":3.0000000000000001E-3},{"$f":"Assumptions!F47","v":5.9999999999999995E-4}]
[null,null,"Jet fuel",{"$f":"Assumptions!D48","v":71.5},{"$f":"Assumptions!E48","v":3.0000000000000001E-3},{"$f":"Assumptions!F48","v":5.9999999999999995E-4}]
[null,null,"Kerosene",{"$f":"Assumptions!D49","v":71.866666666666674},{"$f":"Assumptions!E49","v":3.0000000000000001E-3},{"$f":"Assumptions!F49","v":5.9999999999999995E-4}]
[null,null,"LPG",{"$f":"Assumptions!D50","v":63.066666666666663},{"$f":"Assumptions!E50","v":1E-3},{"$f":"Assumptions!F50","v":1E-4}]
[null,null,"Natural gas ",{"$f":"Assumptions!D51","v":56.1},{"$f":"Assumptions!E51","v":1E-3},{"$f":"Assumptions!F51","v":1E-4}]
[null,null,"Coal ",{"$f":"Assumptions!D52","v":94.600000000000009},{"$f":"Assumptions!E52","v":1E-3},{"$f":"Assumptions!F52","v":1.4E-3}]
[null,null,"Lignite",{"$f":"Assumptions!D53","v":101.2},{"$f":"Assumptions!E53","v":1E-3},{"$f":"Assumptions!F53","v":1.4E-3}]
[null,"Industry","Oil","as above",{"$f":"Assumptions!E54","v":2E-3},{"$f":"Assumptions!F54","v":5.9999999999999995E-4}]
[null,null,"Natural gas ",null,{"$f":"Assumptions!E55","v":5.0000000000000001E-3},{"$f":"Assumptions!F55","v":1E-4}]
[null,null,"Coal ",null,{"$f":"Assumptions!E56","v":0.01},{"$f":"Assumptions!F56","v":1.4E-3}]
[null,null,"Charcoal",null,{"$f":"Assumptions!E57","v":0.2},{"$f":"Assumptions!F57","v":4.0000000000000001E-3}]
[null,"Residential","Oil","as above",{"$f":"Assumptions!E58","v":0.01},{"$f":"Assumptions!F58","v":5.9999999999999995E-4}]
[null,null,"Natural gas ",null,{"$f":"Assumptions!E59","v":5.0000000000000001E-3},{"$f":"Assumptions!F59","v":1E-4}]
[null,null,"Coal ",null,{"$f":"Assumptions!E60","v":0.3},{"$f":"Assumptions!F60","v":1.4E-3}]
[null,null,"Charcoal",null,{"$f":"Assumptions!E61","v":0.2},{"$f":"Assumptions!F61","v":4.0000000000000001E-3}]
[]
[null,"Global warming potentials:","SAR","AR4","AR5","GWP used","Unit","TAR"]
[null,"1 Ton CH4  =",{"$f":"Assumptions!C64","v":21},{"$f":"Assumptions!D64","v":25},{"$f":"Assumptions!E64","v":28},{"$f":"Assumptions!F64","v":28},"Ton CO2",{"$f":"Assumptions!H64","v":23}]
[null,"1 Ton N2O  =",{"$f":"Assumptions!C65","v":310},{"$f":"Assumptions!D65","v":298},{"$f":"Assumptions!E65","v":265},{"$f":"Assumptions!F65","v":265},"Ton CO2",{"$f":"Assumptions!H65","v":296}]
[]
[]
[]
[]
[]
[]
[]
[]
[]
[]
[]
[]
["Date:",{"$f":"TODAY()","v":"2025-04-14"}]
[{"$f":"$A$52","v":"GACMO version 2.2"},null,null,"UNEP Copenhagen Climate Centre"]
[{"$f":"\"Start year information - \"&$D$57","v":"Start year information - 0"}]

{"sheet":"Report_print.2","index":12,"n_rows":702,"n_cols":19,"rows_kept":702,"cut":false,"hidden":true,"merged":[[150,0,150,18],[153,2,153,16],[181,2,181,9],[182,2,182,3],[366,0,366,18],[204,0,204,18],[207,2,207,16],[235,2,235,9],[236,2,236,3],[258,0,258,18],[261,2,261,16],[289,2,289,9],[290,2,290,3],[312,0,312,18],[315,2,315,16],[343,2,343,9],[0,0,1,18],[54,0,55,18],[99,2,99,16],[127,2,127,9],[128,2,128,3],[96,0,96,18],[58,2,58,16],[3,2,3,3],[29,2,29,9],[30,2,30,3],[344,2,344,3],[473,0,473,18],[660,2,660,16],[369,2,369,16],[397,2,397,9],[398,2,398,3],[426,2,426,16],[420,0,420,18],[519,0,519,18],[522,2,522,16],[657,0,657,18],[568,2,568,16],[611,0,611,18],[614,2,614,16],[476,2,476,16],[565,0,565,18]]}
[{"$f":"\"Start year information - \"&'Report_print.1'!D57","v":"Start year information - 0"}]
[]
[]
[null,null,"Fossil fuel energy balance balance in ktoe (1 ktoe = 41.868 TJ)",null,"LPG","Gasoline","Jet Fuel","Diesel","HFO","Kerosene and other","Total oil products","Coal","Lignite","Natural Gas","Coke","Petrocoke","Total"]
[null,null,"Total consumption",null,{"$f":"'Energy Balance'!D75","v":0},{"$f":"'Energy Balance'!E75","v":0},{"$f":"'Energy Balance'!F75","v":0},{"$f":"'Energy Balance'!G75","v":0},{"$f":"'Energy Balance'!H75","v":0},{"$f":"'Energy Balance'!I75","v":0},{"$f":"'Energy Balance'!J75","v":0},{"$f":"'Energy Balance'!K75","v":0},{"$f":"'Energy Balance'!L75","v":0},{"$f":"'Energy Balance'!M75","v":0},{"$f":"'Energy Balance'!N75","v":0},{"$f":"'Energy Balance'!O75","v":0},{"$f":"'Energy Balance'!P75","v":0}]
[null,null,"Fossil power plants",null,{"$f":"'Energy Balance'!D76","v":0},{"$f":"'Energy Balance'!E76","v":0},{"$f":"'Energy Balance'!F76","v":0},{"$f":"'Energy Balance'!G76","v":0},{"$f":"'Energy Balance'!H76","v":0},{"$f":"'Energy Balance'!I76","v":0},{"$f":"'Energy Balance'!J76","v":0},{"$f":"'Energy Balance'!K76","v":0},{"$f":"'Energy Balance'!L76","v":0},{"$f":"'Energy Balance'!M76","v":0},{"$f":"'Energy Balance'!N76","v":0},{"$f":"'Energy Balance'!O76","v":0},{"$f":"'Energy Balance'!P76","v":0}]
[null,null,"FINAL CONSUMPTION",null,{"$f":"'Energy Balance'!D77","v":0},{"$f":"'Energy Balance'!E77","v":0},{"$f":"'Energy Balance'!F77","v":0},{"$f":"'Energy Balance'!G77","v":0},{"$f":"'Energy Balance'!H77","v":0},{"$f":"'Energy Balance'!I77","v":0},{"$f":"'Energy Balance'!J77","v":0},{"$f":"'Energy Balance'!K77","v":0},{"$f":"'Energy Balance'!L77","v":0},{"$f":"'Energy Balance'!M77","v":0},{"$f":"'Energy Balance'!N77","v":0},{"$f":"'Energy Balance'!O77","v":0},{"$f":"'Energy Balance'!P77","v":0}]
[null,null,"    Industry - steel",null,{"$f":"'Energy Balance'!D78","v":0},{"$f":"'Energy Balance'!E78","v":0},{"$f":"'Energy Balance'!F78","v":0},{"$f":"'Energy Balance'!G78","v":0},{"$f":"'Energy Balance'!H78","v":0},{"$f":"'Energy Balance'!I78","v":0},{"$f":"'Energy Balance'!J78","v":0},{"$f":"'Energy Balance'!K78","v":0},{"$f":"'Energy Balance'!L78","v":0},{"$f":"'Energy Balance'!M78","v":0},{"$f":"'Energy Balance'!N78","v":0},{"$f":"'Energy Balance'!O78","v":0},{"$f":"'Energy Balance'!P78","v":0}]
[null,null,"    Industry - chemical",null,{"$f":"'Energy Balance'!D79","v":0},{"$f":"'Energy Balance'!E79","v":0},{"$f":"'Energy Balance'!F79","v":0},{"$f":"'Energy Balance'!G79","v":0},{"$f":"'Energy Balance'!H79","v":0},{"$f":"'Energy Balance'!I79","v":0},{"$f":"'Energy Balance'!J79","v":0},{"$f":"'Energy Balance'!K79","v":0},{"$f":"'Energy Balance'!L79","v":0},{"$f":"'Energy Balance'!M79","v":0},{"$f":"'Energy Balance'!N79","v":0},{"$f":"'Energy Balance'!O79","v":0},{"$f":"'Energy Balance'!P79","v":0}]
[null,null,"    Industry - non metallic mineral",null,{"$f":"'Energy Balance'!D80","v":0},{"$f":"'Energy Balance'!E80","v":0},{"$f":"'Energy Balance'!F80","v":0},{"$f":"'Energy Balance'!G80","v":0},{"$f":"'Energy Balance'!H80","v":0},{"$f":"'Energy Balance'!I80","v":0},{"$f":"'Energy Balance'!J80","v":0},{"$f":"'Energy Balance'!K80","v":0},{"$f":"'Energy Balance'!L80","v":0},{"$f":"'Energy Balance'!M80","v":0},{"$f":"'Energy Balance'!N80","v":0},{"$f":"'Energy Balance'!O80","v":0},{"$f":"'Energy Balance'!P80","v":0}]
[null,null,"    Industry - food processing and beverage",null,{"$f":"'Energy Balance'!D81","v":0},{"$f":"'Energy Balance'!E81","v":0},{"$f":"'Energy Balance'!F81","v":0},{"$f":"'Energy Balance'!G81","v":0},{"$f":"'Energy Balance'!H81","v":0},{"$f":"'Energy Balance'!I81","v":0},{"$f":"'Energy Balance'!J81","v":0},{"$f":"'Energy Balance'!K81","v":0},{"$f":"'Energy Balance'!L81","v":0},{"$f":"'Energy Balance'!M81","v":0},{"$f":"'Energy Balance'!N81","v":0},{"$f":"'Energy Balance'!O81","v":0},{"$f":"'Energy Balance'!P81","v":0}]
[null,null,"    Industry - construction",null,{"$f":"'Energy Balance'!D82","v":0},{"$f":"'Energy Balance'!E82","v":0},{"$f":"'Energy Balance'!F82","v":0},{"$f":"'Energy Balance'!G82","v":0},{"$f":"'Energy Balance'!H82","v":0},{"$f":"'Energy Balance'!I82","v":0},{"$f":"'Energy Balance'!J82","v":0},{"$f":"'Energy Balance'!K82","v":0},{"$f":"'Energy Balance'!L82","v":0},{"$f":"'Energy Balance'!M82","v":0},{"$f":"'Energy Balance'!N82","v":0},{"$f":"'Energy Balance'!O82","v":0},{"$f":"'Energy Balance'!P82","v":0}]
[null,null,"    Industry - mining",null,{"$f":"'Energy Balance'!D83","v":0},{"$f":"'Energy Balance'!E83","v":0},{"$f":"'Energy Balance'!F83","v":0},{"$f":"'Energy Balance'!G83","v":0},{"$f":"'Energy Balance'!H83","v":0},{"$f":"'Energy Balance'!I83","v":0},{"$f":"'Energy Balance'!J83","v":0},{"$f":"'Energy Balance'!K83","v":0},{"$f":"'Energy Balance'!L83","v":0},{"$f":"'Energy Balance'!M83","v":0},{"$f":"'Energy Balance'!N83","v":0},{"$f":"'Energy Balance'!O83","v":0},{"$f":"'Energy Balance'!P83","v":0}]
[null,null,"    Industry - machinery",null,{"$f":"'Energy Balance'!D84","v":0},{"$f":"'Energy Balance'!E84","v":0},{"$f":"'Energy Balance'!F84","v":0},{"$f":"'Energy Balance'!G84","v":0},{"$f":"'Energy Balance'!H84","v":0},{"$f":"'Energy Balance'!I84","v":0},{"$f":"'Energy Balance'!J84","v":0},{"$f":"'Energy Balance'!K84","v":0},{"$f":"'Energy Balance'!L84","v":0},{"$f":"'Energy Balance'!M84","v":0},{"$f":"'Energy Balance'!N84","v":0},{"$f":"'Energy Balance'!O84","v":0},{"$f":"'Energy Balance'!P84","v":0}]
[null,null,"    Industry - non ferrous metals",null,{"$f":"'Energy Balance'!D85","v":0},{"$f":"'Energy Balance'!E85","v":0},{"$f":"'Energy Balance'!F85","v":0},{"$f":"'Energy Balance'!G85","v":0},{"$f":"'Energy Balance'!H85","v":0},{"$f":"'Energy Balance'!I85","v":0},{"$f":"'Energy Balance'!J85","v":0},{"$f":"'Energy Balance'!K85","v":0},{"$f":"'Energy Balance'!L85","v":0},{"$f":"'Energy Balance'!M85","v":0},{"$f":"'Energy Balance'!N85","v":0},{"$f":"'Energy Balance'!O85","v":0},{"$f":"'Energy Balance'!P85","v":0}]
[null,null,"    Industry - paper and pulp",null,{"$f":"'Energy Balance'!D86","v":0},{"$f":"'Energy Balance'!E86","v":0},{"$f":"'Energy Balance'!F86","v":0},{"$f":"'Energy Balance'!G86","v":0},{"$f":"'Energy Balance'!H86","v":0},{"$f":"'Energy Balance'!I86","v":0},{"$f":"'Energy Balance'!J86","v":0},{"$f":"'Energy Balance'!K86","v":0},{"$f":"'Energy Balance'!L86","v":0},{"$f":"'Energy Balance'!M86","v":0},{"$f":"'Energy Balance'!N86","v":0},{"$f":"'Energy Balance'!O86","v":0},{"$f":"'Energy Balance'!P86","v":0}]
[null,null,"    Industry - transport equipment",null,{"$f":"'Energy Balance'!D87","v":0},{"$f":"'Energy Balance'!E87","v":0},{"$f":"'Energy Balance'!F87","v":0},{"$f":"'Energy Balance'!G87","v":0},{"$f":"'Energy Balance'!H87","v":0},{"$f":"'Energy Balance'!I87","v":0},{"$f":"'Energy Balance'!J87","v":0},{"$f":"'Energy Balance'!K87","v":0},{"$f":"'Energy Balance'!L87","v":0},{"$f":"'Energy Balance'!M87","v":0},{"$f":"'Energy Balance'!N87","v":0},{"$f":"'Energy Balance'!O87","v":0},{"$f":"'Energy Balance'!P87","v":0}]
[null,null,"    Industry - textile and leather",null,{"$f":"'Energy Balance'!D88","v":0},{"$f":"'Energy Balance'!E88","v":0},{"$f":"'Energy Balance'!F88","v":0},{"$f":"'Energy Balance'!G88","v":0},{"$f":"'Energy Balance'!H88","v":0},{"$f":"'Energy Balance'!I88","v":0},{"$f":"'Energy Balance'!J88","v":0},{"$f":"'Energy Balance'!K88","v":0},{"$f":"'Energy Balance'!L88","v":0},{"$f":"'Energy Balance'!M88","v":0},{"$f":"'Energy Balance'!N88","v":0},{"$f":"'Energy Balance'!O88","v":0},{"$f":"'Energy Balance'!P88","v":0}]
[null,null,"    Industry - miscellaneous",null,{"$f":"'Energy Balance'!D89","v":0},{"$f":"'Energy Balance'!E89","v":0},{"$f":"'Energy Balance'!F89","v":0},{"$f":"'Energy Balance'!G89","v":0},{"$f":"'Energy Balance'!H89","v":0},{"$f":"'Energy Balance'!I89","v":0},{"$f":"'Energy Balance'!J89","v":0},{"$f":"'Energy Balance'!K89","v":0},{"$f":"'Energy Balance'!L89","v":0},{"$f":"'Energy Balance'!M89","v":0},{"$f":"'Energy Balance'!N89","v":0},{"$f":"'Energy Balance'!O89","v":0},{"$f":"'Energy Balance'!P89","v":0}]
[null,null,"    Transport - road",null,{"$f":"'Energy Balance'!D90","v":0},{"$f":"'Energy Balance'!E90","v":0},{"$f":"'Energy Balance'!F90","v":0},{"$f":"'Energy Balance'!G90","v":0},{"$f":"'Energy Balance'!H90","v":0},{"$f":"'Energy Balance'!I90","v":0},{"$f":"'Energy Balance'!J90","v":0},{"$f":"'Energy Balance'!K90","v":0},{"$f":"'Energy Balance'!L90","v":0},{"$f":"'Energy Balance'!M90","v":0},{"$f":"'Energy Balance'!N90","v":0},{"$f":"'Energy Balance'!O90","v":0},{"$f":"'Energy Balance'!P90","v":0}]
[null,null,"    Transport - rail",null,{"$f":"'Energy Balance'!D91","v":0},{"$f":"'Energy Balance'!E91","v":0},{"$f":"'Energy Balance'!F91","v":0},{"$f":"'Energy Balance'!G91","v":0},{"$f":"'Energy Balance'!H91","v":0},{"$f":"'Energy Balance'!I91","v":0},{"$f":"'Energy Balance'!J91","v":0},{"$f":"'Energy Balance'!K91","v":0},{"$f":"'Energy Balance'!L91","v":0},{"$f":"'Energy Balance'!M91","v":0},{"$f":"'Energy Balance'!N91","v":0},{"$f":"'Energy Balance'!O91","v":0},{"$f":"'Energy Balance'!P91","v":0}]
[null,null,"    Transport - domestic air",null,{"$f":"'Energy Balance'!D92","v":0},{"$f":"'Energy Balance'!E92","v":0},{"$f":"'Energy Balance'!F92","v":0},{"$f":"'Energy Balance'!G92","v":0},{"$f":"'Energy Balance'!H92","v":0},{"$f":"'Energy Balance'!I92","v":0},{"$f":"'Energy Balance'!J92","v":0},{"$f":"'Energy Balance'!K92","v":0},{"$f":"'Energy Balance'!L92","v":0},{"$f":"'Energy Balance'!M92","v":0},{"$f":"'Energy Balance'!N92","v":0},{"$f":"'Energy Balance'!O92","v":0},{"$f":"'Energy Balance'!P92","v":0}]
[null,null,"    Transport - navigation",null,{"$f":"'Energy Balance'!D93","v":0},{"$f":"'Energy Balance'!E93","v":0},{"$f":"'Energy Balance'!F93","v":0},{"$f":"'Energy Balance'!G93","v":0},{"$f":"'Energy Balance'!H93","v":0},{"$f":"'Energy Balance'!I93","v":0},{"$f":"'Energy Balance'!J93","v":0},{"$f":"'Energy Balance'!K93","v":0},{"$f":"'Energy Balance'!L93","v":0},{"$f":"'Energy Balance'!M93","v":0},{"$f":"'Energy Balance'!N93","v":0},{"$f":"'Energy Balance'!O93","v":0},{"$f":"'Energy Balance'!P93","v":0}]
[null,null,"    Households",null,{"$f":"'Energy Balance'!D94","v":0},{"$f":"'Energy Balance'!E94","v":0},{"$f":"'Energy Balance'!F94","v":0},{"$f":"'Energy Balance'!G94","v":0},{"$f":"'Energy Balance'!H94","v":0},{"$f":"'Energy Balance'!I94","v":0},{"$f":"'Energy Balance'!J94","v":0},{"$f":"'Energy Balance'!K94","v":0},{"$f":"'Energy Balance'!L94","v":0},{"$f":"'Energy Balance'!M94","v":0},{"$f":"'Energy Balance'!N94","v":0},{"$f":"'Energy Balance'!O94","v":0},{"$f":"'Energy Balance'!P94","v":0}]
[null,null,"    Services",null,{"$f":"'Energy Balance'!D95","v":0},{"$f":"'Energy Balance'!E95","v":0},{"$f":"'Energy Balance'!F95","v":0},{"$f":"'Energy Balance'!G95","v":0},{"$f":"'Energy Balance'!H95","v":0},{"$f":"'Energy Balance'!I95","v":0},{"$f":"'Energy Balance'!J95","v":0},{"$f":"'Energy Balance'!K95","v":0},{"$f":"'Energy Balance'!L95","v":0},{"$f":"'Energy Balance'!M95","v":0},{"$f":"'Energy Balance'!N95","v":0},{"$f":"'Energy Balance'!O95","v":0},{"$f":"'Energy Balance'!P95","v":0}]
[null,null,"    Agriculture & Fishery",null,{"$f":"'Energy Balance'!D96","v":0},{"$f":"'Energy Balance'!E96","v":0},{"$f":"'Energy Balance'!F96","v":0},{"$f":"'Energy Balance'!G96","v":0},{"$f":"'Energy Balance'!H96","v":0},{"$f":"'Energy Balance'!I96","v":0},{"$f":"'Energy Balance'!J96","v":0},{"$f":"'Energy Balance'!K96","v":0},{"$f":"'Energy Balance'!L96","v":0},{"$f":"'Energy Balance'!M96","v":0},{"$f":"'Energy Balance'!N96","v":0},{"$f":"'Energy Balance'!O96","v":0},{"$f":"'Energy Balance'!P96","v":0}]
[null,null,"    Non energy - chemical feedstocs",null,{"$f":"'Energy Balance'!D97","v":0},{"$f":"'Energy Balance'!E97","v":0},{"$f":"'Energy Balance'!F97","v":0},{"$f":"'Energy Balance'!G97","v":0},{"$f":"'Energy Balance'!H97","v":0},{"$f":"'Energy Balance'!I97","v":0},{"$f":"'Energy Balance'!J97","v":0},{"$f":"'Energy Balance'!K97","v":0},{"$f":"'Energy Balance'!L97","v":0},{"$f":"'Energy Balance'!M97","v":0},{"$f":"'Energy Balance'!N97","v":0},{"$f":"'Energy Balance'!O97","v":0},{"$f":"'Energy Balance'!P97","v":0}]
[]
[]
[null,null,"Base year electricity balance in GWh"]
[null,null,"Electricity consumption",null,"GWh",null,"Electricity production","GWh","Share of production","Efficiency"]
[null,null,"Total consumption",null,{"$f":"'Energy Balance'!D102","v":0},null,"Total",{"$f":"'Energy Balance'!G102","v":0}]
[null,null,"    Industry - steel",null,{"$f":"'Energy Balance'!D103","v":0},null,"Losses",{"$f":"'Energy Balance'!G103","v":0},{"$f":"'Energy Balance'!H103","v":1}]
[null,null,"    Industry - chemical",null,{"$f":"'Energy Balance'!D104","v":0},null,"Fossil",{"$f":"'Energy Balance'!G104","v":0},{"$f":"'Energy Balance'!H104","v":4}]
[null,null,"    Industry - non metallic mineral",null,{"$f":"'Energy Balance'!D105","v":0},null,"Lignite",{"$f":"'Energy Balance'!G105","v":0},{"$f":"'Energy Balance'!H105","v":1},{"$f":"'Energy Balance'!I105","v":0}]
[null,null,"    Industry - food processing and beverage",null,{"$f":"'Energy Balance'!D106","v":0},null,"Coal",{"$f":"'Energy Balance'!G106","v":0},{"$f":"'Energy Balance'!H106","v":1},{"$f":"'Energy Balance'!I106","v":0}]
[null,null,"    Industry - construction",null,{"$f":"'Energy Balance'!D107","v":0},null,"Oil",{"$f":"'Energy Balance'!G107","v":0},{"$f":"'Energy Balance'!H107","v":1},{"$f":"'Energy Balance'!I107","v":0}]
[null,null,"    Industry - mining",null,{"$f":"'Energy Balance'!D108","v":0},null,"Natural Gas",{"$f":"'Energy Balance'!G108","v":0},{"$f":"'Energy Balance'!H108","v":1},{"$f":"'Energy Balance'!I108","v":0}]
[null,null,"    Industry - machinery",null,{"$f":"'Energy Balance'!D109","v":0},null,"Nuclear",{"$f":"'Energy Balance'!G109","v":0},{"$f":"'Energy Balance'!H109","v":1}]
[null,null,"    Industry - non ferrous metals",null,{"$f":"'Energy Balance'!D110","v":0},null,"Net import",{"$f":"'Energy Balance'!G110","v":0},{"$f":"'Energy Balance'!H110","v":1}]
[null,null,"    Industry - paper and pulp",null,{"$f":"'Energy Balance'!D111","v":0},null,"Renewables",{"$f":"'Energy Balance'!G111","v":0},{"$f":"'Energy Balance'!H111","v":5}]
[null,null,"    Industry - transport equipment",null,{"$f":"'Energy Balance'!D112","v":0},null,"Hydro",{"$f":"'Energy Balance'!G112","v":0},{"$f":"'Energy Balance'!H112","v":1}]
[null,null,"    Industry - textile and leather",null,{"$f":"'Energy Balance'!D113","v":0},null,"Wind",{"$f":"'Energy Balance'!G113","v":0},{"$f":"'Energy Balance'!H113","v":1}]
[null,null,"    Industry - miscellaneous",null,{"$f":"'Energy Balance'!D114","v":0},null,"Solar",{"$f":"'Energy Balance'!G114","v":0},{"$f":"'Energy Balance'!H114","v":1}]
[null,null,"    Transport - road",null,{"$f":"'Energy Balance'!D115","v":0},null,"Biomass",{"$f":"'Energy Balance'!G115","v":0},{"$f":"'Energy Balance'!H115","v":1}]
[null,null,"    Transport - rail",null,{"$f":"'Energy Balance'!D116","v":0},null,"Geothermal",{"$f":"'Energy Balance'!G116","v":0},{"$f":"'Energy Balance'!H116","v":1}]
[null,null,"    Transport - domestic air",null,{"$f":"'Energy Balance'!D117","v":0}]
[null,null,"    Transport - navigation",null,{"$f":"'Energy Balance'!D118","v":0}]
[null,null,"    Households",null,{"$f":"'Energy Balance'!D119","v":0}]
[null,null,"    Services",null,{"$f":"'Energy Balance'!D120","v":0}]
[null,null,"    Agriculture & Fishery",null,{"$f":"'Energy Balance'!D121","v":0}]
[null,null,"    Non energy - chemical feedstocs",null,{"$f":"'Energy Balance'!D122","v":0}]
[]
[]
[{"$f":"\"Start year information - \"&'Report_print.1'!$D$57","v":"Start year information - 0"}]
[]
[]
[]
[null,null,{"$f":"\"CO2 Balance - \"&Assumptions!D56&\" - Base year - \"&Assumptions!$C$10","v":"CO2 Balance -  - Base year - "}]
[null,null,"Unit : ktCO2-equivalents",null,"LPG","Gasoline","Jet Fuel","Diesel","HFO","Kerosene and other","Total oil products","Coal","Lignite","Natural Gas","Coke","Petrocoke","Total"]
[null,null,"Ton CO2/Toe (IPCC):",null,{"$f":"'GHG Balance'!D14","v":2.6404752},{"$f":"'GHG Balance'!E14","v":2.9014524000000002},{"$f":"'GHG Balance'!F14","v":2.9935620000000003},{"$f":"'GHG Balance'!G14","v":3.1010232000000002},{"$f":"'GHG Balance'!H14","v":3.2391876000000006},{"$f":"'GHG Balance'!I14","v":3.0089136000000005},{"$f":"'GHG Balance'!J14","v":0},{"$f":"'GHG Balance'!K14","v":3.9607128000000005},{"$f":"'GHG Balance'!L14","v":4.2370416000000004},{"$f":"'GHG Balance'!M14","v":2.3487948000000003},{"$f":"'GHG Balance'!N14","v":4.5301176000000005},{"$f":"'GHG Balance'!O14","v":4.1993604000000007},{"$f":"'GHG Balance'!P14","v":0}]
[null,null,"Total",null,{"$f":"'GHG Balance'!D15","v":0},{"$f":"'GHG Balance'!E15","v":0},{"$f":"'GHG Balance'!F15","v":0},{"$f":"'GHG Balance'!G15","v":0},{"$f":"'GHG Balance'!H15","v":0},{"$f":"'GHG Balance'!I15","v":0},{"$f":"'GHG Balance'!J15","v":0},{"$f":"'GHG Balance'!K15","v":0},{"$f":"'GHG Balance'!L15","v":0},{"$f":"'GHG Balance'!M15","v":0},{"$f":"'GHG Balance'!N15","v":0},{"$f":"'GHG Balance'!O15","v":0},{"$f":"'GHG Balance'!P15","v":0}]
[null,null,"Fossil power plants",null,{"$f":"'GHG Balance'!D16","v":0},{"$f":"'GHG Balance'!E16","v":0},{"$f":"'GHG Balance'!F16","v":0},{"$f":"'GHG Balance'!G16","v":0},{"$f":"'GHG Balance'!H16","v":0},{"$f":"'GHG Balance'!I16","v":0},{"$f":"'GHG Balance'!J16","v":0},{"$f":"'GHG Balance'!K16","v":0},{"$f":"'GHG Balance'!L16","v":0},{"$f":"'GHG Balance'!M16","v":0},{"$f":"'GHG Balance'!N16","v":0},{"$f":"'GHG Balance'!O16","v":0},{"$f":"'GHG Balance'!P16","v":0}]
[null,null,"FINAL CONSUMPTION",null,{"$f":"'GHG Balance'!D17","v":0},{"$f":"'GHG Balance'!E17","v":0},{"$f":"'GHG Balance'!F17","v":0},{"$f":"'GHG Balance'!G17","v":0},{"$f":"'GHG Balance'!H17","v":0},{"$f":"'GHG Balance'!I17","v":0},{"$f":"'GHG Balance'!J17","v":0},{"$f":"'GHG Balance'!K17","v":0},{"$f":"'GHG Balance'!L17","v":0},{"$f":"'GHG Balance'!M17","v":0},{"$f":"'GHG Balance'!N17","v":0},{"$f":"'GHG Balance'!O17","v":0},{"$f":"'GHG Balance'!P17","v":0}]
[null,null,"    Industry - steel",null,{"$f":"'GHG Balance'!D18","v":0},{"$f":"'GHG Balance'!E18","v":0},{"$f":"'GHG Balance'!F18","v":0},{"$f":"'GHG Balance'!G18","v":0},{"$f":"'GHG Balance'!H18","v":0},{"$f":"'GHG Balance'!I18","v":0},{"$f":"'GHG Balance'!J18","v":0},{"$f":"'GHG Balance'!K18","v":0},{"$f":"'GHG Balance'!L18","v":0},{"$f":"'GHG Balance'!M18","v":0},{"$f":"'GHG Balance'!N18","v":0},{"$f":"'GHG Balance'!O18","v":0},{"$f":"'GHG Balance'!P18","v":0}]
[null,null,"    Industry - chemical",null,{"$f":"'GHG Balance'!D19","v":0},{"$f":"'GHG Balance'!E19","v":0},{"$f":"'GHG Balance'!F19","v":0},{"$f":"'GHG Balance'!G19","v":0},{"$f":"'GHG Balance'!H19","v":0},{"$f":"'GHG Balance'!I19","v":0},{"$f":"'GHG Balance'!J19","v":0},{"$f":"'GHG Balance'!K19","v":0},{"$f":"'GHG Balance'!L19","v":0},{"$f":"'GHG Balance'!M19","v":0},{"$f":"'GHG Balance'!N19","v":0},{"$f":"'GHG Balance'!O19","v":0},{"$f":"'GHG Balance'!P19","v":0}]
[null,null,"    Industry - non metallic mineral",null,{"$f":"'GHG Balance'!D20","v":0},{"$f":"'GHG Balance'!E20","v":0},{"$f":"'GHG Balance'!F20","v":0},{"$f":"'GHG Balance'!G20","v":0},{"$f":"'GHG Balance'!H20","v":0},{"$f":"'GHG Balance'!I20","v":0},{"$f":"'GHG Balance'!J20","v":0},{"$f":"'GHG Balance'!K20","v":0},{"$f":"'GHG Balance'!L20","v":0},{"$f":"'GHG Balance'!M20","v":0},{"$f":"'GHG Balance'!N20","v":0},{"$f":"'GHG Balance'!O20","v":0},{"$f":"'GHG Balance'!P20","v":0}]
[null,null,"    Industry - food processing and beverage",null,{"$f":"'GHG Balance'!D21","v":0},{"$f":"'GHG Balance'!E21","v":0},{"$f":"'GHG Balance'!F21","v":0},{"$f":"'GHG Balance'!G21","v":0},{"$f":"'GHG Balance'!H21","v":0},{"$f":"'GHG Balance'!I21","v":0},{"$f":"'GHG Balance'!J21","v":0},{"$f":"'GHG Balance'!K21","v":0},{"$f":"'GHG Balance'!L21","v":0},{"$f":"'GHG Balance'!M21","v":0},{"$f":"'GHG Balance'!N21","v":0},{"$f":"'GHG Balance'!O21","v":0},{"$f":"'GHG Balance'!P21","v":0}]
[null,null,"    Industry - construction",null,{"$f":"'GHG Balance'!D22","v":0},{"$f":"'GHG Balance'!E22","v":0},{"$f":"'GHG Balance'!F22","v":0},{"$f":"'GHG Balance'!G22","v":0},{"$f":"'GHG Balance'!H22","v":0},{"$f":"'GHG Balance'!I22","v":0},{"$f":"'GHG Balance'!J22","v":0},{"$f":"'GHG Balance'!K22","v":0},{"$f":"'GHG Balance'!L22","v":0},{"$f":"'GHG Balance'!M22","v":0},{"$f":"'GHG Balance'!N22","v":0},{"$f":"'GHG Balance'!O22","v":0},{"$f":"'GHG Balance'!P22","v":0}]
[null,null,"    Industry - mining",null,{"$f":"'GHG Balance'!D23","v":0},{"$f":"'GHG Balance'!E23","v":0},{"$f":"'GHG Balance'!F23","v":0},{"$f":"'GHG Balance'!G23","v":0},{"$f":"'GHG Balance'!H23","v":0},{"$f":"'GHG Balance'!I23","v":0},{"$f":"'GHG Balance'!J23","v":0},{"$f":"'GHG Balance'!K23","v":0},{"$f":"'GHG Balance'!L23","v":0},{"$f":"'GHG Balance'!M23","v":0},{"$f":"'GHG Balance'!N23","v":0},{"$f":"'GHG Balance'!O23","v":0},{"$f":"'GHG Balance'!P23","v":0}]
[null,null,"    Industry - machinery",null,{"$f":"'GHG Balance'!D24","v":0},{"$f":"'GHG Balance'!E24","v":0},{"$f":"'GHG Balance'!F24","v":0},{"$f":"'GHG Balance'!G24","v":0},{"$f":"'GHG Balance'!H24","v":0},{"$f":"'GHG Balance'!I24","v":0},{"$f":"'GHG Balance'!J24","v":0},{"$f":"'GHG Balance'!K24","v":0},{"$f":"'GHG Balance'!L24","v":0},{"$f":"'GHG Balance'!M24","v":0},{"$f":"'GHG Balance'!N24","v":0},{"$f":"'GHG Balance'!O24","v":0},{"$f":"'GHG Balance'!P24","v":0}]
[null,null,"    Industry - non ferrous metals",null,{"$f":"'GHG Balance'!D25","v":0},{"$f":"'GHG Balance'!E25","v":0},{"$f":"'GHG Balance'!F25","v":0},{"$f":"'GHG Balance'!G25","v":0},{"$f":"'GHG Balance'!H25","v":0},{"$f":"'GHG Balance'!I25","v":0},{"$f":"'GHG Balance'!J25","v":0},{"$f":"'GHG Balance'!K25","v":0},{"$f":"'GHG Balance'!L25","v":0},{"$f":"'GHG Balance'!M25","v":0},{"$f":"'GHG Balance'!N25","v":0},{"$f":"'GHG Balance'!O25","v":0},{"$f":"'GHG Balance'!P25","v":0}]
[null,null,"    Industry - paper and pulp",null,{"$f":"'GHG Balance'!D26","v":0},{"$f":"'GHG Balance'!E26","v":0},{"$f":"'GHG Balance'!F26","v":0},{"$f":"'GHG Balance'!G26","v":0},{"$f":"'GHG Balance'!H26","v":0},{"$f":"'GHG Balance'!I26","v":0},{"$f":"'GHG Balance'!J26","v":0},{"$f":"'GHG Balance'!K26","v":0},{"$f":"'GHG Balance'!L26","v":0},{"$f":"'GHG Balance'!M26","v":0},{"$f":"'GHG Balance'!N26","v":0},{"$f":"'GHG Balance'!O26","v":0},{"$f":"'GHG Balance'!P26","v":0}]
[null,null,"    Industry - transport equipment",null,{"$f":"'GHG Balance'!D27","v":0},{"$f":"'GHG Balance'!E27","v":0},{"$f":"'GHG Balance'!F27","v":0},{"$f":"'GHG Balance'!G27","v":0},{"$f":"'GHG Balance'!H27","v":0},{"$f":"'GHG Balance'!I27","v":0},{"$f":"'GHG Balance'!J27","v":0},{"$f":"'GHG Balance'!K27","v":0},{"$f":"'GHG Balance'!L27","v":0},{"$f":"'GHG Balance'!M27","v":0},{"$f":"'GHG Balance'!N27","v":0},{"$f":"'GHG Balance'!O27","v":0},{"$f":"'GHG Balance'!P27","v":0}]
[null,null,"    Industry - textile and leather",null,{"$f":"'GHG Balance'!D28","v":0},{"$f":"'GHG Balance'!E28","v":0},{"$f":"'GHG Balance'!F28","v":0},{"$f":"'GHG Balance'!G28","v":0},{"$f":"'GHG Balance'!H28","v":0},{"$f":"'GHG Balance'!I28","v":0},{"$f":"'GHG Balance'!J28","v":0},{"$f":"'GHG Balance'!K28","v":0},{"$f":"'GHG Balance'!L28","v":0},{"$f":"'GHG Balance'!M28","v":0},{"$f":"'GHG Balance'!N28","v":0},{"$f":"'GHG Balance'!O28","v":0},{"$f":"'GHG Balance'!P28","v":0}]
[null,null,"    Industry - miscellaneous",null,{"$f":"'GHG Balance'!D29","v":0},{"$f":"'GHG Balance'!E29","v":0},{"$f":"'GHG Balance'!F29","v":0},{"$f":"'GHG Balance'!G29","v":0},{"$f":"'GHG Balance'!H29","v":0},{"$f":"'GHG Balance'!I29","v":0},{"$f":"'GHG Balance'!J29","v":0},{"$f":"'GHG Balance'!K29","v":0},{"$f":"'GHG Balance'!L29","v":0},{"$f":"'GHG Balance'!M29","v":0},{"$f":"'GHG Balance'!N29","v":0},{"$f":"'GHG Balance'!O29","v":0},{"$f":"'GHG Balance'!P29","v":0}]
[null,null,"    Transport - road",null,{"$f":"'GHG Balance'!D30","v":0},{"$f":"'GHG Balance'!E30","v":0},{"$f":"'GHG Balance'!F30","v":0},{"$f":"'GHG Balance'!G30","v":0},{"$f":"'GHG Balance'!H30","v":0},{"$f":"'GHG Balance'!I30","v":0},{"$f":"'GHG Balance'!J30","v":0},{"$f":"'GHG Balance'!K30","v":0},{"$f":"'GHG Balance'!L30","v":0},{"$f":"'GHG Balance'!M30","v":0},{"$f":"'GHG Balance'!N30","v":0},{"$f":"'GHG Balance'!O30","v":0},{"$f":"'GHG Balance'!P30","v":0}]
[null,null,"    Transport - rail",null,{"$f":"'GHG Balance'!D31","v":0},{"$f":"'GHG Balance'!E31","v":0},{"$f":"'GHG Balance'!F31","v":0},{"$f":"'GHG Balance'!G31","v":0},{"$f":"'GHG Balance'!H31","v":0},{"$f":"'GHG Balance'!I31","v":0},{"$f":"'GHG Balance'!J31","v":0},{"$f":"'GHG Balance'!K31","v":0},{"$f":"'GHG Balance'!L31","v":0},{"$f":"'GHG Balance'!M31","v":0},{"$f":"'GHG Balance'!N31","v":0},{"$f":"'GHG Balance'!O31","v":0},{"$f":"'GHG Balance'!P31","v":0}]
[null,null,"    Transport - domestic air",null,{"$f":"'GHG Balance'!D32","v":0},{"$f":"'GHG Balance'!E32","v":0},{"$f":"'GHG Balance'!F32","v":0},{"$f":"'GHG Balance'!G32","v":0},{"$f":"'GHG Balance'!H32","v":0},{"$f":"'GHG Balance'!I32","v":0},{"$f":"'GHG Balance'!J32","v":0},{"$f":"'GHG Balance'!K32","v":0},{"$f":"'GHG Balance'!L32","v":0},{"$f":"'GHG Balance'!M32","v":0},{"$f":"'GHG Balance'!N32","v":0},{"$f":"'GHG Balance'!O32","v":0},{"$f":"'GHG Balance'!P32","v":0}]
[null,null,"    Transport - navigation",null,{"$f":"'GHG Balance'!D33","v":0},{"$f":"'GHG Balance'!E33","v":0},{"$f":"'GHG Balance'!F33","v":0},{"$f":"'GHG Balance'!G33","v":0},{"$f":"'GHG Balance'!H33","v":0},{"$f":"'GHG Balance'!I33","v":0},{"$f":"'GHG Balance'!J33","v":0},{"$f":"'GHG Balance'!K33","v":0},{"$f":"'GHG Balance'!L33","v":0},{"$f":"'GHG Balance'!M33","v":0},{"$f":"'GHG Balance'!N33","v":0},{"$f":"'GHG Balance'!O33","v":0},{"$f":"'GHG Balance'!P33","v":0}]
[null,null,"    Households",null,{"$f":"'GHG Balance'!D34","v":0},{"$f":"'GHG Balance'!E34","v":0},{"$f":"'GHG Balance'!F34","v":0},{"$f":"'GHG Balance'!G34","v":0},{"$f":"'GHG Balance'!H34","v":0},{"$f":"'GHG Balance'!I34","v":0},{"$f":"'GHG Balance'!J34","v":0},{"$f":"'GHG Balance'!K34","v":0},{"$f":"'GHG Balance'!L34","v":0},{"$f":"'GHG Balance'!M34","v":0},{"$f":"'GHG Balance'!N34","v":0},{"$f":"'GHG Balance'!O34","v":0},{"$f":"'GHG Balance'!P34","v":0}]
[null,null,"    Services",null,{"$f":"'GHG Balance'!D35","v":0},{"$f":"'GHG Balance'!E35","v":0},{"$f":"'GHG Balance'!F35","v":0},{"$f":"'GHG Balance'!G35","v":0},{"$f":"'GHG Balance'!H35","v":0},{"$f":"'GHG Balance'!I35","v":0},{"$f":"'GHG Balance'!J35","v":0},{"$f":"'GHG Balance'!K35","v":0},{"$f":"'GHG Balance'!L35","v":0},{"$f":"'GHG Balance'!M35","v":0},{"$f":"'GHG Balance'!N35","v":0},{"$f":"'GHG Balance'!O35","v":0},{"$f":"'GHG Balance'!P35","v":0}]
[null,null,"    Agriculture & Fishery",null,{"$f":"'GHG Balance'!D36","v":0},{"$f":"'GHG Balance'!E36","v":0},{"$f":"'GHG Balance'!F36","v":0},{"$f":"'GHG Balance'!G36","v":0},{"$f":"'GHG Balance'!H36","v":0},{"$f":"'GHG Balance'!I36","v":0},{"$f":"'GHG Balance'!J36","v":0},{"$f":"'GHG Balance'!K36","v":0},{"$f":"'GHG Balance'!L36","v":0},{"$f":"'GHG Balance'!M36","v":0},{"$f":"'GHG Balance'!N36","v":0},{"$f":"'GHG Balance'!O36","v":0},{"$f":"'GHG Balance'!P36","v":0}]
[null,null,"    Non energy - chemical feedstocs",null,{"$f":"'GHG Balance'!D37","v":0},{"$f":"'GHG Balance'!E37","v":0},{"$f":"'GHG Balance'!F37","v":0},{"$f":"'GHG Balance'!G37","v":0},{"$f":"'GHG Balance'!H37","v":0},{"$f":"'GHG Balance'!I37","v":0},{"$f":"'GHG Balance'!J37","v":0},{"$f":"'GHG Balance'!K37","v":0},{"$f":"'GHG Balance'!L37","v":0},{"$f":"'GHG Balance'!M37","v":0},{"$f":"'GHG Balance'!N37","v":0},{"$f":"'GHG Balance'!O37","v":0},{"$f":"'GHG Balance'!P37","v":0}]
[]
[]
[]
[null,null,"Total GHG emissions from CH4 and N2O",null,{"$f":"'GHG Balance'!D56","v":0}]
[]
[]
[]
[]
[]
[]
[]
[]
["Projected Energy balance in the year 2025"]
[]
[]
[null,null,{"$f":"'BAU projected Energy Balances'!B43","v":"Fossil fuel balance - 2025 - "}]
[null,null,"Unit : TJ",null,"LPG","Gasoline","Jet Fuel","Diesel","Fueloil","Kerosene and other","Total oil products","Coal","Lignite","Gas","Coke","Petrocoke","Total"]
[null,null,"Unit",null,{"$f":"'BAU projected Energy Balances'!D16","v":"TJ"},{"$f":"'BAU projected Energy Balances'!E16","v":"TJ"},{"$f":"'BAU projected Energy Balances'!F16","v":"TJ"},{"$f":"'BAU projected Energy Balances'!G16","v":"TJ"},{"$f":"'BAU projected Energy Balances'!H16","v":"TJ"},{"$f":"'BAU projected Energy Balances'!I16","v":"TJ"},{"$f":"'BAU projected Energy Balances'!J16","v":"TJ"},{"$f":"'BAU projected Energy Balances'!K16","v":"TJ"},{"$f":"'BAU projected Energy Balances'!L16","v":"TJ"},{"$f":"'BAU projected Energy Balances'!M16","v":"TJ"},{"$f":"'BAU projected Energy Balances'!N16","v":"TJ"},{"$f":"'BAU projected Energy Balances'!O16","v":"TJ"},{"$f":"'BAU projected Energy Balances'!P16","v":"TJ"}]
[null,null,"Total consumption",null,{"$f":"'BAU projected Energy Balances'!D17","v":0},{"$f":"'BAU projected Energy Balances'!E17","v":0},{"$f":"'BAU projected Energy Balances'!F17","v":0},{"$f":"'BAU projected Energy Balances'!G17","v":0},{"$f":"'BAU projected Energy Balances'!H17","v":0},{"$f":"'BAU projected Energy Balances'!I17","v":0},{"$f":"'BAU projected Energy Balances'!J17","v":0},{"$f":"'BAU projected Energy Balances'!K17","v":0},{"$f":"'BAU projected Energy Balances'!L17","v":0},{"$f":"'BAU projected Energy Balances'!M17","v":0},{"$f":"'BAU projected Energy Balances'!N17","v":0},{"$f":"'BAU projected Energy Balances'!O17","v":0},{"$f":"'BAU projected Energy Balances'!P17","v":0}]
[null,null,"    Fossil power plants",null,{"$f":"'BAU projected Energy Balances'!D18","v":0},{"$f":"'BAU projected Energy Balances'!E18","v":0},{"$f":"'BAU projected Energy Balances'!F18","v":0},{"$f":"'BAU projected Energy Balances'!G18","v":0},{"$f":"'BAU projected Energy Balances'!H18","v":0},{"$f":"'BAU projected Energy Balances'!I18","v":0},{"$f":"'BAU projected Energy Balances'!J18","v":0},{"$f":"'BAU projected Energy Balances'!K18","v":0},{"$f":"'BAU projected Energy Balances'!L18","v":0},{"$f":"'BAU projected Energy Balances'!M18","v":0},{"$f":"'BAU projected Energy Balances'!N18","v":0},{"$f":"'BAU projected Energy Balances'!O18","v":0},{"$f":"'BAU projected Energy Balances'!P18","v":0}]
[null,null,"Final consumption",null,{"$f":"'BAU projected Energy Balances'!D19","v":0},{"$f":"'BAU projected Energy Balances'!E19","v":0},{"$f":"'BAU projected Energy Balances'!F19","v":0},{"$f":"'BAU projected Energy Balances'!G19","v":0},{"$f":"'BAU projected Energy Balances'!H19","v":0},{"$f":"'BAU projected Energy Balances'!I19","v":0},{"$f":"'BAU projected Energy Balances'!J19","v":0},{"$f":"'BAU projected Energy Balances'!K19","v":0},{"$f":"'BAU projected Energy Balances'!L19","v":0},{"$f":"'BAU projected Energy Balances'!M19","v":0},{"$f":"'BAU projected Energy Balances'!N19","v":0},{"$f":"'BAU projected Energy Balances'!O19","v":0},{"$f":"'BAU projected Energy Balances'!P19","v":0}]
[null,null,"    Industry - steel",null,{"$f":"'BAU projected Energy Balances'!D20","v":0},{"$f":"'BAU projected Energy Balances'!E20","v":0},{"$f":"'BAU projected Energy Balances'!F20","v":0},{"$f":"'BAU projected Energy Balances'!G20","v":0},{"$f":"'BAU projected Energy Balances'!H20","v":0},{"$f":"'BAU projected Energy Balances'!I20","v":0},{"$f":"'BAU projected Energy Balances'!J20","v":0},{"$f":"'BAU projected Energy Balances'!K20","v":0},{"$f":"'BAU projected Energy Balances'!L20","v":0},{"$f":"'BAU projected Energy Balances'!M20","v":0},{"$f":"'BAU projected Energy Balances'!N20","v":0},{"$f":"'BAU projected Energy Balances'!O20","v":0},{"$f":"'BAU projected Energy Balances'!P20","v":0}]
[null,null,"    Industry - chemical",null,{"$f":"'BAU projected Energy Balances'!D21","v":0},{"$f":"'BAU projected Energy Balances'!E21","v":0},{"$f":"'BAU projected Energy Balances'!F21","v":0},{"$f":"'BAU projected Energy Balances'!G21","v":0},{"$f":"'BAU projected Energy Balances'!H21","v":0},{"$f":"'BAU projected Energy Balances'!I21","v":0},{"$f":"'BAU projected Energy Balances'!J21","v":0},{"$f":"'BAU projected Energy Balances'!K21","v":0},{"$f":"'BAU projected Energy Balances'!L21","v":0},{"$f":"'BAU projected Energy Balances'!M21","v":0},{"$f":"'BAU projected Energy Balances'!N21","v":0},{"$f":"'BAU projected Energy Balances'!O21","v":0},{"$f":"'BAU projected Energy Balances'!P21","v":0}]
[null,null,"    Industry - non metallic mineral",null,{"$f":"'BAU projected Energy Balances'!D22","v":0},{"$f":"'BAU projected Energy Balances'!E22","v":0},{"$f":"'BAU projected Energy Balances'!F22","v":0},{"$f":"'BAU projected Energy Balances'!G22","v":0},{"$f":"'BAU projected Energy Balances'!H22","v":0},{"$f":"'BAU projected Energy Balances'!I22","v":0},{"$f":"'BAU projected Energy Balances'!J22","v":0},{"$f":"'BAU projected Energy Balances'!K22","v":0},{"$f":"'BAU projected Energy Balances'!L22","v":0},{"$f":"'BAU projected Energy Balances'!M22","v":0},{"$f":"'BAU projected Energy Balances'!N22","v":0},{"$f":"'BAU projected Energy Balances'!O22","v":0},{"$f":"'BAU projected Energy Balances'!P22","v":0}]
[null,null,"    Industry - food processing and beverage",null,{"$f":"'BAU projected Energy Balances'!D23","v":0},{"$f":"'BAU projected Energy Balances'!E23","v":0},{"$f":"'BAU projected Energy Balances'!F23","v":0},{"$f":"'BAU projected Energy Balances'!G23","v":0},{"$f":"'BAU projected Energy Balances'!H23","v":0},{"$f":"'BAU projected Energy Balances'!I23","v":0},{"$f":"'BAU projected Energy Balances'!J23","v":0},{"$f":"'BAU projected Energy Balances'!K23","v":0},{"$f":"'BAU projected Energy Balances'!L23","v":0},{"$f":"'BAU projected Energy Balances'!M23","v":0},{"$f":"'BAU projected Energy Balances'!N23","v":0},{"$f":"'BAU projected Energy Balances'!O23","v":0},{"$f":"'BAU projected Energy Balances'!P23","v":0}]
[null,null,"    Industry - construction",null,{"$f":"'BAU projected Energy Balances'!D24","v":0},{"$f":"'BAU projected Energy Balances'!E24","v":0},{"$f":"'BAU projected Energy Balances'!F24","v":0},{"$f":"'BAU projected Energy Balances'!G24","v":0},{"$f":"'BAU projected Energy Balances'!H24","v":0},{"$f":"'BAU projected Energy Balances'!I24","v":0},{"$f":"'BAU projected Energy Balances'!J24","v":0},{"$f":"'BAU projected Energy Balances'!K24","v":0},{"$f":"'BAU projected Energy Balances'!L24","v":0},{"$f":"'BAU projected Energy Balances'!M24","v":0},{"$f":"'BAU projected Energy Balances'!N24","v":0},{"$f":"'BAU projected Energy Balances'!O24","v":0},{"$f":"'BAU projected Energy Balances'!P24","v":0}]
[null,null,"    Industry - mining",null,{"$f":"'BAU projected Energy Balances'!D25","v":0},{"$f":"'BAU projected Energy Balances'!E25","v":0},{"$f":"'BAU projected Energy Balances'!F25","v":0},{"$f":"'BAU projected Energy Balances'!G25","v":0},{"$f":"'BAU projected Energy Balances'!H25","v":0},{"$f":"'BAU projected Energy Balances'!I25","v":0},{"$f":"'BAU projected Energy Balances'!J25","v":0},{"$f":"'BAU projected Energy Balances'!K25","v":0},{"$f":"'BAU projected Energy Balances'!L25","v":0},{"$f":"'BAU projected Energy Balances'!M25","v":0},{"$f":"'BAU projected Energy Balances'!N25","v":0},{"$f":"'BAU projected Energy Balances'!O25","v":0},{"$f":"'BAU projected Energy Balances'!P25","v":0}]
[null,null,"    Industry - machinery",null,{"$f":"'BAU projected Energy Balances'!D26","v":0},{"$f":"'BAU projected Energy Balances'!E26","v":0},{"$f":"'BAU projected Energy Balances'!F26","v":0},{"$f":"'BAU projected Energy Balances'!G26","v":0},{"$f":"'BAU projected Energy Balances'!H26","v":0},{"$f":"'BAU projected Energy Balances'!I26","v":0},{"$f":"'BAU projected Energy Balances'!J26","v":0},{"$f":"'BAU projected Energy Balances'!K26","v":0},{"$f":"'BAU projected Energy Balances'!L26","v":0},{"$f":"'BAU projected Energy Balances'!M26","v":0},{"$f":"'BAU projected Energy Balances'!N26","v":0},{"$f":"'BAU projected Energy Balances'!O26","v":0},{"$f":"'BAU projected Energy Balances'!P26","v":0}]
[null,null,"    Industry - non ferrous metals",null,{"$f":"'BAU projected Energy Balances'!D27","v":0},{"$f":"'BAU projected Energy Balances'!E27","v":0},{"$f":"'BAU projected Energy Balances'!F27","v":0},{"$f":"'BAU projected Energy Balances'!G27","v":0},{"$f":"'BAU projected Energy Balances'!H27","v":0},{"$f":"'BAU projected Energy Balances'!I27","v":0},{"$f":"'BAU projected Energy Balances'!J27","v":0},{"$f":"'BAU projected Energy Balances'!K27","v":0},{"$f":"'BAU projected Energy Balances'!L27","v":0},{"$f":"'BAU projected Energy Balances'!M27","v":0},{"$f":"'BAU projected Energy Balances'!N27","v":0},{"$f":"'BAU projected Energy Balances'!O27","v":0},{"$f":"'BAU projected Energy Balances'!P27","v":0}]
[null,null,"    Industry - paper and pulp",null,{"$f":"'BAU projected Energy Balances'!D28","v":0},{"$f":"'BAU projected Energy Balances'!E28","v":0},{"$f":"'BAU projected Energy Balances'!F28","v":0},{"$f":"'BAU projected Energy Balances'!G28","v":0},{"$f":"'BAU projected Energy Balances'!H28","v":0},{"$f":"'BAU projected Energy Balances'!I28","v":0},{"$f":"'BAU projected Energy Balances'!J28","v":0},{"$f":"'BAU projected Energy Balances'!K28","v":0},{"$f":"'BAU projected Energy Balances'!L28","v":0},{"$f":"'BAU projected Energy Balances'!M28","v":0},{"$f":"'BAU projected Energy Balances'!N28","v":0},{"$f":"'BAU projected Energy Balances'!O28","v":0},{"$f":"'BAU projected Energy Balances'!P28","v":0}]
[null,null,"    Industry - transport equipment",null,{"$f":"'BAU projected Energy Balances'!D29","v":0},{"$f":"'BAU projected Energy Balances'!E29","v":0},{"$f":"'BAU projected Energy Balances'!F29","v":0},{"$f":"'BAU projected Energy Balances'!G29","v":0},{"$f":"'BAU projected Energy Balances'!H29","v":0},{"$f":"'BAU projected Energy Balances'!I29","v":0},{"$f":"'BAU projected Energy Balances'!J29","v":0},{"$f":"'BAU projected Energy Balances'!K29","v":0},{"$f":"'BAU projected Energy Balances'!L29","v":0},{"$f":"'BAU projected Energy Balances'!M29","v":0},{"$f":"'BAU projected Energy Balances'!N29","v":0},{"$f":"'BAU projected Energy Balances'!O29","v":0},{"$f":"'BAU projected Energy Balances'!P29","v":0}]
[null,null,"    Industry - textile and leather",null,{"$f":"'BAU projected Energy Balances'!D30","v":0},{"$f":"'BAU projected Energy Balances'!E30","v":0},{"$f":"'BAU projected Energy Balances'!F30","v":0},{"$f":"'BAU projected Energy Balances'!G30","v":0},{"$f":"'BAU projected Energy Balances'!H30","v":0},{"$f":"'BAU projected Energy Balances'!I30","v":0},{"$f":"'BAU projected Energy Balances'!J30","v":0},{"$f":"'BAU projected Energy Balances'!K30","v":0},{"$f":"'BAU projected Energy Balances'!L30","v":0},{"$f":"'BAU projected Energy Balances'!M30","v":0},{"$f":"'BAU projected Energy Balances'!N30","v":0},{"$f":"'BAU projected Energy Balances'!O30","v":0},{"$f":"'BAU projected Energy Balances'!P30","v":0}]
[null,null,"    Industry - miscellaneous",null,{"$f":"'BAU projected Energy Balances'!D31","v":0},{"$f":"'BAU projected Energy Balances'!E31","v":0},{"$f":"'BAU projected Energy Balances'!F31","v":0},{"$f":"'BAU projected Energy Balances'!G31","v":0},{"$f":"'BAU projected Energy Balances'!H31","v":0},{"$f":"'BAU projected Energy Balances'!I31","v":0},{"$f":"'BAU projected Energy Balances'!J31","v":0},{"$f":"'BAU projected Energy Balances'!K31","v":0},{"$f":"'BAU projected Energy Balances'!L31","v":0},{"$f":"'BAU projected Energy Balances'!M31","v":0},{"$f":"'BAU projected Energy Balances'!N31","v":0},{"$f":"'BAU projected Energy Balances'!O31","v":0},{"$f":"'BAU projected Energy Balances'!P31","v":0}]
[null,null,"    Transport - road",null,{"$f":"'BAU projected Energy Balances'!D32","v":0},{"$f":"'BAU projected Energy Balances'!E32","v":0},{"$f":"'BAU projected Energy Balances'!F32","v":0},{"$f":"'BAU projected Energy Balances'!G32","v":0},{"$f":"'BAU projected Energy Balances'!H32","v":0},{"$f":"'BAU projected Energy Balances'!I32","v":0},{"$f":"'BAU projected Energy Balances'!J32","v":0},{"$f":"'BAU projected Energy Balances'!K32","v":0},{"$f":"'BAU projected Energy Balances'!L32","v":0},{"$f":"'BAU projected Energy Balances'!M32","v":0},{"$f":"'BAU projected Energy Balances'!N32","v":0},{"$f":"'BAU projected Energy Balances'!O32","v":0},{"$f":"'BAU projected Energy Balances'!P32","v":0}]
[null,null,"    Transport - rail",null,{"$f":"'BAU projected Energy Balances'!D33","v":0},{"$f":"'BAU projected Energy Balances'!E33","v":0},{"$f":"'BAU projected Energy Balances'!F33","v":0},{"$f":"'BAU projected Energy Balances'!G33","v":0},{"$f":"'BAU projected Energy Balances'!H33","v":0},{"$f":"'BAU projected Energy Balances'!I33","v":0},{"$f":"'BAU projected Energy Balances'!J33","v":0},{"$f":"'BAU projected Energy Balances'!K33","v":0},{"$f":"'BAU projected Energy Balances'!L33","v":0},{"$f":"'BAU projected Energy Balances'!M33","v":0},{"$f":"'BAU projected Energy Balances'!N33","v":0},{"$f":"'BAU projected Energy Balances'!O33","v":0},{"$f":"'BAU projected Energy Balances'!P33","v":0}]
[null,null,"    Transport - domestic air",null,{"$f":"'BAU projected Energy Balances'!D34","v":0},{"$f":"'BAU projected Energy Balances'!E34","v":0},{"$f":"'BAU projected Energy Balances'!F34","v":0},{"$f":"'BAU projected Energy Balances'!G34","v":0},{"$f":"'BAU projected Energy Balances'!H34","v":0},{"$f":"'BAU projected Energy Balances'!I34","v":0},{"$f":"'BAU projected Energy Balances'!J34","v":0},{"$f":"'BAU projected Energy Balances'!K34","v":0},{"$f":"'BAU projected Energy Balances'!L34","v":0},{"$f":"'BAU projected Energy Balances'!M34","v":0},{"$f":"'BAU projected Energy Balances'!N34","v":0},{"$f":"'BAU projected Energy Balances'!O34","v":0},{"$f":"'BAU projected Energy Balances'!P34","v":0}]
[null,null,"    Transport - navigation",null,{"$f":"'BAU projected Energy Balances'!D35","v":0},{"$f":"'BAU projected Energy Balances'!E35","v":0},{"$f":"'BAU projected Energy Balances'!F35","v":0},{"$f":"'BAU projected Energy Balances'!G35","v":0},{"$f":"'BAU projected Energy Balances'!H35","v":0},{"$f":"'BAU projected Energy Balances'!I35","v":0},{"$f":"'BAU projected Energy Balances'!J35","v":0},{"$f":"'BAU projected Energy Balances'!K35","v":0},{"$f":"'BAU projected Energy Balances'!L35","v":0},{"$f":"'BAU projected Energy Balances'!M35","v":0},{"$f":"'BAU projected Energy Balances'!N35","v":0},{"$f":"'BAU projected Energy Balances'!O35","v":0},{"$f":"'BAU projected Energy Balances'!P35","v":0}]
[null,null,"    Households",null,{"$f":"'BAU projected Energy Balances'!D36","v":0},{"$f":"'BAU projected Energy Balances'!E36","v":0},{"$f":"'BAU projected Energy Balances'!F36","v":0},{"$f":"'BAU projected Energy Balances'!G36","v":0},{"$f":"'BAU projected Energy Balances'!H36","v":0},{"$f":"'BAU projected Energy Balances'!I36","v":0},{"$f":"'BAU projected Energy Balances'!J36","v":0},{"$f":"'BAU projected Energy Balances'!K36","v":0},{"$f":"'BAU projected Energy Balances'!L36","v":0},{"$f":"'BAU projected Energy Balances'!M36","v":0},{"$f":"'BAU projected Energy Balances'!N36","v":0},{"$f":"'BAU projected Energy Balances'!O36","v":0},{"$f":"'BAU projected Energy Balances'!P36","v":0}]
[null,null,"    Services",null,{"$f":"'BAU projected Energy Balances'!D37","v":0},{"$f":"'BAU projected Energy Balances'!E37","v":0},{"$f":"'BAU projected Energy Balances'!F37","v":0},{"$f":"'BAU projected Energy Balances'!G37","v":0},{"$f":"'BAU projected Energy Balances'!H37","v":0},{"$f":"'BAU projected Energy Balances'!I37","v":0},{"$f":"'BAU projected Energy Balances'!J37","v":0},{"$f":"'BAU projected Energy Balances'!K37","v":0},{"$f":"'BAU projected Energy Balances'!L37","v":0},{"$f":"'BAU projected Energy Balances'!M37","v":0},{"$f":"'BAU projected Energy Balances'!N37","v":0},{"$f":"'BAU projected Energy Balances'!O37","v":0},{"$f":"'BAU projected Energy Balances'!P37","v":0}]
[null,null,"    Agriculture & Fishery",null,{"$f":"'BAU projected Energy Balances'!D38","v":0},{"$f":"'BAU projected Energy Balances'!E38","v":0},{"$f":"'BAU projected Energy Balances'!F38","v":0},{"$f":"'BAU projected Energy Balances'!G38","v":0},{"$f":"'BAU projected Energy Balances'!H38","v":0},{"$f":"'BAU projected Energy Balances'!I38","v":0},{"$f":"'BAU projected Energy Balances'!J38","v":0},{"$f":"'BAU projected Energy Balances'!K38","v":0},{"$f":"'BAU projected Energy Balances'!L38","v":0},{"$f":"'BAU projected Energy Balances'!M38","v":0},{"$f":"'BAU projected Energy Balances'!N38","v":0},{"$f":"'BAU projected Energy Balances'!O38","v":0},{"$f":"'BAU projected Energy Balances'!P38","v":0}]
[null,null,"    Non energy uses",null,{"$f":"'BAU projected Energy Balances'!D39","v":0},{"$f":"'BAU projected Energy Balances'!E39","v":0},{"$f":"'BAU projected Energy Balances'!F39","v":0},{"$f":"'BAU projected Energy Balances'!G39","v":0},{"$f":"'BAU projected Energy Balances'!H39","v":0},{"$f":"'BAU projected Energy Balances'!I39","v":0},{"$f":"'BAU projected Energy Balances'!J39","v":0},{"$f":"'BAU projected Energy Balances'!K39","v":0},{"$f":"'BAU projected Energy Balances'!L39","v":0},{"$f":"'BAU projected Energy Balances'!M39","v":0},{"$f":"'BAU projected Energy Balances'!N39","v":0},{"$f":"'BAU projected Energy Balances'!O39","v":0},{"$f":"'BAU projected Energy Balances'!P39","v":0}]
[]
[]
[null,null,{"$f":"'BAU projected Energy Balances'!B71","v":"Electricity balance - 2025"}]
[null,null,"Electricity consumption",null,"Gwh",null,"Electricity production","Gwh","Share of production*","Efficiency"]
[null,null,"Total consumption",null,{"$f":"'BAU projected Energy Balances'!D73","v":0},null,"Total",{"$f":"'BAU projected Energy Balances'!G73","v":0}]
[null,null,"    Industry - steel",null,{"$f":"'BAU projected Energy Balances'!D74","v":0},null,"Losses",{"$f":"'BAU projected Energy Balances'!G74","v":0},{"$f":"'BAU projected Energy Balances'!H74","v":1}]
[null,null,"    Industry - chemical",null,{"$f":"'BAU projected Energy Balances'!D75","v":0},null,"Fossil",{"$f":"'BAU projected Energy Balances'!G75","v":0},{"$f":"'BAU projected Energy Balances'!H75","v":4}]
[null,null,"    Industry - non metallic mineral",null,{"$f":"'BAU projected Energy Balances'!D76","v":0},null,"Lignite",{"$f":"'BAU projected Energy Balances'!G76","v":0},{"$f":"'BAU projected Energy Balances'!H76","v":1},{"$f":"'BAU projected Energy Balances'!I76","v":0}]
[null,null,"    Industry - food processing and beverage",null,{"$f":"'BAU projected Energy Balances'!D77","v":0},null,"Coal",{"$f":"'BAU projected Energy Balances'!G77","v":0},{"$f":"'BAU projected Energy Balances'!H77","v":1},{"$f":"'BAU projected Energy Balances'!I77","v":0}]
[null,null,"    Industry - construction",null,{"$f":"'BAU projected Energy Balances'!D78","v":0},null,"Oil",{"$f":"'BAU projected Energy Balances'!G78","v":0},{"$f":"'BAU projected Energy Balances'!H78","v":1},{"$f":"'BAU projected Energy Balances'!I78","v":0}]
[null,null,"    Industry - mining",null,{"$f":"'BAU projected Energy Balances'!D79","v":0},null,"Natural Gas",{"$f":"'BAU projected Energy Balances'!G79","v":0},{"$f":"'BAU projected Energy Balances'!H79","v":1},{"$f":"'BAU projected Energy Balances'!I79","v":0}]
[null,null,"    Industry - machinery",null,{"$f":"'BAU projected Energy Balances'!D80","v":0},null,"Nuclear",{"$f":"'BAU projected Energy Balances'!G80","v":0},{"$f":"'BAU projected Energy Balances'!H80","v":1}]
[null,null,"    Industry - non ferrous metals",null,{"$f":"'BAU projected Energy Balances'!D81","v":0},null,"Net import",{"$f":"'BAU projected Energy Balances'!G81","v":0},{"$f":"'BAU projected Energy Balances'!H81","v":1}]
[null,null,"    Industry - paper and pulp",null,{"$f":"'BAU projected Energy Balances'!D82","v":0},null,"Renewables",{"$f":"'BAU projected Energy Balances'!G82","v":0},{"$f":"'BAU projected Energy Balances'!H82","v":5}]
[null,null,"    Industry - transport equipment",null,{"$f":"'BAU projected Energy Balances'!D83","v":0},null,"Hydro",{"$f":"'BAU projected Energy Balances'!G83","v":0},{"$f":"'BAU projected Energy Balances'!H83","v":1}]
[null,null,"    Industry - textile and leather",null,{"$f":"'BAU projected Energy Balances'!D84","v":0},null,"Wind",{"$f":"'BAU projected Energy Balances'!G84","v":0},{"$f":"'BAU projected Energy Balances'!H84","v":1}]
[null,null,"    Industry - miscellaneous",null,{"$f":"'BAU projected Energy Balances'!D85","v":0},null,"Solar",{"$f":"'BAU projected Energy Balances'!G85","v":0},{"$f":"'BAU projected Energy Balances'!H85","v":1}]
[null,null,"    Transport - road",null,{"$f":"'BAU projected Energy Balances'!D86","v":0},null,"Biomass",{"$f":"'BAU projected Energy Balances'!G86","v":0},{"$f":"'BAU projected Energy Balances'!H86","v":1}]
[null,null,"    Transport - rail",null,{"$f":"'BAU projected Energy Balances'!D87","v":0},null,"Geothermal",{"$f":"'BAU projected Energy Balances'!G87","v":0},{"$f":"'BAU projected Energy Balances'!H87","v":1}]
[null,null,"    Transport - domestic air",null,{"$f":"'BAU projected Energy Balances'!D88","v":0}]
[null,null,"    Transport - navigation",null,{"$f":"'BAU projected Energy Balances'!D89","v":0}]
[null,null,"    Households",null,{"$f":"'BAU projected Energy Balances'!D90","v":0}]
[null,null,"    Services",null,{"$f":"'BAU projected Energy Balances'!D91","v":0}]
[null,null,"    Agriculture & Fishery",null,{"$f":"'BAU projected Energy Balances'!D92","v":0}]
[null,null,"    Non energy - chemical feedstocs",null,{"$f":"'BAU projected Energy Balances'!D93","v":0}]
["Projected Energy balance in the year 2030"]
[]
[]
[null,null,{"$f":"'BAU projected Energy Balances'!B129","v":"Fossil fuel balance - 2030 - "}]
[null,null,"Unit : TJ",null,"LPG","Gasoline","Jet Fuel","Diesel","Fueloil","Kerosene and other","Total oil products","Coal","Lignite","Gas","Coke","Petrocoke","Total"]
[null,null,"Unit",null,{"$f":"'BAU projected Energy Balances'!D102","v":"TJ"},{"$f":"'BAU projected Energy Balances'!E102","v":"TJ"},{"$f":"'BAU projected Energy Balances'!F102","v":"TJ"},{"$f":"'BAU projected Energy Balances'!G102","v":"TJ"},{"$f":"'BAU projected Energy Balances'!H102","v":"TJ"},{"$f":"'BAU projected Energy Balances'!I102","v":"TJ"},{"$f":"'BAU projected Energy Balances'!J102","v":"TJ"},{"$f":"'BAU projected Energy Balances'!K102","v":"TJ"},{"$f":"'BAU projected Energy Balances'!L102","v":"TJ"},{"$f":"'BAU projected Energy Balances'!M102","v":"TJ"},{"$f":"'BAU projected Energy Balances'!N102","v":"TJ"},{"$f":"'BAU projected Energy Balances'!O102","v":"TJ"},{"$f":"'BAU projected Energy Balances'!P102","v":"TJ"}]
[null,null,"Total consumption",null,{"$f":"'BAU projected Energy Balances'!D103","v":0},{"$f":"'BAU projected Energy Balances'!E103","v":0},{"$f":"'BAU projected Energy Balances'!F103","v":0},{"$f":"'BAU projected Energy Balances'!G103","v":0},{"$f":"'BAU projected Energy Balances'!H103","v":0},{"$f":"'BAU projected Energy Balances'!I103","v":0},{"$f":"'BAU projected Energy Balances'!J103","v":0},{"$f":"'BAU projected Energy Balances'!K103","v":0},{"$f":"'BAU projected Energy Balances'!L103","v":0},{"$f":"'BAU projected Energy Balances'!M103","v":0},{"$f":"'BAU projected Energy Balances'!N103","v":0},{"$f":"'BAU projected Energy Balances'!O103","v":0},{"$f":"'BAU projected Energy Balances'!P103","v":0}]
[null,null,"    Fossil power plants",null,{"$f":"'BAU projected Energy Balances'!D104","v":0},{"$f":"'BAU projected Energy Balances'!E104","v":0},{"$f":"'BAU projected Energy Balances'!F104","v":0},{"$f":"'BAU projected Energy Balances'!G104","v":0},{"$f":"'BAU projected Energy Balances'!H104","v":0},{"$f":"'BAU projected Energy Balances'!I104","v":0},{"$f":"'BAU projected Energy Balances'!J104","v":0},{"$f":"'BAU projected Energy Balances'!K104","v":0},{"$f":"'BAU projected Energy Balances'!L104","v":0},{"$f":"'BAU projected Energy Balances'!M104","v":0},{"$f":"'BAU projected Energy Balances'!N104","v":0},{"$f":"'BAU projected Energy Balances'!O104","v":0},{"$f":"'BAU projected Energy Balances'!P104","v":0}]
[null,null,"Final consumption",null,{"$f":"'BAU projected Energy Balances'!D105","v":0},{"$f":"'BAU projected Energy Balances'!E105","v":0},{"$f":"'BAU projected Energy Balances'!F105","v":0},{"$f":"'BAU projected Energy Balances'!G105","v":0},{"$f":"'BAU projected Energy Balances'!H105","v":0},{"$f":"'BAU projected Energy Balances'!I105","v":0},{"$f":"'BAU projected Energy Balances'!J105","v":0},{"$f":"'BAU projected Energy Balances'!K105","v":0},{"$f":"'BAU projected Energy Balances'!L105","v":0},{"$f":"'BAU projected Energy Balances'!M105","v":0},{"$f":"'BAU projected Energy Balances'!N105","v":0},{"$f":"'BAU projected Energy Balances'!O105","v":0},{"$f":"'BAU projected Energy Balances'!P105","v":0}]
[null,null,"    Industry - steel",null,{"$f":"'BAU projected Energy Balances'!D106","v":0},{"$f":"'BAU projected Energy Balances'!E106","v":0},{"$f":"'BAU projected Energy Balances'!F106","v":0},{"$f":"'BAU projected Energy Balances'!G106","v":0},{"$f":"'BAU projected Energy Balances'!H106","v":0},{"$f":"'BAU projected Energy Balances'!I106","v":0},{"$f":"'BAU projected Energy Balances'!J106","v":0},{"$f":"'BAU projected Energy Balances'!K106","v":0},{"$f":"'BAU projected Energy Balances'!L106","v":0},{"$f":"'BAU projected Energy Balances'!M106","v":0},{"$f":"'BAU projected Energy Balances'!N106","v":0},{"$f":"'BAU projected Energy Balances'!O106","v":0},{"$f":"'BAU projected Energy Balances'!P106","v":0}]
[null,null,"    Industry - chemical",null,{"$f":"'BAU projected Energy Balances'!D107","v":0},{"$f":"'BAU projected Energy Balances'!E107","v":0},{"$f":"'BAU projected Energy Balances'!F107","v":0},{"$f":"'BAU projected Energy Balances'!G107","v":0},{"$f":"'BAU projected Energy Balances'!H107","v":0},{"$f":"'BAU projected Energy Balances'!I107","v":0},{"$f":"'BAU projected Energy Balances'!J107","v":0},{"$f":"'BAU projected Energy Balances'!K107","v":0},{"$f":"'BAU projected Energy Balances'!L107","v":0},{"$f":"'BAU projected Energy Balances'!M107","v":0},{"$f":"'BAU projected Energy Balances'!N107","v":0},{"$f":"'BAU projected Energy Balances'!O107","v":0},{"$f":"'BAU projected Energy Balances'!P107","v":0}]
[null,null,"    Industry - non metallic mineral",null,{"$f":"'BAU projected Energy Balances'!D108","v":0},{"$f":"'BAU projected Energy Balances'!E108","v":0},{"$f":"'BAU projected Energy Balances'!F108","v":0},{"$f":"'BAU projected Energy Balances'!G108","v":0},{"$f":"'BAU projected Energy Balances'!H108","v":0},{"$f":"'BAU projected Energy Balances'!I108","v":0},{"$f":"'BAU projected Energy Balances'!J108","v":0},{"$f":"'BAU projected Energy Balances'!K108","v":0},{"$f":"'BAU projected Energy Balances'!L108","v":0},{"$f":"'BAU projected Energy Balances'!M108","v":0},{"$f":"'BAU projected Energy Balances'!N108","v":0},{"$f":"'BAU projected Energy Balances'!O108","v":0},{"$f":"'BAU projected Energy Balances'!P108","v":0}]
[null,null,"    Industry - food processing and beverage",null,{"$f":"'BAU projected Energy Balances'!D109","v":0},{"$f":"'BAU projected Energy Balances'!E109","v":0},{"$f":"'BAU projected Energy Balances'!F109","v":0},{"$f":"'BAU projected Energy Balances'!G109","v":0},{"$f":"'BAU projected Energy Balances'!H109","v":0},{"$f":"'BAU projected Energy Balances'!I109","v":0},{"$f":"'BAU projected Energy Balances'!J109","v":0},{"$f":"'BAU projected Energy Balances'!K109","v":0},{"$f":"'BAU projected Energy Balances'!L109","v":0},{"$f":"'BAU projected Energy Balances'!M109","v":0},{"$f":"'BAU projected Energy Balances'!N109","v":0},{"$f":"'BAU projected Energy Balances'!O109","v":0},{"$f":"'BAU projected Energy Balances'!P109","v":0}]
[null,null,"    Industry - construction",null,{"$f":"'BAU projected Energy Balances'!D110","v":0},{"$f":"'BAU projected Energy Balances'!E110","v":0},{"$f":"'BAU projected Energy Balances'!F110","v":0},{"$f":"'BAU projected Energy Balances'!G110","v":0},{"$f":"'BAU projected Energy Balances'!H110","v":0},{"$f":"'BAU projected Energy Balances'!I110","v":0},{"$f":"'BAU projected Energy Balances'!J110","v":0},{"$f":"'BAU projected Energy Balances'!K110","v":0},{"$f":"'BAU projected Energy Balances'!L110","v":0},{"$f":"'BAU projected Energy Balances'!M110","v":0},{"$f":"'BAU projected Energy Balances'!N110","v":0},{"$f":"'BAU projected Energy Balances'!O110","v":0},{"$f":"'BAU projected Energy Balances'!P110","v":0}]
[null,null,"    Industry - mining",null,{"$f":"'BAU projected Energy Balances'!D111","v":0},{"$f":"'BAU projected Energy Balances'!E111","v":0},{"$f":"'BAU projected Energy Balances'!F111","v":0},{"$f":"'BAU projected Energy Balances'!G111","v":0},{"$f":"'BAU projected Energy Balances'!H111","v":0},{"$f":"'BAU projected Energy Balances'!I111","v":0},{"$f":"'BAU projected Energy Balances'!J111","v":0},{"$f":"'BAU projected Energy Balances'!K111","v":0},{"$f":"'BAU projected Energy Balances'!L111","v":0},{"$f":"'BAU projected Energy Balances'!M111","v":0},{"$f":"'BAU projected Energy Balances'!N111","v":0},{"$f":"'BAU projected Energy Balances'!O111","v":0},{"$f":"'BAU projected Energy Balances'!P111","v":0}]
[null,null,"    Industry - machinery",null,{"$f":"'BAU projected Energy Balances'!D112","v":0},{"$f":"'BAU projected Energy Balances'!E112","v":0},{"$f":"'BAU projected Energy Balances'!F112","v":0},{"$f":"'BAU projected Energy Balances'!G112","v":0},{"$f":"'BAU projected Energy Balances'!H112","v":0},{"$f":"'BAU projected Energy Balances'!I112","v":0},{"$f":"'BAU projected Energy Balances'!J112","v":0},{"$f":"'BAU projected Energy Balances'!K112","v":0},{"$f":"'BAU projected Energy Balances'!L112","v":0},{"$f":"'BAU projected Energy Balances'!M112","v":0},{"$f":"'BAU projected Energy Balances'!N112","v":0},{"$f":"'BAU projected Energy Balances'!O112","v":0},{"$f":"'BAU projected Energy Balances'!P112","v":0}]
[null,null,"    Industry - non ferrous metals",null,{"$f":"'BAU projected Energy Balances'!D113","v":0},{"$f":"'BAU projected Energy Balances'!E113","v":0},{"$f":"'BAU projected Energy Balances'!F113","v":0},{"$f":"'BAU projected Energy Balances'!G113","v":0},{"$f":"'BAU projected Energy Balances'!H113","v":0},{"$f":"'BAU projected Energy Balances'!I113","v":0},{"$f":"'BAU projected Energy Balances'!J113","v":0},{"$f":"'BAU projected Energy Balances'!K113","v":0},{"$f":"'BAU projected Energy Balances'!L113","v":0},{"$f":"'BAU projected Energy Balances'!M113","v":0},{"$f":"'BAU projected Energy Balances'!N113","v":0},{"$f":"'BAU projected Energy Balances'!O113","v":0},{"$f":"'BAU projected Energy Balances'!P113","v":0}]
[null,null,"    Industry - paper and pulp",null,{"$f":"'BAU projected Energy Balances'!D114","v":0},{"$f":"'BAU projected Energy Balances'!E114","v":0},{"$f":"'BAU projected Energy Balances'!F114","v":0},{"$f":"'BAU projected Energy Balances'!G114","v":0},{"$f":"'BAU projected Energy Balances'!H114","v":0},{"$f":"'BAU projected Energy Balances'!I114","v":0},{"$f":"'BAU projected Energy Balances'!J114","v":0},{"$f":"'BAU projected Energy Balances'!K114","v":0},{"$f":"'BAU projected Energy Balances'!L114","v":0},{"$f":"'BAU projected Energy Balances'!M114","v":0},{"$f":"'BAU projected Energy Balances'!N114","v":0},{"$f":"'BAU projected Energy Balances'!O114","v":0},{"$f":"'BAU projected Energy Balances'!P114","v":0}]
[null,null,"    Industry - transport equipment",null,{"$f":"'BAU projected Energy Balances'!D115","v":0},{"$f":"'BAU projected Energy Balances'!E115","v":0},{"$f":"'BAU projected Energy Balances'!F115","v":0},{"$f":"'BAU projected Energy Balances'!G115","v":0},{"$f":"'BAU projected Energy Balances'!H115","v":0},{"$f":"'BAU projected Energy Balances'!I115","v":0},{"$f":"'BAU projected Energy Balances'!J115","v":0},{"$f":"'BAU projected Energy Balances'!K115","v":0},{"$f":"'BAU projected Energy Balances'!L115","v":0},{"$f":"'BAU projected Energy Balances'!M115","v":0},{"$f":"'BAU projected Energy Balances'!N115","v":0},{"$f":"'BAU projected Energy Balances'!O115","v":0},{"$f":"'BAU projected Energy Balances'!P115","v":0}]
[null,null,"    Industry - textile and leather",null,{"$f":"'BAU projected Energy Balances'!D116","v":0},{"$f":"'BAU projected Energy Balances'!E116","v":0},{"$f":"'BAU projected Energy Balances'!F116","v":0},{"$f":"'BAU projected Energy Balances'!G116","v":0},{"$f":"'BAU projected Energy Balances'!H116","v":0},{"$f":"'BAU projected Energy Balances'!I116","v":0},{"$f":"'BAU projected Energy Balances'!J116","v":0},{"$f":"'BAU projected Energy Balances'!K116","v":0},{"$f":"'BAU projected Energy Balances'!L116","v":0},{"$f":"'BAU projected Energy Balances'!M116","v":0},{"$f":"'BAU projected Energy Balances'!N116","v":0},{"$f":"'BAU projected Energy Balances'!O116","v":0},{"$f":"'BAU projected Energy Balances'!P116","v":0}]
[null,null,"    Industry - miscellaneous",null,{"$f":"'BAU projected Energy Balances'!D117","v":0},{"$f":"'BAU projected Energy Balances'!E117","v":0},{"$f":"'BAU projected Energy Balances'!F117","v":0},{"$f":"'BAU projected Energy Balances'!G117","v":0},{"$f":"'BAU projected Energy Balances'!H117","v":0},{"$f":"'BAU projected Energy Balances'!I117","v":0},{"$f":"'BAU projected Energy Balances'!J117","v":0},{"$f":"'BAU projected Energy Balances'!K117","v":0},{"$f":"'BAU projected Energy Balances'!L117","v":0},{"$f":"'BAU projected Energy Balances'!M117","v":0},{"$f":"'BAU projected Energy Balances'!N117","v":0},{"$f":"'BAU projected Energy Balances'!O117","v":0},{"$f":"'BAU projected Energy Balances'!P117","v":0}]
[null,null,"    Transport - road",null,{"$f":"'BAU projected Energy Balances'!D118","v":0},{"$f":"'BAU projected Energy Balances'!E118","v":0},{"$f":"'BAU projected Energy Balances'!F118","v":0},{"$f":"'BAU projected Energy Balances'!G118","v":0},{"$f":"'BAU projected Energy Balances'!H118","v":0},{"$f":"'BAU projected Energy Balances'!I118","v":0},{"$f":"'BAU projected Energy Balances'!J118","v":0},{"$f":"'BAU projected Energy Balances'!K118","v":0},{"$f":"'BAU projected Energy Balances'!L118","v":0},{"$f":"'BAU projected Energy Balances'!M118","v":0},{"$f":"'BAU projected Energy Balances'!N118","v":0},{"$f":"'BAU projected Energy Balances'!O118","v":0},{"$f":"'BAU projected Energy Balances'!P118","v":0}]
[null,null,"    Transport - rail",null,{"$f":"'BAU projected Energy Balances'!D119","v":0},{"$f":"'BAU projected Energy Balances'!E119","v":0},{"$f":"'BAU projected Energy Balances'!F119","v":0},{"$f":"'BAU projected Energy Balances'!G119","v":0},{"$f":"'BAU projected Energy Balances'!H119","v":0},{"$f":"'BAU projected Energy Balances'!I119","v":0},{"$f":"'BAU projected Energy Balances'!J119","v":0},{"$f":"'BAU projected Energy Balances'!K119","v":0},{"$f":"'BAU projected Energy Balances'!L119","v":0},{"$f":"'BAU projected Energy Balances'!M119","v":0},{"$f":"'BAU projected Energy Balances'!N119","v":0},{"$f":"'BAU projected Energy Balances'!O119","v":0},{"$f":"'BAU projected Energy Balances'!P119","v":0}]
[null,null,"    Transport - domestic air",null,{"$f":"'BAU projected Energy Balances'!D120","v":0},{"$f":"'BAU projected Energy Balances'!E120","v":0},{"$f":"'BAU projected Energy Balances'!F120","v":0},{"$f":"'BAU projected Energy Balances'!G120","v":0},{"$f":"'BAU projected Energy Balances'!H120","v":0},{"$f":"'BAU projected Energy Balances'!I120","v":0},{"$f":"'BAU projected Energy Balances'!J120","v":0},{"$f":"'BAU projected Energy Balances'!K120","v":0},{"$f":"'BAU projected Energy Balances'!L120","v":0},{"$f":"'BAU projected Energy Balances'!M120","v":0},{"$f":"'BAU projected Energy Balances'!N120","v":0},{"$f":"'BAU projected Energy Balances'!O120","v":0},{"$f":"'BAU projected Energy Balances'!P120","v":0}]
[null,null,"    Transport - navigation",null,{"$f":"'BAU projected Energy Balances'!D121","v":0},{"$f":"'BAU projected Energy Balances'!E121","v":0},{"$f":"'BAU projected Energy Balances'!F121","v":0},{"$f":"'BAU projected Energy Balances'!G121","v":0},{"$f":"'BAU projected Energy Balances'!H121","v":0},{"$f":"'BAU projected Energy Balances'!I121","v":0},{"$f":"'BAU projected Energy Balances'!J121","v":0},{"$f":"'BAU projected Energy Balances'!K121","v":0},{"$f":"'BAU projected Energy Balances'!L121","v":0},{"$f":"'BAU projected Energy Balances'!M121","v":0},{"$f":"'BAU projected Energy Balances'!N121","v":0},{"$f":"'BAU projected Energy Balances'!O121","v":0},{"$f":"'BAU projected Energy Balances'!P121","v":0}]
[null,null,"    Households",null,{"$f":"'BAU projected Energy Balances'!D122","v":0},{"$f":"'BAU projected Energy Balances'!E122","v":0},{"$f":"'BAU projected Energy Balances'!F122","v":0},{"$f":"'BAU projected Energy Balances'!G122","v":0},{"$f":"'BAU projected Energy Balances'!H122","v":0},{"$f":"'BAU projected Energy Balances'!I122","v":0},{"$f":"'BAU projected Energy Balances'!J122","v":0},{"$f":"'BAU projected Energy Balances'!K122","v":0},{"$f":"'BAU projected Energy Balances'!L122","v":0},{"$f":"'BAU projected Energy Balances'!M122","v":0},{"$f":"'BAU projected Energy Balances'!N122","v":0},{"$f":"'BAU projected Energy Balances'!O122","v":0},{"$f":"'BAU projected Energy Balances'!P122","v":0}]
[null,null,"    Services",null,{"$f":"'BAU projected Energy Balances'!D123","v":0},{"$f":"'BAU projected Energy Balances'!E123","v":0},{"$f":"'BAU projected Energy Balances'!F123","v":0},{"$f":"'BAU projected Energy Balances'!G123","v":0},{"$f":"'BAU projected Energy Balances'!H123","v":0},{"$f":"'BAU projected Energy Balances'!I123","v":0},{"$f":"'BAU projected Energy Balances'!J123","v":0},{"$f":"'BAU projected Energy Balances'!K123","v":0},{"$f":"'BAU projected Energy Balances'!L123","v":0},{"$f":"'BAU projected Energy Balances'!M123","v":0},{"$f":"'BAU projected Energy Balances'!N123","v":0},{"$f":"'BAU projected Energy Balances'!O123","v":0},{"$f":"'BAU projected Energy Balances'!P123","v":0}]
[null,null,"    Agriculture & Fishery",null,{"$f":"'BAU projected Energy Balances'!D124","v":0},{"$f":"'BAU projected Energy Balances'!E124","v":0},{"$f":"'BAU projected Energy Balances'!F124","v":0},{"$f":"'BAU projected Energy Balances'!G124","v":0},{"$f":"'BAU projected Energy Balances'!H124","v":0},{"$f":"'BAU projected Energy Balances'!I124","v":0},{"$f":"'BAU projected Energy Balances'!J124","v":0},{"$f":"'BAU projected Energy Balances'!K124","v":0},{"$f":"'BAU projected Energy Balances'!L124","v":0},{"$f":"'BAU projected Energy Balances'!M124","v":0},{"$f":"'BAU projected Energy Balances'!N124","v":0},{"$f":"'BAU projected Energy Balances'!O124","v":0},{"$f":"'BAU projected Energy Balances'!P124","v":0}]
[null,null,"    Non energy uses",null,{"$f":"'BAU projected Energy Balances'!D125","v":0},{"$f":"'BAU projected Energy Balances'!E125","v":0},{"$f":"'BAU projected Energy Balances'!F125","v":0},{"$f":"'BAU projected Energy Balances'!G125","v":0},{"$f":"'BAU projected Energy Balances'!H125","v":0},{"$f":"'BAU projected Energy Balances'!I125","v":0},{"$f":"'BAU projected Energy Balances'!J125","v":0},{"$f":"'BAU projected Energy Balances'!K125","v":0},{"$f":"'BAU projected Energy Balances'!L125","v":0},{"$f":"'BAU projected Energy Balances'!M125","v":0},{"$f":"'BAU projected Energy Balances'!N125","v":0},{"$f":"'BAU projected Energy Balances'!O125","v":0},{"$f":"'BAU projected Energy Balances'!P125","v":0}]
[]
[]
[null,null,{"$f":"'BAU projected Energy Balances'!B157","v":"Electricity balance in GWh - 2030"}]
[null,null,"Electricity consumption",null,"Gwh",null,"Electricity production","Gwh","Share of production*","Efficiency"]
[null,null,"Total consumption",null,{"$f":"'BAU projected Energy Balances'!D159","v":0},null,"Total",{"$f":"'BAU projected Energy Balances'!G159","v":0}]
[null,null,"    Industry - steel",null,{"$f":"'BAU projected Energy Balances'!D160","v":0},null,"Losses",{"$f":"'BAU projected Energy Balances'!G160","v":0},{"$f":"'BAU projected Energy Balances'!H160","v":1}]
[null,null,"    Industry - chemical",null,{"$f":"'BAU projected Energy Balances'!D161","v":0},null,"Fossil",{"$f":"'BAU projected Energy Balances'!G161","v":0},{"$f":"'BAU projected Energy Balances'!H161","v":4}]
[null,null,"    Industry - non metallic mineral",null,{"$f":"'BAU projected Energy Balances'!D162","v":0},null,"Lignite",{"$f":"'BAU projected Energy Balances'!G162","v":0},{"$f":"'BAU projected Energy Balances'!H162","v":1},{"$f":"'BAU projected Energy Balances'!I162","v":0}]
[null,null,"    Industry - food processing and beverage",null,{"$f":"'BAU projected Energy Balances'!D163","v":0},null,"Coal",{"$f":"'BAU projected Energy Balances'!G163","v":0},{"$f":"'BAU projected Energy Balances'!H163","v":1},{"$f":"'BAU projected Energy Balances'!I163","v":0}]
[null,null,"    Industry - construction",null,{"$f":"'BAU projected Energy Balances'!D164","v":0},null,"Oil",{"$f":"'BAU projected Energy Balances'!G164","v":0},{"$f":"'BAU projected Energy Balances'!H164","v":1},{"$f":"'BAU projected Energy Balances'!I164","v":0}]
[null,null,"    Industry - mining",null,{"$f":"'BAU projected Energy Balances'!D165","v":0},null,"Natural Gas",{"$f":"'BAU projected Energy Balances'!G165","v":0},{"$f":"'BAU projected Energy Balances'!H165","v":1},{"$f":"'BAU projected Energy Balances'!I165","v":0}]
[null,null,"    Industry - machinery",null,{"$f":"'BAU projected Energy Balances'!D166","v":0},null,"Nuclear",{"$f":"'BAU projected Energy Balances'!G166","v":0},{"$f":"'BAU projected Energy Balances'!H166","v":1}]
[null,null,"    Industry - non ferrous metals",null,{"$f":"'BAU projected Energy Balances'!D167","v":0},null,"Net import",{"$f":"'BAU projected Energy Balances'!G167","v":0},{"$f":"'BAU projected Energy Balances'!H167","v":1}]
[null,null,"    Industry - paper and pulp",null,{"$f":"'BAU projected Energy Balances'!D168","v":0},null,"Renewables",{"$f":"'BAU projected Energy Balances'!G168","v":0},{"$f":"'BAU projected Energy Balances'!H168","v":5}]
[null,null,"    Industry - transport equipment",null,{"$f":"'BAU projected Energy Balances'!D169","v":0},null,"Hydro",{"$f":"'BAU projected Energy Balances'!G169","v":0},{"$f":"'BAU projected Energy Balances'!H169","v":1}]
[null,null,"    Industry - textile and leather",null,{"$f":"'BAU projected Energy Balances'!D170","v":0},null,"Wind",{"$f":"'BAU projected Energy Balances'!G170","v":0},{"$f":"'BAU projected Energy Balances'!H170","v":1}]
[null,null,"    Industry - miscellaneous",null,{"$f":"'BAU projected Energy Balances'!D171","v":0},null,"Solar",{"$f":"'BAU projected Energy Balances'!G171","v":0},{"$f":"'BAU projected Energy Balances'!H171","v":1}]
[null,null,"    Transport - road",null,{"$f":"'BAU projected Energy Balances'!D172","v":0},null,"Biomass",{"$f":"'BAU projected Energy Balances'!G172","v":0},{"$f":"'BAU projected Energy Balances'!H172","v":1}]
[null,null,"    Transport - rail",null,{"$f":"'BAU projected Energy Balances'!D173","v":0},null,"Geothermal",{"$f":"'BAU projected Energy Balances'!G173","v":0},{"$f":"'BAU projected Energy Balances'!H173","v":1}]
[null,null,"    Transport - domestic air",null,{"$f":"'BAU projected Energy Balances'!D174","v":0}]
[null,null,"    Transport - navigation",null,{"$f":"'BAU projected Energy Balances'!D175","v":0}]
[null,null,"    Households",null,{"$f":"'BAU projected Energy Balances'!D176","v":0}]
[null,null,"    Services",null,{"$f":"'BAU projected Energy Balances'!D177","v":0}]
[null,null,"    Agriculture & Fishery",null,{"$f":"'BAU projected Energy Balances'!D178","v":0}]
[null,null,"    Non energy - chemical feedstocs",null,{"$f":"'BAU projected Energy Balances'!D179","v":0}]
["Projected Energy balance in the year 2035"]
[]
[]
[null,null,{"$f":"'BAU projected Energy Balances'!B215","v":"Fossil fuel balance - 2035 - "}]
[null,null,"Unit : TJ",null,"LPG","Gasoline","Jet Fuel","Diesel","Fueloil","Kerosene and other","Total oil products","Coal","Lignite","Gas","Coke","Petrocoke","Total"]
[null,null,"Unit",null,{"$f":"'BAU projected Energy Balances'!D188","v":"TJ"},{"$f":"'BAU projected Energy Balances'!E188","v":"TJ"},{"$f":"'BAU projected Energy Balances'!F188","v":"TJ"},{"$f":"'BAU projected Energy Balances'!G188","v":"TJ"},{"$f":"'BAU projected Energy Balances'!H188","v":"TJ"},{"$f":"'BAU projected Energy Balances'!I188","v":"TJ"},{"$f":"'BAU projected Energy Balances'!J188","v":"TJ"},{"$f":"'BAU projected Energy Balances'!K188","v":"TJ"},{"$f":"'BAU projected Energy Balances'!L188","v":"TJ"},{"$f":"'BAU projected Energy Balances'!M188","v":"TJ"},{"$f":"'BAU projected Energy Balances'!N188","v":"TJ"},{"$f":"'BAU projected Energy Balances'!O188","v":"TJ"},{"$f":"'BAU projected Energy Balances'!P188","v":"TJ"}]
[null,null,"Total consumption",null,{"$f":"'BAU projected Energy Balances'!D189","v":0},{"$f":"'BAU projected Energy Balances'!E189","v":0},{"$f":"'BAU projected Energy Balances'!F189","v":0},{"$f":"'BAU projected Energy Balances'!G189","v":0},{"$f":"'BAU projected Energy Balances'!H189","v":0},{"$f":"'BAU projected Energy Balances'!I189","v":0},{"$f":"'BAU projected Energy Balances'!J189","v":0},{"$f":"'BAU projected Energy Balances'!K189","v":0},{"$f":"'BAU projected Energy Balances'!L189","v":0},{"$f":"'BAU projected Energy Balances'!M189","v":0},{"$f":"'BAU projected Energy Balances'!N189","v":0},{"$f":"'BAU projected Energy Balances'!O189","v":0},{"$f":"'BAU projected Energy Balances'!P189","v":0}]
[null,null,"    Fossil power plants",null,{"$f":"'BAU projected Energy Balances'!D190","v":0},{"$f":"'BAU projected Energy Balances'!E190","v":0},{"$f":"'BAU projected Energy Balances'!F190","v":0},{"$f":"'BAU projected Energy Balances'!G190","v":0},{"$f":"'BAU projected Energy Balances'!H190","v":0},{"$f":"'BAU projected Energy Balances'!I190","v":0},{"$f":"'BAU projected Energy Balances'!J190","v":0},{"$f":"'BAU projected Energy Balances'!K190","v":0},{"$f":"'BAU projected Energy Balances'!L190","v":0},{"$f":"'BAU projected Energy Balances'!M190","v":0},{"$f":"'BAU projected Energy Balances'!N190","v":0},{"$f":"'BAU projected Energy Balances'!O190","v":0},{"$f":"'BAU projected Energy Balances'!P190","v":0}]
[null,null,"Final consumption",null,{"$f":"'BAU projected Energy Balances'!D191","v":0},{"$f":"'BAU projected Energy Balances'!E191","v":0},{"$f":"'BAU projected Energy Balances'!F191","v":0},{"$f":"'BAU projected Energy Balances'!G191","v":0},{"$f":"'BAU projected Energy Balances'!H191","v":0},{"$f":"'BAU projected Energy Balances'!I191","v":0},{"$f":"'BAU projected Energy Balances'!J191","v":0},{"$f":"'BAU projected Energy Balances'!K191","v":0},{"$f":"'BAU projected Energy Balances'!L191","v":0},{"$f":"'BAU projected Energy Balances'!M191","v":0},{"$f":"'BAU projected Energy Balances'!N191","v":0},{"$f":"'BAU projected Energy Balances'!O191","v":0},{"$f":"'BAU projected Energy Balances'!P191","v":0}]
[null,null,"    Industry - steel",null,{"$f":"'BAU projected Energy Balances'!D192","v":0},{"$f":"'BAU projected Energy Balances'!E192","v":0},{"$f":"'BAU projected Energy Balances'!F192","v":0},{"$f":"'BAU projected Energy Balances'!G192","v":0},{"$f":"'BAU projected Energy Balances'!H192","v":0},{"$f":"'BAU projected Energy Balances'!I192","v":0},{"$f":"'BAU projected Energy Balances'!J192","v":0},{"$f":"'BAU projected Energy Balances'!K192","v":0},{"$f":"'BAU projected Energy Balances'!L192","v":0},{"$f":"'BAU projected Energy Balances'!M192","v":0},{"$f":"'BAU projected Energy Balances'!N192","v":0},{"$f":"'BAU projected Energy Balances'!O192","v":0},{"$f":"'BAU projected Energy Balances'!P192","v":0}]
[null,null,"    Industry - chemical",null,{"$f":"'BAU projected Energy Balances'!D193","v":0},{"$f":"'BAU projected Energy Balances'!E193","v":0},{"$f":"'BAU projected Energy Balances'!F193","v":0},{"$f":"'BAU projected Energy Balances'!G193","v":0},{"$f":"'BAU projected Energy Balances'!H193","v":0},{"$f":"'BAU projected Energy Balances'!I193","v":0},{"$f":"'BAU projected Energy Balances'!J193","v":0},{"$f":"'BAU projected Energy Balances'!K193","v":0},{"$f":"'BAU projected Energy Balances'!L193","v":0},{"$f":"'BAU projected Energy Balances'!M193","v":0},{"$f":"'BAU projected Energy Balances'!N193","v":0},{"$f":"'BAU projected Energy Balances'!O193","v":0},{"$f":"'BAU projected Energy Balances'!P193","v":0}]
[null,null,"    Industry - non metallic mineral",null,{"$f":"'BAU projected Energy Balances'!D194","v":0},{"$f":"'BAU projected Energy Balances'!E194","v":0},{"$f":"'BAU projected Energy Balances'!F194","v":0},{"$f":"'BAU projected Energy Balances'!G194","v":0},{"$f":"'BAU projected Energy Balances'!H194","v":0},{"$f":"'BAU projected Energy Balances'!I194","v":0},{"$f":"'BAU projected Energy Balances'!J194","v":0},{"$f":"'BAU projected Energy Balances'!K194","v":0},{"$f":"'BAU projected Energy Balances'!L194","v":0},{"$f":"'BAU projected Energy Balances'!M194","v":0},{"$f":"'BAU projected Energy Balances'!N194","v":0},{"$f":"'BAU projected Energy Balances'!O194","v":0},{"$f":"'BAU projected Energy Balances'!P194","v":0}]
[null,null,"    Industry - food processing and beverage",null,{"$f":"'BAU projected Energy Balances'!D195","v":0},{"$f":"'BAU projected Energy Balances'!E195","v":0},{"$f":"'BAU projected Energy Balances'!F195","v":0},{"$f":"'BAU projected Energy Balances'!G195","v":0},{"$f":"'BAU projected Energy Balances'!H195","v":0},{"$f":"'BAU projected Energy Balances'!I195","v":0},{"$f":"'BAU projected Energy Balances'!J195","v":0},{"$f":"'BAU projected Energy Balances'!K195","v":0},{"$f":"'BAU projected Energy Balances'!L195","v":0},{"$f":"'BAU projected Energy Balances'!M195","v":0},{"$f":"'BAU projected Energy Balances'!N195","v":0},{"$f":"'BAU projected Energy Balances'!O195","v":0},{"$f":"'BAU projected Energy Balances'!P195","v":0}]
[null,null,"    Industry - construction",null,{"$f":"'BAU projected Energy Balances'!D196","v":0},{"$f":"'BAU projected Energy Balances'!E196","v":0},{"$f":"'BAU projected Energy Balances'!F196","v":0},{"$f":"'BAU projected Energy Balances'!G196","v":0},{"$f":"'BAU projected Energy Balances'!H196","v":0},{"$f":"'BAU projected Energy Balances'!I196","v":0},{"$f":"'BAU projected Energy Balances'!J196","v":0},{"$f":"'BAU projected Energy Balances'!K196","v":0},{"$f":"'BAU projected Energy Balances'!L196","v":0},{"$f":"'BAU projected Energy Balances'!M196","v":0},{"$f":"'BAU projected Energy Balances'!N196","v":0},{"$f":"'BAU projected Energy Balances'!O196","v":0},{"$f":"'BAU projected Energy Balances'!P196","v":0}]
[null,null,"    Industry - mining",null,{"$f":"'BAU projected Energy Balances'!D197","v":0},{"$f":"'BAU projected Energy Balances'!E197","v":0},{"$f":"'BAU projected Energy Balances'!F197","v":0},{"$f":"'BAU projected Energy Balances'!G197","v":0},{"$f":"'BAU projected Energy Balances'!H197","v":0},{"$f":"'BAU projected Energy Balances'!I197","v":0},{"$f":"'BAU projected Energy Balances'!J197","v":0},{"$f":"'BAU projected Energy Balances'!K197","v":0},{"$f":"'BAU projected Energy Balances'!L197","v":0},{"$f":"'BAU projected Energy Balances'!M197","v":0},{"$f":"'BAU projected Energy Balances'!N197","v":0},{"$f":"'BAU projected Energy Balances'!O197","v":0},{"$f":"'BAU projected Energy Balances'!P197","v":0}]
[null,null,"    Industry - machinery",null,{"$f":"'BAU projected Energy Balances'!D198","v":0},{"$f":"'BAU projected Energy Balances'!E198","v":0},{"$f":"'BAU projected Energy Balances'!F198","v":0},{"$f":"'BAU projected Energy Balances'!G198","v":0},{"$f":"'BAU projected Energy Balances'!H198","v":0},{"$f":"'BAU projected Energy Balances'!I198","v":0},{"$f":"'BAU projected Energy Balances'!J198","v":0},{"$f":"'BAU projected Energy Balances'!K198","v":0},{"$f":"'BAU projected Energy Balances'!L198","v":0},{"$f":"'BAU projected Energy Balances'!M198","v":0},{"$f":"'BAU projected Energy Balances'!N198","v":0},{"$f":"'BAU projected Energy Balances'!O198","v":0},{"$f":"'BAU projected Energy Balances'!P198","v":0}]
[null,null,"    Industry - non ferrous metals",null,{"$f":"'BAU projected Energy Balances'!D199","v":0},{"$f":"'BAU projected Energy Balances'!E199","v":0},{"$f":"'BAU projected Energy Balances'!F199","v":0},{"$f":"'BAU projected Energy Balances'!G199","v":0},{"$f":"'BAU projected Energy Balances'!H199","v":0},{"$f":"'BAU projected Energy Balances'!I199","v":0},{"$f":"'BAU projected Energy Balances'!J199","v":0},{"$f":"'BAU projected Energy Balances'!K199","v":0},{"$f":"'BAU projected Energy Balances'!L199","v":0},{"$f":"'BAU projected Energy Balances'!M199","v":0},{"$f":"'BAU projected Energy Balances'!N199","v":0},{"$f":"'BAU projected Energy Balances'!O199","v":0},{"$f":"'BAU projected Energy Balances'!P199","v":0}]
[null,null,"    Industry - paper and pulp",null,{"$f":"'BAU projected Energy Balances'!D200","v":0},{"$f":"'BAU projected Energy Balances'!E200","v":0},{"$f":"'BAU projected Energy Balances'!F200","v":0},{"$f":"'BAU projected Energy Balances'!G200","v":0},{"$f":"'BAU projected Energy Balances'!H200","v":0},{"$f":"'BAU projected Energy Balances'!I200","v":0},{"$f":"'BAU projected Energy Balances'!J200","v":0},{"$f":"'BAU projected Energy Balances'!K200","v":0},{"$f":"'BAU projected Energy Balances'!L200","v":0},{"$f":"'BAU projected Energy Balances'!M200","v":0},{"$f":"'BAU projected Energy Balances'!N200","v":0},{"$f":"'BAU projected Energy Balances'!O200","v":0},{"$f":"'BAU projected Energy Balances'!P200","v":0}]
[null,null,"    Industry - transport equipment",null,{"$f":"'BAU projected Energy Balances'!D201","v":0},{"$f":"'BAU projected Energy Balances'!E201","v":0},{"$f":"'BAU projected Energy Balances'!F201","v":0},{"$f":"'BAU projected Energy Balances'!G201","v":0},{"$f":"'BAU projected Energy Balances'!H201","v":0},{"$f":"'BAU projected Energy Balances'!I201","v":0},{"$f":"'BAU projected Energy Balances'!J201","v":0},{"$f":"'BAU projected Energy Balances'!K201","v":0},{"$f":"'BAU projected Energy Balances'!L201","v":0},{"$f":"'BAU projected Energy Balances'!M201","v":0},{"$f":"'BAU projected Energy Balances'!N201","v":0},{"$f":"'BAU projected Energy Balances'!O201","v":0},{"$f":"'BAU projected Energy Balances'!P201","v":0}]
[null,null,"    Industry - textile and leather",null,{"$f":"'BAU projected Energy Balances'!D202","v":0},{"$f":"'BAU projected Energy Balances'!E202","v":0},{"$f":"'BAU projected Energy Balances'!F202","v":0},{"$f":"'BAU projected Energy Balances'!G202","v":0},{"$f":"'BAU projected Energy Balances'!H202","v":0},{"$f":"'BAU projected Energy Balances'!I202","v":0},{"$f":"'BAU projected Energy Balances'!J202","v":0},{"$f":"'BAU projected Energy Balances'!K202","v":0},{"$f":"'BAU projected Energy Balances'!L202","v":0},{"$f":"'BAU projected Energy Balances'!M202","v":0},{"$f":"'BAU projected Energy Balances'!N202","v":0},{"$f":"'BAU projected Energy Balances'!O202","v":0},{"$f":"'BAU projected Energy Balances'!P202","v":0}]
[null,null,"    Industry - miscellaneous",null,{"$f":"'BAU projected Energy Balances'!D203","v":0},{"$f":"'BAU projected Energy Balances'!E203","v":0},{"$f":"'BAU projected Energy Balances'!F203","v":0},{"$f":"'BAU projected Energy Balances'!G203","v":0},{"$f":"'BAU projected Energy Balances'!H203","v":0},{"$f":"'BAU projected Energy Balances'!I203","v":0},{"$f":"'BAU projected Energy Balances'!J203","v":0},{"$f":"'BAU projected Energy Balances'!K203","v":0},{"$f":"'BAU projected Energy Balances'!L203","v":0},{"$f":"'BAU projected Energy Balances'!M203","v":0},{"$f":"'BAU projected Energy Balances'!N203","v":0},{"$f":"'BAU projected Energy Balances'!O203","v":0},{"$f":"'BAU projected Energy Balances'!P203","v":0}]
[null,null,"    Transport - road",null,{"$f":"'BAU projected Energy Balances'!D204","v":0},{"$f":"'BAU projected Energy Balances'!E204","v":0},{"$f":"'BAU projected Energy Balances'!F204","v":0},{"$f":"'BAU projected Energy Balances'!G204","v":0},{"$f":"'BAU projected Energy Balances'!H204","v":0},{"$f":"'BAU projected Energy Balances'!I204","v":0},{"$f":"'BAU projected Energy Balances'!J204","v":0},{"$f":"'BAU projected Energy Balances'!K204","v":0},{"$f":"'BAU projected Energy Balances'!L204","v":0},{"$f":"'BAU projected Energy Balances'!M204","v":0},{"$f":"'BAU projected Energy Balances'!N204","v":0},{"$f":"'BAU projected Energy Balances'!O204","v":0},{"$f":"'BAU projected Energy Balances'!P204","v":0}]
[null,null,"    Transport - rail",null,{"$f":"'BAU projected Energy Balances'!D205","v":0},{"$f":"'BAU projected Energy Balances'!E205","v":0},{"$f":"'BAU projected Energy Balances'!F205","v":0},{"$f":"'BAU projected Energy Balances'!G205","v":0},{"$f":"'BAU projected Energy Balances'!H205","v":0},{"$f":"'BAU projected Energy Balances'!I205","v":0},{"$f":"'BAU projected Energy Balances'!J205","v":0},{"$f":"'BAU projected Energy Balances'!K205","v":0},{"$f":"'BAU projected Energy Balances'!L205","v":0},{"$f":"'BAU projected Energy Balances'!M205","v":0},{"$f":"'BAU projected Energy Balances'!N205","v":0},{"$f":"'BAU projected Energy Balances'!O205","v":0},{"$f":"'BAU projected Energy Balances'!P205","v":0}]
[null,null,"    Transport - domestic air",null,{"$f":"'BAU projected Energy Balances'!D206","v":0},{"$f":"'BAU projected Energy Balances'!E206","v":0},{"$f":"'BAU projected Energy Balances'!F206","v":0},{"$f":"'BAU projected Energy Balances'!G206","v":0},{"$f":"'BAU projected Energy Balances'!H206","v":0},{"$f":"'BAU projected Energy Balances'!I206","v":0},{"$f":"'BAU projected Energy Balances'!J206","v":0},{"$f":"'BAU projected Energy Balances'!K206","v":0},{"$f":"'BAU projected Energy Balances'!L206","v":0},{"$f":"'BAU projected Energy Balances'!M206","v":0},{"$f":"'BAU projected Energy Balances'!N206","v":0},{"$f":"'BAU projected Energy Balances'!O206","v":0},{"$f":"'BAU projected Energy Balances'!P206","v":0}]
[null,null,"    Transport - navigation",null,{"$f":"'BAU projected Energy Balances'!D207","v":0},{"$f":"'BAU projected Energy Balances'!E207","v":0},{"$f":"'BAU projected Energy Balances'!F207","v":0},{"$f":"'BAU projected Energy Balances'!G207","v":0},{"$f":"'BAU projected Energy Balances'!H207","v":0},{"$f":"'BAU projected Energy Balances'!I207","v":0},{"$f":"'BAU projected Energy Balances'!J207","v":0},{"$f":"'BAU projected Energy Balances'!K207","v":0},{"$f":"'BAU projected Energy Balances'!L207","v":0},{"$f":"'BAU projected Energy Balances'!M207","v":0},{"$f":"'BAU projected Energy Balances'!N207","v":0},{"$f":"'BAU projected Energy Balances'!O207","v":0},{"$f":"'BAU projected Energy Balances'!P207","v":0}]
[null,null,"    Households",null,{"$f":"'BAU projected Energy Balances'!D208","v":0},{"$f":"'BAU projected Energy Balances'!E208","v":0},{"$f":"'BAU projected Energy Balances'!F208","v":0},{"$f":"'BAU projected Energy Balances'!G208","v":0},{"$f":"'BAU projected Energy Balances'!H208","v":0},{"$f":"'BAU projected Energy Balances'!I208","v":0},{"$f":"'BAU projected Energy Balances'!J208","v":0},{"$f":"'BAU projected Energy Balances'!K208","v":0},{"$f":"'BAU projected Energy Balances'!L208","v":0},{"$f":"'BAU projected Energy Balances'!M208","v":0},{"$f":"'BAU projected Energy Balances'!N208","v":0},{"$f":"'BAU projected Energy Balances'!O208","v":0},{"$f":"'BAU projected Energy Balances'!P208","v":0}]
[null,null,"    Services",null,{"$f":"'BAU projected Energy Balances'!D209","v":0},{"$f":"'BAU projected Energy Balances'!E209","v":0},{"$f":"'BAU projected Energy Balances'!F209","v":0},{"$f":"'BAU projected Energy Balances'!G209","v":0},{"$f":"'BAU projected Energy Balances'!H209","v":0},{"$f":"'BAU projected Energy Balances'!I209","v":0},{"$f":"'BAU projected Energy Balances'!J209","v":0},{"$f":"'BAU projected Energy Balances'!K209","v":0},{"$f":"'BAU projected Energy Balances'!L209","v":0},{"$f":"'BAU projected Energy Balances'!M209","v":0},{"$f":"'BAU projected Energy Balances'!N209","v":0},{"$f":"'BAU projected Energy Balances'!O209","v":0},{"$f":"'BAU projected Energy Balances'!P209","v":0}]
[null,null,"    Agriculture & Fishery",null,{"$f":"'BAU projected Energy Balances'!D210","v":0},{"$f":"'BAU projected Energy Balances'!E210","v":0},{"$f":"'BAU projected Energy Balances'!F210","v":0},{"$f":"'BAU projected Energy Balances'!G210","v":0},{"$f":"'BAU projected Energy Balances'!H210","v":0},{"$f":"'BAU projected Energy Balances'!I210","v":0},{"$f":"'BAU projected Energy Balances'!J210","v":0},{"$f":"'BAU projected Energy Balances'!K210","v":0},{"$f":"'BAU projected Energy Balances'!L210","v":0},{"$f":"'BAU projected Energy Balances'!M210","v":0},{"$f":"'BAU projected Energy Balances'!N210","v":0},{"$f":"'BAU projected Energy Balances'!O210","v":0},{"$f":"'BAU projected Energy Balances'!P210","v":0}]
[null,null,"    Non energy uses",null,{"$f":"'BAU projected Energy Balances'!D211","v":0},{"$f":"'BAU projected Energy Balances'!E211","v":0},{"$f":"'BAU projected Energy Balances'!F211","v":0},{"$f":"'BAU projected Energy Balances'!G211","v":0},{"$f":"'BAU projected Energy Balances'!H211","v":0},{"$f":"'BAU projected Energy Balances'!I211","v":0},{"$f":"'BAU projected Energy Balances'!J211","v":0},{"$f":"'BAU projected Energy Balances'!K211","v":0},{"$f":"'BAU projected Energy Balances'!L211","v":0},{"$f":"'BAU projected Energy Balances'!M211","v":0},{"$f":"'BAU projected Energy Balances'!N211","v":0},{"$f":"'BAU projected Energy Balances'!O211","v":0},{"$f":"'BAU projected Energy Balances'!P211","v":0}]
[]
[]
[null,null,{"$f":"'BAU projected Energy Balances'!B243","v":"Electricity balance in GWh - 2035"}]
[null,null,"Electricity consumption",null,"Gwh",null,"Electricity production","Gwh","Share of production*","Efficiency"]
[null,null,"Total consumption",null,{"$f":"'BAU projected Energy Balances'!D245","v":0},null,"Total",{"$f":"'BAU projected Energy Balances'!G245","v":0}]
[null,null,"    Industry - steel",null,{"$f":"'BAU projected Energy Balances'!D246","v":0},null,"Losses",{"$f":"'BAU projected Energy Balances'!G246","v":0},{"$f":"'BAU projected Energy Balances'!H246","v":1}]
[null,null,"    Industry - chemical",null,{"$f":"'BAU projected Energy Balances'!D247","v":0},null,"Fossil",{"$f":"'BAU projected Energy Balances'!G247","v":0},{"$f":"'BAU projected Energy Balances'!H247","v":4}]
[null,null,"    Industry - non metallic mineral",null,{"$f":"'BAU projected Energy Balances'!D248","v":0},null,"Lignite",{"$f":"'BAU projected Energy Balances'!G248","v":0},{"$f":"'BAU projected Energy Balances'!H248","v":1},{"$f":"'BAU projected Energy Balances'!I248","v":0}]
[null,null,"    Industry - food processing and beverage",null,{"$f":"'BAU projected Energy Balances'!D249","v":0},null,"Coal",{"$f":"'BAU projected Energy Balances'!G249","v":0},{"$f":"'BAU projected Energy Balances'!H249","v":1},{"$f":"'BAU projected Energy Balances'!I249","v":0}]
[null,null,"    Industry - construction",null,{"$f":"'BAU projected Energy Balances'!D250","v":0},null,"Oil",{"$f":"'BAU projected Energy Balances'!G250","v":0},{"$f":"'BAU projected Energy Balances'!H250","v":1},{"$f":"'BAU projected Energy Balances'!I250","v":0}]
[null,null,"    Industry - mining",null,{"$f":"'BAU projected Energy Balances'!D251","v":0},null,"Natural Gas",{"$f":"'BAU projected Energy Balances'!G251","v":0},{"$f":"'BAU projected Energy Balances'!H251","v":1},{"$f":"'BAU projected Energy Balances'!I251","v":0}]
[null,null,"    Industry - machinery",null,{"$f":"'BAU projected Energy Balances'!D252","v":0},null,"Nuclear",{"$f":"'BAU projected Energy Balances'!G252","v":0},{"$f":"'BAU projected Energy Balances'!H252","v":1}]
[null,null,"    Industry - non ferrous metals",null,{"$f":"'BAU projected Energy Balances'!D253","v":0},null,"Net import",{"$f":"'BAU projected Energy Balances'!G253","v":0},{"$f":"'BAU projected Energy Balances'!H253","v":1}]
[null,null,"    Industry - paper and pulp",null,{"$f":"'BAU projected Energy Balances'!D254","v":0},null,"Renewables",{"$f":"'BAU projected Energy Balances'!G254","v":0},{"$f":"'BAU projected Energy Balances'!H254","v":5}]
[null,null,"    Industry - transport equipment",null,{"$f":"'BAU projected Energy Balances'!D255","v":0},null,"Hydro",{"$f":"'BAU projected Energy Balances'!G255","v":0},{"$f":"'BAU projected Energy Balances'!H255","v":1}]
[null,null,"    Industry - textile and leather",null,{"$f":"'BAU projected Energy Balances'!D256","v":0},null,"Wind",{"$f":"'BAU projected Energy Balances'!G256","v":0},{"$f":"'BAU projected Energy Balances'!H256","v":1}]
[null,null,"    Industry - miscellaneous",null,{"$f":"'BAU projected Energy Balances'!D257","v":0},null,"Solar",{"$f":"'BAU projected Energy Balances'!G257","v":0},{"$f":"'BAU projected Energy Balances'!H257","v":1}]
[null,null,"    Transport - road",null,{"$f":"'BAU projected Energy Balances'!D258","v":0},null,"Biomass",{"$f":"'BAU projected Energy Balances'!G258","v":0},{"$f":"'BAU projected Energy Balances'!H258","v":1}]
[null,null,"    Transport - rail",null,{"$f":"'BAU projected Energy Balances'!D259","v":0},null,"Geothermal",{"$f":"'BAU projected Energy Balances'!G259","v":0},{"$f":"'BAU projected Energy Balances'!H259","v":1}]
[null,null,"    Transport - domestic air",null,{"$f":"'BAU projected Energy Balances'!D260","v":0}]
[null,null,"    Transport - navigation",null,{"$f":"'BAU projected Energy Balances'!D261","v":0}]
[null,null,"    Households",null,{"$f":"'BAU projected Energy Balances'!D262","v":0}]
[null,null,"    Services",null,{"$f":"'BAU projected Energy Balances'!D263","v":0}]
[null,null,"    Agriculture & Fishery",null,{"$f":"'BAU projected Energy Balances'!D264","v":0}]
[null,null,"    Non energy - chemical feedstocs",null,{"$f":"'BAU projected Energy Balances'!D265","v":0}]
["Projected Energy balance in the year 2040",{"$f":"'BAU projected Energy Balances'!A314","v":0},{"$f":"'BAU projected Energy Balances'!B314","v":"    Industry - non ferrous metals"},{"$f":"'BAU projected Energy Balances'!C314","v":0},{"$f":"'BAU projected Energy Balances'!D314","v":0},{"$f":"'BAU projected Energy Balances'!E314","v":0},{"$f":"'BAU projected Energy Balances'!F314","v":0},{"$f":"'BAU projected Energy Balances'!G314","v":0},{"$f":"'BAU projected Energy Balances'!H314","v":0},{"$f":"'BAU projected Energy Balances'!I314","v":0},{"$f":"'BAU projected Energy Balances'!J314","v":0},{"$f":"'BAU projected Energy Balances'!K314","v":0},{"$f":"'BAU projected Energy Balances'!L314","v":0},{"$f":"'BAU projected Energy Balances'!M314","v":0},{"$f":"'BAU projected Energy Balances'!N314","v":0},{"$f":"'BAU projected Energy Balances'!O314","v":0},{"$f":"'BAU projected Energy Balances'!P314","v":0},{"$f":"'BAU projected Energy Balances'!Q314","v":0},{"$f":"'BAU projected Energy Balances'!R314","v":0}]
[]
[]
[]
[null,null,"Unit : TJ"]
[null,null,null,null,{"$f":"'BAU projected Energy Balances'!D274","v":"TJ"},{"$f":"'BAU projected Energy Balances'!E274","v":"TJ"},{"$f":"'BAU projected Energy Balances'!F274","v":"TJ"},{"$f":"'BAU projected Energy Balances'!G274","v":"TJ"},{"$f":"'BAU projected Energy Balances'!H274","v":"TJ"},{"$f":"'BAU projected Energy Balances'!I274","v":"TJ"},{"$f":"'BAU projected Energy Balances'!J274","v":"TJ"},{"$f":"'BAU projected Energy Balances'!K274","v":"TJ"},{"$f":"'BAU projected Energy Balances'!L274","v":"TJ"},{"$f":"'BAU projected Energy Balances'!M274","v":"TJ"},{"$f":"'BAU projected Energy Balances'!N274","v":"TJ"},{"$f":"'BAU projected Energy Balances'!O274","v":"TJ"},{"$f":"'BAU projected Energy Balances'!P274","v":"TJ"}]
[null,null,"Total consumption",null,{"$f":"'BAU projected Energy Balances'!D275","v":0},{"$f":"'BAU projected Energy Balances'!E275","v":0},{"$f":"'BAU projected Energy Balances'!F275","v":0},{"$f":"'BAU projected Energy Balances'!G275","v":0},{"$f":"'BAU projected Energy Balances'!H275","v":0},{"$f":"'BAU projected Energy Balances'!I275","v":0},{"$f":"'BAU projected Energy Balances'!J275","v":0},{"$f":"'BAU projected Energy Balances'!K275","v":0},{"$f":"'BAU projected Energy Balances'!L275","v":0},{"$f":"'BAU projected Energy Balances'!M275","v":0},{"$f":"'BAU projected Energy Balances'!N275","v":0},{"$f":"'BAU projected Energy Balances'!O275","v":0},{"$f":"'BAU projected Energy Balances'!P275","v":0}]
[null,null,"    Fossil power plants",null,{"$f":"'BAU projected Energy Balances'!D276","v":0},{"$f":"'BAU projected Energy Balances'!E276","v":0},{"$f":"'BAU projected Energy Balances'!F276","v":0},{"$f":"'BAU projected Energy Balances'!G276","v":0},{"$f":"'BAU projected Energy Balances'!H276","v":0},{"$f":"'BAU projected Energy Balances'!I276","v":0},{"$f":"'BAU projected Energy Balances'!J276","v":0},{"$f":"'BAU projected Energy Balances'!K276","v":0},{"$f":"'BAU projected Energy Balances'!L276","v":0},{"$f":"'BAU projected Energy Balances'!M276","v":0},{"$f":"'BAU projected Energy Balances'!N276","v":0},{"$f":"'BAU projected Energy Balances'!O276","v":0},{"$f":"'BAU projected Energy Balances'!P276","v":0}]
[null,null,"Final consumption",null,{"$f":"'BAU projected Energy Balances'!D277","v":0},{"$f":"'BAU projected Energy Balances'!E277","v":0},{"$f":"'BAU projected Energy Balances'!F277","v":0},{"$f":"'BAU projected Energy Balances'!G277","v":0},{"$f":"'BAU projected Energy Balances'!H277","v":0},{"$f":"'BAU projected Energy Balances'!I277","v":0},{"$f":"'BAU projected Energy Balances'!J277","v":0},{"$f":"'BAU projected Energy Balances'!K277","v":0},{"$f":"'BAU projected Energy Balances'!L277","v":0},{"$f":"'BAU projected Energy Balances'!M277","v":0},{"$f":"'BAU projected Energy Balances'!N277","v":0},{"$f":"'BAU projected Energy Balances'!O277","v":0},{"$f":"'BAU projected Energy Balances'!P277","v":0}]
[null,null,"    Industry - steel",null,{"$f":"'BAU projected Energy Balances'!D278","v":0},{"$f":"'BAU projected Energy Balances'!E278","v":0},{"$f":"'BAU projected Energy Balances'!F278","v":0},{"$f":"'BAU projected Energy Balances'!G278","v":0},{"$f":"'BAU projected Energy Balances'!H278","v":0},{"$f":"'BAU projected Energy Balances'!I278","v":0},{"$f":"'BAU projected Energy Balances'!J278","v":0},{"$f":"'BAU projected Energy Balances'!K278","v":0},{"$f":"'BAU projected Energy Balances'!L278","v":0},{"$f":"'BAU projected Energy Balances'!M278","v":0},{"$f":"'BAU projected Energy Balances'!N278","v":0},{"$f":"'BAU projected Energy Balances'!O278","v":0},{"$f":"'BAU projected Energy Balances'!P278","v":0}]
[null,null,"    Industry - chemical",null,{"$f":"'BAU projected Energy Balances'!D279","v":0},{"$f":"'BAU projected Energy Balances'!E279","v":0},{"$f":"'BAU projected Energy Balances'!F279","v":0},{"$f":"'BAU projected Energy Balances'!G279","v":0},{"$f":"'BAU projected Energy Balances'!H279","v":0},{"$f":"'BAU projected Energy Balances'!I279","v":0},{"$f":"'BAU projected Energy Balances'!J279","v":0},{"$f":"'BAU projected Energy Balances'!K279","v":0},{"$f":"'BAU projected Energy Balances'!L279","v":0},{"$f":"'BAU projected Energy Balances'!M279","v":0},{"$f":"'BAU projected Energy Balances'!N279","v":0},{"$f":"'BAU projected Energy Balances'!O279","v":0},{"$f":"'BAU projected Energy Balances'!P279","v":0}]
[null,null,"    Industry - non metallic mineral",null,{"$f":"'BAU projected Energy Balances'!D280","v":0},{"$f":"'BAU projected Energy Balances'!E280","v":0},{"$f":"'BAU projected Energy Balances'!F280","v":0},{"$f":"'BAU projected Energy Balances'!G280","v":0},{"$f":"'BAU projected Energy Balances'!H280","v":0},{"$f":"'BAU projected Energy Balances'!I280","v":0},{"$f":"'BAU projected Energy Balances'!J280","v":0},{"$f":"'BAU projected Energy Balances'!K280","v":0},{"$f":"'BAU projected Energy Balances'!L280","v":0},{"$f":"'BAU projected Energy Balances'!M280","v":0},{"$f":"'BAU projected Energy Balances'!N280","v":0},{"$f":"'BAU projected Energy Balances'!O280","v":0},{"$f":"'BAU projected Energy Balances'!P280","v":0}]
[null,null,"    Industry - food processing and beverage",null,{"$f":"'BAU projected Energy Balances'!D281","v":0},{"$f":"'BAU projected Energy Balances'!E281","v":0},{"$f":"'BAU projected Energy Balances'!F281","v":0},{"$f":"'BAU projected Energy Balances'!G281","v":0},{"$f":"'BAU projected Energy Balances'!H281","v":0},{"$f":"'BAU projected Energy Balances'!I281","v":0},{"$f":"'BAU projected Energy Balances'!J281","v":0},{"$f":"'BAU projected Energy Balances'!K281","v":0},{"$f":"'BAU projected Energy Balances'!L281","v":0},{"$f":"'BAU projected Energy Balances'!M281","v":0},{"$f":"'BAU projected Energy Balances'!N281","v":0},{"$f":"'BAU projected Energy Balances'!O281","v":0},{"$f":"'BAU projected Energy Balances'!P281","v":0}]
[null,null,"    Industry - construction",null,{"$f":"'BAU projected Energy Balances'!D282","v":0},{"$f":"'BAU projected Energy Balances'!E282","v":0},{"$f":"'BAU projected Energy Balances'!F282","v":0},{"$f":"'BAU projected Energy Balances'!G282","v":0},{"$f":"'BAU projected Energy Balances'!H282","v":0},{"$f":"'BAU projected Energy Balances'!I282","v":0},{"$f":"'BAU projected Energy Balances'!J282","v":0},{"$f":"'BAU projected Energy Balances'!K282","v":0},{"$f":"'BAU projected Energy Balances'!L282","v":0},{"$f":"'BAU projected Energy Balances'!M282","v":0},{"$f":"'BAU projected Energy Balances'!N282","v":0},{"$f":"'BAU projected Energy Balances'!O282","v":0},{"$f":"'BAU projected Energy Balances'!P282","v":0}]
[null,null,"    Industry - mining",null,{"$f":"'BAU projected Energy Balances'!D283","v":0},{"$f":"'BAU projected Energy Balances'!E283","v":0},{"$f":"'BAU projected Energy Balances'!F283","v":0},{"$f":"'BAU projected Energy Balances'!G283","v":0},{"$f":"'BAU projected Energy Balances'!H283","v":0},{"$f":"'BAU projected Energy Balances'!I283","v":0},{"$f":"'BAU projected Energy Balances'!J283","v":0},{"$f":"'BAU projected Energy Balances'!K283","v":0},{"$f":"'BAU projected Energy Balances'!L283","v":0},{"$f":"'BAU projected Energy Balances'!M283","v":0},{"$f":"'BAU projected Energy Balances'!N283","v":0},{"$f":"'BAU projected Energy Balances'!O283","v":0},{"$f":"'BAU projected Energy Balances'!P283","v":0}]
[null,null,"    Industry - machinery",null,{"$f":"'BAU projected Energy Balances'!D284","v":0},{"$f":"'BAU projected Energy Balances'!E284","v":0},{"$f":"'BAU projected Energy Balances'!F284","v":0},{"$f":"'BAU projected Energy Balances'!G284","v":0},{"$f":"'BAU projected Energy Balances'!H284","v":0},{"$f":"'BAU projected Energy Balances'!I284","v":0},{"$f":"'BAU projected Energy Balances'!J284","v":0},{"$f":"'BAU projected Energy Balances'!K284","v":0},{"$f":"'BAU projected Energy Balances'!L284","v":0},{"$f":"'BAU projected Energy Balances'!M284","v":0},{"$f":"'BAU projected Energy Balances'!N284","v":0},{"$f":"'BAU projected Energy Balances'!O284","v":0},{"$f":"'BAU projected Energy Balances'!P284","v":0}]
[null,null,"    Industry - non ferrous metals",null,{"$f":"'BAU projected Energy Balances'!D285","v":0},{"$f":"'BAU projected Energy Balances'!E285","v":0},{"$f":"'BAU projected Energy Balances'!F285","v":0},{"$f":"'BAU projected Energy Balances'!G285","v":0},{"$f":"'BAU projected Energy Balances'!H285","v":0},{"$f":"'BAU projected Energy Balances'!I285","v":0},{"$f":"'BAU projected Energy Balances'!J285","v":0},{"$f":"'BAU projected Energy Balances'!K285","v":0},{"$f":"'BAU projected Energy Balances'!L285","v":0},{"$f":"'BAU projected Energy Balances'!M285","v":0},{"$f":"'BAU projected Energy Balances'!N285","v":0},{"$f":"'BAU projected Energy Balances'!O285","v":0},{"$f":"'BAU projected Energy Balances'!P285","v":0}]
[null,null,"    Industry - paper and pulp",null,{"$f":"'BAU projected Energy Balances'!D286","v":0},{"$f":"'BAU projected Energy Balances'!E286","v":0},{"$f":"'BAU projected Energy Balances'!F286","v":0},{"$f":"'BAU projected Energy Balances'!G286","v":0},{"$f":"'BAU projected Energy Balances'!H286","v":0},{"$f":"'BAU projected Energy Balances'!I286","v":0},{"$f":"'BAU projected Energy Balances'!J286","v":0},{"$f":"'BAU projected Energy Balances'!K286","v":0},{"$f":"'BAU projected Energy Balances'!L286","v":0},{"$f":"'BAU projected Energy Balances'!M286","v":0},{"$f":"'BAU projected Energy Balances'!N286","v":0},{"$f":"'BAU projected Energy Balances'!O286","v":0},{"$f":"'BAU projected Energy Balances'!P286","v":0}]
[null,null,"    Industry - transport equipment",null,{"$f":"'BAU projected Energy Balances'!D287","v":0},{"$f":"'BAU projected Energy Balances'!E287","v":0},{"$f":"'BAU projected Energy Balances'!F287","v":0},{"$f":"'BAU projected Energy Balances'!G287","v":0},{"$f":"'BAU projected Energy Balances'!H287","v":0},{"$f":"'BAU projected Energy Balances'!I287","v":0},{"$f":"'BAU projected Energy Balances'!J287","v":0},{"$f":"'BAU projected Energy Balances'!K287","v":0},{"$f":"'BAU projected Energy Balances'!L287","v":0},{"$f":"'BAU projected Energy Balances'!M287","v":0},{"$f":"'BAU projected Energy Balances'!N287","v":0},{"$f":"'BAU projected Energy Balances'!O287","v":0},{"$f":"'BAU projected Energy Balances'!P287","v":0}]
[null,null,"    Industry - textile and leather",null,{"$f":"'BAU projected Energy Balances'!D288","v":0},{"$f":"'BAU projected Energy Balances'!E288","v":0},{"$f":"'BAU projected Energy Balances'!F288","v":0},{"$f":"'BAU projected Energy Balances'!G288","v":0},{"$f":"'BAU projected Energy Balances'!H288","v":0},{"$f":"'BAU projected Energy Balances'!I288","v":0},{"$f":"'BAU projected Energy Balances'!J288","v":0},{"$f":"'BAU projected Energy Balances'!K288","v":0},{"$f":"'BAU projected Energy Balances'!L288","v":0},{"$f":"'BAU projected Energy Balances'!M288","v":0},{"$f":"'BAU projected Energy Balances'!N288","v":0},{"$f":"'BAU projected Energy Balances'!O288","v":0},{"$f":"'BAU projected Energy Balances'!P288","v":0}]
[null,null,"    Industry - miscellaneous",null,{"$f":"'BAU projected Energy Balances'!D289","v":0},{"$f":"'BAU projected Energy Balances'!E289","v":0},{"$f":"'BAU projected Energy Balances'!F289","v":0},{"$f":"'BAU projected Energy Balances'!G289","v":0},{"$f":"'BAU projected Energy Balances'!H289","v":0},{"$f":"'BAU projected Energy Balances'!I289","v":0},{"$f":"'BAU projected Energy Balances'!J289","v":0},{"$f":"'BAU projected Energy Balances'!K289","v":0},{"$f":"'BAU projected Energy Balances'!L289","v":0},{"$f":"'BAU projected Energy Balances'!M289","v":0},{"$f":"'BAU projected Energy Balances'!N289","v":0},{"$f":"'BAU projected Energy Balances'!O289","v":0},{"$f":"'BAU projected Energy Balances'!P289","v":0}]
[null,null,"    Transport - road",null,{"$f":"'BAU projected Energy Balances'!D290","v":0},{"$f":"'BAU projected Energy Balances'!E290","v":0},{"$f":"'BAU projected Energy Balances'!F290","v":0},{"$f":"'BAU projected Energy Balances'!G290","v":0},{"$f":"'BAU projected Energy Balances'!H290","v":0},{"$f":"'BAU projected Energy Balances'!I290","v":0},{"$f":"'BAU projected Energy Balances'!J290","v":0},{"$f":"'BAU projected Energy Balances'!K290","v":0},{"$f":"'BAU projected Energy Balances'!L290","v":0},{"$f":"'BAU projected Energy Balances'!M290","v":0},{"$f":"'BAU projected Energy Balances'!N290","v":0},{"$f":"'BAU projected Energy Balances'!O290","v":0},{"$f":"'BAU projected Energy Balances'!P290","v":0}]
[null,null,"    Transport - rail",null,{"$f":"'BAU projected Energy Balances'!D291","v":0},{"$f":"'BAU projected Energy Balances'!E291","v":0},{"$f":"'BAU projected Energy Balances'!F291","v":0},{"$f":"'BAU projected Energy Balances'!G291","v":0},{"$f":"'BAU projected Energy Balances'!H291","v":0},{"$f":"'BAU projected Energy Balances'!I291","v":0},{"$f":"'BAU projected Energy Balances'!J291","v":0},{"$f":"'BAU projected Energy Balances'!K291","v":0},{"$f":"'BAU projected Energy Balances'!L291","v":0},{"$f":"'BAU projected Energy Balances'!M291","v":0},{"$f":"'BAU projected Energy Balances'!N291","v":0},{"$f":"'BAU projected Energy Balances'!O291","v":0},{"$f":"'BAU projected Energy Balances'!P291","v":0}]
[null,null,"    Transport - domestic air",null,{"$f":"'BAU projected Energy Balances'!D292","v":0},{"$f":"'BAU projected Energy Balances'!E292","v":0},{"$f":"'BAU projected Energy Balances'!F292","v":0},{"$f":"'BAU projected Energy Balances'!G292","v":0},{"$f":"'BAU projected Energy Balances'!H292","v":0},{"$f":"'BAU projected Energy Balances'!I292","v":0},{"$f":"'BAU projected Energy Balances'!J292","v":0},{"$f":"'BAU projected Energy Balances'!K292","v":0},{"$f":"'BAU projected Energy Balances'!L292","v":0},{"$f":"'BAU projected Energy Balances'!M292","v":0},{"$f":"'BAU projected Energy Balances'!N292","v":0},{"$f":"'BAU projected Energy Balances'!O292","v":0},{"$f":"'BAU projected Energy Balances'!P292","v":0}]
[null,null,"    Transport - navigation",null,{"$f":"'BAU projected Energy Balances'!D293","v":0},{"$f":"'BAU projected Energy Balances'!E293","v":0},{"$f":"'BAU projected Energy Balances'!F293","v":0},{"$f":"'BAU projected Energy Balances'!G293","v":0},{"$f":"'BAU projected Energy Balances'!H293","v":0},{"$f":"'BAU projected Energy Balances'!I293","v":0},{"$f":"'BAU projected Energy Balances'!J293","v":0},{"$f":"'BAU projected Energy Balances'!K293","v":0},{"$f":"'BAU projected Energy Balances'!L293","v":0},{"$f":"'BAU projected Energy Balances'!M293","v":0},{"$f":"'BAU projected Energy Balances'!N293","v":0},{"$f":"'BAU projected Energy Balances'!O293","v":0},{"$f":"'BAU projected Energy Balances'!P293","v":0}]
[null,null,"    Households",null,{"$f":"'BAU projected Energy Balances'!D294","v":0},{"$f":"'BAU projected Energy Balances'!E294","v":0},{"$f":"'BAU projected Energy Balances'!F294","v":0},{"$f":"'BAU projected Energy Balances'!G294","v":0},{"$f":"'BAU projected Energy Balances'!H294","v":0},{"$f":"'BAU projected Energy Balances'!I294","v":0},{"$f":"'BAU projected Energy Balances'!J294","v":0},{"$f":"'BAU projected Energy Balances'!K294","v":0},{"$f":"'BAU projected Energy Balances'!L294","v":0},{"$f":"'BAU projected Energy Balances'!M294","v":0},{"$f":"'BAU projected Energy Balances'!N294","v":0},{"$f":"'BAU projected Energy Balances'!O294","v":0},{"$f":"'BAU projected Energy Balances'!P294","v":0}]
[null,null,"    Services",null,{"$f":"'BAU projected Energy Balances'!D295","v":0},{"$f":"'BAU projected Energy Balances'!E295","v":0},{"$f":"'BAU projected Energy Balances'!F295","v":0},{"$f":"'BAU projected Energy Balances'!G295","v":0},{"$f":"'BAU projected Energy Balances'!H295","v":0},{"$f":"'BAU projected Energy Balances'!I295","v":0},{"$f":"'BAU projected Energy Balances'!J295","v":0},{"$f":"'BAU projected Energy Balances'!K295","v":0},{"$f":"'BAU projected Energy Balances'!L295","v":0},{"$f":"'BAU projected Energy Balances'!M295","v":0},{"$f":"'BAU projected Energy Balances'!N295","v":0},{"$f":"'BAU projected Energy Balances'!O295","v":0},{"$f":"'BAU projected Energy Balances'!P295","v":0}]
[null,null,"    Agriculture & Fishery",null,{"$f":"'BAU projected Energy Balances'!D296","v":0},{"$f":"'BAU projected Energy Balances'!E296","v":0},{"$f":"'BAU projected Energy Balances'!F296","v":0},{"$f":"'BAU projected Energy Balances'!G296","v":0},{"$f":"'BAU projected Energy Balances'!H296","v":0},{"$f":"'BAU projected Energy Balances'!I296","v":0},{"$f":"'BAU projected Energy Balances'!J296","v":0},{"$f":"'BAU projected Energy Balances'!K296","v":0},{"$f":"'BAU projected Energy Balances'!L296","v":0},{"$f":"'BAU projected Energy Balances'!M296","v":0},{"$f":"'BAU projected Energy Balances'!N296","v":0},{"$f":"'BAU projected Energy Balances'!O296","v":0},{"$f":"'BAU projected Energy Balances'!P296","v":0}]
[null,null,"    Non energy uses",null,{"$f":"'BAU projected Energy Balances'!D297","v":0},{"$f":"'BAU projected Energy Balances'!E297","v":0},{"$f":"'BAU projected Energy Balances'!F297","v":0},{"$f":"'BAU projected Energy Balances'!G297","v":0},{"$f":"'BAU projected Energy Balances'!H297","v":0},{"$f":"'BAU projected Energy Balances'!I297","v":0},{"$f":"'BAU projected Energy Balances'!J297","v":0},{"$f":"'BAU projected Energy Balances'!K297","v":0},{"$f":"'BAU projected Energy Balances'!L297","v":0},{"$f":"'BAU projected Energy Balances'!M297","v":0},{"$f":"'BAU projected Energy Balances'!N297","v":0},{"$f":"'BAU projected Energy Balances'!O297","v":0},{"$f":"'BAU projected Energy Balances'!P297","v":0}]
[]
[]
[null,null,{"$f":"'BAU projected Energy Balances'!B329","v":"Electricity balance in GWh - 2040"}]
[null,null,"Electricity consumption",null,"Gwh",null,"Electricity production","Gwh","Share of production*","Efficiency"]
[null,null,"Total consumption",null,{"$f":"'BAU projected Energy Balances'!D331","v":0},null,"Total",{"$f":"'BAU projected Energy Balances'!G331","v":0}]
[null,null,"    Industry - steel",null,{"$f":"'BAU projected Energy Balances'!D332","v":0},null,"Losses",{"$f":"'BAU projected Energy Balances'!G332","v":0},{"$f":"'BAU projected Energy Balances'!H332","v":1}]
[null,null,"    Industry - chemical",null,{"$f":"'BAU projected Energy Balances'!D333","v":0},null,"Fossil",{"$f":"'BAU projected Energy Balances'!G333","v":0},{"$f":"'BAU projected Energy Balances'!H333","v":4}]
[null,null,"    Industry - non metallic mineral",null,{"$f":"'BAU projected Energy Balances'!D334","v":0},null,"Lignite",{"$f":"'BAU projected Energy Balances'!G334","v":0},{"$f":"'BAU projected Energy Balances'!H334","v":1},{"$f":"'BAU projected Energy Balances'!I334","v":0}]
[null,null,"    Industry - food processing and beverage",null,{"$f":"'BAU projected Energy Balances'!D335","v":0},null,"Coal",{"$f":"'BAU projected Energy Balances'!G335","v":0},{"$f":"'BAU projected Energy Balances'!H335","v":1},{"$f":"'BAU projected Energy Balances'!I335","v":0}]
[null,null,"    Industry - construction",null,{"$f":"'BAU projected Energy Balances'!D336","v":0},null,"Oil",{"$f":"'BAU projected Energy Balances'!G336","v":0},{"$f":"'BAU projected Energy Balances'!H336","v":1},{"$f":"'BAU projected Energy Balances'!I336","v":0}]
[null,null,"    Industry - mining",null,{"$f":"'BAU projected Energy Balances'!D337","v":0},null,"Natural Gas",{"$f":"'BAU projected Energy Balances'!G337","v":0},{"$f":"'BAU projected Energy Balances'!H337","v":1},{"$f":"'BAU projected Energy Balances'!I337","v":0}]
[null,null,"    Industry - machinery",null,{"$f":"'BAU projected Energy Balances'!D338","v":0},null,"Nuclear",{"$f":"'BAU projected Energy Balances'!G338","v":0},{"$f":"'BAU projected Energy Balances'!H338","v":1}]
[null,null,"    Industry - non ferrous metals",null,{"$f":"'BAU projected Energy Balances'!D339","v":0},null,"Net import",{"$f":"'BAU projected Energy Balances'!G339","v":0},{"$f":"'BAU projected Energy Balances'!H339","v":1}]
[null,null,"    Industry - paper and pulp",null,{"$f":"'BAU projected Energy Balances'!D340","v":0},null,"Renewables",{"$f":"'BAU projected Energy Balances'!G340","v":0},{"$f":"'BAU projected Energy Balances'!H340","v":5}]
[null,null,"    Industry - transport equipment",null,{"$f":"'BAU projected Energy Balances'!D341","v":0},null,"Hydro",{"$f":"'BAU projected Energy Balances'!G341","v":0},{"$f":"'BAU projected Energy Balances'!H341","v":1}]
[null,null,"    Industry - textile and leather",null,{"$f":"'BAU projected Energy Balances'!D342","v":0},null,"Wind",{"$f":"'BAU projected Energy Balances'!G342","v":0},{"$f":"'BAU projected Energy Balances'!H342","v":1}]
[null,null,"    Industry - miscellaneous",null,{"$f":"'BAU projected Energy Balances'!D343","v":0},null,"Solar",{"$f":"'BAU projected Energy Balances'!G343","v":0},{"$f":"'BAU projected Energy Balances'!H343","v":1}]
[null,null,"    Transport - road",null,{"$f":"'BAU projected Energy Balances'!D344","v":0},null,"Biomass",{"$f":"'BAU projected Energy Balances'!G344","v":0},{"$f":"'BAU projected Energy Balances'!H344","v":1}]
[null,null,"    Transport - rail",null,{"$f":"'BAU projected Energy Balances'!D345","v":0},null,"Geothermal",{"$f":"'BAU projected Energy Balances'!G345","v":0},{"$f":"'BAU projected Energy Balances'!H345","v":1}]
[null,null,"    Transport - domestic air",null,{"$f":"'BAU projected Energy Balances'!D346","v":0}]
[null,null,"    Transport - navigation",null,{"$f":"'BAU projected Energy Balances'!D347","v":0}]
[null,null,"    Households",null,{"$f":"'BAU projected Energy Balances'!D348","v":0}]
[null,null,"    Services",null,{"$f":"'BAU projected Energy Balances'!D349","v":0}]
[null,null,"    Agriculture & Fishery",null,{"$f":"'BAU projected Energy Balances'!D350","v":0}]
[null,null,"    Non energy - chemical feedstocs",null,{"$f":"'BAU projected Energy Balances'!D351","v":0}]
["Projected Energy balance in the year 2045"]
[]
[]
[null,null,{"$f":"'BAU projected Energy Balances'!B358","v":"Fossil fuel balance - 2045 - "}]
[null,null,"Unit : TJ",null,"LPG","Gasoline","Jet Fuel","Diesel","Fueloil","Kerosene and other","Total oil products","Coal","Lignite","Gas","Coke","Petrocoke","Total"]
[null,null,"Unit",null,{"$f":"'BAU projected Energy Balances'!D360","v":"TJ"},{"$f":"'BAU projected Energy Balances'!E360","v":"TJ"},{"$f":"'BAU projected Energy Balances'!F360","v":"TJ"},{"$f":"'BAU projected Energy Balances'!G360","v":"TJ"},{"$f":"'BAU projected Energy Balances'!H360","v":"TJ"},{"$f":"'BAU projected Energy Balances'!I360","v":"TJ"},{"$f":"'BAU projected Energy Balances'!J360","v":"TJ"},{"$f":"'BAU projected Energy Balances'!K360","v":"TJ"},{"$f":"'BAU projected Energy Balances'!L360","v":"TJ"},{"$f":"'BAU projected Energy Balances'!M360","v":"TJ"},{"$f":"'BAU projected Energy Balances'!N360","v":"TJ"},{"$f":"'BAU projected Energy Balances'!O360","v":"TJ"},{"$f":"'BAU projected Energy Balances'!P360","v":"TJ"}]
[null,null,"Total consumption",null,{"$f":"'BAU projected Energy Balances'!D361","v":0},{"$f":"'BAU projected Energy Balances'!E361","v":0},{"$f":"'BAU projected Energy Balances'!F361","v":0},{"$f":"'BAU projected Energy Balances'!G361","v":0},{"$f":"'BAU projected Energy Balances'!H361","v":0},{"$f":"'BAU projected Energy Balances'!I361","v":0},{"$f":"'BAU projected Energy Balances'!J361","v":0},{"$f":"'BAU projected Energy Balances'!K361","v":0},{"$f":"'BAU projected Energy Balances'!L361","v":0},{"$f":"'BAU projected Energy Balances'!M361","v":0},{"$f":"'BAU projected Energy Balances'!N361","v":0},{"$f":"'BAU projected Energy Balances'!O361","v":0},{"$f":"'BAU projected Energy Balances'!P361","v":0}]
[null,null,"    Fossil power plants",null,{"$f":"'BAU projected Energy Balances'!D362","v":0},{"$f":"'BAU projected Energy Balances'!E362","v":0},{"$f":"'BAU projected Energy Balances'!F362","v":0},{"$f":"'BAU projected Energy Balances'!G362","v":0},{"$f":"'BAU projected Energy Balances'!H362","v":0},{"$f":"'BAU projected Energy Balances'!I362","v":0},{"$f":"'BAU projected Energy Balances'!J362","v":0},{"$f":"'BAU projected Energy Balances'!K362","v":0},{"$f":"'BAU projected Energy Balances'!L362","v":0},{"$f":"'BAU projected Energy Balances'!M362","v":0},{"$f":"'BAU projected Energy Balances'!N362","v":0},{"$f":"'BAU projected Energy Balances'!O362","v":0},{"$f":"'BAU projected Energy Balances'!P362","v":0}]
[null,null,"Final consumption",null,{"$f":"'BAU projected Energy Balances'!D363","v":0},{"$f":"'BAU projected Energy Balances'!E363","v":0},{"$f":"'BAU projected Energy Balances'!F363","v":0},{"$f":"'BAU projected Energy Balances'!G363","v":0},{"$f":"'BAU projected Energy Balances'!H363","v":0},{"$f":"'BAU projected Energy Balances'!I363","v":0},{"$f":"'BAU projected Energy Balances'!J363","v":0},{"$f":"'BAU projected Energy Balances'!K363","v":0},{"$f":"'BAU projected Energy Balances'!L363","v":0},{"$f":"'BAU projected Energy Balances'!M363","v":0},{"$f":"'BAU projected Energy Balances'!N363","v":0},{"$f":"'BAU projected Energy Balances'!O363","v":0},{"$f":"'BAU projected Energy Balances'!P363","v":0}]
[null,null,"    Industry - steel",null,{"$f":"'BAU projected Energy Balances'!D364","v":0},{"$f":"'BAU projected Energy Balances'!E364","v":0},{"$f":"'BAU projected Energy Balances'!F364","v":0},{"$f":"'BAU projected Energy Balances'!G364","v":0},{"$f":"'BAU projected Energy Balances'!H364","v":0},{"$f":"'BAU projected Energy Balances'!I364","v":0},{"$f":"'BAU projected Energy Balances'!J364","v":0},{"$f":"'BAU projected Energy Balances'!K364","v":0},{"$f":"'BAU projected Energy Balances'!L364","v":0},{"$f":"'BAU projected Energy Balances'!M364","v":0},{"$f":"'BAU projected Energy Balances'!N364","v":0},{"$f":"'BAU projected Energy Balances'!O364","v":0},{"$f":"'BAU projected Energy Balances'!P364","v":0}]
[null,null,"    Industry - chemical",null,{"$f":"'BAU projected Energy Balances'!D365","v":0},{"$f":"'BAU projected Energy Balances'!E365","v":0},{"$f":"'BAU projected Energy Balances'!F365","v":0},{"$f":"'BAU projected Energy Balances'!G365","v":0},{"$f":"'BAU projected Energy Balances'!H365","v":0},{"$f":"'BAU projected Energy Balances'!I365","v":0},{"$f":"'BAU projected Energy Balances'!J365","v":0},{"$f":"'BAU projected Energy Balances'!K365","v":0},{"$f":"'BAU projected Energy Balances'!L365","v":0},{"$f":"'BAU projected Energy Balances'!M365","v":0},{"$f":"'BAU projected Energy Balances'!N365","v":0},{"$f":"'BAU projected Energy Balances'!O365","v":0},{"$f":"'BAU projected Energy Balances'!P365","v":0}]
[null,null,"    Industry - non metallic mineral",null,{"$f":"'BAU projected Energy Balances'!D366","v":0},{"$f":"'BAU projected Energy Balances'!E366","v":0},{"$f":"'BAU projected Energy Balances'!F366","v":0},{"$f":"'BAU projected Energy Balances'!G366","v":0},{"$f":"'BAU projected Energy Balances'!H366","v":0},{"$f":"'BAU projected Energy Balances'!I366","v":0},{"$f":"'BAU projected Energy Balances'!J366","v":0},{"$f":"'BAU projected Energy Balances'!K366","v":0},{"$f":"'BAU projected Energy Balances'!L366","v":0},{"$f":"'BAU projected Energy Balances'!M366","v":0},{"$f":"'BAU projected Energy Balances'!N366","v":0},{"$f":"'BAU projected Energy Balances'!O366","v":0},{"$f":"'BAU projected Energy Balances'!P366","v":0}]
[null,null,"    Industry - food processing and beverage",null,{"$f":"'BAU projected Energy Balances'!D367","v":0},{"$f":"'BAU projected Energy Balances'!E367","v":0},{"$f":"'BAU projected Energy Balances'!F367","v":0},{"$f":"'BAU projected Energy Balances'!G367","v":0},{"$f":"'BAU projected Energy Balances'!H367","v":0},{"$f":"'BAU projected Energy Balances'!I367","v":0},{"$f":"'BAU projected Energy Balances'!J367","v":0},{"$f":"'BAU projected Energy Balances'!K367","v":0},{"$f":"'BAU projected Energy Balances'!L367","v":0},{"$f":"'BAU projected Energy Balances'!M367","v":0},{"$f":"'BAU projected Energy Balances'!N367","v":0},{"$f":"'BAU projected Energy Balances'!O367","v":0},{"$f":"'BAU projected Energy Balances'!P367","v":0}]
[null,null,"    Industry - construction",null,{"$f":"'BAU projected Energy Balances'!D368","v":0},{"$f":"'BAU projected Energy Balances'!E368","v":0},{"$f":"'BAU projected Energy Balances'!F368","v":0},{"$f":"'BAU projected Energy Balances'!G368","v":0},{"$f":"'BAU projected Energy Balances'!H368","v":0},{"$f":"'BAU projected Energy Balances'!I368","v":0},{"$f":"'BAU projected Energy Balances'!J368","v":0},{"$f":"'BAU projected Energy Balances'!K368","v":0},{"$f":"'BAU projected Energy Balances'!L368","v":0},{"$f":"'BAU projected Energy Balances'!M368","v":0},{"$f":"'BAU projected Energy Balances'!N368","v":0},{"$f":"'BAU projected Energy Balances'!O368","v":0},{"$f":"'BAU projected Energy Balances'!P368","v":0}]
[null,null,"    Industry - mining",null,{"$f":"'BAU projected Energy Balances'!D369","v":0},{"$f":"'BAU projected Energy Balances'!E369","v":0},{"$f":"'BAU projected Energy Balances'!F369","v":0},{"$f":"'BAU projected Energy Balances'!G369","v":0},{"$f":"'BAU projected Energy Balances'!H369","v":0},{"$f":"'BAU projected Energy Balances'!I369","v":0},{"$f":"'BAU projected Energy Balances'!J369","v":0},{"$f":"'BAU projected Energy Balances'!K369","v":0},{"$f":"'BAU projected Energy Balances'!L369","v":0},{"$f":"'BAU projected Energy Balances'!M369","v":0},{"$f":"'BAU projected Energy Balances'!N369","v":0},{"$f":"'BAU projected Energy Balances'!O369","v":0},{"$f":"'BAU projected Energy Balances'!P369","v":0}]
[null,null,"    Industry - machinery",null,{"$f":"'BAU projected Energy Balances'!D370","v":0},{"$f":"'BAU projected Energy Balances'!E370","v":0},{"$f":"'BAU projected Energy Balances'!F370","v":0},{"$f":"'BAU projected Energy Balances'!G370","v":0},{"$f":"'BAU projected Energy Balances'!H370","v":0},{"$f":"'BAU projected Energy Balances'!I370","v":0},{"$f":"'BAU projected Energy Balances'!J370","v":0},{"$f":"'BAU projected Energy Balances'!K370","v":0},{"$f":"'BAU projected Energy Balances'!L370","v":0},{"$f":"'BAU projected Energy Balances'!M370","v":0},{"$f":"'BAU projected Energy Balances'!N370","v":0},{"$f":"'BAU projected Energy Balances'!O370","v":0},{"$f":"'BAU projected Energy Balances'!P370","v":0}]
[null,null,"    Industry - non ferrous metals",null,{"$f":"'BAU projected Energy Balances'!D371","v":0},{"$f":"'BAU projected Energy Balances'!E371","v":0},{"$f":"'BAU projected Energy Balances'!F371","v":0},{"$f":"'BAU projected Energy Balances'!G371","v":0},{"$f":"'BAU projected Energy Balances'!H371","v":0},{"$f":"'BAU projected Energy Balances'!I371","v":0},{"$f":"'BAU projected Energy Balances'!J371","v":0},{"$f":"'BAU projected Energy Balances'!K371","v":0},{"$f":"'BAU projected Energy Balances'!L371","v":0},{"$f":"'BAU projected Energy Balances'!M371","v":0},{"$f":"'BAU projected Energy Balances'!N371","v":0},{"$f":"'BAU projected Energy Balances'!O371","v":0},{"$f":"'BAU projected Energy Balances'!P371","v":0}]
[null,null,"    Industry - paper and pulp",null,{"$f":"'BAU projected Energy Balances'!D372","v":0},{"$f":"'BAU projected Energy Balances'!E372","v":0},{"$f":"'BAU projected Energy Balances'!F372","v":0},{"$f":"'BAU projected Energy Balances'!G372","v":0},{"$f":"'BAU projected Energy Balances'!H372","v":0},{"$f":"'BAU projected Energy Balances'!I372","v":0},{"$f":"'BAU projected Energy Balances'!J372","v":0},{"$f":"'BAU projected Energy Balances'!K372","v":0},{"$f":"'BAU projected Energy Balances'!L372","v":0},{"$f":"'BAU projected Energy Balances'!M372","v":0},{"$f":"'BAU projected Energy Balances'!N372","v":0},{"$f":"'BAU projected Energy Balances'!O372","v":0},{"$f":"'BAU projected Energy Balances'!P372","v":0}]
[null,null,"    Industry - transport equipment",null,{"$f":"'BAU projected Energy Balances'!D373","v":0},{"$f":"'BAU projected Energy Balances'!E373","v":0},{"$f":"'BAU projected Energy Balances'!F373","v":0},{"$f":"'BAU projected Energy Balances'!G373","v":0},{"$f":"'BAU projected Energy Balances'!H373","v":0},{"$f":"'BAU projected Energy Balances'!I373","v":0},{"$f":"'BAU projected Energy Balances'!J373","v":0},{"$f":"'BAU projected Energy Balances'!K373","v":0},{"$f":"'BAU projected Energy Balances'!L373","v":0},{"$f":"'BAU projected Energy Balances'!M373","v":0},{"$f":"'BAU projected Energy Balances'!N373","v":0},{"$f":"'BAU projected Energy Balances'!O373","v":0},{"$f":"'BAU projected Energy Balances'!P373","v":0}]
[null,null,"    Industry - textile and leather",null,{"$f":"'BAU projected Energy Balances'!D374","v":0},{"$f":"'BAU projected Energy Balances'!E374","v":0},{"$f":"'BAU projected Energy Balances'!F374","v":0},{"$f":"'BAU projected Energy Balances'!G374","v":0},{"$f":"'BAU projected Energy Balances'!H374","v":0},{"$f":"'BAU projected Energy Balances'!I374","v":0},{"$f":"'BAU projected Energy Balances'!J374","v":0},{"$f":"'BAU projected Energy Balances'!K374","v":0},{"$f":"'BAU projected Energy Balances'!L374","v":0},{"$f":"'BAU projected Energy Balances'!M374","v":0},{"$f":"'BAU projected Energy Balances'!N374","v":0},{"$f":"'BAU projected Energy Balances'!O374","v":0},{"$f":"'BAU projected Energy Balances'!P374","v":0}]
[null,null,"    Industry - miscellaneous",null,{"$f":"'BAU projected Energy Balances'!D375","v":0},{"$f":"'BAU projected Energy Balances'!E375","v":0},{"$f":"'BAU projected Energy Balances'!F375","v":0},{"$f":"'BAU projected Energy Balances'!G375","v":0},{"$f":"'BAU projected Energy Balances'!H375","v":0},{"$f":"'BAU projected Energy Balances'!I375","v":0},{"$f":"'BAU projected Energy Balances'!J375","v":0},{"$f":"'BAU projected Energy Balances'!K375","v":0},{"$f":"'BAU projected Energy Balances'!L375","v":0},{"$f":"'BAU projected Energy Balances'!M375","v":0},{"$f":"'BAU projected Energy Balances'!N375","v":0},{"$f":"'BAU projected Energy Balances'!O375","v":0},{"$f":"'BAU projected Energy Balances'!P375","v":0}]
[null,null,"    Transport - road",null,{"$f":"'BAU projected Energy Balances'!D376","v":0},{"$f":"'BAU projected Energy Balances'!E376","v":0},{"$f":"'BAU projected Energy Balances'!F376","v":0},{"$f":"'BAU projected Energy Balances'!G376","v":0},{"$f":"'BAU projected Energy Balances'!H376","v":0},{"$f":"'BAU projected Energy Balances'!I376","v":0},{"$f":"'BAU projected Energy Balances'!J376","v":0},{"$f":"'BAU projected Energy Balances'!K376","v":0},{"$f":"'BAU projected Energy Balances'!L376","v":0},{"$f":"'BAU projected Energy Balances'!M376","v":0},{"$f":"'BAU projected Energy Balances'!N376","v":0},{"$f":"'BAU projected Energy Balances'!O376","v":0},{"$f":"'BAU projected Energy Balances'!P376","v":0}]
[null,null,"    Transport - rail",null,{"$f":"'BAU projected Energy Balances'!D377","v":0},{"$f":"'BAU projected Energy Balances'!E377","v":0},{"$f":"'BAU projected Energy Balances'!F377","v":0},{"$f":"'BAU projected Energy Balances'!G377","v":0},{"$f":"'BAU projected Energy Balances'!H377","v":0},{"$f":"'BAU projected Energy Balances'!I377","v":0},{"$f":"'BAU projected Energy Balances'!J377","v":0},{"$f":"'BAU projected Energy Balances'!K377","v":0},{"$f":"'BAU projected Energy Balances'!L377","v":0},{"$f":"'BAU projected Energy Balances'!M377","v":0},{"$f":"'BAU projected Energy Balances'!N377","v":0},{"$f":"'BAU projected Energy Balances'!O377","v":0},{"$f":"'BAU projected Energy Balances'!P377","v":0}]
[null,null,"    Transport - domestic air",null,{"$f":"'BAU projected Energy Balances'!D378","v":0},{"$f":"'BAU projected Energy Balances'!E378","v":0},{"$f":"'BAU projected Energy Balances'!F378","v":0},{"$f":"'BAU projected Energy Balances'!G378","v":0},{"$f":"'BAU projected Energy Balances'!H378","v":0},{"$f":"'BAU projected Energy Balances'!I378","v":0},{"$f":"'BAU projected Energy Balances'!J378","v":0},{"$f":"'BAU projected Energy Balances'!K378","v":0},{"$f":"'BAU projected Energy Balances'!L378","v":0},{"$f":"'BAU projected Energy Balances'!M378","v":0},{"$f":"'BAU projected Energy Balances'!N378","v":0},{"$f":"'BAU projected Energy Balances'!O378","v":0},{"$f":"'BAU projected Energy Balances'!P378","v":0}]
[null,null,"    Transport - navigation",null,{"$f":"'BAU projected Energy Balances'!D379","v":0},{"$f":"'BAU projected Energy Balances'!E379","v":0},{"$f":"'BAU projected Energy Balances'!F379","v":0},{"$f":"'BAU projected Energy Balances'!G379","v":0},{"$f":"'BAU projected Energy Balances'!H379","v":0},{"$f":"'BAU projected Energy Balances'!I379","v":0},{"$f":"'BAU projected Energy Balances'!J379","v":0},{"$f":"'BAU projected Energy Balances'!K379","v":0},{"$f":"'BAU projected Energy Balances'!L379","v":0},{"$f":"'BAU projected Energy Balances'!M379","v":0},{"$f":"'BAU projected Energy Balances'!N379","v":0},{"$f":"'BAU projected Energy Balances'!O379","v":0},{"$f":"'BAU projected Energy Balances'!P379","v":0}]
[null,null,"    Households",null,{"$f":"'BAU projected Energy Balances'!D380","v":0},{"$f":"'BAU projected Energy Balances'!E380","v":0},{"$f":"'BAU projected Energy Balances'!F380","v":0},{"$f":"'BAU projected Energy Balances'!G380","v":0},{"$f":"'BAU projected Energy Balances'!H380","v":0},{"$f":"'BAU projected Energy Balances'!I380","v":0},{"$f":"'BAU projected Energy Balances'!J380","v":0},{"$f":"'BAU projected Energy Balances'!K380","v":0},{"$f":"'BAU projected Energy Balances'!L380","v":0},{"$f":"'BAU projected Energy Balances'!M380","v":0},{"$f":"'BAU projected Energy Balances'!N380","v":0},{"$f":"'BAU projected Energy Balances'!O380","v":0},{"$f":"'BAU projected Energy Balances'!P380","v":0}]
[null,null,"    Services",null,{"$f":"'BAU projected Energy Balances'!D381","v":0},{"$f":"'BAU projected Energy Balances'!E381","v":0},{"$f":"'BAU projected Energy Balances'!F381","v":0},{"$f":"'BAU projected Energy Balances'!G381","v":0},{"$f":"'BAU projected Energy Balances'!H381","v":0},{"$f":"'BAU projected Energy Balances'!I381","v":0},{"$f":"'BAU projected Energy Balances'!J381","v":0},{"$f":"'BAU projected Energy Balances'!K381","v":0},{"$f":"'BAU projected Energy Balances'!L381","v":0},{"$f":"'BAU projected Energy Balances'!M381","v":0},{"$f":"'BAU projected Energy Balances'!N381","v":0},{"$f":"'BAU projected Energy Balances'!O381","v":0},{"$f":"'BAU projected Energy Balances'!P381","v":0}]
[null,null,"    Agriculture & Fishery",null,{"$f":"'BAU projected Energy Balances'!D382","v":0},{"$f":"'BAU projected Energy Balances'!E382","v":0},{"$f":"'BAU projected Energy Balances'!F382","v":0},{"$f":"'BAU projected Energy Balances'!G382","v":0},{"$f":"'BAU projected Energy Balances'!H382","v":0},{"$f":"'BAU projected Energy Balances'!I382","v":0},{"$f":"'BAU projected Energy Balances'!J382","v":0},{"$f":"'BAU projected Energy Balances'!K382","v":0},{"$f":"'BAU projected Energy Balances'!L382","v":0},{"$f":"'BAU projected Energy Balances'!M382","v":0},{"$f":"'BAU projected Energy Balances'!N382","v":0},{"$f":"'BAU projected Energy Balances'!O382","v":0},{"$f":"'BAU projected Energy Balances'!P382","v":0}]
[null,null,"    Non energy uses",null,{"$f":"'BAU projected Energy Balances'!D383","v":0},{"$f":"'BAU projected Energy Balances'!E383","v":0},{"$f":"'BAU projected Energy Balances'!F383","v":0},{"$f":"'BAU projected Energy Balances'!G383","v":0},{"$f":"'BAU projected Energy Balances'!H383","v":0},{"$f":"'BAU projected Energy Balances'!I383","v":0},{"$f":"'BAU projected Energy Balances'!J383","v":0},{"$f":"'BAU projected Energy Balances'!K383","v":0},{"$f":"'BAU projected Energy Balances'!L383","v":0},{"$f":"'BAU projected Energy Balances'!M383","v":0},{"$f":"'BAU projected Energy Balances'!N383","v":0},{"$f":"'BAU projected Energy Balances'!O383","v":0},{"$f":"'BAU projected Energy Balances'!P383","v":0}]
[]
[]
[null,null,{"$f":"'BAU projected Energy Balances'!B415","v":"Electricity balance in GWh - 2045"}]
[null,null,"Electricity consumption",null,"Gwh",null,"Electricity production","Gwh","Share of production*","Efficiency"]
[null,null,"Total consumption",null,{"$f":"'BAU projected Energy Balances'!D417","v":0},null,"Total",{"$f":"'BAU projected Energy Balances'!G417","v":0}]
[null,null,"    Industry - steel",null,{"$f":"'BAU projected Energy Balances'!D418","v":0},null,"Losses",{"$f":"'BAU projected Energy Balances'!G418","v":0},{"$f":"'BAU projected Energy Balances'!H418","v":1}]
[null,null,"    Industry - chemical",null,{"$f":"'BAU projected Energy Balances'!D419","v":0},null,"Fossil",{"$f":"'BAU projected Energy Balances'!G419","v":0},{"$f":"'BAU projected Energy Balances'!H419","v":4}]
[null,null,"    Industry - non metallic mineral",null,{"$f":"'BAU projected Energy Balances'!D420","v":0},null,"Lignite",{"$f":"'BAU projected Energy Balances'!G420","v":0},{"$f":"'BAU projected Energy Balances'!H420","v":1},{"$f":"'BAU projected Energy Balances'!I420","v":0}]
[null,null,"    Industry - food processing and beverage",null,{"$f":"'BAU projected Energy Balances'!D421","v":0},null,"Coal",{"$f":"'BAU projected Energy Balances'!G421","v":0},{"$f":"'BAU projected Energy Balances'!H421","v":1},{"$f":"'BAU projected Energy Balances'!I421","v":0}]
[null,null,"    Industry - construction",null,{"$f":"'BAU projected Energy Balances'!D422","v":0},null,"Oil",{"$f":"'BAU projected Energy Balances'!G422","v":0},{"$f":"'BAU projected Energy Balances'!H422","v":1},{"$f":"'BAU projected Energy Balances'!I422","v":0}]
[null,null,"    Industry - mining",null,{"$f":"'BAU projected Energy Balances'!D423","v":0},null,"Natural Gas",{"$f":"'BAU projected Energy Balances'!G423","v":0},{"$f":"'BAU projected Energy Balances'!H423","v":1},{"$f":"'BAU projected Energy Balances'!I423","v":0}]
[null,null,"    Industry - machinery",null,{"$f":"'BAU projected Energy Balances'!D424","v":0},null,"Nuclear",{"$f":"'BAU projected Energy Balances'!G424","v":0},{"$f":"'BAU projected Energy Balances'!H424","v":1}]
[null,null,"    Industry - non ferrous metals",null,{"$f":"'BAU projected Energy Balances'!D425","v":0},null,"Net import",{"$f":"'BAU projected Energy Balances'!G425","v":0},{"$f":"'BAU projected Energy Balances'!H425","v":1}]
[null,null,"    Industry - paper and pulp",null,{"$f":"'BAU projected Energy Balances'!D426","v":0},null,"Renewables",{"$f":"'BAU projected Energy Balances'!G426","v":0},{"$f":"'BAU projected Energy Balances'!H426","v":5}]
[null,null,"    Industry - transport equipment",null,{"$f":"'BAU projected Energy Balances'!D427","v":0},null,"Hydro",{"$f":"'BAU projected Energy Balances'!G427","v":0},{"$f":"'BAU projected Energy Balances'!H427","v":1}]
[null,null,"    Industry - textile and leather",null,{"$f":"'BAU projected Energy Balances'!D428","v":0},null,"Wind",{"$f":"'BAU projected Energy Balances'!G428","v":0},{"$f":"'BAU projected Energy Balances'!H428","v":1}]
[null,null,"    Industry - miscellaneous",null,{"$f":"'BAU projected Energy Balances'!D429","v":0},null,"Solar",{"$f":"'BAU projected Energy Balances'!G429","v":0},{"$f":"'BAU projected Energy Balances'!H429","v":1}]
[null,null,"    Transport - road",null,{"$f":"'BAU projected Energy Balances'!D430","v":0},null,"Biomass",{"$f":"'BAU projected Energy Balances'!G430","v":0},{"$f":"'BAU projected Energy Balances'!H430","v":1}]
[null,null,"    Transport - rail",null,{"$f":"'BAU projected Energy Balances'!D431","v":0},null,"Geothermal",{"$f":"'BAU projected Energy Balances'!G431","v":0},{"$f":"'BAU projected Energy Balances'!H431","v":1}]
[null,null,"    Transport - domestic air",null,{"$f":"'BAU projected Energy Balances'!D432","v":0}]
[null,null,"    Transport - navigation",null,{"$f":"'BAU projected Energy Balances'!D433","v":0}]
[null,null,"    Households",null,{"$f":"'BAU projected Energy Balances'!D434","v":0}]
[null,null,"    Services",null,{"$f":"'BAU projected Energy Balances'!D435","v":0}]
[null,null,"    Agriculture & Fishery",null,{"$f":"'BAU projected Energy Balances'!D436","v":0}]
[null,null,"    Non energy - chemical feedstocs",null,{"$f":"'BAU projected Energy Balances'!D437","v":0}]
["Projected Energy balance in the year 2050"]
[]
[]
[null,null,{"$f":"'BAU projected Energy Balances'!B473","v":"Fossil fuel balance - 2050 - "}]
[null,null,"Unit : TJ",null,"LPG","Gasoline","Jet Fuel","Diesel","Fueloil","Kerosene and other","Total oil products","Coal","Lignite","Gas","Coke","Petrocoke","Total"]
[null,null,"Unit",null,{"$f":"'BAU projected Energy Balances'!D446","v":"TJ"},{"$f":"'BAU projected Energy Balances'!E446","v":"TJ"},{"$f":"'BAU projected Energy Balances'!F446","v":"TJ"},{"$f":"'BAU projected Energy Balances'!G446","v":"TJ"},{"$f":"'BAU projected Energy Balances'!H446","v":"TJ"},{"$f":"'BAU projected Energy Balances'!I446","v":"TJ"},{"$f":"'BAU projected Energy Balances'!J446","v":"TJ"},{"$f":"'BAU projected Energy Balances'!K446","v":"TJ"},{"$f":"'BAU projected Energy Balances'!L446","v":"TJ"},{"$f":"'BAU projected Energy Balances'!M446","v":"TJ"},{"$f":"'BAU projected Energy Balances'!N446","v":"TJ"},{"$f":"'BAU projected Energy Balances'!O446","v":"TJ"},{"$f":"'BAU projected Energy Balances'!P446","v":"TJ"}]
[null,null,"Total consumption",null,{"$f":"'BAU projected Energy Balances'!D447","v":0},{"$f":"'BAU projected Energy Balances'!E447","v":0},{"$f":"'BAU projected Energy Balances'!F447","v":0},{"$f":"'BAU projected Energy Balances'!G447","v":0},{"$f":"'BAU projected Energy Balances'!H447","v":0},{"$f":"'BAU projected Energy Balances'!I447","v":0},{"$f":"'BAU projected Energy Balances'!J447","v":0},{"$f":"'BAU projected Energy Balances'!K447","v":0},{"$f":"'BAU projected Energy Balances'!L447","v":0},{"$f":"'BAU projected Energy Balances'!M447","v":0},{"$f":"'BAU projected Energy Balances'!N447","v":0},{"$f":"'BAU projected Energy Balances'!O447","v":0},{"$f":"'BAU projected Energy Balances'!P447","v":0}]
[null,null,"    Fossil power plants",null,{"$f":"'BAU projected Energy Balances'!D448","v":0},{"$f":"'BAU projected Energy Balances'!E448","v":0},{"$f":"'BAU projected Energy Balances'!F448","v":0},{"$f":"'BAU projected Energy Balances'!G448","v":0},{"$f":"'BAU projected Energy Balances'!H448","v":0},{"$f":"'BAU projected Energy Balances'!I448","v":0},{"$f":"'BAU projected Energy Balances'!J448","v":0},{"$f":"'BAU projected Energy Balances'!K448","v":0},{"$f":"'BAU projected Energy Balances'!L448","v":0},{"$f":"'BAU projected Energy Balances'!M448","v":0},{"$f":"'BAU projected Energy Balances'!N448","v":0},{"$f":"'BAU projected Energy Balances'!O448","v":0},{"$f":"'BAU projected Energy Balances'!P448","v":0}]
[null,null,"Final consumption",null,{"$f":"'BAU projected Energy Balances'!D449","v":0},{"$f":"'BAU projected Energy Balances'!E449","v":0},{"$f":"'BAU projected Energy Balances'!F449","v":0},{"$f":"'BAU projected Energy Balances'!G449","v":0},{"$f":"'BAU projected Energy Balances'!H449","v":0},{"$f":"'BAU projected Energy Balances'!I449","v":0},{"$f":"'BAU projected Energy Balances'!J449","v":0},{"$f":"'BAU projected Energy Balances'!K449","v":0},{"$f":"'BAU projected Energy Balances'!L449","v":0},{"$f":"'BAU projected Energy Balances'!M449","v":0},{"$f":"'BAU projected Energy Balances'!N449","v":0},{"$f":"'BAU projected Energy Balances'!O449","v":0},{"$f":"'BAU projected Energy Balances'!P449","v":0}]
[null,null,"    Industry - steel",null,{"$f":"'BAU projected Energy Balances'!D450","v":0},{"$f":"'BAU projected Energy Balances'!E450","v":0},{"$f":"'BAU projected Energy Balances'!F450","v":0},{"$f":"'BAU projected Energy Balances'!G450","v":0},{"$f":"'BAU projected Energy Balances'!H450","v":0},{"$f":"'BAU projected Energy Balances'!I450","v":0},{"$f":"'BAU projected Energy Balances'!J450","v":0},{"$f":"'BAU projected Energy Balances'!K450","v":0},{"$f":"'BAU projected Energy Balances'!L450","v":0},{"$f":"'BAU projected Energy Balances'!M450","v":0},{"$f":"'BAU projected Energy Balances'!N450","v":0},{"$f":"'BAU projected Energy Balances'!O450","v":0},{"$f":"'BAU projected Energy Balances'!P450","v":0}]
[null,null,"    Industry - chemical",null,{"$f":"'BAU projected Energy Balances'!D451","v":0},{"$f":"'BAU projected Energy Balances'!E451","v":0},{"$f":"'BAU projected Energy Balances'!F451","v":0},{"$f":"'BAU projected Energy Balances'!G451","v":0},{"$f":"'BAU projected Energy Balances'!H451","v":0},{"$f":"'BAU projected Energy Balances'!I451","v":0},{"$f":"'BAU projected Energy Balances'!J451","v":0},{"$f":"'BAU projected Energy Balances'!K451","v":0},{"$f":"'BAU projected Energy Balances'!L451","v":0},{"$f":"'BAU projected Energy Balances'!M451","v":0},{"$f":"'BAU projected Energy Balances'!N451","v":0},{"$f":"'BAU projected Energy Balances'!O451","v":0},{"$f":"'BAU projected Energy Balances'!P451","v":0}]
[null,null,"    Industry - non metallic mineral",null,{"$f":"'BAU projected Energy Balances'!D452","v":0},{"$f":"'BAU projected Energy Balances'!E452","v":0},{"$f":"'BAU projected Energy Balances'!F452","v":0},{"$f":"'BAU projected Energy Balances'!G452","v":0},{"$f":"'BAU projected Energy Balances'!H452","v":0},{"$f":"'BAU projected Energy Balances'!I452","v":0},{"$f":"'BAU projected Energy Balances'!J452","v":0},{"$f":"'BAU projected Energy Balances'!K452","v":0},{"$f":"'BAU projected Energy Balances'!L452","v":0},{"$f":"'BAU projected Energy Balances'!M452","v":0},{"$f":"'BAU projected Energy Balances'!N452","v":0},{"$f":"'BAU projected Energy Balances'!O452","v":0},{"$f":"'BAU projected Energy Balances'!P452","v":0}]
[null,null,"    Industry - food processing and beverage",null,{"$f":"'BAU projected Energy Balances'!D453","v":0},{"$f":"'BAU projected Energy Balances'!E453","v":0},{"$f":"'BAU projected Energy Balances'!F453","v":0},{"$f":"'BAU projected Energy Balances'!G453","v":0},{"$f":"'BAU projected Energy Balances'!H453","v":0},{"$f":"'BAU projected Energy Balances'!I453","v":0},{"$f":"'BAU projected Energy Balances'!J453","v":0},{"$f":"'BAU projected Energy Balances'!K453","v":0},{"$f":"'BAU projected Energy Balances'!L453","v":0},{"$f":"'BAU projected Energy Balances'!M453","v":0},{"$f":"'BAU projected Energy Balances'!N453","v":0},{"$f":"'BAU projected Energy Balances'!O453","v":0},{"$f":"'BAU projected Energy Balances'!P453","v":0}]
[null,null,"    Industry - construction",null,{"$f":"'BAU projected Energy Balances'!D454","v":0},{"$f":"'BAU projected Energy Balances'!E454","v":0},{"$f":"'BAU projected Energy Balances'!F454","v":0},{"$f":"'BAU projected Energy Balances'!G454","v":0},{"$f":"'BAU projected Energy Balances'!H454","v":0},{"$f":"'BAU projected Energy Balances'!I454","v":0},{"$f":"'BAU projected Energy Balances'!J454","v":0},{"$f":"'BAU projected Energy Balances'!K454","v":0},{"$f":"'BAU projected Energy Balances'!L454","v":0},{"$f":"'BAU projected Energy Balances'!M454","v":0},{"$f":"'BAU projected Energy Balances'!N454","v":0},{"$f":"'BAU projected Energy Balances'!O454","v":0},{"$f":"'BAU projected Energy Balances'!P454","v":0}]
[null,null,"    Industry - mining",null,{"$f":"'BAU projected Energy Balances'!D455","v":0},{"$f":"'BAU projected Energy Balances'!E455","v":0},{"$f":"'BAU projected Energy Balances'!F455","v":0},{"$f":"'BAU projected Energy Balances'!G455","v":0},{"$f":"'BAU projected Energy Balances'!H455","v":0},{"$f":"'BAU projected Energy Balances'!I455","v":0},{"$f":"'BAU projected Energy Balances'!J455","v":0},{"$f":"'BAU projected Energy Balances'!K455","v":0},{"$f":"'BAU projected Energy Balances'!L455","v":0},{"$f":"'BAU projected Energy Balances'!M455","v":0},{"$f":"'BAU projected Energy Balances'!N455","v":0},{"$f":"'BAU projected Energy Balances'!O455","v":0},{"$f":"'BAU projected Energy Balances'!P455","v":0}]
[null,null,"    Industry - machinery",null,{"$f":"'BAU projected Energy Balances'!D456","v":0},{"$f":"'BAU projected Energy Balances'!E456","v":0},{"$f":"'BAU projected Energy Balances'!F456","v":0},{"$f":"'BAU projected Energy Balances'!G456","v":0},{"$f":"'BAU projected Energy Balances'!H456","v":0},{"$f":"'BAU projected Energy Balances'!I456","v":0},{"$f":"'BAU projected Energy Balances'!J456","v":0},{"$f":"'BAU projected Energy Balances'!K456","v":0},{"$f":"'BAU projected Energy Balances'!L456","v":0},{"$f":"'BAU projected Energy Balances'!M456","v":0},{"$f":"'BAU projected Energy Balances'!N456","v":0},{"$f":"'BAU projected Energy Balances'!O456","v":0},{"$f":"'BAU projected Energy Balances'!P456","v":0}]
[null,null,"    Industry - non ferrous metals",null,{"$f":"'BAU projected Energy Balances'!D457","v":0},{"$f":"'BAU projected Energy Balances'!E457","v":0},{"$f":"'BAU projected Energy Balances'!F457","v":0},{"$f":"'BAU projected Energy Balances'!G457","v":0},{"$f":"'BAU projected Energy Balances'!H457","v":0},{"$f":"'BAU projected Energy Balances'!I457","v":0},{"$f":"'BAU projected Energy Balances'!J457","v":0},{"$f":"'BAU projected Energy Balances'!K457","v":0},{"$f":"'BAU projected Energy Balances'!L457","v":0},{"$f":"'BAU projected Energy Balances'!M457","v":0},{"$f":"'BAU projected Energy Balances'!N457","v":0},{"$f":"'BAU projected Energy Balances'!O457","v":0},{"$f":"'BAU projected Energy Balances'!P457","v":0}]
[null,null,"    Industry - paper and pulp",null,{"$f":"'BAU projected Energy Balances'!D458","v":0},{"$f":"'BAU projected Energy Balances'!E458","v":0},{"$f":"'BAU projected Energy Balances'!F458","v":0},{"$f":"'BAU projected Energy Balances'!G458","v":0},{"$f":"'BAU projected Energy Balances'!H458","v":0},{"$f":"'BAU projected Energy Balances'!I458","v":0},{"$f":"'BAU projected Energy Balances'!J458","v":0},{"$f":"'BAU projected Energy Balances'!K458","v":0},{"$f":"'BAU projected Energy Balances'!L458","v":0},{"$f":"'BAU projected Energy Balances'!M458","v":0},{"$f":"'BAU projected Energy Balances'!N458","v":0},{"$f":"'BAU projected Energy Balances'!O458","v":0},{"$f":"'BAU projected Energy Balances'!P458","v":0}]
[null,null,"    Industry - transport equipment",null,{"$f":"'BAU projected Energy Balances'!D459","v":0},{"$f":"'BAU projected Energy Balances'!E459","v":0},{"$f":"'BAU projected Energy Balances'!F459","v":0},{"$f":"'BAU projected Energy Balances'!G459","v":0},{"$f":"'BAU projected Energy Balances'!H459","v":0},{"$f":"'BAU projected Energy Balances'!I459","v":0},{"$f":"'BAU projected Energy Balances'!J459","v":0},{"$f":"'BAU projected Energy Balances'!K459","v":0},{"$f":"'BAU projected Energy Balances'!L459","v":0},{"$f":"'BAU projected Energy Balances'!M459","v":0},{"$f":"'BAU projected Energy Balances'!N459","v":0},{"$f":"'BAU projected Energy Balances'!O459","v":0},{"$f":"'BAU projected Energy Balances'!P459","v":0}]
[null,null,"    Industry - textile and leather",null,{"$f":"'BAU projected Energy Balances'!D460","v":0},{"$f":"'BAU projected Energy Balances'!E460","v":0},{"$f":"'BAU projected Energy Balances'!F460","v":0},{"$f":"'BAU projected Energy Balances'!G460","v":0},{"$f":"'BAU projected Energy Balances'!H460","v":0},{"$f":"'BAU projected Energy Balances'!I460","v":0},{"$f":"'BAU projected Energy Balances'!J460","v":0},{"$f":"'BAU projected Energy Balances'!K460","v":0},{"$f":"'BAU projected Energy Balances'!L460","v":0},{"$f":"'BAU projected Energy Balances'!M460","v":0},{"$f":"'BAU projected Energy Balances'!N460","v":0},{"$f":"'BAU projected Energy Balances'!O460","v":0},{"$f":"'BAU projected Energy Balances'!P460","v":0}]
[null,null,"    Industry - miscellaneous",null,{"$f":"'BAU projected Energy Balances'!D461","v":0},{"$f":"'BAU projected Energy Balances'!E461","v":0},{"$f":"'BAU projected Energy Balances'!F461","v":0},{"$f":"'BAU projected Energy Balances'!G461","v":0},{"$f":"'BAU projected Energy Balances'!H461","v":0},{"$f":"'BAU projected Energy Balances'!I461","v":0},{"$f":"'BAU projected Energy Balances'!J461","v":0},{"$f":"'BAU projected Energy Balances'!K461","v":0},{"$f":"'BAU projected Energy Balances'!L461","v":0},{"$f":"'BAU projected Energy Balances'!M461","v":0},{"$f":"'BAU projected Energy Balances'!N461","v":0},{"$f":"'BAU projected Energy Balances'!O461","v":0},{"$f":"'BAU projected Energy Balances'!P461","v":0}]
[null,null,"    Transport - road",null,{"$f":"'BAU projected Energy Balances'!D462","v":0},{"$f":"'BAU projected Energy Balances'!E462","v":0},{"$f":"'BAU projected Energy Balances'!F462","v":0},{"$f":"'BAU projected Energy Balances'!G462","v":0},{"$f":"'BAU projected Energy Balances'!H462","v":0},{"$f":"'BAU projected Energy Balances'!I462","v":0},{"$f":"'BAU projected Energy Balances'!J462","v":0},{"$f":"'BAU projected Energy Balances'!K462","v":0},{"$f":"'BAU projected Energy Balances'!L462","v":0},{"$f":"'BAU projected Energy Balances'!M462","v":0},{"$f":"'BAU projected Energy Balances'!N462","v":0},{"$f":"'BAU projected Energy Balances'!O462","v":0},{"$f":"'BAU projected Energy Balances'!P462","v":0}]
[null,null,"    Transport - rail",null,{"$f":"'BAU projected Energy Balances'!D463","v":0},{"$f":"'BAU projected Energy Balances'!E463","v":0},{"$f":"'BAU projected Energy Balances'!F463","v":0},{"$f":"'BAU projected Energy Balances'!G463","v":0},{"$f":"'BAU projected Energy Balances'!H463","v":0},{"$f":"'BAU projected Energy Balances'!I463","v":0},{"$f":"'BAU projected Energy Balances'!J463","v":0},{"$f":"'BAU projected Energy Balances'!K463","v":0},{"$f":"'BAU projected Energy Balances'!L463","v":0},{"$f":"'BAU projected Energy Balances'!M463","v":0},{"$f":"'BAU projected Energy Balances'!N463","v":0},{"$f":"'BAU projected Energy Balances'!O463","v":0},{"$f":"'BAU projected Energy Balances'!P463","v":0}]
[null,null,"    Transport - domestic air",null,{"$f":"'BAU projected Energy Balances'!D464","v":0},{"$f":"'BAU projected Energy Balances'!E464","v":0},{"$f":"'BAU projected Energy Balances'!F464","v":0},{"$f":"'BAU projected Energy Balances'!G464","v":0},{"$f":"'BAU projected Energy Balances'!H464","v":0},{"$f":"'BAU projected Energy Balances'!I464","v":0},{"$f":"'BAU projected Energy Balances'!J464","v":0},{"$f":"'BAU projected Energy Balances'!K464","v":0},{"$f":"'BAU projected Energy Balances'!L464","v":0},{"$f":"'BAU projected Energy Balances'!M464","v":0},{"$f":"'BAU projected Energy Balances'!N464","v":0},{"$f":"'BAU projected Energy Balances'!O464","v":0},{"$f":"'BAU projected Energy Balances'!P464","v":0}]
[null,null,"    Transport - navigation",null,{"$f":"'BAU projected Energy Balances'!D465","v":0},{"$f":"'BAU projected Energy Balances'!E465","v":0},{"$f":"'BAU projected Energy Balances'!F465","v":0},{"$f":"'BAU projected Energy Balances'!G465","v":0},{"$f":"'BAU projected Energy Balances'!H465","v":0},{"$f":"'BAU projected Energy Balances'!I465","v":0},{"$f":"'BAU projected Energy Balances'!J465","v":0},{"$f":"'BAU projected Energy Balances'!K465","v":0},{"$f":"'BAU projected Energy Balances'!L465","v":0},{"$f":"'BAU projected Energy Balances'!M465","v":0},{"$f":"'BAU projected Energy Balances'!N465","v":0},{"$f":"'BAU projected Energy Balances'!O465","v":0},{"$f":"'BAU projected Energy Balances'!P465","v":0}]
[null,null,"    Households",null,{"$f":"'BAU projected Energy Balances'!D466","v":0},{"$f":"'BAU projected Energy Balances'!E466","v":0},{"$f":"'BAU projected Energy Balances'!F466","v":0},{"$f":"'BAU projected Energy Balances'!G466","v":0},{"$f":"'BAU projected Energy Balances'!H466","v":0},{"$f":"'BAU projected Energy Balances'!I466","v":0},{"$f":"'BAU projected Energy Balances'!J466","v":0},{"$f":"'BAU projected Energy Balances'!K466","v":0},{"$f":"'BAU projected Energy Balances'!L466","v":0},{"$f":"'BAU projected Energy Balances'!M466","v":0},{"$f":"'BAU projected Energy Balances'!N466","v":0},{"$f":"'BAU projected Energy Balances'!O466","v":0},{"$f":"'BAU projected Energy Balances'!P466","v":0}]
[null,null,"    Services",null,{"$f":"'BAU projected Energy Balances'!D467","v":0},{"$f":"'BAU projected Energy Balances'!E467","v":0},{"$f":"'BAU projected Energy Balances'!F467","v":0},{"$f":"'BAU projected Energy Balances'!G467","v":0},{"$f":"'BAU projected Energy Balances'!H467","v":0},{"$f":"'BAU projected Energy Balances'!I467","v":0},{"$f":"'BAU projected Energy Balances'!J467","v":0},{"$f":"'BAU projected Energy Balances'!K467","v":0},{"$f":"'BAU projected Energy Balances'!L467","v":0},{"$f":"'BAU projected Energy Balances'!M467","v":0},{"$f":"'BAU projected Energy Balances'!N467","v":0},{"$f":"'BAU projected Energy Balances'!O467","v":0},{"$f":"'BAU projected Energy Balances'!P467","v":0}]
[null,null,"    Agriculture & Fishery",null,{"$f":"'BAU projected Energy Balances'!D468","v":0},{"$f":"'BAU projected Energy Balances'!E468","v":0},{"$f":"'BAU projected Energy Balances'!F468","v":0},{"$f":"'BAU projected Energy Balances'!G468","v":0},{"$f":"'BAU projected Energy Balances'!H468","v":0},{"$f":"'BAU projected Energy Balances'!I468","v":0},{"$f":"'BAU projected Energy Balances'!J468","v":0},{"$f":"'BAU projected Energy Balances'!K468","v":0},{"$f":"'BAU projected Energy Balances'!L468","v":0},{"$f":"'BAU projected Energy Balances'!M468","v":0},{"$f":"'BAU projected Energy Balances'!N468","v":0},{"$f":"'BAU projected Energy Balances'!O468","v":0},{"$f":"'BAU projected Energy Balances'!P468","v":0}]
[null,null,"    Non energy uses",null,{"$f":"'BAU projected Energy Balances'!D469","v":0},{"$f":"'BAU projected Energy Balances'!E469","v":0},{"$f":"'BAU projected Energy Balances'!F469","v":0},{"$f":"'BAU projected Energy Balances'!G469","v":0},{"$f":"'BAU projected Energy Balances'!H469","v":0},{"$f":"'BAU projected Energy Balances'!I469","v":0},{"$f":"'BAU projected Energy Balances'!J469","v":0},{"$f":"'BAU projected Energy Balances'!K469","v":0},{"$f":"'BAU projected Energy Balances'!L469","v":0},{"$f":"'BAU projected Energy Balances'!M469","v":0},{"$f":"'BAU projected Energy Balances'!N469","v":0},{"$f":"'BAU projected Energy Balances'!O469","v":0},{"$f":"'BAU projected Energy Balances'!P469","v":0}]
[]
[]
[null,null,{"$f":"'BAU projected Energy Balances'!B501","v":"Electricity balance in ktoe - 2050"}]
[null,null,"Electricity consumption",null,"Gwh",null,"Electricity production","Gwh","Share of production*","Efficiency"]
[null,null,"Total consumption",null,{"$f":"'BAU projected Energy Balances'!D503","v":0},null,"Total",{"$f":"'BAU projected Energy Balances'!G503","v":0}]
[null,null,"    Industry - steel",null,{"$f":"'BAU projected Energy Balances'!D504","v":0},null,"Losses",{"$f":"'BAU projected Energy Balances'!G504","v":0},{"$f":"'BAU projected Energy Balances'!H504","v":1}]
[null,null,"    Industry - chemical",null,{"$f":"'BAU projected Energy Balances'!D505","v":0},null,"Fossil",{"$f":"'BAU projected Energy Balances'!G505","v":0},{"$f":"'BAU projected Energy Balances'!H505","v":4}]
[null,null,"    Industry - non metallic mineral",null,{"$f":"'BAU projected Energy Balances'!D506","v":0},null,"Lignite",{"$f":"'BAU projected Energy Balances'!G506","v":0},{"$f":"'BAU projected Energy Balances'!H506","v":1},{"$f":"'BAU projected Energy Balances'!I506","v":0}]
[null,null,"    Industry - food processing and beverage",null,{"$f":"'BAU projected Energy Balances'!D507","v":0},null,"Coal",{"$f":"'BAU projected Energy Balances'!G507","v":0},{"$f":"'BAU projected Energy Balances'!H507","v":1},{"$f":"'BAU projected Energy Balances'!I507","v":0}]
[null,null,"    Industry - construction",null,{"$f":"'BAU projected Energy Balances'!D508","v":0},null,"Oil",{"$f":"'BAU projected Energy Balances'!G508","v":0},{"$f":"'BAU projected Energy Balances'!H508","v":1},{"$f":"'BAU projected Energy Balances'!I508","v":0}]
[null,null,"    Industry - mining",null,{"$f":"'BAU projected Energy Balances'!D509","v":0},null,"Natural Gas",{"$f":"'BAU projected Energy Balances'!G509","v":0},{"$f":"'BAU projected Energy Balances'!H509","v":1},{"$f":"'BAU projected Energy Balances'!I509","v":0}]
[null,null,"    Industry - machinery",null,{"$f":"'BAU projected Energy Balances'!D510","v":0},null,"Nuclear",{"$f":"'BAU projected Energy Balances'!G510","v":0},{"$f":"'BAU projected Energy Balances'!H510","v":1}]
[null,null,"    Industry - non ferrous metals",null,{"$f":"'BAU projected Energy Balances'!D511","v":0},null,"Net import",{"$f":"'BAU projected Energy Balances'!G511","v":0},{"$f":"'BAU projected Energy Balances'!H511","v":1}]
[null,null,"    Industry - paper and pulp",null,{"$f":"'BAU projected Energy Balances'!D512","v":0},null,"Renewables",{"$f":"'BAU projected Energy Balances'!G512","v":0},{"$f":"'BAU projected Energy Balances'!H512","v":5}]
[null,null,"    Industry - transport equipment",null,{"$f":"'BAU projected Energy Balances'!D513","v":0},null,"Hydro",{"$f":"'BAU projected Energy Balances'!G513","v":0},{"$f":"'BAU projected Energy Balances'!H513","v":1}]
[null,null,"    Industry - textile and leather",null,{"$f":"'BAU projected Energy Balances'!D514","v":0},null,"Wind",{"$f":"'BAU projected Energy Balances'!G514","v":0},{"$f":"'BAU projected Energy Balances'!H514","v":1}]
[null,null,"    Industry - miscellaneous",null,{"$f":"'BAU projected Energy Balances'!D515","v":0},null,"Solar",{"$f":"'BAU projected Energy Balances'!G515","v":0},{"$f":"'BAU projected Energy Balances'!H515","v":1}]
[null,null,"    Transport - road",null,{"$f":"'BAU projected Energy Balances'!D516","v":0},null,"Biomass",{"$f":"'BAU projected Energy Balances'!G516","v":0},{"$f":"'BAU projected Energy Balances'!H516","v":1}]
[null,null,"    Transport - rail",null,{"$f":"'BAU projected Energy Balances'!D517","v":0},null,"Geothermal",{"$f":"'BAU projected Energy Balances'!G517","v":0},{"$f":"'BAU projected Energy Balances'!H517","v":1}]
[null,null,"    Transport - domestic air",null,{"$f":"'BAU projected Energy Balances'!D518","v":0}]
[null,null,"    Transport - navigation",null,{"$f":"'BAU projected Energy Balances'!D519","v":0}]
[null,null,"    Households",null,{"$f":"'BAU projected Energy Balances'!D520","v":0}]
[null,null,"    Services",null,{"$f":"'BAU projected Energy Balances'!D521","v":0}]
[null,null,"    Agriculture & Fishery",null,{"$f":"'BAU projected Energy Balances'!D522","v":0}]
[null,null,"    Non energy - chemical feedstocs",null,{"$f":"'BAU projected Energy Balances'!D523","v":0}]
["Projected GHG balance in the year 2025"]
[]
[]
[]
[]
[]
[null,null,{"$f":"\"Green House Gas (GHG) Balance - 2025 - \"&Assumptions!D262","v":"Green House Gas (GHG) Balance - 2025 - "}]
[null,null,"ktCO2-e",null,"LPG","Gasoline","Jet Fuel","Diesel","Fueloil","Kerosene and other","Total oil products","Coal","Lignite","Gas","Coke","Petrocoke","Total"]
[null,null,"Unit",null,"ktCO2-e","ktCO2-e","ktCO2-e","ktCO2-e","ktCO2-e","ktCO2-e","ktCO2-e","ktCO2-e","ktCO2-e","ktCO2-e","ktCO2-e","ktCO2-e","ktCO2-e"]
[null,null,"Total",null,{"$f":"'BAU projected GHG Balances'!D17","v":0},{"$f":"'BAU projected GHG Balances'!E17","v":0},{"$f":"'BAU projected GHG Balances'!F17","v":0},{"$f":"'BAU projected GHG Balances'!G17","v":0},{"$f":"'BAU projected GHG Balances'!H17","v":0},{"$f":"'BAU projected GHG Balances'!I17","v":0},{"$f":"'BAU projected GHG Balances'!J17","v":0},{"$f":"'BAU projected GHG Balances'!K17","v":0},{"$f":"'BAU projected GHG Balances'!L17","v":0},{"$f":"'BAU projected GHG Balances'!M17","v":0},{"$f":"'BAU projected GHG Balances'!N17","v":0},{"$f":"'BAU projected GHG Balances'!O17","v":0},{"$f":"'BAU projected GHG Balances'!P17","v":0}]
[null,null,"    Fossil power plants",null,{"$f":"'BAU projected GHG Balances'!D18","v":0},{"$f":"'BAU projected GHG Balances'!E18","v":0},{"$f":"'BAU projected GHG Balances'!F18","v":0},{"$f":"'BAU projected GHG Balances'!G18","v":0},{"$f":"'BAU projected GHG Balances'!H18","v":0},{"$f":"'BAU projected GHG Balances'!I18","v":0},{"$f":"'BAU projected GHG Balances'!J18","v":0},{"$f":"'BAU projected GHG Balances'!K18","v":0},{"$f":"'BAU projected GHG Balances'!L18","v":0},{"$f":"'BAU projected GHG Balances'!M18","v":0},{"$f":"'BAU projected GHG Balances'!N18","v":0},{"$f":"'BAU projected GHG Balances'!O18","v":0},{"$f":"'BAU projected GHG Balances'!P18","v":0}]
[null,null,"FINAL CONSUMPTION",null,{"$f":"'BAU projected GHG Balances'!D19","v":0},{"$f":"'BAU projected GHG Balances'!E19","v":0},{"$f":"'BAU projected GHG Balances'!F19","v":0},{"$f":"'BAU projected GHG Balances'!G19","v":0},{"$f":"'BAU projected GHG Balances'!H19","v":0},{"$f":"'BAU projected GHG Balances'!I19","v":0},{"$f":"'BAU projected GHG Balances'!J19","v":0},{"$f":"'BAU projected GHG Balances'!K19","v":0},{"$f":"'BAU projected GHG Balances'!L19","v":0},{"$f":"'BAU projected GHG Balances'!M19","v":0},{"$f":"'BAU projected GHG Balances'!N19","v":0},{"$f":"'BAU projected GHG Balances'!O19","v":0},{"$f":"'BAU projected GHG Balances'!P19","v":0}]
[null,null,"    Industry - steel",null,{"$f":"'BAU projected GHG Balances'!D20","v":0},{"$f":"'BAU projected GHG Balances'!E20","v":0},{"$f":"'BAU projected GHG Balances'!F20","v":0},{"$f":"'BAU projected GHG Balances'!G20","v":0},{"$f":"'BAU projected GHG Balances'!H20","v":0},{"$f":"'BAU projected GHG Balances'!I20","v":0},{"$f":"'BAU projected GHG Balances'!J20","v":0},{"$f":"'BAU projected GHG Balances'!K20","v":0},{"$f":"'BAU projected GHG Balances'!L20","v":0},{"$f":"'BAU projected GHG Balances'!M20","v":0},{"$f":"'BAU projected GHG Balances'!N20","v":0},{"$f":"'BAU projected GHG Balances'!O20","v":0},{"$f":"'BAU projected GHG Balances'!P20","v":0}]
[null,null,"    Industry - chemical",null,{"$f":"'BAU projected GHG Balances'!D21","v":0},{"$f":"'BAU projected GHG Balances'!E21","v":0},{"$f":"'BAU projected GHG Balances'!F21","v":0},{"$f":"'BAU projected GHG Balances'!G21","v":0},{"$f":"'BAU projected GHG Balances'!H21","v":0},{"$f":"'BAU projected GHG Balances'!I21","v":0},{"$f":"'BAU projected GHG Balances'!J21","v":0},{"$f":"'BAU projected GHG Balances'!K21","v":0},{"$f":"'BAU projected GHG Balances'!L21","v":0},{"$f":"'BAU projected GHG Balances'!M21","v":0},{"$f":"'BAU projected GHG Balances'!N21","v":0},{"$f":"'BAU projected GHG Balances'!O21","v":0},{"$f":"'BAU projected GHG Balances'!P21","v":0}]
[null,null,"    Industry - non metallic mineral",null,{"$f":"'BAU projected GHG Balances'!D22","v":0},{"$f":"'BAU projected GHG Balances'!E22","v":0},{"$f":"'BAU projected GHG Balances'!F22","v":0},{"$f":"'BAU projected GHG Balances'!G22","v":0},{"$f":"'BAU projected GHG Balances'!H22","v":0},{"$f":"'BAU projected GHG Balances'!I22","v":0},{"$f":"'BAU projected GHG Balances'!J22","v":0},{"$f":"'BAU projected GHG Balances'!K22","v":0},{"$f":"'BAU projected GHG Balances'!L22","v":0},{"$f":"'BAU projected GHG Balances'!M22","v":0},{"$f":"'BAU projected GHG Balances'!N22","v":0},{"$f":"'BAU projected GHG Balances'!O22","v":0},{"$f":"'BAU projected GHG Balances'!P22","v":0}]
[null,null,"    Industry - food processing and beverage",null,{"$f":"'BAU projected GHG Balances'!D23","v":0},{"$f":"'BAU projected GHG Balances'!E23","v":0},{"$f":"'BAU projected GHG Balances'!F23","v":0},{"$f":"'BAU projected GHG Balances'!G23","v":0},{"$f":"'BAU projected GHG Balances'!H23","v":0},{"$f":"'BAU projected GHG Balances'!I23","v":0},{"$f":"'BAU projected GHG Balances'!J23","v":0},{"$f":"'BAU projected GHG Balances'!K23","v":0},{"$f":"'BAU projected GHG Balances'!L23","v":0},{"$f":"'BAU projected GHG Balances'!M23","v":0},{"$f":"'BAU projected GHG Balances'!N23","v":0},{"$f":"'BAU projected GHG Balances'!O23","v":0},{"$f":"'BAU projected GHG Balances'!P23","v":0}]
[null,null,"    Industry - construction",null,{"$f":"'BAU projected GHG Balances'!D24","v":0},{"$f":"'BAU projected GHG Balances'!E24","v":0},{"$f":"'BAU projected GHG Balances'!F24","v":0},{"$f":"'BAU projected GHG Balances'!G24","v":0},{"$f":"'BAU projected GHG Balances'!H24","v":0},{"$f":"'BAU projected GHG Balances'!I24","v":0},{"$f":"'BAU projected GHG Balances'!J24","v":0},{"$f":"'BAU projected GHG Balances'!K24","v":0},{"$f":"'BAU projected GHG Balances'!L24","v":0},{"$f":"'BAU projected GHG Balances'!M24","v":0},{"$f":"'BAU projected GHG Balances'!N24","v":0},{"$f":"'BAU projected GHG Balances'!O24","v":0},{"$f":"'BAU projected GHG Balances'!P24","v":0}]
[null,null,"    Industry - mining",null,{"$f":"'BAU projected GHG Balances'!D25","v":0},{"$f":"'BAU projected GHG Balances'!E25","v":0},{"$f":"'BAU projected GHG Balances'!F25","v":0},{"$f":"'BAU projected GHG Balances'!G25","v":0},{"$f":"'BAU projected GHG Balances'!H25","v":0},{"$f":"'BAU projected GHG Balances'!I25","v":0},{"$f":"'BAU projected GHG Balances'!J25","v":0},{"$f":"'BAU projected GHG Balances'!K25","v":0},{"$f":"'BAU projected GHG Balances'!L25","v":0},{"$f":"'BAU projected GHG Balances'!M25","v":0},{"$f":"'BAU projected GHG Balances'!N25","v":0},{"$f":"'BAU projected GHG Balances'!O25","v":0},{"$f":"'BAU projected GHG Balances'!P25","v":0}]
[null,null,"    Industry - machinery",null,{"$f":"'BAU projected GHG Balances'!D26","v":0},{"$f":"'BAU projected GHG Balances'!E26","v":0},{"$f":"'BAU projected GHG Balances'!F26","v":0},{"$f":"'BAU projected GHG Balances'!G26","v":0},{"$f":"'BAU projected GHG Balances'!H26","v":0},{"$f":"'BAU projected GHG Balances'!I26","v":0},{"$f":"'BAU projected GHG Balances'!J26","v":0},{"$f":"'BAU projected GHG Balances'!K26","v":0},{"$f":"'BAU projected GHG Balances'!L26","v":0},{"$f":"'BAU projected GHG Balances'!M26","v":0},{"$f":"'BAU projected GHG Balances'!N26","v":0},{"$f":"'BAU projected GHG Balances'!O26","v":0},{"$f":"'BAU projected GHG Balances'!P26","v":0}]
[null,null,"    Industry - non ferrous metals",null,{"$f":"'BAU projected GHG Balances'!D27","v":0},{"$f":"'BAU projected GHG Balances'!E27","v":0},{"$f":"'BAU projected GHG Balances'!F27","v":0},{"$f":"'BAU projected GHG Balances'!G27","v":0},{"$f":"'BAU projected GHG Balances'!H27","v":0},{"$f":"'BAU projected GHG Balances'!I27","v":0},{"$f":"'BAU projected GHG Balances'!J27","v":0},{"$f":"'BAU projected GHG Balances'!K27","v":0},{"$f":"'BAU projected GHG Balances'!L27","v":0},{"$f":"'BAU projected GHG Balances'!M27","v":0},{"$f":"'BAU projected GHG Balances'!N27","v":0},{"$f":"'BAU projected GHG Balances'!O27","v":0},{"$f":"'BAU projected GHG Balances'!P27","v":0}]
[null,null,"    Industry - paper and pulp",null,{"$f":"'BAU projected GHG Balances'!D28","v":0},{"$f":"'BAU projected GHG Balances'!E28","v":0},{"$f":"'BAU projected GHG Balances'!F28","v":0},{"$f":"'BAU projected GHG Balances'!G28","v":0},{"$f":"'BAU projected GHG Balances'!H28","v":0},{"$f":"'BAU projected GHG Balances'!I28","v":0},{"$f":"'BAU projected GHG Balances'!J28","v":0},{"$f":"'BAU projected GHG Balances'!K28","v":0},{"$f":"'BAU projected GHG Balances'!L28","v":0},{"$f":"'BAU projected GHG Balances'!M28","v":0},{"$f":"'BAU projected GHG Balances'!N28","v":0},{"$f":"'BAU projected GHG Balances'!O28","v":0},{"$f":"'BAU projected GHG Balances'!P28","v":0}]
[null,null,"    Industry - transport equipment",null,{"$f":"'BAU projected GHG Balances'!D29","v":0},{"$f":"'BAU projected GHG Balances'!E29","v":0},{"$f":"'BAU projected GHG Balances'!F29","v":0},{"$f":"'BAU projected GHG Balances'!G29","v":0},{"$f":"'BAU projected GHG Balances'!H29","v":0},{"$f":"'BAU projected GHG Balances'!I29","v":0},{"$f":"'BAU projected GHG Balances'!J29","v":0},{"$f":"'BAU projected GHG Balances'!K29","v":0},{"$f":"'BAU projected GHG Balances'!L29","v":0},{"$f":"'BAU projected GHG Balances'!M29","v":0},{"$f":"'BAU projected GHG Balances'!N29","v":0},{"$f":"'BAU projected GHG Balances'!O29","v":0},{"$f":"'BAU projected GHG Balances'!P29","v":0}]
[null,null,"    Industry - textile and leather",null,{"$f":"'BAU projected GHG Balances'!D30","v":0},{"$f":"'BAU projected GHG Balances'!E30","v":0},{"$f":"'BAU projected GHG Balances'!F30","v":0},{"$f":"'BAU projected GHG Balances'!G30","v":0},{"$f":"'BAU projected GHG Balances'!H30","v":0},{"$f":"'BAU projected GHG Balances'!I30","v":0},{"$f":"'BAU projected GHG Balances'!J30","v":0},{"$f":"'BAU projected GHG Balances'!K30","v":0},{"$f":"'BAU projected GHG Balances'!L30","v":0},{"$f":"'BAU projected GHG Balances'!M30","v":0},{"$f":"'BAU projected GHG Balances'!N30","v":0},{"$f":"'BAU projected GHG Balances'!O30","v":0},{"$f":"'BAU projected GHG Balances'!P30","v":0}]
[null,null,"    Industry - miscellaneous",null,{"$f":"'BAU projected GHG Balances'!D31","v":0},{"$f":"'BAU projected GHG Balances'!E31","v":0},{"$f":"'BAU projected GHG Balances'!F31","v":0},{"$f":"'BAU projected GHG Balances'!G31","v":0},{"$f":"'BAU projected GHG Balances'!H31","v":0},{"$f":"'BAU projected GHG Balances'!I31","v":0},{"$f":"'BAU projected GHG Balances'!J31","v":0},{"$f":"'BAU projected GHG Balances'!K31","v":0},{"$f":"'BAU projected GHG Balances'!L31","v":0},{"$f":"'BAU projected GHG Balances'!M31","v":0},{"$f":"'BAU projected GHG Balances'!N31","v":0},{"$f":"'BAU projected GHG Balances'!O31","v":0},{"$f":"'BAU projected GHG Balances'!P31","v":0}]
[null,null,"    Transport - road",null,{"$f":"'BAU projected GHG Balances'!D32","v":0},{"$f":"'BAU projected GHG Balances'!E32","v":0},{"$f":"'BAU projected GHG Balances'!F32","v":0},{"$f":"'BAU projected GHG Balances'!G32","v":0},{"$f":"'BAU projected GHG Balances'!H32","v":0},{"$f":"'BAU projected GHG Balances'!I32","v":0},{"$f":"'BAU projected GHG Balances'!J32","v":0},{"$f":"'BAU projected GHG Balances'!K32","v":0},{"$f":"'BAU projected GHG Balances'!L32","v":0},{"$f":"'BAU projected GHG Balances'!M32","v":0},{"$f":"'BAU projected GHG Balances'!N32","v":0},{"$f":"'BAU projected GHG Balances'!O32","v":0},{"$f":"'BAU projected GHG Balances'!P32","v":0}]
[null,null,"    Transport - rail",null,{"$f":"'BAU projected GHG Balances'!D33","v":0},{"$f":"'BAU projected GHG Balances'!E33","v":0},{"$f":"'BAU projected GHG Balances'!F33","v":0},{"$f":"'BAU projected GHG Balances'!G33","v":0},{"$f":"'BAU projected GHG Balances'!H33","v":0},{"$f":"'BAU projected GHG Balances'!I33","v":0},{"$f":"'BAU projected GHG Balances'!J33","v":0},{"$f":"'BAU projected GHG Balances'!K33","v":0},{"$f":"'BAU projected GHG Balances'!L33","v":0},{"$f":"'BAU projected GHG Balances'!M33","v":0},{"$f":"'BAU projected GHG Balances'!N33","v":0},{"$f":"'BAU projected GHG Balances'!O33","v":0},{"$f":"'BAU projected GHG Balances'!P33","v":0}]
[null,null,"    Transport - domestic air",null,{"$f":"'BAU projected GHG Balances'!D34","v":0},{"$f":"'BAU projected GHG Balances'!E34","v":0},{"$f":"'BAU projected GHG Balances'!F34","v":0},{"$f":"'BAU projected GHG Balances'!G34","v":0},{"$f":"'BAU projected GHG Balances'!H34","v":0},{"$f":"'BAU projected GHG Balances'!I34","v":0},{"$f":"'BAU projected GHG Balances'!J34","v":0},{"$f":"'BAU projected GHG Balances'!K34","v":0},{"$f":"'BAU projected GHG Balances'!L34","v":0},{"$f":"'BAU projected GHG Balances'!M34","v":0},{"$f":"'BAU projected GHG Balances'!N34","v":0},{"$f":"'BAU projected GHG Balances'!O34","v":0},{"$f":"'BAU projected GHG Balances'!P34","v":0}]
[null,null,"    Transport - navigation",null,{"$f":"'BAU projected GHG Balances'!D35","v":0},{"$f":"'BAU projected GHG Balances'!E35","v":0},{"$f":"'BAU projected GHG Balances'!F35","v":0},{"$f":"'BAU projected GHG Balances'!G35","v":0},{"$f":"'BAU projected GHG Balances'!H35","v":0},{"$f":"'BAU projected GHG Balances'!I35","v":0},{"$f":"'BAU projected GHG Balances'!J35","v":0},{"$f":"'BAU projected GHG Balances'!K35","v":0},{"$f":"'BAU projected GHG Balances'!L35","v":0},{"$f":"'BAU projected GHG Balances'!M35","v":0},{"$f":"'BAU projected GHG Balances'!N35","v":0},{"$f":"'BAU projected GHG Balances'!O35","v":0},{"$f":"'BAU projected GHG Balances'!P35","v":0}]
[null,null,"    Households",null,{"$f":"'BAU projected GHG Balances'!D36","v":0},{"$f":"'BAU projected GHG Balances'!E36","v":0},{"$f":"'BAU projected GHG Balances'!F36","v":0},{"$f":"'BAU projected GHG Balances'!G36","v":0},{"$f":"'BAU projected GHG Balances'!H36","v":0},{"$f":"'BAU projected GHG Balances'!I36","v":0},{"$f":"'BAU projected GHG Balances'!J36","v":0},{"$f":"'BAU projected GHG Balances'!K36","v":0},{"$f":"'BAU projected GHG Balances'!L36","v":0},{"$f":"'BAU projected GHG Balances'!M36","v":0},{"$f":"'BAU projected GHG Balances'!N36","v":0},{"$f":"'BAU projected GHG Balances'!O36","v":0},{"$f":"'BAU projected GHG Balances'!P36","v":0}]
[null,null,"    Services",null,{"$f":"'BAU projected GHG Balances'!D37","v":0},{"$f":"'BAU projected GHG Balances'!E37","v":0},{"$f":"'BAU projected GHG Balances'!F37","v":0},{"$f":"'BAU projected GHG Balances'!G37","v":0},{"$f":"'BAU projected GHG Balances'!H37","v":0},{"$f":"'BAU projected GHG Balances'!I37","v":0},{"$f":"'BAU projected GHG Balances'!J37","v":0},{"$f":"'BAU projected GHG Balances'!K37","v":0},{"$f":"'BAU projected GHG Balances'!L37","v":0},{"$f":"'BAU projected GHG Balances'!M37","v":0},{"$f":"'BAU projected GHG Balances'!N37","v":0},{"$f":"'BAU projected GHG Balances'!O37","v":0},{"$f":"'BAU projected GHG Balances'!P37","v":0}]
[null,null,"    Agriculture & Fishery",null,{"$f":"'BAU projected GHG Balances'!D38","v":0},{"$f":"'BAU projected GHG Balances'!E38","v":0},{"$f":"'BAU projected GHG Balances'!F38","v":0},{"$f":"'BAU projected GHG Balances'!G38","v":0},{"$f":"'BAU projected GHG Balances'!H38","v":0},{"$f":"'BAU projected GHG Balances'!I38","v":0},{"$f":"'BAU projected GHG Balances'!J38","v":0},{"$f":"'BAU projected GHG Balances'!K38","v":0},{"$f":"'BAU projected GHG Balances'!L38","v":0},{"$f":"'BAU projected GHG Balances'!M38","v":0},{"$f":"'BAU projected GHG Balances'!N38","v":0},{"$f":"'BAU projected GHG Balances'!O38","v":0},{"$f":"'BAU projected GHG Balances'!P38","v":0}]
[null,null,"    Non energy uses",null,{"$f":"'BAU projected GHG Balances'!D39","v":0},{"$f":"'BAU projected GHG Balances'!E39","v":0},{"$f":"'BAU projected GHG Balances'!F39","v":0},{"$f":"'BAU projected GHG Balances'!G39","v":0},{"$f":"'BAU projected GHG Balances'!H39","v":0},{"$f":"'BAU projected GHG Balances'!I39","v":0},{"$f":"'BAU projected GHG Balances'!J39","v":0},{"$f":"'BAU projected GHG Balances'!K39","v":0},{"$f":"'BAU projected GHG Balances'!L39","v":0},{"$f":"'BAU projected GHG Balances'!M39","v":0},{"$f":"'BAU projected GHG Balances'!N39","v":0},{"$f":"'BAU projected GHG Balances'!O39","v":0},{"$f":"'BAU projected GHG Balances'!P39","v":0}]
[]
[]
[]
[]
[]
[null,null,"CH4 and N20 balances",null,"ktCO2e"]
[null,null,"CH4 from energy combustion",null,{"$f":"'BAU projected GHG Balances'!#REF!","v":{"$error":"#REF!"}}]
[null,null,"N2O from energy combustion",null,{"$f":"'BAU projected GHG Balances'!D42","v":"CO2"}]
[null,null,"Total Agriculture",null,{"$f":"'BAU projected GHG Balances'!D43","v":0}]
[null,null,"  Enteric fermentation",null,{"$f":"'BAU projected GHG Balances'!D44","v":0}]
[null,null,"  Manure management",null,{"$f":"'BAU projected GHG Balances'!D45","v":0}]
[null,null,"  Rice cultivation",null,{"$f":"'BAU projected GHG Balances'!D46","v":0}]
[null,null,"  N2O from agricultural soils",null,{"$f":"'BAU projected GHG Balances'!D47","v":0}]
[null,null,"  Burning of agricultural residues",null,{"$f":"'BAU projected GHG Balances'!D48","v":0}]
[null,null,"Fugitive (CH4)",null,{"$f":"'BAU projected GHG Balances'!D49","v":0}]
[null,null,"Forestry",null,{"$f":"'BAU projected GHG Balances'!D51","v":0}]
[null,null,"Waste - solid",null,{"$f":"'BAU projected GHG Balances'!D52","v":0}]
[null,null,"Waste - liquid",null,{"$f":"'BAU projected GHG Balances'!D53","v":0}]
[null,null,"Industrial processes",null,{"$f":"'BAU projected GHG Balances'!D54","v":0}]
[null,null,"Total GHG emission - CH4 and N2O",null,{"$f":"'BAU projected GHG Balances'!D56","v":0}]
[]
["Projected GHG balance in the year 2030"]
[]
[]
[null,null,{"$f":"\"Green House Gas (GHG) Balance - 2030 - \"&Assumptions!D308","v":"Green House Gas (GHG) Balance - 2030 - "}]
[null,null,"ktCO2-e",null,"LPG","Gasoline","Jet Fuel","Diesel","Fueloil","Kerosene and other","Total oil products","Coal","Lignite","Gas","Coke","Petrocoke","Total"]
[null,null,"Unit",null,"ktCO2-e","ktCO2-e","ktCO2-e","ktCO2-e","ktCO2-e","ktCO2-e","ktCO2-e","ktCO2-e","ktCO2-e","ktCO2-e","ktCO2-e","ktCO2-e","ktCO2-e"]
[null,null,"Total",null,{"$f":"'BAU projected GHG Balances'!D87","v":0},{"$f":"'BAU projected GHG Balances'!E87","v":0},{"$f":"'BAU projected GHG Balances'!F87","v":0},{"$f":"'BAU projected GHG Balances'!G87","v":0},{"$f":"'BAU projected GHG Balances'!H87","v":0},{"$f":"'BAU projected GHG Balances'!I87","v":0},{"$f":"'BAU projected GHG Balances'!J87","v":0},{"$f":"'BAU projected GHG Balances'!K87","v":0},{"$f":"'BAU projected GHG Balances'!L87","v":0},{"$f":"'BAU projected GHG Balances'!M87","v":0},{"$f":"'BAU projected GHG Balances'!N87","v":0},{"$f":"'BAU projected GHG Balances'!O87","v":0},{"$f":"'BAU projected GHG Balances'!P87","v":0}]
[null,null,"    Fossil power plants",null,{"$f":"'BAU projected GHG Balances'!D88","v":0},{"$f":"'BAU projected GHG Balances'!E88","v":0},{"$f":"'BAU projected GHG Balances'!F88","v":0},{"$f":"'BAU projected GHG Balances'!G88","v":0},{"$f":"'BAU projected GHG Balances'!H88","v":0},{"$f":"'BAU projected GHG Balances'!I88","v":0},{"$f":"'BAU projected GHG Balances'!J88","v":0},{"$f":"'BAU projected GHG Balances'!K88","v":0},{"$f":"'BAU projected GHG Balances'!L88","v":0},{"$f":"'BAU projected GHG Balances'!M88","v":0},{"$f":"'BAU projected GHG Balances'!N88","v":0},{"$f":"'BAU projected GHG Balances'!O88","v":0},{"$f":"'BAU projected GHG Balances'!P88","v":0}]
[null,null,"FINAL CONSUMPTION",null,{"$f":"'BAU projected GHG Balances'!D89","v":0},{"$f":"'BAU projected GHG Balances'!E89","v":0},{"$f":"'BAU projected GHG Balances'!F89","v":0},{"$f":"'BAU projected GHG Balances'!G89","v":0},{"$f":"'BAU projected GHG Balances'!H89","v":0},{"$f":"'BAU projected GHG Balances'!I89","v":0},{"$f":"'BAU projected GHG Balances'!J89","v":0},{"$f":"'BAU projected GHG Balances'!K89","v":0},{"$f":"'BAU projected GHG Balances'!L89","v":0},{"$f":"'BAU projected GHG Balances'!M89","v":0},{"$f":"'BAU projected GHG Balances'!N89","v":0},{"$f":"'BAU projected GHG Balances'!O89","v":0},{"$f":"'BAU projected GHG Balances'!P89","v":0}]
[null,null,"    Industry - steel",null,{"$f":"'BAU projected GHG Balances'!D90","v":0},{"$f":"'BAU projected GHG Balances'!E90","v":0},{"$f":"'BAU projected GHG Balances'!F90","v":0},{"$f":"'BAU projected GHG Balances'!G90","v":0},{"$f":"'BAU projected GHG Balances'!H90","v":0},{"$f":"'BAU projected GHG Balances'!I90","v":0},{"$f":"'BAU projected GHG Balances'!J90","v":0},{"$f":"'BAU projected GHG Balances'!K90","v":0},{"$f":"'BAU projected GHG Balances'!L90","v":0},{"$f":"'BAU projected GHG Balances'!M90","v":0},{"$f":"'BAU projected GHG Balances'!N90","v":0},{"$f":"'BAU projected GHG Balances'!O90","v":0},{"$f":"'BAU projected GHG Balances'!P90","v":0}]
[null,null,"    Industry - chemical",null,{"$f":"'BAU projected GHG Balances'!D91","v":0},{"$f":"'BAU projected GHG Balances'!E91","v":0},{"$f":"'BAU projected GHG Balances'!F91","v":0},{"$f":"'BAU projected GHG Balances'!G91","v":0},{"$f":"'BAU projected GHG Balances'!H91","v":0},{"$f":"'BAU projected GHG Balances'!I91","v":0},{"$f":"'BAU projected GHG Balances'!J91","v":0},{"$f":"'BAU projected GHG Balances'!K91","v":0},{"$f":"'BAU projected GHG Balances'!L91","v":0},{"$f":"'BAU projected GHG Balances'!M91","v":0},{"$f":"'BAU projected GHG Balances'!N91","v":0},{"$f":"'BAU projected GHG Balances'!O91","v":0},{"$f":"'BAU projected GHG Balances'!P91","v":0}]
[null,null,"    Industry - non metallic mineral",null,{"$f":"'BAU projected GHG Balances'!D92","v":0},{"$f":"'BAU projected GHG Balances'!E92","v":0},{"$f":"'BAU projected GHG Balances'!F92","v":0},{"$f":"'BAU projected GHG Balances'!G92","v":0},{"$f":"'BAU projected GHG Balances'!H92","v":0},{"$f":"'BAU projected GHG Balances'!I92","v":0},{"$f":"'BAU projected GHG Balances'!J92","v":0},{"$f":"'BAU projected GHG Balances'!K92","v":0},{"$f":"'BAU projected GHG Balances'!L92","v":0},{"$f":"'BAU projected GHG Balances'!M92","v":0},{"$f":"'BAU projected GHG Balances'!N92","v":0},{"$f":"'BAU projected GHG Balances'!O92","v":0},{"$f":"'BAU projected GHG Balances'!P92","v":0}]
[null,null,"    Industry - food processing and beverage",null,{"$f":"'BAU projected GHG Balances'!D93","v":0},{"$f":"'BAU projected GHG Balances'!E93","v":0},{"$f":"'BAU projected GHG Balances'!F93","v":0},{"$f":"'BAU projected GHG Balances'!G93","v":0},{"$f":"'BAU projected GHG Balances'!H93","v":0},{"$f":"'BAU projected GHG Balances'!I93","v":0},{"$f":"'BAU projected GHG Balances'!J93","v":0},{"$f":"'BAU projected GHG Balances'!K93","v":0},{"$f":"'BAU projected GHG Balances'!L93","v":0},{"$f":"'BAU projected GHG Balances'!M93","v":0},{"$f":"'BAU projected GHG Balances'!N93","v":0},{"$f":"'BAU projected GHG Balances'!O93","v":0},{"$f":"'BAU projected GHG Balances'!P93","v":0}]
[null,null,"    Industry - construction",null,{"$f":"'BAU projected GHG Balances'!D94","v":0},{"$f":"'BAU projected GHG Balances'!E94","v":0},{"$f":"'BAU projected GHG Balances'!F94","v":0},{"$f":"'BAU projected GHG Balances'!G94","v":0},{"$f":"'BAU projected GHG Balances'!H94","v":0},{"$f":"'BAU projected GHG Balances'!I94","v":0},{"$f":"'BAU projected GHG Balances'!J94","v":0},{"$f":"'BAU projected GHG Balances'!K94","v":0},{"$f":"'BAU projected GHG Balances'!L94","v":0},{"$f":"'BAU projected GHG Balances'!M94","v":0},{"$f":"'BAU projected GHG Balances'!N94","v":0},{"$f":"'BAU projected GHG Balances'!O94","v":0},{"$f":"'BAU projected GHG Balances'!P94","v":0}]
[null,null,"    Industry - mining",null,{"$f":"'BAU projected GHG Balances'!D95","v":0},{"$f":"'BAU projected GHG Balances'!E95","v":0},{"$f":"'BAU projected GHG Balances'!F95","v":0},{"$f":"'BAU projected GHG Balances'!G95","v":0},{"$f":"'BAU projected GHG Balances'!H95","v":0},{"$f":"'BAU projected GHG Balances'!I95","v":0},{"$f":"'BAU projected GHG Balances'!J95","v":0},{"$f":"'BAU projected GHG Balances'!K95","v":0},{"$f":"'BAU projected GHG Balances'!L95","v":0},{"$f":"'BAU projected GHG Balances'!M95","v":0},{"$f":"'BAU projected GHG Balances'!N95","v":0},{"$f":"'BAU projected GHG Balances'!O95","v":0},{"$f":"'BAU projected GHG Balances'!P95","v":0}]
[null,null,"    Industry - machinery",null,{"$f":"'BAU projected GHG Balances'!D96","v":0},{"$f":"'BAU projected GHG Balances'!E96","v":0},{"$f":"'BAU projected GHG Balances'!F96","v":0},{"$f":"'BAU projected GHG Balances'!G96","v":0},{"$f":"'BAU projected GHG Balances'!H96","v":0},{"$f":"'BAU projected GHG Balances'!I96","v":0},{"$f":"'BAU projected GHG Balances'!J96","v":0},{"$f":"'BAU projected GHG Balances'!K96","v":0},{"$f":"'BAU projected GHG Balances'!L96","v":0},{"$f":"'BAU projected GHG Balances'!M96","v":0},{"$f":"'BAU projected GHG Balances'!N96","v":0},{"$f":"'BAU projected GHG Balances'!O96","v":0},{"$f":"'BAU projected GHG Balances'!P96","v":0}]
[null,null,"    Industry - non ferrous metals",null,{"$f":"'BAU projected GHG Balances'!D97","v":0},{"$f":"'BAU projected GHG Balances'!E97","v":0},{"$f":"'BAU projected GHG Balances'!F97","v":0},{"$f":"'BAU projected GHG Balances'!G97","v":0},{"$f":"'BAU projected GHG Balances'!H97","v":0},{"$f":"'BAU projected GHG Balances'!I97","v":0},{"$f":"'BAU projected GHG Balances'!J97","v":0},{"$f":"'BAU projected GHG Balances'!K97","v":0},{"$f":"'BAU projected GHG Balances'!L97","v":0},{"$f":"'BAU projected GHG Balances'!M97","v":0},{"$f":"'BAU projected GHG Balances'!N97","v":0},{"$f":"'BAU projected GHG Balances'!O97","v":0},{"$f":"'BAU projected GHG Balances'!P97","v":0}]
[null,null,"    Industry - paper and pulp",null,{"$f":"'BAU projected GHG Balances'!D98","v":0},{"$f":"'BAU projected GHG Balances'!E98","v":0},{"$f":"'BAU projected GHG Balances'!F98","v":0},{"$f":"'BAU projected GHG Balances'!G98","v":0},{"$f":"'BAU projected GHG Balances'!H98","v":0},{"$f":"'BAU projected GHG Balances'!I98","v":0},{"$f":"'BAU projected GHG Balances'!J98","v":0},{"$f":"'BAU projected GHG Balances'!K98","v":0},{"$f":"'BAU projected GHG Balances'!L98","v":0},{"$f":"'BAU projected GHG Balances'!M98","v":0},{"$f":"'BAU projected GHG Balances'!N98","v":0},{"$f":"'BAU projected GHG Balances'!O98","v":0},{"$f":"'BAU projected GHG Balances'!P98","v":0}]
[null,null,"    Industry - transport equipment",null,{"$f":"'BAU projected GHG Balances'!D99","v":0},{"$f":"'BAU projected GHG Balances'!E99","v":0},{"$f":"'BAU projected GHG Balances'!F99","v":0},{"$f":"'BAU projected GHG Balances'!G99","v":0},{"$f":"'BAU projected GHG Balances'!H99","v":0},{"$f":"'BAU projected GHG Balances'!I99","v":0},{"$f":"'BAU projected GHG Balances'!J99","v":0},{"$f":"'BAU projected GHG Balances'!K99","v":0},{"$f":"'BAU projected GHG Balances'!L99","v":0},{"$f":"'BAU projected GHG Balances'!M99","v":0},{"$f":"'BAU projected GHG Balances'!N99","v":0},{"$f":"'BAU projected GHG Balances'!O99","v":0},{"$f":"'BAU projected GHG Balances'!P99","v":0}]
[null,null,"    Industry - textile and leather",null,{"$f":"'BAU projected GHG Balances'!D100","v":0},{"$f":"'BAU projected GHG Balances'!E100","v":0},{"$f":"'BAU projected GHG Balances'!F100","v":0},{"$f":"'BAU projected GHG Balances'!G100","v":0},{"$f":"'BAU projected GHG Balances'!H100","v":0},{"$f":"'BAU projected GHG Balances'!I100","v":0},{"$f":"'BAU projected GHG Balances'!J100","v":0},{"$f":"'BAU projected GHG Balances'!K100","v":0},{"$f":"'BAU projected GHG Balances'!L100","v":0},{"$f":"'BAU projected GHG Balances'!M100","v":0},{"$f":"'BAU projected GHG Balances'!N100","v":0},{"$f":"'BAU projected GHG Balances'!O100","v":0},{"$f":"'BAU projected GHG Balances'!P100","v":0}]
[null,null,"    Industry - miscellaneous",null,{"$f":"'BAU projected GHG Balances'!D101","v":0},{"$f":"'BAU projected GHG Balances'!E101","v":0},{"$f":"'BAU projected GHG Balances'!F101","v":0},{"$f":"'BAU projected GHG Balances'!G101","v":0},{"$f":"'BAU projected GHG Balances'!H101","v":0},{"$f":"'BAU projected GHG Balances'!I101","v":0},{"$f":"'BAU projected GHG Balances'!J101","v":0},{"$f":"'BAU projected GHG Balances'!K101","v":0},{"$f":"'BAU projected GHG Balances'!L101","v":0},{"$f":"'BAU projected GHG Balances'!M101","v":0},{"$f":"'BAU projected GHG Balances'!N101","v":0},{"$f":"'BAU projected GHG Balances'!O101","v":0},{"$f":"'BAU projected GHG Balances'!P101","v":0}]
[null,null,"    Transport - road",null,{"$f":"'BAU projected GHG Balances'!D102","v":0},{"$f":"'BAU projected GHG Balances'!E102","v":0},{"$f":"'BAU projected GHG Balances'!F102","v":0},{"$f":"'BAU projected GHG Balances'!G102","v":0},{"$f":"'BAU projected GHG Balances'!H102","v":0},{"$f":"'BAU projected GHG Balances'!I102","v":0},{"$f":"'BAU projected GHG Balances'!J102","v":0},{"$f":"'BAU projected GHG Balances'!K102","v":0},{"$f":"'BAU projected GHG Balances'!L102","v":0},{"$f":"'BAU projected GHG Balances'!M102","v":0},{"$f":"'BAU projected GHG Balances'!N102","v":0},{"$f":"'BAU projected GHG Balances'!O102","v":0},{"$f":"'BAU projected GHG Balances'!P102","v":0}]
[null,null,"    Transport - rail",null,{"$f":"'BAU projected GHG Balances'!D103","v":0},{"$f":"'BAU projected GHG Balances'!E103","v":0},{"$f":"'BAU projected GHG Balances'!F103","v":0},{"$f":"'BAU projected GHG Balances'!G103","v":0},{"$f":"'BAU projected GHG Balances'!H103","v":0},{"$f":"'BAU projected GHG Balances'!I103","v":0},{"$f":"'BAU projected GHG Balances'!J103","v":0},{"$f":"'BAU projected GHG Balances'!K103","v":0},{"$f":"'BAU projected GHG Balances'!L103","v":0},{"$f":"'BAU projected GHG Balances'!M103","v":0},{"$f":"'BAU projected GHG Balances'!N103","v":0},{"$f":"'BAU projected GHG Balances'!O103","v":0},{"$f":"'BAU projected GHG Balances'!P103","v":0}]
[null,null,"    Transport - domestic air",null,{"$f":"'BAU projected GHG Balances'!D104","v":0},{"$f":"'BAU projected GHG Balances'!E104","v":0},{"$f":"'BAU projected GHG Balances'!F104","v":0},{"$f":"'BAU projected GHG Balances'!G104","v":0},{"$f":"'BAU projected GHG Balances'!H104","v":0},{"$f":"'BAU projected GHG Balances'!I104","v":0},{"$f":"'BAU projected GHG Balances'!J104","v":0},{"$f":"'BAU projected GHG Balances'!K104","v":0},{"$f":"'BAU projected GHG Balances'!L104","v":0},{"$f":"'BAU projected GHG Balances'!M104","v":0},{"$f":"'BAU projected GHG Balances'!N104","v":0},{"$f":"'BAU projected GHG Balances'!O104","v":0},{"$f":"'BAU projected GHG Balances'!P104","v":0}]
[null,null,"    Transport - navigation",null,{"$f":"'BAU projected GHG Balances'!D105","v":0},{"$f":"'BAU projected GHG Balances'!E105","v":0},{"$f":"'BAU projected GHG Balances'!F105","v":0},{"$f":"'BAU projected GHG Balances'!G105","v":0},{"$f":"'BAU projected GHG Balances'!H105","v":0},{"$f":"'BAU projected GHG Balances'!I105","v":0},{"$f":"'BAU projected GHG Balances'!J105","v":0},{"$f":"'BAU projected GHG Balances'!K105","v":0},{"$f":"'BAU projected GHG Balances'!L105","v":0},{"$f":"'BAU projected GHG Balances'!M105","v":0},{"$f":"'BAU projected GHG Balances'!N105","v":0},{"$f":"'BAU projected GHG Balances'!O105","v":0},{"$f":"'BAU projected GHG Balances'!P105","v":0}]
[null,null,"    Households",null,{"$f":"'BAU projected GHG Balances'!D106","v":0},{"$f":"'BAU projected GHG Balances'!E106","v":0},{"$f":"'BAU projected GHG Balances'!F106","v":0},{"$f":"'BAU projected GHG Balances'!G106","v":0},{"$f":"'BAU projected GHG Balances'!H106","v":0},{"$f":"'BAU projected GHG Balances'!I106","v":0},{"$f":"'BAU projected GHG Balances'!J106","v":0},{"$f":"'BAU projected GHG Balances'!K106","v":0},{"$f":"'BAU projected GHG Balances'!L106","v":0},{"$f":"'BAU projected GHG Balances'!M106","v":0},{"$f":"'BAU projected GHG Balances'!N106","v":0},{"$f":"'BAU projected GHG Balances'!O106","v":0},{"$f":"'BAU projected GHG Balances'!P106","v":0}]
[null,null,"    Services",null,{"$f":"'BAU projected GHG Balances'!D107","v":0},{"$f":"'BAU projected GHG Balances'!E107","v":0},{"$f":"'BAU projected GHG Balances'!F107","v":0},{"$f":"'BAU projected GHG Balances'!G107","v":0},{"$f":"'BAU projected GHG Balances'!H107","v":0},{"$f":"'BAU projected GHG Balances'!I107","v":0},{"$f":"'BAU projected GHG Balances'!J107","v":0},{"$f":"'BAU projected GHG Balances'!K107","v":0},{"$f":"'BAU projected GHG Balances'!L107","v":0},{"$f":"'BAU projected GHG Balances'!M107","v":0},{"$f":"'BAU projected GHG Balances'!N107","v":0},{"$f":"'BAU projected GHG Balances'!O107","v":0},{"$f":"'BAU projected GHG Balances'!P107","v":0}]
[null,null,"    Agriculture & Fishery",null,{"$f":"'BAU projected GHG Balances'!D108","v":0},{"$f":"'BAU projected GHG Balances'!E108","v":0},{"$f":"'BAU projected GHG Balances'!F108","v":0},{"$f":"'BAU projected GHG Balances'!G108","v":0},{"$f":"'BAU projected GHG Balances'!H108","v":0},{"$f":"'BAU projected GHG Balances'!I108","v":0},{"$f":"'BAU projected GHG Balances'!J108","v":0},{"$f":"'BAU projected GHG Balances'!K108","v":0},{"$f":"'BAU projected GHG Balances'!L108","v":0},{"$f":"'BAU projected GHG Balances'!M108","v":0},{"$f":"'BAU projected GHG Balances'!N108","v":0},{"$f":"'BAU projected GHG Balances'!O108","v":0},{"$f":"'BAU projected GHG Balances'!P108","v":0}]
[null,null,"    Non energy uses",null,{"$f":"'BAU projected GHG Balances'!D109","v":0},{"$f":"'BAU projected GHG Balances'!E109","v":0},{"$f":"'BAU projected GHG Balances'!F109","v":0},{"$f":"'BAU projected GHG Balances'!G109","v":0},{"$f":"'BAU projected GHG Balances'!H109","v":0},{"$f":"'BAU projected GHG Balances'!I109","v":0},{"$f":"'BAU projected GHG Balances'!J109","v":0},{"$f":"'BAU projected GHG Balances'!K109","v":0},{"$f":"'BAU projected GHG Balances'!L109","v":0},{"$f":"'BAU projected GHG Balances'!M109","v":0},{"$f":"'BAU projected GHG Balances'!N109","v":0},{"$f":"'BAU projected GHG Balances'!O109","v":0},{"$f":"'BAU projected GHG Balances'!P109","v":0}]
[]
[null,null,"CH4 and N20 balances",null,"ktCO2e"]
[null,null,"CH4 from energy combustion",null,{"$f":"'BAU projected GHG Balances'!D112","v":"CO2"}]
[null,null,"N2O from energy combustion",null,{"$f":"'BAU projected GHG Balances'!D113","v":0}]
[null,null,"Total Agriculture",null,{"$f":"'BAU projected GHG Balances'!D114","v":0}]
[null,null,"  Enteric fermentation",null,{"$f":"'BAU projected GHG Balances'!D115","v":0}]
[null,null,"  Manure management",null,{"$f":"'BAU projected GHG Balances'!D116","v":0}]
[null,null,"  Rice cultivation",null,{"$f":"'BAU projected GHG Balances'!D117","v":0}]
[null,null,"  N2O from agricultural soils",null,{"$f":"'BAU projected GHG Balances'!D118","v":0}]
[null,null,"  Burning of agricultural residues",null,{"$f":"'BAU projected GHG Balances'!D119","v":0}]
[null,null,"Fugitive (CH4)",null,{"$f":"'BAU projected GHG Balances'!D120","v":0}]
[null,null,"Forestry",null,{"$f":"'BAU projected GHG Balances'!D121","v":0}]
[null,null,"Waste - solid",null,{"$f":"'BAU projected GHG Balances'!D122","v":0}]
[null,null,"Waste - liquid",null,{"$f":"'BAU projected GHG Balances'!D123","v":0}]
[null,null,"Industrial processes",null,{"$f":"'BAU projected GHG Balances'!D124","v":0}]
[null,null,"Total GHG emission - CH4 and N2O",null,{"$f":"'BAU projected GHG Balances'!D126","v":0}]
[]
["Projected GHG balance in the year 2035"]
[]
[]
[null,null,{"$f":"\"Green House Gas (GHG) Balance - 2035 - \"&Assumptions!D308","v":"Green House Gas (GHG) Balance - 2035 - "}]
[null,null,"ktCO2-e",null,"LPG","Gasoline","Jet Fuel","Diesel","Fueloil","Kerosene and other","Total oil products","Coal","Lignite","Gas","Coke","Petrocoke","Total"]
[null,null,"Unit",null,"ktCO2-e","ktCO2-e","ktCO2-e","ktCO2-e","ktCO2-e","ktCO2-e","ktCO2-e","ktCO2-e","ktCO2-e","ktCO2-e","ktCO2-e","ktCO2-e","ktCO2-e"]
[null,null,"Total",null,{"$f":"'BAU projected GHG Balances'!D155","v":0},{"$f":"'BAU projected GHG Balances'!E155","v":0},{"$f":"'BAU projected GHG Balances'!F155","v":0},{"$f":"'BAU projected GHG Balances'!G155","v":0},{"$f":"'BAU projected GHG Balances'!H155","v":0},{"$f":"'BAU projected GHG Balances'!I155","v":0},{"$f":"'BAU projected GHG Balances'!J155","v":0},{"$f":"'BAU projected GHG Balances'!K155","v":0},{"$f":"'BAU projected GHG Balances'!L155","v":0},{"$f":"'BAU projected GHG Balances'!M155","v":0},{"$f":"'BAU projected GHG Balances'!N155","v":0},{"$f":"'BAU projected GHG Balances'!O155","v":0},{"$f":"'BAU projected GHG Balances'!P155","v":0}]
[null,null,"    Fossil power plants",null,{"$f":"'BAU projected GHG Balances'!D156","v":0},{"$f":"'BAU projected GHG Balances'!E156","v":0},{"$f":"'BAU projected GHG Balances'!F156","v":0},{"$f":"'BAU projected GHG Balances'!G156","v":0},{"$f":"'BAU projected GHG Balances'!H156","v":0},{"$f":"'BAU projected GHG Balances'!I156","v":0},{"$f":"'BAU projected GHG Balances'!J156","v":0},{"$f":"'BAU projected GHG Balances'!K156","v":0},{"$f":"'BAU projected GHG Balances'!L156","v":0},{"$f":"'BAU projected GHG Balances'!M156","v":0},{"$f":"'BAU projected GHG Balances'!N156","v":0},{"$f":"'BAU projected GHG Balances'!O156","v":0},{"$f":"'BAU projected GHG Balances'!P156","v":0}]
[null,null,"FINAL CONSUMPTION",null,{"$f":"'BAU projected GHG Balances'!D157","v":0},{"$f":"'BAU projected GHG Balances'!E157","v":0},{"$f":"'BAU projected GHG Balances'!F157","v":0},{"$f":"'BAU projected GHG Balances'!G157","v":0},{"$f":"'BAU projected GHG Balances'!H157","v":0},{"$f":"'BAU projected GHG Balances'!I157","v":0},{"$f":"'BAU projected GHG Balances'!J157","v":0},{"$f":"'BAU projected GHG Balances'!K157","v":0},{"$f":"'BAU projected GHG Balances'!L157","v":0},{"$f":"'BAU projected GHG Balances'!M157","v":0},{"$f":"'BAU projected GHG Balances'!N157","v":0},{"$f":"'BAU projected GHG Balances'!O157","v":0},{"$f":"'BAU projected GHG Balances'!P157","v":0}]
[null,null,"    Industry - steel",null,{"$f":"'BAU projected GHG Balances'!D158","v":0},{"$f":"'BAU projected GHG Balances'!E158","v":0},{"$f":"'BAU projected GHG Balances'!F158","v":0},{"$f":"'BAU projected GHG Balances'!G158","v":0},{"$f":"'BAU projected GHG Balances'!H158","v":0},{"$f":"'BAU projected GHG Balances'!I158","v":0},{"$f":"'BAU projected GHG Balances'!J158","v":0},{"$f":"'BAU projected GHG Balances'!K158","v":0},{"$f":"'BAU projected GHG Balances'!L158","v":0},{"$f":"'BAU projected GHG Balances'!M158","v":0},{"$f":"'BAU projected GHG Balances'!N158","v":0},{"$f":"'BAU projected GHG Balances'!O158","v":0},{"$f":"'BAU projected GHG Balances'!P158","v":0}]
[null,null,"    Industry - chemical",null,{"$f":"'BAU projected GHG Balances'!D159","v":0},{"$f":"'BAU projected GHG Balances'!E159","v":0},{"$f":"'BAU projected GHG Balances'!F159","v":0},{"$f":"'BAU projected GHG Balances'!G159","v":0},{"$f":"'BAU projected GHG Balances'!H159","v":0},{"$f":"'BAU projected GHG Balances'!I159","v":0},{"$f":"'BAU projected GHG Balances'!J159","v":0},{"$f":"'BAU projected GHG Balances'!K159","v":0},{"$f":"'BAU projected GHG Balances'!L159","v":0},{"$f":"'BAU projected GHG Balances'!M159","v":0},{"$f":"'BAU projected GHG Balances'!N159","v":0},{"$f":"'BAU projected GHG Balances'!O159","v":0},{"$f":"'BAU projected GHG Balances'!P159","v":0}]
[null,null,"    Industry - non metallic mineral",null,{"$f":"'BAU projected GHG Balances'!D160","v":0},{"$f":"'BAU projected GHG Balances'!E160","v":0},{"$f":"'BAU projected GHG Balances'!F160","v":0},{"$f":"'BAU projected GHG Balances'!G160","v":0},{"$f":"'BAU projected GHG Balances'!H160","v":0},{"$f":"'BAU projected GHG Balances'!I160","v":0},{"$f":"'BAU projected GHG Balances'!J160","v":0},{"$f":"'BAU projected GHG Balances'!K160","v":0},{"$f":"'BAU projected GHG Balances'!L160","v":0},{"$f":"'BAU projected GHG Balances'!M160","v":0},{"$f":"'BAU projected GHG Balances'!N160","v":0},{"$f":"'BAU projected GHG Balances'!O160","v":0},{"$f":"'BAU projected GHG Balances'!P160","v":0}]
[null,null,"    Industry - food processing and beverage",null,{"$f":"'BAU projected GHG Balances'!D161","v":0},{"$f":"'BAU projected GHG Balances'!E161","v":0},{"$f":"'BAU projected GHG Balances'!F161","v":0},{"$f":"'BAU projected GHG Balances'!G161","v":0},{"$f":"'BAU projected GHG Balances'!H161","v":0},{"$f":"'BAU projected GHG Balances'!I161","v":0},{"$f":"'BAU projected GHG Balances'!J161","v":0},{"$f":"'BAU projected GHG Balances'!K161","v":0},{"$f":"'BAU projected GHG Balances'!L161","v":0},{"$f":"'BAU projected GHG Balances'!M161","v":0},{"$f":"'BAU projected GHG Balances'!N161","v":0},{"$f":"'BAU projected GHG Balances'!O161","v":0},{"$f":"'BAU projected GHG Balances'!P161","v":0}]
[null,null,"    Industry - construction",null,{"$f":"'BAU projected GHG Balances'!D162","v":0},{"$f":"'BAU projected GHG Balances'!E162","v":0},{"$f":"'BAU projected GHG Balances'!F162","v":0},{"$f":"'BAU projected GHG Balances'!G162","v":0},{"$f":"'BAU projected GHG Balances'!H162","v":0},{"$f":"'BAU projected GHG Balances'!I162","v":0},{"$f":"'BAU projected GHG Balances'!J162","v":0},{"$f":"'BAU projected GHG Balances'!K162","v":0},{"$f":"'BAU projected GHG Balances'!L162","v":0},{"$f":"'BAU projected GHG Balances'!M162","v":0},{"$f":"'BAU projected GHG Balances'!N162","v":0},{"$f":"'BAU projected GHG Balances'!O162","v":0},{"$f":"'BAU projected GHG Balances'!P162","v":0}]
[null,null,"    Industry - mining",null,{"$f":"'BAU projected GHG Balances'!D163","v":0},{"$f":"'BAU projected GHG Balances'!E163","v":0},{"$f":"'BAU projected GHG Balances'!F163","v":0},{"$f":"'BAU projected GHG Balances'!G163","v":0},{"$f":"'BAU projected GHG Balances'!H163","v":0},{"$f":"'BAU projected GHG Balances'!I163","v":0},{"$f":"'BAU projected GHG Balances'!J163","v":0},{"$f":"'BAU projected GHG Balances'!K163","v":0},{"$f":"'BAU projected GHG Balances'!L163","v":0},{"$f":"'BAU projected GHG Balances'!M163","v":0},{"$f":"'BAU projected GHG Balances'!N163","v":0},{"$f":"'BAU projected GHG Balances'!O163","v":0},{"$f":"'BAU projected GHG Balances'!P163","v":0}]
[null,null,"    Industry - machinery",null,{"$f":"'BAU projected GHG Balances'!D164","v":0},{"$f":"'BAU projected GHG Balances'!E164","v":0},{"$f":"'BAU projected GHG Balances'!F164","v":0},{"$f":"'BAU projected GHG Balances'!G164","v":0},{"$f":"'BAU projected GHG Balances'!H164","v":0},{"$f":"'BAU projected GHG Balances'!I164","v":0},{"$f":"'BAU projected GHG Balances'!J164","v":0},{"$f":"'BAU projected GHG Balances'!K164","v":0},{"$f":"'BAU projected GHG Balances'!L164","v":0},{"$f":"'BAU projected GHG Balances'!M164","v":0},{"$f":"'BAU projected GHG Balances'!N164","v":0},{"$f":"'BAU projected GHG Balances'!O164","v":0},{"$f":"'BAU projected GHG Balances'!P164","v":0}]
[null,null,"    Industry - non ferrous metals",null,{"$f":"'BAU projected GHG Balances'!D165","v":0},{"$f":"'BAU projected GHG Balances'!E165","v":0},{"$f":"'BAU projected GHG Balances'!F165","v":0},{"$f":"'BAU projected GHG Balances'!G165","v":0},{"$f":"'BAU projected GHG Balances'!H165","v":0},{"$f":"'BAU projected GHG Balances'!I165","v":0},{"$f":"'BAU projected GHG Balances'!J165","v":0},{"$f":"'BAU projected GHG Balances'!K165","v":0},{"$f":"'BAU projected GHG Balances'!L165","v":0},{"$f":"'BAU projected GHG Balances'!M165","v":0},{"$f":"'BAU projected GHG Balances'!N165","v":0},{"$f":"'BAU projected GHG Balances'!O165","v":0},{"$f":"'BAU projected GHG Balances'!P165","v":0}]
[null,null,"    Industry - paper and pulp",null,{"$f":"'BAU projected GHG Balances'!D166","v":0},{"$f":"'BAU projected GHG Balances'!E166","v":0},{"$f":"'BAU projected GHG Balances'!F166","v":0},{"$f":"'BAU projected GHG Balances'!G166","v":0},{"$f":"'BAU projected GHG Balances'!H166","v":0},{"$f":"'BAU projected GHG Balances'!I166","v":0},{"$f":"'BAU projected GHG Balances'!J166","v":0},{"$f":"'BAU projected GHG Balances'!K166","v":0},{"$f":"'BAU projected GHG Balances'!L166","v":0},{"$f":"'BAU projected GHG Balances'!M166","v":0},{"$f":"'BAU projected GHG Balances'!N166","v":0},{"$f":"'BAU projected GHG Balances'!O166","v":0},{"$f":"'BAU projected GHG Balances'!P166","v":0}]
[null,null,"    Industry - transport equipment",null,{"$f":"'BAU projected GHG Balances'!D167","v":0},{"$f":"'BAU projected GHG Balances'!E167","v":0},{"$f":"'BAU projected GHG Balances'!F167","v":0},{"$f":"'BAU projected GHG Balances'!G167","v":0},{"$f":"'BAU projected GHG Balances'!H167","v":0},{"$f":"'BAU projected GHG Balances'!I167","v":0},{"$f":"'BAU projected GHG Balances'!J167","v":0},{"$f":"'BAU projected GHG Balances'!K167","v":0},{"$f":"'BAU projected GHG Balances'!L167","v":0},{"$f":"'BAU projected GHG Balances'!M167","v":0},{"$f":"'BAU projected GHG Balances'!N167","v":0},{"$f":"'BAU projected GHG Balances'!O167","v":0},{"$f":"'BAU projected GHG Balances'!P167","v":0}]
[null,null,"    Industry - textile and leather",null,{"$f":"'BAU projected GHG Balances'!D168","v":0},{"$f":"'BAU projected GHG Balances'!E168","v":0},{"$f":"'BAU projected GHG Balances'!F168","v":0},{"$f":"'BAU projected GHG Balances'!G168","v":0},{"$f":"'BAU projected GHG Balances'!H168","v":0},{"$f":"'BAU projected GHG Balances'!I168","v":0},{"$f":"'BAU projected GHG Balances'!J168","v":0},{"$f":"'BAU projected GHG Balances'!K168","v":0},{"$f":"'BAU projected GHG Balances'!L168","v":0},{"$f":"'BAU projected GHG Balances'!M168","v":0},{"$f":"'BAU projected GHG Balances'!N168","v":0},{"$f":"'BAU projected GHG Balances'!O168","v":0},{"$f":"'BAU projected GHG Balances'!P168","v":0}]
[null,null,"    Industry - miscellaneous",null,{"$f":"'BAU projected GHG Balances'!D169","v":0},{"$f":"'BAU projected GHG Balances'!E169","v":0},{"$f":"'BAU projected GHG Balances'!F169","v":0},{"$f":"'BAU projected GHG Balances'!G169","v":0},{"$f":"'BAU projected GHG Balances'!H169","v":0},{"$f":"'BAU projected GHG Balances'!I169","v":0},{"$f":"'BAU projected GHG Balances'!J169","v":0},{"$f":"'BAU projected GHG Balances'!K169","v":0},{"$f":"'BAU projected GHG Balances'!L169","v":0},{"$f":"'BAU projected GHG Balances'!M169","v":0},{"$f":"'BAU projected GHG Balances'!N169","v":0},{"$f":"'BAU projected GHG Balances'!O169","v":0},{"$f":"'BAU projected GHG Balances'!P169","v":0}]
[null,null,"    Transport - road",null,{"$f":"'BAU projected GHG Balances'!D170","v":0},{"$f":"'BAU projected GHG Balances'!E170","v":0},{"$f":"'BAU projected GHG Balances'!F170","v":0},{"$f":"'BAU projected GHG Balances'!G170","v":0},{"$f":"'BAU projected GHG Balances'!H170","v":0},{"$f":"'BAU projected GHG Balances'!I170","v":0},{"$f":"'BAU projected GHG Balances'!J170","v":0},{"$f":"'BAU projected GHG Balances'!K170","v":0},{"$f":"'BAU projected GHG Balances'!L170","v":0},{"$f":"'BAU projected GHG Balances'!M170","v":0},{"$f":"'BAU projected GHG Balances'!N170","v":0},{"$f":"'BAU projected GHG Balances'!O170","v":0},{"$f":"'BAU projected GHG Balances'!P170","v":0}]
[null,null,"    Transport - rail",null,{"$f":"'BAU projected GHG Balances'!D171","v":0},{"$f":"'BAU projected GHG Balances'!E171","v":0},{"$f":"'BAU projected GHG Balances'!F171","v":0},{"$f":"'BAU projected GHG Balances'!G171","v":0},{"$f":"'BAU projected GHG Balances'!H171","v":0},{"$f":"'BAU projected GHG Balances'!I171","v":0},{"$f":"'BAU projected GHG Balances'!J171","v":0},{"$f":"'BAU projected GHG Balances'!K171","v":0},{"$f":"'BAU projected GHG Balances'!L171","v":0},{"$f":"'BAU projected GHG Balances'!M171","v":0},{"$f":"'BAU projected GHG Balances'!N171","v":0},{"$f":"'BAU projected GHG Balances'!O171","v":0},{"$f":"'BAU projected GHG Balances'!P171","v":0}]
[null,null,"    Transport - domestic air",null,{"$f":"'BAU projected GHG Balances'!D172","v":0},{"$f":"'BAU projected GHG Balances'!E172","v":0},{"$f":"'BAU projected GHG Balances'!F172","v":0},{"$f":"'BAU projected GHG Balances'!G172","v":0},{"$f":"'BAU projected GHG Balances'!H172","v":0},{"$f":"'BAU projected GHG Balances'!I172","v":0},{"$f":"'BAU projected GHG Balances'!J172","v":0},{"$f":"'BAU projected GHG Balances'!K172","v":0},{"$f":"'BAU projected GHG Balances'!L172","v":0},{"$f":"'BAU projected GHG Balances'!M172","v":0},{"$f":"'BAU projected GHG Balances'!N172","v":0},{"$f":"'BAU projected GHG Balances'!O172","v":0},{"$f":"'BAU projected GHG Balances'!P172","v":0}]
[null,null,"    Transport - navigation",null,{"$f":"'BAU projected GHG Balances'!D173","v":0},{"$f":"'BAU projected GHG Balances'!E173","v":0},{"$f":"'BAU projected GHG Balances'!F173","v":0},{"$f":"'BAU projected GHG Balances'!G173","v":0},{"$f":"'BAU projected GHG Balances'!H173","v":0},{"$f":"'BAU projected GHG Balances'!I173","v":0},{"$f":"'BAU projected GHG Balances'!J173","v":0},{"$f":"'BAU projected GHG Balances'!K173","v":0},{"$f":"'BAU projected GHG Balances'!L173","v":0},{"$f":"'BAU projected GHG Balances'!M173","v":0},{"$f":"'BAU projected GHG Balances'!N173","v":0},{"$f":"'BAU projected GHG Balances'!O173","v":0},{"$f":"'BAU projected GHG Balances'!P173","v":0}]
[null,null,"    Households",null,{"$f":"'BAU projected GHG Balances'!D174","v":0},{"$f":"'BAU projected GHG Balances'!E174","v":0},{"$f":"'BAU projected GHG Balances'!F174","v":0},{"$f":"'BAU projected GHG Balances'!G174","v":0},{"$f":"'BAU projected GHG Balances'!H174","v":0},{"$f":"'BAU projected GHG Balances'!I174","v":0},{"$f":"'BAU projected GHG Balances'!J174","v":0},{"$f":"'BAU projected GHG Balances'!K174","v":0},{"$f":"'BAU projected GHG Balances'!L174","v":0},{"$f":"'BAU projected GHG Balances'!M174","v":0},{"$f":"'BAU projected GHG Balances'!N174","v":0},{"$f":"'BAU projected GHG Balances'!O174","v":0},{"$f":"'BAU projected GHG Balances'!P174","v":0}]
[null,null,"    Services",null,{"$f":"'BAU projected GHG Balances'!D175","v":0},{"$f":"'BAU projected GHG Balances'!E175","v":0},{"$f":"'BAU projected GHG Balances'!F175","v":0},{"$f":"'BAU projected GHG Balances'!G175","v":0},{"$f":"'BAU projected GHG Balances'!H175","v":0},{"$f":"'BAU projected GHG Balances'!I175","v":0},{"$f":"'BAU projected GHG Balances'!J175","v":0},{"$f":"'BAU projected GHG Balances'!K175","v":0},{"$f":"'BAU projected GHG Balances'!L175","v":0},{"$f":"'BAU projected GHG Balances'!M175","v":0},{"$f":"'BAU projected GHG Balances'!N175","v":0},{"$f":"'BAU projected GHG Balances'!O175","v":0},{"$f":"'BAU projected GHG Balances'!P175","v":0}]
[null,null,"    Agriculture & Fishery",null,{"$f":"'BAU projected GHG Balances'!D176","v":0},{"$f":"'BAU projected GHG Balances'!E176","v":0},{"$f":"'BAU projected GHG Balances'!F176","v":0},{"$f":"'BAU projected GHG Balances'!G176","v":0},{"$f":"'BAU projected GHG Balances'!H176","v":0},{"$f":"'BAU projected GHG Balances'!I176","v":0},{"$f":"'BAU projected GHG Balances'!J176","v":0},{"$f":"'BAU projected GHG Balances'!K176","v":0},{"$f":"'BAU projected GHG Balances'!L176","v":0},{"$f":"'BAU projected GHG Balances'!M176","v":0},{"$f":"'BAU projected GHG Balances'!N176","v":0},{"$f":"'BAU projected GHG Balances'!O176","v":0},{"$f":"'BAU projected GHG Balances'!P176","v":0}]
[null,null,"    Non energy uses",null,{"$f":"'BAU projected GHG Balances'!D177","v":0},{"$f":"'BAU projected GHG Balances'!E177","v":0},{"$f":"'BAU projected GHG Balances'!F177","v":0},{"$f":"'BAU projected GHG Balances'!G177","v":0},{"$f":"'BAU projected GHG Balances'!H177","v":0},{"$f":"'BAU projected GHG Balances'!I177","v":0},{"$f":"'BAU projected GHG Balances'!J177","v":0},{"$f":"'BAU projected GHG Balances'!K177","v":0},{"$f":"'BAU projected GHG Balances'!L177","v":0},{"$f":"'BAU projected GHG Balances'!M177","v":0},{"$f":"'BAU projected GHG Balances'!N177","v":0},{"$f":"'BAU projected GHG Balances'!O177","v":0},{"$f":"'BAU projected GHG Balances'!P177","v":0}]
[]
[null,null,"CH4 and N20 balances",null,"ktCO2e"]
[null,null,"CH4 from energy combustion",null,{"$f":"'BAU projected GHG Balances'!D180","v":"CO2"}]
[null,null,"N2O from energy combustion",null,{"$f":"'BAU projected GHG Balances'!D181","v":0}]
[null,null,"Total Agriculture",null,{"$f":"'BAU projected GHG Balances'!D182","v":0}]
[null,null,"  Enteric fermentation",null,{"$f":"'BAU projected GHG Balances'!D183","v":0}]
[null,null,"  Manure management",null,{"$f":"'BAU projected GHG Balances'!D184","v":0}]
[null,null,"  Rice cultivation",null,{"$f":"'BAU projected GHG Balances'!D185","v":0}]
[null,null,"  N2O from agricultural soils",null,{"$f":"'BAU projected GHG Balances'!D186","v":0}]
[null,null,"  Burning of agricultural residues",null,{"$f":"'BAU projected GHG Balances'!D187","v":0}]
[null,null,"Fugitive (CH4)",null,{"$f":"'BAU projected GHG Balances'!D188","v":0}]
[null,null,"Forestry",null,{"$f":"'BAU projected GHG Balances'!D189","v":0}]
[null,null,"Waste - solid",null,{"$f":"'BAU projected GHG Balances'!D190","v":0}]
[null,null,"Waste - liquid",null,{"$f":"'BAU projected GHG Balances'!D191","v":0}]
[null,null,"Industrial processes",null,{"$f":"'BAU projected GHG Balances'!D192","v":0}]
[null,null,"Total GHG emission - CH4 and N2O",null,{"$f":"'BAU projected GHG Balances'!D194","v":0}]
[]
["Projected GHG balance in the year 2040"]
[]
[]
[null,null,{"$f":"\"Green House Gas (GHG) Balance - 2040 - \"&Assumptions!D308","v":"Green House Gas (GHG) Balance - 2040 - "}]
[null,null,"ktCO2-e",null,"LPG","Gasoline","Jet Fuel","Diesel","Fueloil","Kerosene and other","Total oil products","Coal","Lignite","Gas","Coke","Petrocoke","Total"]
[null,null,"Unit",null,"ktCO2-e","ktCO2-e","ktCO2-e","ktCO2-e","ktCO2-e","ktCO2-e","ktCO2-e","ktCO2-e","ktCO2-e","ktCO2-e","ktCO2-e","ktCO2-e","ktCO2-e"]
[null,null,"Total",null,{"$f":"'BAU projected GHG Balances'!D224","v":0},{"$f":"'BAU projected GHG Balances'!E224","v":0},{"$f":"'BAU projected GHG Balances'!F224","v":0},{"$f":"'BAU projected GHG Balances'!G224","v":0},{"$f":"'BAU projected GHG Balances'!H224","v":0},{"$f":"'BAU projected GHG Balances'!I224","v":0},{"$f":"'BAU projected GHG Balances'!J224","v":0},{"$f":"'BAU projected GHG Balances'!K224","v":0},{"$f":"'BAU projected GHG Balances'!L224","v":0},{"$f":"'BAU projected GHG Balances'!M224","v":0},{"$f":"'BAU projected GHG Balances'!N224","v":0},{"$f":"'BAU projected GHG Balances'!O224","v":0},{"$f":"'BAU projected GHG Balances'!P224","v":0}]
[null,null,"    Fossil power plants",null,{"$f":"'BAU projected GHG Balances'!D225","v":0},{"$f":"'BAU projected GHG Balances'!E225","v":0},{"$f":"'BAU projected GHG Balances'!F225","v":0},{"$f":"'BAU projected GHG Balances'!G225","v":0},{"$f":"'BAU projected GHG Balances'!H225","v":0},{"$f":"'BAU projected GHG Balances'!I225","v":0},{"$f":"'BAU projected GHG Balances'!J225","v":0},{"$f":"'BAU projected GHG Balances'!K225","v":0},{"$f":"'BAU projected GHG Balances'!L225","v":0},{"$f":"'BAU projected GHG Balances'!M225","v":0},{"$f":"'BAU projected GHG Balances'!N225","v":0},{"$f":"'BAU projected GHG Balances'!O225","v":0},{"$f":"'BAU projected GHG Balances'!P225","v":0}]
[null,null,"FINAL CONSUMPTION",null,{"$f":"'BAU projected GHG Balances'!D226","v":0},{"$f":"'BAU projected GHG Balances'!E226","v":0},{"$f":"'BAU projected GHG Balances'!F226","v":0},{"$f":"'BAU projected GHG Balances'!G226","v":0},{"$f":"'BAU projected GHG Balances'!H226","v":0},{"$f":"'BAU projected GHG Balances'!I226","v":0},{"$f":"'BAU projected GHG Balances'!J226","v":0},{"$f":"'BAU projected GHG Balances'!K226","v":0},{"$f":"'BAU projected GHG Balances'!L226","v":0},{"$f":"'BAU projected GHG Balances'!M226","v":0},{"$f":"'BAU projected GHG Balances'!N226","v":0},{"$f":"'BAU projected GHG Balances'!O226","v":0},{"$f":"'BAU projected GHG Balances'!P226","v":0}]
[null,null,"    Industry - steel",null,{"$f":"'BAU projected GHG Balances'!D227","v":0},{"$f":"'BAU projected GHG Balances'!E227","v":0},{"$f":"'BAU projected GHG Balances'!F227","v":0},{"$f":"'BAU projected GHG Balances'!G227","v":0},{"$f":"'BAU projected GHG Balances'!H227","v":0},{"$f":"'BAU projected GHG Balances'!I227","v":0},{"$f":"'BAU projected GHG Balances'!J227","v":0},{"$f":"'BAU projected GHG Balances'!K227","v":0},{"$f":"'BAU projected GHG Balances'!L227","v":0},{"$f":"'BAU projected GHG Balances'!M227","v":0},{"$f":"'BAU projected GHG Balances'!N227","v":0},{"$f":"'BAU projected GHG Balances'!O227","v":0},{"$f":"'BAU projected GHG Balances'!P227","v":0}]
[null,null,"    Industry - chemical",null,{"$f":"'BAU projected GHG Balances'!D228","v":0},{"$f":"'BAU projected GHG Balances'!E228","v":0},{"$f":"'BAU projected GHG Balances'!F228","v":0},{"$f":"'BAU projected GHG Balances'!G228","v":0},{"$f":"'BAU projected GHG Balances'!H228","v":0},{"$f":"'BAU projected GHG Balances'!I228","v":0},{"$f":"'BAU projected GHG Balances'!J228","v":0},{"$f":"'BAU projected GHG Balances'!K228","v":0},{"$f":"'BAU projected GHG Balances'!L228","v":0},{"$f":"'BAU projected GHG Balances'!M228","v":0},{"$f":"'BAU projected GHG Balances'!N228","v":0},{"$f":"'BAU projected GHG Balances'!O228","v":0},{"$f":"'BAU projected GHG Balances'!P228","v":0}]
[null,null,"    Industry - non metallic mineral",null,{"$f":"'BAU projected GHG Balances'!D229","v":0},{"$f":"'BAU projected GHG Balances'!E229","v":0},{"$f":"'BAU projected GHG Balances'!F229","v":0},{"$f":"'BAU projected GHG Balances'!G229","v":0},{"$f":"'BAU projected GHG Balances'!H229","v":0},{"$f":"'BAU projected GHG Balances'!I229","v":0},{"$f":"'BAU projected GHG Balances'!J229","v":0},{"$f":"'BAU projected GHG Balances'!K229","v":0},{"$f":"'BAU projected GHG Balances'!L229","v":0},{"$f":"'BAU projected GHG Balances'!M229","v":0},{"$f":"'BAU projected GHG Balances'!N229","v":0},{"$f":"'BAU projected GHG Balances'!O229","v":0},{"$f":"'BAU projected GHG Balances'!P229","v":0}]
[null,null,"    Industry - food processing and beverage",null,{"$f":"'BAU projected GHG Balances'!D230","v":0},{"$f":"'BAU projected GHG Balances'!E230","v":0},{"$f":"'BAU projected GHG Balances'!F230","v":0},{"$f":"'BAU projected GHG Balances'!G230","v":0},{"$f":"'BAU projected GHG Balances'!H230","v":0},{"$f":"'BAU projected GHG Balances'!I230","v":0},{"$f":"'BAU projected GHG Balances'!J230","v":0},{"$f":"'BAU projected GHG Balances'!K230","v":0},{"$f":"'BAU projected GHG Balances'!L230","v":0},{"$f":"'BAU projected GHG Balances'!M230","v":0},{"$f":"'BAU projected GHG Balances'!N230","v":0},{"$f":"'BAU projected GHG Balances'!O230","v":0},{"$f":"'BAU projected GHG Balances'!P230","v":0}]
[null,null,"    Industry - construction",null,{"$f":"'BAU projected GHG Balances'!D231","v":0},{"$f":"'BAU projected GHG Balances'!E231","v":0},{"$f":"'BAU projected GHG Balances'!F231","v":0},{"$f":"'BAU projected GHG Balances'!G231","v":0},{"$f":"'BAU projected GHG Balances'!H231","v":0},{"$f":"'BAU projected GHG Balances'!I231","v":0},{"$f":"'BAU projected GHG Balances'!J231","v":0},{"$f":"'BAU projected GHG Balances'!K231","v":0},{"$f":"'BAU projected GHG Balances'!L231","v":0},{"$f":"'BAU projected GHG Balances'!M231","v":0},{"$f":"'BAU projected GHG Balances'!N231","v":0},{"$f":"'BAU projected GHG Balances'!O231","v":0},{"$f":"'BAU projected GHG Balances'!P231","v":0}]
[null,null,"    Industry - mining",null,{"$f":"'BAU projected GHG Balances'!D232","v":0},{"$f":"'BAU projected GHG Balances'!E232","v":0},{"$f":"'BAU projected GHG Balances'!F232","v":0},{"$f":"'BAU projected GHG Balances'!G232","v":0},{"$f":"'BAU projected GHG Balances'!H232","v":0},{"$f":"'BAU projected GHG Balances'!I232","v":0},{"$f":"'BAU projected GHG Balances'!J232","v":0},{"$f":"'BAU projected GHG Balances'!K232","v":0},{"$f":"'BAU projected GHG Balances'!L232","v":0},{"$f":"'BAU projected GHG Balances'!M232","v":0},{"$f":"'BAU projected GHG Balances'!N232","v":0},{"$f":"'BAU projected GHG Balances'!O232","v":0},{"$f":"'BAU projected GHG Balances'!P232","v":0}]
[null,null,"    Industry - machinery",null,{"$f":"'BAU projected GHG Balances'!D233","v":0},{"$f":"'BAU projected GHG Balances'!E233","v":0},{"$f":"'BAU projected GHG Balances'!F233","v":0},{"$f":"'BAU projected GHG Balances'!G233","v":0},{"$f":"'BAU projected GHG Balances'!H233","v":0},{"$f":"'BAU projected GHG Balances'!I233","v":0},{"$f":"'BAU projected GHG Balances'!J233","v":0},{"$f":"'BAU projected GHG Balances'!K233","v":0},{"$f":"'BAU projected GHG Balances'!L233","v":0},{"$f":"'BAU projected GHG Balances'!M233","v":0},{"$f":"'BAU projected GHG Balances'!N233","v":0},{"$f":"'BAU projected GHG Balances'!O233","v":0},{"$f":"'BAU projected GHG Balances'!P233","v":0}]
[null,null,"    Industry - non ferrous metals",null,{"$f":"'BAU projected GHG Balances'!D234","v":0},{"$f":"'BAU projected GHG Balances'!E234","v":0},{"$f":"'BAU projected GHG Balances'!F234","v":0},{"$f":"'BAU projected GHG Balances'!G234","v":0},{"$f":"'BAU projected GHG Balances'!H234","v":0},{"$f":"'BAU projected GHG Balances'!I234","v":0},{"$f":"'BAU projected GHG Balances'!J234","v":0},{"$f":"'BAU projected GHG Balances'!K234","v":0},{"$f":"'BAU projected GHG Balances'!L234","v":0},{"$f":"'BAU projected GHG Balances'!M234","v":0},{"$f":"'BAU projected GHG Balances'!N234","v":0},{"$f":"'BAU projected GHG Balances'!O234","v":0},{"$f":"'BAU projected GHG Balances'!P234","v":0}]
[null,null,"    Industry - paper and pulp",null,{"$f":"'BAU projected GHG Balances'!D235","v":0},{"$f":"'BAU projected GHG Balances'!E235","v":0},{"$f":"'BAU projected GHG Balances'!F235","v":0},{"$f":"'BAU projected GHG Balances'!G235","v":0},{"$f":"'BAU projected GHG Balances'!H235","v":0},{"$f":"'BAU projected GHG Balances'!I235","v":0},{"$f":"'BAU projected GHG Balances'!J235","v":0},{"$f":"'BAU projected GHG Balances'!K235","v":0},{"$f":"'BAU projected GHG Balances'!L235","v":0},{"$f":"'BAU projected GHG Balances'!M235","v":0},{"$f":"'BAU projected GHG Balances'!N235","v":0},{"$f":"'BAU projected GHG Balances'!O235","v":0},{"$f":"'BAU projected GHG Balances'!P235","v":0}]
[null,null,"    Industry - transport equipment",null,{"$f":"'BAU projected GHG Balances'!D236","v":0},{"$f":"'BAU projected GHG Balances'!E236","v":0},{"$f":"'BAU projected GHG Balances'!F236","v":0},{"$f":"'BAU projected GHG Balances'!G236","v":0},{"$f":"'BAU projected GHG Balances'!H236","v":0},{"$f":"'BAU projected GHG Balances'!I236","v":0},{"$f":"'BAU projected GHG Balances'!J236","v":0},{"$f":"'BAU projected GHG Balances'!K236","v":0},{"$f":"'BAU projected GHG Balances'!L236","v":0},{"$f":"'BAU projected GHG Balances'!M236","v":0},{"$f":"'BAU projected GHG Balances'!N236","v":0},{"$f":"'BAU projected GHG Balances'!O236","v":0},{"$f":"'BAU projected GHG Balances'!P236","v":0}]
[null,null,"    Industry - textile and leather",null,{"$f":"'BAU projected GHG Balances'!D237","v":0},{"$f":"'BAU projected GHG Balances'!E237","v":0},{"$f":"'BAU projected GHG Balances'!F237","v":0},{"$f":"'BAU projected GHG Balances'!G237","v":0},{"$f":"'BAU projected GHG Balances'!H237","v":0},{"$f":"'BAU projected GHG Balances'!I237","v":0},{"$f":"'BAU projected GHG Balances'!J237","v":0},{"$f":"'BAU projected GHG Balances'!K237","v":0},{"$f":"'BAU projected GHG Balances'!L237","v":0},{"$f":"'BAU projected GHG Balances'!M237","v":0},{"$f":"'BAU projected GHG Balances'!N237","v":0},{"$f":"'BAU projected GHG Balances'!O237","v":0},{"$f":"'BAU projected GHG Balances'!P237","v":0}]
[null,null,"    Industry - miscellaneous",null,{"$f":"'BAU projected GHG Balances'!D238","v":0},{"$f":"'BAU projected GHG Balances'!E238","v":0},{"$f":"'BAU projected GHG Balances'!F238","v":0},{"$f":"'BAU projected GHG Balances'!G238","v":0},{"$f":"'BAU projected GHG Balances'!H238","v":0},{"$f":"'BAU projected GHG Balances'!I238","v":0},{"$f":"'BAU projected GHG Balances'!J238","v":0},{"$f":"'BAU projected GHG Balances'!K238","v":0},{"$f":"'BAU projected GHG Balances'!L238","v":0},{"$f":"'BAU projected GHG Balances'!M238","v":0},{"$f":"'BAU projected GHG Balances'!N238","v":0},{"$f":"'BAU projected GHG Balances'!O238","v":0},{"$f":"'BAU projected GHG Balances'!P238","v":0}]
[null,null,"    Transport - road",null,{"$f":"'BAU projected GHG Balances'!D239","v":0},{"$f":"'BAU projected GHG Balances'!E239","v":0},{"$f":"'BAU projected GHG Balances'!F239","v":0},{"$f":"'BAU projected GHG Balances'!G239","v":0},{"$f":"'BAU projected GHG Balances'!H239","v":0},{"$f":"'BAU projected GHG Balances'!I239","v":0},{"$f":"'BAU projected GHG Balances'!J239","v":0},{"$f":"'BAU projected GHG Balances'!K239","v":0},{"$f":"'BAU projected GHG Balances'!L239","v":0},{"$f":"'BAU projected GHG Balances'!M239","v":0},{"$f":"'BAU projected GHG Balances'!N239","v":0},{"$f":"'BAU projected GHG Balances'!O239","v":0},{"$f":"'BAU projected GHG Balances'!P239","v":0}]
[null,null,"    Transport - rail",null,{"$f":"'BAU projected GHG Balances'!D240","v":0},{"$f":"'BAU projected GHG Balances'!E240","v":0},{"$f":"'BAU projected GHG Balances'!F240","v":0},{"$f":"'BAU projected GHG Balances'!G240","v":0},{"$f":"'BAU projected GHG Balances'!H240","v":0},{"$f":"'BAU projected GHG Balances'!I240","v":0},{"$f":"'BAU projected GHG Balances'!J240","v":0},{"$f":"'BAU projected GHG Balances'!K240","v":0},{"$f":"'BAU projected GHG Balances'!L240","v":0},{"$f":"'BAU projected GHG Balances'!M240","v":0},{"$f":"'BAU projected GHG Balances'!N240","v":0},{"$f":"'BAU projected GHG Balances'!O240","v":0},{"$f":"'BAU projected GHG Balances'!P240","v":0}]
[null,null,"    Transport - domestic air",null,{"$f":"'BAU projected GHG Balances'!D241","v":0},{"$f":"'BAU projected GHG Balances'!E241","v":0},{"$f":"'BAU projected GHG Balances'!F241","v":0},{"$f":"'BAU projected GHG Balances'!G241","v":0},{"$f":"'BAU projected GHG Balances'!H241","v":0},{"$f":"'BAU projected GHG Balances'!I241","v":0},{"$f":"'BAU projected GHG Balances'!J241","v":0},{"$f":"'BAU projected GHG Balances'!K241","v":0},{"$f":"'BAU projected GHG Balances'!L241","v":0},{"$f":"'BAU projected GHG Balances'!M241","v":0},{"$f":"'BAU projected GHG Balances'!N241","v":0},{"$f":"'BAU projected GHG Balances'!O241","v":0},{"$f":"'BAU projected GHG Balances'!P241","v":0}]
[null,null,"    Transport - navigation",null,{"$f":"'BAU projected GHG Balances'!D242","v":0},{"$f":"'BAU projected GHG Balances'!E242","v":0},{"$f":"'BAU projected GHG Balances'!F242","v":0},{"$f":"'BAU projected GHG Balances'!G242","v":0},{"$f":"'BAU projected GHG Balances'!H242","v":0},{"$f":"'BAU projected GHG Balances'!I242","v":0},{"$f":"'BAU projected GHG Balances'!J242","v":0},{"$f":"'BAU projected GHG Balances'!K242","v":0},{"$f":"'BAU projected GHG Balances'!L242","v":0},{"$f":"'BAU projected GHG Balances'!M242","v":0},{"$f":"'BAU projected GHG Balances'!N242","v":0},{"$f":"'BAU projected GHG Balances'!O242","v":0},{"$f":"'BAU projected GHG Balances'!P242","v":0}]
[null,null,"    Households",null,{"$f":"'BAU projected GHG Balances'!D243","v":0},{"$f":"'BAU projected GHG Balances'!E243","v":0},{"$f":"'BAU projected GHG Balances'!F243","v":0},{"$f":"'BAU projected GHG Balances'!G243","v":0},{"$f":"'BAU projected GHG Balances'!H243","v":0},{"$f":"'BAU projected GHG Balances'!I243","v":0},{"$f":"'BAU projected GHG Balances'!J243","v":0},{"$f":"'BAU projected GHG Balances'!K243","v":0},{"$f":"'BAU projected GHG Balances'!L243","v":0},{"$f":"'BAU projected GHG Balances'!M243","v":0},{"$f":"'BAU projected GHG Balances'!N243","v":0},{"$f":"'BAU projected GHG Balances'!O243","v":0},{"$f":"'BAU projected GHG Balances'!P243","v":0}]
[null,null,"    Services",null,{"$f":"'BAU projected GHG Balances'!D244","v":0},{"$f":"'BAU projected GHG Balances'!E244","v":0},{"$f":"'BAU projected GHG Balances'!F244","v":0},{"$f":"'BAU projected GHG Balances'!G244","v":0},{"$f":"'BAU projected GHG Balances'!H244","v":0},{"$f":"'BAU projected GHG Balances'!I244","v":0},{"$f":"'BAU projected GHG Balances'!J244","v":0},{"$f":"'BAU projected GHG Balances'!K244","v":0},{"$f":"'BAU projected GHG Balances'!L244","v":0},{"$f":"'BAU projected GHG Balances'!M244","v":0},{"$f":"'BAU projected GHG Balances'!N244","v":0},{"$f":"'BAU projected GHG Balances'!O244","v":0},{"$f":"'BAU projected GHG Balances'!P244","v":0}]
[null,null,"    Agriculture & Fishery",null,{"$f":"'BAU projected GHG Balances'!D245","v":0},{"$f":"'BAU projected GHG Balances'!E245","v":0},{"$f":"'BAU projected GHG Balances'!F245","v":0},{"$f":"'BAU projected GHG Balances'!G245","v":0},{"$f":"'BAU projected GHG Balances'!H245","v":0},{"$f":"'BAU projected GHG Balances'!I245","v":0},{"$f":"'BAU projected GHG Balances'!J245","v":0},{"$f":"'BAU projected GHG Balances'!K245","v":0},{"$f":"'BAU projected GHG Balances'!L245","v":0},{"$f":"'BAU projected GHG Balances'!M245","v":0},{"$f":"'BAU projected GHG Balances'!N245","v":0},{"$f":"'BAU projected GHG Balances'!O245","v":0},{"$f":"'BAU projected GHG Balances'!P245","v":0}]
[null,null,"    Non energy uses",null,{"$f":"'BAU projected GHG Balances'!D246","v":0},{"$f":"'BAU projected GHG Balances'!E246","v":0},{"$f":"'BAU projected GHG Balances'!F246","v":0},{"$f":"'BAU projected GHG Balances'!G246","v":0},{"$f":"'BAU projected GHG Balances'!H246","v":0},{"$f":"'BAU projected GHG Balances'!I246","v":0},{"$f":"'BAU projected GHG Balances'!J246","v":0},{"$f":"'BAU projected GHG Balances'!K246","v":0},{"$f":"'BAU projected GHG Balances'!L246","v":0},{"$f":"'BAU projected GHG Balances'!M246","v":0},{"$f":"'BAU projected GHG Balances'!N246","v":0},{"$f":"'BAU projected GHG Balances'!O246","v":0},{"$f":"'BAU projected GHG Balances'!P246","v":0}]
[]
[null,null,"CH4 and N20 balances",null,"ktCO2e"]
[null,null,"CH4 from energy combustion",null,{"$f":"'BAU projected GHG Balances'!D249","v":"CO2"}]
[null,null,"N2O from energy combustion",null,{"$f":"'BAU projected GHG Balances'!D250","v":0}]
[null,null,"Total Agriculture",null,{"$f":"'BAU projected GHG Balances'!D251","v":0}]
[null,null,"  Enteric fermentation",null,{"$f":"'BAU projected GHG Balances'!D252","v":0}]
[null,null,"  Manure management",null,{"$f":"'BAU projected GHG Balances'!D253","v":0}]
[null,null,"  Rice cultivation",null,{"$f":"'BAU projected GHG Balances'!D254","v":0}]
[null,null,"  N2O from agricultural soils",null,{"$f":"'BAU projected GHG Balances'!D255","v":0}]
[null,null,"  Burning of agricultural residues",null,{"$f":"'BAU projected GHG Balances'!D256","v":0}]
[null,null,"Fugitive (CH4)",null,{"$f":"'BAU projected GHG Balances'!D257","v":0}]
[null,null,"Forestry",null,{"$f":"'BAU projected GHG Balances'!D258","v":0}]
[null,null,"Waste - solid",null,{"$f":"'BAU projected GHG Balances'!D259","v":0}]
[null,null,"Waste - liquid",null,{"$f":"'BAU projected GHG Balances'!D260","v":0}]
[null,null,"Industrial processes",null,{"$f":"'BAU projected GHG Balances'!D261","v":0}]
[null,null,"Total GHG emission - CH4 and N2O",null,{"$f":"'BAU projected GHG Balances'!D262","v":0}]
[]
["Projected GHG balance in the year 2045"]
[]
[]
[null,null,{"$f":"\"Green House Gas (GHG) Balance - 2040 - \"&Assumptions!D379","v":"Green House Gas (GHG) Balance - 2040 - "}]
[null,null,"ktCO2-e",null,"LPG","Gasoline","Jet Fuel","Diesel","Fueloil","Kerosene and other","Total oil products","Coal","Lignite","Gas","Coke","Petrocoke","Total"]
[null,null,"Unit",null,"ktCO2-e","ktCO2-e","ktCO2-e","ktCO2-e","ktCO2-e","ktCO2-e","ktCO2-e","ktCO2-e","ktCO2-e","ktCO2-e","ktCO2-e","ktCO2-e","ktCO2-e"]
[null,null,"Total",null,{"$f":"'BAU projected GHG Balances'!D293","v":0},{"$f":"'BAU projected GHG Balances'!E293","v":0},{"$f":"'BAU projected GHG Balances'!F293","v":0},{"$f":"'BAU projected GHG Balances'!G293","v":0},{"$f":"'BAU projected GHG Balances'!H293","v":0},{"$f":"'BAU projected GHG Balances'!I293","v":0},{"$f":"'BAU projected GHG Balances'!J293","v":0},{"$f":"'BAU projected GHG Balances'!K293","v":0},{"$f":"'BAU projected GHG Balances'!L293","v":0},{"$f":"'BAU projected GHG Balances'!M293","v":0},{"$f":"'BAU projected GHG Balances'!N293","v":0},{"$f":"'BAU projected GHG Balances'!O293","v":0},{"$f":"'BAU projected GHG Balances'!P293","v":0}]
[null,null,"    Fossil power plants",null,{"$f":"'BAU projected GHG Balances'!D294","v":0},{"$f":"'BAU projected GHG Balances'!E294","v":0},{"$f":"'BAU projected GHG Balances'!F294","v":0},{"$f":"'BAU projected GHG Balances'!G294","v":0},{"$f":"'BAU projected GHG Balances'!H294","v":0},{"$f":"'BAU projected GHG Balances'!I294","v":0},{"$f":"'BAU projected GHG Balances'!J294","v":0},{"$f":"'BAU projected GHG Balances'!K294","v":0},{"$f":"'BAU projected GHG Balances'!L294","v":0},{"$f":"'BAU projected GHG Balances'!M294","v":0},{"$f":"'BAU projected GHG Balances'!N294","v":0},{"$f":"'BAU projected GHG Balances'!O294","v":0},{"$f":"'BAU projected GHG Balances'!P294","v":0}]
[null,null,"FINAL CONSUMPTION",null,{"$f":"'BAU projected GHG Balances'!D295","v":0},{"$f":"'BAU projected GHG Balances'!E295","v":0},{"$f":"'BAU projected GHG Balances'!F295","v":0},{"$f":"'BAU projected GHG Balances'!G295","v":0},{"$f":"'BAU projected GHG Balances'!H295","v":0},{"$f":"'BAU projected GHG Balances'!I295","v":0},{"$f":"'BAU projected GHG Balances'!J295","v":0},{"$f":"'BAU projected GHG Balances'!K295","v":0},{"$f":"'BAU projected GHG Balances'!L295","v":0},{"$f":"'BAU projected GHG Balances'!M295","v":0},{"$f":"'BAU projected GHG Balances'!N295","v":0},{"$f":"'BAU projected GHG Balances'!O295","v":0},{"$f":"'BAU projected GHG Balances'!P295","v":0}]
[null,null,"    Industry - steel",null,{"$f":"'BAU projected GHG Balances'!D296","v":0},{"$f":"'BAU projected GHG Balances'!E296","v":0},{"$f":"'BAU projected GHG Balances'!F296","v":0},{"$f":"'BAU projected GHG Balances'!G296","v":0},{"$f":"'BAU projected GHG Balances'!H296","v":0},{"$f":"'BAU projected GHG Balances'!I296","v":0},{"$f":"'BAU projected GHG Balances'!J296","v":0},{"$f":"'BAU projected GHG Balances'!K296","v":0},{"$f":"'BAU projected GHG Balances'!L296","v":0},{"$f":"'BAU projected GHG Balances'!M296","v":0},{"$f":"'BAU projected GHG Balances'!N296","v":0},{"$f":"'BAU projected GHG Balances'!O296","v":0},{"$f":"'BAU projected GHG Balances'!P296","v":0}]
[null,null,"    Industry - chemical",null,{"$f":"'BAU projected GHG Balances'!D297","v":0},{"$f":"'BAU projected GHG Balances'!E297","v":0},{"$f":"'BAU projected GHG Balances'!F297","v":0},{"$f":"'BAU projected GHG Balances'!G297","v":0},{"$f":"'BAU projected GHG Balances'!H297","v":0},{"$f":"'BAU projected GHG Balances'!I297","v":0},{"$f":"'BAU projected GHG Balances'!J297","v":0},{"$f":"'BAU projected GHG Balances'!K297","v":0},{"$f":"'BAU projected GHG Balances'!L297","v":0},{"$f":"'BAU projected GHG Balances'!M297","v":0},{"$f":"'BAU projected GHG Balances'!N297","v":0},{"$f":"'BAU projected GHG Balances'!O297","v":0},{"$f":"'BAU projected GHG Balances'!P297","v":0}]
[null,null,"    Industry - non metallic mineral",null,{"$f":"'BAU projected GHG Balances'!D298","v":0},{"$f":"'BAU projected GHG Balances'!E298","v":0},{"$f":"'BAU projected GHG Balances'!F298","v":0},{"$f":"'BAU projected GHG Balances'!G298","v":0},{"$f":"'BAU projected GHG Balances'!H298","v":0},{"$f":"'BAU projected GHG Balances'!I298","v":0},{"$f":"'BAU projected GHG Balances'!J298","v":0},{"$f":"'BAU projected GHG Balances'!K298","v":0},{"$f":"'BAU projected GHG Balances'!L298","v":0},{"$f":"'BAU projected GHG Balances'!M298","v":0},{"$f":"'BAU projected GHG Balances'!N298","v":0},{"$f":"'BAU projected GHG Balances'!O298","v":0},{"$f":"'BAU projected GHG Balances'!P298","v":0}]
[null,null,"    Industry - food processing and beverage",null,{"$f":"'BAU projected GHG Balances'!D299","v":0},{"$f":"'BAU projected GHG Balances'!E299","v":0},{"$f":"'BAU projected GHG Balances'!F299","v":0},{"$f":"'BAU projected GHG Balances'!G299","v":0},{"$f":"'BAU projected GHG Balances'!H299","v":0},{"$f":"'BAU projected GHG Balances'!I299","v":0},{"$f":"'BAU projected GHG Balances'!J299","v":0},{"$f":"'BAU projected GHG Balances'!K299","v":0},{"$f":"'BAU projected GHG Balances'!L299","v":0},{"$f":"'BAU projected GHG Balances'!M299","v":0},{"$f":"'BAU projected GHG Balances'!N299","v":0},{"$f":"'BAU projected GHG Balances'!O299","v":0},{"$f":"'BAU projected GHG Balances'!P299","v":0}]
[null,null,"    Industry - construction",null,{"$f":"'BAU projected GHG Balances'!D300","v":0},{"$f":"'BAU projected GHG Balances'!E300","v":0},{"$f":"'BAU projected GHG Balances'!F300","v":0},{"$f":"'BAU projected GHG Balances'!G300","v":0},{"$f":"'BAU projected GHG Balances'!H300","v":0},{"$f":"'BAU projected GHG Balances'!I300","v":0},{"$f":"'BAU projected GHG Balances'!J300","v":0},{"$f":"'BAU projected GHG Balances'!K300","v":0},{"$f":"'BAU projected GHG Balances'!L300","v":0},{"$f":"'BAU projected GHG Balances'!M300","v":0},{"$f":"'BAU projected GHG Balances'!N300","v":0},{"$f":"'BAU projected GHG Balances'!O300","v":0},{"$f":"'BAU projected GHG Balances'!P300","v":0}]
[null,null,"    Industry - mining",null,{"$f":"'BAU projected GHG Balances'!D301","v":0},{"$f":"'BAU projected GHG Balances'!E301","v":0},{"$f":"'BAU projected GHG Balances'!F301","v":0},{"$f":"'BAU projected GHG Balances'!G301","v":0},{"$f":"'BAU projected GHG Balances'!H301","v":0},{"$f":"'BAU projected GHG Balances'!I301","v":0},{"$f":"'BAU projected GHG Balances'!J301","v":0},{"$f":"'BAU projected GHG Balances'!K301","v":0},{"$f":"'BAU projected GHG Balances'!L301","v":0},{"$f":"'BAU projected GHG Balances'!M301","v":0},{"$f":"'BAU projected GHG Balances'!N301","v":0},{"$f":"'BAU projected GHG Balances'!O301","v":0},{"$f":"'BAU projected GHG Balances'!P301","v":0}]
[null,null,"    Industry - machinery",null,{"$f":"'BAU projected GHG Balances'!D302","v":0},{"$f":"'BAU projected GHG Balances'!E302","v":0},{"$f":"'BAU projected GHG Balances'!F302","v":0},{"$f":"'BAU projected GHG Balances'!G302","v":0},{"$f":"'BAU projected GHG Balances'!H302","v":0},{"$f":"'BAU projected GHG Balances'!I302","v":0},{"$f":"'BAU projected GHG Balances'!J302","v":0},{"$f":"'BAU projected GHG Balances'!K302","v":0},{"$f":"'BAU projected GHG Balances'!L302","v":0},{"$f":"'BAU projected GHG Balances'!M302","v":0},{"$f":"'BAU projected GHG Balances'!N302","v":0},{"$f":"'BAU projected GHG Balances'!O302","v":0},{"$f":"'BAU projected GHG Balances'!P302","v":0}]
[null,null,"    Industry - non ferrous metals",null,{"$f":"'BAU projected GHG Balances'!D303","v":0},{"$f":"'BAU projected GHG Balances'!E303","v":0},{"$f":"'BAU projected GHG Balances'!F303","v":0},{"$f":"'BAU projected GHG Balances'!G303","v":0},{"$f":"'BAU projected GHG Balances'!H303","v":0},{"$f":"'BAU projected GHG Balances'!I303","v":0},{"$f":"'BAU projected GHG Balances'!J303","v":0},{"$f":"'BAU projected GHG Balances'!K303","v":0},{"$f":"'BAU projected GHG Balances'!L303","v":0},{"$f":"'BAU projected GHG Balances'!M303","v":0},{"$f":"'BAU projected GHG Balances'!N303","v":0},{"$f":"'BAU projected GHG Balances'!O303","v":0},{"$f":"'BAU projected GHG Balances'!P303","v":0}]
[null,null,"    Industry - paper and pulp",null,{"$f":"'BAU projected GHG Balances'!D304","v":0},{"$f":"'BAU projected GHG Balances'!E304","v":0},{"$f":"'BAU projected GHG Balances'!F304","v":0},{"$f":"'BAU projected GHG Balances'!G304","v":0},{"$f":"'BAU projected GHG Balances'!H304","v":0},{"$f":"'BAU projected GHG Balances'!I304","v":0},{"$f":"'BAU projected GHG Balances'!J304","v":0},{"$f":"'BAU projected GHG Balances'!K304","v":0},{"$f":"'BAU projected GHG Balances'!L304","v":0},{"$f":"'BAU projected GHG Balances'!M304","v":0},{"$f":"'BAU projected GHG Balances'!N304","v":0},{"$f":"'BAU projected GHG Balances'!O304","v":0},{"$f":"'BAU projected GHG Balances'!P304","v":0}]
[null,null,"    Industry - transport equipment",null,{"$f":"'BAU projected GHG Balances'!D305","v":0},{"$f":"'BAU projected GHG Balances'!E305","v":0},{"$f":"'BAU projected GHG Balances'!F305","v":0},{"$f":"'BAU projected GHG Balances'!G305","v":0},{"$f":"'BAU projected GHG Balances'!H305","v":0},{"$f":"'BAU projected GHG Balances'!I305","v":0},{"$f":"'BAU projected GHG Balances'!J305","v":0},{"$f":"'BAU projected GHG Balances'!K305","v":0},{"$f":"'BAU projected GHG Balances'!L305","v":0},{"$f":"'BAU projected GHG Balances'!M305","v":0},{"$f":"'BAU projected GHG Balances'!N305","v":0},{"$f":"'BAU projected GHG Balances'!O305","v":0},{"$f":"'BAU projected GHG Balances'!P305","v":0}]
[null,null,"    Industry - textile and leather",null,{"$f":"'BAU projected GHG Balances'!D306","v":0},{"$f":"'BAU projected GHG Balances'!E306","v":0},{"$f":"'BAU projected GHG Balances'!F306","v":0},{"$f":"'BAU projected GHG Balances'!G306","v":0},{"$f":"'BAU projected GHG Balances'!H306","v":0},{"$f":"'BAU projected GHG Balances'!I306","v":0},{"$f":"'BAU projected GHG Balances'!J306","v":0},{"$f":"'BAU projected GHG Balances'!K306","v":0},{"$f":"'BAU projected GHG Balances'!L306","v":0},{"$f":"'BAU projected GHG Balances'!M306","v":0},{"$f":"'BAU projected GHG Balances'!N306","v":0},{"$f":"'BAU projected GHG Balances'!O306","v":0},{"$f":"'BAU projected GHG Balances'!P306","v":0}]
[null,null,"    Industry - miscellaneous",null,{"$f":"'BAU projected GHG Balances'!D307","v":0},{"$f":"'BAU projected GHG Balances'!E307","v":0},{"$f":"'BAU projected GHG Balances'!F307","v":0},{"$f":"'BAU projected GHG Balances'!G307","v":0},{"$f":"'BAU projected GHG Balances'!H307","v":0},{"$f":"'BAU projected GHG Balances'!I307","v":0},{"$f":"'BAU projected GHG Balances'!J307","v":0},{"$f":"'BAU projected GHG Balances'!K307","v":0},{"$f":"'BAU projected GHG Balances'!L307","v":0},{"$f":"'BAU projected GHG Balances'!M307","v":0},{"$f":"'BAU projected GHG Balances'!N307","v":0},{"$f":"'BAU projected GHG Balances'!O307","v":0},{"$f":"'BAU projected GHG Balances'!P307","v":0}]
[null,null,"    Transport - road",null,{"$f":"'BAU projected GHG Balances'!D308","v":0},{"$f":"'BAU projected GHG Balances'!E308","v":0},{"$f":"'BAU projected GHG Balances'!F308","v":0},{"$f":"'BAU projected GHG Balances'!G308","v":0},{"$f":"'BAU projected GHG Balances'!H308","v":0},{"$f":"'BAU projected GHG Balances'!I308","v":0},{"$f":"'BAU projected GHG Balances'!J308","v":0},{"$f":"'BAU projected GHG Balances'!K308","v":0},{"$f":"'BAU projected GHG Balances'!L308","v":0},{"$f":"'BAU projected GHG Balances'!M308","v":0},{"$f":"'BAU projected GHG Balances'!N308","v":0},{"$f":"'BAU projected GHG Balances'!O308","v":0},{"$f":"'BAU projected GHG Balances'!P308","v":0}]
[null,null,"    Transport - rail",null,{"$f":"'BAU projected GHG Balances'!D309","v":0},{"$f":"'BAU projected GHG Balances'!E309","v":0},{"$f":"'BAU projected GHG Balances'!F309","v":0},{"$f":"'BAU projected GHG Balances'!G309","v":0},{"$f":"'BAU projected GHG Balances'!H309","v":0},{"$f":"'BAU projected GHG Balances'!I309","v":0},{"$f":"'BAU projected GHG Balances'!J309","v":0},{"$f":"'BAU projected GHG Balances'!K309","v":0},{"$f":"'BAU projected GHG Balances'!L309","v":0},{"$f":"'BAU projected GHG Balances'!M309","v":0},{"$f":"'BAU projected GHG Balances'!N309","v":0},{"$f":"'BAU projected GHG Balances'!O309","v":0},{"$f":"'BAU projected GHG Balances'!P309","v":0}]
[null,null,"    Transport - domestic air",null,{"$f":"'BAU projected GHG Balances'!D310","v":0},{"$f":"'BAU projected GHG Balances'!E310","v":0},{"$f":"'BAU projected GHG Balances'!F310","v":0},{"$f":"'BAU projected GHG Balances'!G310","v":0},{"$f":"'BAU projected GHG Balances'!H310","v":0},{"$f":"'BAU projected GHG Balances'!I310","v":0},{"$f":"'BAU projected GHG Balances'!J310","v":0},{"$f":"'BAU projected GHG Balances'!K310","v":0},{"$f":"'BAU projected GHG Balances'!L310","v":0},{"$f":"'BAU projected GHG Balances'!M310","v":0},{"$f":"'BAU projected GHG Balances'!N310","v":0},{"$f":"'BAU projected GHG Balances'!O310","v":0},{"$f":"'BAU projected GHG Balances'!P310","v":0}]
[null,null,"    Transport - navigation",null,{"$f":"'BAU projected GHG Balances'!D311","v":0},{"$f":"'BAU projected GHG Balances'!E311","v":0},{"$f":"'BAU projected GHG Balances'!F311","v":0},{"$f":"'BAU projected GHG Balances'!G311","v":0},{"$f":"'BAU projected GHG Balances'!H311","v":0},{"$f":"'BAU projected GHG Balances'!I311","v":0},{"$f":"'BAU projected GHG Balances'!J311","v":0},{"$f":"'BAU projected GHG Balances'!K311","v":0},{"$f":"'BAU projected GHG Balances'!L311","v":0},{"$f":"'BAU projected GHG Balances'!M311","v":0},{"$f":"'BAU projected GHG Balances'!N311","v":0},{"$f":"'BAU projected GHG Balances'!O311","v":0},{"$f":"'BAU projected GHG Balances'!P311","v":0}]
[null,null,"    Households",null,{"$f":"'BAU projected GHG Balances'!D312","v":0},{"$f":"'BAU projected GHG Balances'!E312","v":0},{"$f":"'BAU projected GHG Balances'!F312","v":0},{"$f":"'BAU projected GHG Balances'!G312","v":0},{"$f":"'BAU projected GHG Balances'!H312","v":0},{"$f":"'BAU projected GHG Balances'!I312","v":0},{"$f":"'BAU projected GHG Balances'!J312","v":0},{"$f":"'BAU projected GHG Balances'!K312","v":0},{"$f":"'BAU projected GHG Balances'!L312","v":0},{"$f":"'BAU projected GHG Balances'!M312","v":0},{"$f":"'BAU projected GHG Balances'!N312","v":0},{"$f":"'BAU projected GHG Balances'!O312","v":0},{"$f":"'BAU projected GHG Balances'!P312","v":0}]
[null,null,"    Services",null,{"$f":"'BAU projected GHG Balances'!D313","v":0},{"$f":"'BAU projected GHG Balances'!E313","v":0},{"$f":"'BAU projected GHG Balances'!F313","v":0},{"$f":"'BAU projected GHG Balances'!G313","v":0},{"$f":"'BAU projected GHG Balances'!H313","v":0},{"$f":"'BAU projected GHG Balances'!I313","v":0},{"$f":"'BAU projected GHG Balances'!J313","v":0},{"$f":"'BAU projected GHG Balances'!K313","v":0},{"$f":"'BAU projected GHG Balances'!L313","v":0},{"$f":"'BAU projected GHG Balances'!M313","v":0},{"$f":"'BAU projected GHG Balances'!N313","v":0},{"$f":"'BAU projected GHG Balances'!O313","v":0},{"$f":"'BAU projected GHG Balances'!P313","v":0}]
[null,null,"    Agriculture & Fishery",null,{"$f":"'BAU projected GHG Balances'!D314","v":0},{"$f":"'BAU projected GHG Balances'!E314","v":0},{"$f":"'BAU projected GHG Balances'!F314","v":0},{"$f":"'BAU projected GHG Balances'!G314","v":0},{"$f":"'BAU projected GHG Balances'!H314","v":0},{"$f":"'BAU projected GHG Balances'!I314","v":0},{"$f":"'BAU projected GHG Balances'!J314","v":0},{"$f":"'BAU projected GHG Balances'!K314","v":0},{"$f":"'BAU projected GHG Balances'!L314","v":0},{"$f":"'BAU projected GHG Balances'!M314","v":0},{"$f":"'BAU projected GHG Balances'!N314","v":0},{"$f":"'BAU projected GHG Balances'!O314","v":0},{"$f":"'BAU projected GHG Balances'!P314","v":0}]
[null,null,"    Non energy uses",null,{"$f":"'BAU projected GHG Balances'!D315","v":0},{"$f":"'BAU projected GHG Balances'!E315","v":0},{"$f":"'BAU projected GHG Balances'!F315","v":0},{"$f":"'BAU projected GHG Balances'!G315","v":0},{"$f":"'BAU projected GHG Balances'!H315","v":0},{"$f":"'BAU projected GHG Balances'!I315","v":0},{"$f":"'BAU projected GHG Balances'!J315","v":0},{"$f":"'BAU projected GHG Balances'!K315","v":0},{"$f":"'BAU projected GHG Balances'!L315","v":0},{"$f":"'BAU projected GHG Balances'!M315","v":0},{"$f":"'BAU projected GHG Balances'!N315","v":0},{"$f":"'BAU projected GHG Balances'!O315","v":0},{"$f":"'BAU projected GHG Balances'!P315","v":0}]
[]
[null,null,"CH4 and N20 balances",null,"ktCO2e"]
[null,null,"CH4 from energy combustion",null,{"$f":"'BAU projected GHG Balances'!D318","v":"CO2"}]
[null,null,"N2O from energy combustion",null,{"$f":"'BAU projected GHG Balances'!D319","v":0}]
[null,null,"Total Agriculture",null,{"$f":"'BAU projected GHG Balances'!D320","v":0}]
[null,null,"  Enteric fermentation",null,{"$f":"'BAU projected GHG Balances'!D321","v":0}]
[null,null,"  Manure management",null,{"$f":"'BAU projected GHG Balances'!D322","v":0}]
[null,null,"  Rice cultivation",null,{"$f":"'BAU projected GHG Balances'!D323","v":0}]
[null,null,"  N2O from agricultural soils",null,{"$f":"'BAU projected GHG Balances'!D324","v":0}]
[null,null,"  Burning of agricultural residues",null,{"$f":"'BAU projected GHG Balances'!D325","v":0}]
[null,null,"Fugitive (CH4)",null,{"$f":"'BAU projected GHG Balances'!D326","v":0}]
[null,null,"Forestry",null,{"$f":"'BAU projected GHG Balances'!D327","v":0}]
[null,null,"Waste - solid",null,{"$f":"'BAU projected GHG Balances'!D328","v":0}]
[null,null,"Waste - liquid",null,{"$f":"'BAU projected GHG Balances'!D329","v":0}]
[null,null,"Industrial processes",null,{"$f":"'BAU projected GHG Balances'!D330","v":0}]
[null,null,"Total GHG emission - CH4 and N2O",null,{"$f":"'BAU projected GHG Balances'!D331","v":0}]
[]
["Projected GHG balance in the year 2050"]
[]
[]
[null,null,{"$f":"\"Green House Gas (GHG) Balance - 2050 - \"&Assumptions!D354","v":"Green House Gas (GHG) Balance - 2050 - "}]
[null,null,"ktCO2-e",null,"LPG","Gasoline","Jet Fuel","Diesel","Fueloil","Kerosene and other","Total oil products","Coal","Lignite","Gas","Coke","Petrocoke","Total"]
[null,null,"Unit",null,"ktCO2-e","ktCO2-e","ktCO2-e","ktCO2-e","ktCO2-e","ktCO2-e","ktCO2-e","ktCO2-e","ktCO2-e","ktCO2-e","ktCO2-e","ktCO2-e","ktCO2-e"]
[null,null,"Total",null,{"$f":"'BAU projected GHG Balances'!D362","v":0},{"$f":"'BAU projected GHG Balances'!E362","v":0},{"$f":"'BAU projected GHG Balances'!F362","v":0},{"$f":"'BAU projected GHG Balances'!G362","v":0},{"$f":"'BAU projected GHG Balances'!H362","v":0},{"$f":"'BAU projected GHG Balances'!I362","v":0},{"$f":"'BAU projected GHG Balances'!J362","v":0},{"$f":"'BAU projected GHG Balances'!K362","v":0},{"$f":"'BAU projected GHG Balances'!L362","v":0},{"$f":"'BAU projected GHG Balances'!M362","v":0},{"$f":"'BAU projected GHG Balances'!N362","v":0},{"$f":"'BAU projected GHG Balances'!O362","v":0},{"$f":"'BAU projected GHG Balances'!P362","v":0}]
[null,null,"    Fossil power plants",null,{"$f":"'BAU projected GHG Balances'!D363","v":0},{"$f":"'BAU projected GHG Balances'!E363","v":0},{"$f":"'BAU projected GHG Balances'!F363","v":0},{"$f":"'BAU projected GHG Balances'!G363","v":0},{"$f":"'BAU projected GHG Balances'!H363","v":0},{"$f":"'BAU projected GHG Balances'!I363","v":0},{"$f":"'BAU projected GHG Balances'!J363","v":0},{"$f":"'BAU projected GHG Balances'!K363","v":0},{"$f":"'BAU projected GHG Balances'!L363","v":0},{"$f":"'BAU projected GHG Balances'!M363","v":0},{"$f":"'BAU projected GHG Balances'!N363","v":0},{"$f":"'BAU projected GHG Balances'!O363","v":0},{"$f":"'BAU projected GHG Balances'!P363","v":0}]
[null,null,"FINAL CONSUMPTION",null,{"$f":"'BAU projected GHG Balances'!D364","v":0},{"$f":"'BAU projected GHG Balances'!E364","v":0},{"$f":"'BAU projected GHG Balances'!F364","v":0},{"$f":"'BAU projected GHG Balances'!G364","v":0},{"$f":"'BAU projected GHG Balances'!H364","v":0},{"$f":"'BAU projected GHG Balances'!I364","v":0},{"$f":"'BAU projected GHG Balances'!J364","v":0},{"$f":"'BAU projected GHG Balances'!K364","v":0},{"$f":"'BAU projected GHG Balances'!L364","v":0},{"$f":"'BAU projected GHG Balances'!M364","v":0},{"$f":"'BAU projected GHG Balances'!N364","v":0},{"$f":"'BAU projected GHG Balances'!O364","v":0},{"$f":"'BAU projected GHG Balances'!P364","v":0}]
[null,null,"    Industry - steel",null,{"$f":"'BAU projected GHG Balances'!D365","v":0},{"$f":"'BAU projected GHG Balances'!E365","v":0},{"$f":"'BAU projected GHG Balances'!F365","v":0},{"$f":"'BAU projected GHG Balances'!G365","v":0},{"$f":"'BAU projected GHG Balances'!H365","v":0},{"$f":"'BAU projected GHG Balances'!I365","v":0},{"$f":"'BAU projected GHG Balances'!J365","v":0},{"$f":"'BAU projected GHG Balances'!K365","v":0},{"$f":"'BAU projected GHG Balances'!L365","v":0},{"$f":"'BAU projected GHG Balances'!M365","v":0},{"$f":"'BAU projected GHG Balances'!N365","v":0},{"$f":"'BAU projected GHG Balances'!O365","v":0},{"$f":"'BAU projected GHG Balances'!P365","v":0}]
[null,null,"    Industry - chemical",null,{"$f":"'BAU projected GHG Balances'!D366","v":0},{"$f":"'BAU projected GHG Balances'!E366","v":0},{"$f":"'BAU projected GHG Balances'!F366","v":0},{"$f":"'BAU projected GHG Balances'!G366","v":0},{"$f":"'BAU projected GHG Balances'!H366","v":0},{"$f":"'BAU projected GHG Balances'!I366","v":0},{"$f":"'BAU projected GHG Balances'!J366","v":0},{"$f":"'BAU projected GHG Balances'!K366","v":0},{"$f":"'BAU projected GHG Balances'!L366","v":0},{"$f":"'BAU projected GHG Balances'!M366","v":0},{"$f":"'BAU projected GHG Balances'!N366","v":0},{"$f":"'BAU projected GHG Balances'!O366","v":0},{"$f":"'BAU projected GHG Balances'!P366","v":0}]
[null,null,"    Industry - non metallic mineral",null,{"$f":"'BAU projected GHG Balances'!D367","v":0},{"$f":"'BAU projected GHG Balances'!E367","v":0},{"$f":"'BAU projected GHG Balances'!F367","v":0},{"$f":"'BAU projected GHG Balances'!G367","v":0},{"$f":"'BAU projected GHG Balances'!H367","v":0},{"$f":"'BAU projected GHG Balances'!I367","v":0},{"$f":"'BAU projected GHG Balances'!J367","v":0},{"$f":"'BAU projected GHG Balances'!K367","v":0},{"$f":"'BAU projected GHG Balances'!L367","v":0},{"$f":"'BAU projected GHG Balances'!M367","v":0},{"$f":"'BAU projected GHG Balances'!N367","v":0},{"$f":"'BAU projected GHG Balances'!O367","v":0},{"$f":"'BAU projected GHG Balances'!P367","v":0}]
[null,null,"    Industry - food processing and beverage",null,{"$f":"'BAU projected GHG Balances'!D368","v":0},{"$f":"'BAU projected GHG Balances'!E368","v":0},{"$f":"'BAU projected GHG Balances'!F368","v":0},{"$f":"'BAU projected GHG Balances'!G368","v":0},{"$f":"'BAU projected GHG Balances'!H368","v":0},{"$f":"'BAU projected GHG Balances'!I368","v":0},{"$f":"'BAU projected GHG Balances'!J368","v":0},{"$f":"'BAU projected GHG Balances'!K368","v":0},{"$f":"'BAU projected GHG Balances'!L368","v":0},{"$f":"'BAU projected GHG Balances'!M368","v":0},{"$f":"'BAU projected GHG Balances'!N368","v":0},{"$f":"'BAU projected GHG Balances'!O368","v":0},{"$f":"'BAU projected GHG Balances'!P368","v":0}]
[null,null,"    Industry - construction",null,{"$f":"'BAU projected GHG Balances'!D369","v":0},{"$f":"'BAU projected GHG Balances'!E369","v":0},{"$f":"'BAU projected GHG Balances'!F369","v":0},{"$f":"'BAU projected GHG Balances'!G369","v":0},{"$f":"'BAU projected GHG Balances'!H369","v":0},{"$f":"'BAU projected GHG Balances'!I369","v":0},{"$f":"'BAU projected GHG Balances'!J369","v":0},{"$f":"'BAU projected GHG Balances'!K369","v":0},{"$f":"'BAU projected GHG Balances'!L369","v":0},{"$f":"'BAU projected GHG Balances'!M369","v":0},{"$f":"'BAU projected GHG Balances'!N369","v":0},{"$f":"'BAU projected GHG Balances'!O369","v":0},{"$f":"'BAU projected GHG Balances'!P369","v":0}]
[null,null,"    Industry - mining",null,{"$f":"'BAU projected GHG Balances'!D370","v":0},{"$f":"'BAU projected GHG Balances'!E370","v":0},{"$f":"'BAU projected GHG Balances'!F370","v":0},{"$f":"'BAU projected GHG Balances'!G370","v":0},{"$f":"'BAU projected GHG Balances'!H370","v":0},{"$f":"'BAU projected GHG Balances'!I370","v":0},{"$f":"'BAU projected GHG Balances'!J370","v":0},{"$f":"'BAU projected GHG Balances'!K370","v":0},{"$f":"'BAU projected GHG Balances'!L370","v":0},{"$f":"'BAU projected GHG Balances'!M370","v":0},{"$f":"'BAU projected GHG Balances'!N370","v":0},{"$f":"'BAU projected GHG Balances'!O370","v":0},{"$f":"'BAU projected GHG Balances'!P370","v":0}]
[null,null,"    Industry - machinery",null,{"$f":"'BAU projected GHG Balances'!D371","v":0},{"$f":"'BAU projected GHG Balances'!E371","v":0},{"$f":"'BAU projected GHG Balances'!F371","v":0},{"$f":"'BAU projected GHG Balances'!G371","v":0},{"$f":"'BAU projected GHG Balances'!H371","v":0},{"$f":"'BAU projected GHG Balances'!I371","v":0},{"$f":"'BAU projected GHG Balances'!J371","v":0},{"$f":"'BAU projected GHG Balances'!K371","v":0},{"$f":"'BAU projected GHG Balances'!L371","v":0},{"$f":"'BAU projected GHG Balances'!M371","v":0},{"$f":"'BAU projected GHG Balances'!N371","v":0},{"$f":"'BAU projected GHG Balances'!O371","v":0},{"$f":"'BAU projected GHG Balances'!P371","v":0}]
[null,null,"    Industry - non ferrous metals",null,{"$f":"'BAU projected GHG Balances'!D372","v":0},{"$f":"'BAU projected GHG Balances'!E372","v":0},{"$f":"'BAU projected GHG Balances'!F372","v":0},{"$f":"'BAU projected GHG Balances'!G372","v":0},{"$f":"'BAU projected GHG Balances'!H372","v":0},{"$f":"'BAU projected GHG Balances'!I372","v":0},{"$f":"'BAU projected GHG Balances'!J372","v":0},{"$f":"'BAU projected GHG Balances'!K372","v":0},{"$f":"'BAU projected GHG Balances'!L372","v":0},{"$f":"'BAU projected GHG Balances'!M372","v":0},{"$f":"'BAU projected GHG Balances'!N372","v":0},{"$f":"'BAU projected GHG Balances'!O372","v":0},{"$f":"'BAU projected GHG Balances'!P372","v":0}]
[null,null,"    Industry - paper and pulp",null,{"$f":"'BAU projected GHG Balances'!D373","v":0},{"$f":"'BAU projected GHG Balances'!E373","v":0},{"$f":"'BAU projected GHG Balances'!F373","v":0},{"$f":"'BAU projected GHG Balances'!G373","v":0},{"$f":"'BAU projected GHG Balances'!H373","v":0},{"$f":"'BAU projected GHG Balances'!I373","v":0},{"$f":"'BAU projected GHG Balances'!J373","v":0},{"$f":"'BAU projected GHG Balances'!K373","v":0},{"$f":"'BAU projected GHG Balances'!L373","v":0},{"$f":"'BAU projected GHG Balances'!M373","v":0},{"$f":"'BAU projected GHG Balances'!N373","v":0},{"$f":"'BAU projected GHG Balances'!O373","v":0},{"$f":"'BAU projected GHG Balances'!P373","v":0}]
[null,null,"    Industry - transport equipment",null,{"$f":"'BAU projected GHG Balances'!D374","v":0},{"$f":"'BAU projected GHG Balances'!E374","v":0},{"$f":"'BAU projected GHG Balances'!F374","v":0},{"$f":"'BAU projected GHG Balances'!G374","v":0},{"$f":"'BAU projected GHG Balances'!H374","v":0},{"$f":"'BAU projected GHG Balances'!I374","v":0},{"$f":"'BAU projected GHG Balances'!J374","v":0},{"$f":"'BAU projected GHG Balances'!K374","v":0},{"$f":"'BAU projected GHG Balances'!L374","v":0},{"$f":"'BAU projected GHG Balances'!M374","v":0},{"$f":"'BAU projected GHG Balances'!N374","v":0},{"$f":"'BAU projected GHG Balances'!O374","v":0},{"$f":"'BAU projected GHG Balances'!P374","v":0}]
[null,null,"    Industry - textile and leather",null,{"$f":"'BAU projected GHG Balances'!D375","v":0},{"$f":"'BAU projected GHG Balances'!E375","v":0},{"$f":"'BAU projected GHG Balances'!F375","v":0},{"$f":"'BAU projected GHG Balances'!G375","v":0},{"$f":"'BAU projected GHG Balances'!H375","v":0},{"$f":"'BAU projected GHG Balances'!I375","v":0},{"$f":"'BAU projected GHG Balances'!J375","v":0},{"$f":"'BAU projected GHG Balances'!K375","v":0},{"$f":"'BAU projected GHG Balances'!L375","v":0},{"$f":"'BAU projected GHG Balances'!M375","v":0},{"$f":"'BAU projected GHG Balances'!N375","v":0},{"$f":"'BAU projected GHG Balances'!O375","v":0},{"$f":"'BAU projected GHG Balances'!P375","v":0}]
[null,null,"    Industry - miscellaneous",null,{"$f":"'BAU projected GHG Balances'!D376","v":0},{"$f":"'BAU projected GHG Balances'!E376","v":0},{"$f":"'BAU projected GHG Balances'!F376","v":0},{"$f":"'BAU projected GHG Balances'!G376","v":0},{"$f":"'BAU projected GHG Balances'!H376","v":0},{"$f":"'BAU projected GHG Balances'!I376","v":0},{"$f":"'BAU projected GHG Balances'!J376","v":0},{"$f":"'BAU projected GHG Balances'!K376","v":0},{"$f":"'BAU projected GHG Balances'!L376","v":0},{"$f":"'BAU projected GHG Balances'!M376","v":0},{"$f":"'BAU projected GHG Balances'!N376","v":0},{"$f":"'BAU projected GHG Balances'!O376","v":0},{"$f":"'BAU projected GHG Balances'!P376","v":0}]
[null,null,"    Transport - road",null,{"$f":"'BAU projected GHG Balances'!D377","v":0},{"$f":"'BAU projected GHG Balances'!E377","v":0},{"$f":"'BAU projected GHG Balances'!F377","v":0},{"$f":"'BAU projected GHG Balances'!G377","v":0},{"$f":"'BAU projected GHG Balances'!H377","v":0},{"$f":"'BAU projected GHG Balances'!I377","v":0},{"$f":"'BAU projected GHG Balances'!J377","v":0},{"$f":"'BAU projected GHG Balances'!K377","v":0},{"$f":"'BAU projected GHG Balances'!L377","v":0},{"$f":"'BAU projected GHG Balances'!M377","v":0},{"$f":"'BAU projected GHG Balances'!N377","v":0},{"$f":"'BAU projected GHG Balances'!O377","v":0},{"$f":"'BAU projected GHG Balances'!P377","v":0}]
[null,null,"    Transport - rail",null,{"$f":"'BAU projected GHG Balances'!D378","v":0},{"$f":"'BAU projected GHG Balances'!E378","v":0},{"$f":"'BAU projected GHG Balances'!F378","v":0},{"$f":"'BAU projected GHG Balances'!G378","v":0},{"$f":"'BAU projected GHG Balances'!H378","v":0},{"$f":"'BAU projected GHG Balances'!I378","v":0},{"$f":"'BAU projected GHG Balances'!J378","v":0},{"$f":"'BAU projected GHG Balances'!K378","v":0},{"$f":"'BAU projected GHG Balances'!L378","v":0},{"$f":"'BAU projected GHG Balances'!M378","v":0},{"$f":"'BAU projected GHG Balances'!N378","v":0},{"$f":"'BAU projected GHG Balances'!O378","v":0},{"$f":"'BAU projected GHG Balances'!P378","v":0}]
[null,null,"    Transport - domestic air",null,{"$f":"'BAU projected GHG Balances'!D379","v":0},{"$f":"'BAU projected GHG Balances'!E379","v":0},{"$f":"'BAU projected GHG Balances'!F379","v":0},{"$f":"'BAU projected GHG Balances'!G379","v":0},{"$f":"'BAU projected GHG Balances'!H379","v":0},{"$f":"'BAU projected GHG Balances'!I379","v":0},{"$f":"'BAU projected GHG Balances'!J379","v":0},{"$f":"'BAU projected GHG Balances'!K379","v":0},{"$f":"'BAU projected GHG Balances'!L379","v":0},{"$f":"'BAU projected GHG Balances'!M379","v":0},{"$f":"'BAU projected GHG Balances'!N379","v":0},{"$f":"'BAU projected GHG Balances'!O379","v":0},{"$f":"'BAU projected GHG Balances'!P379","v":0}]
[null,null,"    Transport - navigation",null,{"$f":"'BAU projected GHG Balances'!D380","v":0},{"$f":"'BAU projected GHG Balances'!E380","v":0},{"$f":"'BAU projected GHG Balances'!F380","v":0},{"$f":"'BAU projected GHG Balances'!G380","v":0},{"$f":"'BAU projected GHG Balances'!H380","v":0},{"$f":"'BAU projected GHG Balances'!I380","v":0},{"$f":"'BAU projected GHG Balances'!J380","v":0},{"$f":"'BAU projected GHG Balances'!K380","v":0},{"$f":"'BAU projected GHG Balances'!L380","v":0},{"$f":"'BAU projected GHG Balances'!M380","v":0},{"$f":"'BAU projected GHG Balances'!N380","v":0},{"$f":"'BAU projected GHG Balances'!O380","v":0},{"$f":"'BAU projected GHG Balances'!P380","v":0}]
[null,null,"    Households",null,{"$f":"'BAU projected GHG Balances'!D381","v":0},{"$f":"'BAU projected GHG Balances'!E381","v":0},{"$f":"'BAU projected GHG Balances'!F381","v":0},{"$f":"'BAU projected GHG Balances'!G381","v":0},{"$f":"'BAU projected GHG Balances'!H381","v":0},{"$f":"'BAU projected GHG Balances'!I381","v":0},{"$f":"'BAU projected GHG Balances'!J381","v":0},{"$f":"'BAU projected GHG Balances'!K381","v":0},{"$f":"'BAU projected GHG Balances'!L381","v":0},{"$f":"'BAU projected GHG Balances'!M381","v":0},{"$f":"'BAU projected GHG Balances'!N381","v":0},{"$f":"'BAU projected GHG Balances'!O381","v":0},{"$f":"'BAU projected GHG Balances'!P381","v":0}]
[null,null,"    Services",null,{"$f":"'BAU projected GHG Balances'!D382","v":0},{"$f":"'BAU projected GHG Balances'!E382","v":0},{"$f":"'BAU projected GHG Balances'!F382","v":0},{"$f":"'BAU projected GHG Balances'!G382","v":0},{"$f":"'BAU projected GHG Balances'!H382","v":0},{"$f":"'BAU projected GHG Balances'!I382","v":0},{"$f":"'BAU projected GHG Balances'!J382","v":0},{"$f":"'BAU projected GHG Balances'!K382","v":0},{"$f":"'BAU projected GHG Balances'!L382","v":0},{"$f":"'BAU projected GHG Balances'!M382","v":0},{"$f":"'BAU projected GHG Balances'!N382","v":0},{"$f":"'BAU projected GHG Balances'!O382","v":0},{"$f":"'BAU projected GHG Balances'!P382","v":0}]
[null,null,"    Agriculture & Fishery",null,{"$f":"'BAU projected GHG Balances'!D383","v":0},{"$f":"'BAU projected GHG Balances'!E383","v":0},{"$f":"'BAU projected GHG Balances'!F383","v":0},{"$f":"'BAU projected GHG Balances'!G383","v":0},{"$f":"'BAU projected GHG Balances'!H383","v":0},{"$f":"'BAU projected GHG Balances'!I383","v":0},{"$f":"'BAU projected GHG Balances'!J383","v":0},{"$f":"'BAU projected GHG Balances'!K383","v":0},{"$f":"'BAU projected GHG Balances'!L383","v":0},{"$f":"'BAU projected GHG Balances'!M383","v":0},{"$f":"'BAU projected GHG Balances'!N383","v":0},{"$f":"'BAU projected GHG Balances'!O383","v":0},{"$f":"'BAU projected GHG Balances'!P383","v":0}]
[null,null,"    Non energy uses",null,{"$f":"'BAU projected GHG Balances'!D384","v":0},{"$f":"'BAU projected GHG Balances'!E384","v":0},{"$f":"'BAU projected GHG Balances'!F384","v":0},{"$f":"'BAU projected GHG Balances'!G384","v":0},{"$f":"'BAU projected GHG Balances'!H384","v":0},{"$f":"'BAU projected GHG Balances'!I384","v":0},{"$f":"'BAU projected GHG Balances'!J384","v":0},{"$f":"'BAU projected GHG Balances'!K384","v":0},{"$f":"'BAU projected GHG Balances'!L384","v":0},{"$f":"'BAU projected GHG Balances'!M384","v":0},{"$f":"'BAU projected GHG Balances'!N384","v":0},{"$f":"'BAU projected GHG Balances'!O384","v":0},{"$f":"'BAU projected GHG Balances'!P384","v":0}]
[]
[null,null,"CH4 and N20 balances",null,"ktCO2e"]
[null,null,"CH4 from energy combustion",null,{"$f":"'BAU projected GHG Balances'!D433","v":0}]
[null,null,"N2O from energy combustion",null,{"$f":"'BAU projected GHG Balances'!D434","v":0}]
[null,null,"Total Agriculture",null,{"$f":"'BAU projected GHG Balances'!D435","v":0}]
[null,null,"  Enteric fermentation",null,{"$f":"'BAU projected GHG Balances'!D436","v":0}]
[null,null,"  Manure management",null,{"$f":"'BAU projected GHG Balances'!D437","v":0}]
[null,null,"  Rice cultivation",null,{"$f":"'BAU projected GHG Balances'!D438","v":0}]
[null,null,"  N2O from agricultural soils",null,{"$f":"'BAU projected GHG Balances'!D439","v":0}]
[null,null,"  Burning of agricultural residues",null,{"$f":"'BAU projected GHG Balances'!D440","v":0}]
[null,null,"Fugitive (CH4)",null,{"$f":"'BAU projected GHG Balances'!D441","v":0}]
[null,null,"Forestry",null,{"$f":"'BAU projected GHG Balances'!D442","v":0}]
[null,null,"Waste - solid",null,{"$f":"'BAU projected GHG Balances'!D443","v":0}]
[null,null,"Waste - liquid",null,{"$f":"'BAU projected GHG Balances'!D444","v":0}]
[null,null,"Industrial processes",null,{"$f":"'BAU projected GHG Balances'!D445","v":0}]
[null,null,"Total GHG emission - CH4 and N2O",null,{"$f":"'BAU projected GHG Balances'!D447","v":0}]

{"sheet":"Report_print.3","index":13,"n_rows":366,"n_cols":7,"rows_kept":366,"cut":false,"hidden":true,"merged":[[183,0,183,7],[238,2,238,3],[239,2,239,3],[240,2,240,3],[241,2,241,3],[117,2,117,3],[0,0,0,7],[61,0,61,7],[118,2,118,3],[119,2,119,3],[56,2,56,3],[55,2,55,3],[57,2,57,3],[58,2,58,3],[116,2,116,3],[177,2,177,3],[178,2,178,3],[179,2,179,3],[180,2,180,3],[122,0,122,7],[244,0,244,7],[299,2,299,3],[300,2,300,3],[301,2,301,3],[302,2,302,3],[305,0,305,7],[360,2,360,3],[361,2,361,3],[362,2,362,3],[363,2,363,3]]}
["Results - Mitigation options 2025"]
[]
[null,"Type","Mitigation options ","Unit penetrating","Emission reductions\nkt/year","Investment cost\nmillion USD","Annual costs\nMUS$/year"]
[null,"Agriculture","Rice crop CH4 reduction",12,41.059200000000004,15.738919705685618,1.2007459383532686]
[null,"Agriculture","Zero tillage",12,1.0287246372479999,-0.20934166666666662,-0.17117142305928321]
[null,"Agriculture","Cover crops",12,17.88,0,1.4489999999999998]
[null,"Agriculture","Nitrification inhibitors (1000 ha)",12,9.48,0,0.64169999999999994]
[null,"Agriculture","Covering slurry stores (1 slurry store)",12,2.4156E-3,2.4E-2,2.2654302178381366E-3]
[null,"Agriculture","Fat supplementation in ruminants diets (%DM fat added) ",12,1.3323026788542993,0,0]
[null,"Agriculture","Tobacco curing",12,6.743632896000002,2.4146341463414635E-2,-0.14027929276863846]
[null,"Biomass energy","Rice husk cogeneration plants",12,118.04813691119998,11.832460732984291,-88.562518665502637]
[null,"Biomass energy","Biomass power from biomass residues ",12,30,34.13928571428572,-53.377423857414243]
[null,"Biomass energy","Bagasse power",12,83.931428571428583,29.153164566681912,-162.1414533379326]
[null,"CCS","CCS plant",12,64.948453608247419,140.23917525773197,13.237586056398515]
[null,"Cement","Clinker replacement",12,1999.8658314424297,0,86.525606173691372]
[null,"Coal bed mine methane","Coal mine methane",12,449.50080000000003,0,-83.654213303113124]
[null,"EE households","Efficient residential airconditioning",12,8.9662921348314608,1.56,-15.429761526469477]
[null,"EE households","Efficient lighting with CFLs",12,0.438,1.8500970873786413E-2,-0.75998224044085871]
[null,"EE households","Efficient lighting with LEDs",12,0.89352000000000009,-0.06,-1.5817130750262187]
[null,"EE households","Efficient lighting with LEDs replacing CFL",12,0.10512000000000002,9.3616220880350015E-2,-0.17063115625628242]
[null,"EE households","Efficient wood stoves",12,16.060000000000002,2.4,-14.987995666674033]
[null,"EE households","Efficient charcoal stoves",12,3.5150030246194874,0.72,-0.21796719775426462]
[null,"EE households","LPG stoves replacing wood stoves",12,24.659327000000005,0.36,1.8289118497542374]
[null,"EE households","Efficient electric stoves",12,1.7828571428571431,0.80400000000000005,-3.0055284878071982]
[null,"EE households","Induction based cooking",12,0.12987701040681179,0.80000000000000027,-0.11338276603002939]
[null,"EE households","New passive home",12,97.714285714285708,0,-72]
[null,"EE households","Efficient refrigerators",12,14.3232,3.1128404669260705,-4.4624015479303818]
[null,"EE industry","Efficient electric motors",12,7.4666666666666614E-3,1.4400000000000001E-3,-1.2861643062739255E-2]
[null,"EE industry","Energy efficiency in industry",12,1044.1746777369601,10.441746777369602,0.98562702818612824]
[null,"EE industry","Building materials",12,6.2436000000000007,0.1,-0.11797378818880196]
[null,"EE own generation","Waste heat recovery at cement plant",12,492.51780000000002,133.19999999999999,-967.66246229099841]
[null,"EE own generation","Waste heat recovery at steel plant",12,453.6,72,-897.8837093464856]
[null,"EE service","Efficient electric motors",12,7.4666666666666614E-3,1.4400000000000001E-3,-1.2861643062739255E-2]
[null,"EE service","Efficient office lighting with CFLs",12,0.45051428571428576,7.9021738822655549E-2,-0.77339047080264178]
[null,"EE service","Efficient office lighting with LEDs",12,0.51058285714285712,0.19902173882265559,-0.85901312590608836]
[null,"EE service","Efficient street lights",12,4.5051428571428564,0.8578971659091269,-7.7248144187531151]
[null,"EE service","Efficient water pumping",12,8.7771428571428594,2.4,-15.133456978216186]
[null,"EE service","HVAC",12,56.313579099343862,4.7448547733466979,-111.95159741874083]
[null,"EE service","Efficient Chiller > 300 TR",12,2.3720399999999999E-2,4.1999999999999997E-3,-1.2554407606758083E-2]
[null,"EE service","Efficient Chiller < 300 TR",12,1.8160200000000005E-2,3.5999999999999999E-3,-9.007109026614564E-3]
[null,"EE service","Efficient room airconditioner",12,8.1111111111111071E-3,1.56E-3,-1.3798374961115894E-2]
[null,"EE service","Efficient commercial dishwashing machine ",12,0.13452088452088451,0.1265664,-0.20097979203880723]
[null,"EE service","Efficient hotel refrigerator",12,4.5664415584415587E-3,4.8581249999999999E-2,-1.8747967409260163E-3]
[null,"EE service","Efficient hotel washing machine ",12,7.3331585714285692E-4,0.246528,2.824942648828974E-2]
[null,"EE service","Energy efficiency in service",12,65.53477269503999,0.65534772695039989,6.1860189326040496E-2]
[null,"EE service","New office building with central cooling",12,0.40088783943329392,7.9185433884297496E-2,-0.68686060680314265]
[null,"EE supply side","New natural gas power plant",12,2.952,11.05368256163475,-68.841875534764924]
[null,"EE supply side","Switch from fuel oil to natural gas",12,17.452285714285726,4.3010784425019863E-3,-5.9254196707777558]
[null,"EE supply side","Cogeneration in industry",12,9.0805465497599975,4.1879999999999997,-172.5882872793095]
[null,"EE supply side","Single cycle to combined cycle",12,936,529.97519999999997,50.025909699367084]
[null,"Energy distribution","Efficient electric grids",12,6,11.506879337635455,-0.11383199314597318]
[null,"Energy distribution","Connection of isolated grid to central grid ",12,6,0.32244021360575803,-1.1695639248604723]
[null,"Energy distribution","Power factor increase",12,1168.9795918367347,13.796297142857146,-0.37367684958879277]
[null,"Energy distribution","District heating network rehabilitation (100,000 flats supplied)",12,403.78864094800014,44.783999999999999,-61.83235190525302]
[null,"Energy distribution","District cooling network (1 million m2 new city area covered)",12,164.70747758451114,151.0106617958487,-24.451277568112896]
[null,"Forestry","Reforestation",null,85292.775620249566,7.2,0.67962906535144096]
[null,"Forestry","REDD: Avoided deforestation",null,70.565277267909863,-4.84,-0.45686176059735761]
[null,"Forestry","Assisted forest regeneration",null,11155215.123373928,7.1999999999999993,-0.16990726633786024]
[null,"Forestry","Reforestation with agroforestry",null,829582.98413424357,16.200000000000003,-2.9011105264000032E-2]
[null,"Forestry","Reforestation with Silvopasture",12,44,16.200000000000003,-2.9011105264000032E-2]
[null,"Fossil fuel switch","Switch from coal to natural gas in industry",12,46.2,1.5383532024243536,1.438045970212164]
["Results - Mitigation options 2030"]
[null,"Fugitive","Reduced flaring at oil field",12,271.36199890799998,130.39226339237206,2.6227409848562395]
[null,"Fugitive","Reduced flaring at oil refineries",12,249.56661599999998,312,54.21987852924579]
[null,"Transport","20% Biodiesel blend in all  diesel",12,-3153.5615050156143,0,-1164.8628979011455]
[null,"Transport","15% Bioethanol blend in all gasoline",12,-40.62915433503602,0,7.6818564378125416]
[null,"Transport","Bus Rapid Transit (BRT)",12,23.801539591836729,38.726002530392201,2.1293385431895402]
[null,"Transport","More efficient gasoline cars",12,4.9068456585365796,0,-1.033116348513575]
[null,"Transport","More efficient diesel cars",12,2.1566554239999998,0,-0.34188763245282988]
[null,"Transport","Natural Gas cars",12,9.3370140124843903,18,-1.0419478076951787]
[null,"Transport","Electric cars",12,10.467138461538459,280.8,43.463021472356139]
[null,"Transport","Electric 18m buses",12,443.31135157894715,2283,977.68340097329485]
[null,"Transport","Electric 12m buses",12,160.2983136,1500,471.46996411460623]
[null,"Transport","Electric heavy trucks",12,117.03990999999991,4303.1400000000003,945.1572721402099]
[null,"Transport","Electric light trucks",12,71.557362189473707,389.64,93.404750164408114]
[null,"Transport","Electric rail ",12,38.24254576992,1975.3589624826311,218.4764068243903]
[null,"Transport","Shifting passengers from car to rail",12,425.49363999999997,11128000,834751.06633017398]
[null,"Transport","Shifting freight transport from road to rail",12,2.8963753360957525,0,-4445.4321567660108]
[null,"Transport","Restriction on import of used cars",12,11.176703999999994,0,-2.3532083871698091]
[null,"Transport","New bicycle lanes",12,8.2389925418926833,0.6,-1.1935069044712119]
[null,"Transport","Electric three-wheelers",12,3.44520539080272,6.5016949152542356,4.6317515740023349]
[null,"Transport","Electric two-wheelers",12,2.344176,19.207999999999998,3.0985651855947696]
[null,"Transport","Better maintenance and use of motor bikes",12,1.3970880000000003,0,-0.26415178339622647]
[]
[]
[]
[]
[]
[]
[]
[]
[]
[]
[]
[]
[]
[]
[]
[]
[]
[]
[]
[]
[]
[]
[]
[]
[]
[]
[]
[]
[]
[]
[]
[null,"Transport","Restriction on import of used cars",12,11.176703999999994,0,-2.3532083871698091]
[null,"Transport","New bicycle lanes",12,8.2389925418926833,0.6,-1.1935069044712119]
[null,"Transport","Electric three-wheelers",null,-1858.0798017951224,6.5016949152542356,4.6317515740023349]
[null,"Transport","Electric two-wheelers",null,-1.4010855929515698,19.207999999999998,3.0985651855947696]
[null,"Transport","Better maintenance and use of motor bikes",null,11138814.974659929,0,-0.26415178339622647]
[null,"Wind","Wind turbines, on-shore",null,831901.73978407285,8.1,-29.113917301479631]
[null,"Wind","Wind turbines, on-shore with 24 storage",12,16.41,18.890136986301371,-30.753552647377603]
[null,"Wind","Wind turbines, off-shore",12,19.2,30,-35.11821222770233]
["Results - Mitigation options 2035"]
[]
[null,"Type","Mitigation options ","Unit penetrating","Emission reductions\nkt/year","Investment cost\nmillion USD","Annual costs\nMUS$/year"]
[null,"Transport","20% Biodiesel blend in all  diesel",12,-3153.5615050156143,0,-1164.8628979011455]
[null,"Transport","15% Bioethanol blend in all gasoline",12,-40.62915433503602,0,7.6818564378125416]
[null,"Transport","Bus Rapid Transit (BRT)",12,23.801539591836729,38.726002530392201,2.1293385431895402]
[null,"Transport","More efficient gasoline cars",12,4.9068456585365796,0,-1.033116348513575]
[null,"Transport","More efficient diesel cars",12,2.1566554239999998,0,-0.34188763245282988]
[null,"Transport","Natural Gas cars",12,9.3370140124843903,18,-1.0419478076951787]
[null,"Transport","Electric cars",12,10.467138461538459,280.8,43.463021472356139]
[null,"Transport","Electric 18m buses",12,443.31135157894715,2283,977.68340097329485]
[null,"Transport","Electric 12m buses",12,160.2983136,1500,471.46996411460623]
[null,"Transport","Electric heavy trucks",12,117.03990999999991,4303.1400000000003,945.1572721402099]
[null,"Transport","Electric light trucks",12,71.557362189473707,389.64,93.404750164408114]
[null,"Transport","Electric rail ",12,38.24254576992,1975.3589624826311,218.4764068243903]
[null,"Transport","Shifting passengers from car to rail",12,425.49363999999997,11128000,834751.06633017398]
[null,"Transport","Shifting freight transport from road to rail",12,2.8963753360957525,0,-4445.4321567660108]
[null,"Transport","Restriction on import of used cars",12,11.176703999999994,0,-2.3532083871698091]
[null,"Transport","New bicycle lanes",12,8.2389925418926833,0.6,-1.1935069044712119]
[null,"Transport","Electric three-wheelers",12,3.44520539080272,6.5016949152542356,4.6317515740023349]
[null,"Transport","Electric two-wheelers",12,2.344176,19.207999999999998,3.0985651855947696]
[null,"Transport","Better maintenance and use of motor bikes",12,1.3970880000000003,0,-0.26415178339622647]
[]
[]
[]
[]
[]
[]
[]
[]
[]
[]
[]
[]
[]
[]
[]
[]
[]
[]
[]
[]
[]
[]
[]
[]
[]
[]
[]
[]
[]
[]
[]
[]
[]
[null,null,"Total emission reduction in 2035",null,-1858.0798017951224]
[null,null,"Total emission reduction in % to the BAU scenario in 2035",null,-1.2762752514970999]
[null,null,"Total Investment cost in 2035",null,11138814.974659929]
[null,null,"Total Annual cost in 2035",null,831901.73978407285]
[null,null,null,null,0]
[null,null,null,null,0]
["Results - Mitigation options 2040"]
[]
[null,"Type","Mitigation options ","Unit penetrating","Emission reductions\nkt/year","Investment cost\nmillion USD","Annual costs\nMUS$/year"]
[null,"Transport","20% Biodiesel blend in all  diesel",12,-3141.4140662558443,0,-1160.3758756270347]
[null,"Transport","15% Bioethanol blend in all gasoline",12,-40.171576851556146,0,7.5953411116927265]
[null,"Transport","Bus Rapid Transit (BRT)",12,23.801539591836729,38.726002530392201,2.1293385431895402]
[null,"Transport","More efficient gasoline cars",12,4.9068456585365796,0,-1.033116348513575]
[null,"Transport","More efficient diesel cars",12,2.1566554239999998,0,-0.34188763245282988]
[null,"Transport","Natural Gas cars",12,9.3370140124843903,18,-1.0419478076951787]
[null,"Transport","Electric cars",12,10.213055999999996,216,33.529827614662693]
[null,"Transport","Electric 18m buses",12,472.74578399999984,1005,672.34895142848416]
[null,"Transport","Electric 12m buses",12,154.49363199999999,852,369.6018096979588]
[null,"Transport","Electric heavy trucks",12,96.279668999999998,3631.14,836.03311689611189]
[null,"Transport","Electric light trucks",12,63.628089599999974,83.64,51.110636940270354]
[null,"Transport","Electric rail ",12,38.24254576992,1975.3589624826311,218.4764068243903]
[null,"Transport","Shifting passengers from car to rail",12,425.49363999999997,11128000,834751.06633017398]
[null,"Transport","Shifting freight transport from road to rail",12,2.8963753360957525,0,-4445.4321567660108]
[null,"Transport","Restriction on import of used cars",12,11.176703999999994,0,-2.3532083871698091]
[null,"Transport","New bicycle lanes",12,8.2389925418926833,0.6,-1.1935069044712119]
[null,"Transport","Electric three-wheelers",12,3.44520539080272,6.5016949152542356,4.6317515740023349]
[null,"Transport","Electric two-wheelers",12,2.344176,19.207999999999998,3.0985651855947696]
[null,"Transport","Better maintenance and use of motor bikes",12,1.3970880000000003,0,-0.26415178339622647]
[]
[]
[]
[]
[]
[]
[]
[]
[]
[]
[]
[]
[]
[]
[]
[]
[]
[]
[]
[]
[]
[]
[]
[]
[]
[]
[]
[]
[]
[]
[]
[]
[]
[null,null,"Total emission reduction in 2050",null,-1850.7886307818317]
[null,null,"Total emission reduction in % to the BAU scenario in 2050",null,-0.95812084567721845]
[null,null,"Total Investment cost in 2050",null,11135846.174659928]
[null,null,"Total Annual cost in 2050",null,831337.58622473339]
[null,null,null,null,0]
[null,null,null,null,0]
["Results - Mitigation options 2045"]
[]
[null,"Type","Mitigation options ","Unit penetrating","Emission reductions\nkt/year","Investment cost\nmillion USD","Annual costs\nMUS$/year"]
[null,"Transport","20% Biodiesel blend in all  diesel",12,-2910.266592250176,0,-1074.9945960849893]
[null,"Transport","15% Bioethanol blend in all gasoline",12,-40.171576851556146,0,7.5953411116927265]
[null,"Transport","Bus Rapid Transit (BRT)",12,23.801539591836729,38.726002530392201,2.1293385431895402]
[null,"Transport","More efficient gasoline cars",12,4.9068456585365796,0,-1.033116348513575]
[null,"Transport","More efficient diesel cars",12,2.1566554239999998,0,-0.34188763245282988]
[null,"Transport","Natural Gas cars",12,9.3370140124843903,18,-1.0419478076951787]
[null,"Transport","Electric cars",12,10.213055999999996,252,37.662434103898924]
[null,"Transport","Electric 18m buses",12,472.74578399999984,615,621.29717585302637]
[null,"Transport","Electric 12m buses",12,154.49363199999999,612,338.18533242075398]
[null,"Transport","Electric heavy trucks",12,96.279668999999998,3271.14,788.90840098030446]
[null,"Transport","Electric light trucks",12,63.628089599999974,-276.36,3.985921024462983]
[null,"Transport","Electric rail ",12,38.24254576992,1975.3589624826311,218.4764068243903]
[null,"Transport","Shifting passengers from car to rail",12,425.49363999999997,11128000,834751.06633017398]
[null,"Transport","Shifting freight transport from road to rail",12,2.8963753360957525,0,-4445.4321567660108]
[null,"Transport","Restriction on import of used cars",12,11.176703999999994,0,-2.3532083871698091]
[null,"Transport","New bicycle lanes",12,8.2389925418926833,0.6,-1.1935069044712119]
[null,"Transport","Electric three-wheelers",12,3.44520539080272,6.5016949152542356,4.6317515740023349]
[null,"Transport","Electric two-wheelers",12,2.344176,19.207999999999998,3.0985651855947696]
[null,"Transport","Better maintenance and use of motor bikes",12,1.3970880000000003,0,-0.26415178339622647]
[]
[]
[]
[]
[]
[]
[]
[]
[]
[]
[]
[]
[]
[]
[]
[]
[]
[]
[]
[]
[]
[]
[]
[]
[]
[]
[]
[]
[]
[]
[]
[]
[]
[null,null,"Total emission reduction in 2050",null,-1619.6411567761634]
[null,null,"Total emission reduction in % to the BAU scenario in 2050",null,-1.0128775026583292]
[null,null,"Total Investment cost in 2050",null,11134532.174659928]
[null,null,"Total Annual cost in 2050",null,831250.38242608041]
[null,null,null,null,0]
[null,null,null,null,0]
["Results - Mitigation options 2050"]
[]
[null,"Type","Mitigation options ","Unit penetrating","Emission reductions\nkt/year","Investment cost\nmillion USD","Annual costs\nMUS$/year"]
[null,"Transport","20% Biodiesel blend in all  diesel",12,-2910.266592250176,0,-1074.9945960849893]
[null,"Transport","15% Bioethanol blend in all gasoline",12,-40.171576851556146,0,7.5953411116927265]
[null,"Transport","Bus Rapid Transit (BRT)",12,23.801539591836729,38.726002530392201,2.1293385431895402]
[null,"Transport","More efficient gasoline cars",12,4.9068456585365796,0,-1.033116348513575]
[null,"Transport","More efficient diesel cars",12,2.1566554239999998,0,-0.34188763245282988]
[null,"Transport","Natural Gas cars",12,9.3370140124843903,18,-1.0419478076951787]
[null,"Transport","Electric cars",12,10.213055999999996,252,37.662434103898924]
[null,"Transport","Electric 18m buses",12,472.74578399999984,615,621.29717585302637]
[null,"Transport","Electric 12m buses",12,154.49363199999999,612,338.18533242075398]
[null,"Transport","Electric heavy trucks",12,96.279668999999998,3271.14,788.90840098030446]
[null,"Transport","Electric light trucks",12,63.628089599999974,-276.36,3.985921024462983]
[null,"Transport","Electric rail ",12,38.24254576992,1975.3589624826311,218.4764068243903]
[null,"Transport","Shifting passengers from car to rail",12,425.49363999999997,11128000,834751.06633017398]
[null,"Transport","Shifting freight transport from road to rail",12,2.8963753360957525,0,-4445.4321567660108]
[null,"Transport","Restriction on import of used cars",12,11.176703999999994,0,-2.3532083871698091]
[null,"Transport","New bicycle lanes",12,8.2389925418926833,0.6,-1.1935069044712119]
[null,"Transport","Electric three-wheelers",12,3.44520539080272,6.5016949152542356,4.6317515740023349]
[null,"Transport","Electric two-wheelers",12,2.344176,19.207999999999998,3.0985651855947696]
[null,"Transport","Better maintenance and use of motor bikes",12,1.3970880000000003,0,-0.26415178339622647]
[]
[]
[]
[]
[]
[]
[]
[]
[]
[]
[]
[]
[]
[]
[]
[]
[]
[]
[]
[]
[]
[]
[]
[]
[]
[]
[]
[]
[]
[]
[]
[]
[]
[null,null,"Total emission reduction in 2050",null,-1619.6411567761634]
[null,null,"Total emission reduction in % to the BAU scenario in 2050",null,-0.92174819842769307]
[null,null,"Total Investment cost in 2050",null,11134532.174659928]
[null,null,"Total Annual cost in 2050",null,831250.38242608041]
[null,null,null,null,0]
[null,null,null,null,0]

{"sheet":"Report_print.4","index":14,"n_rows":325,"n_cols":11,"rows_kept":325,"cut":false,"hidden":true,"merged":[[2,1,2,3],[0,0,0,11],[30,0,30,11],[34,2,34,9],[63,0,63,11],[207,0,207,11],[246,0,246,11],[285,0,285,11],[324,0,324,11],[67,2,67,9],[96,0,96,11],[100,2,100,9],[129,0,129,11],[168,0,168,11]]}
["Results - Projections"]
[]
[null,"GHG emissions from all sectors",null,null,{"$f":"+Assumptions!C10","v":0},2025,2030,2035,2040,2045,2050]
[null,"Population (thousands)",null,null,{"$f":"Results!D33","v":0},{"$f":"Results!E33","v":0},{"$f":"Results!F33","v":0},{"$f":"Results!G33","v":0},{"$f":"Results!H33","v":0},{"$f":"Results!I33","v":0},{"$f":"Results!J33","v":0}]
[null,"GDP (Current MUS$)",null,null,{"$f":"Results!D34","v":0},{"$f":"Results!E34","v":0},{"$f":"Results!F34","v":0},{"$f":"Results!G34","v":0},{"$f":"Results!H34","v":0},{"$f":"Results!I34","v":0},{"$f":"Results!J34","v":0}]
[null,"BAU energy CO2 emissions (ktCO2)",null,"Fossil fuel emissions",{"$f":"Results!#REF!","v":{"$error":"#REF!"}},{"$f":"Results!#REF!","v":{"$error":"#REF!"}},{"$f":"Results!#REF!","v":{"$error":"#REF!"}},{"$f":"Results!#REF!","v":{"$error":"#REF!"}},{"$f":"Results!#REF!","v":{"$error":"#REF!"}},{"$f":"Results!#REF!","v":{"$error":"#REF!"}},{"$f":"Results!#REF!","v":{"$error":"#REF!"}}]
[null,"BAU other gases GHG emissions (ktCO2e)",null,"Other emissions",{"$f":"Results!D23","v":0},{"$f":"Results!E23","v":0},{"$f":"Results!F23","v":0},{"$f":"Results!G23","v":0},{"$f":"Results!H23","v":0},{"$f":"Results!I23","v":0},{"$f":"Results!J23","v":0}]
[null,"BAU GHG emissions (ktCO2e)",null,"All GHG emissions",{"$f":"Results!#REF!","v":{"$error":"#REF!"}},{"$f":"Results!#REF!","v":{"$error":"#REF!"}},{"$f":"Results!#REF!","v":{"$error":"#REF!"}},{"$f":"Results!#REF!","v":{"$error":"#REF!"}},{"$f":"Results!#REF!","v":{"$error":"#REF!"}},{"$f":"Results!#REF!","v":{"$error":"#REF!"}},{"$f":"Results!#REF!","v":{"$error":"#REF!"}}]
[null,"Emissions Reduction in Mitigation Scenario (ktCO2e)",null,"All GHG emissions",{"$f":"Results!D24","v":0},{"$f":"Results!E24","v":{"$error":"#DIV/0!"}},{"$f":"Results!F24","v":{"$error":"#DIV/0!"}},{"$f":"Results!G24","v":{"$error":"#DIV/0!"}},{"$f":"Results!H24","v":{"$error":"#DIV/0!"}},{"$f":"Results!I24","v":{"$error":"#DIV/0!"}},{"$f":"Results!J24","v":{"$error":"#DIV/0!"}}]
[null,"Total emissions in Mitigation scenario (ktCO2e)",null,"All GHG emissions",{"$f":"Results!D25","v":0},{"$f":"Results!E25","v":{"$error":"#DIV/0!"}},{"$f":"Results!F25","v":{"$error":"#DIV/0!"}},{"$f":"Results!G25","v":{"$error":"#DIV/0!"}},{"$f":"Results!H25","v":{"$error":"#DIV/0!"}},{"$f":"Results!I25","v":{"$error":"#DIV/0!"}},{"$f":"Results!J25","v":{"$error":"#DIV/0!"}}]
[null,"Mitigation scenario reduction (%)",null,"All GHG emissions",{"$f":"Results!D26","v":{"$error":"#DIV/0!"}},{"$f":"Results!E26","v":{"$error":"#DIV/0!"}},{"$f":"Results!F26","v":{"$error":"#DIV/0!"}},{"$f":"Results!G26","v":{"$error":"#DIV/0!"}},{"$f":"Results!H26","v":{"$error":"#DIV/0!"}},{"$f":"Results!I26","v":{"$error":"#DIV/0!"}},{"$f":"Results!J26","v":{"$error":"#DIV/0!"}}]
[null,"Emissions Reduction in Mitigation Scenario 2 (ktCO2e)",null,"All GHG emissions",{"$f":"Results!D27","v":0},{"$f":"Results!E27","v":0},{"$f":"Results!F27","v":0},{"$f":"Results!G27","v":0},{"$f":"Results!H27","v":0},{"$f":"Results!I27","v":0},{"$f":"Results!J27","v":0}]
[null,"Total emissions in Mitigation scenario 2 (ktCO2e)",null,"All GHG emissions",{"$f":"Results!D28","v":0},{"$f":"Results!E28","v":0},{"$f":"Results!F28","v":0},{"$f":"Results!G28","v":0},{"$f":"Results!H28","v":0},{"$f":"Results!I28","v":0},{"$f":"Results!J28","v":0}]
[null,"Mitigation scenario 2 reduction (%)",null,"All GHG emissions",{"$f":"Results!D29","v":{"$error":"#DIV/0!"}},{"$f":"Results!E29","v":{"$error":"#DIV/0!"}},{"$f":"Results!F29","v":{"$error":"#DIV/0!"}},{"$f":"Results!G29","v":{"$error":"#DIV/0!"}},{"$f":"Results!H29","v":{"$error":"#DIV/0!"}},{"$f":"Results!I29","v":{"$error":"#DIV/0!"}},{"$f":"Results!J29","v":{"$error":"#DIV/0!"}}]
[]
[null,"Total tCO2-e/capita in BAU",null,"All GHG emissions",{"$f":"Results!D35","v":{"$error":"#DIV/0!"}},{"$f":"Results!E35","v":{"$error":"#DIV/0!"}},{"$f":"Results!F35","v":{"$error":"#DIV/0!"}},{"$f":"Results!G35","v":{"$error":"#DIV/0!"}},{"$f":"Results!H35","v":{"$error":"#DIV/0!"}},{"$f":"Results!I35","v":{"$error":"#DIV/0!"}},{"$f":"Results!J35","v":{"$error":"#DIV/0!"}}]
[null,"Total tCO2-e/US$ in BAU",null,"All GHG emissions",{"$f":"Results!D36","v":{"$error":"#DIV/0!"}},{"$f":"Results!E36","v":{"$error":"#DIV/0!"}},{"$f":"Results!F36","v":{"$error":"#DIV/0!"}},{"$f":"Results!G36","v":{"$error":"#DIV/0!"}},{"$f":"Results!H36","v":{"$error":"#DIV/0!"}},{"$f":"Results!I36","v":{"$error":"#DIV/0!"}},{"$f":"Results!J36","v":{"$error":"#DIV/0!"}}]
[]
[]
[]
[]
[]
[]
[]
[]
[]
[]
[]
[]
[]
["Results - Projections"]
[]
[]
[]
[null,null,"Sectoral split of BAU scenario emissions"]
[null,null,"ktCO2e/year",{"$f":"+Assumptions!C10","v":0},2025,2030,2035,2040,2045,2050]
[null,null,"Total",{"$f":"SUM(D38:D45)","v":0},0,0,0,0,0,0]
[null,null,"Power ",{"$f":"Results!D45","v":0},{"$f":"Results!E45","v":0},{"$f":"Results!F45","v":0},{"$f":"Results!G45","v":0},{"$f":"Results!H45","v":0},{"$f":"Results!I45","v":0},{"$f":"Results!J45","v":0}]
[null,null,"Industry",{"$f":"Results!D46","v":0},{"$f":"Results!E46","v":0},{"$f":"Results!F46","v":0},{"$f":"Results!G46","v":0},{"$f":"Results!H46","v":0},{"$f":"Results!I46","v":0},{"$f":"Results!J46","v":0}]
[null,null,"Transport",{"$f":"Results!D47","v":0},{"$f":"Results!E47","v":0},{"$f":"Results!F47","v":0},{"$f":"Results!G47","v":0},{"$f":"Results!H47","v":0},{"$f":"Results!I47","v":0},{"$f":"Results!J47","v":0}]
[null,null,"Households",{"$f":"Results!D48","v":0},{"$f":"Results!E48","v":0},{"$f":"Results!F48","v":0},{"$f":"Results!G48","v":0},{"$f":"Results!H48","v":0},{"$f":"Results!I48","v":0},{"$f":"Results!J48","v":0}]
[null,null,"Services",{"$f":"Results!D49","v":0},{"$f":"Results!E49","v":0},{"$f":"Results!F49","v":0},{"$f":"Results!G49","v":0},{"$f":"Results!H49","v":0},{"$f":"Results!I49","v":0},{"$f":"Results!J49","v":0}]
[null,null,"Agriculture & Fishery",{"$f":"Results!D50","v":0},{"$f":"Results!E50","v":0},{"$f":"Results!F50","v":0},{"$f":"Results!G50","v":0},{"$f":"Results!H50","v":0},{"$f":"Results!I50","v":0},{"$f":"Results!J50","v":0}]
[null,null,"Forestry",{"$f":"Results!D51","v":0},{"$f":"Results!E51","v":0},{"$f":"Results!F51","v":0},{"$f":"Results!G51","v":0},{"$f":"Results!H51","v":0},{"$f":"Results!I51","v":0},{"$f":"Results!J51","v":0}]
[null,null,"Waste",{"$f":"Results!D52","v":0},{"$f":"Results!E52","v":0},{"$f":"Results!F52","v":0},{"$f":"Results!G52","v":0},{"$f":"Results!H52","v":0},{"$f":"Results!I52","v":0},{"$f":"Results!J52","v":0}]
[]
[]
[]
[]
[]
[]
[]
[]
[]
[]
[]
[]
[]
[]
[]
[]
[]
[]
["Results - Projections"]
[]
[]
[]
[null,null,"Sectoral split of mitigation scenario emissions"]
[null,null,"ktCO2e/year",{"$f":"+Assumptions!C10","v":0},2025,2030,2035,2040,2045,2050]
[null,null,"Total",{"$f":"SUM(D71:D78)","v":0},{"$error":"#DIV/0!"},{"$error":"#DIV/0!"},{"$error":"#DIV/0!"},{"$error":"#DIV/0!"},{"$error":"#DIV/0!"},{"$error":"#DIV/0!"}]
[null,null,"Power ",{"$f":"Results!D64","v":0},{"$f":"Results!E64","v":{"$error":"#DIV/0!"}},{"$f":"Results!F64","v":{"$error":"#DIV/0!"}},{"$f":"Results!G64","v":{"$error":"#DIV/0!"}},{"$f":"Results!H64","v":{"$error":"#DIV/0!"}},{"$f":"Results!I64","v":{"$error":"#DIV/0!"}},{"$f":"Results!J64","v":{"$error":"#DIV/0!"}}]
[null,null,"Industry",{"$f":"Results!D65","v":0},{"$f":"Results!E65","v":{"$error":"#DIV/0!"}},{"$f":"Results!F65","v":{"$error":"#DIV/0!"}},{"$f":"Results!G65","v":{"$error":"#DIV/0!"}},{"$f":"Results!H65","v":{"$error":"#DIV/0!"}},{"$f":"Results!I65","v":{"$error":"#DIV/0!"}},{"$f":"Results!J65","v":{"$error":"#DIV/0!"}}]
[null,null,"Transport",{"$f":"Results!D66","v":0},{"$f":"Results!E66","v":0},{"$f":"Results!F66","v":0},{"$f":"Results!G66","v":0},{"$f":"Results!H66","v":0},{"$f":"Results!I66","v":0},{"$f":"Results!J66","v":0}]
[null,null,"Households",{"$f":"Results!D67","v":0},{"$f":"Results!E67","v":{"$error":"#DIV/0!"}},{"$f":"Results!F67","v":{"$error":"#DIV/0!"}},{"$f":"Results!G67","v":{"$error":"#DIV/0!"}},{"$f":"Results!H67","v":{"$error":"#DIV/0!"}},{"$f":"Results!I67","v":{"$error":"#DIV/0!"}},{"$f":"Results!J67","v":{"$error":"#DIV/0!"}}]
[null,null,"Services",{"$f":"Results!D68","v":0},{"$f":"Results!E68","v":0},{"$f":"Results!F68","v":0},{"$f":"Results!G68","v":0},{"$f":"Results!H68","v":0},{"$f":"Results!I68","v":0},{"$f":"Results!J68","v":0}]
[null,null,"Agriculture & Fishery",{"$f":"Results!D69","v":0},{"$f":"Results!E69","v":{"$error":"#DIV/0!"}},{"$f":"Results!F69","v":{"$error":"#DIV/0!"}},{"$f":"Results!G69","v":{"$error":"#DIV/0!"}},{"$f":"Results!H69","v":{"$error":"#DIV/0!"}},{"$f":"Results!I69","v":{"$error":"#DIV/0!"}},{"$f":"Results!J69","v":{"$error":"#DIV/0!"}}]
[null,null,"Forestry",{"$f":"Results!D70","v":0},{"$f":"Results!E70","v":{"$error":"#DIV/0!"}},{"$f":"Results!F70","v":{"$error":"#DIV/0!"}},{"$f":"Results!G70","v":{"$error":"#DIV/0!"}},{"$f":"Results!H70","v":{"$error":"#DIV/0!"}},{"$f":"Results!I70","v":{"$error":"#DIV/0!"}},{"$f":"Results!J70","v":{"$error":"#DIV/0!"}}]
[null,null,"Waste",{"$f":"Results!D71","v":0},{"$f":"Results!E71","v":0},{"$f":"Results!F71","v":0},{"$f":"Results!G71","v":0},{"$f":"Results!H71","v":0},{"$f":"Results!I71","v":0},{"$f":"Results!J71","v":0}]
[]
[]
[]
[]
[]
[]
[]
[]
[]
[]
[]
[]
[]
[]
[]
[]
[]
[]
["Results - Projections"]
[]
[]
[]
[null,null,"Sectorial split of GHG reduction potential"]
[null,null,"ktCO2e/year",{"$f":"+Assumptions!C10","v":0},2025,2030,2035,2040,2045,2050]
[null,null,"Total",{"$f":"SUM(D104:D111)","v":0},{"$error":"#DIV/0!"},{"$error":"#DIV/0!"},{"$error":"#DIV/0!"},{"$error":"#DIV/0!"},{"$error":"#DIV/0!"},{"$error":"#DIV/0!"}]
[null,null,"Power ",{"$f":"Results!D86","v":0},{"$f":"Results!E86","v":0},{"$f":"Results!F86","v":0},{"$f":"Results!G86","v":0},{"$f":"Results!H86","v":0},{"$f":"Results!I86","v":0},{"$f":"Results!J86","v":0}]
[null,null,"Industry",{"$f":"Results!D87","v":0},{"$f":"Results!E87","v":{"$error":"#DIV/0!"}},{"$f":"Results!F87","v":{"$error":"#DIV/0!"}},{"$f":"Results!G87","v":{"$error":"#DIV/0!"}},{"$f":"Results!H87","v":{"$error":"#DIV/0!"}},{"$f":"Results!I87","v":{"$error":"#DIV/0!"}},{"$f":"Results!J87","v":{"$error":"#DIV/0!"}}]
[null,null,"Transport",{"$f":"Results!D88","v":0},{"$f":"Results!E88","v":{"$error":"#DIV/0!"}},{"$f":"Results!F88","v":{"$error":"#DIV/0!"}},{"$f":"Results!G88","v":{"$error":"#DIV/0!"}},{"$f":"Results!H88","v":{"$error":"#DIV/0!"}},{"$f":"Results!I88","v":{"$error":"#DIV/0!"}},{"$f":"Results!J88","v":{"$error":"#DIV/0!"}}]
[null,null,"Households",{"$f":"Results!D89","v":0},{"$f":"Results!E89","v":0},{"$f":"Results!F89","v":0},{"$f":"Results!G89","v":0},{"$f":"Results!H89","v":0},{"$f":"Results!I89","v":0},{"$f":"Results!J89","v":0}]
[null,null,"Services",{"$f":"Results!D90","v":0},{"$f":"Results!E90","v":0},{"$f":"Results!F90","v":0},{"$f":"Results!G90","v":0},{"$f":"Results!H90","v":0},{"$f":"Results!I90","v":0},{"$f":"Results!J90","v":0}]
[null,null,"Agriculture & Fishery",{"$f":"Results!D91","v":0},{"$f":"Results!E91","v":0},{"$f":"Results!F91","v":0},{"$f":"Results!G91","v":0},{"$f":"Results!H91","v":0},{"$f":"Results!I91","v":0},{"$f":"Results!J91","v":0}]
[null,null,"Forestry",{"$f":"Results!D92","v":0},{"$f":"Results!E92","v":0},{"$f":"Results!F92","v":0},{"$f":"Results!G92","v":0},{"$f":"Results!H92","v":0},{"$f":"Results!I92","v":0},{"$f":"Results!J92","v":0}]
[null,null,"Waste",{"$f":"Results!D93","v":0},{"$f":"Results!E93","v":0},{"$f":"Results!F93","v":0},{"$f":"Results!G93","v":0},{"$f":"Results!H93","v":0},{"$f":"Results!I93","v":0},{"$f":"Results!J93","v":0}]
[]
[]
[]
[]
[]
[]
[]
[]
[]
[]
[]
[]
[]
[]
[]
[]
[]
[]
["Results - MAR Curve 2025"]
[]
[]
[]
[]
[]
[]
[]
[]
[]
[]
[]
[]
[]
[]
[]
[]
[]
[]
[]
[]
[]
[]
[]
[]
[]
[]
[]
[]
[]
[]
[]
[]
[]
[]
[]
[]
[]
[]
["Results - MAR Curve 2030"]
[]
[]
[]
[]
[]
[]
[]
[]
[]
[]
[]
[]
[]
[]
[]
[]
[]
[]
[]
[]
[]
[]
[]
[]
[]
[]
[]
[]
[]
[]
[]
[]
[]
[]
[]
[]
[]
[]
["Results - MAR Curve 2035"]
[]
[]
[]
[]
[]
[]
[]
[]
[]
[]
[]
[]
[]
[]
[]
[]
[]
[]
[]
[]
[]
[]
[]
[]
[]
[]
[]
[]
[]
[]
[]
[]
[]
[]
[]
[]
[]
[]
["Results - MAR Curve 2040"]
[]
[]
[]
[]
[]
[]
[]
[]
[]
[]
[]
[]
[]
[]
[]
[]
[]
[]
[]
[]
[]
[]
[]
[]
[]
[]
[]
[]
[]
[]
[]
[]
[]
[]
[]
[]
[]
[]
["Results - MAR Curve 2045"]
[]
[]
[]
[]
[]
[]
[]
[]
[]
[]
[]
[]
[]
[]
[]
[]
[]
[]
[]
[]
[]
[]
[]
[]
[]
[]
[]
[]
[]
[]
[]
[]
[]
[]
[]
[]
[]
[]
["Results - MAR Curve 2050"]

{"sheet":"LCOE & LCOT","index":15,"n_rows":47,"n_cols":7,"rows_kept":47,"cut":false,"hidden":true,"merged":[[2,0,2,8],[3,1,4,3],[3,4,4,6],[34,1,34,3],[35,1,35,3],[24,0,25,6]]}
["Levelized Cost of Energy (LCOE) for power production"]
[]
["Power production data"]
["Technology","Investment",null,null,"LCOE"]
[]
[null,2025,2030,2050,2025,2030,2050]
["Coal",{"$f":"+'EE supply side'!H46","v":1388},{"$f":"+'EE supply side'!Q46","v":1388},{"$f":"+'EE supply side'!AI46","v":1388},{"$f":"+'EE supply side'!H53","v":3.0875323863128738E-2},{"$f":"+'EE supply side'!Q53","v":3.0875323863128738E-2},{"$f":"+'EE supply side'!AI53","v":3.0875323863128738E-2}]
["Natural gas",{"$f":"+'EE supply side'!H21","v":921.14021346956247},{"$f":"+'EE supply side'!Q21","v":921.14021346956247},{"$f":"+'EE supply side'!AI21","v":921.14021346956247},{"$f":"+'EE supply side'!H27","v":3.7047488278984832E-2},{"$f":"+'EE supply side'!Q27","v":3.6487384875279534E-2},{"$f":"+'EE supply side'!AI27","v":3.5951633793474463E-2}]
["Hydro",{"$f":"+Hydro!H19","v":1138.0999999999999},{"$f":"+Hydro!Q19","v":1138.0999999999999},{"$f":"+Hydro!AI19","v":1138.0999999999999},{"$f":"+Hydro!H22","v":1.2929689472355467E-2},{"$f":"+Hydro!Q22","v":1.2929689472355467E-2},{"$f":"+Hydro!AI22","v":1.2929689472355467E-2}]
["Wind on shore - no storage",{"$f":"+Wind!H17","v":675},{"$f":"+Wind!Q17","v":650},{"$f":"+Wind!AI17","v":550},{"$f":"+Wind!H20","v":1.755E-2},{"$f":"+Wind!Q20","v":1.6899999999999998E-2},{"$f":"+Wind!AI20","v":1.43E-2}]
["Wind on shore - 24h storage",{"$f":"+Wind!C35/1000","v":1574.178082191781},{"$f":"+Wind!L35/1000","v":1099.5890410958905},{"$f":"+Wind!AD35/1000","v":924.65753424657532},{"$f":"+Wind!H47","v":3.7411910545691318E-2},{"$f":"+Wind!Q47","v":2.6132829130249686E-2},{"$f":"+Wind!AI47","v":2.1975407578072176E-2}]
["Wind off shore",{"$f":"+Wind!H66","v":2500},{"$f":"+Wind!Q66","v":2200},{"$f":"+Wind!AI66","v":1400},{"$f":"+Wind!H69","v":5.078125E-2},{"$f":"+Wind!Q69","v":4.4687499999999998E-2},{"$f":"+Wind!AI69","v":2.8437500000000001E-2}]
["Solar utility PV - no storage",{"$f":"+Solar!H83","v":1000},{"$f":"+Solar!Q83","v":800},{"$f":"+Solar!AI83","v":400},{"$f":"+Solar!H89","v":3.2876712328767127E-2},{"$f":"+Solar!Q89","v":2.6301369863013697E-2},{"$f":"+Solar!AI89","v":1.3150684931506848E-2}]
["Solar utility PV - 24h storage",{"$f":"+Solar!C102/1000","v":2100},{"$f":"+Solar!L102/1000","v":1800},{"$f":"+Solar!AD102/1000","v":1750},{"$f":"+Solar!H116","v":6.9041095890410964E-2},{"$f":"+Solar!Q116","v":5.9178082191780827E-2},{"$f":"+Solar!AI116","v":5.7534246575342465E-2}]
["Solar CSP without storage",{"$f":"+Solar!H242","v":4500},{"$f":"+Solar!Q242","v":4000},{"$f":"+Solar!AI242","v":2500},{"$f":"+Solar!H245","v":0.15434999999999999},{"$f":"+Solar!Q245","v":0.13719999999999999},{"$f":"+Solar!AI245","v":8.5750000000000007E-2}]
["Solar Tower with 24 h storage",{"$f":"+Solar!H269","v":8000},{"$f":"+Solar!Q269","v":7000},{"$f":"+Solar!AI269","v":5000},{"$f":"+Solar!H272","v":0.29666666666666669},{"$f":"+Solar!Q272","v":0.26333333333333331},{"$f":"+Solar!AI272","v":0.19666666666666666}]
["Wave power",{"$f":"+Marine!H41","v":10000},{"$f":"+Marine!Q41","v":9000},{"$f":"+Marine!AI41","v":6000},{"$f":"+Marine!H44","v":0.2217873450750163},{"$f":"+Marine!Q44","v":0.20547945205479451},{"$f":"+Marine!AI44","v":0.15655577299412918}]
["Tidal power",{"$f":"+Marine!H16","v":9000},{"$f":"+Marine!Q16","v":8000},{"$f":"+Marine!AI16","v":6000},{"$f":"+Marine!H19","v":0.22450532724505329},{"$f":"+Marine!Q19","v":0.20547945205479451},{"$f":"+Marine!AI19","v":0.16742770167427701}]
["Geothermal power",{"$f":"+Geothermal!H16","v":4266.0714285714284},{"$f":"+Geothermal!Q16","v":3763.9880952380954},{"$f":"+Geothermal!AI16","v":3261.9047619047619},{"$f":"+Geothermal!H19","v":5.4043660219432181E-2},{"$f":"+Geothermal!Q19","v":4.7683142932549119E-2},{"$f":"+Geothermal!AI19","v":4.1322625645666022E-2}]
["Biomass & waste power",{"$f":"+'Biomass energy'!C45/1000","v":2844.9404761904761},{"$f":"+'Biomass energy'!L45/1000","v":2713.6904761904761},{"$f":"+'Biomass energy'!AD45/1000","v":2322.6190476190477},{"$f":"+'Biomass energy'!H59","v":0.34139285714285716},{"$f":"+'Biomass energy'!Q59","v":0.32564285714285718},{"$f":"+'Biomass energy'!AI59","v":0.27871428571428575}]
["Extra batteries",null,null,null,60,60,40]
[]
[]
[]
["Include in the Result sheet"]
[]
[]
[]
[]
[]
[]
[]
["Levelized Costs Of Transportation (LCOT)"]
[]
["Vehicle  (Including battery+charger)","LCOT"]
[null,"US$/km"]
[null,2025,2030,2050]
["Gasoline cars",{"$f":"+Transport!H160","v":0.15293501048218028},{"$f":"+Transport!Q160","v":0.15196742460893403},{"$f":"+Transport!AI160","v":0.14979035639412996}]
["Electric cars",{"$f":"+Transport!H150","v":0.29261111111111116},{"$f":"+Transport!Q150","v":0.25919444444444445},{"$f":"+Transport!AI150","v":0.22694444444444445}]
["Diesel buses (18m)",{"$f":"+Transport!H191","v":0.38144045445323599},{"$f":"+Transport!Q191","v":0.37930486593843099},{"$f":"+Transport!AI191","v":0.37433962264150938}]
["Electric buses (18m)",{"$f":"+Transport!H181","v":0.60000416666666656},{"$f":"+Transport!Q181","v":0.43305416666666663},{"$f":"+Transport!AI181","v":0.33897916666666672}]
["Diesel buses (12m)",{"$f":"+Transport!H222","v":0.33009192065795839},{"$f":"+Transport!Q222","v":0.32767295597484269},{"$f":"+Transport!AI222","v":0.32318059299191371}]
["Electric buses (12m)",{"$f":"+Transport!H212","v":0.66029166666666672},{"$f":"+Transport!Q212","v":0.49687500000000001},{"$f":"+Transport!AI212","v":0.37762499999999999}]
["Diesel light trucks",{"$f":"+Transport!H286","v":0.68532211456739756},{"$f":"+Transport!Q286","v":0.68263819927176428},{"$f":"+Transport!AI286","v":0.67318059299191368}]
["Electric light trucks",{"$f":"+Transport!H276","v":1.1637548611111113},{"$f":"+Transport!Q276","v":0.79109861111111113},{"$f":"+Transport!AI276","v":0.60339027777777776}]
["Diesel heavy trucks",{"$f":"+Transport!H254","v":0.56054334689850782},{"$f":"+Transport!Q254","v":0.55437735849056613},{"$f":"+Transport!AI254","v":0.54389517819706501}]
["Electric heavy trucks",{"$f":"+Transport!H244","v":1.4138515555555558},{"$f":"+Transport!Q244","v":1.2701626666666666},{"$f":"+Transport!AI244","v":1.1382515555555555}]

{"sheet":"Results","index":16,"n_rows":408,"n_cols":63,"rows_kept":408,"cut":false,"hidden":true,"merged":[[96,2,96,9],[98,2,98,9],[105,2,105,9],[59,2,59,9],[78,2,78,9],[40,2,40,9],[31,2,31,9],[20,2,20,9],[4,1,4,14],[5,2,5,14],[6,2,6,14],[7,2,7,14],[8,2,8,14],[9,2,9,14],[10,2,10,14],[11,1,11,14]]}
[null,null,null,null,null,null,null,null,null,null,null,null,null,null,null,null,null,null,null,null,null,null,null,2025,"Cur opts:",119,"Prev. Opts:",119,null,null,2030,"Cur opts:",19,"Prev. Opts:",0,null,null,2035,"Cur opts:",19,"Prev. Opts:",0,null,null,2050,"Cur opts:",19,"Prev. Opts:",0,null,null,2040,"Cur opts:",19,"Prev. Opts:",0,null,null,2045,"Cur opts:",19,"Prev. Opts:",0]
[null,"Step 8 - Results",null,null,null,null,null,null,null,null,null,null,null,null,null,null,null,null,null,null,null,null,null,"Option name","USD/tCO2e","ktCO2e/year","X-axis","Y-Axis",null,null,"Option name","MUSD/year","ktCO2e/year","X-axis","Y-Axis",null,null,"Option name","MUSD/year","ktCO2e/year","X-axis","Y-Axis",null,null,"Option name","MUSD/year","ktCO2e/year","X-axis","Y-Axis",null,null,"Option name","MUSD/year","ktCO2e/year","X-axis","Y-Axis",null,null,"Option name","MUSD/year","ktCO2e/year","X-axis","Y-Axis"]
[]
[null,"\n\nIn the Results sheet, the user will find the following information:\n•\tA table with the total greenhouse gas emissions levels reached in the different years (start year, 2025, 2030, and 2050) for the BAU scenario and for the mitigation scenario.\n•\tThe graph showing the curves for the total emissions in the BAU and the mitigation scenarios.\n•\tA table showing the sectoral split of the emissions in the different years (start year, 2025, 2030, and 2050) for the BAU scenario.\n•\tThe graph showing the curves for the sectoral emissions in the BAU scenario.\n•\tA table showing the sectoral split of the emissions in the different years (start year, 2025, 2030, and 2050) for the mitigation scenario.\n•\tA Marginal Abatement Revenue Curve (MAR curve) comparing the relevant mitigation options for the year 2025, 2030, or 2050.\nPlease refer to the Guidance for further details on the Results sheet.\nOnce you are done with the Results sheet, you can click “go to step 9: MRV”.",null,null,null,null,null,null,null,null,null,null,null,null,null,null,null,null,{"$f":"U4*V4","v":0},null,null,null,null,"Shifting freight transport from road to rail",-1534825.994878948,2.8963753360957525,0,1534825.994878948,null,null,"Shifting freight transport from road to rail",-1534825.994878948,2.8963753360957525,0,1534825.994878948,null,null,"Shifting freight transport from road to rail",-1534825.994878948,2.8963753360957525,0,1534825.994878948,null,null,"Shifting freight transport from road to rail",-1534825.994878948,2.8963753360957525,0,1534825.994878948,null,null,"Shifting freight transport from road to rail",-1534825.994878948,2.8963753360957525,0,1534825.994878948,null,null,"Shifting freight transport from road to rail",-1534825.994878948,2.8963753360957525,0,1534825.994878948]
[null,"The Results sheet includes all the final results for the greenhouse gas emissions reductions and cost calculations. The sheet also displays the graphical results from the data analysis. In the Results sheet, the user will find the following information:",null,null,null,null,null,null,null,null,null,null,null,null,null,null,null,null,null,null,null,null,null,null,null,null,2.8963753360957525,1534825.994878948,null,null,null,null,null,2.8963753360957525,1534825.994878948,null,null,null,null,null,2.8963753360957525,1534825.994878948,null,null,null,null,null,2.8963753360957525,1534825.994878948,null,null,null,null,null,2.8963753360957525,1534825.994878948,null,null,null,null,null,2.8963753360957525,1534825.994878948]
[null,"•","A table with the total greenhouse gas emissions levels in the different years (start year, 2025, 2030, 2035, 2040, 2045 and 2050) for the BAU scenario and for the mitigation scenario.",null,null,null,null,null,null,null,null,null,null,null,null,null,null,null,null,null,null,null,null,null,null,null,2.8963753360957525,0,null,null,null,null,null,2.8963753360957525,0,null,null,null,null,null,2.8963753360957525,0,null,null,null,null,null,2.8963753360957525,0,null,null,null,null,null,2.8963753360957525,0,null,null,null,null,null,2.8963753360957525,0]
[null,"•","The graph showing the curves for the total emissions in the BAU and the mitigation scenarios.",null,null,null,null,null,null,null,null,null,null,null,null,null,null,null,null,null,null,null,null,"New natural gas power plant",-23320.418541587034,2.952,2.8963753360957525,23320.418541587034,null,null,"More efficient gasoline cars",-210.54592306489872,4.9068456585365796,2.8963753360957525,210.54592306489872,null,null,"More efficient gasoline cars",-210.54592306489872,4.9068456585365796,2.8963753360957525,210.54592306489872,null,null,"More efficient gasoline cars",-210.54592306489872,4.9068456585365796,2.8963753360957525,210.54592306489872,null,null,"More efficient gasoline cars",-210.54592306489872,4.9068456585365796,2.8963753360957525,210.54592306489872,null,null,"More efficient gasoline cars",-210.54592306489872,4.9068456585365796,2.8963753360957525,210.54592306489872]
[null,"•","A table showing the sectoral split of the emissions in the different years (start year, 2025, 2030, 2035, 2040, 2045 and 2050) for the BAU scenario.",null,null,null,null,null,null,null,null,null,null,null,null,null,null,null,null,null,null,null,null,null,null,null,5.8483753360957529,23320.418541587034,null,null,null,null,null,7.8032209946323317,210.54592306489872,null,null,null,null,null,7.8032209946323317,210.54592306489872,null,null,null,null,null,7.8032209946323317,210.54592306489872,null,null,null,null,null,7.8032209946323317,210.54592306489872,null,null,null,null,null,7.8032209946323317,210.54592306489872]
[null,"•","The graph showing the curves for the sectoral emissions in the BAU scenario.",null,null,null,null,null,null,null,null,null,null,null,null,null,null,null,null,null,null,null,null,null,null,null,5.8483753360957529,0,null,null,null,null,null,7.8032209946323317,0,null,null,null,null,null,7.8032209946323317,0,null,null,null,null,null,7.8032209946323317,0,null,null,null,null,null,7.8032209946323317,0,null,null,null,null,null,7.8032209946323317,0]
[null,"•","A table showing the sectoral split of the emissions in the different years (start year, 2025, 2030, 2035, 2040, 2045 and 2050) for the mitigation scenario.",null,null,null,null,null,null,null,null,null,null,null,null,null,null,null,null,null,null,null,null,"Cogeneration in industry",-19006.376580258933,9.0805465497599975,5.8483753360957529,19006.376580258933,null,null,"Restriction on import of used cars",-210.5458270318164,11.176703999999994,7.8032209946323317,210.5458270318164,null,null,"Restriction on import of used cars",-210.5458270318164,11.176703999999994,7.8032209946323317,210.5458270318164,null,null,"Restriction on import of used cars",-210.5458270318164,11.176703999999994,7.8032209946323317,210.5458270318164,null,null,"Restriction on import of used cars",-210.5458270318164,11.176703999999994,7.8032209946323317,210.5458270318164,null,null,"Restriction on import of used cars",-210.5458270318164,11.176703999999994,7.8032209946323317,210.5458270318164]
[null,"•","A Marginal Abatement Revenue Curve (MAR curve) comparing the relevant mitigation options for the years 2025, 2030, 2035, 2040, 2045 or 2050.",null,null,null,null,null,null,null,null,null,null,null,null,null,null,null,null,null,null,null,null,null,null,null,14.92892188585575,19006.376580258933,null,null,null,null,null,18.979924994632327,210.5458270318164,null,null,null,null,null,18.979924994632327,210.5458270318164,null,null,null,null,null,18.979924994632327,210.5458270318164,null,null,null,null,null,18.979924994632327,210.5458270318164,null,null,null,null,null,18.979924994632327,210.5458270318164]
[null,"\nPlease refer to the Guidance for further details on the Results sheet.\n\nOnce you are done with the Results sheet, you can click “Go to step 9: Tracking Progress”.",null,null,null,null,null,null,null,null,null,null,null,null,null,null,null,null,null,null,null,null,null,null,null,null,14.92892188585575,0,null,null,null,null,null,18.979924994632327,0,null,null,null,null,null,18.979924994632327,0,null,null,null,null,null,18.979924994632327,0,null,null,null,null,null,18.979924994632327,0,null,null,null,null,null,18.979924994632327,0]
[null,null,null,null,null,null,null,null,null,null,null,null,null,null,null,null,null,null,null,null,null,null,null,"Solar street lights",-2498.5530893646933,5.84,14.92892188585575,2498.5530893646933,null,null,"Better maintenance and use of motor bikes",-189.07311736714252,1.3970880000000003,18.979924994632327,189.07311736714252,null,null,"Better maintenance and use of motor bikes",-189.07311736714252,1.3970880000000003,18.979924994632327,189.07311736714252,null,null,"Better maintenance and use of motor bikes",-189.07311736714252,1.3970880000000003,18.979924994632327,189.07311736714252,null,null,"Better maintenance and use of motor bikes",-189.07311736714252,1.3970880000000003,18.979924994632327,189.07311736714252,null,null,"Better maintenance and use of motor bikes",-189.07311736714252,1.3970880000000003,18.979924994632327,189.07311736714252]
[null,null,null,null,null,null,null,null,null,null,null,null,null,null,null,null,null,null,null,null,null,null,null,null,null,null,20.76892188585575,2498.5530893646933,null,null,null,null,null,20.377012994632327,189.07311736714252,null,null,null,null,null,20.377012994632327,189.07311736714252,null,null,null,null,null,20.377012994632327,189.07311736714252,null,null,null,null,null,20.377012994632327,189.07311736714252,null,null,null,null,null,20.377012994632327,189.07311736714252]
[null,null,null,null,null,null,null,null,null,null,null,null,null,null,null,null,null,null,null,null,null,null,null,null,null,null,20.76892188585575,0,null,null,null,null,null,20.377012994632327,0,null,null,null,null,null,20.377012994632327,0,null,null,null,null,null,20.377012994632327,0,null,null,null,null,null,20.377012994632327,0,null,null,null,null,null,20.377012994632327,0]
[null,null,null,null,null,null,null,null,null,null,null,null,null,null,null,null,null,null,null,null,null,null,null,"PV pump replacing electric pump",-2000,3.4382177722152685E-2,20.76892188585575,2000,null,null,"15% Bioethanol blend in all gasoline",-189.07251611654129,-40.62915433503602,20.377012994632327,189.07251611654129,null,null,"15% Bioethanol blend in all gasoline",-189.07251611654129,-40.62915433503602,20.377012994632327,189.07251611654129,null,null,"15% Bioethanol blend in all gasoline",-189.07251611654129,-40.171576851556146,20.377012994632327,189.07251611654129,null,null,"15% Bioethanol blend in all gasoline",-189.07251611654129,-40.171576851556146,20.377012994632327,189.07251611654129,null,null,"15% Bioethanol blend in all gasoline",-189.07251611654129,-40.171576851556146,20.377012994632327,189.07251611654129]
[null,null,null,null,null,null,null,null,null,null,null,null,null,null,null,null,null,null,null,null,null,null,null,null,null,null,20.803304063577905,2000,null,null,null,null,null,-20.252141340403693,189.07251611654129,null,null,null,null,null,-20.252141340403693,189.07251611654129,null,null,null,null,null,-19.794563856923819,189.07251611654129,null,null,null,null,null,-19.794563856923819,189.07251611654129,null,null,null,null,null,-19.794563856923819,189.07251611654129]
[null,null,null,null,null,null,null,null,null,null,null,null,null,null,null,null,null,null,null,null,null,null,null,null,null,null,20.803304063577905,0,null,null,null,null,null,-20.252141340403693,0,null,null,null,null,null,-20.252141340403693,0,null,null,null,null,null,-19.794563856923819,0,null,null,null,null,null,-19.794563856923819,0,null,null,null,null,null,-19.794563856923819,0]
[null,null,null,null,null,null,null,null,null,null,null,null,null,null,null,null,null,null,null,null,null,null,null,"HVAC",-1988.0035900620856,56.313579099343862,20.803304063577905,1988.0035900620856,null,null,"More efficient diesel cars",-158.52677653007859,2.1566554239999998,-20.252141340403693,158.52677653007859,null,null,"More efficient diesel cars",-158.52677653007859,2.1566554239999998,-20.252141340403693,158.52677653007859,null,null,"More efficient diesel cars",-158.52677653007859,2.1566554239999998,-19.794563856923819,158.52677653007859,null,null,"More efficient diesel cars",-158.52677653007859,2.1566554239999998,-19.794563856923819,158.52677653007859,null,null,"More efficient diesel cars",-158.52677653007859,2.1566554239999998,-19.794563856923819,158.52677653007859]
[null,null,null,null,null,null,null,null,null,null,null,null,null,null,null,null,null,null,null,null,null,null,null,null,null,null,77.116883162921766,1988.0035900620856,null,null,null,null,null,-18.095485916403693,158.52677653007859,null,null,null,null,null,-18.095485916403693,158.52677653007859,null,null,null,null,null,-17.637908432923819,158.52677653007859,null,null,null,null,null,-17.637908432923819,158.52677653007859,null,null,null,null,null,-17.637908432923819,158.52677653007859]
[null,null,"Total GHG emissions (including LULUCF)",null,null,null,null,null,null,null,null,null,null,null,null,null,null,null,null,null,null,null,null,null,null,null,77.116883162921766,0,null,null,null,null,null,-18.095485916403693,0,null,null,null,null,null,-18.095485916403693,0,null,null,null,null,null,-17.637908432923819,0,null,null,null,null,null,-17.637908432923819,0,null,null,null,null,null,-17.637908432923819,0]
[null,null,"ktCO2e/year",{"$f":"+Assumptions!C10","v":0},2025,2030,2035,2040,2045,2050,null,null,null,null,null,null,null,null,null,null,null,null,null,"Waste heat recovery at steel plant",-1979.4614403582134,453.6,77.116883162921766,1979.4614403582134,null,null,"New bicycle lanes",-144.86078223795022,8.2389925418926833,-18.095485916403693,144.86078223795022,null,null,"New bicycle lanes",-144.86078223795022,8.2389925418926833,-18.095485916403693,144.86078223795022,null,null,"New bicycle lanes",-144.86078223795022,8.2389925418926833,-17.637908432923819,144.86078223795022,null,null,"New bicycle lanes",-144.86078223795022,8.2389925418926833,-17.637908432923819,144.86078223795022,null,null,"New bicycle lanes",-144.86078223795022,8.2389925418926833,-17.637908432923819,144.86078223795022]
[null,null,"Total GHG emissions in BAU (including LULUCF)",{"$f":"+'GHG Balance'!$G$67","v":0},{"$f":"'BAU projected GHG Balances'!$G$68","v":0},{"$f":"+'BAU projected GHG Balances'!$G$138","v":0},{"$f":"+'BAU projected GHG Balances'!$G$206","v":0},{"$f":"+'BAU projected GHG Balances'!$G$275","v":0},{"$f":"+'BAU projected GHG Balances'!$G$344","v":0},{"$f":"'BAU projected GHG Balances'!$G$413","v":0},null,null,null,null,null,null,null,null,null,null,null,null,null,null,null,null,530.71688316292182,1979.4614403582134,null,null,null,null,null,-9.8564933745110093,144.86078223795022,null,null,null,null,null,-9.8564933745110093,144.86078223795022,null,null,null,null,null,-9.3989158910311357,144.86078223795022,null,null,null,null,null,-9.3989158910311357,144.86078223795022,null,null,null,null,null,-9.3989158910311357,144.86078223795022]
[null,null,"Emissions Reduction in Mitigation Scenario",0,{"$f":"+'Mitigation options'!$K$136","v":{"$error":"#DIV/0!"}},{"$f":"+'Mitigation options'!$K$292","v":{"$error":"#DIV/0!"}},{"$f":"+'Mitigation options'!$K$448","v":{"$error":"#DIV/0!"}},{"$f":"+'Mitigation options'!$K$760","v":{"$error":"#DIV/0!"}},{"$f":"+'Mitigation options'!$K$916","v":{"$error":"#DIV/0!"}},{"$f":"+'Mitigation options'!$K$604","v":{"$error":"#DIV/0!"}},null,null,null,null,null,null,null,null,null,null,null,null,null,null,null,null,530.71688316292182,0,null,null,null,null,null,-9.8564933745110093,0,null,null,null,null,null,-9.8564933745110093,0,null,null,null,null,null,-9.3989158910311357,0,null,null,null,null,null,-9.3989158910311357,0,null,null,null,null,null,-9.3989158910311357,0]
[null,null,"Total GHG emissions in Mitigation scenario (including LULUCF)",{"$f":"D23-D24","v":0},{"$error":"#DIV/0!"},{"$error":"#DIV/0!"},{"$error":"#DIV/0!"},{"$error":"#DIV/0!"},{"$error":"#DIV/0!"},{"$error":"#DIV/0!"},null,null,null,null,null,null,null,null,null,null,null,null,null,"Waste heat recovery at cement plant",-1964.7258683665816,492.51780000000002,530.71688316292182,1964.7258683665816,null,null,"Natural Gas cars",-111.59325736279338,9.3370140124843903,-9.8564933745110093,111.59325736279338,null,null,"Natural Gas cars",-111.59325736279338,9.3370140124843903,-9.8564933745110093,111.59325736279338,null,null,"Natural Gas cars",-111.59325736279338,9.3370140124843903,-9.3989158910311357,111.59325736279338,null,null,"Natural Gas cars",-111.59325736279338,9.3370140124843903,-9.3989158910311357,111.59325736279338,null,null,"Natural Gas cars",-111.59325736279338,9.3370140124843903,-9.3989158910311357,111.59325736279338]
[null,null,"Mitigation scenario reduction (%)",{"$f":"D24/D23","v":{"$error":"#DIV/0!"}},{"$error":"#DIV/0!"},{"$error":"#DIV/0!"},{"$error":"#DIV/0!"},{"$error":"#DIV/0!"},{"$error":"#DIV/0!"},{"$error":"#DIV/0!"},null,null,null,null,null,null,null,null,null,null,null,null,null,null,null,null,1023.2346831629218,1964.7258683665816,null,null,null,null,null,-0.51947936202661893,111.59325736279338,null,null,null,null,null,-0.51947936202661893,111.59325736279338,null,null,null,null,null,-6.1901878546745337E-2,111.59325736279338,null,null,null,null,null,-6.1901878546745337E-2,111.59325736279338,null,null,null,null,null,-6.1901878546745337E-2,111.59325736279338]
[null,null,"Emissions Reduction in Mitigation Scenario 2",0,0,0,0,0,0,0,null,null,null,null,null,null,null,null,null,null,null,null,null,null,null,null,1023.2346831629218,0,null,null,null,null,null,-0.51947936202661893,0,null,null,null,null,null,-0.51947936202661893,0,null,null,null,null,null,-6.1901878546745337E-2,0,null,null,null,null,null,-6.1901878546745337E-2,0,null,null,null,null,null,-6.1901878546745337E-2,0]
[null,null,"Total GHG emissions in Mitigation scenario 2 ",{"$f":"D23-D27","v":0},0,0,0,0,0,0,null,null,null,null,null,null,null,null,null,null,null,null,null,"Hydro power connected to main grid",-1947.8154760672357,23.765999999999998,1023.2346831629218,1947.8154760672357,null,null,"Bus Rapid Transit (BRT)",89.462218818813071,23.801539591836729,-0.51947936202661893,-89.462218818813071,null,null,"Bus Rapid Transit (BRT)",89.462218818813071,23.801539591836729,-0.51947936202661893,-89.462218818813071,null,null,"Bus Rapid Transit (BRT)",89.462218818813071,23.801539591836729,-6.1901878546745337E-2,-89.462218818813071,null,null,"Electric light trucks",62.644046827754899,63.628089599999974,-6.1901878546745337E-2,-62.644046827754899,null,null,"Electric light trucks",62.644046827754899,63.628089599999974,-6.1901878546745337E-2,-62.644046827754899]
[null,null,"Mitigation scenario 2 reduction (%)",{"$f":"D27/D23","v":{"$error":"#DIV/0!"}},{"$error":"#DIV/0!"},{"$error":"#DIV/0!"},{"$error":"#DIV/0!"},{"$error":"#DIV/0!"},{"$error":"#DIV/0!"},{"$error":"#DIV/0!"},null,null,null,null,null,null,null,null,null,null,null,null,null,null,null,null,1047.0006831629219,1947.8154760672357,null,null,null,null,null,23.28206022981011,-89.462218818813071,null,null,null,null,null,23.28206022981011,-89.462218818813071,null,null,null,null,null,23.739637713289984,-89.462218818813071,null,null,null,null,null,63.566187721453232,-62.644046827754899,null,null,null,null,null,63.566187721453232,-62.644046827754899]
[null,null,null,null,null,null,null,null,null,null,null,null,null,null,null,null,null,null,null,null,null,null,null,null,null,null,1047.0006831629219,0,null,null,null,null,null,23.28206022981011,0,null,null,null,null,null,23.28206022981011,0,null,null,null,null,null,23.739637713289984,0,null,null,null,null,null,63.566187721453232,0,null,null,null,null,null,63.566187721453232,0]
[null,null,null,null,null,null,null,null,null,null,null,null,null,null,null,null,null,null,null,null,null,null,null,"Wind turbines, on-shore",-1940.9278200986421,15,1047.0006831629219,1940.9278200986421,null,null,"20% Biodiesel blend in all  diesel",369.38011072512057,-3153.5615050156143,23.28206022981011,-369.38011072512057,null,null,"20% Biodiesel blend in all  diesel",369.38011072512057,-3153.5615050156143,23.28206022981011,-369.38011072512057,null,null,"20% Biodiesel blend in all  diesel",369.38011072512046,-3141.4140662558443,23.739637713289984,-369.38011072512046,null,null,"Bus Rapid Transit (BRT)",89.462218818813071,23.801539591836729,63.566187721453232,-89.462218818813071,null,null,"Bus Rapid Transit (BRT)",89.462218818813071,23.801539591836729,63.566187721453232,-89.462218818813071]
[null,null,"Per capita GHG emissions and carbon intensity of GDP",null,null,null,null,null,null,null,null,null,null,null,null,null,null,null,null,null,null,null,null,null,null,null,1062.0006831629219,1940.9278200986421,null,null,null,null,null,-3130.2794447858041,-369.38011072512057,null,null,null,null,null,-3130.2794447858041,-369.38011072512057,null,null,null,null,null,-3117.6744285425543,-369.38011072512046,null,null,null,null,null,87.367727313289961,-89.462218818813071,null,null,null,null,null,87.367727313289961,-89.462218818813071]
[null,null,"Population (thousands)",{"$f":"Assumptions!C68","v":0},{"$f":"+D33*(1+Growth!J16)","v":0},{"$f":"+D33*(1+Growth!K16)","v":0},{"$f":"+D33*(1+Growth!L16)","v":0},{"$f":"+D33*(1+Growth!M16)","v":0},{"$f":"+D33*(1+Growth!N16)","v":0},{"$f":"+D33*(1+Growth!O16)","v":0},null,null,null,null,null,null,null,null,null,null,null,null,null,null,null,null,1062.0006831629219,0,null,null,null,null,null,-3130.2794447858041,0,null,null,null,null,null,-3130.2794447858041,0,null,null,null,null,null,-3117.6744285425543,0,null,null,null,null,null,87.367727313289961,0,null,null,null,null,null,87.367727313289961,0]
[null,null,"GDP (Current MUS$)",{"$f":"Assumptions!C69","v":0},{"$f":"+D34*(1+Growth!J17)","v":0},{"$f":"+D34*(1+Growth!K17)","v":0},{"$f":"+D34*(1+Growth!L17)","v":0},{"$f":"+D34*(1+Growth!M17)","v":0},{"$f":"+D34*(1+Growth!N17)","v":0},{"$f":"+D34*(1+Growth!O17)","v":0},null,null,null,null,null,null,null,null,null,null,null,null,null,"Solar water heater, large",-1940.1434989002469,0.37513559999999996,1062.0006831629219,1940.1434989002469,null,null,"Electric light trucks",1305.3129308635725,71.557362189473707,-3130.2794447858041,-1305.3129308635725,null,null,"Electric light trucks",1305.3129308635725,71.557362189473707,-3130.2794447858041,-1305.3129308635725,null,null,"Electric light trucks",803.27159375016618,63.628089599999974,-3117.6744285425543,-803.27159375016618,null,null,"20% Biodiesel blend in all  diesel",369.38011072512057,-2910.266592250176,87.367727313289961,-369.38011072512057,null,null,"20% Biodiesel blend in all  diesel",369.38011072512057,-2910.266592250176,87.367727313289961,-369.38011072512057]
[null,null,"Per capita GHG emissions (tCO2-e/capita) in BAU",{"$f":"D23/D33","v":{"$error":"#DIV/0!"}},{"$error":"#DIV/0!"},{"$error":"#DIV/0!"},{"$error":"#DIV/0!"},{"$error":"#DIV/0!"},{"$error":"#DIV/0!"},{"$error":"#DIV/0!"},null,null,null,null,null,null,null,null,null,null,null,null,null,null,null,null,1062.3758187629219,1940.1434989002469,null,null,null,null,null,-3058.7220825963304,-1305.3129308635725,null,null,null,null,null,-3058.7220825963304,-1305.3129308635725,null,null,null,null,null,-3054.0463389425545,-803.27159375016618,null,null,null,null,null,-2822.8988649368862,-369.38011072512057,null,null,null,null,null,-2822.8988649368862,-369.38011072512057]
[null,null,"Carbon intensity of GDP (kgCO2-e/US$) in BAU",{"$f":"D23/D34","v":{"$error":"#DIV/0!"}},{"$error":"#DIV/0!"},{"$error":"#DIV/0!"},{"$error":"#DIV/0!"},{"$error":"#DIV/0!"},{"$error":"#DIV/0!"},{"$error":"#DIV/0!"},null,null,null,null,null,null,null,null,null,null,null,null,null,null,null,null,1062.3758187629219,0,null,null,null,null,null,-3058.7220825963304,0,null,null,null,null,null,-3058.7220825963304,0,null,null,null,null,null,-3054.0463389425545,0,null,null,null,null,null,-2822.8988649368862,0,null,null,null,null,null,-2822.8988649368862,0]
[null,null,"Per capita GHG emissions (tCO2-e/capita) in Mitigation Scenario",{"$f":"D25/D33","v":{"$error":"#DIV/0!"}},{"$f":"E25/E33","v":{"$error":"#DIV/0!"}},{"$error":"#DIV/0!"},{"$error":"#DIV/0!"},{"$error":"#DIV/0!"},{"$error":"#DIV/0!"},{"$error":"#DIV/0!"},null,null,null,null,null,null,null,null,null,null,null,null,null,"Bagasse power",-1931.8324029233524,83.931428571428583,1062.3758187629219,1931.8324029233524,null,null,"Electric two-wheelers",1321.8142262333415,2.344176,-3058.7220825963304,-1321.8142262333415,null,null,"Electric two-wheelers",1321.8142262333415,2.344176,-3058.7220825963304,-1321.8142262333415,null,null,"Electric two-wheelers",1321.8142262333415,2.344176,-3054.0463389425545,-1321.8142262333415,null,null,"Electric 18m buses",1314.2310241163918,472.74578399999984,-2822.8988649368862,-1314.2310241163918,null,null,"Electric 18m buses",1314.2310241163918,472.74578399999984,-2822.8988649368862,-1314.2310241163918]
[null,null,"Carbon intensity of GDP (kgCO2-e/US$) in Mitigation Scenario",{"$f":"D25/D34","v":{"$error":"#DIV/0!"}},{"$f":"E25/E34","v":{"$error":"#DIV/0!"}},{"$error":"#DIV/0!"},{"$error":"#DIV/0!"},{"$error":"#DIV/0!"},{"$error":"#DIV/0!"},{"$error":"#DIV/0!"},null,null,null,null,null,null,null,null,null,null,null,null,null,null,null,null,1146.3072473343504,1931.8324029233524,null,null,null,null,null,-3056.3779065963304,-1321.8142262333415,null,null,null,null,null,-3056.3779065963304,-1321.8142262333415,null,null,null,null,null,-3051.7021629425544,-1321.8142262333415,null,null,null,null,null,-2350.1530809368865,-1314.2310241163918,null,null,null,null,null,-2350.1530809368865,-1314.2310241163918]
[null,null,null,null,null,null,null,null,null,null,null,null,null,null,null,null,null,null,null,null,null,null,null,null,null,null,1146.3072473343504,0,null,null,null,null,null,-3056.3779065963304,0,null,null,null,null,null,-3056.3779065963304,0,null,null,null,null,null,-3051.7021629425544,0,null,null,null,null,null,-2350.1530809368865,0,null,null,null,null,null,-2350.1530809368865,0]
[null,null,null,null,null,null,null,null,null,null,null,null,null,null,null,null,null,null,null,null,null,null,null,"Solar water heater, residential",-1931.5471898783185,9.9331830000000014,1146.3072473343504,1931.5471898783185,null,null,"Electric three-wheelers",1344.4050640252697,3.44520539080272,-3056.3779065963304,-1344.4050640252697,null,null,"Electric three-wheelers",1344.4050640252697,3.44520539080272,-3056.3779065963304,-1344.4050640252697,null,null,"Electric three-wheelers",1344.4050640252697,3.44520539080272,-3051.7021629425544,-1344.4050640252697,null,null,"Electric two-wheelers",1321.8142262333415,2.344176,-2350.1530809368865,-1321.8142262333415,null,null,"Electric two-wheelers",1321.8142262333415,2.344176,-2350.1530809368865,-1321.8142262333415]
[null,null,"BAU scenario emissions by sectors",null,null,null,null,null,null,null,null,null,null,null,null,null,null,null,null,null,null,null,null,null,null,null,1156.2404303343505,1931.5471898783185,null,null,null,null,null,-3052.9327012055278,-1344.4050640252697,null,null,null,null,null,-3052.9327012055278,-1344.4050640252697,null,null,null,null,null,-3048.2569575517518,-1344.4050640252697,null,null,null,null,null,-2347.8089049368864,-1321.8142262333415,null,null,null,null,null,-2347.8089049368864,-1321.8142262333415]
[null,null,"ktCO2e/year",{"$f":"+D22","v":0},2025,2030,2035,2040,2045,2050,null,null,null,null,null,null,null,null,null,null,null,null,null,null,null,null,1156.2404303343505,0,null,null,null,null,null,-3052.9327012055278,0,null,null,null,null,null,-3052.9327012055278,0,null,null,null,null,null,-3048.2569575517518,0,null,null,null,null,null,-2347.8089049368864,0,null,null,null,null,null,-2347.8089049368864,0]
[null,null,"Total (including LULUCF)",{"$f":"D45+D54+D55+D56+D57","v":0},{"$f":"E45+E54+E55+E56+E57","v":0},{"$f":"F45+F54+F55+F56+F57","v":0},{"$f":"G45+G54+G55+G56+G57","v":0},0,0,0,null,null,null,null,null,null,null,null,null,null,null,null,null,"Solar PVs, large grid",-1885.5967937060213,10.95,1156.2404303343505,1885.5967937060213,null,null,"Electric 18m buses",2205.4102550973903,443.31135157894715,-3052.9327012055278,-2205.4102550973903,null,null,"Electric 18m buses",2205.4102550973903,443.31135157894715,-3052.9327012055278,-2205.4102550973903,null,null,"Electric 18m buses",1422.2209360379707,472.74578399999984,-3048.2569575517518,-1422.2209360379707,null,null,"Electric three-wheelers",1344.4050640252697,3.44520539080272,-2347.8089049368864,-1344.4050640252697,null,null,"Electric three-wheelers",1344.4050640252697,3.44520539080272,-2347.8089049368864,-1344.4050640252697]
[null,null,"Total (excluding LULUCF)",{"$f":"D43-D56","v":0},{"$f":"E43-E56","v":0},0,0,0,0,0,null,null,null,null,null,null,null,null,null,null,null,null,null,null,null,null,1167.1904303343506,1885.5967937060213,null,null,null,null,null,-2609.6213496265805,-2205.4102550973903,null,null,null,null,null,-2609.6213496265805,-2205.4102550973903,null,null,null,null,null,-2575.5111735517521,-1422.2209360379707,null,null,null,null,null,-2344.3636995460838,-1344.4050640252697,null,null,null,null,null,-2344.3636995460838,-1344.4050640252697]
[null,null,"1. Energy",{"$f":"D46+D53","v":0},{"$f":"E46+E53","v":0},{"$f":"F46+F53","v":0},{"$f":"G46+G53","v":0},0,0,0,null,null,null,null,null,null,null,null,null,null,null,null,null,null,null,null,1167.1904303343506,0,null,null,null,null,null,-2609.6213496265805,0,null,null,null,null,null,-2609.6213496265805,0,null,null,null,null,null,-2575.5111735517521,0,null,null,null,null,null,-2344.3636995460838,0,null,null,null,null,null,-2344.3636995460838,0]
[null,null,"1.A. Fuel combustion",{"$f":"D47+D48+D49+D50+D51+D52+'GHG Balance'!$E$43+'GHG Balance'!$F$43","v":0},{"$f":"'Mitigation options'!$I142+'Mitigation options'!$J142+'Mitigation options'!$K142","v":0},{"$f":"'Mitigation options'!$I298+'Mitigation options'!$J298+'Mitigation options'!$K298","v":0},{"$f":"'Mitigation options'!$I454+'Mitigation options'!$J454+'Mitigation options'!$K454","v":0},{"$f":"'Mitigation options'!$I766+'Mitigation options'!$J766+'Mitigation options'!$K766","v":0},{"$f":"'Mitigation options'!$I922+'Mitigation options'!$J922+'Mitigation options'!$K922","v":0},{"$f":"'Mitigation options'!$I610+'Mitigation options'!$J610+'Mitigation options'!$K610","v":0},null,null,null,null,null,null,null,null,null,null,null,null,null,"Wind turbines, on-shore with 24 storage",-1874.0738968542109,16.41,1167.1904303343506,1874.0738968542109,null,null,"Electric 12m buses",2941.2035194025038,160.2983136,-2609.6213496265805,-2941.2035194025038,null,null,"Electric 12m buses",2941.2035194025038,160.2983136,-2609.6213496265805,-2941.2035194025038,null,null,"Electric 12m buses",2392.3433277687382,154.49363199999999,-2575.5111735517521,-2392.3433277687382,null,null,"Electric 12m buses",2188.9920512759645,154.49363199999999,-2344.3636995460838,-2188.9920512759645,null,null,"Electric 12m buses",2188.9920512759645,154.49363199999999,-2344.3636995460838,-2188.9920512759645]
[null,null,"1.A.1.  Energy industries",{"$f":"+'GHG Balance'!$P$16","v":0},{"$f":"'Mitigation options'!I143+'Mitigation options'!J143+'Mitigation options'!K143","v":0},{"$f":"'Mitigation options'!$I299+'Mitigation options'!$J299+'Mitigation options'!$K299","v":0},{"$f":"'Mitigation options'!$I455+'Mitigation options'!$J455+'Mitigation options'!$K455","v":0},{"$f":"'Mitigation options'!$I767+'Mitigation options'!$J767+'Mitigation options'!$K767","v":0},{"$f":"'Mitigation options'!$I923+'Mitigation options'!$J923+'Mitigation options'!$K923","v":0},{"$f":"'Mitigation options'!$I611+'Mitigation options'!$J611+'Mitigation options'!$K611","v":0},null,null,null,null,null,null,null,null,null,null,null,null,null,null,null,null,1183.6004303343507,1874.0738968542109,null,null,null,null,null,-2449.3230360265807,-2941.2035194025038,null,null,null,null,null,-2449.3230360265807,-2941.2035194025038,null,null,null,null,null,-2421.0175415517519,-2392.3433277687382,null,null,null,null,null,-2189.8700675460836,-2188.9920512759645,null,null,null,null,null,-2189.8700675460836,-2188.9920512759645]
[null,null,"1.A.2.  Manufacturing industries and construction",{"$f":"SUM('GHG Balance'!$P$18:$P$29)","v":0},{"$f":"'Mitigation options'!I144+'Mitigation options'!J144+'Mitigation options'!K144","v":0},{"$f":"'Mitigation options'!$I300+'Mitigation options'!$J300+'Mitigation options'!$K300","v":0},{"$f":"'Mitigation options'!$I456+'Mitigation options'!$J456+'Mitigation options'!$K456","v":0},{"$f":"'Mitigation options'!$I768+'Mitigation options'!$J768+'Mitigation options'!$K768","v":0},{"$f":"'Mitigation options'!$I924+'Mitigation options'!$J924+'Mitigation options'!$K924","v":0},{"$f":"'Mitigation options'!$I612+'Mitigation options'!$J612+'Mitigation options'!$K612","v":0},null,null,null,null,null,null,null,null,null,null,null,null,null,null,null,null,1183.6004303343507,0,null,null,null,null,null,-2449.3230360265807,0,null,null,null,null,null,-2449.3230360265807,0,null,null,null,null,null,-2421.0175415517519,0,null,null,null,null,null,-2189.8700675460836,0,null,null,null,null,null,-2189.8700675460836,0]
[null,null,"1.A.3.  Transport",{"$f":"SUM('GHG Balance'!$P$30:$P$33)","v":0},{"$f":"'Mitigation options'!I145+'Mitigation options'!J145+'Mitigation options'!K145","v":0},{"$f":"'Mitigation options'!$I301+'Mitigation options'!$J301+'Mitigation options'!$K301","v":0},{"$f":"'Mitigation options'!$I457+'Mitigation options'!$J457+'Mitigation options'!$K457","v":0},{"$f":"'Mitigation options'!$I769+'Mitigation options'!$J769+'Mitigation options'!$K769","v":0},{"$f":"'Mitigation options'!$I925+'Mitigation options'!$J925+'Mitigation options'!$K925","v":0},{"$f":"'Mitigation options'!$I613+'Mitigation options'!$J613+'Mitigation options'!$K613","v":0},null,null,null,null,null,null,null,null,null,null,null,null,null,"Geothermal power",-1831.9337746857609,37.89,1183.6004303343507,1831.9337746857609,null,null,"Electric cars",4152.3308048385124,10.467138461538459,-2449.3230360265807,-4152.3308048385124,null,null,"Electric cars",4152.3308048385124,10.467138461538459,-2449.3230360265807,-4152.3308048385124,null,null,"Electric cars",3283.0357157213966,10.213055999999996,-2421.0175415517519,-3283.0357157213966,null,null,"Electric cars",3687.6752760289319,10.213055999999996,-2189.8700675460836,-3687.6752760289319,null,null,"Electric cars",3687.6752760289319,10.213055999999996,-2189.8700675460836,-3687.6752760289319]
[null,null,"1.A.4.b.  Residential ",{"$f":"'GHG Balance'!$P$34","v":0},{"$f":"'Mitigation options'!I146+'Mitigation options'!J146+'Mitigation options'!K146","v":0},{"$f":"'Mitigation options'!$I302+'Mitigation options'!$J302+'Mitigation options'!$K302","v":0},{"$f":"'Mitigation options'!$I458+'Mitigation options'!$J458+'Mitigation options'!$K458","v":0},{"$f":"'Mitigation options'!$I770+'Mitigation options'!$J770+'Mitigation options'!$K770","v":0},{"$f":"'Mitigation options'!$I926+'Mitigation options'!$J926+'Mitigation options'!$K926","v":0},{"$f":"'Mitigation options'!$I614+'Mitigation options'!$J614+'Mitigation options'!$K614","v":0},null,null,null,null,null,null,null,null,null,null,null,null,null,null,null,null,1221.4904303343508,1831.9337746857609,null,null,null,null,null,-2438.8558975650421,-4152.3308048385124,null,null,null,null,null,-2438.8558975650421,-4152.3308048385124,null,null,null,null,null,-2410.8044855517519,-3283.0357157213966,null,null,null,null,null,-2179.6570115460836,-3687.6752760289319,null,null,null,null,null,-2179.6570115460836,-3687.6752760289319]
[null,null,"1.A.4.a.  Commercial/institutional",{"$f":"'GHG Balance'!$P$35","v":0},{"$f":"'Mitigation options'!I147+'Mitigation options'!J147+'Mitigation options'!K147","v":0},{"$f":"'Mitigation options'!$I303+'Mitigation options'!$J303+'Mitigation options'!$K303","v":0},{"$f":"'Mitigation options'!$I459+'Mitigation options'!$J459+'Mitigation options'!$K459","v":0},{"$f":"'Mitigation options'!$I771+'Mitigation options'!$J771+'Mitigation options'!$K771","v":0},{"$f":"'Mitigation options'!$I927+'Mitigation options'!$J927+'Mitigation options'!$K927","v":0},{"$f":"'Mitigation options'!$I615+'Mitigation options'!$J615+'Mitigation options'!$K615","v":0},null,null,null,null,null,null,null,null,null,null,null,null,null,null,null,null,1221.4904303343508,0,null,null,null,null,null,-2438.8558975650421,0,null,null,null,null,null,-2438.8558975650421,0,null,null,null,null,null,-2410.8044855517519,0,null,null,null,null,null,-2179.6570115460836,0,null,null,null,null,null,-2179.6570115460836,0]
[null,null,"1.A.4.c.  Agriculture/forestry/fishing",{"$f":"'GHG Balance'!$P$36","v":0},{"$f":"'Mitigation options'!I148+'Mitigation options'!J148+'Mitigation options'!K148","v":0},{"$f":"'Mitigation options'!$I304+'Mitigation options'!$J304+'Mitigation options'!$K304","v":0},{"$f":"'Mitigation options'!$I460+'Mitigation options'!$J460+'Mitigation options'!$K460","v":0},{"$f":"'Mitigation options'!$I772+'Mitigation options'!$J772+'Mitigation options'!$K772","v":0},{"$f":"'Mitigation options'!$I928+'Mitigation options'!$J928+'Mitigation options'!$K928","v":0},{"$f":"'Mitigation options'!$I616+'Mitigation options'!$J616+'Mitigation options'!$K616","v":0},null,null,null,null,null,null,null,null,null,null,null,null,null,"Wind turbines, off-shore",-1829.0735535261631,19.2,1221.4904303343508,1829.0735535261631,null,null,"Electric rail ",5712.9148289137893,38.24254576992,-2438.8558975650421,-5712.9148289137893,null,null,"Electric rail ",5712.9148289137893,38.24254576992,-2438.8558975650421,-5712.9148289137893,null,null,"Electric rail ",5712.9148289137893,38.24254576992,-2410.8044855517519,-5712.9148289137893,null,null,"Electric rail ",5712.9148289137893,38.24254576992,-2179.6570115460836,-5712.9148289137893,null,null,"Electric rail ",5712.9148289137893,38.24254576992,-2179.6570115460836,-5712.9148289137893]
[null,null,"1.B. Fugitive emissions from fuels",{"$f":"'GHG Balance'!$G$44","v":0},{"$f":"'Mitigation options'!I149+'Mitigation options'!J149+'Mitigation options'!K149","v":0},{"$f":"'Mitigation options'!$I305+'Mitigation options'!$J305+'Mitigation options'!$K305","v":0},{"$f":"'Mitigation options'!$I461+'Mitigation options'!$J461+'Mitigation options'!$K461","v":0},{"$f":"'Mitigation options'!$I773+'Mitigation options'!$J773+'Mitigation options'!$K773","v":0},{"$f":"'Mitigation options'!$I929+'Mitigation options'!$J929+'Mitigation options'!$K929","v":0},{"$f":"'Mitigation options'!$I617+'Mitigation options'!$J617+'Mitigation options'!$K617","v":0},null,null,null,null,null,null,null,null,null,null,null,null,null,null,null,null,1240.6904303343508,1829.0735535261631,null,null,null,null,null,-2400.6133517951221,-5712.9148289137893,null,null,null,null,null,-2400.6133517951221,-5712.9148289137893,null,null,null,null,null,-2372.5619397818318,-5712.9148289137893,null,null,null,null,null,-2141.4144657761635,-5712.9148289137893,null,null,null,null,null,-2141.4144657761635,-5712.9148289137893]
[null,null,"2.  Industrial processes and product use",{"$f":"'GHG Balance'!$G$45+'GHG Balance'!$P$37","v":0},{"$f":"'Mitigation options'!I150+'Mitigation options'!J150+'Mitigation options'!K150","v":0},{"$f":"'Mitigation options'!$I306+'Mitigation options'!$J306+'Mitigation options'!$K306","v":0},{"$f":"'Mitigation options'!$I462+'Mitigation options'!$J462+'Mitigation options'!$K462","v":0},{"$f":"'Mitigation options'!$I774+'Mitigation options'!$J774+'Mitigation options'!$K774","v":0},{"$f":"'Mitigation options'!$I930+'Mitigation options'!$J930+'Mitigation options'!$K930","v":0},{"$f":"'Mitigation options'!$I618+'Mitigation options'!$J618+'Mitigation options'!$K618","v":0},null,null,null,null,null,null,null,null,null,null,null,null,null,null,null,null,1240.6904303343508,0,null,null,null,null,null,-2400.6133517951221,0,null,null,null,null,null,-2400.6133517951221,0,null,null,null,null,null,-2372.5619397818318,0,null,null,null,null,null,-2141.4144657761635,0,null,null,null,null,null,-2141.4144657761635,0]
[null,null,"3.  Agriculture",{"$f":"'GHG Balance'!$G$51","v":0},{"$f":"'Mitigation options'!I151+'Mitigation options'!J151+'Mitigation options'!K151","v":0},{"$f":"'Mitigation options'!$I307+'Mitigation options'!$J307+'Mitigation options'!$K307","v":0},{"$f":"'Mitigation options'!$I463+'Mitigation options'!$J463+'Mitigation options'!$K463","v":0},{"$f":"'Mitigation options'!$I775+'Mitigation options'!$J775+'Mitigation options'!$K775","v":0},{"$f":"'Mitigation options'!$I931+'Mitigation options'!$J931+'Mitigation options'!$K931","v":0},{"$f":"'Mitigation options'!$I619+'Mitigation options'!$J619+'Mitigation options'!$K619","v":0},null,null,null,null,null,null,null,null,null,null,null,null,null,"Solar house PVs",-1809.3279895100352,4.9275000000000005E-3,1240.6904303343508,1809.3279895100352,null,null,"Electric heavy trucks",8075.5126361615521,117.03990999999991,-2400.6133517951221,-8075.5126361615521,null,null,"Electric heavy trucks",8075.5126361615521,117.03990999999991,-2400.6133517951221,-8075.5126361615521,null,null,"Electric heavy trucks",8683.3817105884718,96.279668999999998,-2372.5619397818318,-8683.3817105884718,null,null,"Electric heavy trucks",8193.9251471700063,96.279668999999998,-2141.4144657761635,-8193.9251471700063,null,null,"Electric heavy trucks",8193.9251471700063,96.279668999999998,-2141.4144657761635,-8193.9251471700063]
[null,null,"4. Land use, land-use change and forestry",{"$f":"'GHG Balance'!$G$56","v":0},{"$f":"'Mitigation options'!I152+'Mitigation options'!J152+'Mitigation options'!K152","v":0},{"$f":"'Mitigation options'!$I308+'Mitigation options'!$J308+'Mitigation options'!$K308","v":0},{"$f":"'Mitigation options'!$I464+'Mitigation options'!$J464+'Mitigation options'!$K464","v":0},{"$f":"'Mitigation options'!$I776+'Mitigation options'!$J776+'Mitigation options'!$K776","v":0},{"$f":"'Mitigation options'!$I932+'Mitigation options'!$J932+'Mitigation options'!$K932","v":0},{"$f":"'Mitigation options'!$I620+'Mitigation options'!$J620+'Mitigation options'!$K620","v":0},null,null,null,null,null,null,null,null,null,null,null,null,null,null,null,null,1240.6953578343507,1809.3279895100352,null,null,null,null,null,-2283.5734417951221,-8075.5126361615521,null,null,null,null,null,-2283.5734417951221,-8075.5126361615521,null,null,null,null,null,-2276.2822707818318,-8683.3817105884718,null,null,null,null,null,-2045.1347967761635,-8193.9251471700063,null,null,null,null,null,-2045.1347967761635,-8193.9251471700063]
[null,null,"5. Waste",{"$f":"'GHG Balance'!$G$62","v":0},{"$f":"'Mitigation options'!I153+'Mitigation options'!J153+'Mitigation options'!K153","v":0},{"$f":"'Mitigation options'!$I309+'Mitigation options'!$J309+'Mitigation options'!$K309","v":0},{"$f":"'Mitigation options'!$I465+'Mitigation options'!$J465+'Mitigation options'!$K465","v":0},{"$f":"'Mitigation options'!$I777+'Mitigation options'!$J777+'Mitigation options'!$K777","v":0},{"$f":"'Mitigation options'!$I933+'Mitigation options'!$J933+'Mitigation options'!$K933","v":0},{"$f":"'Mitigation options'!$I621+'Mitigation options'!$J621+'Mitigation options'!$K621","v":0},null,null,null,null,null,null,null,null,null,null,null,null,null,null,null,null,1240.6953578343507,0,null,null,null,null,null,-2283.5734417951221,0,null,null,null,null,null,-2283.5734417951221,0,null,null,null,null,null,-2276.2822707818318,0,null,null,null,null,null,-2045.1347967761635,0,null,null,null,null,null,-2045.1347967761635,0]
[null,null,null,null,null,null,null,null,null,null,null,null,null,null,null,null,null,null,null,null,null,null,null,"Solar cottage PVs",-1809.327989510035,4.9275000000000002E-4,1240.6953578343507,1809.327989510035,null,null,"Shifting passengers from car to rail",1961841.4656683798,425.49363999999997,-2283.5734417951221,-1961841.4656683798,null,null,"Shifting passengers from car to rail",1961841.4656683798,425.49363999999997,-2283.5734417951221,-1961841.4656683798,null,null,"Shifting passengers from car to rail",1961841.4656683798,425.49363999999997,-2276.2822707818318,-1961841.4656683798,null,null,"Shifting passengers from car to rail",1961841.4656683798,425.49363999999997,-2045.1347967761635,-1961841.4656683798,null,null,"Shifting passengers from car to rail",1961841.4656683798,425.49363999999997,-2045.1347967761635,-1961841.4656683798]
[null,null,null,null,null,null,null,null,null,null,null,null,null,null,null,null,null,null,null,null,null,null,null,null,null,null,1240.6958505843506,1809.327989510035,null,null,null,null,null,-1858.0798017951222,-1961841.4656683798,null,null,null,null,null,-1858.0798017951222,-1961841.4656683798,null,null,null,null,null,-1850.7886307818319,-1961841.4656683798,null,null,null,null,null,-1619.6411567761636,-1961841.4656683798,null,null,null,null,null,-1619.6411567761636,-1961841.4656683798]
[null,null,"Mitigation scenario emissions by sectors",null,null,null,null,null,null,null,null,null,null,null,null,null,null,null,null,null,null,null,null,null,null,null,1240.6958505843506,0,null,null,null,null,null,-1858.0798017951222,0,null,null,null,null,null,-1858.0798017951222,0,null,null,null,null,null,-1850.7886307818319,0,null,null,null,null,null,-1619.6411567761636,0,null,null,null,null,null,-1619.6411567761636,0]
[null,null,"ktCO2e/year",{"$f":"+D42","v":0},{"$f":"+E42","v":2025},{"$f":"+F42","v":2030},2035,2040,2045,{"$f":"+J42","v":2050},null,null,null,null,null,null,null,null,null,null,null,null,null,"Biomass power from biomass residues ",-1779.2474619138081,30,1240.6958505843506,1779.2474619138081]
[null,null,"Total (including LULUCF)",{"$f":"D64+D73+D74+D75+D76","v":0},{"$f":"E64+E73+E74+E75+E76","v":{"$error":"#DIV/0!"}},{"$error":"#DIV/0!"},{"$error":"#DIV/0!"},{"$error":"#DIV/0!"},{"$error":"#DIV/0!"},{"$error":"#DIV/0!"},null,null,null,null,null,null,null,null,null,null,null,null,null,null,null,null,1270.6958505843506,1779.2474619138081]
[null,null,"Total (excluding LULUCF)",{"$f":"D62-D75","v":0},{"$f":"E62-E75","v":{"$error":"#DIV/0!"}},{"$error":"#DIV/0!"},{"$error":"#DIV/0!"},{"$error":"#DIV/0!"},{"$error":"#DIV/0!"},{"$error":"#DIV/0!"},null,null,null,null,null,null,null,null,null,null,null,null,null,null,null,null,1270.6958505843506,0]
[null,null,"1. Energy",{"$f":"D65+D72","v":0},{"$f":"E65+E72","v":{"$error":"#DIV/0!"}},{"$f":"F65+F72","v":{"$error":"#DIV/0!"}},{"$f":"G65+G72","v":{"$error":"#DIV/0!"}},{"$error":"#DIV/0!"},{"$error":"#DIV/0!"},{"$error":"#DIV/0!"},null,null,null,null,null,null,null,null,null,null,null,null,null,"Mini hydro power connected to main grid",-1776.3659170776746,24,1270.6958505843506,1776.3659170776746]
[null,null,"1.A. Fuel combustion",{"$f":"D66+D67+D68+D69+D70+D71+'GHG Balance'!$E$43+'GHG Balance'!$F$43","v":0},{"$f":"'Mitigation options'!$O142","v":{"$error":"#DIV/0!"}},{"$f":"'Mitigation options'!$O298","v":{"$error":"#DIV/0!"}},{"$f":"'Mitigation options'!$O454","v":{"$error":"#DIV/0!"}},{"$f":"'Mitigation options'!$O766","v":{"$error":"#DIV/0!"}},{"$f":"'Mitigation options'!$O922","v":{"$error":"#DIV/0!"}},{"$f":"'Mitigation options'!$O610","v":{"$error":"#DIV/0!"}},null,null,null,null,null,null,null,null,null,null,null,null,null,null,null,null,1294.6958505843506,1776.3659170776746]
[null,null,"1.A.1.  Energy industries",{"$f":"+'GHG Balance'!$P$16","v":0},{"$f":"'Mitigation options'!$O143","v":0},{"$f":"'Mitigation options'!$O299","v":0},{"$f":"'Mitigation options'!$O455","v":0},{"$f":"'Mitigation options'!$O767","v":0},{"$f":"'Mitigation options'!$O923","v":0},{"$f":"'Mitigation options'!$O611","v":0},null,null,null,null,null,null,null,null,null,null,null,null,null,null,null,null,1294.6958505843506,0]
[null,null,"1.A.2.  Manufacturing industries and construction",{"$f":"SUM('GHG Balance'!$P$18:$P$29)","v":0},{"$f":"'Mitigation options'!$O144","v":{"$error":"#DIV/0!"}},{"$f":"'Mitigation options'!$O300","v":{"$error":"#DIV/0!"}},{"$f":"'Mitigation options'!$O456","v":{"$error":"#DIV/0!"}},{"$f":"'Mitigation options'!$O768","v":{"$error":"#DIV/0!"}},{"$f":"'Mitigation options'!$O924","v":{"$error":"#DIV/0!"}},{"$f":"'Mitigation options'!$O612","v":{"$error":"#DIV/0!"}},null,null,null,null,null,null,null,null,null,null,null,null,null,"Efficient lighting with LEDs",-1770.2044442499537,0.89352000000000009,1294.6958505843506,1770.2044442499537]
[null,null,"1.A.3.  Transport",{"$f":"SUM('GHG Balance'!$P$30:$P$33)","v":0},{"$f":"'Mitigation options'!$O145","v":0},{"$f":"'Mitigation options'!$O301","v":0},{"$f":"'Mitigation options'!$O457","v":0},{"$f":"'Mitigation options'!$O769","v":0},{"$f":"'Mitigation options'!$O925","v":0},{"$f":"'Mitigation options'!$O613","v":0},null,null,null,null,null,null,null,null,null,null,null,null,null,null,null,null,1295.5893705843507,1770.2044442499537]
[null,null,"1.A.4.b.  Residential ",{"$f":"'GHG Balance'!$P$34","v":0},{"$f":"'Mitigation options'!$O146","v":{"$error":"#DIV/0!"}},{"$f":"'Mitigation options'!$O302","v":{"$error":"#DIV/0!"}},{"$f":"'Mitigation options'!$O458","v":{"$error":"#DIV/0!"}},{"$f":"'Mitigation options'!$O770","v":{"$error":"#DIV/0!"}},{"$f":"'Mitigation options'!$O926","v":{"$error":"#DIV/0!"}},{"$f":"'Mitigation options'!$O614","v":{"$error":"#DIV/0!"}},null,null,null,null,null,null,null,null,null,null,null,null,null,null,null,null,1295.5893705843507,0]
[null,null,"1.A.4.a.  Commercial/institutional",{"$f":"'GHG Balance'!$P$35","v":0},{"$f":"'Mitigation options'!$O147","v":{"$error":"#DIV/0!"}},{"$f":"'Mitigation options'!$O303","v":{"$error":"#DIV/0!"}},{"$f":"'Mitigation options'!$O459","v":{"$error":"#DIV/0!"}},{"$f":"'Mitigation options'!$O771","v":{"$error":"#DIV/0!"}},{"$f":"'Mitigation options'!$O927","v":{"$error":"#DIV/0!"}},{"$f":"'Mitigation options'!$O615","v":{"$error":"#DIV/0!"}},null,null,null,null,null,null,null,null,null,null,null,null,null,"Solar PVs, large grid with 24h storage",-1759.7532667826445,10.95,1295.5893705843507,1759.7532667826445]
[null,null,"1.A.4.c.  Agriculture/forestry/fishing",{"$f":"'GHG Balance'!$P$36","v":0},{"$f":"'Mitigation options'!$O148","v":0},{"$f":"'Mitigation options'!$O304","v":0},{"$f":"'Mitigation options'!$O460","v":0},{"$f":"'Mitigation options'!$O772","v":0},{"$f":"'Mitigation options'!$O928","v":0},{"$f":"'Mitigation options'!$O616","v":0},null,null,null,null,null,null,null,null,null,null,null,null,null,null,null,null,1306.5393705843508,1759.7532667826445]
[null,null,"1.B. Fugitive emissions from fuels",{"$f":"'GHG Balance'!$G$44","v":0},{"$f":"'Mitigation options'!$O149","v":0},{"$f":"'Mitigation options'!$O305","v":0},{"$f":"'Mitigation options'!$O461","v":0},{"$f":"'Mitigation options'!$O773","v":0},{"$f":"'Mitigation options'!$O929","v":0},{"$f":"'Mitigation options'!$O617","v":0},null,null,null,null,null,null,null,null,null,null,null,null,null,null,null,null,1306.5393705843508,0]
[null,null,"2.  Industrial processes and product use",{"$f":"'GHG Balance'!$G$45+'GHG Balance'!$P$37","v":0},{"$f":"'Mitigation options'!$O150","v":0},{"$f":"'Mitigation options'!$O306","v":0},{"$f":"'Mitigation options'!$O462","v":0},{"$f":"'Mitigation options'!$O774","v":0},{"$f":"'Mitigation options'!$O930","v":0},{"$f":"'Mitigation options'!$O618","v":0},null,null,null,null,null,null,null,null,null,null,null,null,null,"Efficient lighting with CFLs",-1735.1192704129194,0.438,1306.5393705843508,1735.1192704129194]
[null,null,"3.  Agriculture",{"$f":"'GHG Balance'!$G$51","v":0},{"$f":"'Mitigation options'!$O151","v":0},{"$f":"'Mitigation options'!$O307","v":0},{"$f":"'Mitigation options'!$O463","v":0},{"$f":"'Mitigation options'!$O775","v":0},{"$f":"'Mitigation options'!$O931","v":0},{"$f":"'Mitigation options'!$O619","v":0},null,null,null,null,null,null,null,null,null,null,null,null,null,null,null,null,1306.9773705843509,1735.1192704129194]
[null,null,"4. Land use, land-use change and forestry",{"$f":"'GHG Balance'!$G$56","v":0},{"$f":"'Mitigation options'!$O152","v":0},{"$f":"'Mitigation options'!$O308","v":0},{"$f":"'Mitigation options'!$O464","v":0},{"$f":"'Mitigation options'!$O776","v":0},{"$f":"'Mitigation options'!$O932","v":0},{"$f":"'Mitigation options'!$O620","v":0},null,null,null,null,null,null,null,null,null,null,null,null,null,null,null,null,1306.9773705843509,0]
[null,null,"5. Waste",{"$f":"'GHG Balance'!$G$62","v":0},{"$f":"'Mitigation options'!$O153","v":0},{"$f":"'Mitigation options'!$O309","v":0},{"$f":"'Mitigation options'!$O465","v":0},{"$f":"'Mitigation options'!$O777","v":0},{"$f":"'Mitigation options'!$O933","v":0},{"$f":"'Mitigation options'!$O621","v":0},null,null,null,null,null,null,null,null,null,null,null,null,null,"Efficient water pumping",-1724.1894343670781,8.7771428571428594,1306.9773705843509,1724.1894343670781]
[null,null,null,null,null,null,null,null,null,null,null,null,null,null,null,null,null,null,null,null,null,null,null,null,null,null,1315.7545134414938,1724.1894343670781]
[null,null,null,null,null,null,null,null,null,null,null,null,null,null,null,null,null,null,null,null,null,null,null,null,null,null,1315.7545134414938,0]
[null,null," GHG emission reduction by sectors",null,null,null,null,null,null,null,null,null,null,null,null,null,null,null,null,null,null,null,null,"Efficient electric motors",-1722.5414816168659,7.4666666666666614E-3,1315.7545134414938,1722.5414816168659]
[null,null,"ktCO2e/year",{"$f":"+D61","v":0},{"$f":"+E61","v":2025},{"$f":"+F61","v":2030},2035,2040,2045,{"$f":"+J61","v":2050},null,null,null,null,null,null,null,null,null,null,null,null,null,null,null,null,1315.7619801081605,1722.5414816168659]
[null,null,"Total",{"$f":"D82+D91+D92+D93+D94","v":0},{"$f":"E82+E91+E92+E93+E94","v":{"$error":"#DIV/0!"}},{"$f":"F82+F91+F92+F93+F94","v":{"$error":"#DIV/0!"}},{"$error":"#DIV/0!"},{"$error":"#DIV/0!"},{"$error":"#DIV/0!"},{"$error":"#DIV/0!"},null,null,null,null,null,null,null,null,null,null,null,null,null,null,null,null,1315.7619801081605,0]
[null,null,"1. Energy",{"$f":"D45-D64","v":0},{"$error":"#DIV/0!"},{"$error":"#DIV/0!"},{"$error":"#DIV/0!"},{"$error":"#DIV/0!"},{"$error":"#DIV/0!"},{"$error":"#DIV/0!"},null,null,null,null,null,null,null,null,null,null,null,null,null,"Efficient electric motors",-1722.5414816168659,7.4666666666666614E-3,1315.7619801081605,1722.5414816168659]
[null,null,"1.A. Fuel combustion",0,{"$error":"#DIV/0!"},{"$error":"#DIV/0!"},{"$error":"#DIV/0!"},{"$error":"#DIV/0!"},{"$error":"#DIV/0!"},{"$error":"#DIV/0!"},null,null,null,null,null,null,null,null,null,null,null,null,null,null,null,null,1315.7694467748272,1722.5414816168659]
[null,null,"1.A.1.  Energy industries",0,0,0,0,0,0,0,null,null,null,null,null,null,null,null,null,null,null,null,null,null,null,null,1315.7694467748272,0]
[null,null,"1.A.2.  Manufacturing industries and construction",0,{"$error":"#DIV/0!"},{"$error":"#DIV/0!"},{"$error":"#DIV/0!"},{"$error":"#DIV/0!"},{"$error":"#DIV/0!"},{"$error":"#DIV/0!"},null,null,null,null,null,null,null,null,null,null,null,null,null,"Efficient residential airconditioning",-1720.8631276388264,8.9662921348314608,1315.7694467748272,1720.8631276388264]
[null,null,"1.A.3.  Transport",0,0,0,0,0,0,0,null,null,null,null,null,null,null,null,null,null,null,null,null,null,null,null,1324.7357389096587,1720.8631276388264]
[null,null,"1.A.4.b.  Residential ",0,{"$error":"#DIV/0!"},{"$error":"#DIV/0!"},{"$error":"#DIV/0!"},{"$error":"#DIV/0!"},{"$error":"#DIV/0!"},{"$error":"#DIV/0!"},null,null,null,null,null,null,null,null,null,null,null,null,null,null,null,null,1324.7357389096587,0]
[null,null,"1.A.4.a.  Commercial/institutional",0,{"$error":"#DIV/0!"},{"$error":"#DIV/0!"},{"$error":"#DIV/0!"},{"$error":"#DIV/0!"},{"$error":"#DIV/0!"},{"$error":"#DIV/0!"},null,null,null,null,null,null,null,null,null,null,null,null,null,"Efficient office lighting with CFLs",-1716.6835665964268,0.45051428571428576,1324.7357389096587,1716.6835665964268]
[null,null,"1.A.4.c.  Agriculture/forestry/fishing",0,0,0,0,0,0,0,null,null,null,null,null,null,null,null,null,null,null,null,null,null,null,null,1325.186253195373,1716.6835665964268]
[null,null,"1.B. Fugitive emissions from fuels",0,0,0,0,0,0,0,null,null,null,null,null,null,null,null,null,null,null,null,null,null,null,null,1325.186253195373,0]
[null,null,"2.  Industrial processes and product use",0,0,0,0,0,0,0,null,null,null,null,null,null,null,null,null,null,null,null,null,"Efficient street lights",-1714.6658083229268,4.5051428571428564,1325.186253195373,1714.6658083229268]
[null,null,"3.  Agriculture",0,0,0,0,0,0,0,null,null,null,null,null,null,null,null,null,null,null,null,null,null,null,null,1329.6913960525158,1714.6658083229268]
[null,null,"4. Land use, land-use change and forestry",0,0,0,0,0,0,0,null,null,null,null,null,null,null,null,null,null,null,null,null,null,null,null,1329.6913960525158,0]
[null,null,"5. Waste",0,0,0,0,0,0,0,null,null,null,null,null,null,null,null,null,null,null,null,null,"New office building with central cooling",-1713.348570947195,0.40088783943329392,1329.6913960525158,1713.348570947195]
[null,null,null,null,null,null,null,null,null,null,null,null,null,null,null,null,null,null,null,null,null,null,null,null,null,null,1330.0922838919491,1713.348570947195]
[null,null,null,null,null,null,null,null,null,null,null,null,null,null,null,null,null,null,null,null,null,null,null,null,null,null,1330.0922838919491,0]
[null,null,"GHG emissions by gases (including and excluding LULUCF)",null,null,null,null,null,null,null,null,null,null,null,null,null,null,null,null,null,null,null,null,"Efficient room airconditioner",-1701.1695157540153,8.1111111111111071E-3,1330.0922838919491,1701.1695157540153]
[null,null,"ktCO2e/year",{"$f":"+D80","v":0},{"$f":"+E80","v":2025},{"$f":"+F80","v":2030},2035,2040,2045,{"$f":"+J80","v":2050},null,null,null,null,null,null,null,null,null,null,null,null,null,null,null,null,1330.1003950030602,1701.1695157540153]
[null,null,"Emissions including LULUCF",null,null,null,null,null,null,null,null,null,null,null,null,null,null,null,null,null,null,null,null,null,null,null,1330.1003950030602,0]
[null,null,"CO2 emissions in BAU scenario",{"$f":"+'GHG Balance'!$D$67","v":0},{"$f":"'BAU projected GHG Balances'!$D$68","v":0},{"$f":"'BAU projected GHG Balances'!$D$138","v":0},{"$f":"'BAU projected GHG Balances'!$D$206","v":0},{"$f":"'BAU projected GHG Balances'!$D$275","v":0},{"$f":"'BAU projected GHG Balances'!$D$344","v":0},{"$f":"'BAU projected GHG Balances'!$D$413","v":0},null,null,null,null,null,null,null,null,null,null,null,null,null,"Efficient electric stoves",-1685.7932223277553,1.7828571428571431,1330.1003950030602,1685.7932223277553]
[null,null,"CH4 emissions in BAU scenario",{"$f":"+'GHG Balance'!$E$67","v":0},{"$f":"'BAU projected GHG Balances'!$E$68","v":0},{"$f":"'BAU projected GHG Balances'!$E$138","v":0},{"$f":"'BAU projected GHG Balances'!$E$206","v":0},{"$f":"'BAU projected GHG Balances'!$E$275","v":0},{"$f":"'BAU projected GHG Balances'!$E$344","v":0},{"$f":"'BAU projected GHG Balances'!$E$413","v":0},null,null,null,null,null,null,null,null,null,null,null,null,null,null,null,null,1331.8832521459174,1685.7932223277553]
[null,null,"N2O emissions in BAU scenario",{"$f":"+'GHG Balance'!$F$67","v":0},{"$f":"'BAU projected GHG Balances'!$F$68","v":0},{"$f":"'BAU projected GHG Balances'!$F$138","v":0},{"$f":"'BAU projected GHG Balances'!$F$206","v":0},{"$f":"'BAU projected GHG Balances'!$F$275","v":0},{"$f":"'BAU projected GHG Balances'!$F$344","v":0},{"$f":"'BAU projected GHG Balances'!$F$413","v":0},null,null,null,null,null,null,null,null,null,null,null,null,null,null,null,null,1331.8832521459174,0]
[null,null,"CO2 emissions in Mitigation scenario",{"$f":"D100","v":0},{"$f":"'Mitigation options'!$I$154-'Mitigation options'!$L$154","v":{"$error":"#DIV/0!"}},{"$f":"'Mitigation options'!$I$310-'Mitigation options'!$L$310","v":{"$error":"#DIV/0!"}},{"$f":"'Mitigation options'!$I$466-'Mitigation options'!$L$466","v":{"$error":"#DIV/0!"}},{"$f":"'Mitigation options'!$I$778-'Mitigation options'!$L$778","v":{"$error":"#DIV/0!"}},{"$f":"'Mitigation options'!$I$934-'Mitigation options'!$L$934","v":{"$error":"#DIV/0!"}},{"$f":"'Mitigation options'!$I$622-'Mitigation options'!$L$622","v":{"$error":"#DIV/0!"}},null,null,null,null,null,null,null,null,null,null,null,null,null,"Efficient office lighting with LEDs",-1682.416700617395,0.51058285714285712,1331.8832521459174,1682.416700617395]
[null,null,"CH4 emissions in Mitigation scenario",{"$f":"D101","v":0},{"$f":"'Mitigation options'!$J$154-'Mitigation options'!$M$154","v":0},{"$f":"'Mitigation options'!$J$310-'Mitigation options'!$M$310","v":0},{"$f":"'Mitigation options'!$J$466-'Mitigation options'!$M$466","v":0},{"$f":"'Mitigation options'!$J$778-'Mitigation options'!$M$778","v":0},{"$f":"'Mitigation options'!$J$934-'Mitigation options'!$M$934","v":0},{"$f":"'Mitigation options'!$J$622-'Mitigation options'!$M$622","v":0},null,null,null,null,null,null,null,null,null,null,null,null,null,null,null,null,1332.3938350030603,1682.416700617395]
[null,null,"N2O emissionsin Mitigation scenario",0,{"$f":"'Mitigation options'!$K$154-'Mitigation options'!$N$154","v":0},{"$f":"'Mitigation options'!$K$310-'Mitigation options'!$N$310","v":0},{"$f":"'Mitigation options'!$K$466-'Mitigation options'!$N$466","v":0},{"$f":"'Mitigation options'!$K$778-'Mitigation options'!$N$778","v":0},{"$f":"'Mitigation options'!$K$934-'Mitigation options'!$N$934","v":0},{"$f":"'Mitigation options'!$K$622-'Mitigation options'!$N$622","v":0},null,null,null,null,null,null,null,null,null,null,null,null,null,null,null,null,1332.3938350030603,0]
[null,null,"Emissions excluding LULUCF",null,null,null,null,null,null,null,null,null,null,null,null,null,null,null,null,null,null,null,null,"Efficient lighting with LEDs replacing CFL",-1623.2035412507837,0.10512000000000002,1332.3938350030603,1623.2035412507837]
[null,null,"CO2 emissions in BAU scenario",{"$f":"+'GHG Balance'!$D$68","v":0},{"$f":"'BAU projected GHG Balances'!$D$69","v":0},{"$f":"'BAU projected GHG Balances'!$D$139","v":0},{"$f":"'BAU projected GHG Balances'!$D$207","v":0},{"$f":"'BAU projected GHG Balances'!$D$276","v":0},{"$f":"'BAU projected GHG Balances'!$D$345","v":0},{"$f":"'BAU projected GHG Balances'!$D$414","v":0},null,null,null,null,null,null,null,null,null,null,null,null,null,null,null,null,1332.4989550030602,1623.2035412507837]
[null,null,"CH4 emissions in BAU scenario",{"$f":"+'GHG Balance'!$E$68","v":0},{"$f":"'BAU projected GHG Balances'!$E$69","v":0},{"$f":"'BAU projected GHG Balances'!$E$139","v":0},{"$f":"'BAU projected GHG Balances'!$E$207","v":0},{"$f":"'BAU projected GHG Balances'!$E$276","v":0},{"$f":"'BAU projected GHG Balances'!$E$345","v":0},{"$f":"'BAU projected GHG Balances'!$E$414","v":0},null,null,null,null,null,null,null,null,null,null,null,null,null,null,null,null,1332.4989550030602,0]
[null,null,"N2O emissions in BAU scenario",{"$f":"+'GHG Balance'!$F$68","v":0},{"$f":"'BAU projected GHG Balances'!$F$69","v":0},{"$f":"'BAU projected GHG Balances'!$F$139","v":0},{"$f":"'BAU projected GHG Balances'!$F$207","v":0},{"$f":"'BAU projected GHG Balances'!$F$276","v":0},{"$f":"'BAU projected GHG Balances'!$F$345","v":0},{"$f":"'BAU projected GHG Balances'!$F$414","v":0},null,null,null,null,null,null,null,null,null,null,null,null,null,"Efficient commercial dishwashing machine ",-1494.0415590830055,0.13452088452088451,1332.4989550030602,1494.0415590830055]
[null,null,"CO2 emissions in Mitigation scenario",{"$f":"D107","v":0},{"$f":"'Mitigation options'!$I$155-'Mitigation options'!$L$155","v":{"$error":"#DIV/0!"}},{"$f":"'Mitigation options'!$I$311-'Mitigation options'!$L$311","v":{"$error":"#DIV/0!"}},{"$f":"'Mitigation options'!$I$467-'Mitigation options'!$L$467","v":{"$error":"#DIV/0!"}},{"$f":"'Mitigation options'!$I$779-'Mitigation options'!$L$779","v":{"$error":"#DIV/0!"}},{"$f":"'Mitigation options'!$I$935-'Mitigation options'!$L$935","v":{"$error":"#DIV/0!"}},{"$f":"'Mitigation options'!$I$623-'Mitigation options'!$L$623","v":{"$error":"#DIV/0!"}},null,null,null,null,null,null,null,null,null,null,null,null,null,null,null,null,1332.6334758875812,1494.0415590830055]
[null,null,"CH4 emissions in Mitigation scenario",{"$f":"D108","v":0},{"$f":"'Mitigation options'!$J$155-'Mitigation options'!$M$155","v":0},{"$f":"'Mitigation options'!$J$311-'Mitigation options'!$M$311","v":0},{"$f":"'Mitigation options'!$J$467-'Mitigation options'!$M$467","v":0},{"$f":"'Mitigation options'!$J$779-'Mitigation options'!$M$779","v":0},{"$f":"'Mitigation options'!$J$935-'Mitigation options'!$M$935","v":0},{"$f":"'Mitigation options'!$J$623-'Mitigation options'!$M$623","v":0},null,null,null,null,null,null,null,null,null,null,null,null,null,null,null,null,1332.6334758875812,0]
[null,null,"N2O emissionsin Mitigation scenario",0,{"$f":"'Mitigation options'!$K$155-'Mitigation options'!$N$155","v":0},{"$f":"'Mitigation options'!$K$311-'Mitigation options'!$N$311","v":0},{"$f":"'Mitigation options'!$K$467-'Mitigation options'!$N$467","v":0},{"$f":"'Mitigation options'!$K$779-'Mitigation options'!$N$779","v":0},{"$f":"'Mitigation options'!$K$935-'Mitigation options'!$N$935","v":0},{"$f":"'Mitigation options'!$K$623-'Mitigation options'!$N$623","v":0},null,null,null,null,null,null,null,null,null,null,null,null,null,"Parabolic through CSP, no storage",-1424.942445540466,9,1332.6334758875812,1424.942445540466]
[null,null,null,null,null,null,null,null,null,null,null,null,null,null,null,null,null,null,null,null,null,null,null,null,null,null,1341.6334758875812,1424.942445540466]
[null,null,null,null,null,null,null,null,null,null,null,null,null,null,null,null,null,null,null,null,null,null,null,null,null,null,1341.6334758875812,0]
[null,null,null,null,null,null,null,null,null,null,null,null,null,null,null,null,null,null,null,null,null,null,null,"Wave",-1266.8432762997018,18.396000000000001,1341.6334758875812,1266.8432762997018]
[null,null,null,null,null,null,null,null,null,null,null,null,null,null,null,null,null,null,null,null,null,null,null,null,null,null,1360.0294758875812,1266.8432762997018]
[null,null,null,null,null,null,null,null,null,null,null,null,null,null,null,null,null,null,null,null,null,null,null,null,null,null,1360.0294758875812,0]
[null,null,null,null,null,null,null,null,null,null,null,null,null,null,null,null,null,null,null,null,null,null,null,"Tidal",-1246.9282102821146,15.768000000000001,1360.0294758875812,1246.9282102821146]
[null,null,null,null,null,null,null,null,null,null,null,null,null,null,null,null,null,null,null,null,null,null,null,null,null,null,1375.7974758875812,1246.9282102821146]
[null,null,null,null,null,null,null,null,null,null,null,null,null,null,null,null,null,null,null,null,null,null,null,null,null,null,1375.7974758875812,0]
[null,null,null,null,null,null,null,null,null,null,null,null,null,null,null,null,null,null,null,null,null,null,null,"Biogas from industrial waste water ",-940.80279002204043,361.584,1375.7974758875812,940.80279002204043]
[null,null,null,null,null,null,null,null,null,null,null,null,null,null,null,null,null,null,null,null,null,null,null,null,null,null,1737.3814758875812,940.80279002204043]
[null,null,null,null,null,null,null,null,null,null,null,null,null,null,null,null,null,null,null,null,null,null,null,null,null,null,1737.3814758875812,0]
[null,null,null,null,null,null,null,null,null,null,null,null,null,null,null,null,null,null,null,null,null,null,null,"Efficient wood stoves",-933.25004151145902,16.060000000000002,1737.3814758875812,933.25004151145902]
[null,null,null,null,null,null,null,null,null,null,null,null,null,null,null,null,null,null,null,null,null,null,null,null,null,null,1753.4414758875812,933.25004151145902]
[null,null,null,null,null,null,null,null,null,null,null,null,null,null,null,null,null,null,null,null,null,null,null,null,null,null,1753.4414758875812,0]
[null,null,null,null,null,null,null,null,null,null,null,null,null,null,null,null,null,null,null,null,null,null,null,"Solar tower CSP, with storage",-933.14212540527262,9,1753.4414758875812,933.14212540527262]
[null,null,null,null,null,null,null,null,null,null,null,null,null,null,null,null,null,null,null,null,null,null,null,null,null,null,1762.4414758875812,933.14212540527262]
[null,null,null,null,null,null,null,null,null,null,null,null,null,null,null,null,null,null,null,null,null,null,null,null,null,null,1762.4414758875812,0]
[null,null,null,null,null,null,null,null,null,null,null,null,null,null,null,null,null,null,null,null,null,null,null,"Induction based cooking",-873.00104672014129,0.12987701040681179,1762.4414758875812,873.00104672014129]
[null,null,null,null,null,null,null,null,null,null,null,null,null,null,null,null,null,null,null,null,null,null,null,null,null,null,1762.5713528979879,873.00104672014129]
[null,null,null,null,null,null,null,null,"Similar graph on the mitigation scenarios per sector",null,null,null,null,null,null,null,null,null,null,null,null,null,null,null,null,null,1762.5713528979879,0]
[null,null,null,null,null,null,null,null,"The BAU minus reduction",null,null,null,null,null,null,null,null,null,null,null,null,null,null,"Refuce Derived Fuel (RDF) from MSW",-863.95538818870421,244.67314285714286,1762.5713528979879,863.95538818870421]
[null,null,null,null,null,null,null,null,null,null,null,null,null,null,null,null,null,null,null,null,null,null,null,null,null,null,2007.2444957551309,863.95538818870421]
[null,null,null,null,null,null,null,null,null,null,null,null,null,null,null,null,null,null,null,null,null,null,null,null,null,null,2007.2444957551309,0]
[null,null,null,null,null,null,null,null,null,null,null,null,null,null,null,null,null,null,null,null,null,null,null,"Solar PVs, small isolated grid, 100% solar",-778.56082557829859,31.536000000000001,2007.2444957551309,778.56082557829859]
[null,null,null,null,null,null,null,null,null,null,null,null,null,null,null,null,null,null,null,null,null,null,null,null,null,null,2038.7804957551309,778.56082557829859]
[null,null,null,null,null,null,null,null,null,null,null,null,null,null,null,null,null,null,null,null,null,null,null,null,null,null,2038.7804957551309,0]
[null,null,null,null,null,null,null,null,null,null,null,null,null,null,null,null,null,null,null,null,null,null,null,"Rice husk cogeneration plants",-750.22377296917887,118.04813691119998,2038.7804957551309,750.22377296917887]
[null,null,null,null,null,null,null,null,null,null,null,null,null,null,null,null,null,null,null,null,null,null,null,null,null,null,2156.828632666331,750.22377296917887]
[null,null,null,null,null,null,null,null,null,null,null,null,null,null,null,null,null,null,null,null,null,null,null,null,null,null,2156.828632666331,0]
[null,null,null,null,null,null,null,null,null,null,null,null,null,null,null,null,null,null,null,null,null,null,null,"New passive home",-736.84210526315792,97.714285714285708,2156.828632666331,736.84210526315792]
[null,null,null,null,null,null,null,null,null,null,null,null,null,null,null,null,null,null,null,null,null,null,null,null,null,null,2254.5429183806168,736.84210526315792]
[null,null,null,null,null,null,null,null,null,null,null,null,null,null,null,null,null,null,null,null,null,null,null,null,null,null,2254.5429183806168,0]
[null,null,null,null,null,null,null,null,null,null,null,null,null,null,null,null,null,null,null,null,null,null,null,"Recycling of plastics",-670.50222104182023,13.239000000000001,2254.5429183806168,670.50222104182023]
[null,null,null,null,null,null,null,null,null,null,null,null,null,null,null,null,null,null,null,null,null,null,null,null,null,null,2267.7819183806168,670.50222104182023]
[null,null,null,null,null,null,null,null,null,null,null,null,null,null,null,null,null,null,null,null,null,null,null,null,null,null,2267.7819183806168,0]
[null,null,null,null,null,null,null,null,null,null,null,null,null,null,null,null,null,null,null,null,null,null,null,"Efficient Chiller > 300 TR",-529.26626898189261,2.3720399999999999E-2,2267.7819183806168,529.26626898189261]
[null,null,null,null,null,null,null,null,null,null,null,null,null,null,null,null,null,null,null,null,null,null,null,null,null,null,2267.8056387806168,529.26626898189261]
[null,null,null,null,null,null,null,null,null,null,null,null,null,null,null,null,null,null,null,null,null,null,null,null,null,null,2267.8056387806168,0]
[null,null,null,null,null,null,null,null,null,null,null,null,null,null,null,null,null,null,null,null,null,null,null,"Efficient Chiller < 300 TR",-495.98071753695234,1.8160200000000005E-2,2267.8056387806168,495.98071753695234]
[null,null,null,null,null,null,null,null,null,null,null,null,null,null,null,null,null,null,null,null,null,null,null,null,null,null,2267.8237989806166,495.98071753695234]
[null,null,null,null,null,null,null,null,null,null,null,null,null,null,null,null,null,null,null,null,null,null,null,null,null,null,2267.8237989806166,0]
[null,null,null,null,null,null,null,null,null,null,null,null,null,null,null,null,null,null,null,null,null,null,null,"Efficient hotel refrigerator",-410.55967035431615,4.5664415584415587E-3,2267.8237989806166,410.55967035431615]
[null,null,null,null,null,null,null,null,null,null,null,null,null,null,null,null,null,null,null,null,null,null,null,null,null,null,2267.828365422175,410.55967035431615]
[null,null,null,null,null,null,null,null,null,null,null,null,null,null,null,null,null,null,null,null,null,null,null,null,null,null,2267.828365422175,0]
[null,null,null,null,null,null,null,null,null,null,null,null,null,null,null,null,null,null,null,null,null,null,null,"Switch from fuel oil to natural gas",-339.52112449817679,17.452285714285726,2267.828365422175,339.52112449817679]
[null,null,null,null,null,null,null,null,null,null,null,null,null,null,null,null,null,null,null,null,null,null,null,null,null,null,2285.2806511364606,339.52112449817679]
[null,null,null,null,null,null,null,null,null,null,null,null,null,null,null,null,null,null,null,null,null,null,null,null,null,null,2285.2806511364606,0]
[null,null,null,null,null,null,null,null,null,null,null,null,null,null,null,null,null,null,null,null,null,null,null,"Efficient refrigerators",-311.55059958182403,14.3232,2285.2806511364606,311.55059958182403]
[null,null,null,null,null,null,null,null,null,null,null,null,null,null,null,null,null,null,null,null,null,null,null,null,null,null,2299.6038511364604,311.55059958182403]
[null,null,null,null,null,null,null,null,null,null,null,null,null,null,null,null,null,null,null,null,null,null,null,null,null,null,2299.6038511364604,0]
[null,null,null,null,null,null,null,null,null,null,null,null,null,null,null,null,null,null,null,null,null,null,null,"More efficient gasoline cars",-210.54592306489872,4.9068456585365796,2299.6038511364604,210.54592306489872]
[null,null,null,null,null,null,null,null,null,null,null,null,null,null,null,null,null,null,null,null,null,null,null,null,null,null,2304.5106967949969,210.54592306489872]
[null,null,null,null,null,null,null,null,null,null,null,null,null,null,null,null,null,null,null,null,null,null,null,null,null,null,2304.5106967949969,0]
[null,null,null,null,null,null,null,null,null,null,null,null,null,null,null,null,null,null,null,null,null,null,null,"Restriction on import of used cars",-210.5458270318164,11.176703999999994,2304.5106967949969,210.5458270318164]
[null,null,null,null,null,null,null,null,null,null,null,null,null,null,null,null,null,null,null,null,null,null,null,null,null,null,2315.6874007949968,210.5458270318164]
[null,null,null,null,null,null,null,null,null,null,null,null,null,null,null,null,null,null,null,null,null,null,null,null,null,null,2315.6874007949968,0]
[null,null,null,null,null,null,null,null,null,null,null,null,null,null,null,null,null,null,null,null,null,null,null,"Connection of isolated grid to central grid ",-194.92732081007873,6,2315.6874007949968,194.92732081007873]
[null,null,null,null,null,null,null,null,null,null,null,null,null,null,null,null,null,null,null,null,null,null,null,null,null,null,2321.6874007949968,194.92732081007873]
[null,null,null,null,null,null,null,null,null,null,null,null,null,null,null,null,null,null,null,null,null,null,null,null,null,null,2321.6874007949968,0]
[null,null,null,null,null,null,null,null,null,null,null,null,null,null,null,null,null,null,null,null,null,null,null,"Better maintenance and use of motor bikes",-189.07311736714252,1.3970880000000003,2321.6874007949968,189.07311736714252]
[null,null,null,null,null,null,null,null,null,null,null,null,null,null,null,null,null,null,null,null,null,null,null,null,null,null,2323.084488794997,189.07311736714252]
[null,null,null,null,null,null,null,null,null,null,null,null,null,null,null,null,null,null,null,null,null,null,null,null,null,null,2323.084488794997,0]
[null,null,null,null,null,null,null,null,null,null,null,null,null,null,null,null,null,null,null,null,null,null,null,"15% Bioethanol blend in all gasoline",-189.07251611654135,-41.956284635016331,2323.084488794997,189.07251611654135]
[null,null,null,null,null,null,null,null,null,null,null,null,null,null,null,null,null,null,null,null,null,null,null,null,null,null,2281.1282041599807,189.07251611654135]
[null,null,null,null,null,null,null,null,null,null,null,null,null,null,null,null,null,null,null,null,null,null,null,null,null,null,2281.1282041599807,0]
[null,null,null,null,null,null,null,null,null,null,null,null,null,null,null,null,null,null,null,null,null,null,null,"Coal mine methane",-186.10470393626244,449.50080000000003,2281.1282041599807,186.10470393626244]
[null,null,null,null,null,null,null,null,null,null,null,null,null,null,null,null,null,null,null,null,null,null,null,null,null,null,2730.6290041599805,186.10470393626244]
[null,null,null,null,null,null,null,null,null,null,null,null,null,null,null,null,null,null,null,null,null,null,null,null,null,null,2730.6290041599805,0]
[null,null,null,null,null,null,null,null,null,null,null,null,null,null,null,null,null,null,null,null,null,null,null,"Landfill gas plant with power production",-184.07390995743501,1990.6434240000001,2730.6290041599805,184.07390995743501]
[null,null,null,null,null,null,null,null,null,null,null,null,null,null,null,null,null,null,null,null,null,null,null,null,null,null,4721.2724281599803,184.07390995743501]
[null,null,null,null,null,null,null,null,null,null,null,null,null,null,null,null,null,null,null,null,null,null,null,null,null,null,4721.2724281599803,0]
[null,null,null,null,null,null,null,null,null,null,null,null,null,null,null,null,null,null,null,null,null,null,null,"Incineration plant",-168.48037303737578,1684.9825679999999,4721.2724281599803,168.48037303737578]
[null,null,null,null,null,null,null,null,null,null,null,null,null,null,null,null,null,null,null,null,null,null,null,null,null,null,6406.2549961599798,168.48037303737578]
[null,null,null,null,null,null,null,null,null,null,null,null,null,null,null,null,null,null,null,null,null,null,null,null,null,null,6406.2549961599798,0]
[null,null,null,null,null,null,null,null,null,null,null,null,null,null,null,null,null,null,null,null,null,null,null,"Zero tillage",-166.39187675838471,1.0287246372479999,6406.2549961599798,166.39187675838471]
[null,null,null,null,null,null,null,null,null,null,null,null,null,null,null,null,null,null,null,null,null,null,null,null,null,null,6407.2837207972279,166.39187675838471]
[null,null,null,null,null,null,null,null,null,null,null,null,null,null,null,null,null,null,null,null,null,null,null,null,null,null,6407.2837207972279,0]
[null,null,null,null,null,null,null,null,null,null,null,null,null,null,null,null,null,null,null,null,null,null,null,"More efficient diesel cars",-158.52677653007859,2.1566554239999998,6407.2837207972279,158.52677653007859]
[null,null,null,null,null,null,null,null,null,null,null,null,null,null,null,null,null,null,null,null,null,null,null,null,null,null,6409.4403762212278,158.52677653007859]
[null,null,null,null,null,null,null,null,null,null,null,null,null,null,null,null,null,null,null,null,null,null,null,null,null,null,6409.4403762212278,0]
[null,null,null,null,null,null,null,null,null,null,null,null,null,null,null,null,null,null,null,null,null,null,null,"District heating network rehabilitation (100,000 flats supplied)",-153.13048866378534,403.78864094800014,6409.4403762212278,153.13048866378534]
[null,null,null,null,null,null,null,null,null,null,null,null,null,null,null,null,null,null,null,null,null,null,null,null,null,null,6813.2290171692275,153.13048866378534]
[null,null,null,null,null,null,null,null,null,null,null,null,null,null,null,null,null,null,null,null,null,null,null,null,null,null,6813.2290171692275,0]
[null,null,null,null,null,null,null,null,null,null,null,null,null,null,null,null,null,null,null,null,null,null,null,"Biogas at rural farms using kerosene",-151.66258761517668,14.731516800000001,6813.2290171692275,151.66258761517668]
[null,null,null,null,null,null,null,null,null,null,null,null,null,null,null,null,null,null,null,null,null,null,null,null,null,null,6827.9605339692271,151.66258761517668]
[null,null,null,null,null,null,null,null,null,null,null,null,null,null,null,null,null,null,null,null,null,null,null,null,null,null,6827.9605339692271,0]
[null,null,null,null,null,null,null,null,null,null,null,null,null,null,null,null,null,null,null,null,null,null,null,"District cooling network (1 million m2 new city area covered)",-148.45274742045021,164.70747758451114,6827.9605339692271,148.45274742045021]
[null,null,null,null,null,null,null,null,null,null,null,null,null,null,null,null,null,null,null,null,null,null,null,null,null,null,6992.6680115537383,148.45274742045021]
[null,null,null,null,null,null,null,null,null,null,null,null,null,null,null,null,null,null,null,null,null,null,null,null,null,null,6992.6680115537383,0]
[null,null,null,null,null,null,null,null,null,null,null,null,null,null,null,null,null,null,null,null,null,null,null,"New bicycle lanes",-144.86078223795022,8.2389925418926833,6992.6680115537383,144.86078223795022]
[null,null,null,null,null,null,null,null,null,null,null,null,null,null,null,null,null,null,null,null,null,null,null,null,null,null,7000.9070040956312,144.86078223795022]
[null,null,null,null,null,null,null,null,null,null,null,null,null,null,null,null,null,null,null,null,null,null,null,null,null,null,7000.9070040956312,0]
[null,null,null,null,null,null,null,null,null,null,null,null,null,null,null,null,null,null,null,null,null,null,null,"PV pump replacing diesel pump",-139.91618112414818,0.15239945447999997,7000.9070040956312,139.91618112414818]
[null,null,null,null,null,null,null,null,null,null,null,null,null,null,null,null,null,null,null,null,null,null,null,null,null,null,7001.0594035501108,139.91618112414818]
[null,null,null,null,null,null,null,null,null,null,null,null,null,null,null,null,null,null,null,null,null,null,null,null,null,null,7001.0594035501108,0]
[null,null,null,null,null,null,null,null,null,null,null,null,null,null,null,null,null,null,null,null,null,null,null,"Solar LED lamps",-121.383843865316,1.1268980800000004,7001.0594035501108,121.383843865316]
[null,null,null,null,null,null,null,null,null,null,null,null,null,null,null,null,null,null,null,null,null,null,null,null,null,null,7002.1863016301104,121.383843865316,null,null,null,null,null,null,null,null,null,null,null,null,null,null,null,null,null,null,null,219700.22021664612,119.59206265586528]
[null,null,null,null,null,null,null,null,null,null,null,null,null,null,null,null,null,null,null,null,null,null,null,null,null,null,7002.1863016301104,0,null,null,null,null,null,null,null,null,null,null,null,null,null,null,null,null,null,null,null,219700.22021664612,0]
[null,null,null,null,null,null,null,null,null,null,null,null,null,null,null,null,null,null,null,null,null,null,null,"Switch from fuel oil to natural gas in industry",-120.57373854419971,25.520000000000014,7002.1863016301104,120.57373854419971,null,null,null,null,null,null,null,null,null,null,null,null,null,null,null,null,"Natural Gas cars",-111.59325736279338,778.08450104036592,219700.22021664612,111.59325736279338]
[null,null,null,null,null,null,null,null,null,null,null,null,null,null,null,null,null,null,null,null,null,null,null,null,null,null,7027.7063016301108,120.57373854419971,null,null,null,null,null,null,null,null,null,null,null,null,null,null,null,null,null,null,null,220478.30471768649,111.59325736279338]
[null,null,null,null,null,null,null,null,null,null,null,null,null,null,null,null,null,null,null,null,null,null,null,null,null,null,7027.7063016301108,0,null,null,null,null,null,null,null,null,null,null,null,null,null,null,null,null,null,null,null,220478.30471768649,0]
[null,null,null,null,null,null,null,null,null,null,null,null,null,null,null,null,null,null,null,null,null,null,null,"Natural Gas cars",-111.59325736279338,9.3370140124843903,7027.7063016301108,111.59325736279338,null,null,null,null,null,null,null,null,null,null,null,null,null,null,null,null,"Rice husk cogeneration plants",-87.684712341200111,9719.0247425999987,220478.30471768649,87.684712341200111]
[null,null,null,"BAU emission in 2025:",{"$f":"+'BAU projected GHG Balances'!G68","v":0},"ktCO2-eq.",null,null,null,null,null,null,null,null,null,null,null,null,null,null,null,null,null,null,null,null,7037.0433156425952,111.59325736279338,null,null,null,null,null,null,null,null,null,null,null,null,null,null,null,null,null,null,null,230197.32946028648,87.684712341200111]
[null,null,null,"Projected emission in 2025:",{"$f":"SUM('Mitigation options'!L154+'Mitigation options'!M154+'Mitigation options'!N154)","v":{"$error":"#DIV/0!"}},"ktCO2-eq.",null,null,null,null,null,null,null,null,null,null,null,null,null,null,null,null,null,null,null,null,7037.0433156425952,0,null,null,null,null,null,null,null,null,null,null,null,null,null,null,null,null,null,null,null,230197.32946028648,0]
[null,null,null,"Reduced total emission 2025",{"$f":"'Mitigation options'!O154","v":{"$error":"#DIV/0!"}},"ktCO2-eq.",null,null,null,null,null,null,null,null,null,null,null,null,null,null,null,null,null,"Biogas at pig farms",-101.31969688268438,1123.0734328358208,7037.0433156425952,101.31969688268438,null,null,null,null,null,null,null,null,null,null,null,null,null,null,null,null,"Efficient Chiller > 300 TR",-84.763806653834919,1.9607499999999998,230197.32946028648,84.763806653834919]
[null,null,null,"Yearly revenue 2025",null,null,null,null,null,null,null,null,null,null,null,null,null,null,null,null,null,null,null,null,null,null,8160.1167484784164,101.31969688268438,null,null,null,null,null,null,null,null,null,null,null,null,null,null,null,null,null,null,null,230199.29021028648,84.763806653834919]
[null,null,null,null,null,null,null,null,null,null,null,null,null,null,null,null,null,null,null,null,null,null,null,null,null,null,8160.1167484784164,0,null,null,null,null,null,null,null,null,null,null,null,null,null,null,null,null,null,null,null,230199.29021028648,0]
[null,null,null,null,null,null,null,null,null,null,null,null,null,null,null,null,null,null,null,null,null,null,null,"Efficient charcoal stoves",-62.010529216503421,3.5150030246194874,8160.1167484784164,62.010529216503421,null,null,null,null,null,null,null,null,null,null,null,null,null,null,null,null,"Parabolic through CSP, no storage",-82.928507575503957,728.25,230199.29021028648,82.928507575503957]
[null,null,null,"BAU emission in 2030:",{"$f":"+'BAU projected GHG Balances'!G138","v":0},"ktCO2-eq.",null,null,null,null,null,null,null,null,null,null,null,null,null,null,null,null,null,null,null,null,8163.631751503036,62.010529216503421,null,null,null,null,null,null,null,null,null,null,null,null,null,null,null,null,null,null,null,230927.54021028648,82.928507575503957]
[null,null,null,"BAU emission in 2035:",{"$f":"+'BAU projected GHG Balances'!G206","v":0},"ktCO2-eq.",null,null,null,null,null,null,null,null,null,null,null,null,null,null,null,null,null,null,null,null,8163.631751503036,0,null,null,null,null,null,null,null,null,null,null,null,null,null,null,null,null,null,null,null,230927.54021028648,0]
[null,null,null,null,null,null,null,null,null,null,null,null,null,null,null,null,null,null,null,null,null,null,null,"Tobacco curing",-20.801739200816428,6.743632896000002,8163.631751503036,20.801739200816428,null,null,null,null,null,null,null,null,null,null,null,null,null,null,null,null,"Efficient charcoal stoves",-62.010529216503436,292.91691871829062,230927.54021028648,62.010529216503436]
[null,null,null,"BAU emission in 2050:",{"$f":"+'BAU projected GHG Balances'!G413","v":0},"ktCO2-eq.",null,null,null,null,null,null,null,null,null,null,null,null,null,null,null,null,null,null,null,null,8170.3753843990362,20.801739200816428,null,null,null,null,null,null,null,null,null,null,null,null,null,null,null,null,null,null,null,231220.45712900476,62.010529216503436]
[null,null,null,null,null,null,null,null,null,null,null,null,null,null,null,null,null,null,null,null,null,null,null,null,null,null,8170.3753843990362,0,null,null,null,null,null,null,null,null,null,null,null,null,null,null,null,null,null,null,null,231220.45712900476,0]
[null,null,null,"BAU emission in 2040:",{"$f":"+'BAU projected GHG Balances'!G275","v":0},"ktCO2-eq.",null,null,null,null,null,null,null,null,null,null,null,null,null,null,null,null,null,"Efficient electric grids",-18.9719988576622,6,8170.3753843990362,18.9719988576622,null,null,null,null,null,null,null,null,null,null,null,null,null,null,null,null,"Landfill gas plant with power production",-42.465447468617491,124415.21400000001,231220.45712900476,42.465447468617491]
[null,null,null,"BAU emission in 2045:",{"$f":"+'BAU projected GHG Balances'!G344","v":0},"ktCO2-eq.",null,null,null,null,null,null,null,null,null,null,null,null,null,null,null,null,null,null,null,null,8176.3753843990362,18.9719988576622,null,null,null,null,null,null,null,null,null,null,null,null,null,null,null,null,null,null,null,355635.6711290048,42.465447468617491]
[null,null,null,null,null,null,null,null,null,null,null,null,null,null,null,null,null,null,null,null,null,null,null,null,null,null,8176.3753843990362,0,null,null,null,null,null,null,null,null,null,null,null,null,null,null,null,null,null,null,null,355635.6711290048,0]
[null,null,null,null,null,null,null,null,null,null,null,null,null,null,null,null,null,null,null,null,null,null,null,"Building materials",-18.895154748670947,6.2436000000000007,8176.3753843990362,18.895154748670947,null,null,null,null,null,null,null,null,null,null,null,null,null,null,null,null,"Efficient refrigerators",-37.237013908533328,1203.8235872235871,355635.6711290048,37.237013908533328]
[null,null,null,null,null,null,null,null,null,null,null,null,null,null,null,null,null,null,null,null,null,null,null,null,null,null,8182.618984399036,18.895154748670947,null,null,null,null,null,null,null,null,null,null,null,null,null,null,null,null,null,null,null,356839.49471622839,37.237013908533328]
[null,null,null,null,null,null,null,null,null,null,null,null,null,null,null,null,null,null,null,null,null,null,null,null,null,null,8182.618984399036,0,null,null,null,null,null,null,null,null,null,null,null,null,null,null,null,null,null,null,null,356839.49471622839,0]
[null,null,null,null,null,null,null,null,null,null,null,null,null,null,null,null,null,null,null,null,null,null,null,"Mini hydro power off grid",-16.968102990561739,38.783999999999992,8182.618984399036,16.968102990561739,null,null,null,null,null,null,null,null,null,null,null,null,null,null,null,null,"Connection of isolated grid to central grid ",-35.970464274025431,485.5,356839.49471622839,35.970464274025431]
[null,null,null,null,null,null,null,null,null,null,null,null,null,null,null,null,null,null,null,null,null,null,null,null,null,null,8221.4029843990356,16.968102990561739,null,null,null,null,null,null,null,null,null,null,null,null,null,null,null,null,null,null,null,357324.99471622839,35.970464274025431]
[null,null,null,null,null,null,null,null,null,null,null,null,null,null,null,null,null,null,null,null,null,null,null,null,null,null,8221.4029843990356,0,null,null,null,null,null,null,null,null,null,null,null,null,null,null,null,null,null,null,null,357324.99471622839,0]
[null,null,null,null,null,null,null,null,null,null,null,null,null,null,null,null,null,null,null,null,null,null,null,"REDD: Avoided deforestation",-10.383221831758128,44,8221.4029843990356,10.383221831758128,null,null,null,null,null,null,null,null,null,null,null,null,null,null,null,null,"Tobacco curing",-20.801739200816428,561.96940800000016,357324.99471622839,20.801739200816428]
[null,null,null,null,null,null,null,null,null,null,null,null,null,null,null,null,null,null,null,null,null,null,null,null,null,null,8265.4029843990356,10.383221831758128,null,null,null,null,null,null,null,null,null,null,null,null,null,null,null,null,null,null,null,357886.9641242284,20.801739200816428]
[null,null,null,null,null,null,null,null,null,null,null,null,null,null,null,null,null,null,null,null,null,null,null,null,null,null,8265.4029843990356,0,null,null,null,null,null,null,null,null,null,null,null,null,null,null,null,null,null,null,null,357886.9641242284,0]
[null,null,null,null,null,null,null,null,null,null,null,null,null,null,null,null,null,null,null,null,null,null,null,"Leak reduction in natural gas pipelines",-4.1827120419437902,241.24800000000005,8265.4029843990356,4.1827120419437902,null,null,null,null,null,null,null,null,null,null,null,null,null,null,null,null,"Building materials",-18.895154748670951,520.30000000000007,357886.9641242284,18.895154748670951]
[null,null,null,null,null,null,null,null,null,null,null,null,null,null,null,null,null,null,null,null,null,null,null,null,null,null,8506.6509843990352,4.1827120419437902,null,null,null,null,null,null,null,null,null,null,null,null,null,null,null,null,null,null,null,358407.26412422839,18.895154748670951]
[null,null,null,null,null,null,null,null,null,null,null,null,null,null,null,null,null,null,null,null,null,null,null,null,null,null,8506.6509843990352,0,null,null,null,null,null,null,null,null,null,null,null,null,null,null,null,null,null,null,null,358407.26412422839,0]
[null,null,null,null,null,null,null,null,null,null,null,null,null,null,null,null,null,null,null,null,null,null,null,"Assisted forest regeneration",-3.8615287804059149,44,8506.6509843990352,3.8615287804059149,null,null,null,null,null,null,null,null,null,null,null,null,null,null,null,null,"Biogas at big farms",-18.330162191216946,71321.278606965177,358407.26412422839,18.330162191216946]
[null,null,null,null,null,null,null,null,null,null,null,null,null,null,null,null,null,null,null,null,null,null,null,null,null,null,8550.6509843990352,3.8615287804059149,null,null,null,null,null,null,null,null,null,null,null,null,null,null,null,null,null,null,null,429728.54273119359,18.330162191216946]
[null,null,null,null,null,null,null,null,null,null,null,null,null,null,null,null,null,null,null,null,null,null,null,null,null,null,8550.6509843990352,0,null,null,null,null,null,null,null,null,null,null,null,null,null,null,null,null,null,null,null,429728.54273119359,0]
[null,null,null,null,null,null,null,null,null,null,null,null,null,null,null,null,null,null,null,null,null,null,null,"Reforestation with Silvopasture",-0.65934330145454623,44,8550.6509843990352,0.65934330145454623,null,null,null,null,null,null,null,null,null,null,null,null,null,null,null,null,"Mini hydro power off grid",-16.968102990561739,3231.9999999999995,429728.54273119359,16.968102990561739]
[null,null,null,null,null,null,null,null,null,null,null,null,null,null,null,null,null,null,null,null,null,null,null,null,null,null,8594.6509843990352,0.65934330145454623,null,null,null,null,null,null,null,null,null,null,null,null,null,null,null,null,null,null,null,432960.54273119359,16.968102990561739]
[null,null,null,null,null,null,null,null,null,null,null,null,null,null,null,null,null,null,null,null,null,null,null,null,null,null,8594.6509843990352,0,null,null,null,null,null,null,null,null,null,null,null,null,null,null,null,null,null,null,null,432960.54273119359,0]
[null,null,null,null,null,null,null,null,null,null,null,null,null,null,null,null,null,null,null,null,null,null,null,"Reforestation with agroforestry",-0.65934330145454623,44,8594.6509843990352,0.65934330145454623,null,null,null,null,null,null,null,null,null,null,null,null,null,null,null,null,"Assisted forest regeneration",-10.383221831758126,3666.666666666667,432960.54273119359,10.383221831758126]
[null,null,null,null,null,null,null,null,null,null,null,null,null,null,null,null,null,null,null,null,null,null,null,null,null,null,8638.6509843990352,0.65934330145454623,null,null,null,null,null,null,null,null,null,null,null,null,null,null,null,null,null,null,null,436627.20939786028,10.383221831758126]
[null,null,null,null,null,null,null,null,null,null,null,null,null,null,null,null,null,null,null,null,null,null,null,null,null,null,8638.6509843990352,0,null,null,null,null,null,null,null,null,null,null,null,null,null,null,null,null,null,null,null,436627.20939786028,0]
[null,null,null,null,null,null,null,null,null,null,null,null,null,null,null,null,null,null,null,null,null,null,null,"Power factor increase",-0.31966071281164182,1168.9795918367347,8638.6509843990352,0.31966071281164182,null,null,null,null,null,null,null,null,null,null,null,null,null,null,null,null,"REDD: Avoided deforestation",-10.383221831758126,3666.666666666667,436627.20939786028,10.383221831758126]
[null,null,null,null,null,null,null,null,null,null,null,null,null,null,null,null,null,null,null,null,null,null,null,null,null,null,9807.6305762357697,0.31966071281164182,null,null,null,null,null,null,null,null,null,null,null,null,null,null,null,null,null,null,null,440293.87606452696,10.383221831758126]
[null,null,null,null,null,null,null,null,null,null,null,null,null,null,null,null,null,null,null,null,null,null,null,null,null,null,9807.6305762357697,0,null,null,null,null,null,null,null,null,null,null,null,null,null,null,null,null,null,null,null,440293.87606452696,0]
[null,null,null,null,null,null,null,null,null,null,null,null,null,null,null,null,null,null,null,null,null,null,null,"Composting of Municipal Solid Waste",-4.1901585884351229E-2,66188.513664000013,9807.6305762357697,4.1901585884351229E-2,null,null,null,null,null,null,null,null,null,null,null,null,null,null,null,null,"Leak reduction in natural gas pipelines",-5.576949389258389,15078,440293.87606452696,5.576949389258389]
[null,null,null,null,null,null,null,null,null,null,null,null,null,null,null,null,null,null,null,null,null,null,null,null,null,null,75996.144240235779,4.1901585884351229E-2,null,null,null,null,null,null,null,null,null,null,null,null,null,null,null,null,null,null,null,455371.87606452696,5.576949389258389]
[null,null,null,null,null,null,null,null,null,null,null,null,null,null,null,null,null,null,null,null,null,null,null,null,null,null,75996.144240235779,0,null,null,null,null,null,null,null,null,null,null,null,null,null,null,null,null,null,null,null,455371.87606452696,0]
[null,null,null,null,null,null,null,null,null,null,null,null,null,null,null,null,null,null,null,null,null,null,null,"Fat supplementation in ruminants diets (%DM fat added) ",0,1.3323026788542993,75996.144240235779,0,null,null,null,null,null,null,null,null,null,null,null,null,null,null,null,null,"Reforestation with Silvopasture",-0.65934330145454612,3666.666666666667,455371.87606452696,0.65934330145454612]
[null,null,null,null,null,null,null,null,null,null,null,null,null,null,null,null,null,null,null,null,null,null,null,null,null,null,75997.476542914636,0,null,null,null,null,null,null,null,null,null,null,null,null,null,null,null,null,null,null,null,459038.54273119365,0.65934330145454612]
[null,null,null,null,null,null,null,null,null,null,null,null,null,null,null,null,null,null,null,null,null,null,null,null,null,null,75997.476542914636,0,null,null,null,null,null,null,null,null,null,null,null,null,null,null,null,null,null,null,null,459038.54273119365,0]
[null,null,null,null,null,null,null,null,null,null,null,null,null,null,null,null,null,null,null,null,null,null,null,"Reduced PFCs from aluminum production",5.7281745330088819E-2,1405.9472996754907,75997.476542914636,-5.7281745330088819E-2,null,null,null,null,null,null,null,null,null,null,null,null,null,null,null,null,"Reforestation with agroforestry",-0.65934330145454612,3666.666666666667,459038.54273119365,0.65934330145454612]
[null,null,null,null,null,null,null,null,null,null,null,null,null,null,null,null,null,null,null,null,null,null,null,null,null,null,77403.423842590128,-5.7281745330088819E-2,null,null,null,null,null,null,null,null,null,null,null,null,null,null,null,null,null,null,null,462705.20939786034,0.65934330145454612]
[null,null,null,null,null,null,null,null,null,null,null,null,null,null,null,null,null,null,null,null,null,null,null,null,null,null,77403.423842590128,0,null,null,null,null,null,null,null,null,null,null,null,null,null,null,null,null,null,null,null,462705.20939786034,0]
[null,null,null,null,null,null,null,null,null,null,null,null,null,null,null,null,null,null,null,null,null,null,null,"Biogas from Municipal Solid Waste",0.16541726454278388,194.98752000000002,77403.423842590128,-0.16541726454278388,null,null,null,null,null,null,null,null,null,null,null,null,null,null,null,null,"Solar water heater, residential",-0.34144921717643528,803.76005774999987,462705.20939786034,0.34144921717643528]
[null,null,null,null,null,null,null,null,null,null,null,null,null,null,null,null,null,null,null,null,null,null,null,null,null,null,77598.411362590123,-0.16541726454278388,null,null,null,null,null,null,null,null,null,null,null,null,null,null,null,null,null,null,null,463508.96945561032,0.34144921717643528]
[null,null,null,null,null,null,null,null,null,null,null,null,null,null,null,null,null,null,null,null,null,null,null,null,null,null,77598.411362590123,0,null,null,null,null,null,null,null,null,null,null,null,null,null,null,null,null,null,null,null,463508.96945561032,0]
[null,null,null,null,null,null,null,null,null,null,null,null,null,null,null,null,null,null,null,null,null,null,null,"Energy efficiency in service",0.94392925743255673,65.53477269503999,77598.411362590123,-0.94392925743255673,null,null,null,null,null,null,null,null,null,null,null,null,null,null,null,null,"Composting of Municipal Solid Waste",-5.5868781179134984E-2,4136782.1040000007,463508.96945561032,5.5868781179134984E-2]
[null,null,null,null,null,null,null,null,null,null,null,null,null,null,null,null,null,null,null,null,null,null,null,null,null,null,77663.946135285165,-0.94392925743255673,null,null,null,null,null,null,null,null,null,null,null,null,null,null,null,null,null,null,null,4600291.0734556112,5.5868781179134984E-2]
[null,null,null,null,null,null,null,null,null,null,null,null,null,null,null,null,null,null,null,null,null,null,null,null,null,null,77663.946135285165,0,null,null,null,null,null,null,null,null,null,null,null,null,null,null,null,null,null,null,null,4600291.0734556112,0]
[null,null,null,null,null,null,null,null,null,null,null,null,null,null,null,null,null,null,null,null,null,null,null,"Energy efficiency in industry",0.94392925743255696,1044.1746777369601,77663.946135285165,-0.94392925743255696,null,null,null,null,null,null,null,null,null,null,null,null,null,null,null,null,"Reduced PFCs from aluminum production",3.3976066396616787E-2,111888.38499874179,4600291.0734556112,-3.3976066396616787E-2]
[null,null,null,null,null,null,null,null,null,null,null,null,null,null,null,null,null,null,null,null,null,null,null,null,null,null,78708.12081302212,-0.94392925743255696,null,null,null,null,null,null,null,null,null,null,null,null,null,null,null,null,null,null,null,4712179.4584543528,-3.3976066396616787E-2]
[null,null,null,null,null,null,null,null,null,null,null,null,null,null,null,null,null,null,null,null,null,null,null,null,null,null,78708.12081302212,0,null,null,null,null,null,null,null,null,null,null,null,null,null,null,null,null,null,null,null,4712179.4584543528,0]
[null,null,null,null,null,null,null,null,null,null,null,null,null,null,null,null,null,null,null,null,null,null,null,"Charcoal production",1.4484402961056229,1876.8576576576581,78708.12081302212,-1.4484402961056229,null,null,null,null,null,null,null,null,null,null,null,null,null,null,null,null,"Biogas from Municipal Solid Waste",0.22055635272371182,12186.720000000001,4712179.4584543528,-0.22055635272371182]
[null,null,null,null,null,null,null,null,null,null,null,null,null,null,null,null,null,null,null,null,null,null,null,null,null,null,80584.97847067978,-1.4484402961056229,null,null,null,null,null,null,null,null,null,null,null,null,null,null,null,null,null,null,null,4724366.1784543525,-0.22055635272371182]
[null,null,null,null,null,null,null,null,null,null,null,null,null,null,null,null,null,null,null,null,null,null,null,null,null,null,80584.97847067978,0,null,null,null,null,null,null,null,null,null,null,null,null,null,null,null,null,null,null,null,4724366.1784543525,0]
[null,null,null,null,null,null,null,null,null,null,null,null,null,null,null,null,null,null,null,null,null,null,null,"Nitric acid plant (N2O destruction)",1.7020874378673529,708.02700000000004,80584.97847067978,-1.7020874378673529,null,null,null,null,null,null,null,null,null,null,null,null,null,null,null,null,"Energy efficiency in industry",0.94392925743255685,31660549.512331139,4724366.1784543525,-0.94392925743255685]
[null,null,null,null,null,null,null,null,null,null,null,null,null,null,null,null,null,null,null,null,null,null,null,null,null,null,81293.005470679782,-1.7020874378673529,null,null,null,null,null,null,null,null,null,null,null,null,null,null,null,null,null,null,null,36384915.69078549,-0.94392925743255685]
[null,null,null,null,null,null,null,null,null,null,null,null,null,null,null,null,null,null,null,null,null,null,null,null,null,null,81293.005470679782,0,null,null,null,null,null,null,null,null,null,null,null,null,null,null,null,null,null,null,null,36384915.69078549,0]
[null,null,null,null,null,null,null,null,null,null,null,null,null,null,null,null,null,null,null,null,null,null,null,"Biogas at rural farms using non-renewable fuelwood",2.2857011214985121,135.28944000000001,81293.005470679782,-2.2857011214985121,null,null,null,null,null,null,null,null,null,null,null,null,null,null,null,null,"Coal mine methane",0.99999999999999978,37352.840000000011,36384915.69078549,-0.99999999999999978]
[null,null,null,null,null,null,null,null,null,null,null,null,null,null,null,null,null,null,null,null,null,null,null,null,null,null,81428.294910679775,-2.2857011214985121,null,null,null,null,null,null,null,null,null,null,null,null,null,null,null,null,null,null,null,36422268.530785494,-0.99999999999999978]
[null,null,null,null,null,null,null,null,null,null,null,null,null,null,null,null,null,null,null,null,null,null,null,null,null,null,81428.294910679775,0,null,null,null,null,null,null,null,null,null,null,null,null,null,null,null,null,null,null,null,36422268.530785494,0]
[null,null,null,null,null,null,null,null,null,null,null,null,null,null,null,null,null,null,null,null,null,null,null,"Reduced flaring at oil field",9.6651004761555761,271.36199890799998,81428.294910679775,-9.6651004761555761,null,null,null,null,null,null,null,null,null,null,null,null,null,null,null,null,"Landfill gas flaring",1.1213562774871837,124415.21400000001,36422268.530785494,-1.1213562774871837]
[null,null,null,null,null,null,null,null,null,null,null,null,null,null,null,null,null,null,null,null,null,null,null,null,null,null,81699.656909587779,-9.6651004761555761,null,null,null,null,null,null,null,null,null,null,null,null,null,null,null,null,null,null,null,36546683.744785495,-1.1213562774871837]
[null,null,null,null,null,null,null,null,null,null,null,null,null,null,null,null,null,null,null,null,null,null,null,null,null,null,81699.656909587779,0,null,null,null,null,null,null,null,null,null,null,null,null,null,null,null,null,null,null,null,36546683.744785495,0]
[null,null,null,null,null,null,null,null,null,null,null,null,null,null,null,null,null,null,null,null,null,null,null,"Reforestation",15.446115121623659,44,81699.656909587779,-15.446115121623659,null,null,null,null,null,null,null,null,null,null,null,null,null,null,null,null,"Power factor increase",1.3185780506574281,94589.93197278888,36546683.744785495,-1.3185780506574281]
[null,null,null,null,null,null,null,null,null,null,null,null,null,null,null,null,null,null,null,null,null,null,null,null,null,null,81743.656909587779,-15.446115121623659,null,null,null,null,null,null,null,null,null,null,null,null,null,null,null,null,null,null,null,36641273.676758282,-1.3185780506574281]
[null,null,null,null,null,null,null,null,null,null,null,null,null,null,null,null,null,null,null,null,null,null,null,null,null,null,81743.656909587779,0,null,null,null,null,null,null,null,null,null,null,null,null,null,null,null,null,null,null,null,36641273.676758282,0]
[null,null,null,null,null,null,null,null,null,null,null,null,null,null,null,null,null,null,null,null,null,null,null,"Geothermal heat",22.348277110443988,0.20467542857142865,81743.656909587779,-22.348277110443988,null,null,null,null,null,null,null,null,null,null,null,null,null,null,null,null,"Nitric acid plant (N2O destruction)",1.4550102291446729,69021.5,36641273.676758282,-1.4550102291446729]
[null,null,null,null,null,null,null,null,null,null,null,null,null,null,null,null,null,null,null,null,null,null,null,null,null,null,81743.861585016348,-22.348277110443988,null,null,null,null,null,null,null,null,null,null,null,null,null,null,null,null,null,null,null,36710295.176758282,-1.4550102291446729]
[null,null,null,null,null,null,null,null,null,null,null,null,null,null,null,null,null,null,null,null,null,null,null,null,null,null,81743.861585016348,0,null,null,null,null,null,null,null,null,null,null,null,null,null,null,null,null,null,null,null,36710295.176758282,0]
[null,null,null,null,null,null,null,null,null,null,null,null,null,null,null,null,null,null,null,null,null,null,null,"Rice crop CH4 reduction",29.244260442319103,41.059200000000004,81743.861585016348,-29.244260442319103,null,null,null,null,null,null,null,null,null,null,null,null,null,null,null,null,"Charcoal production",1.606633349107647,141004.80480480485,36710295.176758282,-1.606633349107647]
[null,null,null,null,null,null,null,null,null,null,null,null,null,null,null,null,null,null,null,null,null,null,null,null,null,null,81784.920785016351,-29.244260442319103,null,null,null,null,null,null,null,null,null,null,null,null,null,null,null,null,null,null,null,36851299.981563084,-1.606633349107647]
[null,null,null,null,null,null,null,null,null,null,null,null,null,null,null,null,null,null,null,null,null,null,null,null,null,null,81784.920785016351,0,null,null,null,null,null,null,null,null,null,null,null,null,null,null,null,null,null,null,null,36851299.981563084,0]
[null,null,null,null,null,null,null,null,null,null,null,null,null,null,null,null,null,null,null,null,null,null,null,"Switch from coal to natural gas in industry",31.126536151778442,46.2,81784.920785016351,-31.126536151778442,null,null,null,null,null,null,null,null,null,null,null,null,null,null,null,null,"Energy efficiency in service",1.7000877973990387,5415601.9872594653,36851299.981563084,-1.7000877973990387]
[null,null,null,null,null,null,null,null,null,null,null,null,null,null,null,null,null,null,null,null,null,null,null,null,null,null,81831.120785016348,-31.126536151778442,null,null,null,null,null,null,null,null,null,null,null,null,null,null,null,null,null,null,null,42266901.968822546,-1.7000877973990387]
[null,null,null,null,null,null,null,null,null,null,null,null,null,null,null,null,null,null,null,null,null,null,null,null,null,null,81831.120785016348,0,null,null,null,null,null,null,null,null,null,null,null,null,null,null,null,null,null,null,null,42266901.968822546,0]
[null,null,null,null,null,null,null,null,null,null,null,null,null,null,null,null,null,null,null,null,null,null,null,"Clinker replacement",43.265705535497666,1999.8658314424297,81831.120785016348,-43.265705535497666,null,null,null,null,null,null,null,null,null,null,null,null,null,null,null,null,"Biogas at rural farms using non-renewable fuelwood",2.2857011214985121,11274.12,42266901.968822546,-2.2857011214985121]
[null,null,null,null,null,null,null,null,null,null,null,null,null,null,null,null,null,null,null,null,null,null,null,null,null,null,83830.986616458773,-43.265705535497666,null,null,null,null,null,null,null,null,null,null,null,null,null,null,null,null,null,null,null,42278176.088822544,-2.2857011214985121]
[null,null,null,null,null,null,null,null,null,null,null,null,null,null,null,null,null,null,null,null,null,null,null,null,null,null,83830.986616458773,0,null,null,null,null,null,null,null,null,null,null,null,null,null,null,null,null,null,null,null,42278176.088822544,0]
[null,null,null,null,null,null,null,null,null,null,null,null,null,null,null,null,null,null,null,null,null,null,null,"Single cycle to combined cycle",53.446484721546028,936,83830.986616458773,-53.446484721546028,null,null,null,null,null,null,null,null,null,null,null,null,null,null,null,null,"Clinker replacement",7.5525712632273017,166583.56193028874,42278176.088822544,-7.5525712632273017]
[null,null,null,null,null,null,null,null,null,null,null,null,null,null,null,null,null,null,null,null,null,null,null,null,null,null,84766.986616458773,-53.446484721546028,null,null,null,null,null,null,null,null,null,null,null,null,null,null,null,null,null,null,null,42444759.650752835,-7.5525712632273017]
[null,null,null,null,null,null,null,null,null,null,null,null,null,null,null,null,null,null,null,null,null,null,null,null,null,null,84766.986616458773,0,null,null,null,null,null,null,null,null,null,null,null,null,null,null,null,null,null,null,null,42444759.650752835,0]
[null,null,null,null,null,null,null,null,null,null,null,null,null,null,null,null,null,null,null,null,null,null,null,"Nitrification inhibitors (1000 ha)",67.689873417721515,9.48,84766.986616458773,-67.689873417721515,null,null,null,null,null,null,null,null,null,null,null,null,null,null,null,null,"Reduced flaring at oil field",9.6651004761555779,22613.499908999998,42444759.650752835,-9.6651004761555779]
[null,null,null,null,null,null,null,null,null,null,null,null,null,null,null,null,null,null,null,null,null,null,null,null,null,null,84776.466616458769,-67.689873417721515,null,null,null,null,null,null,null,null,null,null,null,null,null,null,null,null,null,null,null,42467373.150661834,-9.6651004761555779]
[null,null,null,null,null,null,null,null,null,null,null,null,null,null,null,null,null,null,null,null,null,null,null,null,null,null,84776.466616458769,0,null,null,null,null,null,null,null,null,null,null,null,null,null,null,null,null,null,null,null,42467373.150661834,0]
[null,null,null,null,null,null,null,null,null,null,null,null,null,null,null,null,null,null,null,null,null,null,null,"LPG stoves replacing wood stoves",74.167143724329421,24.659327000000005,84776.466616458769,-74.167143724329421,null,null,null,null,null,null,null,null,null,null,null,null,null,null,null,null,"Incineration plant",13.881925777057219,139951.21400000001,42467373.150661834,-13.881925777057219]
[null,null,null,null,null,null,null,null,null,null,null,null,null,null,null,null,null,null,null,null,null,null,null,null,null,null,84801.12594345877,-74.167143724329421,null,null,null,null,null,null,null,null,null,null,null,null,null,null,null,null,null,null,null,42607324.364661835,-13.881925777057219]
[null,null,null,null,null,null,null,null,null,null,null,null,null,null,null,null,null,null,null,null,null,null,null,null,null,null,84801.12594345877,0,null,null,null,null,null,null,null,null,null,null,null,null,null,null,null,null,null,null,null,42607324.364661835,0]
[null,null,null,null,null,null,null,null,null,null,null,null,null,null,null,null,null,null,null,null,null,null,null,"Cover crops",81.040268456375841,17.88,84801.12594345877,-81.040268456375841,null,null,null,null,null,null,null,null,null,null,null,null,null,null,null,null,"Reforestation",15.446115121623658,3666.666666666667,42607324.364661835,-15.446115121623658]
[null,null,null,null,null,null,null,null,null,null,null,null,null,null,null,null,null,null,null,null,null,null,null,null,null,null,84819.005943458775,-81.040268456375841,null,null,null,null,null,null,null,null,null,null,null,null,null,null,null,null,null,null,null,42610991.031328499,-15.446115121623658]
[null,null,null,null,null,null,null,null,null,null,null,null,null,null,null,null,null,null,null,null,null,null,null,null,null,null,84819.005943458775,0,null,null,null,null,null,null,null,null,null,null,null,null,null,null,null,null,null,null,null,42610991.031328499,0]
[null,null,null,null,null,null,null,null,null,null,null,null,null,null,null,null,null,null,null,null,null,null,null,"Bus Rapid Transit (BRT)",89.462218818813071,23.801539591836729,84819.005943458775,-89.462218818813071,null,null,null,null,null,null,null,null,null,null,null,null,null,null,null,null,"New high efficiency coal power plant",21.485823944685848,1117.0367999999989,42610991.031328499,-21.485823944685848]
[null,null,null,null,null,null,null,null,null,null,null,null,null,null,null,null,null,null,null,null,null,null,null,null,null,null,84842.807483050608,-89.462218818813071,null,null,null,null,null,null,null,null,null,null,null,null,null,null,null,null,null,null,null,42612108.068128496,-21.485823944685848]
[null,null,null,null,null,null,null,null,null,null,null,null,null,null,null,null,null,null,null,null,null,null,null,null,null,null,84842.807483050608,0,null,null,null,null,null,null,null,null,null,null,null,null,null,null,null,null,null,null,null,42612108.068128496,0]
[null,null,null,null,null,null,null,null,null,null,null,null,null,null,null,null,null,null,null,null,null,null,null,"Solar/diesel mini-grid",95.253250088916062,0.70080000000000009,84842.807483050608,-95.253250088916062,null,null,null,null,null,null,null,null,null,null,null,null,null,null,null,null,"Geothermal heat",22.348277110443988,17.056285714285721,42612108.068128496,-22.348277110443988]
[null,null,null,null,null,null,null,null,null,null,null,null,null,null,null,null,null,null,null,null,null,null,null,null,null,null,84843.508283050614,-95.253250088916062,null,null,null,null,null,null,null,null,null,null,null,null,null,null,null,null,null,null,null,42612125.124414213,-22.348277110443988]
[null,null,null,null,null,null,null,null,null,null,null,null,null,null,null,null,null,null,null,null,null,null,null,null,null,null,84843.508283050614,0,null,null,null,null,null,null,null,null,null,null,null,null,null,null,null,null,null,null,null,42612125.124414213,0]
[null,null,null,null,null,null,null,null,null,null,null,null,null,null,null,null,null,null,null,null,null,null,null,"CCS plant",203.81680118581841,64.948453608247419,84843.508283050614,-203.81680118581841,null,null,null,null,null,null,null,null,null,null,null,null,null,null,null,null,"Switch from coal to natural gas in industry",31.126536151778442,3850,42612125.124414213,-31.126536151778442]
[null,null,null,null,null,null,null,null,null,null,null,null,null,null,null,null,null,null,null,null,null,null,null,null,null,null,84908.45673665886,-203.81680118581841,null,null,null,null,null,null,null,null,null,null,null,null,null,null,null,null,null,null,null,42615975.124414213,-31.126536151778442]
[null,null,null,null,null,null,null,null,null,null,null,null,null,null,null,null,null,null,null,null,null,null,null,null,null,null,84908.45673665886,0,null,null,null,null,null,null,null,null,null,null,null,null,null,null,null,null,null,null,null,42615975.124414213,0]
[null,null,null,null,null,null,null,null,null,null,null,null,null,null,null,null,null,null,null,null,null,null,null,"Reduced flaring at oil refineries",217.25613544900492,249.56661599999998,84908.45673665886,-217.25613544900492,null,null,null,null,null,null,null,null,null,null,null,null,null,null,null,null,"Rice crop CH4 reduction",38.992347256425461,2566.2000000000007,42615975.124414213,-38.992347256425461]
[null,null,null,null,null,null,null,null,null,null,null,null,null,null,null,null,null,null,null,null,null,null,null,null,null,null,85158.023352658856,-217.25613544900492,null,null,null,null,null,null,null,null,null,null,null,null,null,null,null,null,null,null,null,42618541.324414216,-38.992347256425461]
[null,null,null,null,null,null,null,null,null,null,null,null,null,null,null,null,null,null,null,null,null,null,null,null,null,null,85158.023352658856,0,null,null,null,null,null,null,null,null,null,null,null,null,null,null,null,null,null,null,null,42618541.324414216,0]
[null,null,null,null,null,null,null,null,null,null,null,null,null,null,null,null,null,null,null,null,null,null,null,"20% Biodiesel blend in all  diesel",369.38011072512063,-3111.8190648764344,85158.023352658856,-369.38011072512063,null,null,null,null,null,null,null,null,null,null,null,null,null,null,null,null,"Single cycle to combined cycle",55.042723709110234,75738,42618541.324414216,-55.042723709110234]
[null,null,null,null,null,null,null,null,null,null,null,null,null,null,null,null,null,null,null,null,null,null,null,null,null,null,82046.204287782428,-369.38011072512063,null,null,null,null,null,null,null,null,null,null,null,null,null,null,null,null,null,null,null,42694279.324414216,-55.042723709110234]
[null,null,null,null,null,null,null,null,null,null,null,null,null,null,null,null,null,null,null,null,null,null,null,null,null,null,82046.204287782428,0,null,null,null,null,null,null,null,null,null,null,null,null,null,null,null,null,null,null,null,42694279.324414216,0]
[null,null,null,null,null,null,null,null,null,null,null,null,null,null,null,null,null,null,null,null,null,null,null,"Landfill gas flaring",661.2929828194965,1990.6434240000001,82046.204287782428,-661.2929828194965,null,null,null,null,null,null,null,null,null,null,null,null,null,null,null,null,"Nitrification inhibitors (1000 ha)",67.689873417721515,790,42694279.324414216,-67.689873417721515]
[null,null,null,null,null,null,null,null,null,null,null,null,null,null,null,null,null,null,null,null,null,null,null,null,null,null,84036.847711782422,-661.2929828194965,null,null,null,null,null,null,null,null,null,null,null,null,null,null,null,null,null,null,null,42695069.324414216,-67.689873417721515]
[null,null,null,null,null,null,null,null,null,null,null,null,null,null,null,null,null,null,null,null,null,null,null,null,null,null,84036.847711782422,0,null,null,null,null,null,null,null,null,null,null,null,null,null,null,null,null,null,null,null,42695069.324414216,0]
[null,null,null,null,null,null,null,null,null,null,null,null,null,null,null,null,null,null,null,null,null,null,null,"Covering slurry stores (1 slurry store)",937.83334071789056,2.4156E-3,84036.847711782422,-937.83334071789056,null,null,null,null,null,null,null,null,null,null,null,null,null,null,null,null,"LPG stoves replacing wood stoves",74.167143724329421,2054.9439166666671,42695069.324414216,-74.167143724329421]
[null,null,null,null,null,null,null,null,null,null,null,null,null,null,null,null,null,null,null,null,null,null,null,null,null,null,84036.850127382422,-937.83334071789056,null,null,null,null,null,null,null,null,null,null,null,null,null,null,null,null,null,null,null,42697124.26833088,-74.167143724329421]
[null,null,null,null,null,null,null,null,null,null,null,null,null,null,null,null,null,null,null,null,null,null,null,null,null,null,84036.850127382422,0,null,null,null,null,null,null,null,null,null,null,null,null,null,null,null,null,null,null,null,42697124.26833088,0]
[null,null,null,null,null,null,null,null,null,null,null,null,null,null,null,null,null,null,null,null,null,null,null,"Electric two-wheelers",1321.8142262333415,2.344176,84036.850127382422,-1321.8142262333415,null,null,null,null,null,null,null,null,null,null,null,null,null,null,null,null,"Electric light trucks",78.038787214954013,5371.9407999999985,42697124.26833088,-78.038787214954013]
[null,null,null,null,null,null,null,null,null,null,null,null,null,null,null,null,null,null,null,null,null,null,null,null,null,null,84039.194303382421,-1321.8142262333415,null,null,null,null,null,null,null,null,null,null,null,null,null,null,null,null,null,null,null,42702496.209130883,-78.038787214954013]
[null,null,null,null,null,null,null,null,null,null,null,null,null,null,null,null,null,null,null,null,null,null,null,null,null,null,84039.194303382421,0,null,null,null,null,null,null,null,null,null,null,null,null,null,null,null,null,null,null,null,42702496.209130883,0]
[null,null,null,null,null,null,null,null,null,null,null,null,null,null,null,null,null,null,null,null,null,null,null,"Electric three-wheelers",1344.4050640252697,3.44520539080272,84039.194303382421,-1344.4050640252697,null,null,null,null,null,null,null,null,null,null,null,null,null,null,null,null,"Fat supplementation in ruminants diets (%DM fat added) ",80.499999999999986,5026.8753477073615,42702496.209130883,-80.499999999999986]
[null,null,null,null,null,null,null,null,null,null,null,null,null,null,null,null,null,null,null,null,null,null,null,null,null,null,84042.639508773223,-1344.4050640252697,null,null,null,null,null,null,null,null,null,null,null,null,null,null,null,null,null,null,null,42707523.084478587,-80.499999999999986]
[null,null,null,null,null,null,null,null,null,null,null,null,null,null,null,null,null,null,null,null,null,null,null,null,null,null,84042.639508773223,0,null,null,null,null,null,null,null,null,null,null,null,null,null,null,null,null,null,null,null,42707523.084478587,0]
[null,null,null,null,null,null,null,null,null,null,null,null,null,null,null,null,null,null,null,null,null,null,null,"Electric light trucks",2470.9086940053608,71.837290897297279,84042.639508773223,-2470.9086940053608,null,null,null,null,null,null,null,null,null,null,null,null,null,null,null,null,"Cover crops",81.040268456375827,1490,42707523.084478587,-81.040268456375827]
[null,null,null,null,null,null,null,null,null,null,null,null,null,null,null,null,null,null,null,null,null,null,null,null,null,null,84114.47679967052,-2470.9086940053608,null,null,null,null,null,null,null,null,null,null,null,null,null,null,null,null,null,null,null,42709013.084478587,-81.040268456375827]
[null,null,null,null,null,null,null,null,null,null,null,null,null,null,null,null,null,null,null,null,null,null,null,null,null,null,84114.47679967052,0,null,null,null,null,null,null,null,null,null,null,null,null,null,null,null,null,null,null,null,42709013.084478587,0]
[null,null,null,null,null,null,null,null,null,null,null,null,null,null,null,null,null,null,null,null,null,null,null,"Electric 18m buses",3122.6365867186105,428.5380414995642,84114.47679967052,-3122.6365867186105,null,null,null,null,null,null,null,null,null,null,null,null,null,null,null,null,"Wave",89.45495995717566,1488.5429999999999,42709013.084478587,-89.45495995717566]
[null,null,null,null,null,null,null,null,null,null,null,null,null,null,null,null,null,null,null,null,null,null,null,null,null,null,84543.014841170079,-3122.6365867186105,null,null,null,null,null,null,null,null,null,null,null,null,null,null,null,null,null,null,null,42710501.627478585,-89.45495995717566]
[null,null,null,null,null,null,null,null,null,null,null,null,null,null,null,null,null,null,null,null,null,null,null,null,null,null,84543.014841170079,0,null,null,null,null,null,null,null,null,null,null,null,null,null,null,null,null,null,null,null,42710501.627478585,0]
[null,null,null,null,null,null,null,null,null,null,null,null,null,null,null,null,null,null,null,null,null,null,null,"Electric 12m buses",3945.7511037151294,155.36070972141363,84543.014841170079,-3945.7511037151294,null,null,null,null,null,null,null,null,null,null,null,null,null,null,null,null,"Bus Rapid Transit (BRT)",89.462218818813071,1983.4616326530609,42710501.627478585,-89.462218818813071]
[null,null,null,null,null,null,null,null,null,null,null,null,null,null,null,null,null,null,null,null,null,null,null,null,null,null,84698.375550891491,-3945.7511037151294,null,null,null,null,null,null,null,null,null,null,null,null,null,null,null,null,null,null,null,42712485.089111239,-89.462218818813071]
[null,null,null,null,null,null,null,null,null,null,null,null,null,null,null,null,null,null,null,null,null,null,null,null,null,null,84698.375550891491,0,null,null,null,null,null,null,null,null,null,null,null,null,null,null,null,null,null,null,null,42712485.089111239,0]
[null,null,null,null,null,null,null,null,null,null,null,null,null,null,null,null,null,null,null,null,null,null,null,"Electric cars",4407.1306891854319,11.204063999999995,84698.375550891491,-4407.1306891854319,null,null,null,null,null,null,null,null,null,null,null,null,null,null,null,null,"Solar/diesel mini-grid",95.253250088916062,58.400000000000006,42712485.089111239,-95.253250088916062]
[null,null,null,null,null,null,null,null,null,null,null,null,null,null,null,null,null,null,null,null,null,null,null,null,null,null,84709.579614891496,-4407.1306891854319,null,null,null,null,null,null,null,null,null,null,null,null,null,null,null,null,null,null,null,42712543.489111237,-95.253250088916062]
[null,null,null,null,null,null,null,null,null,null,null,null,null,null,null,null,null,null,null,null,null,null,null,null,null,null,84709.579614891496,0,null,null,null,null,null,null,null,null,null,null,null,null,null,null,null,null,null,null,null,42712543.489111237,0]
[null,null,null,null,null,null,null,null,null,null,null,null,null,null,null,null,null,null,null,null,null,null,null,"Electric rail ",5712.9148289137893,38.24254576992,84709.579614891496,-5712.9148289137893,null,null,null,null,null,null,null,null,null,null,null,null,null,null,null,null,"Efficient electric grids",145.23995998181027,485.5,42712543.489111237,-145.23995998181027]
[null,null,null,null,null,null,null,null,null,null,null,null,null,null,null,null,null,null,null,null,null,null,null,null,null,null,84747.82216066141,-5712.9148289137893,null,null,null,null,null,null,null,null,null,null,null,null,null,null,null,null,null,null,null,42713028.989111237,-145.23995998181027]
[null,null,null,null,null,null,null,null,null,null,null,null,null,null,null,null,null,null,null,null,null,null,null,null,null,null,84747.82216066141,0,null,null,null,null,null,null,null,null,null,null,null,null,null,null,null,null,null,null,null,42713028.989111237,0]
[null,null,null,null,null,null,null,null,null,null,null,null,null,null,null,null,null,null,null,null,null,null,null,"Electric heavy trucks",9016.8250786298249,119.08395067227009,84747.82216066141,-9016.8250786298249,null,null,null,null,null,null,null,null,null,null,null,null,null,null,null,null,"Electric three-wheelers",153.37359162501531,293.28103313378676,42713028.989111237,-153.37359162501531]
[null,null,null,null,null,null,null,null,null,null,null,null,null,null,null,null,null,null,null,null,null,null,null,null,null,null,84866.906111333679,-9016.8250786298249,null,null,null,null,null,null,null,null,null,null,null,null,null,null,null,null,null,null,null,42713322.270144373,-153.37359162501531]
[null,null,null,null,null,null,null,null,null,null,null,null,null,null,null,null,null,null,null,null,null,null,null,null,null,null,84866.906111333679,0,null,null,null,null,null,null,null,null,null,null,null,null,null,null,null,null,null,null,null,42713322.270144373,0]
[null,null,null,null,null,null,null,null,null,null,null,null,null,null,null,null,null,null,null,null,null,null,null,"Efficient hotel washing machine ",38522.863256162316,7.3331585714285692E-4,84866.906111333679,-38522.863256162316,null,null,null,null,null,null,null,null,null,null,null,null,null,null,null,null,"CCS plant",203.81680118581838,5412.3711340206182,42713322.270144373,-203.81680118581838]
[null,null,null,null,null,null,null,null,null,null,null,null,null,null,null,null,null,null,null,null,null,null,null,null,null,null,84866.906844649537,-38522.863256162316,null,null,null,null,null,null,null,null,null,null,null,null,null,null,null,null,null,null,null,42718734.641278394,-203.81680118581838]
[null,null,null,null,null,null,null,null,null,null,null,null,null,null,null,null,null,null,null,null,null,null,null,null,null,null,84866.906844649537,0,null,null,null,null,null,null,null,null,null,null,null,null,null,null,null,null,null,null,null,42718734.641278394,0]
[null,null,null,null,null,null,null,null,null,null,null,null,null,null,null,null,null,null,null,null,null,null,null,"Shifting passengers from car to rail",1961841.4656683798,425.49363999999997,84866.906844649537,-1961841.4656683798,null,null,null,null,null,null,null,null,null,null,null,null,null,null,null,null,"Reduced flaring at oil refineries",217.25613544900489,20797.217999999997,42718734.641278394,-217.25613544900489]
[null,null,null,null,null,null,null,null,null,null,null,null,null,null,null,null,null,null,null,null,null,null,null,null,null,null,85292.400484649537,-1961841.4656683798,null,null,null,null,null,null,null,null,null,null,null,null,null,null,null,null,null,null,null,42739531.859278396,-217.25613544900489]
[null,null,null,null,null,null,null,null,null,null,null,null,null,null,null,null,null,null,null,null,null,null,null,null,null,null,85292.400484649537,0,null,null,null,null,null,null,null,null,null,null,null,null,null,null,null,null,null,null,null,42739531.859278396,0]
[null,null,null,null,null,null,null,null,null,null,null,null,null,null,null,null,null,null,null,null,null,null,null,null,null,null,null,null,null,null,null,null,null,null,null,null,null,null,null,null,null,null,null,null,"Solar PVs, small isolated grid, 100% solar",221.43917442170141,2628,42739531.859278396,-221.43917442170141]
[null,null,null,null,null,null,null,null,null,null,null,null,null,null,null,null,null,null,null,null,null,null,null,null,null,null,null,null,null,null,null,null,null,null,null,null,null,null,null,null,null,null,null,null,null,null,null,42742159.859278396,-221.43917442170141]
[null,null,null,null,null,null,null,null,null,null,null,null,null,null,null,null,null,null,null,null,null,null,null,null,null,null,null,null,null,null,null,null,null,null,null,null,null,null,null,null,null,null,null,null,null,null,null,42742159.859278396,0]
[null,null,null,null,null,null,null,null,null,null,null,null,null,null,null,null,null,null,null,null,null,null,null,null,null,null,null,null,null,null,null,null,null,null,null,null,null,null,null,null,null,null,null,null,"Electric 18m buses",279.27835137020094,40207.481999999989,42742159.859278396,-279.27835137020094]
[null,null,null,null,null,null,null,null,null,null,null,null,null,null,null,null,null,null,null,null,null,null,null,null,null,null,null,null,null,null,null,null,null,null,null,null,null,null,null,null,null,null,null,null,null,null,null,42782367.341278397,-279.27835137020094]
[null,null,null,null,null,null,null,null,null,null,null,null,null,null,null,null,null,null,null,null,null,null,null,null,null,null,null,null,null,null,null,null,null,null,null,null,null,null,null,null,null,null,null,null,null,null,null,42782367.341278397,0]
[null,null,null,null,null,null,null,null,null,null,null,null,null,null,null,null,null,null,null,null,null,null,null,null,null,null,null,null,null,null,null,null,null,null,null,null,null,null,null,null,null,null,null,null,"Solar tower CSP, with storage",297.92602638692546,728.25,42782367.341278397,-297.92602638692546]
[null,null,null,null,null,null,null,null,null,null,null,null,null,null,null,null,null,null,null,null,null,null,null,null,null,null,null,null,null,null,null,null,null,null,null,null,null,null,null,null,null,null,null,null,null,null,null,42783095.591278397,-297.92602638692546]
[null,null,null,null,null,null,null,null,null,null,null,null,null,null,null,null,null,null,null,null,null,null,null,null,null,null,null,null,null,null,null,null,null,null,null,null,null,null,null,null,null,null,null,null,null,null,null,42783095.591278397,0]
[null,null,null,null,null,null,null,null,null,null,null,null,null,null,null,null,null,null,null,null,null,null,null,null,null,null,null,null,null,null,null,null,null,null,null,null,null,null,null,null,null,null,null,null,"20% Biodiesel blend in all  diesel",369.38011072512057,45888130.863037772,42783095.591278397,-369.38011072512057]
[null,null,null,null,null,null,null,null,null,null,null,null,null,null,null,null,null,null,null,null,null,null,null,null,null,null,null,null,null,null,null,null,null,null,null,null,null,null,null,null,null,null,null,null,null,null,null,88671226.454316169,-369.38011072512057]
[null,null,null,null,null,null,null,null,null,null,null,null,null,null,null,null,null,null,null,null,null,null,null,null,null,null,null,null,null,null,null,null,null,null,null,null,null,null,null,null,null,null,null,null,null,null,null,88671226.454316169,0]
[null,null,null,null,null,null,null,null,null,null,null,null,null,null,null,null,null,null,null,null,null,null,null,null,null,null,null,null,null,null,null,null,null,null,null,null,null,null,null,null,null,null,null,null,"15% Bioethanol blend in all gasoline",446.77542613264535,3794090.8270706842,88671226.454316169,-446.77542613264535]
[null,null,null,null,null,null,null,null,null,null,null,null,null,null,null,null,null,null,null,null,null,null,null,null,null,null,null,null,null,null,null,null,null,null,null,null,null,null,null,null,null,null,null,null,null,null,null,92465317.281386852,-446.77542613264535]
[null,null,null,null,null,null,null,null,null,null,null,null,null,null,null,null,null,null,null,null,null,null,null,null,null,null,null,null,null,null,null,null,null,null,null,null,null,null,null,null,null,null,null,null,null,null,null,92465317.281386852,0]
[null,null,null,null,null,null,null,null,null,null,null,null,null,null,null,null,null,null,null,null,null,null,null,null,null,null,null,null,null,null,null,null,null,null,null,null,null,null,null,null,null,null,null,null,"Induction based cooking",504.9017483828855,11.296760336495453,92465317.281386852,-504.9017483828855]
[null,null,null,null,null,null,null,null,null,null,null,null,null,null,null,null,null,null,null,null,null,null,null,null,null,null,null,null,null,null,null,null,null,null,null,null,null,null,null,null,null,null,null,null,null,null,null,92465328.578147188,-504.9017483828855]
[null,null,null,null,null,null,null,null,null,null,null,null,null,null,null,null,null,null,null,null,null,null,null,null,null,null,null,null,null,null,null,null,null,null,null,null,null,null,null,null,null,null,null,null,null,null,null,92465328.578147188,0]
[null,null,null,null,null,null,null,null,null,null,null,null,null,null,null,null,null,null,null,null,null,null,null,null,null,null,null,null,null,null,null,null,null,null,null,null,null,null,null,null,null,null,null,null,"Electric 12m buses",779.1339605762397,13245.669333333331,92465328.578147188,-779.1339605762397]
[null,null,null,null,null,null,null,null,null,null,null,null,null,null,null,null,null,null,null,null,null,null,null,null,null,null,null,null,null,null,null,null,null,null,null,null,null,null,null,null,null,null,null,null,null,null,null,92478574.247480527,-779.1339605762397]
[null,null,null,null,null,null,null,null,null,null,null,null,null,null,null,null,null,null,null,null,null,null,null,null,null,null,null,null,null,null,null,null,null,null,null,null,null,null,null,null,null,null,null,null,null,null,null,92478574.247480527,0]
[null,null,null,null,null,null,null,null,null,null,null,null,null,null,null,null,null,null,null,null,null,null,null,null,null,null,null,null,null,null,null,null,null,null,null,null,null,null,null,null,null,null,null,null,"Covering slurry stores (1 slurry store)",937.83334071789056,0.20130000000000001,92478574.247480527,-937.83334071789056]
[null,null,null,null,null,null,null,null,null,null,null,null,null,null,null,null,null,null,null,null,null,null,null,null,null,null,null,null,null,null,null,null,null,null,null,null,null,null,null,null,null,null,null,null,null,null,null,92478574.448780522,-937.83334071789056]
[null,null,null,null,null,null,null,null,null,null,null,null,null,null,null,null,null,null,null,null,null,null,null,null,null,null,null,null,null,null,null,null,null,null,null,null,null,null,null,null,null,null,null,null,null,null,null,92478574.448780522,0]
[null,null,null,null,null,null,null,null,null,null,null,null,null,null,null,null,null,null,null,null,null,null,null,null,null,null,null,null,null,null,null,null,null,null,null,null,null,null,null,null,null,null,null,null,"Efficient hotel refrigerator",947.95283605306656,0.39719112500930687,92478574.448780522,-947.95283605306656]
[null,null,null,null,null,null,null,null,null,null,null,null,null,null,null,null,null,null,null,null,null,null,null,null,null,null,null,null,null,null,null,null,null,null,null,null,null,null,null,null,null,null,null,null,null,null,null,92478574.845971644,-947.95283605306656]
[null,null,null,null,null,null,null,null,null,null,null,null,null,null,null,null,null,null,null,null,null,null,null,null,null,null,null,null,null,null,null,null,null,null,null,null,null,null,null,null,null,null,null,null,null,null,null,92478574.845971644,0]
[null,null,null,null,null,null,null,null,null,null,null,null,null,null,null,null,null,null,null,null,null,null,null,null,null,null,null,null,null,null,null,null,null,null,null,null,null,null,null,null,null,null,null,null,"Electric two-wheelers",1009.0526685157763,196.43549999999999,92478574.845971644,-1009.0526685157763]
[null,null,null,null,null,null,null,null,null,null,null,null,null,null,null,null,null,null,null,null,null,null,null,null,null,null,null,null,null,null,null,null,null,null,null,null,null,null,null,null,null,null,null,null,null,null,null,92478771.28147164,-1009.0526685157763]
[null,null,null,null,null,null,null,null,null,null,null,null,null,null,null,null,null,null,null,null,null,null,null,null,null,null,null,null,null,null,null,null,null,null,null,null,null,null,null,null,null,null,null,null,null,null,null,92478771.28147164,0]
[null,null,null,null,null,null,null,null,null,null,null,null,null,null,null,null,null,null,null,null,null,null,null,null,null,null,null,null,null,null,null,null,null,null,null,null,null,null,null,null,null,null,null,null,"Switch from fuel oil to diesel",1206.9604660846496,124.49193561101811,92478771.28147164,-1206.9604660846496]
[null,null,null,null,null,null,null,null,null,null,null,null,null,null,null,null,null,null,null,null,null,null,null,null,null,null,null,null,null,null,null,null,null,null,null,null,null,null,null,null,null,null,null,null,null,null,null,92478895.773407251,-1206.9604660846496]
[null,null,null,null,null,null,null,null,null,null,null,null,null,null,null,null,null,null,null,null,null,null,null,null,null,null,null,null,null,null,null,null,null,null,null,null,null,null,null,null,null,null,null,null,null,null,null,92478895.773407251,0]
[null,null,null,null,null,null,null,null,null,null,null,null,null,null,null,null,null,null,null,null,null,null,null,null,null,null,null,null,null,null,null,null,null,null,null,null,null,null,null,null,null,null,null,null,"Tidal",1275.8939999999998,141.67129437048385,92478895.773407251,-1275.8939999999998]
[null,null,null,null,null,null,null,null,null,null,null,null,null,null,null,null,null,null,null,null,null,null,null,null,null,null,null,null,null,null,null,null,null,null,null,null,null,null,null,null,null,null,null,null,null,null,null,92479037.444701627,-1275.8939999999998]
[null,null,null,null,null,null,null,null,null,null,null,null,null,null,null,null,null,null,null,null,null,null,null,null,null,null,null,null,null,null,null,null,null,null,null,null,null,null,null,null,null,null,null,null,null,null,null,92479037.444701627,0]
[null,null,null,null,null,null,null,null,null,null,null,null,null,null,null,null,null,null,null,null,null,null,null,null,null,null,null,null,null,null,null,null,null,null,null,null,null,null,null,null,null,null,null,null,"Electric rail ",3950.9277285358407,3281.8538141600002,92479037.444701627,-3950.9277285358407]
[null,null,null,null,null,null,null,null,null,null,null,null,null,null,null,null,null,null,null,null,null,null,null,null,null,null,null,null,null,null,null,null,null,null,null,null,null,null,null,null,null,null,null,null,null,null,null,92482319.298515782,-3950.9277285358407]
[null,null,null,null,null,null,null,null,null,null,null,null,null,null,null,null,null,null,null,null,null,null,null,null,null,null,null,null,null,null,null,null,null,null,null,null,null,null,null,null,null,null,null,null,null,null,null,92482319.298515782,0]
[null,null,null,null,null,null,null,null,null,null,null,null,null,null,null,null,null,null,null,null,null,null,null,null,null,null,null,null,null,null,null,null,null,null,null,null,null,null,null,null,null,null,null,null,"Electric heavy trucks",4935.6662456286886,8523.5557499999995,92482319.298515782,-4935.6662456286886]
[null,null,null,null,null,null,null,null,null,null,null,null,null,null,null,null,null,null,null,null,null,null,null,null,null,null,null,null,null,null,null,null,null,null,null,null,null,null,null,null,null,null,null,null,null,null,null,92490842.854265779,-4935.6662456286886]
[null,null,null,null,null,null,null,null,null,null,null,null,null,null,null,null,null,null,null,null,null,null,null,null,null,null,null,null,null,null,null,null,null,null,null,null,null,null,null,null,null,null,null,null,null,null,null,92490842.854265779,0]
[null,null,null,null,null,null,null,null,null,null,null,null,null,null,null,null,null,null,null,null,null,null,null,null,null,null,null,null,null,null,null,null,null,null,null,null,null,null,null,null,null,null,null,null,"Efficient hotel washing machine ",38248.887086086368,6.3784140573812431E-2,92490842.854265779,-38248.887086086368]
[null,null,null,null,null,null,null,null,null,null,null,null,null,null,null,null,null,null,null,null,null,null,null,null,null,null,null,null,null,null,null,null,null,null,null,null,null,null,null,null,null,null,null,null,null,null,null,92490842.918049917,-38248.887086086368]
[null,null,null,null,null,null,null,null,null,null,null,null,null,null,null,null,null,null,null,null,null,null,null,null,null,null,null,null,null,null,null,null,null,null,null,null,null,null,null,null,null,null,null,null,null,null,null,92490842.918049917,0]
[null,null,null,null,null,null,null,null,null,null,null,null,null,null,null,null,null,null,null,null,null,null,null,null,null,null,null,null,null,null,null,null,null,null,null,null,null,null,null,null,null,null,null,null,"Shifting passengers from car to rail",1961841.46566838,35457.80333333333,92490842.918049917,-1961841.46566838]
[null,null,null,null,null,null,null,null,null,null,null,null,null,null,null,null,null,null,null,null,null,null,null,null,null,null,null,null,null,null,null,null,null,null,null,null,null,null,null,null,null,null,null,null,null,null,null,92526300.721383244,-1961841.46566838]
[null,null,null,null,null,null,null,null,null,null,null,null,null,null,null,null,null,null,null,null,null,null,null,null,null,null,null,null,null,null,null,null,null,null,null,null,null,null,null,null,null,null,null,null,null,null,null,92526300.721383244,0]

{"sheet":"Results BTR","index":17,"n_rows":96,"n_cols":10,"rows_kept":96,"cut":false,"hidden":true,"merged":[[70,2,70,9],[71,4,71,9],[2,2,8,12],[10,2,13,12],[17,4,17,9],[16,2,16,9],[44,4,44,9],[43,2,43,9]]}
["Step 9 - Results in BTR format"]
[]
[null,null,"Use this sheet if you plan to utilize GACMO results for the Biennial Transparency Report (BTR).\n\nThe Common Tabular Formats (CTFs) are integral to the BTRs under the Paris Agreement. The tables below correspond to the CTF Table 9  “Information on projections of greenhouse gas emissions and removals under a ‘without measures’ scenario” and CTF Table 7 “Information on projections of greenhouse gas emissions and removals under a ‘with measures’ scenario”. Therefore, you can directly incorporate the data from these tables into CTF Tables 7 and 9.\n\nAdditionally, CTF Table 8, “Information on projections of greenhouse gas emissions and removals under a ‘with additional measures’ scenario” is provided below. (The GACMO tool can generate one Business-As-Usual scenario and one mitigation scenario within a single GACMO file. If needed, a second mitigation scenario can be added by creating an additional GACMO file. Copy the results for the third “with additional measures” scenario into the third table below.) "]
[]
[]
[]
[]
[]
[]
[]
[null,null,"Please note that scenario definitiion for the purposes of the BTR should be the following: \nA ‘with measures’ scenario encompasses currently implemented and adopted policies and measures. \nIf provided, a ‘with additional measures’ scenario encompasses implemented, adopted and planned policies and measures. \nIf provided, a ‘without measures’ projection excludes all policies and measures implemented, adopted and planned after the year chosen as the starting points for the projection."]
[]
[]
[]
[]
[]
[null,null,"Information on projections of greenhouse gas emissions and removals under without measures scenario"]
[null,null,null,"Most recent year in the Party’s national inventory report (kt CO2 eq)","Projections of GHG emissions and removals, (kt CO2 eq)"]
[null,null,null,{"$f":"Results!$D$42","v":0},{"$f":"Results!E$42","v":2025},{"$f":"Results!F$42","v":2030},{"$f":"Results!G$42","v":2035},{"$f":"Results!H$42","v":2040},{"$f":"Results!I$42","v":2045},{"$f":"Results!J$42","v":2050}]
[null,null,"Sector"]
[null,null,"Energy*",{"$f":"Results!D$45-D22","v":0},{"$f":"Results!E$45-E22","v":0},{"$f":"Results!F$45-F22","v":0},{"$f":"Results!G$45-G22","v":0},{"$f":"Results!H$45-H22","v":0},{"$f":"Results!I$45-I22","v":0},{"$f":"Results!J$45-J22","v":0}]
[null,null,"Transport",{"$f":"Results!D$49","v":0},{"$f":"Results!E$49","v":0},{"$f":"Results!F$49","v":0},{"$f":"Results!G$49","v":0},{"$f":"Results!H$49","v":0},{"$f":"Results!I$49","v":0},{"$f":"Results!J$49","v":0}]
[null,null,"Industrial processes and product use",{"$f":"Results!D$54","v":0},{"$f":"Results!E$54","v":0},{"$f":"Results!F$54","v":0},{"$f":"Results!G$54","v":0},{"$f":"Results!H$54","v":0},{"$f":"Results!I$54","v":0},{"$f":"Results!J$54","v":0}]
[null,null,"Agriculture",{"$f":"Results!D$55","v":0},{"$f":"Results!E$55","v":0},{"$f":"Results!F$55","v":0},{"$f":"Results!G$55","v":0},{"$f":"Results!H$55","v":0},{"$f":"Results!I$55","v":0},{"$f":"Results!J$55","v":0}]
[null,null,"LULUCF",{"$f":"Results!D$56","v":0},{"$f":"Results!E$56","v":0},{"$f":"Results!F$56","v":0},{"$f":"Results!G$56","v":0},{"$f":"Results!H$56","v":0},{"$f":"Results!I$56","v":0},{"$f":"Results!J$56","v":0}]
[null,null,"Waste ",{"$f":"Results!D$57","v":0},{"$f":"Results!E$57","v":0},{"$f":"Results!F$57","v":0},{"$f":"Results!G$57","v":0},{"$f":"Results!H$57","v":0},{"$f":"Results!I$57","v":0},{"$f":"Results!J$57","v":0}]
[null,null,"Other (specify)"]
[null,null,"Gas"]
[null,null,"CO2 emissions including net CO2 from LULUCF",{"$f":"Results!D$100","v":0},{"$f":"Results!E$100","v":0},{"$f":"Results!F$100","v":0},{"$f":"Results!G$100","v":0},{"$f":"Results!H$100","v":0},{"$f":"Results!I$100","v":0},{"$f":"Results!J$100","v":0}]
[null,null,"CO2 emissions excluding net CO2 from LULUCF",{"$f":"Results!D$107","v":0},{"$f":"Results!E$107","v":0},{"$f":"Results!F$107","v":0},{"$f":"Results!G$107","v":0},{"$f":"Results!H$107","v":0},{"$f":"Results!I$107","v":0},{"$f":"Results!J$107","v":0}]
[null,null,"CH4 emissions including CH4 from LULUCF",{"$f":"Results!D$101","v":0},{"$f":"Results!E$101","v":0},{"$f":"Results!F$101","v":0},{"$f":"Results!G$101","v":0},{"$f":"Results!H$101","v":0},{"$f":"Results!I$101","v":0},{"$f":"Results!J$101","v":0}]
[null,null,"CH4 emissions excluding CH4 from LULUCF",{"$f":"Results!D$108","v":0},{"$f":"Results!E$108","v":0},{"$f":"Results!F$108","v":0},{"$f":"Results!G$108","v":0},{"$f":"Results!H$108","v":0},{"$f":"Results!I$108","v":0},{"$f":"Results!J$108","v":0}]
[null,null,"N2O emissions including N2O from LULUCF",{"$f":"Results!D$102","v":0},{"$f":"Results!E$102","v":0},{"$f":"Results!F$102","v":0},{"$f":"Results!G$102","v":0},{"$f":"Results!H$102","v":0},{"$f":"Results!I$102","v":0},{"$f":"Results!J$102","v":0}]
[null,null,"N2O emissions excluding N2O from LULUCF",{"$f":"Results!D$109","v":0},{"$f":"Results!E$109","v":0},{"$f":"Results!F$109","v":0},{"$f":"Results!G$109","v":0},{"$f":"Results!H$109","v":0},{"$f":"Results!I$109","v":0},{"$f":"Results!J$109","v":0}]
[null,null,"HFCs"]
[null,null,"PFCs"]
[null,null,"SF6"]
[null,null,"NF3"]
[null,null,"Other (specify)"]
[null,null,"Total with LULUCF",{"$f":"Results!D$43","v":0},{"$f":"Results!E$43","v":0},{"$f":"Results!F$43","v":0},{"$f":"Results!G$43","v":0},{"$f":"Results!H$43","v":0},{"$f":"Results!I$43","v":0},{"$f":"Results!J$43","v":0}]
[null,null,"Total without LULUCF",{"$f":"Results!D$44","v":0},{"$f":"Results!E$44","v":0},{"$f":"Results!F$44","v":0},{"$f":"Results!G$44","v":0},{"$f":"Results!H$44","v":0},{"$f":"Results!I$44","v":0},{"$f":"Results!J$44","v":0}]
[null,null,"*Energy excluding transport"]
[]
[null,null,"Information on projections of greenhouse gas emissions and removals under a ‘with measures’ scenario"]
[null,null,null,"Most recent year in the Party’s national inventory report (kt CO2 eq)","Projections of GHG emissions and removals, (kt CO2 eq)"]
[null,null,null,{"$f":"D19","v":0},{"$f":"E19","v":2025},2030,2035,2040,2045,2050]
[null,null,"Sector"]
[null,null,"Energy*",{"$f":"Results!D$64-D49","v":0},{"$f":"Results!E$64-E49","v":{"$error":"#DIV/0!"}},{"$f":"Results!F$64-F49","v":{"$error":"#DIV/0!"}},{"$f":"Results!G$64-G49","v":{"$error":"#DIV/0!"}},{"$f":"Results!H$64-H49","v":{"$error":"#DIV/0!"}},{"$f":"Results!I$64-I49","v":{"$error":"#DIV/0!"}},{"$f":"Results!J$64-J49","v":{"$error":"#DIV/0!"}}]
[null,null,"Transport",{"$f":"Results!D$68","v":0},{"$f":"Results!E$68","v":0},{"$f":"Results!F$68","v":0},{"$f":"Results!G$68","v":0},{"$f":"Results!H$68","v":0},{"$f":"Results!I$68","v":0},{"$f":"Results!J$68","v":0}]
[null,null,"Industrial processes and product use",{"$f":"Results!D$73","v":0},{"$f":"Results!E$73","v":0},{"$f":"Results!F$73","v":0},{"$f":"Results!G$73","v":0},{"$f":"Results!H$73","v":0},{"$f":"Results!I$73","v":0},{"$f":"Results!J$73","v":0}]
[null,null,"Agriculture",{"$f":"Results!D$74","v":0},{"$f":"Results!E$74","v":0},{"$f":"Results!F$74","v":0},{"$f":"Results!G$74","v":0},{"$f":"Results!H$74","v":0},{"$f":"Results!I$74","v":0},{"$f":"Results!J$74","v":0}]
[null,null,"LULUCF",{"$f":"Results!D$75","v":0},{"$f":"Results!E$75","v":0},{"$f":"Results!F$75","v":0},{"$f":"Results!G$75","v":0},{"$f":"Results!H$75","v":0},{"$f":"Results!I$75","v":0},{"$f":"Results!J$75","v":0}]
[null,null,"Waste ",{"$f":"Results!D$76","v":0},{"$f":"Results!E$76","v":0},{"$f":"Results!F$76","v":0},{"$f":"Results!G$76","v":0},{"$f":"Results!H$76","v":0},{"$f":"Results!I$76","v":0},{"$f":"Results!J$76","v":0}]
[null,null,"Other (specify)"]
[null,null,"Gas"]
[null,null,"CO2 emissions including net CO2 from LULUCF",{"$f":"Results!D$103","v":0},{"$f":"Results!E$103","v":{"$error":"#DIV/0!"}},{"$f":"Results!F$103","v":{"$error":"#DIV/0!"}},{"$f":"Results!G$103","v":{"$error":"#DIV/0!"}},{"$f":"Results!H$103","v":{"$error":"#DIV/0!"}},{"$f":"Results!I$103","v":{"$error":"#DIV/0!"}},{"$f":"Results!J$103","v":{"$error":"#DIV/0!"}}]
[null,null,"CO2 emissions excluding net CO2 from LULUCF",{"$f":"Results!D$110","v":0},{"$f":"Results!E$110","v":{"$error":"#DIV/0!"}},{"$f":"Results!F$110","v":{"$error":"#DIV/0!"}},{"$f":"Results!G$110","v":{"$error":"#DIV/0!"}},{"$f":"Results!H$110","v":{"$error":"#DIV/0!"}},{"$f":"Results!I$110","v":{"$error":"#DIV/0!"}},{"$f":"Results!J$110","v":{"$error":"#DIV/0!"}}]
[null,null,"CH4 emissions including CH4 from LULUCF",{"$f":"Results!D$104","v":0},{"$f":"Results!E$104","v":0},{"$f":"Results!F$104","v":0},{"$f":"Results!G$104","v":0},{"$f":"Results!H$104","v":0},{"$f":"Results!I$104","v":0},{"$f":"Results!J$104","v":0}]
[null,null,"CH4 emissions excluding CH4 from LULUCF",{"$f":"Results!D$111","v":0},{"$f":"Results!E$111","v":0},{"$f":"Results!F$111","v":0},{"$f":"Results!G$111","v":0},{"$f":"Results!H$111","v":0},{"$f":"Results!I$111","v":0},{"$f":"Results!J$111","v":0}]
[null,null,"N2O emissions including N2O from LULUCF",{"$f":"Results!D$105","v":0},{"$f":"Results!E$105","v":0},{"$f":"Results!F$105","v":0},{"$f":"Results!G$105","v":0},{"$f":"Results!H$105","v":0},{"$f":"Results!I$105","v":0},{"$f":"Results!J$105","v":0}]
[null,null,"N2O emissions excluding N2O from LULUCF",{"$f":"Results!D$112","v":0},{"$f":"Results!E$112","v":0},{"$f":"Results!F$112","v":0},{"$f":"Results!G$112","v":0},{"$f":"Results!H$112","v":0},{"$f":"Results!I$112","v":0},{"$f":"Results!J$112","v":0}]
[null,null,"HFCs"]
[null,null,"PFCs"]
[null,null,"SF6"]
[null,null,"NF3"]
[null,null,"Other (specify)"]
[null,null,"Total with LULUCF",{"$f":"Results!D$62","v":0},{"$f":"Results!E$62","v":{"$error":"#DIV/0!"}},{"$f":"Results!F$62","v":{"$error":"#DIV/0!"}},{"$f":"Results!G$62","v":{"$error":"#DIV/0!"}},{"$f":"Results!H$62","v":{"$error":"#DIV/0!"}},{"$f":"Results!I$62","v":{"$error":"#DIV/0!"}},{"$f":"Results!J$62","v":{"$error":"#DIV/0!"}}]
[null,null,"Total without LULUCF",{"$f":"Results!D$63","v":0},{"$f":"Results!E$63","v":{"$error":"#DIV/0!"}},{"$f":"Results!F$63","v":{"$error":"#DIV/0!"}},{"$f":"Results!G$63","v":{"$error":"#DIV/0!"}},{"$f":"Results!H$63","v":{"$error":"#DIV/0!"}},{"$f":"Results!I$63","v":{"$error":"#DIV/0!"}},{"$f":"Results!J$63","v":{"$error":"#DIV/0!"}}]
[null,null,"*Energy excluding transport"]
[]
[null,null," Information on projections of greenhouse gas emissions and removals under a ‘with additional measures’ scenario"]
[null,null,null,"Most recent year in the Party’s national inventory report (kt CO2 eq)","Projections of GHG emissions and removals, (kt CO2 eq)"]
[null,null,null,{"$f":"D46","v":0},{"$f":"E46","v":2025},2030,2035,2040,2045,2050]
[null,null,"Sector"]
[null,null,"Energy*"]
[null,null,"Transport"]
[null,null,"Industrial processes and product use"]
[null,null,"Agriculture"]
[null,null,"LULUCF"]
[null,null,"Waste "]
[null,null,"Other (specify)"]
[null,null,"Gas"]
[null,null,"CO2 emissions including net CO2 from LULUCF"]
[null,null,"CO2 emissions excluding net CO2 from LULUCF"]
[null,null,"CH4 emissions including CH4 from LULUCF"]
[null,null,"CH4 emissions excluding CH4 from LULUCF"]
[null,null,"N2O emissions including N2O from LULUCF"]
[null,null,"N2O emissions excluding N2O from LULUCF"]
[null,null,"HFCs"]
[null,null,"PFCs"]
[null,null,"SF6"]
[null,null,"NF3"]
[null,null,"Other (specify)"]
[null,null,"Total with LULUCF"]
[null,null,"Total without LULUCF"]
[null,null,"*Energy excluding transport"]

{"sheet":"Tracking progress","index":18,"n_rows":141,"n_cols":67,"rows_kept":141,"cut":false,"hidden":true,"merged":[[8,1,9,1],[17,28,17,29],[16,1,17,1],[16,2,17,2],[16,3,17,3],[15,27,16,27],[15,28,16,28],[15,29,16,29],[3,3,12,17],[16,8,17,8],[15,10,15,26],[16,26,17,26],[16,25,17,25]]}
[]
[null,"Step 10- Tracking progress",null,null,null,null,null,null,null,null,null,null,null,null,null,null,null,null,null,null,null,null,null,null,null,null,null,null,null,null,null,null,null,null,null,null,null,null,null,null,null,null,null,null,null,null,null,null,null,null,null,null,null,null,null,null,null,null,null,null,null,null,null,"Selected","Select sector/type of emission reduction here","Start row","End row"]
[null,null,null,null,null,null,null,null,null,null,null,null,null,null,null,null,null,null,null,null,null,null,null,null,null,null,null,null,null,null,null,null,null,null,null,null,null,null,null,null,null,null,null,null,null,null,null,null,null,null,null,null,null,null,null,null,null,null,null,null,null,null,1,1,"Agriculture",{"$f":"INDEX($A$19:$A$138,MATCH($BM3,$B$19:$B$138,0))","v":19},{"$f":"BN4-1","v":25}]
[null,null,null,"The Tracking progress sheet is used by the user to monitor the progress made in implementing each mitigation action. The Tracking progress sheet is thus used ex-post, that is, once the mitigation options are under implementation or have been implemented, to estimate and monitor the effective reductions of GHG emissions.\n\nThe sheet includes a table with a structure similar to the table found in the Mitigation Options sheet. The table includes the 119 mitigation options (Reduction options in column C) grouped by category or activity types (Type in column B). All 119 mitigation options are shown by default. If the user wants to see only the mitigation options for a specific group of category or activity types, the user can select the corresponding category/ies or activity/ies by clicking the button \"Select sector/type for Tracking input\" in the upper part of the sheet.\nPlease refer to the Guidance for further details on how to use the Tracking progress sheet.",null,null,null,null,null,null,null,null,null,null,null,null,null,null,null,null,null,null,null,null,null,null,null,null,null,null,null,null,null,null,null,null,null,null,null,null,null,null,null,null,null,null,null,null,null,null,null,null,null,null,null,null,null,null,null,null,null,null,1,1,"Biomass energy",26,{"$f":"BN5-1","v":28}]
[null,null,null,null,null,null,null,null,null,null,null,null,null,null,null,null,null,null,null,null,null,null,null,null,null,null,null,null,null,null,null,null,null,null,null,null,null,null,null,null,null,null,null,null,null,null,null,null,null,null,null,null,null,null,null,null,null,null,null,null,null,null,1,1,"CCS",29,{"$f":"BN6-1","v":29}]
[null,null,null,null,null,null,null,null,null,null,null,null,null,null,null,null,null,null,null,null,null,null,null,null,null,null,null,null,null,null,null,null,null,null,null,null,null,null,null,null,null,null,null,null,null,null,null,null,null,null,null,null,null,null,null,null,null,null,null,null,null,null,1,1,"Cement",30,30]
[null,null,null,null,null,null,null,null,null,null,null,null,null,null,null,null,null,null,null,null,null,null,null,null,null,null,null,null,null,null,null,null,null,null,null,null,null,null,null,null,null,null,null,null,null,null,null,null,null,null,null,null,null,null,null,null,null,null,null,null,null,null,1,1,"Coal bed/mine methane",31,31]
[null,null,null,null,null,null,null,null,null,null,null,null,null,null,null,null,null,null,null,null,null,null,null,null,null,null,null,null,null,null,null,null,null,null,null,null,null,null,null,null,null,null,null,null,null,null,null,null,null,null,null,null,null,null,null,null,null,null,null,null,null,null,1,1,"EE households",32,42]
[null,{"$f":"Assumptions!C9","v":0},null,null,null,null,null,null,null,null,null,null,null,null,null,null,null,null,null,null,null,null,null,null,null,null,null,null,null,null,null,null,null,null,null,null,null,null,null,null,null,null,null,null,null,null,null,null,null,null,null,null,null,null,null,null,null,null,null,null,null,null,1,1,"EE industry",43,45]
[null,null,null,null,null,null,null,null,null,null,null,null,null,null,null,null,null,null,null,null,null,null,null,null,null,null,null,null,null,null,null,null,null,null,null,null,null,null,null,null,null,null,null,null,null,null,null,null,null,null,null,null,null,null,null,null,null,null,null,null,null,null,1,1,"EE own generation",46,47]
[null,null,null,null,null,null,null,null,null,null,null,null,null,null,null,null,null,null,null,null,null,null,null,null,null,null,null,null,null,null,null,null,null,null,null,null,null,null,null,null,null,null,null,null,null,null,null,null,null,null,null,null,null,null,null,null,null,null,null,null,null,null,1,1,"EE service",48,{"$f":"BN12-1","v":61}]
[null,null,null,null,null,null,null,null,null,null,null,null,null,null,null,null,null,null,null,null,null,null,null,null,null,null,null,null,null,null,null,null,null,null,null,null,null,null,null,null,null,null,null,null,null,null,null,null,null,null,null,null,null,null,null,null,null,null,null,null,null,null,1,1,"EE supply side",{"$f":"INDEX($A$19:$A$138,MATCH($BM12,$B$19:$B$138,0))","v":62},65]
[null,null,null,null,null,null,null,null,null,null,null,null,null,null,null,null,null,null,null,null,null,null,null,null,null,null,null,null,null,null,null,null,null,null,null,null,null,null,null,null,null,null,null,null,null,null,null,null,null,null,null,null,null,null,null,null,null,null,null,null,null,null,1,1,"Energy distribution",66,70]
[null,null,null,null,null,null,null,null,null,null,null,null,null,null,null,null,null,null,null,null,null,null,null,null,null,null,null,null,null,null,null,null,null,null,null,null,null,null,null,null,null,null,null,null,null,null,null,null,null,null,null,null,null,null,null,null,null,null,null,null,null,null,1,1,"Forestry",71,75]
[null,null,null,null,null,null,null,null,null,null,null,null,null,null,null,null,null,null,null,null,null,null,null,null,null,null,null,null,null,null,null,null,null,null,null,null,null,null,null,null,null,null,null,null,null,null,null,null,null,null,null,null,null,null,null,null,null,null,null,null,null,null,1,1,"Fossil fuel switch",76,77]
[null,"In this sheet the country will follow the implementation of the GHG reduction options in the mitigation option sheet",null,null,null,null,null,null,null,null,"Implemented mitigation options/units",null,null,null,null,null,null,null,null,null,null,null,null,null,null,null,null,"Total Accumulated GHG reduction","Total external  finance","Total internal  finance",null,null,null,null,null,null,null,null,null,null,null,null,null,null,null,null,null,null,null,null,null,null,null,null,null,null,null,null,null,null,null,null,1,1,"Fugitive ",78,81]
[null,"Type","Reduction option","Sub-type unit",2025,2030,2035,2050,"Total planned\nby 2030",{"$f":"+Assumptions!C10","v":0},{"$f":"+J17+1","v":1},{"$f":"+K17+1","v":2},{"$f":"+L17+1","v":3},4,5,6,7,8,9,10,11,12,13,14,15,"Accumulated","Progression towards 2030",null,null,null,null,null,null,null,null,null,null,null,null,null,null,null,null,null,null,null,null,null,null,null,null,null,null,null,null,null,null,null,null,null,null,null,1,1,"Geothermal",82,83]
[null,null,null,null,"plan","plan","plan","plan",null,"Base year","Actual","Actual","Actual","Actual","Actual","Actual","Actual","Actual","Actual","Actual","Actual","Actual","Actual","Actual","Actual",null,null,"ktCO2e/yr","Million US$",null,"Comments",null,null,null,null,null,null,null,null,null,null,null,null,null,null,null,null,null,null,null,null,null,null,null,null,null,null,null,null,null,null,null,1,1,"HFCs, PFCs, SF6",84,84]
[{"$f":"ROW(B19)","v":19},"Agriculture","Rice crop CH4 reduction","Rice crop CH4 red.(1000 ha)",{"$f":"+'Mitigation options'!I18","v":0},{"$f":"+'Mitigation options'!I174","v":0},{"$f":"+'Mitigation options'!I330","v":0},{"$f":"+'Mitigation options'!I486","v":0},{"$f":"F19","v":0},null,null,null,null,null,null,null,null,null,null,null,null,null,null,null,null,{"$f":"SUM(J19:Y19)","v":0},{"$f":"IFERROR(IF(I19=0,\"\",Z19/I19),\"\")","v":""},{"$f":"Z19*'Mitigation options'!F174/1000","v":0},null,null,null,null,null,null,null,null,null,null,null,null,null,null,null,null,null,null,null,null,null,null,null,null,null,null,null,null,null,null,null,null,null,null,1,1,"Hydro",85,87]
[null,null,"Zero tillage","1000 ha",{"$f":"+'Mitigation options'!I19","v":0},{"$f":"+'Mitigation options'!I175","v":0},{"$f":"+'Mitigation options'!I331","v":0},{"$f":"+'Mitigation options'!I487","v":0},{"$f":"F20","v":0},null,null,null,null,null,null,null,null,null,null,null,null,null,null,null,null,{"$f":"SUM(J20:Y20)","v":0},{"$f":"IFERROR(IF(I20=0,\"\",Z20/I20),\"\")","v":""},{"$f":"Z20*'Mitigation options'!F175/1000","v":0},null,null,null,null,null,null,null,null,null,null,null,null,null,null,null,null,null,null,null,null,null,null,null,null,null,null,null,null,null,null,null,null,null,null,1,1,"Landfills",88,94]
[null,null,"Cover crops","1000 ha",{"$f":"+'Mitigation options'!I20","v":0},{"$f":"+'Mitigation options'!I176","v":0},{"$f":"+'Mitigation options'!I332","v":0},{"$f":"+'Mitigation options'!I488","v":0},0,null,null,null,null,null,null,null,null,null,null,null,null,null,null,null,null,0,"",{"$f":"Z21*'Mitigation options'!F176/1000","v":0},null,null,null,null,null,null,null,null,null,null,null,null,null,null,null,null,null,null,null,null,null,null,null,null,null,null,null,null,null,null,null,null,null,null,1,1,"Marine",95,96]
[null,null,"Nitrification inhibitors (1000 ha)","1000 ha",{"$f":"+'Mitigation options'!I21","v":0},{"$f":"+'Mitigation options'!I177","v":0},{"$f":"+'Mitigation options'!I333","v":0},{"$f":"+'Mitigation options'!I489","v":0},0,null,null,null,null,null,null,null,null,null,null,null,null,null,null,null,null,0,"",{"$f":"Z22*'Mitigation options'!F177/1000","v":0},null,null,null,null,null,null,null,null,null,null,null,null,null,null,null,null,null,null,null,null,null,null,null,null,null,null,null,null,null,null,null,null,null,null,1,1,"Methane avoidance",97,100]
[null,null,"Covering slurry stores (1 slurry store)","1 slurry store",{"$f":"+'Mitigation options'!I22","v":0},{"$f":"+'Mitigation options'!I178","v":0},{"$f":"+'Mitigation options'!I334","v":0},{"$f":"+'Mitigation options'!I490","v":0},0,null,null,null,null,null,null,null,null,null,null,null,null,null,null,null,null,0,"",{"$f":"Z23*'Mitigation options'!F178/1000","v":0},null,null,null,null,null,null,null,null,null,null,null,null,null,null,null,null,null,null,null,null,null,null,null,null,null,null,null,null,null,null,null,null,null,null,1,1,"N2O",101,101]
[null,null,"Fat supplementation in ruminants diets (%DM fat added) ","%DM fat added",{"$f":"+'Mitigation options'!I23","v":0},{"$f":"+'Mitigation options'!I179","v":0},{"$f":"+'Mitigation options'!I335","v":0},{"$f":"+'Mitigation options'!I491","v":0},0,null,null,null,null,null,null,null,null,null,null,null,null,null,null,null,null,0,"",{"$f":"Z24*'Mitigation options'!F179/1000","v":0},null,null,null,null,null,null,null,null,null,null,null,null,null,null,null,null,null,null,null,null,null,null,null,null,null,null,null,null,null,null,null,null,null,null,1,1,"Solar",102,115]
[null,null,"Tobacco curing","100 t tobacco/yr",{"$f":"+'Mitigation options'!I24","v":0},{"$f":"+'Mitigation options'!I180","v":0},{"$f":"+'Mitigation options'!I336","v":0},{"$f":"+'Mitigation options'!I492","v":0},0,null,null,null,null,null,null,null,null,null,null,null,null,null,null,null,null,0,"",{"$f":"Z25*'Mitigation options'!F180/1000","v":0},null,null,null,null,null,null,null,null,null,null,null,null,null,null,null,null,null,null,null,null,null,null,null,null,null,null,null,null,null,null,null,null,null,null,1,1,"Transport",116,134]
[{"$f":"ROW(B26)","v":26},"Biomass energy","Rice husk cogeneration plants","1 MW cogeneration",{"$f":"+'Mitigation options'!I25","v":0},{"$f":"+'Mitigation options'!I181","v":0},{"$f":"+'Mitigation options'!I337","v":0},{"$f":"+'Mitigation options'!I493","v":0},0,null,null,null,null,null,null,null,null,null,null,null,null,null,null,null,null,0,"",{"$f":"Z26*'Mitigation options'!F181/1000","v":0},null,null,null,null,null,null,null,null,null,null,null,null,null,null,null,null,null,null,null,null,null,null,null,null,null,null,null,null,null,null,null,null,null,null,1,1,"Wind",135,{"$f":"BN26+2","v":137}]
[null,null,"Biomass power from biomass residues ","1 MW CHP plant",{"$f":"+'Mitigation options'!I26","v":0},{"$f":"+'Mitigation options'!I182","v":0},{"$f":"+'Mitigation options'!I338","v":0},{"$f":"+'Mitigation options'!I494","v":0},0,null,null,null,null,null,null,null,null,null,null,null,null,null,null,null,null,0,"",{"$f":"Z27*'Mitigation options'!F182/1000","v":0}]
[null,null,"Bagasse power","100 kt sugar cane/year",{"$f":"+'Mitigation options'!I27","v":0},{"$f":"+'Mitigation options'!I183","v":0},{"$f":"+'Mitigation options'!I339","v":0},{"$f":"+'Mitigation options'!I495","v":0},0,null,null,null,null,null,null,null,null,null,null,null,null,null,null,null,null,0,"",{"$f":"Z28*'Mitigation options'!F183/1000","v":0}]
[{"$f":"ROW(B29)","v":29},"CCS","CCS plant","1 MW",{"$f":"+'Mitigation options'!I28","v":0},{"$f":"+'Mitigation options'!I184","v":0},{"$f":"+'Mitigation options'!I340","v":0},{"$f":"+'Mitigation options'!I496","v":0},0,null,null,null,null,null,null,null,null,null,null,null,null,null,null,null,null,0,"",{"$f":"Z29*'Mitigation options'!F184/1000","v":0}]
[{"$f":"ROW(B30)","v":30},"Cement","Clinker replacement","1000 tonnes cement/day",{"$f":"+'Mitigation options'!I29","v":0},{"$f":"+'Mitigation options'!I185","v":0},{"$f":"+'Mitigation options'!I341","v":0},{"$f":"+'Mitigation options'!I497","v":0},0,null,null,null,null,null,null,null,null,null,null,null,null,null,null,null,null,0,"",{"$f":"Z30*'Mitigation options'!F185/1000","v":0}]
[{"$f":"ROW(B31)","v":31},"Coal bed/mine methane","Coal mine methane","10 Mm3 CMM/year",{"$f":"+'Mitigation options'!I30","v":0},{"$f":"+'Mitigation options'!I186","v":0},{"$f":"+'Mitigation options'!I342","v":0},{"$f":"+'Mitigation options'!I498","v":0},0,null,null,null,null,null,null,null,null,null,null,null,null,null,null,null,null,0,"",{"$f":"Z31*'Mitigation options'!F186/1000","v":0}]
[{"$f":"ROW(B32)","v":32},"EE households","Efficient residential airconditioning","1000 Airconditioners",{"$f":"+'Mitigation options'!I31","v":0},{"$f":"+'Mitigation options'!I187","v":0},{"$f":"+'Mitigation options'!I343","v":0},{"$f":"+'Mitigation options'!I499","v":0},0,null,null,null,null,null,null,null,null,null,null,null,null,null,null,null,null,0,"",{"$f":"Z32*'Mitigation options'!F187/1000","v":{"$error":"#DIV/0!"}}]
[null,null,"Efficient lighting with CFLs","1000 Bulps",{"$f":"+'Mitigation options'!I32","v":0},{"$f":"+'Mitigation options'!I188","v":0},{"$f":"+'Mitigation options'!I344","v":0},{"$f":"+'Mitigation options'!I500","v":0},0,null,null,null,null,null,null,null,null,null,null,null,null,null,null,null,null,0,"",{"$f":"Z33*'Mitigation options'!F188/1000","v":{"$error":"#DIV/0!"}}]
[null,null,"Efficient lighting with LEDs","1000 Bulps",{"$f":"+'Mitigation options'!I33","v":0},{"$f":"+'Mitigation options'!I189","v":0},{"$f":"+'Mitigation options'!I345","v":0},{"$f":"+'Mitigation options'!I501","v":0},0,null,null,null,null,null,null,null,null,null,null,null,null,null,null,null,null,0,"",{"$f":"Z34*'Mitigation options'!F189/1000","v":{"$error":"#DIV/0!"}}]
[null,null,"Efficient lighting with LEDs replacing CFL","1000 Bulps",{"$f":"+'Mitigation options'!I34","v":0},{"$f":"+'Mitigation options'!I190","v":0},{"$f":"+'Mitigation options'!I346","v":0},{"$f":"+'Mitigation options'!I502","v":0},0,null,null,null,null,null,null,null,null,null,null,null,null,null,null,null,null,0,"",{"$f":"Z35*'Mitigation options'!F190/1000","v":{"$error":"#DIV/0!"}}]
[null,null,"Efficient wood stoves","1000 stoves",{"$f":"+'Mitigation options'!I35","v":0},{"$f":"+'Mitigation options'!I191","v":0},{"$f":"+'Mitigation options'!I347","v":0},{"$f":"+'Mitigation options'!I503","v":0},0,null,null,null,null,null,null,null,null,null,null,null,null,null,null,null,null,0,"",{"$f":"Z36*'Mitigation options'!F191/1000","v":0}]
[null,null,"Efficient charcoal stoves","1000 stoves",{"$f":"+'Mitigation options'!I36","v":0},{"$f":"+'Mitigation options'!I192","v":0},{"$f":"+'Mitigation options'!I348","v":0},{"$f":"+'Mitigation options'!I504","v":0},0,null,null,null,null,null,null,null,null,null,null,null,null,null,null,null,null,0,"",{"$f":"Z37*'Mitigation options'!F192/1000","v":0}]
[null,null,"LPG stoves replacing wood stoves","1000 stoves",{"$f":"+'Mitigation options'!I37","v":0},{"$f":"+'Mitigation options'!I193","v":0},{"$f":"+'Mitigation options'!I349","v":0},{"$f":"+'Mitigation options'!I505","v":0},0,null,null,null,null,null,null,null,null,null,null,null,null,null,null,null,null,0,"",{"$f":"Z38*'Mitigation options'!F193/1000","v":0}]
[null,null,"Efficient electric stoves","1000 stoves",{"$f":"+'Mitigation options'!I38","v":0},{"$f":"+'Mitigation options'!I194","v":0},{"$f":"+'Mitigation options'!I350","v":0},{"$f":"+'Mitigation options'!I506","v":0},0,null,null,null,null,null,null,null,null,null,null,null,null,null,null,null,null,0,"",{"$f":"Z39*'Mitigation options'!F194/1000","v":{"$error":"#DIV/0!"}}]
[null,null,"Induction based cooking","1000 stoves",{"$f":"+'Mitigation options'!I39","v":0},{"$f":"+'Mitigation options'!I195","v":0},{"$f":"+'Mitigation options'!I351","v":0},{"$f":"+'Mitigation options'!I507","v":0},0,null,null,null,null,null,null,null,null,null,null,null,null,null,null,null,null,0,"",{"$f":"Z40*'Mitigation options'!F195/1000","v":{"$error":"#DIV/0!"}}]
[null,null,"New passive home","1000 new homes",{"$f":"+'Mitigation options'!I40","v":0},{"$f":"+'Mitigation options'!I196","v":0},{"$f":"+'Mitigation options'!I352","v":0},{"$f":"+'Mitigation options'!I508","v":0},0,null,null,null,null,null,null,null,null,null,null,null,null,null,null,null,null,0,"",{"$f":"Z41*'Mitigation options'!F196/1000","v":{"$error":"#DIV/0!"}}]
[null,null,"Efficient refrigerators","1000 refrigerators",{"$f":"+'Mitigation options'!I41","v":0},{"$f":"+'Mitigation options'!I197","v":0},{"$f":"+'Mitigation options'!I353","v":0},{"$f":"+'Mitigation options'!I509","v":0},0,null,null,null,null,null,null,null,null,null,null,null,null,null,null,null,null,0,"",{"$f":"Z42*'Mitigation options'!F197/1000","v":{"$error":"#DIV/0!"}}]
[{"$f":"ROW(B43)","v":43},"EE industry","Efficient electric motors","1 kW",{"$f":"+'Mitigation options'!I42","v":0},{"$f":"+'Mitigation options'!I198","v":0},{"$f":"+'Mitigation options'!I354","v":0},{"$f":"+'Mitigation options'!I510","v":0},0,null,null,null,null,null,null,null,null,null,null,null,null,null,null,null,null,0,"",{"$f":"Z43*'Mitigation options'!F198/1000","v":{"$error":"#DIV/0!"}}]
[null,null,"Energy efficiency in industry","10% red. of energy demand",{"$f":"+'Mitigation options'!I43","v":0},{"$f":"+'Mitigation options'!I199","v":0},{"$f":"+'Mitigation options'!I355","v":0},{"$f":"+'Mitigation options'!I511","v":0},0,null,null,null,null,null,null,null,null,null,null,null,null,null,null,null,null,0,"",{"$f":"Z44*'Mitigation options'!F199/1000","v":0}]
[null,null,"Building materials","1 million bricks",{"$f":"+'Mitigation options'!I44","v":0},{"$f":"+'Mitigation options'!I200","v":0},{"$f":"+'Mitigation options'!I356","v":0},{"$f":"+'Mitigation options'!I512","v":0},0,null,null,null,null,null,null,null,null,null,null,null,null,null,null,null,null,0,"",{"$f":"Z45*'Mitigation options'!F200/1000","v":0}]
[{"$f":"ROW(B46)","v":46},"EE own generation","Waste heat recovery at cement plant","1 Cement plant",{"$f":"+'Mitigation options'!I45","v":0},{"$f":"+'Mitigation options'!I201","v":0},{"$f":"+'Mitigation options'!I357","v":0},{"$f":"+'Mitigation options'!I513","v":0},0,null,null,null,null,null,null,null,null,null,null,null,null,null,null,null,null,0,"",{"$f":"Z46*'Mitigation options'!F201/1000","v":0}]
[null,null,"Waste heat recovery at steel plant","1 Steel plant",{"$f":"+'Mitigation options'!I46","v":0},{"$f":"+'Mitigation options'!I202","v":0},{"$f":"+'Mitigation options'!I358","v":0},{"$f":"+'Mitigation options'!I514","v":0},0,null,null,null,null,null,null,null,null,null,null,null,null,null,null,null,null,0,"",{"$f":"Z47*'Mitigation options'!F202/1000","v":0}]
[{"$f":"ROW(B48)","v":48},"EE service","Efficient electric motors","1 kW",{"$f":"+'Mitigation options'!I47","v":0},{"$f":"+'Mitigation options'!I203","v":0},{"$f":"+'Mitigation options'!I359","v":0},{"$f":"+'Mitigation options'!I515","v":0},0,null,null,null,null,null,null,null,null,null,null,null,null,null,null,null,null,0,"",{"$f":"Z48*'Mitigation options'!F203/1000","v":{"$error":"#DIV/0!"}}]
[null,null,"Efficient office lighting with CFLs","1000 lights",{"$f":"+'Mitigation options'!I48","v":0},{"$f":"+'Mitigation options'!I204","v":0},{"$f":"+'Mitigation options'!I360","v":0},{"$f":"+'Mitigation options'!I516","v":0},0,null,null,null,null,null,null,null,null,null,null,null,null,null,null,null,null,0,"",{"$f":"Z49*'Mitigation options'!F204/1000","v":{"$error":"#DIV/0!"}}]
[null,null,"Efficient office lighting with LEDs","1000 lights",{"$f":"+'Mitigation options'!I49","v":0},{"$f":"+'Mitigation options'!I205","v":0},{"$f":"+'Mitigation options'!I361","v":0},{"$f":"+'Mitigation options'!I517","v":0},0,null,null,null,null,null,null,null,null,null,null,null,null,null,null,null,null,0,"",{"$f":"Z50*'Mitigation options'!F205/1000","v":{"$error":"#DIV/0!"}}]
[null,null,"Efficient street lights","1000 lights",{"$f":"+'Mitigation options'!I50","v":0},{"$f":"+'Mitigation options'!I206","v":0},{"$f":"+'Mitigation options'!I362","v":0},{"$f":"+'Mitigation options'!I518","v":0},0,null,null,null,null,null,null,null,null,null,null,null,null,null,null,null,null,0,"",{"$f":"Z51*'Mitigation options'!F206/1000","v":{"$error":"#DIV/0!"}}]
[null,null,"Efficient water pumping","4 Million m3 water",{"$f":"+'Mitigation options'!I51","v":0},{"$f":"+'Mitigation options'!I207","v":0},{"$f":"+'Mitigation options'!I363","v":0},{"$f":"+'Mitigation options'!I519","v":0},0,null,null,null,null,null,null,null,null,null,null,null,null,null,null,null,null,0,"",{"$f":"Z52*'Mitigation options'!F207/1000","v":{"$error":"#DIV/0!"}}]
[null,null,"HVAC","100,000 m2 floor area",{"$f":"+'Mitigation options'!I52","v":0},{"$f":"+'Mitigation options'!I208","v":0},{"$f":"+'Mitigation options'!I364","v":0},{"$f":"+'Mitigation options'!I520","v":0},0,null,null,null,null,null,null,null,null,null,null,null,null,null,null,null,null,0,"",{"$f":"Z53*'Mitigation options'!F208/1000","v":0}]
[null,null,"Efficient Chiller > 300 TR","1 TR",{"$f":"+'Mitigation options'!I53","v":0},{"$f":"+'Mitigation options'!I209","v":0},{"$f":"+'Mitigation options'!I365","v":0},{"$f":"+'Mitigation options'!I521","v":0},0,null,null,null,null,null,null,null,null,null,null,null,null,null,null,null,null,0,"",{"$f":"Z54*'Mitigation options'!F209/1000","v":0}]
[null,null,"Efficient Chiller < 300 TR","1 TR",{"$f":"+'Mitigation options'!I54","v":0},{"$f":"+'Mitigation options'!I210","v":0},{"$f":"+'Mitigation options'!I366","v":0},{"$f":"+'Mitigation options'!I522","v":0},0,null,null,null,null,null,null,null,null,null,null,null,null,null,null,null,null,0,"",{"$f":"Z55*'Mitigation options'!F210/1000","v":0}]
[null,null,"Efficient room airconditioner","1 Airconditioner",{"$f":"+'Mitigation options'!I55","v":0},{"$f":"+'Mitigation options'!I211","v":0},{"$f":"+'Mitigation options'!I367","v":0},{"$f":"+'Mitigation options'!I523","v":0},0,null,null,null,null,null,null,null,null,null,null,null,null,null,null,null,null,0,"",{"$f":"Z56*'Mitigation options'!F211/1000","v":{"$error":"#DIV/0!"}}]
[null,null,"Efficient commercial dishwashing machine ","1000 meals/day",{"$f":"+'Mitigation options'!I56","v":0},{"$f":"+'Mitigation options'!I212","v":0},{"$f":"+'Mitigation options'!I368","v":0},{"$f":"+'Mitigation options'!I524","v":0},0,null,null,null,null,null,null,null,null,null,null,null,null,null,null,null,null,0,"",{"$f":"Z57*'Mitigation options'!F212/1000","v":0}]
[null,null,"Efficient hotel refrigerator","1 refrigerator",{"$f":"+'Mitigation options'!I57","v":0},{"$f":"+'Mitigation options'!I213","v":0},{"$f":"+'Mitigation options'!I369","v":0},{"$f":"+'Mitigation options'!I525","v":0},0,null,null,null,null,null,null,null,null,null,null,null,null,null,null,null,null,0,"",{"$f":"Z58*'Mitigation options'!F213/1000","v":{"$error":"#DIV/0!"}}]
[null,null,"Efficient hotel washing machine ","100 Guest Nights (GN)",{"$f":"+'Mitigation options'!I58","v":0},{"$f":"+'Mitigation options'!I214","v":0},{"$f":"+'Mitigation options'!I370","v":0},{"$f":"+'Mitigation options'!I526","v":0},0,null,null,null,null,null,null,null,null,null,null,null,null,null,null,null,null,0,"",{"$f":"Z59*'Mitigation options'!F214/1000","v":{"$error":"#DIV/0!"}}]
[null,null,"Energy efficiency in service","10% red. of energy demand",{"$f":"+'Mitigation options'!I59","v":0},{"$f":"+'Mitigation options'!I215","v":0},{"$f":"+'Mitigation options'!I371","v":0},{"$f":"+'Mitigation options'!I527","v":0},0,null,null,null,null,null,null,null,null,null,null,null,null,null,null,null,null,0,"",{"$f":"Z60*'Mitigation options'!F215/1000","v":0}]
[null,null,"New office building with central cooling","1000 m2",{"$f":"+'Mitigation options'!I60","v":0},{"$f":"+'Mitigation options'!I216","v":0},{"$f":"+'Mitigation options'!I372","v":0},{"$f":"+'Mitigation options'!I528","v":0},0,null,null,null,null,null,null,null,null,null,null,null,null,null,null,null,null,0,"",{"$f":"Z61*'Mitigation options'!F216/1000","v":{"$error":"#DIV/0!"}}]
[{"$f":"ROW(B62)","v":62},"EE supply side","New natural gas power plant","1 MW",{"$f":"+'Mitigation options'!I61","v":0},{"$f":"+'Mitigation options'!I217","v":0},{"$f":"+'Mitigation options'!I373","v":0},{"$f":"+'Mitigation options'!I529","v":0},{"$f":"F62","v":0},null,null,null,null,null,null,null,null,null,null,null,null,null,null,null,null,{"$f":"SUM(J62:Y62)","v":0},{"$f":"IFERROR(IF(I62=0,\"\",Z62/I62),\"\")","v":""},{"$f":"Z62*'Mitigation options'!F217/1000","v":0}]
[null,null,"Switch from fuel oil to natural gas","1 MW",{"$f":"+'Mitigation options'!I62","v":0},{"$f":"+'Mitigation options'!I218","v":0},{"$f":"+'Mitigation options'!I374","v":0},{"$f":"+'Mitigation options'!I530","v":0},0,null,null,null,null,null,null,null,null,null,null,null,null,null,null,null,null,0,"",{"$f":"Z63*'Mitigation options'!F218/1000","v":0}]
[null,null,"Cogeneration in industry","1 MW",{"$f":"+'Mitigation options'!I63","v":0},{"$f":"+'Mitigation options'!I219","v":0},{"$f":"+'Mitigation options'!I375","v":0},{"$f":"+'Mitigation options'!I531","v":0},0,null,null,null,null,null,null,null,null,null,null,null,null,null,null,null,null,0,"",{"$f":"Z64*'Mitigation options'!F219/1000","v":0}]
[null,null,"Single cycle to combined cycle","100 MW increase",{"$f":"+'Mitigation options'!I64","v":0},{"$f":"+'Mitigation options'!I220","v":0},{"$f":"+'Mitigation options'!I376","v":0},{"$f":"+'Mitigation options'!I532","v":0},0,null,null,null,null,null,null,null,null,null,null,null,null,null,null,null,null,0,"",{"$f":"Z65*'Mitigation options'!F220/1000","v":0}]
[{"$f":"ROW(B66)","v":66},"Energy distribution","Efficient electric grids","1 GWh loss reduction",{"$f":"+'Mitigation options'!I65","v":0},{"$f":"+'Mitigation options'!I221","v":0},{"$f":"+'Mitigation options'!I377","v":0},{"$f":"+'Mitigation options'!I533","v":0},0,null,null,null,null,null,null,null,null,null,null,null,null,null,null,null,null,0,"",{"$f":"Z66*'Mitigation options'!F221/1000","v":0}]
[null,null,"Connection of isolated grid to central grid ","1 GWh consumption",{"$f":"+'Mitigation options'!I66","v":0},{"$f":"+'Mitigation options'!I222","v":0},{"$f":"+'Mitigation options'!I378","v":0},{"$f":"+'Mitigation options'!I534","v":0},0,null,null,null,null,null,null,null,null,null,null,null,null,null,null,null,null,0,"",{"$f":"Z67*'Mitigation options'!F222/1000","v":0}]
[null,null,"Power factor increase","1000 commerce/industry buildings",{"$f":"+'Mitigation options'!I67","v":0},{"$f":"+'Mitigation options'!I223","v":0},{"$f":"+'Mitigation options'!I379","v":0},{"$f":"+'Mitigation options'!I535","v":0},0,null,null,null,null,null,null,null,null,null,null,null,null,null,null,null,null,0,"",{"$f":"Z68*'Mitigation options'!F223/1000","v":0}]
[null,null,"District heating network rehabilitation (100,000 flats supplied)","100,000 flats supplied",{"$f":"+'Mitigation options'!I68","v":0},{"$f":"+'Mitigation options'!I224","v":0},{"$f":"+'Mitigation options'!I380","v":0},{"$f":"+'Mitigation options'!I536","v":0},0,null,null,null,null,null,null,null,null,null,null,null,null,null,null,null,null,0,"",{"$f":"Z69*'Mitigation options'!F224/1000","v":0}]
[null,null,"District cooling network (1 million m2 new city area covered)","1 million m2 new city area covered",{"$f":"+'Mitigation options'!I69","v":0},{"$f":"+'Mitigation options'!I225","v":0},{"$f":"+'Mitigation options'!I381","v":0},{"$f":"+'Mitigation options'!I537","v":0},0,null,null,null,null,null,null,null,null,null,null,null,null,null,null,null,null,0,"",{"$f":"Z70*'Mitigation options'!F225/1000","v":0}]
[{"$f":"ROW(B71)","v":71},"Forestry","Reforestation","Reforestation of 1000 ha",{"$f":"+'Mitigation options'!I70","v":0},{"$f":"+'Mitigation options'!I226","v":0},{"$f":"+'Mitigation options'!I382","v":0},{"$f":"+'Mitigation options'!I538","v":0},0,null,null,null,null,null,null,null,null,null,null,null,null,null,null,null,null,0,"",{"$f":"Z71*'Mitigation options'!F226/1000","v":0}]
[null,null,"REDD: Avoided deforestation","Avoided deforestation 1000 ha",{"$f":"+'Mitigation options'!I71","v":0},{"$f":"+'Mitigation options'!I227","v":0},{"$f":"+'Mitigation options'!I383","v":0},{"$f":"+'Mitigation options'!I539","v":0},0,null,null,null,null,null,null,null,null,null,null,null,null,null,null,null,null,0,"",{"$f":"Z72*'Mitigation options'!F227/1000","v":0}]
[null,null,"Assisted forest regeneration","Reforestation of 1000 ha",{"$f":"+'Mitigation options'!I72","v":0},{"$f":"+'Mitigation options'!I228","v":0},{"$f":"+'Mitigation options'!I384","v":0},{"$f":"+'Mitigation options'!I540","v":0},0,null,null,null,null,null,null,null,null,null,null,null,null,null,null,null,null,0,"",{"$f":"Z73*'Mitigation options'!F228/1000","v":0}]
[null,null,"Reforestation with agroforestry","Reforestation of 1000 ha",{"$f":"+'Mitigation options'!I73","v":0},{"$f":"+'Mitigation options'!I229","v":0},{"$f":"+'Mitigation options'!I385","v":0},{"$f":"+'Mitigation options'!I541","v":0},0,null,null,null,null,null,null,null,null,null,null,null,null,null,null,null,null,0,"",{"$f":"Z74*'Mitigation options'!F229/1000","v":0}]
[null,null,"Reforestation with Silvopasture","Reforestation of 1000 ha",{"$f":"+'Mitigation options'!I74","v":0},{"$f":"+'Mitigation options'!I230","v":0},{"$f":"+'Mitigation options'!I386","v":0},{"$f":"+'Mitigation options'!I542","v":0},0,null,null,null,null,null,null,null,null,null,null,null,null,null,null,null,null,0,"",{"$f":"Z75*'Mitigation options'!F230/1000","v":0}]
[{"$f":"ROW(B76)","v":76},"Fossil fuel switch","Switch from coal to natural gas in industry","100 TJ fuel use/year",{"$f":"+'Mitigation options'!I75","v":0},{"$f":"+'Mitigation options'!I231","v":0},{"$f":"+'Mitigation options'!I387","v":0},{"$f":"+'Mitigation options'!I543","v":0},0,null,null,null,null,null,null,null,null,null,null,null,null,null,null,null,null,0,"",{"$f":"Z76*'Mitigation options'!F231/1000","v":0}]
[null,null,"Switch from fuel oil to natural gas in industry","100 TJ fuel use/year",{"$f":"+'Mitigation options'!I76","v":0},{"$f":"+'Mitigation options'!I232","v":0},{"$f":"+'Mitigation options'!I388","v":0},{"$f":"+'Mitigation options'!I544","v":0},0,null,null,null,null,null,null,null,null,null,null,null,null,null,null,null,null,0,"",{"$f":"Z77*'Mitigation options'!F232/1000","v":0}]
[{"$f":"ROW(B78)","v":78},"Fugitive ","Reduced flaring at oil field","1 MMSCF/day",{"$f":"+'Mitigation options'!I77","v":0},{"$f":"+'Mitigation options'!I233","v":0},{"$f":"+'Mitigation options'!I389","v":0},{"$f":"+'Mitigation options'!I545","v":0},0,null,null,null,null,null,null,null,null,null,null,null,null,null,null,null,null,0,"",{"$f":"Z78*'Mitigation options'!F233/1000","v":0}]
[null,null,"Reduced flaring at oil refineries","1 MMSCF/day",{"$f":"+'Mitigation options'!I78","v":0},{"$f":"+'Mitigation options'!I234","v":0},{"$f":"+'Mitigation options'!I390","v":0},{"$f":"+'Mitigation options'!I546","v":0},0,null,null,null,null,null,null,null,null,null,null,null,null,null,null,null,null,0,"",{"$f":"Z79*'Mitigation options'!F234/1000","v":0}]
[null,null,"Leak reduction in natural gas pipelines","1 Mm3 CH/year leaking",{"$f":"+'Mitigation options'!I79","v":0},{"$f":"+'Mitigation options'!I235","v":0},{"$f":"+'Mitigation options'!I391","v":0},{"$f":"+'Mitigation options'!I547","v":0},0,null,null,null,null,null,null,null,null,null,null,null,null,null,null,null,null,0,"",{"$f":"Z80*'Mitigation options'!F235/1000","v":0}]
[null,null,"Charcoal production","100,000 ton charcoal/yr",{"$f":"+'Mitigation options'!I80","v":0},{"$f":"+'Mitigation options'!I236","v":0},{"$f":"+'Mitigation options'!I392","v":0},{"$f":"+'Mitigation options'!I548","v":0},0,null,null,null,null,null,null,null,null,null,null,null,null,null,null,null,null,0,"",{"$f":"Z81*'Mitigation options'!F236/1000","v":0}]
[{"$f":"ROW(B82)","v":82},"Geothermal","Geothermal power","1 MW",{"$f":"+'Mitigation options'!I81","v":0},{"$f":"+'Mitigation options'!I237","v":0},{"$f":"+'Mitigation options'!I393","v":0},{"$f":"+'Mitigation options'!I549","v":0},0,null,null,null,null,null,null,null,null,null,null,null,null,null,null,null,null,0,"",{"$f":"Z82*'Mitigation options'!F237/1000","v":0}]
[null,null,"Geothermal heat",null,{"$f":"+'Mitigation options'!I82","v":0},{"$f":"+'Mitigation options'!I238","v":0},{"$f":"+'Mitigation options'!I394","v":0},{"$f":"+'Mitigation options'!I550","v":0},0,null,null,null,null,null,null,null,null,null,null,null,null,null,null,null,null,0,"",{"$f":"Z83*'Mitigation options'!F238/1000","v":0}]
[{"$f":"ROW(B84)","v":84},"HFCs, PFCs, SF6","Reduced PFCs from aluminum production","100,000 ton Aluminium/yr",{"$f":"+'Mitigation options'!I83","v":0},{"$f":"+'Mitigation options'!I239","v":0},{"$f":"+'Mitigation options'!I395","v":0},{"$f":"+'Mitigation options'!I551","v":0},0,null,null,null,null,null,null,null,null,null,null,null,null,null,null,null,null,0,"",{"$f":"Z84*'Mitigation options'!F239/1000","v":0}]
[{"$f":"ROW(B85)","v":85},"Hydro","Hydro power connected to main grid","1 MW",{"$f":"+'Mitigation options'!I84","v":0},{"$f":"+'Mitigation options'!I240","v":0},{"$f":"+'Mitigation options'!I396","v":0},{"$f":"+'Mitigation options'!I552","v":0},0,null,null,null,null,null,null,null,null,null,null,null,null,null,null,null,null,0,"",{"$f":"Z85*'Mitigation options'!F240/1000","v":0}]
[null,null,"Mini hydro power connected to main grid","1 MW",{"$f":"+'Mitigation options'!I85","v":0},{"$f":"+'Mitigation options'!I241","v":0},{"$f":"+'Mitigation options'!I397","v":0},{"$f":"+'Mitigation options'!I553","v":0},0,null,null,null,null,null,null,null,null,null,null,null,null,null,null,null,null,0,"",{"$f":"Z86*'Mitigation options'!F241/1000","v":0}]
[null,null,"Mini hydro power off grid","1 MW",{"$f":"+'Mitigation options'!I86","v":0},{"$f":"+'Mitigation options'!I242","v":0},{"$f":"+'Mitigation options'!I398","v":0},{"$f":"+'Mitigation options'!I554","v":0},0,null,null,null,null,null,null,null,null,null,null,null,null,null,null,null,null,0,"",{"$f":"Z87*'Mitigation options'!F242/1000","v":0}]
[{"$f":"ROW(B88)","v":88},"Landfills","Landfill gas plant with power production","200 t/day plant",{"$f":"+'Mitigation options'!I87","v":0},{"$f":"+'Mitigation options'!I243","v":0},{"$f":"+'Mitigation options'!I399","v":0},{"$f":"+'Mitigation options'!I555","v":0},0,null,null,null,null,null,null,null,null,null,null,null,null,null,null,null,null,0,"",{"$f":"Z88*'Mitigation options'!F243/1000","v":0}]
[null,null,"Landfill gas flaring","200 t/day plant",{"$f":"+'Mitigation options'!I88","v":0},{"$f":"+'Mitigation options'!I244","v":0},{"$f":"+'Mitigation options'!I400","v":0},{"$f":"+'Mitigation options'!I556","v":0},0,null,null,null,null,null,null,null,null,null,null,null,null,null,null,null,null,0,"",{"$f":"Z89*'Mitigation options'!F244/1000","v":0}]
[null,null,"Incineration plant","200 t/day plant",{"$f":"+'Mitigation options'!I89","v":0},{"$f":"+'Mitigation options'!I245","v":0},{"$f":"+'Mitigation options'!I401","v":0},{"$f":"+'Mitigation options'!I557","v":0},0,null,null,null,null,null,null,null,null,null,null,null,null,null,null,null,null,0,"",{"$f":"Z90*'Mitigation options'!F245/1000","v":0}]
[null,null,"Recycling of plastics","1000 t/year plant",{"$f":"+'Mitigation options'!I90","v":0},{"$f":"+'Mitigation options'!I246","v":0},{"$f":"+'Mitigation options'!I402","v":0},{"$f":"+'Mitigation options'!I558","v":0},0,null,null,null,null,null,null,null,null,null,null,null,null,null,null,null,null,0,"",{"$f":"Z91*'Mitigation options'!F246/1000","v":0}]
[null,null,"Refuse Derived Fule (RDF) from MSW","1000 t MSW/day",{"$f":"+'Mitigation options'!I91","v":0},{"$f":"+'Mitigation options'!I247","v":0},{"$f":"+'Mitigation options'!I403","v":0},{"$f":"+'Mitigation options'!I559","v":0},0,null,null,null,null,null,null,null,null,null,null,null,null,null,null,null,null,0,"",{"$f":"Z92*'Mitigation options'!F247/1000","v":0}]
[null,null,"Biogas from Municipal Solid Waste","200 t MSW/day plant",{"$f":"+'Mitigation options'!I92","v":0},{"$f":"+'Mitigation options'!I248","v":0},{"$f":"+'Mitigation options'!I404","v":0},{"$f":"+'Mitigation options'!I560","v":0},{"$f":"F93","v":0},null,null,null,null,null,null,null,null,null,null,null,null,null,null,null,null,0,"",{"$f":"Z93*'Mitigation options'!F248/1000","v":0}]
[null,null,"Composting of Municipal Solid Waste","1000 t/day plant",{"$f":"+'Mitigation options'!I93","v":0},{"$f":"+'Mitigation options'!I249","v":0},{"$f":"+'Mitigation options'!I405","v":0},{"$f":"+'Mitigation options'!I561","v":0},0,null,null,null,null,null,null,null,null,null,null,null,null,null,null,null,null,0,"",{"$f":"Z94*'Mitigation options'!F249/1000","v":0}]
[{"$f":"ROW(B95)","v":95},"Marine","Tidal","1 MW of wave power",{"$f":"+'Mitigation options'!I94","v":0},{"$f":"+'Mitigation options'!I250","v":0},{"$f":"+'Mitigation options'!I406","v":0},{"$f":"+'Mitigation options'!I562","v":0},0,null,null,null,null,null,null,null,null,null,null,null,null,null,null,null,null,0,"",{"$f":"Z95*'Mitigation options'!F250/1000","v":0}]
[null,null,"Wave","1 MW of tidal power",{"$f":"+'Mitigation options'!I95","v":0},{"$f":"+'Mitigation options'!I251","v":0},{"$f":"+'Mitigation options'!I407","v":0},{"$f":"+'Mitigation options'!I563","v":0},0,null,null,null,null,null,null,null,null,null,null,null,null,null,null,null,null,0,"",{"$f":"Z96*'Mitigation options'!F251/1000","v":0}]
[{"$f":"ROW(B97)","v":97},"Methane avoidance","Biogas at rural farms replacing wood","1000 units",{"$f":"+'Mitigation options'!I96","v":0},{"$f":"+'Mitigation options'!I252","v":0},{"$f":"+'Mitigation options'!I408","v":0},{"$f":"+'Mitigation options'!I564","v":0},0,null,null,null,null,null,null,null,null,null,null,null,null,null,null,null,null,0,"",{"$f":"Z97*'Mitigation options'!F252/1000","v":0}]
[null,null,"Biogas at rural farms replacing kerosene","1000 units",{"$f":"+'Mitigation options'!I97","v":0},{"$f":"+'Mitigation options'!I253","v":0},{"$f":"+'Mitigation options'!I409","v":0},{"$f":"+'Mitigation options'!I565","v":0},0,null,null,null,null,null,null,null,null,null,null,null,null,null,null,null,null,0,"",{"$f":"Z98*'Mitigation options'!F253/1000","v":0}]
[null,null,"Biogas at big farms","84000 pigs",{"$f":"+'Mitigation options'!I98","v":0},{"$f":"+'Mitigation options'!I254","v":0},{"$f":"+'Mitigation options'!I410","v":0},{"$f":"+'Mitigation options'!I566","v":0},0,null,null,null,null,null,null,null,null,null,null,null,null,null,null,null,null,0,"",{"$f":"Z99*'Mitigation options'!F254/1000","v":0}]
[null,null,"Biogas from industrial waste water ","1 plant",{"$f":"+'Mitigation options'!I99","v":0},{"$f":"+'Mitigation options'!I255","v":0},{"$f":"+'Mitigation options'!I411","v":0},{"$f":"+'Mitigation options'!I567","v":0},0,null,null,null,null,null,null,null,null,null,null,null,null,null,null,null,null,0,"",{"$f":"Z100*'Mitigation options'!F255/1000","v":0}]
[{"$f":"ROW(B101)","v":101},"N2O","Nitric acid plant (N2O destruction)","100 ton HNO3/day",{"$f":"+'Mitigation options'!I100","v":0},{"$f":"+'Mitigation options'!I256","v":0},{"$f":"+'Mitigation options'!I412","v":0},{"$f":"+'Mitigation options'!I568","v":0},0,null,null,null,null,null,null,null,null,null,null,null,null,null,null,null,null,0,"",{"$f":"Z101*'Mitigation options'!F256/1000","v":0}]
[{"$f":"ROW(B102)","v":102},"Solar","PV pump replacing electric pump","1 pump",{"$f":"+'Mitigation options'!I101","v":0},{"$f":"+'Mitigation options'!I257","v":0},{"$f":"+'Mitigation options'!I413","v":0},{"$f":"+'Mitigation options'!I569","v":0},{"$f":"F102","v":0},null,null,null,null,null,null,null,null,null,null,null,null,null,null,null,null,{"$f":"SUM(J102:Y102)","v":0},{"$f":"IFERROR(IF(I102=0,\"\",Z102/I102),\"\")","v":""},{"$f":"Z102*'Mitigation options'!F257/1000","v":0}]
[null,null,"PV pump replacing diesel pump","1 pump",{"$f":"+'Mitigation options'!I102","v":0},{"$f":"+'Mitigation options'!I258","v":0},{"$f":"+'Mitigation options'!I414","v":0},{"$f":"+'Mitigation options'!I570","v":0},0,null,null,null,null,null,null,null,null,null,null,null,null,null,null,null,null,0,"",{"$f":"Z103*'Mitigation options'!F258/1000","v":0}]
[null,null,"Solar water heater, residential","1000 units",{"$f":"+'Mitigation options'!I103","v":0},{"$f":"+'Mitigation options'!I259","v":0},{"$f":"+'Mitigation options'!I415","v":0},{"$f":"+'Mitigation options'!I571","v":0},0,null,null,null,null,null,null,null,null,null,null,null,null,null,null,null,null,{"$f":"SUM(J104:Y104)","v":0},{"$f":"IFERROR(IF(I102=0,\"\",Z104/I102),\"\")","v":""},{"$f":"Z104*'Mitigation options'!F259/1000","v":0}]
[null,null,"Solar water heater, large","1 unit",{"$f":"+'Mitigation options'!I104","v":0},{"$f":"+'Mitigation options'!I260","v":0},{"$f":"+'Mitigation options'!I416","v":0},{"$f":"+'Mitigation options'!I572","v":0},0,null,null,null,null,null,null,null,null,null,null,null,null,null,null,null,null,0,"",{"$f":"Z105*'Mitigation options'!F260/1000","v":0}]
[null,null,"Solar PVs, large grid","1 MW",{"$f":"+'Mitigation options'!I105","v":0},{"$f":"+'Mitigation options'!I261","v":0},{"$f":"+'Mitigation options'!I417","v":0},{"$f":"+'Mitigation options'!I573","v":0},0,null,null,null,null,null,null,null,null,null,null,null,null,null,null,null,null,0,"",{"$f":"Z106*'Mitigation options'!F261/1000","v":0}]
[null,null,"Solar PVs, large grid with 24h storage","1 MW",{"$f":"+'Mitigation options'!I106","v":0},{"$f":"+'Mitigation options'!I262","v":0},{"$f":"+'Mitigation options'!I418","v":0},{"$f":"+'Mitigation options'!I574","v":0},0,null,null,null,null,null,null,null,null,null,null,null,null,null,null,null,null,0,"",{"$f":"Z107*'Mitigation options'!F262/1000","v":0}]
[null,null,"Solar house PVs","500 W",{"$f":"+'Mitigation options'!I107","v":0},{"$f":"+'Mitigation options'!I263","v":0},{"$f":"+'Mitigation options'!I419","v":0},{"$f":"+'Mitigation options'!I575","v":0},0,null,null,null,null,null,null,null,null,null,null,null,null,null,null,null,null,0,"",{"$f":"Z108*'Mitigation options'!F263/1000","v":0}]
[null,null,"Solar cottage PVs","50 W",{"$f":"+'Mitigation options'!I108","v":0},{"$f":"+'Mitigation options'!I264","v":0},{"$f":"+'Mitigation options'!I420","v":0},{"$f":"+'Mitigation options'!I576","v":0},0,null,null,null,null,null,null,null,null,null,null,null,null,null,null,null,null,0,"",{"$f":"Z109*'Mitigation options'!F264/1000","v":0}]
[null,null,"Solar/diesel mini-grid","40 kW from solar",{"$f":"+'Mitigation options'!I109","v":0},{"$f":"+'Mitigation options'!I265","v":0},{"$f":"+'Mitigation options'!I421","v":0},{"$f":"+'Mitigation options'!I577","v":0},0,null,null,null,null,null,null,null,null,null,null,null,null,null,null,null,null,0,"",{"$f":"Z110*'Mitigation options'!F265/1000","v":0}]
[null,null,"Solar LED lamps","1000 lamps",{"$f":"+'Mitigation options'!I110","v":0},{"$f":"+'Mitigation options'!I266","v":0},{"$f":"+'Mitigation options'!I422","v":0},{"$f":"+'Mitigation options'!I578","v":0},0,null,null,null,null,null,null,null,null,null,null,null,null,null,null,null,null,0,"",{"$f":"Z111*'Mitigation options'!F266/1000","v":0}]
[null,null,"Solar PVs, small isolated grid, 100% solar","2 MW",{"$f":"+'Mitigation options'!I111","v":0},{"$f":"+'Mitigation options'!I267","v":0},{"$f":"+'Mitigation options'!I423","v":0},{"$f":"+'Mitigation options'!I579","v":0},0,null,null,null,null,null,null,null,null,null,null,null,null,null,null,null,null,0,"",{"$f":"Z112*'Mitigation options'!F267/1000","v":0}]
[null,null,"Solar street lights","1000 locations  (0.05 MW)",{"$f":"+'Mitigation options'!I112","v":0},{"$f":"+'Mitigation options'!I268","v":0},{"$f":"+'Mitigation options'!I424","v":0},{"$f":"+'Mitigation options'!I580","v":0},0,null,null,null,null,null,null,null,null,null,null,null,null,null,null,null,null,0,"",{"$f":"Z113*'Mitigation options'!F268/1000","v":0}]
[null,null,"Parabolic through CSP, no storage","1 MW",{"$f":"+'Mitigation options'!I113","v":0},{"$f":"+'Mitigation options'!I269","v":0},{"$f":"+'Mitigation options'!I425","v":0},{"$f":"+'Mitigation options'!I581","v":0},0,null,null,null,null,null,null,null,null,null,null,null,null,null,null,null,null,0,"",{"$f":"Z114*'Mitigation options'!F269/1000","v":0}]
[null,null,"Solar tower CSP, with storage","1 MW",{"$f":"+'Mitigation options'!I114","v":0},{"$f":"+'Mitigation options'!I270","v":0},{"$f":"+'Mitigation options'!I426","v":0},{"$f":"+'Mitigation options'!I582","v":0},0,null,null,null,null,null,null,null,null,null,null,null,null,null,null,null,null,0,"",{"$f":"Z115*'Mitigation options'!F270/1000","v":0}]
[{"$f":"ROW(B116)","v":116},"Transport","5%-20% Biodiesel blend in all  diesel","5%-20% blend in transport",{"$f":"+'Mitigation options'!I115","v":0},{"$f":"+'Mitigation options'!I271","v":0},{"$f":"+'Mitigation options'!I427","v":0},{"$f":"+'Mitigation options'!I583","v":0},0,null,null,null,null,null,null,null,null,null,null,null,null,null,null,null,null,0,"",{"$f":"Z116*'Mitigation options'!F271/1000","v":0}]
[null,null,"15% Bioethanol blend in all gasoline","15% blend in transport",{"$f":"+'Mitigation options'!I116","v":0},{"$f":"+'Mitigation options'!I272","v":0},{"$f":"+'Mitigation options'!I428","v":0},{"$f":"+'Mitigation options'!I584","v":0},0,null,null,null,null,null,null,null,null,null,null,null,null,null,null,null,null,0,"",{"$f":"Z117*'Mitigation options'!F272/1000","v":0}]
[null,null,"Bus Rapid Transit (BRT)","1 km BRT line",{"$f":"+'Mitigation options'!I117","v":0},{"$f":"+'Mitigation options'!I273","v":0},{"$f":"+'Mitigation options'!I429","v":0},{"$f":"+'Mitigation options'!I585","v":0},0,null,null,null,null,null,null,null,null,null,null,null,null,null,null,null,null,0,"",{"$f":"Z118*'Mitigation options'!F273/1000","v":0}]
[null,null,"More efficient gasoline cars","1000 cars",{"$f":"+'Mitigation options'!I118","v":0},{"$f":"+'Mitigation options'!I274","v":0},{"$f":"+'Mitigation options'!I430","v":0},{"$f":"+'Mitigation options'!I586","v":0},0,null,null,null,null,null,null,null,null,null,null,null,null,null,null,null,null,0,"",{"$f":"Z119*'Mitigation options'!F274/1000","v":0}]
[null,null,"More efficient diesel cars","1000 cars",{"$f":"+'Mitigation options'!I119","v":0},{"$f":"+'Mitigation options'!I275","v":0},{"$f":"+'Mitigation options'!I431","v":0},{"$f":"+'Mitigation options'!I587","v":0},0,null,null,null,null,null,null,null,null,null,null,null,null,null,null,null,null,0,"",{"$f":"Z120*'Mitigation options'!F275/1000","v":0}]
[null,null,"Natural Gas cars","1000 cars using natural gas",{"$f":"+'Mitigation options'!I120","v":0},{"$f":"+'Mitigation options'!I276","v":0},{"$f":"+'Mitigation options'!I432","v":0},{"$f":"+'Mitigation options'!I588","v":0},0,null,null,null,null,null,null,null,null,null,null,null,null,null,null,null,null,0,"",{"$f":"Z121*'Mitigation options'!F276/1000","v":0}]
[null,null,"Electric cars","1000 cars",{"$f":"+'Mitigation options'!I121","v":0},{"$f":"+'Mitigation options'!I277","v":0},{"$f":"+'Mitigation options'!I433","v":0},{"$f":"+'Mitigation options'!I589","v":0},0,null,null,null,null,null,null,null,null,null,null,null,null,null,null,null,null,0,"",{"$f":"Z122*'Mitigation options'!F277/1000","v":0}]
[null,null,"Electric 18m buses","1000 buses",{"$f":"+'Mitigation options'!I122","v":0},{"$f":"+'Mitigation options'!I278","v":0},{"$f":"+'Mitigation options'!I434","v":0},{"$f":"+'Mitigation options'!I590","v":0},0,null,null,null,null,null,null,null,null,null,null,null,null,null,null,null,null,0,"",{"$f":"Z123*'Mitigation options'!F278/1000","v":0}]
[null,null,"Electric 12m buses","1000 buses",{"$f":"+'Mitigation options'!I123","v":0},{"$f":"+'Mitigation options'!I279","v":0},{"$f":"+'Mitigation options'!I435","v":0},{"$f":"+'Mitigation options'!I591","v":0},0,null,null,null,null,null,null,null,null,null,null,null,null,null,null,null,null,0,"",{"$f":"Z124*'Mitigation options'!F279/1000","v":0}]
[null,null,"Electric heavy trucks","1000 trucks",{"$f":"+'Mitigation options'!I124","v":0},{"$f":"+'Mitigation options'!I280","v":0},{"$f":"+'Mitigation options'!I436","v":0},{"$f":"+'Mitigation options'!I592","v":0},0,null,null,null,null,null,null,null,null,null,null,null,null,null,null,null,null,0,"",{"$f":"Z125*'Mitigation options'!F280/1000","v":0}]
[null,null,"Electric light trucks","1000 trucks",{"$f":"+'Mitigation options'!I125","v":0},{"$f":"+'Mitigation options'!I281","v":0},{"$f":"+'Mitigation options'!I437","v":0},{"$f":"+'Mitigation options'!I593","v":0},0,null,null,null,null,null,null,null,null,null,null,null,null,null,null,null,null,0,"",{"$f":"Z126*'Mitigation options'!F281/1000","v":0}]
[null,null,"Electric rail ","1 Million trainkm/day",{"$f":"+'Mitigation options'!I126","v":0},{"$f":"+'Mitigation options'!I282","v":0},{"$f":"+'Mitigation options'!I438","v":0},{"$f":"+'Mitigation options'!I594","v":0},0,null,null,null,null,null,null,null,null,null,null,null,null,null,null,null,null,0,"",{"$f":"Z127*'Mitigation options'!F282/1000","v":0}]
[null,null,"Shifting passengers from car to rail (1Mill. personkm/day) ","1 Million personkm/day",{"$f":"+'Mitigation options'!I127","v":0},{"$f":"+'Mitigation options'!I283","v":0},{"$f":"+'Mitigation options'!I439","v":0},{"$f":"+'Mitigation options'!I595","v":0},0,null,null,null,null,null,null,null,null,null,null,null,null,null,null,null,null,0,"",{"$f":"Z128*'Mitigation options'!F283/1000","v":0}]
[null,null,"Shifting freight transport from road to rail (1000 tonkm/day)","1000 tonkm/day",{"$f":"+'Mitigation options'!I128","v":0},{"$f":"+'Mitigation options'!I284","v":0},{"$f":"+'Mitigation options'!I440","v":0},{"$f":"+'Mitigation options'!I596","v":0},0,null,null,null,null,null,null,null,null,null,null,null,null,null,null,null,null,0,"",{"$f":"Z129*'Mitigation options'!F284/1000","v":0}]
[null,null,"Restriction on import of used cars","1000 cars",{"$f":"+'Mitigation options'!I129","v":0},{"$f":"+'Mitigation options'!I285","v":0},{"$f":"+'Mitigation options'!I441","v":0},{"$f":"+'Mitigation options'!I597","v":0},0,null,null,null,null,null,null,null,null,null,null,null,null,null,null,null,null,0,"",{"$f":"Z130*'Mitigation options'!F285/1000","v":0}]
[null,null,"New bicycle lanes","1 km bicycle lane",{"$f":"+'Mitigation options'!I130","v":0},{"$f":"+'Mitigation options'!I286","v":0},{"$f":"+'Mitigation options'!I442","v":0},{"$f":"+'Mitigation options'!I598","v":0},0,null,null,null,null,null,null,null,null,null,null,null,null,null,null,null,null,0,"",{"$f":"Z131*'Mitigation options'!F286/1000","v":0}]
[null,null,"Electric three-wheelers","1000 three-wheelers",{"$f":"+'Mitigation options'!I131","v":0},{"$f":"+'Mitigation options'!I287","v":0},{"$f":"+'Mitigation options'!I443","v":0},{"$f":"+'Mitigation options'!I599","v":0},0,null,null,null,null,null,null,null,null,null,null,null,null,null,null,null,null,0,"",{"$f":"Z132*'Mitigation options'!F287/1000","v":0}]
[null,null,"Electric two-wheelers","1000 three-wheelers",{"$f":"+'Mitigation options'!I132","v":0},{"$f":"+'Mitigation options'!I288","v":0},{"$f":"+'Mitigation options'!I444","v":0},{"$f":"+'Mitigation options'!I600","v":0},0,null,null,null,null,null,null,null,null,null,null,null,null,null,null,null,null,0,"",{"$f":"Z133*'Mitigation options'!F288/1000","v":0}]
[null,null,"Better maintenance and use of motor bikes","1000 bikes",{"$f":"+'Mitigation options'!I133","v":0},{"$f":"+'Mitigation options'!I289","v":0},{"$f":"+'Mitigation options'!I445","v":0},{"$f":"+'Mitigation options'!I601","v":0},0,null,null,null,null,null,null,null,null,null,null,null,null,null,null,null,null,0,"",{"$f":"Z134*'Mitigation options'!F289/1000","v":0}]
[{"$f":"ROW(B135)","v":135},"Wind","Wind turbines, on-shore","1 MW",{"$f":"+'Mitigation options'!I134","v":0},{"$f":"+'Mitigation options'!I290","v":0},{"$f":"+'Mitigation options'!I446","v":0},{"$f":"+'Mitigation options'!I602","v":0},0,null,null,null,null,null,null,null,null,null,null,null,null,null,null,null,null,0,{"$f":"IFERROR(IF(I135=0,\"\",Z135/I135),\"\")","v":""},{"$f":"Z135*'Mitigation options'!F290/1000","v":0}]
[null,null,"Wind turbines, on-shore with 24 storage","1MW",{"$f":"+'Mitigation options'!I135","v":0},{"$f":"+'Mitigation options'!I291","v":0},{"$f":"+'Mitigation options'!I447","v":0},{"$f":"+'Mitigation options'!I603","v":0},0,null,null,null,null,null,null,null,null,null,null,null,null,null,null,null,null,0,{"$f":"IFERROR(IF(I136=0,\"\",Z136/I136),\"\")","v":""},{"$f":"Z136*'Mitigation options'!F291/1000","v":0}]
[null,null,"Wind turbines, off-shore","1 MW",{"$f":"+'Mitigation options'!I136","v":0},{"$f":"+'Mitigation options'!I292","v":0},{"$f":"+'Mitigation options'!I448","v":0},{"$f":"+'Mitigation options'!I604","v":0},0,null,null,null,null,null,null,null,null,null,null,null,null,null,null,null,null,0,{"$f":"IFERROR(IF(I137=0,\"\",Z137/I137),\"\")","v":""},{"$f":"Z137*'Mitigation options'!F292/1000","v":0}]
[null,null,null,null,null,null,null,null,null,null,null,null,null,null,null,null,null,null,null,null,null,null,null,null,null,null,null,{"$f":"SUM(AB19:AB137)","v":{"$error":"#DIV/0!"}},{"$f":"SUM(AC19:AC137)","v":0},{"$f":"SUM(AD19:AD137)","v":0}]
[null,"GHG reduction options:",{"$f":"COUNTA(C19:C137)","v":119}]
[null,null,null,null,null,null,null,null,null,null,null,null,null,null,null,null,null,null,null,null,null,null,null,null,null,null,0]
[null,null,null,null,7,null,null,null,null,null,null,null,null,null,null,null,null,null,null,null,null,null,null,null,null,null,1]

{"sheet":"Agriculture","index":19,"n_rows":198,"n_cols":36,"rows_kept":198,"cut":false,"hidden":true,"merged":[[153,24,153,26],[153,33,153,35],[1,1,1,4],[3,1,3,4],[47,6,47,8],[4,1,4,4],[5,1,5,4],[7,1,7,4],[8,1,8,4],[153,15,153,17],[74,6,74,8],[179,6,179,8],[9,1,9,4],[14,6,14,8],[102,6,102,8],[128,6,128,8]]}
[]
[null,"Menu for Agriculture options (click links below)"]
[]
[null,"Rice crop CH4 reduction"]
[null,"Tobacco curing (100 t tobacco/yr)"]
[null,"Cover crops (1000 ha)"]
[null,"Covering slurry stores (1 store)"]
[null,"Nitrification inhibitors (1000 ha)"]
[null,"Fat supplementation in ruminants diets (%DM fat added)"]
[null,"Zero tillage"]
[]
[]
[]
[null,"Rice crop CH4 reduction (1000 ha)"]
[null,"Costs in","Reduction","Reference","Increase",null,"General inputs:"]
[null,"US$","Option","Option","(Red.-Ref.)",null,"Discount rate ",{"$f":"+DiscountRate","v":0}]
[null,"Total investment",{"$f":"H23/H29*1000000","v":1337792.6421404681},26216,{"$f":"C17-D17","v":1311576.6421404681},null,"GWP of CH4",{"$f":"+Assumptions!F64","v":28}]
[null,"Project life",20,20,null,null,"Daily CH4 emission factor",1.3,"kgCH4/ha/day"]
[null,"Lev. investment",{"$f":"IF(C18=0,0,PMT($H16,C18,-C17))","v":66889.632107023412},{"$f":"IF(D18=0,0,PMT($H16,D18,-D17))","v":1310.8},{"$f":"C19-D19","v":65578.832107023409},null,"Cultivation period",200,"days/year"]
[null,"Annual O&M",{"$f":"C17*H24","v":0},null,{"$f":"C20-D20","v":0},null,"Rice area",1000,"ha"]
[null,"Annual fuelcost",null,null,{"$f":"C21-D21","v":0}]
[null,"Total annual cost",{"$f":"SUM(C19:C21)","v":66889.632107023412},{"$f":"+D17","v":26216},{"$f":"C22-D22","v":40673.632107023412},null,"Reduction option: Rice crop with decreased irrigation"]
[null,null,null,null,null,null,"Opportunity cost",1.2,"US$/ton CO2e"]
[null,"Annual emissions (tons)","Tons","Tons","Reduction",null,"O&M  "]
[null,"Fuel  CO2-eq. emission",null,null,{"$f":"D25-C25","v":0},null,"Scaling factor (double cropping)",1.73,"Single aeration"]
[null,"Emission of CH4",{"$f":"H19*H20*H29*H17/H20","v":5023.1999999999989},{"$f":"H35*H20*H19*H17/1000","v":8444.7999999999993},null,null,"Scaling factor (double cropping)",1.5,"Multiple aeration"]
[null,"Total CO2-eq. emission ",{"$f":"C25+C26","v":5023.1999999999989},{"$f":"D25+D26","v":8444.7999999999993},{"$f":"D27-C27","v":3421.6000000000004},null,"Scaling factor (single cropping)",0.69,"Single aeration"]
[null,null,null,null,null,null,"Scaling factor (single cropping)",0.6,"Multiple aeration"]
[null,null,null,null,null,null,"Daily CH4 emission factor",{"$f":"H18*H27","v":0.89699999999999991},"kgCH4/ha/day"]
[null,"US$/ton CO2-eq.",null,null,1.2,null,"Remember to choose the correct scaling factor"]
[]
[null,null,null,null,null,null,"Reference option: Nomal rice crop"]
[null,null,null,null,null,null,"Scaling factor (double cropping)",2.88]
[null,null,null,null,null,null,"Scaling factor (single cropping)",1.1599999999999999]
[null,null,null,null,null,null,"Daily CH4 emission factor",{"$f":"H18*H34","v":1.508},"kgCH4/ha/day"]
[null,null,null,null,null,null,"Remember to choose the correct scaling factor"]
[]
[]
[]
[]
[]
[]
[]
[]
[]
[]
[null,"Tobacco curing (100 t tobacco/yr)"]
[null,"Costs in","Reduction","Reference","Increase",null,"General inputs:"]
[null,"US$","Option","Option","(Red.-Ref.)",null,"Discount rate ",{"$f":"+DiscountRate","v":0}]
[null,"Total investment",{"$f":"H56","v":3231.707317073171},{"$f":"H65","v":1219.5121951219514},{"$f":"C50-D50","v":2012.1951219512196},null,"GWP of CH4",{"$f":"+Assumptions!F64","v":28},"Ton CO2"]
[null,"Project life",20,20,null,null,"Fuel CO2 emis. factor",{"$f":"+Assumptions!D52","v":94.600000000000009},"kgCO2/GJ coal"]
[null,"Lev. investment",{"$f":"IF(C51=0,0,PMT($H$49,C51,-C50))","v":161.58536585365854},{"$f":"IF(D51=0,0,PMT($H$49,D51,-D50))","v":60.975609756097569},{"$f":"C52-D52","v":100.60975609756098},null,"Calorific value of coal",{"$f":"+Assumptions!K31","v":24.96},"GJ/ton"]
[null,"Annual O&M",{"$f":"C50*H57","v":32.31707317073171},{"$f":"D50*H57","v":12.195121951219514},{"$f":"C53-D53","v":20.121951219512198},null,"Coal price",{"$f":"+Assumptions!K29","v":2.0032051282051282},"US$/GJ"]
[null,"Annual fuelcost",{"$f":"H62*H53","v":5600},{"$f":"H69*H53","v":17500},{"$f":"C54-D54","v":-11900}]
[null,"Total annual cost",{"$f":"SUM(C52:C54)","v":5793.9024390243903},{"$f":"SUM(D52:D54)","v":17573.170731707316},{"$f":"C55-D55","v":-11779.268292682926},null,"Reduction option: Efficient tobacco barn"]
[null,null,null,null,null,null,"Investment",{"$f":"26500/8.2","v":3231.707317073171},"US$"]
[null,"Annual emissions (tons)","Tons","Tons","Reduction",null,"O&M  ",0.01,"of investment"]
[null,"Fuel  CO2-eq. emission",{"$f":"H62*H51/1000","v":264.45619200000004},{"$f":"H69*H51/1000","v":826.42560000000014},{"$f":"D58-C58","v":561.96940800000016},null,"Activity",1,"barn"]
[null,"Other",null,null,null,null,"1 batch of tobacco",3500,"kg"]
[null,"Total CO2-eq. emission ",{"$f":"C58+C59","v":264.45619200000004},{"$f":"D58+D59","v":826.42560000000014},{"$f":"D60-C60","v":561.96940800000016},null,"In 1 barn",20,"batches per year"]
[null,null,null,null,null,null,"1 kg of tobacco takes",1.6,"kg of coal"]
[null,"US$/ton CO2-eq.",null,null,{"$f":"IF(E60<>0,E55/E60,0)","v":-20.960693100011099},null,"Annual coal consumption",{"$f":"H59*H60*H61*H52/1000","v":2795.52},"GJ"]
[]
[null,null,null,null,null,null,"Reference option: Old tobacco barn"]
[null,null,null,null,null,null,"Investment",{"$f":"10000/8.2","v":1219.5121951219514},"US$"]
[null,null,null,null,null,null,"1 batch of tobacco",{"$f":"H59","v":3500},"kg"]
[null,null,null,null,null,null,"In 1 barn",20,"batches per year"]
[null,null,null,null,null,null,"1 kg of tobacco takes",5,"kg of coal"]
[null,null,null,null,null,null,"Annual coal consumption",{"$f":"H66*H67*H68*H52/1000","v":8736},"GJ"]
[]
[]
[]
[]
[null,"Cover crops (1000 ha)"]
[null,"Costs in","Reduction","Reference","Increase",null,"General inputs:"]
[null,"US$","Option","Option","(Red.-Ref.)",null,"Discount rate ",{"$f":"+DiscountRate","v":0}]
[null,"Total investment",null,null,{"$f":"C77-D77","v":0},null,"GWP of CH4  =",{"$f":"+Assumptions!F64","v":28},"Ton CO2"]
[null,"Project life",null,null,null,null,"GWP of N20  =",{"$f":"+Assumptions!F65","v":265},"Ton CO2"]
[null,"Lev. investment",null,null,{"$f":"C79-D79","v":0},null,"1 Euro=",1.1499999999999999,"US$"]
[null,"Annual O&M",{"$f":"(H83+H84+H85)*H79*1000","v":120749.99999999999},{"$f":"D77*H88","v":0},{"$f":"C80-D80","v":120749.99999999999},null,"Reduction option: Cover crops"]
[null,"Annual fuelcost",null,null,{"$f":"C81-D81","v":0},null,"Increased soil C",1,"tCO2e/ha/yr"]
[null,"Total annual cost",{"$f":"SUM(C79:C81)","v":120749.99999999999},{"$f":"SUM(D79:D81)","v":0},{"$f":"C82-D82","v":120749.99999999999},null,"Reduce direct and indirect N>N2O",0.49,"tCO2e/ha/yr"]
[null,null,null,null,null,null,"Seed purchase",70,"EUR/ha/yr"]
[null,"Annual emissions (tons)","Tons","Tons","Reduction",null,"Cultivation",76,"EUR/ha/yr"]
[null,"Fuel  CO2-eq. emission",null,null,{"$f":"D85-C85","v":0},null,"Reduced fertiliser purchase",-41,"EUR/ha/yr"]
[null,"Other",null,{"$f":"(H81+H82)*1000","v":1490},{"$f":"D86-C86","v":1490},null,"Activity ",1000,"ha/year"]
[null,"Total CO2-eq. emission ",{"$f":"SUM(C85:C86)","v":0},{"$f":"SUM(D85:D86)","v":1490},{"$f":"D87-C87","v":1490},null,"Reference option: Normal crops"]
[]
[null,"US$/ton CO2-eq.",null,null,{"$f":"IF(E87<>0,E82/E87,0)","v":81.040268456375827}]
[]
[]
[]
[]
[]
[]
[]
[]
[]
[]
[]
[]
[null,"Nitrification inhibitors (1000 ha)"]
[null,"Costs in","Reduction","Reference","Increase",null,"General inputs:"]
[null,"US$","Option","Option","(Red.-Ref.)",null,"Discount rate ",{"$f":"+DiscountRate","v":0}]
[null,"Total investment",null,null,{"$f":"C105-D105","v":0},null,"GWP of CH4  =",{"$f":"+Assumptions!F64","v":28},"Ton CO2"]
[null,"Project life",null,null,null,null,"GWP of N20  =",{"$f":"+Assumptions!F65","v":265},"Ton CO2"]
[null,"Lev. investment",null,null,{"$f":"C107-D107","v":0},null,"1 Euro=",1.1499999999999999,"US$"]
[null,"Annual O&M",{"$f":"H111*H107*1000","v":53474.999999999993},null,{"$f":"C108-D108","v":53474.999999999993},null,"Reduction option: Use of Nitrification inhibitors"]
[null,"Annual fuelcost",null,null,{"$f":"C109-D109","v":0},null,"Reduction in soil N2O",0.3,"tCO2e/ha/yr"]
[null,"Total annual cost",{"$f":"SUM(C107:C109)","v":53474.999999999993},{"$f":"SUM(D107:D109)","v":0},{"$f":"C110-D110","v":53474.999999999993},null,"Reduce direct and indirect N>N2O",0.49,"tCO2e/ha/yr"]
[null,null,null,null,null,null,"Purchase of inhibitors",{"$f":"(32+61)/2","v":46.5},"EUR/ha/yr"]
[null,"Annual emissions (tons)","Tons","Tons","Reduction",null,"Activity ",1000,"ha/year"]
[null,"Fuel  CO2-eq. emission",null,null,{"$f":"D113-C113","v":0}]
[null,"Other",null,{"$f":"(H109+H110)*1000","v":790},{"$f":"D114-C114","v":790},null,"Reference option: Normal crops"]
[null,"Total CO2-eq. emission ",{"$f":"SUM(C113:C114)","v":0},{"$f":"SUM(D113:D114)","v":790},{"$f":"D115-C115","v":790}]
[]
[null,"US$/ton CO2-eq.",null,null,{"$f":"IF(E115<>0,E110/E115,0)","v":67.689873417721515}]
[]
[]
[]
[]
[]
[]
[]
[]
[]
[]
[null,"Covering slurry stores (1 slurry store)"]
[null,"Costs in","Reduction","Reference","Increase",null,"General inputs:"]
[null,"US$","Option","Option","(Red.-Ref.)",null,"Discount rate ",{"$f":"+DiscountRate","v":0}]
[null,"Total investment",{"$f":"+H135","v":2000},null,{"$f":"C131-D131","v":2000},null,"GWP of CH4  =",{"$f":"+Assumptions!F64","v":28},"Ton CO2"]
[null,"Project life",20,null,null,null,"GWP of N20  =",{"$f":"+Assumptions!F65","v":265},"Ton CO2"]
[null,"Lev. investment",{"$f":"IF(C51=0,0,PMT($H$130,C132,-C131))","v":100},null,{"$f":"C133-D133","v":100},null,"Size of slurry store",3000,"m3"]
[null,"Annual O&M",null,null,{"$f":"C134-D134","v":0},null,"Reduction option: New slurry cover"]
[null,"Annual fuelcost",null,null,{"$f":"C135-D135","v":0},null,"Cost of slurry cover",2000,"US$"]
[null,"Total annual cost",{"$f":"SUM(C133:C135)","v":100},{"$f":"SUM(D133:D135)","v":0},{"$f":"C136-D136","v":100}]
[null,null,null,null,null,null,"Reference option: No slurry cover"]
[null,"Annual emissions (tons)","Tons","Tons","Reduction",null,"Density of slurry",1.22,"ton/m3"]
[null,"Fuel  CO2-eq. emission",null,null,{"$f":"D139-C139","v":0},null,"N2O emission factor from slurry",5.5E-2,"kgCO2e/ton"]
[null,"Other",null,{"$f":"H140","v":0.20130000000000001},{"$f":"D140-C140","v":0.20130000000000001},null,"N2O emissions from slurry",{"$f":"H139*H133/1000*H138","v":0.20130000000000001},"tonCO2e"]
[null,"Total CO2-eq. emission ",{"$f":"SUM(C139:C140)","v":0},{"$f":"SUM(D139:D140)","v":0.20130000000000001},{"$f":"D141-C141","v":0.20130000000000001}]
[]
[null,"US$/ton CO2-eq.",null,null,{"$f":"IF(E141<>0,E136/E141,0)","v":496.77098857426722}]
[]
[]
[]
[]
[]
[]
[]
[]
[]
[null,"Fat supplementation in ruminants diets (%DM fat added) in 2025",null,null,null,null,null,null,null,null,"Fat supplementation in ruminants diets (%DM fat added) in 2030",null,null,null,null,null,null,null,null,"Fat supplementation in ruminants diets (%DM fat added) in 2040",null,null,null,null,null,null,null,null,"Fat supplementation in ruminants diets (%DM fat added) in 2050"]
[null,"Costs in","Reduction","Reference","Increase",null,"General inputs:",null,null,null,"Costs in","Reduction","Reference","Increase",null,"General inputs:",null,null,null,"Costs in","Reduction","Reference","Increase",null,"General inputs:",null,null,null,"Costs in","Reduction","Reference","Increase",null,"General inputs:"]
[null,"US$","Option","Option","(Red.-Ref.)",null,"Discount rate ",{"$f":"+DiscountRate","v":0},null,null,"US$","Option","Option","(Red.-Ref.)",null,"Discount rate ",{"$f":"+DiscountRate","v":0},null,null,"US$","Option","Option","(Red.-Ref.)",null,"Discount rate ",{"$f":"+DiscountRate","v":0},null,null,"US$","Option","Option","(Red.-Ref.)",null,"Discount rate ",{"$f":"+DiscountRate","v":0}]
[null,"Total investment",null,null,{"$f":"C156-D156","v":0},null,"GWP of CH4  =",{"$f":"+Assumptions!F64","v":28},"Ton CO2",null,"Total investment",null,null,{"$f":"L156-M156","v":0},null,"GWP of CH4  =",{"$f":"+Assumptions!F64","v":28},"Ton CO2",null,"Total investment",null,null,{"$f":"U156-V156","v":0},null,"GWP of CH4  =",{"$f":"+Assumptions!F64","v":28},"Ton CO2",null,"Total investment",null,null,{"$f":"AD156-AE156","v":0},null,"GWP of CH4  =",{"$f":"+Assumptions!F64","v":28},"Ton CO2"]
[null,"Project life",null,null,null,null,"GWP of N20  =",{"$f":"+Assumptions!F65","v":265},"Ton CO2",null,"Project life",null,null,null,null,"GWP of N20  =",{"$f":"+Assumptions!F65","v":265},"Ton CO2",null,"Project life",null,null,null,null,"GWP of N20  =",{"$f":"+Assumptions!F65","v":265},"Ton CO2",null,"Project life",null,null,null,null,"GWP of N20  =",{"$f":"+Assumptions!F65","v":265},"Ton CO2"]
[null,"Lev. investment",null,null,{"$f":"C158-D158","v":0},null,"1 Euro=",1.1499999999999999,"US$",null,"Lev. investment",null,null,{"$f":"L158-M158","v":0},null,"1 Euro=",1.1499999999999999,"US$",null,"Lev. investment",null,null,{"$f":"U158-V158","v":0},null,"1 Euro=",1.1499999999999999,"US$",null,"Lev. investment",null,null,{"$f":"AD158-AE158","v":0},null,"1 Euro=",1.1499999999999999,"US$"]
[null,"Annual O&M",{"$f":"D166*E168","v":0},null,{"$f":"C159-D159","v":0},null,"Reduction option: Use of Nitrification inhibitors",null,null,null,"Annual O&M",{"$f":"M166*N168","v":0},null,{"$f":"L159-M159","v":0},null,"Reduction option: Use of Nitrification inhibitors",null,null,null,"Annual O&M",{"$f":"V166*W168","v":0},null,{"$f":"U159-V159","v":0},null,"Reduction option: Use of Nitrification inhibitors",null,null,null,"Annual O&M",{"$f":"AE166*AF168","v":0},null,{"$f":"AD159-AE159","v":0},null,"Reduction option: Use of Nitrification inhibitors"]
[null,"Annual fuelcost",null,null,{"$f":"C160-D160","v":0},null,"Cost effectivenes",70,"Euro/tCO2-eq",null,"Annual fuelcost",null,null,{"$f":"L160-M160","v":0},null,"Cost effectivenes",70,"Euro/tCO2-eq",null,"Annual fuelcost",null,null,{"$f":"U160-V160","v":0},null,"Cost effectivenes",70,"Euro/tCO2-eq",null,"Annual fuelcost",null,null,{"$f":"AD160-AE160","v":0},null,"Cost effectivenes",70,"Euro/tCO2-eq"]
[null,"Total annual cost",{"$f":"SUM(C158:C160)","v":0},{"$f":"SUM(D158:D160)","v":0},{"$f":"C161-D161","v":0},null,"Fat added to animal feed",3,"%DM fat added",null,"Total annual cost",{"$f":"SUM(L158:L160)","v":0},{"$f":"SUM(M158:M160)","v":0},{"$f":"L161-M161","v":0},null,"Fat added to animal feed",3,"%DM fat added",null,"Total annual cost",{"$f":"SUM(U158:U160)","v":0},{"$f":"SUM(V158:V160)","v":0},{"$f":"U161-V161","v":0},null,"Fat added to animal feed",3,"%DM fat added",null,"Total annual cost",{"$f":"SUM(AD158:AD160)","v":0},{"$f":"SUM(AE158:AE160)","v":0},{"$f":"AD161-AE161","v":0},null,"Fat added to animal feed",3,"%DM fat added"]
[null,null,null,null,null,null,"1% fat added",0.04,"Reduction in CH4",null,null,null,null,null,null,"1% fat added",0.04,"Reduction in CH4",null,null,null,null,null,null,"1% fat added",0.04,"Reduction in CH4",null,null,null,null,null,null,"1% fat added",0.04,"Reduction in CH4"]
[null,"Annual emissions (tons)","Tons","Tons","Reduction",null,"Enteric fermentation of CH4",{"$f":"+'BAU projected GHG Balances'!D44","v":0},"ktCO2-eq.",null,"Annual emissions (tons)","Tons","Tons","Reduction",null,"Enteric fermentation of CH4",{"$f":"+'BAU projected GHG Balances'!D115","v":0},"ktCO2-eq.",null,"Annual emissions (tons)","Tons","Tons","Reduction",null,"Enteric fermentation of CH4",{"$f":"+'BAU projected GHG Balances'!D252","v":0},"ktCO2-eq.",null,"Annual emissions (tons)","Tons","Tons","Reduction",null,"Enteric fermentation of CH4",{"$f":"+'BAU projected GHG Balances'!D390","v":0},"ktCO2-eq."]
[null,"Fuel  CO2-eq. emission",null,null,{"$f":"D164-C164","v":0},null,"Reduction of CH4 emissions",{"$f":"H161*H162*H163","v":0},"ktCO2-eq.",null,"Fuel  CO2-eq. emission",null,null,{"$f":"M164-L164","v":0},null,"Reduction of CH4 emissions",{"$f":"Q161*Q162*Q163","v":0},"ktCO2-eq.",null,"Fuel  CO2-eq. emission",null,null,{"$f":"V164-U164","v":0},null,"Reduction of CH4 emissions",{"$f":"Z161*Z162*Z163","v":0},"ktCO2-eq.",null,"Fuel  CO2-eq. emission",null,null,{"$f":"AE164-AD164","v":0},null,"Reduction of CH4 emissions",{"$f":"AI161*AI162*AI163","v":0},"ktCO2-eq."]
[null,"Other",null,{"$f":"H164","v":0},{"$f":"D165-C165","v":0},null,null,null,null,null,"Other",null,{"$f":"Q164","v":0},{"$f":"M165-L165","v":0},null,null,null,null,null,"Other",null,{"$f":"Z164","v":0},{"$f":"V165-U165","v":0},null,null,null,null,null,"Other",null,{"$f":"AI164","v":0},{"$f":"AE165-AD165","v":0}]
[null,"Total CO2-eq. emission ",{"$f":"SUM(C164:C165)","v":0},{"$f":"SUM(D164:D165)","v":0},{"$f":"D166-C166","v":0},null,"Reference option: Normal crops",null,null,null,"Total CO2-eq. emission ",{"$f":"SUM(L164:L165)","v":0},{"$f":"SUM(M164:M165)","v":0},{"$f":"M166-L166","v":0},null,"Reference option: Normal crops",null,null,null,"Total CO2-eq. emission ",{"$f":"SUM(U164:U165)","v":0},{"$f":"SUM(V164:V165)","v":0},{"$f":"V166-U166","v":0},null,"Reference option: Normal crops",null,null,null,"Total CO2-eq. emission ",{"$f":"SUM(AD164:AD165)","v":0},{"$f":"SUM(AE164:AE165)","v":0},{"$f":"AE166-AD166","v":0},null,"Reference option: Normal crops"]
[]
[null,"US$/ton CO2-eq.",null,null,{"$f":"+H160*H158","v":80.5},null,null,null,null,null,"US$/ton CO2-eq.",null,null,{"$f":"+Q160*Q158","v":80.5},null,null,null,null,null,"US$/ton CO2-eq.",null,null,{"$f":"+Z160*Z158","v":80.5},null,null,null,null,null,"US$/ton CO2-eq.",null,null,{"$f":"+AI160*AI158","v":80.5}]
[]
[]
[]
[]
[]
[]
[]
[]
[]
[]
[null,"Zero tillage vs. tillage on commercial farms (1000 ha)"]
[null,"Costs in","Reduction","Reference","Increase",null,"General inputs:"]
[null,"US$","Option","Option","(Red.-Ref.)",null,"Discount rate ",{"$f":"+DiscountRate","v":0}]
[null,"Total investment",null,{"$f":"H191*H192*H193*H194/216","v":17445.138888888887},{"$f":"C182-D182","v":-17445.138888888887},null,"GWP of CH4 CH4  =",{"$f":"+Assumptions!F64","v":28},"Ton CO2"]
[null,"Project life",null,15,null,null,"Fuel CO2 emis. factor",{"$f":"+Assumptions!D46","v":74.066666666666663},"kgCO2/GJ diesel"]
[null,"Lev. investment",{"$f":"IF(C183=0,0,PMT($H$181,C183,-C182))","v":0},{"$f":"IF(D183=0,0,PMT($H$181,D183,-D182))","v":1163.0092592592591},{"$f":"C184-D184","v":-1163.0092592592591},null,"Diesel price",{"$f":"+Assumptions!G28","v":0.37735849056603771},"US$/liter"]
[null,"Annual O&M",{"$f":"C182*H190","v":0},{"$f":"D182*H190","v":348.90277777777777},{"$f":"C185-D185","v":-348.90277777777777}]
[null,"Annual fuelcost",null,{"$f":"H194*H195*H184","v":12000},{"$f":"C186-D186","v":-12000},null,"Reduction option: Zero tillage"]
[null,"Total annual cost",{"$f":"SUM(C184:C186)","v":0},{"$f":"SUM(D184:D186)","v":13511.912037037036},{"$f":"C187-D187","v":-13511.912037037036},null,"Activity ",1000,"ha/year"]
[]
[null,"Annual emissions (tons)","Tons","Tons","Reduction",null,"Reference option: Normal tillage"]
[null,"Fuel  CO2-eq. emission",0,{"$f":"H194*H195/1000*H196*H197*H183/1000","v":85.727053103999992},{"$f":"D190-C190","v":85.727053103999992},null,"O&M  ",0.02,"Of investment"]
[null,"Other",null,null,null,null,"Activity",1,"tractor"]
[null,"Total CO2-eq. emission ",{"$f":"C190","v":0},{"$f":"D190","v":85.727053103999992},{"$f":"D192-C192","v":85.727053103999992},null,"Cost of tractor + plough",25121,"US$"]
[null,null,null,null,null,null,"Fraction of tractor used for tillage",0.15]
[null,"US$/ton CO2-eq.",null,null,{"$f":"IF(E192<>0,E187/E192,0)","v":-157.6154964832983},null,"Area covered by tractor",{"$f":"H187","v":1000},"ha/year"]
[null,null,null,null,null,null,"Diesel usage",31.8,"l/ha"]
[null,null,null,null,null,null,"Density of diesel",{"$f":"+Assumptions!G30","v":0.84},"t/m3"]
[null,null,null,null,null,null,"Energy content of diesel",{"$f":"+Assumptions!G31","v":43.33},"GJ/t"]
[null,null,null,null,null,null,"Annual diesel usage",{"$f":"42.7*0.84/1000*H194*H195","v":1140.6024},"GJ"]

{"sheet":"Biomass energy","index":20,"n_rows":95,"n_cols":36,"rows_kept":95,"cut":false,"hidden":true,"merged":[[1,1,1,4],[3,1,3,4],[4,1,4,4],[5,1,5,4],[42,33,42,35],[42,24,42,26],[78,6,78,8],[73,6,73,8],[9,6,9,8],[16,6,16,8],[31,6,31,8]]}
[]
[null,"Menu for Biomass Energy options (click links below)"]
[]
[null,"1 MW Biomass power from rice husk (producing steam for industry)"]
[null,"1 MW Biomass power from biomass residues (producing distrcit heat)"]
[null,"Bagasse power from 100 kt cane/year"]
[]
[]
[null,"1 MW Biomass power from rice husk"]
[null,"Costs in","Reduction","Reference","Increase",null,"General inputs:"]
[null,"US$","Option","Option","(Red.-Ref.)",null,"Discount rate ",{"$f":"Assumptions!$C$13","v":0}]
[null,"Total investment",{"$f":"H20*1000000/H19","v":986038.39441535762},null,{"$f":"C12-D12","v":986038.39441535762},null,"Reference electricity price",{"$f":"+Assumptions!C35","v":0},"US$/kWh"]
[null,"Project life",25,null,null,null,"CO2-eq. emission coefficient",{"$f":"+Assumptions!C39","v":0},"tCO2/MWh"]
[null,"Lev. investment",{"$f":"IF(C13=0,0,PMT($H$11,C13,-C12))","v":39441.535776614306},null,{"$f":"C14-D14","v":39441.535776614306},null,"CO2-eq. emission coefficient for coal",{"$f":"+Assumptions!D52","v":94.600000000000009},"kgCO2/GJ"]
[null,"Annual O&M",{"$f":"C12*H18","v":39441.535776614306},null,{"$f":"C15-D15","v":39441.535776614306},null,"Coal price",{"$f":"+Assumptions!K29","v":2.0032051282051282},"US$/GJ"]
[null,"Annual fuelcost",{"$f":"H29*H30/H19","v":777650.93652843544},{"$f":"(H22*1000*H12+H35*H15)/H19","v":121914.82572115381},{"$f":"C16-D16","v":655736.11080728169}]
[null,"Total annual cost",{"$f":"SUM(C14:C16)","v":856534.0080816641},{"$f":"SUM(D14:D16)","v":121914.82572115381},{"$f":"C17-D17","v":734619.18236051034},null,"Reduction option: Rice husk power plant"]
[null,null,null,null,null,null,"O&M  ",0.04]
[null,"Annual emissions (tons)","Tons","Tons","Reduction",null,"Activity",6,"MW"]
[null,"Fuel  CO2-eq. emission",null,{"$f":"H22*H13/H19+H35*H14/1000/H19","v":5757.3447425999984},{"$f":"D20-C20","v":5757.3447425999984},null,"Investment in Activity",{"$f":"271.2/45.84","v":5.9162303664921456},"Million US$"]
[null,"Other",null,null,null,null,"Capacity factor",8160,"Full time hours"]
[null,"Total CO2-eq. emission ",{"$f":"C20+C21","v":0},{"$f":"D20+D21","v":5757.3447425999984},{"$f":"D22-C22","v":5757.3447425999984},null,"Electricity production",{"$f":"H19*H21","v":48960},"MWh/ year"]
[null,null,null,null,null,null,"Steam production",12,"TPH"]
[null,"US$/ton CO2-eq.",null,null,{"$f":"IF(E22<>0,E17/E22,0)","v":127.59687237849138},null,"Enthalpy of steam",2778.99,"MJ/ton steam"]
[null,null,null,null,null,null,"Steam energy needed",{"$f":"H24*H23*24*365/1000","v":292127.42879999994},"GJ/year"]
[null,null,null,null,null,null,"Calorific value of rice husk",{"$f":"3.1*4.1868","v":12.97908},"GJ/t"]
[null,null,null,null,null,null,"El. efficiency of power plant",0.2]
[null,null,null,null,null,null,"Specific use of rice husk",{"$f":"1/H27*3.6/H26","v":1.386847141708041},"ton  rice husk /MWh"]
[null,null,null,null,null,null,"Total use of rice husk",{"$f":"H28*H22","v":67900.036058025682},"ton rice husk/yr"]
[null,null,null,null,null,null,"Price of rice husk",{"$f":"3150/45.84","v":68.717277486910987},"$/ton"]
[]
[null,null,null,null,null,null,"Reference option: Grid electricity and coal fired boiler"]
[null,null,null,null,null,null,"Steam energy needed",{"$f":"H25","v":292127.42879999994},"GJ/year"]
[null,null,null,null,null,null,"Efficiency of coal boiler",0.8]
[null,null,null,null,null,null,"Coal input needed",{"$f":"H33/H34","v":365159.28599999991},"GJ/year"]
[]
[]
[]
[]
[]
[]
[null,"1 MW Biomass power from biomass residues - 2025",null,null,null,null,null,null,null,null,"1 MW Biomass power from biomass residues - 2030",null,null,null,null,null,null,null,null,"1 MW Biomass power from biomass residues - 2040",null,null,null,null,null,null,null,null,"1 MW Biomass power from biomass residues - 2050"]
[null,"Costs in","Reduction","Reference","Increase",null,"General inputs:",null,null,null,"Costs in","Reduction","Reference","Increase",null,"General inputs:",null,null,null,"Costs in","Reduction","Reference","Increase",null,"General inputs:",null,null,null,"Costs in","Reduction","Reference","Increase",null,"General inputs:"]
[null,"US$","Option","Option","(Red.-Ref.)",null,"Discount rate ",{"$f":"Assumptions!$C$13","v":0},null,null,"US$","Option","Option","(Red.-Ref.)",null,"Discount rate ",{"$f":"Assumptions!$C$13","v":0},null,null,"US$","Option","Option","(Red.-Ref.)",null,"Discount rate ",{"$f":"Assumptions!$C$13","v":0},null,null,"US$","Option","Option","(Red.-Ref.)",null,"Discount rate ",{"$f":"Assumptions!$C$13","v":0}]
[null,"Total investment",{"$f":"H51*1000/H50","v":2844940.4761904762},null,{"$f":"C45-D45","v":2844940.4761904762},null,"Reference electricity price",{"$f":"+Assumptions!C35","v":0},"US$/kWh",null,"Total investment",{"$f":"Q51*1000/Q50","v":2713690.4761904762},null,{"$f":"L45-M45","v":2713690.4761904762},null,"Reference electricity price",{"$f":"+Assumptions!C35","v":0},"US$/kWh",null,"Total investment",{"$f":"Z51*1000/Z50","v":2322619.0476190476},null,{"$f":"U45-V45","v":2322619.0476190476},null,"Reference electricity price",{"$f":"+Assumptions!C35","v":0},"US$/kWh",null,"Total investment",{"$f":"AI51*1000/AI50","v":2322619.0476190476},null,{"$f":"AD45-AE45","v":2322619.0476190476},null,"Reference electricity price",{"$f":"+Assumptions!C35","v":0},"US$/kWh"]
[null,"Project life",20,null,null,null,"CO2-eq. emission coefficient",{"$f":"+Assumptions!C39","v":0},"tCO2/MWh",null,"Project life",20,null,null,null,"CO2-eq. emission coefficient",{"$f":"+Assumptions!C39","v":0},"tCO2/MWh",null,"Project life",20,null,null,null,"CO2-eq. emission coefficient",{"$f":"+Assumptions!C39","v":0},"tCO2/MWh",null,"Project life",20,null,null,null,"CO2-eq. emission coefficient",{"$f":"+Assumptions!C39","v":0},"tCO2/MWh"]
[null,"Lev. investment",{"$f":"IF(C46=0,0,PMT($H$44,C46,-C45))","v":142247.02380952382},null,{"$f":"C47-D47","v":142247.02380952382},null,null,null,null,null,"Lev. investment",{"$f":"IF(L46=0,0,PMT($Q$44,L46,-L45))","v":135684.52380952382},null,{"$f":"L47-M47","v":135684.52380952382},null,null,null,null,null,"Lev. investment",{"$f":"IF(U46=0,0,PMT($Z$44,U46,-U45))","v":116130.95238095238},null,{"$f":"U47-V47","v":116130.95238095238},null,null,null,null,null,"Lev. investment",{"$f":"IF(AD46=0,0,PMT($AI$44,AD46,-AD45))","v":116130.95238095238},null,{"$f":"AD47-AE47","v":116130.95238095238}]
[null,"Annual O&M",{"$f":"C45*H49","v":113797.61904761905},null,{"$f":"C48-D48","v":113797.61904761905},null,"Reduction option: Biomass residues power plant",null,null,null,"Annual O&M",{"$f":"L45*Q49","v":108547.61904761905},null,{"$f":"L48-M48","v":108547.61904761905},null,"Reduction option: Biomass residues power plant",null,null,null,"Annual O&M",{"$f":"U45*Z49","v":92904.761904761908},null,{"$f":"U48-V48","v":92904.761904761908},null,"Reduction option: Biomass residues power plant",null,null,null,"Annual O&M",{"$f":"AD45*AI49","v":92904.761904761908},null,{"$f":"AD48-AE48","v":92904.761904761908},null,"Reduction option: Biomass residues power plant"]
[null,"Annual fuelcost",{"$f":"H57*H58/H50","v":169541.47105483053},{"$f":"H53/H50*H45*1000","v":0},{"$f":"C49-D49","v":169541.47105483053},null,"O&M  ",0.04,null,null,"Annual fuelcost",{"$f":"Q57*Q58/Q50","v":169541.47105483053},{"$f":"Q53/Q50*Q45*1000","v":0},{"$f":"L49-M49","v":169541.47105483053},null,"O&M  ",0.04,null,null,"Annual fuelcost",{"$f":"Z57*Z58/Z50","v":169541.47105483053},{"$f":"Z53/Z50*Z45*1000","v":0},{"$f":"U49-V49","v":169541.47105483053},null,"O&M  ",0.04,null,null,"Annual fuelcost",{"$f":"AI57*AI58/AI50","v":169541.47105483053},{"$f":"AI53/AI50*AI45*1000","v":0},{"$f":"AD49-AE49","v":169541.47105483053},null,"O&M  ",0.04]
[null,"Total annual cost",{"$f":"SUM(C47:C49)","v":425586.11391197343},{"$f":"SUM(D47:D49)","v":0},{"$f":"C50-D50","v":425586.11391197343},null,"Activity",1,"MW",null,"Total annual cost",{"$f":"SUM(L47:L49)","v":413773.61391197343},{"$f":"SUM(M47:M49)","v":0},{"$f":"L50-M50","v":413773.61391197343},null,"Activity",1,"MW",null,"Total annual cost",{"$f":"SUM(U47:U49)","v":378577.18534054479},{"$f":"SUM(V47:V49)","v":0},{"$f":"U50-V50","v":378577.18534054479},null,"Activity",1,"MW",null,"Total annual cost",{"$f":"SUM(AD47:AD49)","v":378577.18534054479},{"$f":"SUM(AE47:AE49)","v":0},{"$f":"AD50-AE50","v":378577.18534054479},null,"Activity",1,"MW"]
[null,null,null,null,null,null,"Investment in Activity",{"$f":"(2500/0.84+Q51)/2","v":2844.9404761904761},"Million US$",null,null,null,null,null,null,"Investment in Activity",{"$f":"(2350+2209)/2/0.84","v":2713.6904761904761},"Million US$",null,null,null,null,null,null,"Investment in Activity",{"$f":"1951/0.84","v":2322.6190476190477},"Million US$",null,null,null,null,null,null,"Investment in Activity",{"$f":"1951/0.84","v":2322.6190476190477},"Million US$"]
[null,"Annual emissions (tons)","Tons","Tons","Reduction",null,"Capacity factor",5000,"Full time hours",null,"Annual emissions (tons)","Tons","Tons","Reduction",null,"Capacity factor",5000,"Full time hours",null,"Annual emissions (tons)","Tons","Tons","Reduction",null,"Capacity factor",5000,"Full time hours",null,"Annual emissions (tons)","Tons","Tons","Reduction",null,"Capacity factor",5000,"Full time hours"]
[null,"Fuel  CO2-eq. emission",null,{"$f":"H53*H46/H50","v":0},{"$f":"D53-C53","v":0},null,"Electricity production",{"$f":"H50*H52","v":5000},"MWh/ year",null,"Fuel  CO2-eq. emission",null,{"$f":"Q53*Q46/Q50","v":0},{"$f":"M53-L53","v":0},null,"Electricity production",{"$f":"Q50*Q52","v":5000},"MWh/ year",null,"Fuel  CO2-eq. emission",null,{"$f":"Z53*Z46/Z50","v":0},{"$f":"V53-U53","v":0},null,"Electricity production",{"$f":"Z50*Z52","v":5000},"MWh/ year",null,"Fuel  CO2-eq. emission",null,{"$f":"AI53*AI46/AI50","v":0},{"$f":"AE53-AD53","v":0},null,"Electricity production",{"$f":"AI50*AI52","v":5000},"MWh/ year"]
[null,"Other",null,null,null,null,"Calorific value of biomass",12.97,"GJ/t",null,"Other",null,null,null,null,"Calorific value of biomass",12.97,"GJ/t",null,"Other",null,null,null,null,"Calorific value of biomass",12.97,"GJ/t",null,"Other",null,null,null,null,"Calorific value of biomass",12.97,"GJ/t"]
[null,"Total CO2-eq. emission ",{"$f":"C53+C54","v":0},{"$f":"D53+D54","v":0},{"$f":"D55-C55","v":0},null,"El. efficiency of power plant",0.3,null,null,"Total CO2-eq. emission ",{"$f":"L53+L54","v":0},{"$f":"M53+M54","v":0},{"$f":"M55-L55","v":0},null,"El. efficiency of power plant",0.3,null,null,"Total CO2-eq. emission ",{"$f":"U53+U54","v":0},{"$f":"V53+V54","v":0},{"$f":"V55-U55","v":0},null,"El. efficiency of power plant",0.3,null,null,"Total CO2-eq. emission ",{"$f":"AD53+AD54","v":0},{"$f":"AE53+AE54","v":0},{"$f":"AE55-AD55","v":0},null,"El. efficiency of power plant",0.3]
[null,null,null,null,null,null,"Specific use of biomass",{"$f":"1/H55*3.6/H54","v":0.9252120277563608},"ton biomass/MWh",null,null,null,null,null,null,"Specific use of biomass",{"$f":"1/Q55*3.6/Q54","v":0.9252120277563608},"ton biomass/MWh",null,null,null,null,null,null,"Specific use of biomass",{"$f":"1/Z55*3.6/Z54","v":0.9252120277563608},"ton biomass/MWh",null,null,null,null,null,null,"Specific use of biomass",{"$f":"1/AI55*3.6/AI54","v":0.9252120277563608},"ton biomass/MWh"]
[null,"US$/ton CO2-eq.",null,null,{"$f":"IF(E55<>0,E50/E55,0)","v":0},null,"Use of biomass",{"$f":"H56*H53","v":4626.0601387818042},"ton/year",null,"US$/ton CO2-eq.",null,null,{"$f":"IF(N55<>0,N50/N55,0)","v":0},null,"Use of biomass",{"$f":"Q56*Q53","v":4626.0601387818042},"ton/year",null,"US$/ton CO2-eq.",null,null,{"$f":"IF(W55<>0,W50/W55,0)","v":0},null,"Use of biomass",{"$f":"Z56*Z53","v":4626.0601387818042},"ton/year",null,"US$/ton CO2-eq.",null,null,{"$f":"IF(AF55<>0,AF50/AF55,0)","v":0},null,"Use of biomass",{"$f":"AI56*AI53","v":4626.0601387818042},"ton/year"]
[null,null,null,null,null,null,"Price of biomass",{"$f":"280/7.64","v":36.649214659685867},"$/ton",null,null,null,null,null,null,"Price of biomass",{"$f":"280/7.64","v":36.649214659685867},"$/ton",null,null,null,null,null,null,"Price of biomass",{"$f":"280/7.64","v":36.649214659685867},"$/ton",null,null,null,null,null,null,"Price of biomass",{"$f":"280/7.64","v":36.649214659685867},"$/ton"]
[null,null,null,null,null,null,"Cost of electricity produced",{"$f":"+C47/(H53/12)/1000","v":0.34139285714285716},"US$/kWh",null,null,null,null,null,null,"Cost of electricity produced",{"$f":"+L47/(Q53/12)/1000","v":0.32564285714285718},"US$/kWh",null,null,null,null,null,null,"Cost of electricity produced",{"$f":"+U47/(Z53/12)/1000","v":0.27871428571428575},"US$/kWh",null,null,null,null,null,null,"Cost of electricity produced",{"$f":"+AD47/(AI53/12)/1000","v":0.27871428571428575},"US$/kWh"]
[]
[null,null,null,null,null,null,"Reference option: No Biomass power",null,null,null,null,null,null,null,null,"Reference option: No Biomass power",null,null,null,null,null,null,null,null,"Reference option: No Biomass power",null,null,null,null,null,null,null,null,"Reference option: No Biomass power"]
[]
[]
[]
[]
[]
[]
[]
[]
[]
[]
[]
[null,"Bagasse power from 100 kt cane/year"]
[null,"Costs in","Reduction","Reference","Increase",null,"General inputs:"]
[null,"US$","Option","Option","(Red.-Ref.)",null,"Discount rate ",{"$f":"Assumptions!$C$13","v":0}]
[null,"Total investment",{"$f":"H83*1000000*100/H81","v":2429430.380556826},null,{"$f":"C76-D76","v":2429430.380556826},null,"Reference electricity price",{"$f":"+Assumptions!C35","v":0},"US$/kWh"]
[null,"Project life",20,null,null,null,"CO2-eq. emission coefficient",{"$f":"+Assumptions!C39","v":0},"tCO2/MWh"]
[null,"Lev. investment",{"$f":"IF(C77=0,0,PMT($H$75,C77,-C76))","v":121471.51902784131},null,{"$f":"C78-D78","v":121471.51902784131}]
[null,"Annual O&M",{"$f":"C76*H80","v":97177.215222273036},null,{"$f":"C79-D79","v":97177.215222273036},null,"Reduction option: Bagasse power plant"]
[null,"Annual fuelcost",{"$f":"H92*H93*100/H81","v":150285.39367779472},{"$f":"H87*1000*H76*100/H81","v":0},{"$f":"C80-D80","v":150285.39367779472},null,"O&M  ",0.04,"Of investment"]
[null,"Total annual cost",{"$f":"SUM(C78:C80)","v":368934.12792790908},{"$f":"SUM(D78:D80)","v":0},{"$f":"C81-D81","v":368934.12792790908},null,"Cane crushing capacity",{"$f":"2500*210/1000","v":525},"kt cane/year"]
[null,null,null,null,null,null,"Activity",12,"MW"]
[null,"Annual emissions (tons)","Tons","Tons","Reduction",null,"Investment in Activity",{"$f":"211187/16557.83","v":12.754509497923337},"Million US$"]
[null,"Fuel  CO2-eq. emission",null,{"$f":"H87*H77*100/H81","v":0},{"$f":"D84-C84","v":0},null,"Capacity factor",7200,"Full time hours"]
[null,"Other",null,null,null,null,"Electricity production",{"$f":"H82*H84","v":86400},"MWh/ year"]
[null,"Total CO2-eq. emission ",{"$f":"C84+C85","v":0},{"$f":"D84+D85","v":0},{"$f":"D86-C86","v":0},null,"Electricity used at sugar plant",12960,"MWh/ year"]
[null,null,null,null,null,null,"Electricity sold to grid",{"$f":"H85-H86","v":73440},"MWh/ year"]
[null,"US$/ton CO2-eq.",null,null,{"$f":"IF(E86<>0,E81/E86,0)","v":0},null,"Calorific value of biomass",12.97,"GJ/t"]
[null,null,null,null,null,null,"El. efficiency of power plant",0.18]
[null,null,null,null,null,null,"Specific use of biomass",{"$f":"(H91+H92)/H85","v":2.3289930555555554},"ton biomass/MWh"]
[null,null,null,null,null,null,"Use of bagasse",157678,"ton/year"]
[null,null,null,null,null,null,"Use of rice husk",43547,"ton/year"]
[null,null,null,null,null,null,"Price of rice husk",{"$f":"300000/16557.83","v":18.118316228636239},"$/ton"]
[]
[null,null,null,null,null,null,"Reference option: Old bagasse boiler"]

{"sheet":"CCS","index":21,"n_rows":25,"n_cols":9,"rows_kept":25,"cut":false,"hidden":true,"merged":[[7,6,7,8],[11,6,11,8],[1,1,1,4],[2,1,2,4]]}
[]
[null,"Menu for CCS options (click links below)"]
[null,"CCS power plant"]
[]
[]
[]
[null,"CCS power plant - 1 MW"]
[null,"Costs in","Reduction","Reference","Increase",null,"General inputs:"]
[null,"US$","Option","Option","(Red.-Ref.)",null,"Discount rate ",{"$f":"Assumptions!$C$13","v":0}]
[null,"Total investment",{"$f":"H14/H13*1000000","v":12886597.93814433},{"$f":"H22*1000","v":1200000},{"$f":"C10-D10","v":11686597.93814433},null,"CO2-eq. emission coefficient",{"$f":"+Assumptions!C39","v":0},"tCO2/MWh"]
[null,"Project life",20,20]
[null,"Lev. investment",{"$f":"IF(C11=0,0,PMT($H9,C11,-C10))","v":644329.89690721652},{"$f":"IF(D11=0,0,PMT($H9,D11,-D10))","v":60000},{"$f":"C12-D12","v":584329.89690721652},null,"Reduction option: CCS fired power plant"]
[null,"Annual O&M",0,0,{"$f":"C13-D13","v":0},null,"Activity",582,"MW"]
[null,"Annual fuelcost",0,0,{"$f":"C14-D14","v":0},null,"Cost of CCS",7500,"MUS$"]
[null,"Total annual cost",{"$f":"SUM(C12:C14)","v":644329.89690721652},{"$f":"SUM(D12:D14)","v":60000},{"$f":"C15-D15","v":584329.89690721652},null,"Capacity factor",5000,"Full time hours"]
[null,null,null,null,null,null,"Electricity production",{"$f":"H13*H15","v":2910000},"MWh/ year"]
[null,"Annual emissions (tons)","Tons","Tons","Reduction",null,"Amount of CO2 captured",3.5,"MtCO2/year"]
[null,"Fuel  CO2-eq. emission",{"$f":"D18*(1-H18)","v":601.37457044673522},{"$f":"+H17*1000000/H13","v":6013.7457044673538},{"$f":"D18-C18","v":5412.3711340206182},null,"Share of CO2 captured",0.9]
[null,"Other",null,null,null,null,"Electricity production",{"$f":"H16*H18","v":2619000},"MWh/ year"]
[null,"Total CO2-eq. emission ",{"$f":"C18+C19","v":601.37457044673522},{"$f":"D18+D19","v":6013.7457044673538},{"$f":"D20-C20","v":5412.3711340206182}]
[null,null,null,null,null,null,"Reference option: No CCS"]
[null,"US$/ton CO2-eq.",null,null,{"$f":"IF(E20<>0,E15/E20,0)","v":107.96190476190478},null,"Cost of coalfired power plant",1200,"$/kW"]
[]
[null,null,null,null,null,null,"See  David Keith "]
[null,null,null,null,null,null,"https://www.cell.com/joule/pdfExtended/S2542-4351(18)30225-3"]

{"sheet":"Cement","index":22,"n_rows":36,"n_cols":9,"rows_kept":36,"cut":false,"hidden":true,"merged":[[7,6,7,8],[20,6,20,8],[1,1,1,4],[2,1,2,4]]}
[]
[null,"Menu for Cement Industry options (click links below)"]
[null,"Clinker replacement in cement (1000 ton blended cement/day)"]
[]
[]
[]
[null,"Clinker replacement in cement (1000 ton cement/day)"]
[null,"Costs in","Reduction","Reference","Increase",null,"General inputs:"]
[null,"US$","Option","Option","(Red.-Ref.)",null,"Discount rate ",{"$f":"+DiscountRate","v":0}]
[null,"Total investment",{"$f":"H22*1000000*1000/H32","v":7131233.080485357},null,null,null,"Limestone price",{"$f":"29.2/7.64","v":3.8219895287958114},"US$/t"]
[null,"Project life",20,null,null,null,"1 tonne limestone produce",{"$f":"56/110","v":0.50909090909090904},"t clinker"]
[null,"Lev. investment",{"$f":"IF(C11=0,0,PMT($H9,C11,-C10))","v":356561.65402426786},null,{"$f":"C12-D12","v":356561.65402426786},null,"Coal price",{"$f":"+Assumptions!C21","v":50},"US$/t coal"]
[null,"Annual material cost",{"$f":"(H26*H10+H28*H29)*1000/H32","v":1455154.2632759912},{"$f":"H36*H10*1000/H32","v":1918160.9947643979},{"$f":"C13-D13","v":-463006.73148840666},null,"CO2-eq. emission for coal",{"$f":"+Assumptions!D52","v":94.600000000000009},"kgCO2/GJ"]
[null,"Annual fuel cost",{"$f":"H25*H18*H12*1000/H32","v":1100200.5999250095},{"$f":"H35*H18*H12*1000/H32","v":1540280.839895013},{"$f":"C14-D14","v":-440080.23997000349},null,"Electricity price",{"$f":"+Assumptions!C35","v":0},"US$/kWh"]
[null,"Annual electricity cost",{"$f":"+H25*H17*H14*1000/H32","v":0},{"$f":"H17*H27*H14*1000/H32","v":0},{"$f":"C15-D15","v":0},null,"CO2-eq. emission coefficient",{"$f":"+Assumptions!C39","v":0},"tCO2/MWh"]
[null,"Total annual cost",{"$f":"SUM(C12:C15)","v":2911916.5172252683},{"$f":"SUM(D12:D15)","v":3458441.8346594106},{"$f":"C16-D16","v":-546525.31743414234},null,"CO2-eq. emission coefficient",{"$f":"44/56","v":0.7857142857142857},"tCO2/t clinker"]
[null,null,null,null,null,null,"Clinker production & grinding",{"$f":"36244000/H35","v":67.949006374203222},"kWh/t clinker"]
[null,"Annual emissions (tons)","Tons","Tons","Reduction",null,"Firing of kiln",{"$f":"64312/H35","v":0.12056992875890514},"t coal/t clinker"]
[null,"Fuel  CO2-eq. emission",{"$f":"H25*(H17*H15+H18*H19*H13)/H32","v":51956.225195050625},{"$f":"H35*(H17*H15+H18*H19*H13)/H32","v":72738.715273070862},{"$f":"D19-C19","v":20782.490078020237},null,"Caloric value of coal",{"$f":"+Assumptions!K31","v":24.96},"GJ/t"]
[null,"Other",{"$f":"H27*H16*1000/H32","v":57357.142857142833},{"$f":"H35*H16*1000/H32","v":200749.99999999997},{"$f":"D20-C20","v":143392.85714285713}]
[null,"Total CO2-eq. emission ",{"$f":"C19+C20","v":109313.36805219346},{"$f":"D19+D20","v":273488.71527307085},{"$f":"D21-C21","v":164175.34722087739},null,"Reduction option: Increased blend"]
[null,null,null,null,null,null,"Investment",{"$f":"113.7418/7.64","v":14.887670157068063},"Million US$"]
[null,"US$/ton CO2-eq.",null,null,{"$f":"IF(E21<>0,E16/E21,0)","v":-3.3289122068909709},null,"Share of clinker",0.5,"tClinker/tBC"]
[null,null,null,null,null,null,"Clinker production",{"$f":"H34/H33*H23","v":1043.8356164383563},"ton clinker/day"]
[null,null,null,null,null,null,"Clinker production",{"$f":"H24*365","v":381000.00000000006},"ton clinker/year"]
[null,null,null,null,null,null,"Limestone use",{"$f":"H25/H11","v":748392.85714285739},"t limestone/year"]
[null,null,null,null,null,null,"Reduction of clinker use",{"$f":"+H35-H25","v":152399.99999999994},"ton clinker/year"]
[null,null,null,null,null,null,"Use of additives",{"$f":"+H27","v":152399.99999999994},"ton additives/year"]
[null,null,null,null,null,null,"Price of additives",{"$f":"8.9/7.64","v":1.1649214659685865},"US$/t"]
[]
[null,null,null,null,null,null,"Reference option: Normal blend"]
[null,null,null,null,null,null,"Cement production",{"$f":"H34/H33","v":2087.6712328767126},"ton BC/day"]
[null,null,null,null,null,null,"Share of clinker",0.7,"tClinker/tBC"]
[null,null,null,null,null,null,"Clinker production",{"$f":"533400/365","v":1461.3698630136987},"ton clinker/day"]
[null,null,null,null,null,null,"Clinker production",{"$f":"H34*365","v":533400},"ton clinker/year"]
[null,null,null,null,null,null,"Limestone use",{"$f":"H35/H11","v":1047750.0000000001},"t limestone/year"]

{"sheet":"Coal bed mine methane","index":23,"n_rows":31,"n_cols":9,"rows_kept":31,"cut":false,"hidden":true,"merged":[[9,6,9,8],[17,6,17,8],[1,1,1,4],[2,1,2,4]]}
[]
[null,"Menu for Coalmine CH4 options (click links below)"]
[null,"Coal mine methane plant"]
[]
[]
[]
[]
[]
[null,"Coal Mine Methane - CMM (using 10 Mm3 CMM/year)"]
[null,"Costs in","Reduction","Reference","Increase",null,"General inputs:"]
[null,"US$","Option","Option","(Red.-Ref.)",null,"Discount rate ",{"$f":"Assumptions!$C$13","v":0}]
[null,"Total investment",{"$f":"H20*1000000*10/H22","v":1188691.0994764399},null,null,null,"Reference electricity price",{"$f":"+Assumptions!C35","v":0},"US$/kWh"]
[null,"Project life",15,null,null,null,"CO2-eq. emission coefficient",{"$f":"+Assumptions!C39","v":0},"tCO2/MWh"]
[null,"Lev. investment",{"$f":"IF(C13=0,0,PMT(+H11,C13,-C12))","v":79246.073298429328},null,{"$f":"C14-D14","v":79246.073298429328},null,"CH4 density",0.67100000000000004,"kg/m3"]
[null,"Annual O&M",{"$f":"C12*H21","v":178303.66492146597},null,{"$f":"C15-D15","v":178303.66492146597},null,"CH4 calorific value",{"$f":"+Assumptions!O31","v":39},"MJ/m3"]
[null,"Annual fuelcost",0,{"$f":"+H27*1000*H12*10/H22","v":0},{"$f":"C16-D16","v":0},null,"GWP for CH4",{"$f":"Assumptions!F64","v":28}]
[null,"Total annual cost",{"$f":"SUM(C14:C16)","v":257549.73821989528},{"$f":"SUM(D14:D16)","v":0},{"$f":"C17-D17","v":257549.73821989528}]
[null,null,null,null,null,null,"Reduction option: CMM plant"]
[null,"Annual emissions (tons)","Tons","Tons","Reduction",null,"Activity",5,"MW"]
[null,"Fuel  CO2-eq. emission",0,{"$f":"H27*H13*10/H22","v":0},{"$f":"D20-C20","v":0},null,"Investment in Activity",{"$f":"36.3264/7.64","v":4.7547643979057597},"Million US$"]
[null,"Other",null,{"$f":"H31*1000000*H14/1000*21*10/H22","v":33818.400000000001},null,null,"O&M  ",0.15,"Of investment/year"]
[null,"Total CO2-eq. emission ",{"$f":"C20+C21","v":0},{"$f":"D20+D21","v":33818.400000000001},{"$f":"D22-C22","v":33818.400000000001},null,"CMM gas extracted",40,"Mm3 CMM gas/year"]
[null,null,null,null,null,null,"Concentration of CMM gas",0.24,"CH4/year"]
[null,"US$/ton CO2-eq.",null,null,{"$f":"IF(E22<>0,E17/E22,0)","v":7.6156689322941142},null,"CH4 extracted",{"$f":"H22*H23","v":9.6},"Mm3"]
[null,null,null,null,null,null,"Energy in CH4 extracted",{"$f":"H24*H15*1000","v":374400},"GJ/year"]
[null,null,null,null,null,null,"El. efficiency of power plant",0.28000000000000003]
[null,null,null,null,null,null,"Electricity production",{"$f":"H25/3.6*H26","v":29120.000000000004},"MWh/ year"]
[null,null,null,null,null,null,"Capacity factor",{"$f":"H27/H19","v":5824.0000000000009},"Full time hours"]
[]
[null,null,null,null,null,null,"Reference option: Venting of coal mine methane"]
[null,null,null,null,null,null,"CH4 vented",{"$f":"+H24","v":9.6},{"$f":"+I24","v":"Mm3"}]

{"sheet":"EE households","index":24,"n_rows":326,"n_cols":9,"rows_kept":326,"cut":false,"hidden":true,"merged":[[191,6,191,8],[197,6,197,8],[306,6,306,8],[278,6,278,8],[252,6,252,8],[223,6,223,8],[1,1,1,3],[3,1,3,3],[4,1,4,3],[5,1,5,3],[7,1,7,3],[163,6,163,8],[169,6,169,8],[81,6,81,8],[15,6,15,8],[133,6,133,8],[49,6,49,8],[107,6,107,8]]}
[]
[null,"Menu for EE household options (click links below)"]
[]
[null,"Efficient residential airconditioner (1000 units)"]
[null,"Efficient domestic lighting with CFLs (1000 bulps)"]
[null,"Efficient domestic lighting with LEDs (1000 bulps)"]
[null,"Efficient domestic lighting with LEDs replacing CFLs (1000 bulps)"]
[null,"Efficient refrigerator (1000 units)"]
[null,"Efficient wood stoves (1000 units)"]
[null,"Efficient charcoal stoves (1000 units)"]
[null,"LPG replacing woodstoves (1000 units)"]
[null,"Efficient electric stoves (1000 units)"]
[]
[]
[null,"Efficient residential air conditioner (1000 units)"]
[null,"Costs in","Reduction","Reference","Increase",null,"General inputs:"]
[null,"US$","Option","Option","(Red.-Ref.)",null,"Discount rate ",{"$f":"+DiscountRate","v":0}]
[null,"Total investment",{"$f":"H25*H23","v":130000},null,{"$f":"C18-D18","v":130000},null,"Average electricity price",{"$f":"+Assumptions!C35","v":0},"US$/kWh"]
[null,"Project life",8,null,null,null,"CO2-eq. emission coefficient",{"$f":"+Assumptions!C39","v":0},"ton CO2-eq./MWh"]
[null,"Lev. investment",{"$f":"IF(C19=0,0,PMT($H17,C19,-C18))","v":16250},{"$f":"IF(D19=0,0,PMT($H$17,D19,-D18))","v":0},null,null,"Grid loss",{"$f":"+Assumptions!C40","v":1}]
[null,"Annual O&M",{"$f":"PMT(H17,C19,-(+H22*H23))","v":0},{"$f":"PMT(H17,C19,-(+H32*H33))","v":0},null,null,"Reduction option: Efficient air conditioner"]
[null,"Annual electricity cost",{"$f":"H30*1000*H18","v":0},{"$f":"H40*1000*H18","v":0},{"$f":"C22-D22","v":0},null,"O&M ",0,"US$"]
[null,"Total annual cost",{"$f":"SUM(C20:C22)","v":16250},{"$f":"SUM(D20:D22)","v":0},{"$f":"C23-D23","v":16250},null,"Activity",1000,"Air conditioner"]
[null,null,null,null,null,null,"Lifetime",5,"yrs"]
[null,"Annual emissions (tons)","Tons","Tons","Reduction",null,"Extra cost for eff. air conditioner",130,"US$"]
[null,"Fuel  CO2-eq. emission",{"$f":"H30*H19/(1-H20)","v":{"$error":"#DIV/0!"}},{"$f":"H40*H19/(1-H20)","v":{"$error":"#DIV/0!"}},{"$f":"D26-C26","v":{"$error":"#DIV/0!"}},null,"Cooling capacity",{"$f":"H34","v":2.5},"kW"]
[null,"Other",null,null,null,null,"COP",4]
[null,"Total CO2-eq. emission ",{"$f":"C26+C27","v":{"$error":"#DIV/0!"}},{"$f":"D26+D27","v":{"$error":"#DIV/0!"}},{"$f":"D28-C28","v":{"$error":"#DIV/0!"}},null,"Input power",{"$f":"H26/H27","v":0.625},"kW"]
[null,null,null,null,null,null,"Annual usage",{"$f":"H39","v":4200},"hrs"]
[null,"US$/ton CO2-eq.",null,null,{"$f":"IF(E28<>0,E23/E28,0)","v":{"$error":"#DIV/0!"}},null,"Annual electricity used",{"$f":"H23*H28*H29/1000","v":2625},"MWh"]
[null,null,null,null,null,null,"Reference option: Conventional air conditioner"]
[null,null,null,null,null,null,"O&M ",0,"US$"]
[null,null,null,null,null,null,"Activity",{"$f":"+H23","v":1000},{"$f":"+I23","v":"Air conditioner"}]
[null,null,null,null,null,null,"Cooling capacity",2.5,"kW"]
[null,null,null,null,null,null,"COP",2.67]
[null,null,null,null,null,null,"Input power",{"$f":"H34/H35","v":0.93632958801498134},"kW"]
[null,null,null,null,null,null,"Daily usage",14,"Hours/day"]
[null,null,null,null,null,null,"Days used",300,"Days/year"]
[null,null,null,null,null,null,"Annual usage",{"$f":"H38*H37","v":4200},"hrs"]
[null,null,null,null,null,null,"Annual electricity used",{"$f":"H36*H39","v":3932.5842696629215},"MWh"]
[]
[null,null,null,null,null,null,"Electricity saved 1 unit",{"$f":"+H40-H30","v":1307.5842696629215},"MWh"]
[null,null,null,null,null,null,"Electricity saved compared to reference",{"$f":"(H40-H30)/H40","v":0.33250000000000002},"Saving"]
[]
[]
[]
[]
[]
[null,"Efficient domestic lighting with CFLs (1000 bulps)"]
[null,"Costs in","Reduction","Reference","Increase",null,"General inputs:"]
[null,"US$","Option","Option","(Red.-Ref.)",null,"Discount rate ",{"$f":"+DiscountRate","v":0}]
[null,"Total investment",{"$f":"H58*H59+H60","v":4041.7475728155346},{"$f":"H58*H70+H60","v":2500},{"$f":"+C52-D52","v":1541.7475728155346},null,"Average electricity price",{"$f":"+Assumptions!C35","v":0},"US$/kWh"]
[null,"Project life",{"$f":"H61/H63/365","v":2.3483365949119372},2,null,null,"CO2-eq. emission coefficient",{"$f":"+Assumptions!C39","v":0},"ton CO2-eq./MWh"]
[null,"Lev. investment",{"$f":"IF(C53=0,0,PMT($H51,C53,-C52))","v":1721.1108414239486},{"$f":"IF(D53=0,0,PMT($H$51,D53,-D52))","v":1250},{"$f":"C54-D54","v":471.11084142394861},null,"Grid loss",{"$f":"+Assumptions!C40","v":1}]
[null,"Annual O&M",{"$f":"PMT(H51,C53,-(+H57*H58))","v":0},{"$f":"PMT(H51,C53,-(+H68*H69*H61/H69))","v":0},{"$f":"C55-D55","v":0}]
[null,"Annual electricity cost",{"$f":"H64*1000*H52","v":0},{"$f":"H74*1000*H52","v":0},{"$f":"C56-D56","v":0},null,"Reduction option: Compact flourescent lanps "]
[null,"Total annual cost",{"$f":"SUM(C54:C56)","v":1721.1108414239486},{"$f":"SUM(D54:D56)","v":1250},{"$f":"C57-D57","v":471.11084142394861},null,"O&M ",0,"US$/lamp change"]
[null,null,null,null,null,null,"Activity",1000,"Bulbs"]
[null,"Annual emissions (tons)","Tons","Tons","Reduction",null,"Cost of 15W eff. lamp",{"$f":"14*4.163/14.42","v":4.0417475728155345},"US$"]
[null,"Fuel  CO2-eq. emission",{"$f":"H64*H53/(1-H54)","v":{"$error":"#DIV/0!"}},{"$f":"H74*H53/(1-H54)","v":{"$error":"#DIV/0!"}},{"$f":"D60-C60","v":{"$error":"#DIV/0!"}},null,"Distribution cost",0,"US$"]
[null,"Other",null,null,null,null,"Lamp lifetime",6000,"hrs"]
[null,"Total CO2-eq. emission ",{"$f":"C60+C61","v":{"$error":"#DIV/0!"}},{"$f":"D60+D61","v":{"$error":"#DIV/0!"}},{"$f":"D62-C62","v":{"$error":"#DIV/0!"}},null,"Lamp wattage",15,"W"]
[null,null,null,null,null,null,"Daily usage",7,"hrs"]
[null,"US$/ton CO2-eq.",null,null,{"$f":"IF(E62<>0,E57/E62,0)","v":{"$error":"#DIV/0!"}},null,"Annual electricity used",{"$f":"H58*H62*H63*365/1000000","v":38.325000000000003},"MWh"]
[null,null,null,null,null,null,"Electricity saved",{"$f":"H74-H64","v":63.875},"MWh"]
[]
[null,null,null,null,null,null,"Reference option: Incandescent lamps"]
[null,null,null,null,null,null,"O&M ",0,"US$/lamp change"]
[null,null,null,null,null,null,"Activity",{"$f":"+H58","v":1000},{"$f":"+I58","v":"Bulbs"}]
[null,null,null,null,null,null,"Cost of 40W  incand. lamp",2.5,"US$"]
[null,null,null,null,null,null,"Lamp lifetime 1",1000,"hours"]
[null,null,null,null,null,null,"Lamp wattage",40,"W"]
[null,null,null,null,null,null,"Daily usage",{"$f":"H63","v":7},"hrs"]
[null,null,null,null,null,null,"Annual electricity used",{"$f":"H69*H72*H73*365/1000000","v":102.2},"MWh"]
[]
[]
[]
[]
[]
[]
[null,"Efficient domestic lighting with LEDs (1000 bulbs)"]
[null,"Costs in","Reduction","Reference","Increase",null,"General inputs:"]
[null,"US$","Option","Option","(Red.-Ref.)",null,"Discount rate ",{"$f":"+DiscountRate","v":0}]
[null,"Total investment",{"$f":"H90*H91","v":10000},{"$f":"H98*H97*H90","v":15000},{"$f":"+C84-D84","v":-5000},null,"Average electricity price",{"$f":"+Assumptions!C35","v":0},"US$/kWh"]
[null,"Project life",{"$f":"+H96","v":3.9138943248532292},{"$f":"+H96","v":3.9138943248532292},null,null,"CO2-eq. emission coefficient",{"$f":"+Assumptions!C39","v":0},"ton CO2-eq./MWh"]
[null,"Lev. investment",{"$f":"IF(C85=0,0,PMT($H83,C85,-C84))","v":2555},{"$f":"IF(D85=0,0,PMT(H83,D85,-D84))","v":3832.5},{"$f":"C86-D86","v":-1277.5},null,"Grid loss",{"$f":"+Assumptions!C40","v":1}]
[null,"Annual O&M",null,null,{"$f":"C87-D87","v":0},null,"Reduction option:  LEDs"]
[null,"Annual electricity cost",{"$f":"+H92*Assumptions!C35*'EE households'!H90","v":0},{"$f":"H99*Assumptions!C35*H90","v":0},{"$f":"C88-D88","v":0},null,"Average W of LED lamps",9,"W"]
[null,"Total annual cost",{"$f":"SUM(C86:C88)","v":2555},{"$f":"SUM(D86:D88)","v":3832.5},{"$f":"C89-D89","v":-1277.5},null,"Daily usage",7,"hrs"]
[null,null,null,null,null,null,"Annual import of bulps",1000,"Bulps"]
[null,"Annual emissions (tons)","Tons","Tons","Reduction",null,"Cost of LED",10,"US$"]
[null,"Fuel  CO2-eq. emission",{"$f":"H92*H85/(1-H86)","v":{"$error":"#DIV/0!"}},{"$f":"H99*H85/(1-H86)","v":{"$error":"#DIV/0!"}},{"$f":"D92-C92","v":{"$error":"#DIV/0!"}},null,"Electricity for LED lighting",{"$f":"H88*H89*H90*365/1000000","v":22.995000000000001},"MWh/year"]
[null,"Other",null,null,null,null,"Reference option: Incandescent bulps"]
[null,"Total CO2-eq. emission ",{"$f":"C92+C93","v":{"$error":"#DIV/0!"}},{"$f":"D92+D93","v":{"$error":"#DIV/0!"}},{"$f":"D94-C94","v":{"$error":"#DIV/0!"}},null,"Average W of replaced lamps",60,"W"]
[null,null,null,null,null,null,"Lifetime of a incandescent",{"$f":"1000/H89/365","v":0.39138943248532293},"years"]
[null,"US$/ton CO2-eq.",null,null,{"$f":"IF(E94<>0,E89/E94,0)","v":{"$error":"#DIV/0!"}},null,"Lifetime of a LED",{"$f":"10000/H89/365","v":3.9138943248532292},"years"]
[null,null,null,null,null,null,"Number of replacements",{"$f":"H96/H95","v":10}]
[null,null,null,null,null,null,"Price for an incandescent bulp",1.5,"US$"]
[null,null,null,null,null,null,"Electricity for incandescent lighting",{"$f":"+H94*H89*H90*365/1000000","v":153.30000000000001},"MWh/year"]
[]
[null,null,null,null,null,null,"Electricity saving for 1000 lamps",{"$f":"+H99-H92","v":130.30500000000001},"MWh/year"]
[]
[]
[]
[]
[]
[null,"Efficient domestic lighting with LEDs replacing CFLs (1000 bulbs)"]
[null,"Costs in","Reduction","Reference","Increase",null,"General inputs:"]
[null,"US$","Option","Option","(Red.-Ref.)",null,"Discount rate ",{"$f":"+DiscountRate","v":0}]
[null,"Total investment",{"$f":"H116*H117","v":20000},{"$f":"H116*H123 + H116*H123/(1+H109)^3.3 + H123*H116/(1+H109)^6.6","v":15000},{"$f":"+C110-D110","v":5000},null,"Average electricity price",{"$f":"+Assumptions!C35","v":0},"US$/kWh"]
[null,"Project life",10,10,null,null,"CO2-eq. emission coefficient",{"$f":"Assumptions!C39","v":0},"ton CO2-eq./MWh"]
[null,"Lev. investment",{"$f":"IF(C111=0,0,PMT($H109,C111,-C110))","v":2000},{"$f":"IF(D111=0,0,PMT(H109,D111,-D110))","v":1500},{"$f":"C112-D112","v":500},null,"Grid loss",{"$f":"+Assumptions!C40","v":1}]
[null,"Annual O&M",null,null,{"$f":"C113-D113","v":0},null,"Reduction option:  LEDs"]
[null,"Annual electricity cost",{"$f":"D114*(1-H124)","v":0},{"$f":"(H114*H115*365*H116*H110/1000)","v":0},{"$f":"C114-D114","v":0},null,"Average W of replaced lamps",15,"W"]
[null,"Total annual cost",{"$f":"SUM(C112:C114)","v":2000},{"$f":"SUM(D112:D114)","v":1500},{"$f":"C115-D115","v":500},null,"Daily usage",7,"hrs"]
[null,null,null,null,null,null,"Annual import of bulps",1000,"Bulps"]
[null,"Annual emissions (tons)","Tons","Tons","Reduction",null,"Price for a LED",20,"US$"]
[null,"Fuel  CO2-eq. emission",{"$f":"D118*(1-H124)","v":{"$error":"#DIV/0!"}},{"$f":"H118*H111/(1-H112)","v":{"$error":"#DIV/0!"}},{"$f":"D118-C118","v":{"$error":"#DIV/0!"}},null,"Electricity for CFL lighting in 2020",{"$f":"H114*H115*H116*365/1000000","v":38.325000000000003},"MWh"]
[null,"Other",null,null,null,null,"Reference option: CFL"]
[null,"Total CO2-eq. emission ",{"$f":"C118+C119","v":{"$error":"#DIV/0!"}},{"$f":"D118+D119","v":{"$error":"#DIV/0!"}},{"$f":"D120-C120","v":{"$error":"#DIV/0!"}},null,"Lifetime of a CFL",6000,"hours"]
[null,null,null,null,null,null,"Lifetime of a CFL",{"$f":"H120/(H115*365)","v":2.3483365949119372},"years"]
[null,"US$/ton CO2-eq.",null,null,{"$f":"IF(E120<>0,E115/E120,0)","v":{"$error":"#DIV/0!"}},null,"Number of replacements",3]
[null,null,null,null,null,null,"Price for a CFL",5,"US$"]
[null,null,null,null,null,null,"Savings by shift to LEDs",0.4,"(like a 40W CFL)"]
[null,null,null,null,null,null,"Savings by shift to LEDs",{"$f":"H118*H124","v":15.330000000000002},"MWh"]
[]
[]
[]
[]
[]
[]
[]
[null,"Efficient  refrigerator (1000 units)"]
[null,"Costs in","Reduction","Reference","Increase",null,"General inputs:"]
[null,"US$","Option","Option","(Red.-Ref.)",null,"Discount rate ",{"$f":"+DiscountRate","v":0}]
[null,"Total investment",{"$f":"H142*H144","v":648508.43060959794},{"$f":"H151*H154","v":389105.05836575874},{"$f":"C136-D136","v":259403.3722438392},null,"Average electricity price",{"$f":"+Assumptions!C35","v":0},"US$/kWh"]
[null,"Project life",{"$f":"H143","v":10},{"$f":"H143","v":10},null,null,"CO2-eq. emission coefficient",{"$f":"+Assumptions!C39","v":0},"ton CO2-eq./MWh"]
[null,"Lev. investment",{"$f":"IF(C137=0,0,PMT($H135,C137,-C136))","v":64850.843060959793},{"$f":"IF(D137=0,0,PMT($H$135,D137,-D136))","v":38910.505836575874},{"$f":"C138-D138","v":25940.337224383919},null,"Grid loss",{"$f":"+Assumptions!C40","v":1}]
[null,"Annual O&M",{"$f":"H141","v":0},{"$f":"H150","v":0},{"$f":"C139-D139","v":0}]
[null,"Annual electricity cost",{"$f":"H147*1000*H136","v":0},{"$f":"H157*1000*H136","v":0},{"$f":"C140-D140","v":0},null,"Reduction option: Efficient refrigerator"]
[null,"Total annual cost",{"$f":"SUM(C138:C140)","v":64850.843060959793},{"$f":"SUM(D138:D140)","v":38910.505836575874},{"$f":"C141-D141","v":25940.337224383919},null,"O&M ",0,"US$"]
[null,null,null,null,null,null,"Activity",1000,"Refrigerators"]
[null,"Annual emissions (tons)","Tons","Tons","Reduction",null,"Lifetime",10,"yrs"]
[null,"Fuel  CO2-eq. emission",{"$f":"H147*H137/(1-H138)","v":{"$error":"#DIV/0!"}},{"$f":"H157*H137/(1-H138)","v":{"$error":"#DIV/0!"}},{"$f":"D144-C144","v":{"$error":"#DIV/0!"}},null,"Cost of eff. refrigerator",{"$f":"10000/15.42","v":648.50843060959789},"US$"]
[null,"Other",null,{"$f":"H142*H152*H153/1000","v":960},{"$f":"+D145","v":960},null,"Refrigerator wattage",130,"W"]
[null,"Total CO2-eq. emission ",{"$f":"C144+C145","v":{"$error":"#DIV/0!"}},{"$f":"D144+D145","v":{"$error":"#DIV/0!"}},{"$f":"D146-C146","v":{"$error":"#DIV/0!"}},null,"Daily usage",16,"hrs"]
[null,null,null,null,null,null,"Annual electricity used",{"$f":"H146*H145*H142*365/1000000","v":759.2},"MWh"]
[null,"US$/ton CO2-eq.",null,null,{"$f":"E141/E146","v":{"$error":"#DIV/0!"}}]
[null,null,null,null,null,null,"Reference option: Non-efficient refrigerator"]
[null,null,null,null,null,null,"O&M ",0,"US$"]
[null,null,null,null,null,null,"Activity",{"$f":"+H142","v":1000},{"$f":"+I142","v":"Refrigerators"}]
[null,null,null,null,null,null,"ODS content in one refrigerator",0.4,"kg"]
[null,null,null,null,null,null,"GWP of ODS",2400]
[null,null,null,null,null,null,"Cost of old refrigerator",{"$f":"6000/15.42","v":389.10505836575874},"US$"]
[null,null,null,null,null,null,"Refrigerator wattage",200,"W"]
[null,null,null,null,null,null,"Daily usage",16,"hrs"]
[null,null,null,null,null,null,"Annual electricity used",{"$f":"H155*H156*H151*365/1000000","v":1168},"MWh"]
[]
[null,null,null,null,null,null,"Electricity saved",{"$f":"H157-H147","v":408.79999999999995},"MWh"]
[]
[]
[]
[null,"Efficient wood stoves (1000 units)"]
[null,"Costs in","Reduction","Reference","Increase",null,"General inputs:"]
[null,"US$","Option","Option","(Red.-Ref.)",null,"Discount rate ",{"$f":"+DiscountRate","v":0}]
[null,"Total investment",{"$f":"+H171*H172","v":200000},null,{"$f":"C166-D166","v":200000},null,"Nonrenewable fraction of wood",0.3]
[null,"Project life",5,null,null,null,"Calorific value of wood",15,"MJ/kg"]
[null,"Lev. investment",{"$f":"IF(C167=0,0,PMT($H$165,C167,-C166))","v":40000},null,{"$f":"C168-D168","v":40000},null,"Cost of fuelwood",{"$f":"8/15","v":0.53333333333333333},"US$/kg"]
[null,"Annual O&M",null,null,{"$f":"C169-D169","v":0}]
[null,"Annual fuelcost",{"$f":"H168*H176*1000*H171","v":648888.88888888888},{"$f":"H168*H184*1000*H171","v":1946666.6666666665},{"$f":"C170-D170","v":-1297777.7777777775},null,"Reduction option: Efficient wood stove"]
[null,"Total annual cost",{"$f":"SUM(C168:C170)","v":688888.88888888888},{"$f":"SUM(D168:D170)","v":1946666.6666666665},{"$f":"C171-D171","v":-1257777.7777777775},null,"Number of stoves installed",1000,"Stoves"]
[null,null,null,null,null,null,"Cost of stove",200,"US$"]
[null,"Annual emissions (tons)","Tons","Tons","Reduction",null,"Available energy for cooking",15,"MJ/day"]
[null,"Fuel  CO2-eq. emission",{"$f":"H171*H177*H166*44/12","v":669.16666666666663},{"$f":"H171*H166*H185*44/12","v":2007.5},{"$f":"D174-C174","v":1338.3333333333335},null,"Efficiency of new Stove",0.3]
[null,"Other",null,null,null,null,"Use of wood",{"$f":"H173/H167/H174","v":3.3333333333333335},"kg/day"]
[null,"Total CO2-eq. emission ",{"$f":"C174+C175","v":669.16666666666663},{"$f":"D174+D175","v":2007.5},{"$f":"D176-C176","v":1338.3333333333335},null,"Annual wood consumption",{"$f":"H175*365/1000","v":1.2166666666666668},"t wood/yr"]
[null,null,null,null,null,null,"Carbon content of the wood",{"$f":"H176/2","v":0.60833333333333339},"t C/year"]
[null,"US$/ton CO2-eq.",null,null,{"$f":"IF(E176<>0,E171/E176,0)","v":-939.80904939809022},null,"Amount of wood saved",{"$f":"H184-H175","v":0.31666666666666643},"t wood/yr"]
[]
[null,null,null,null,null,null,"Reference option: Traditional 3-stone fireplace"]
[null,null,null,null,null,null,"Available energy for cooking",15,"MJ/day"]
[null,null,null,null,null,null,"Efficiency of traditional Stove",0.1]
[null,null,null,null,null,null,"Use of wood",{"$f":"H173/H167/H182","v":10},"kg/day"]
[null,null,null,null,null,null,"Annual wood consumption",{"$f":"H183*365/1000","v":3.65},"t wood/yr"]
[null,null,null,null,null,null,"Carbon content of the wood",{"$f":"H184/2","v":1.825},"t C/year"]
[]
[]
[]
[]
[]
[null,"Efficient charcoal stoves (1000 units)"]
[null,"Costs in","Reduction","Reference","Increase",null,"General inputs:"]
[null,"US$","Option","Option","(Red.-Ref.)",null,"Discount rate ",{"$f":"+DiscountRate","v":0}]
[null,"Total investment",{"$f":"+H199*H200","v":60000},null,{"$f":"C194-D194","v":60000},null,"Nonrenewable fraction of wood",0.3]
[null,"Project life",5,null,null,null,"Calorific value of charcoal",{"$f":"7.5*4.184","v":31.380000000000003},"MJ/kg"]
[null,"Lev. investment",{"$f":"IF(C195=0,0,PMT($H$165,C195,-C194))","v":12000},null,{"$f":"C196-D196","v":12000},null,"Cost of charcoal",{"$f":"63/4*0.0092","v":0.1449},"US$/kg"]
[null,"Annual O&M",null,null,{"$f":"C197-D197","v":0}]
[null,"Annual fuelcost",{"$f":"H196*H204*1000*H199","v":68327.864193064961},{"$f":"H196*H212*1000*H199","v":101125.23900573612},{"$f":"C198-D198","v":-32797.374812671158},null,"Reduction option: Efficient efficient stove"]
[null,"Total annual cost",{"$f":"SUM(C196:C198)","v":80327.864193064961},{"$f":"SUM(D196:D198)","v":101125.23900573612},{"$f":"C199-D199","v":-20797.374812671158},null,"Number of stoves installed",1000,"Stoves"]
[null,null,null,null,null,null,"Cost of stove",60,"US$"]
[null,"Annual emissions (tons)","Tons","Tons","Reduction",null,"Available energy for cooking",15,"MJ/day"]
[null,"Fuel  CO2-eq. emission",{"$f":"H199*H206*H194*44/12","v":610.24358066310617},{"$f":"H199*H213*H194*44/12","v":903.16049938139679},{"$f":"D202-C202","v":292.91691871829062},null,"Efficiency of new Stove",0.37]
[null,"Other",null,null,null,null,"Use of charcoal",{"$f":"H201/H195/H202","v":1.2919228980414448},"kg/day"]
[null,"Total CO2-eq. emission ",{"$f":"C202+C203","v":610.24358066310617},{"$f":"D202+D203","v":903.16049938139679},{"$f":"D204-C204","v":292.91691871829062},null,"Annual charcoal consumption",{"$f":"H203*365/1000","v":0.47155185778512737},"t/yr"]
[null,null,null,null,null,null,"Carbon content of the charcoal",0.85]
[null,"US$/ton CO2-eq.",null,null,{"$f":"IF(E204<>0,E199/E204,0)","v":-71.000933997509335},null,"Annual carbon (C) consumed",{"$f":"H204/H205","v":0.55476689151191461},"t/yr"]
[]
[null,null,null,null,null,null,"Reference option: Old charcoal stove"]
[null,null,null,null,null,null,"Available energy for cooking",{"$f":"+H201","v":15},"MJ/day"]
[null,null,null,null,null,null,"Efficiency of traditional Stove",0.25]
[null,null,null,null,null,null,"Use of charcoal",{"$f":"H209/H195/H210","v":1.9120458891013383},"kg/day"]
[null,null,null,null,null,null,"Annual charcoal consumption",{"$f":"H211*365/1000","v":0.69789674952198844},"t/yr"]
[null,null,null,null,null,null,"Annual carbon consumed",{"$f":"H212/H205","v":0.82105499943763349},"t/yr"]
[]
[]
[]
[]
[]
[]
[]
[]
[]
[null,"LPG replacing wood stoves (1000 units)"]
[null,"Costs in","Reduction","Reference","Increase",null,"General inputs:"]
[null,"US$","Option","Option","(Red.-Ref.)",null,"Discount rate ",{"$f":"+DiscountRate","v":0}]
[null,"Total investment",{"$f":"+H228*H229","v":30000},null,{"$f":"C226-D226","v":30000}]
[null,"Project life",{"$f":"H235","v":5},null,null,null,"Reduction option: LPG stove"]
[null,"Lev. investment",{"$f":"IF(C227=0,0,PMT($H$225,C227,-C226))","v":6000},null,{"$f":"C228-D228","v":6000},null,"Number of stoves installed",1000,"Stoves"]
[null,"Annual O&M",null,null,{"$f":"C229-D229","v":0},null,"Cost of one stove",30,"US$"]
[null,"Annual fuelcost",{"$f":"H232*H233*H228","v":145092.5999796119},null,{"$f":"C230-D230","v":145092.5999796119},null,"Available energy for cooking",{"$f":"+H242","v":21.525000000000006},"MJ/day"]
[null,"Total annual cost",{"$f":"SUM(C228:C230)","v":151092.5999796119},{"$f":"SUM(D228:D230)","v":0},{"$f":"C231-D231","v":151092.5999796119},null,"Efficiency of LPG Stove",0.6]
[null,null,null,null,null,null,"Use of LPG for 1 stove",{"$f":"H230/H231*365/1000","v":13.094375000000005},"GJ/year"]
[null,"Annual emissions (tons)","Tons","Tons","Reduction",null,"Cost of LPG for 1 stove",{"$f":"+Assumptions!C29","v":11.080528851481024},"US$/GJ"]
[null,"Fuel  CO2-eq. emission",{"$f":"H232*H234*H228/1000","v":825.81858333333355},{"$f":"H228*H244*H245*44/12","v":2880.7625000000007},{"$f":"D234-C234","v":2054.9439166666671},null,"LPG gas emission factor",{"$f":"+Assumptions!D50","v":63.066666666666663},"KgCO2/GJ"]
[null,"Other",null,null,null,null,"Lifetime of LPG stove",5,"years"]
[null,"Total CO2-eq. emission ",{"$f":"C234+C235","v":825.81858333333355},{"$f":"D234+D235","v":2880.7625000000007},{"$f":"D236-C236","v":2054.9439166666671}]
[null,null,null,null,null,null,"Reference option: Traditional 3-stone fireplace"]
[null,"US$/ton CO2-eq.",null,null,{"$f":"IF(E236<>0,E231/E236,0)","v":73.526386172475128},null,"Use of wood",{"$f":"(1.02+1.85)*5","v":14.350000000000001},"kg/day"]
[null,null,null,null,null,null,"Calorific value of wood",15,"MJ/kg"]
[null,null,null,null,null,null,"Cost of fuelwood",0,"US$/kg"]
[null,null,null,null,null,null,"Efficiency of traditional Stove",0.1]
[null,null,null,null,null,null,"Available energy for cooking",{"$f":"H238*H239*H241","v":21.525000000000006},"MJ/day/stove"]
[null,null,null,null,null,null,"Annual wood consumption",{"$f":"H238*365/1000","v":5.237750000000001},"t wood/yr/stove"]
[null,null,null,null,null,null,"Nonrenewable fraction of wood",0.3]
[null,null,null,null,null,null,"Carbon content of the wood",{"$f":"H243/2","v":2.6188750000000005},"t C/year"]
[]
[]
[]
[]
[]
[]
[null,"Efficient electric stove (1000 units)"]
[null,"Costs in","Reduction","Reference","Increase",null,"General inputs:"]
[null,"US$","Option","Option","(Red.-Ref.)",null,"Discount rate ",{"$f":"+DiscountRate","v":0}]
[null,"Total investment",{"$f":"H260*H262","v":400000},{"$f":"H268*H269","v":333000},{"$f":"C255-D255","v":67000},null,"Average electricity price",{"$f":"+Assumptions!C35","v":0},"US$/kWh"]
[null,"Project life",{"$f":"H261","v":10},{"$f":"H261","v":10},null,null,"CO2-eq. emission coefficient",{"$f":"+Assumptions!C39","v":0},"ton CO2-eq./MWh"]
[null,"Lev. investment",{"$f":"IF(C256=0,0,PMT($H254,C256,-C255))","v":40000},{"$f":"IF(D256=0,0,PMT($H$254,D256,-D255))","v":33300},{"$f":"C257-D257","v":6700},null,"Grid loss",{"$f":"+Assumptions!C40","v":1}]
[null,"Annual O&M"]
[null,"Annual electricity cost",{"$f":"H265*1000*H255","v":0},{"$f":"H272*1000*H255","v":0},{"$f":"C259-D259","v":0},null,"Reduction option: Efficient electric stove"]
[null,"Total annual cost",{"$f":"SUM(C257:C259)","v":40000},{"$f":"SUM(D257:D259)","v":33300},{"$f":"C260-D260","v":6700},null,"Activity",1000,"Stoves"]
[null,null,null,null,null,null,"Lifetime",10,"yrs"]
[null,"Annual emissions (tons)","Tons","Tons","Reduction",null,"Cost of eff. stove",400,"US$"]
[null,"Fuel  CO2-eq. emission",{"$f":"H265*H256/(1-H257)","v":{"$error":"#DIV/0!"}},{"$f":"H272*H256/(1-H257)","v":{"$error":"#DIV/0!"}},{"$f":"D263-C263","v":{"$error":"#DIV/0!"}},null,"Stove wattage",2000,"W"]
[null,"Other",null,null,null,null,"Weekly usage",{"$f":"2.5","v":2.5},"hrs"]
[null,"Total CO2-eq. emission ",{"$f":"C263+C264","v":{"$error":"#DIV/0!"}},{"$f":"D263+D264","v":{"$error":"#DIV/0!"}},{"$f":"D265-C265","v":{"$error":"#DIV/0!"}},null,"Annual electricity used",{"$f":"H264*H263*H260*52/1000000","v":260},"MWh"]
[]
[null,"US$/ton CO2-eq.",null,null,{"$f":"E260/E265","v":{"$error":"#DIV/0!"}},null,"Reference option: Non-efficient electric stove"]
[null,null,null,null,null,null,"Activity",{"$f":"+H260","v":1000},"Stoves"]
[null,null,null,null,null,null,"Cost of old stove",333,"US$"]
[null,null,null,null,null,null,"Stove wattage",4000,"W"]
[null,null,null,null,null,null,"Weekly usage",{"$f":"+H264","v":2.5},"hrs"]
[null,null,null,null,null,null,"Annual electricity used",{"$f":"H270*H271*H268*52/1000000","v":520},"MWh"]
[]
[null,null,null,null,null,null,"Electricity saved",{"$f":"H272-H265","v":260},"MWh"]
[]
[]
[]
[null,"Induction based cooking (1000 units)"]
[null,"Costs in","Reduction","Reference","Increase",null,"General inputs:"]
[null,"US$","Option","Option","(Red.-Ref.)",null,"Discount rate ",{"$f":"+DiscountRate","v":0}]
[null,"Total investment",{"$f":"H286*H288","v":466666.66666666669},{"$f":"H294*H295","v":400000},{"$f":"C281-D281","v":66666.666666666686},null,"Average electricity price",{"$f":"+Assumptions!C35","v":0},"US$/kWh"]
[null,"Project life",{"$f":"H287","v":10},{"$f":"H287","v":10},null,null,"CO2-eq. emission coefficient",{"$f":"+Assumptions!C39","v":0},"ton CO2-eq./MWh"]
[null,"Lev. investment",{"$f":"IF(C282=0,0,PMT($H280,C282,-C281))","v":46666.666666666672},{"$f":"IF(D282=0,0,PMT($H$254,D282,-D281))","v":40000},{"$f":"C283-D283","v":6666.6666666666715},null,"Grid loss",{"$f":"+Assumptions!C40","v":1}]
[null,"Annual O&M"]
[null,"Annual electricity cost",{"$f":"H291*1000*H281","v":0},{"$f":"H299*1000*H281","v":0},{"$f":"C285-D285","v":0},null,"Reduction option: Induction cooking stove"]
[null,"Total annual cost",{"$f":"SUM(C283:C285)","v":46666.666666666672},{"$f":"SUM(D283:D285)","v":40000},{"$f":"C286-D286","v":6666.6666666666715},null,"Activity",1000,"Stoves"]
[null,null,null,null,null,null,"Lifetime",10,"yrs"]
[null,"Annual emissions (tons)","Tons","Tons","Reduction",null,"Cost of eff. stove",{"$f":"3500/7.5","v":466.66666666666669},"US$"]
[null,"Fuel  CO2-eq. emission",{"$f":"H291*H282/(1-H283)","v":{"$error":"#DIV/0!"}},{"$f":"H299*H282/(1-H283)","v":{"$error":"#DIV/0!"}},{"$f":"D289-C289","v":{"$error":"#DIV/0!"}},null,"Efficiency",0.755]
[null,"Other",null,null,null,null,"Weekly usage",{"$f":"2.5","v":2.5},"hrs"]
[null,"Total CO2-eq. emission ",{"$f":"C289+C290","v":{"$error":"#DIV/0!"}},{"$f":"D289+D290","v":{"$error":"#DIV/0!"}},{"$f":"D291-C291","v":{"$error":"#DIV/0!"}},null,"Annual electricity used",{"$f":"H299*H297/H289","v":241.05960264900662},"MWh"]
[]
[null,"US$/ton CO2-eq.",null,null,{"$f":"E286/E291","v":{"$error":"#DIV/0!"}},null,"Reference option: Normal electric stove"]
[null,null,null,null,null,null,"Activity",{"$f":"+H286","v":1000},"Stoves"]
[null,null,null,null,null,null,"Cost of normal stove",400,"US$"]
[null,null,null,null,null,null,"Stove wattage",2000,"W"]
[null,null,null,null,null,null,"Efficiency",0.7]
[null,null,null,null,null,null,"Weekly usage",{"$f":"+H290","v":2.5},"hrs"]
[null,null,null,null,null,null,"Annual electricity used",{"$f":"H296*H298*H294*52/1000000","v":260},"MWh"]
[]
[null,null,null,null,null,null,"Electricity saved",{"$f":"H299-H291","v":18.940397350993379},"MWh"]
[]
[]
[]
[]
[null,"New passive home (1000 units)"]
[null,"Costs in","Reduction","Reference","Increase",null,"General inputs:"]
[null,"US$","Option","Option","(Red.-Ref.)",null,"Discount rate ",{"$f":"+DiscountRate","v":0}]
[null,"Total investment",0,0,{"$f":"C309-D309","v":0},null,"Average electricity price",{"$f":"+Assumptions!C35","v":0},"US$/kWh"]
[null,"Project life",null,null,null,null,"CO2-eq. emission coefficient",{"$f":"+Assumptions!C39","v":0},"ton CO2-eq./MWh"]
[null,"Lev. investment",null,null,{"$f":"C311-D311","v":0},null,"Grid loss",{"$f":"+Assumptions!C40","v":1}]
[null,"Annual O&M"]
[null,"Annual electricity cost",{"$f":"H317*H314*H309","v":0},{"$f":"H324*H309*H314*H323","v":0},{"$f":"C313-D313","v":0},null,"Reduction option: Passive home"]
[null,"Total annual cost",{"$f":"SUM(C311:C313)","v":0},{"$f":"SUM(D311:D313)","v":0},{"$f":"C314-D314","v":0},null,"Activity",1000,"Homes"]
[null,null,null,null,null,null,"Size of house",150,"m2"]
[null,"Annual emissions (tons)","Tons","Tons","Reduction",null,"Elctricity consumption",15,"kWh/m2/year"]
[null,"Fuel  CO2-eq. emission",{"$f":"H317*H310/(1-H311)","v":{"$error":"#DIV/0!"}},{"$f":"H324*H310/(1-H311)","v":{"$error":"#DIV/0!"}},{"$f":"D317-C317","v":{"$error":"#DIV/0!"}},null,"Annual electricity used",{"$f":"H316*H315","v":2250},"kWh"]
[null,"Other"]
[null,"Total CO2-eq. emission ",{"$f":"C317+C318","v":{"$error":"#DIV/0!"}},{"$f":"D317+D318","v":{"$error":"#DIV/0!"}},{"$f":"D319-C319","v":{"$error":"#DIV/0!"}},null,"Reference option: Normal home"]
[null,null,null,null,null,null,"Activity",{"$f":"+H314","v":1000},"Home"]
[null,"US$/ton CO2-eq.",null,null,{"$f":"E314/E319","v":{"$error":"#DIV/0!"}},null,"Size of house",{"$f":"+H315","v":150},"m2"]
[null,null,null,null,null,null,"Electricity for heating",110,"kWh/m2/year"]
[null,null,null,null,null,null,"Average cost of heating",0.5,"< than electric heat"]
[null,null,null,null,null,null,"Annual electricity used",{"$f":"H321*H322","v":16500},"kWh"]
[]
[null,null,null,null,null,null,"Electricity saved",{"$f":"H324-H317","v":14250},"MWh"]

{"sheet":"EE industry","index":25,"n_rows":84,"n_cols":36,"rows_kept":84,"cut":false,"hidden":true,"merged":[[69,24,69,26],[69,33,69,35],[1,1,1,3],[3,1,3,3],[4,1,4,3],[5,1,5,3],[52,6,52,8],[10,6,10,8],[40,6,40,8],[46,6,46,8]]}
[]
[null,"Menu for EE Industry options (click links below)"]
[]
[null,"Efficient electric motors"]
[null,"Building materials/Vertical Shaft Brick Kiln (1 million bricks)"]
[null,"Energy efficiency in industry (100 TJ reduction)"]
[]
[]
[]
[null,"Efficient electric motors - 1kW"]
[null,"Costs in","Reduction","Reference","Increase",null,"General inputs:"]
[null,"US$","Option","Option","(Red.-Ref.)",null,"Discount rate ",{"$f":"Assumptions!$C$13","v":0}]
[null,"Total investment",{"$f":"H24*H19","v":150},{"$f":"H33*H29","v":30},{"$f":"+C13-D13","v":120},null,"Electricity price",{"$f":"+Assumptions!C35","v":0},"US$/kWh"]
[null,"Project life",{"$f":"H20","v":10},10,null,null,"CO2-eq. emission coefficient",{"$f":"+Assumptions!C39","v":0},"tCO2/MWh"]
[null,"Lev. investment",{"$f":"IF(C14=0,0,PMT($H12,C14,-C13))","v":15},{"$f":"IF(D14=0,0,PMT(H12,D14,-D13))","v":3},{"$f":"C15-D15","v":12},null,"Grid loss",{"$f":"+Assumptions!C40","v":1}]
[null,"Annual O&M",0,0,{"$f":"C16-D16","v":0}]
[null,"Annual electricity cost",{"$f":"H23*H13","v":0},{"$f":"H32*H13","v":0},{"$f":"C17-D17","v":0},null,"Reduction option: New efficient motors"]
[null,"Total annual cost",{"$f":"SUM(C15:C17)","v":15},{"$f":"SUM(D15:D17)","v":3},{"$f":"C18-D18","v":12},null,"O&M  ",0.01]
[null,null,null,null,null,null,"Activity",1,"kW"]
[null,"Annual emissions (tons)","Tons","Tons","Reduction",null,"Lifetime",10,"Years"]
[null,"Fuel  CO2-eq. emission",{"$f":"H23/1000*H14/(1-H15)","v":{"$error":"#DIV/0!"}},{"$f":"H32/1000*H14/(1-H15)","v":{"$error":"#DIV/0!"}},{"$f":"D21-C21","v":{"$error":"#DIV/0!"}},null,"Utilisation time",{"$f":"16*(365-100-20)","v":3920},"hours"]
[null,"Other",null,null,null,null,"Motor efficiency",0.9]
[null,"Total CO2-eq. emission ",{"$f":"C21+C22","v":{"$error":"#DIV/0!"}},{"$f":"D21+D22","v":{"$error":"#DIV/0!"}},{"$f":"D23-C23","v":{"$error":"#DIV/0!"}},null,"Annual electricity used",{"$f":"H19*H21/H22","v":4355.5555555555557},"kWh"]
[null,null,null,null,null,null,"Investment in eff. motor",150,"US$/kW"]
[null,"US$/ton CO2-eq.",null,null,{"$f":"IF(E23<>0,E18/E23,0)","v":{"$error":"#DIV/0!"}},null,"Electricity saved",{"$f":"H32-H23","v":1088.8888888888887},"kWh"]
[]
[null,null,null,null,null,null,"Reference option: Old motors"]
[null,null,null,null,null,null,"O&M ",0.01]
[null,null,null,null,null,null,"Activity",1,"kW"]
[null,null,null,null,null,null,"Utilisation time",{"$f":"H21","v":3920},"hours"]
[null,null,null,null,null,null,"Motor efficiency",0.72]
[null,null,null,null,null,null,"Annual electricity used",{"$f":"H29*H30/H31","v":5444.4444444444443},"kWh"]
[null,null,null,null,null,null,"Repair of old motor",30,"US$/kW"]
[]
[]
[]
[]
[]
[]
[null,"Building materials /Vertical Shaft Brick Kiln (1 million bricks)"]
[null,"Costs in","Reduction","Reference","Increase",null,"General inputs:"]
[null,"US$","Option","Option","(Red.-Ref.)",null,"Discount rate ",{"$f":"Assumptions!$C$13","v":0}]
[null,"Total investment",{"$f":"H49/H48","v":11111.111111111111},{"$f":"+H55/H54","v":2777.7777777777778},{"$f":"+C43-D43","v":8333.3333333333339},null,"Reference coal price",{"$f":"+Assumptions!K29","v":2.0032051282051282},"US$/GJ"]
[null,"Project life",10,10,null,null,"Coal CO2-eq. emission factor",{"$f":"+Assumptions!D52","v":94.600000000000009},"kgCO2-eq./GJ"]
[null,"Lev. investment",{"$f":"IF(C44=0,0,PMT($H42,C44,-C43))","v":1111.1111111111111},{"$f":"IF(D44=0,0,PMT($H42,D44,-D43))","v":277.77777777777777},{"$f":"C45-D45","v":833.33333333333326},null,"Weight of brick",3,"kg"]
[null,"Annual O&M",null,null,{"$f":"C46-D46","v":0}]
[null,"Annual fuelcost",{"$f":"H51*H43/H48","v":5008.0128205128203},{"$f":"H57*H43/H54","v":16025.641025641025},{"$f":"C47-D47","v":-11017.628205128205},null,"Reduction optiom: Vertical Shaft Brick Kiln"]
[null,"Total annual cost",{"$f":"SUM(C45:C47)","v":6119.1239316239316},{"$f":"SUM(D45:D47)","v":16303.418803418803},{"$f":"C48-D48","v":-10184.294871794871},null,"Brick production",1.8,"Million/year"]
[null,null,null,null,null,null,"Investment",20000,"US$"]
[null,"Annual emissions (tons)","Tons","Tons","Reduction",null,"Coal use for 1000 bricks",2.5,"GJ"]
[null,"Fuel  CO2-eq. emission",{"$f":"H51*H44/1000/H48","v":236.50000000000003},{"$f":"H57*H44/1000/H54","v":756.80000000000007},{"$f":"D51-C51","v":520.30000000000007},null,"Annual coal use",{"$f":"H50*H48*1000","v":4500},"GJ"]
[null,"Other"]
[null,"Total CO2-eq. emission ",{"$f":"C51+C52","v":236.50000000000003},{"$f":"D51+D52","v":756.80000000000007},{"$f":"D53-C53","v":520.30000000000007},null,"Reference option: Clamp brick kiln"]
[null,null,null,null,null,null,"Brick production",{"$f":"+H48","v":1.8},"Million/year"]
[null,"US$/ton CO2-eq.",null,null,{"$f":"IF(E53<>0,E48/E53,0)","v":-19.573889817018777},null,"Investment",5000,"US$"]
[null,null,null,null,null,null,"Coal use for 1000 bricks",8,"GJ"]
[null,null,null,null,null,null,"Annual coal use",{"$f":"H56*H54*1000","v":14400},"GJ"]
[]
[]
[null,null,null,null,null,null,null,null,null,null,"From:","www.swisscontact.org/fileadmin/media/Medienberichte/0913_Vertical_Shaft_Brick_Kiln_VSBK_01.pdf"]
[]
[]
[]
[]
[]
[]
[]
[]
[null,"Energy efficiency in industry (10% reduction of energy demand) in 2025",null,null,null,null,null,null,null,null,"Energy efficiency in industry (10% reduction of energy demand) in 2030",null,null,null,null,null,null,null,null,"Energy efficiency in industry (10% reduction of energy demand) in 2040",null,null,null,null,null,null,null,null,"Energy efficiency in industry (10% reduction of energy demand) in 2050"]
[null,"Costs in","Reduction","Reference","Increase",null,"General inputs:",null,null,null,"Costs in","Reduction","Reference","Increase",null,"General inputs:",null,null,null,"Costs in","Reduction","Reference","Increase",null,"General inputs:",null,null,null,"Costs in","Reduction","Reference","Increase",null,"General inputs:"]
[null,"US$","Option","Option","(Red.-Ref.)",null,"Discount rate ",{"$f":"Assumptions!$C$13","v":0},null,null,"US$","Option","Option","(Red.-Ref.)",null,"Discount rate ",{"$f":"Assumptions!$C$13","v":0},null,null,"US$","Option","Option","(Red.-Ref.)",null,"Discount rate ",{"$f":"Assumptions!$C$13","v":0},null,null,"US$","Option","Option","(Red.-Ref.)",null,"Discount rate ",{"$f":"Assumptions!$C$13","v":0}]
[null,"Total investment",{"$f":"H77*1000","v":0},null,{"$f":"+C72-D72","v":0},null,null,null,null,null,"Total investment",{"$f":"Q77*1000","v":0},null,{"$f":"+L72-M72","v":0},null,null,null,null,null,"Total investment",{"$f":"Z77*1000","v":0},null,{"$f":"+U72-V72","v":0},null,null,null,null,null,"Total investment",{"$f":"AI77*1000","v":0},null,{"$f":"+AD72-AE72","v":0}]
[null,"Project life",20,null,null,null,"Reduction option: Reduced energy consumption",null,null,null,"Project life",20,null,null,null,"Reduction option: Reduced energy consumption",null,null,null,"Project life",20,null,null,null,"Reduction option: Reduced energy consumption",null,null,null,"Project life",20,null,null,null,"Reduction option: Reduced energy consumption"]
[null,"Lev. investment",{"$f":"IF(C73=0,0,PMT(H71,C73,-C72))","v":0},null,null,null,"Investment",10,"US$/tCO2",null,"Lev. investment",{"$f":"IF(L73=0,0,PMT(Q71,L73,-L72))","v":0},null,null,null,"Investment",10,"US$/tCO2",null,"Lev. investment",{"$f":"IF(U73=0,0,PMT(Z71,U73,-U72))","v":0},null,null,null,"Investment",10,"US$/tCO2",null,"Lev. investment",{"$f":"IF(AD73=0,0,PMT(AI71,AD73,-AD72))","v":0},null,null,null,"Investment",10,"US$/tCO2"]
[null,"Annual O&M",0,null,null,null,"Emission reduction",0.1,null,null,"Annual O&M",0,null,null,null,"Emission reduction",0.1,null,null,"Annual O&M",0,null,null,null,"Emission reduction",0.1,null,null,"Annual O&M",0,null,null,null,"Emission reduction",0.1]
[null,"Annual fuel cost",0,null,{"$f":"C76-D76","v":0},null,"Reduced emission",{"$f":"H79*H75","v":0},"ktCO2",null,"Annual fuel cost",0,null,{"$f":"L76-M76","v":0},null,"Reduced emission",{"$f":"Q79*Q75","v":0},"ktCO2",null,"Annual fuel cost",0,null,{"$f":"U76-V76","v":0},null,"Reduced emission",{"$f":"Z79*Z75","v":0},"ktCO2",null,"Annual fuel cost",0,null,{"$f":"AD76-AE76","v":0},null,"Reduced emission",{"$f":"AI79*AI75","v":0},"ktCO2"]
[null,"Total annual cost",{"$f":"SUM(C74:C76)","v":0},{"$f":"SUM(D74:D76)","v":0},{"$f":"C77-D77","v":0},null,"Cost of reduction",{"$f":"H74*H76","v":0},"kUS$",null,"Total annual cost",{"$f":"SUM(L74:L76)","v":0},{"$f":"SUM(M74:M76)","v":0},{"$f":"L77-M77","v":0},null,"Cost of reduction",{"$f":"Q74*Q76","v":0},"kUS$",null,"Total annual cost",{"$f":"SUM(U74:U76)","v":0},{"$f":"SUM(V74:V76)","v":0},{"$f":"U77-V77","v":0},null,"Cost of reduction",{"$f":"Z74*Z76","v":0},"kUS$",null,"Total annual cost",{"$f":"SUM(AD74:AD76)","v":0},{"$f":"SUM(AE74:AE76)","v":0},{"$f":"AD77-AE77","v":0},null,"Cost of reduction",{"$f":"AI74*AI76","v":0},"kUS$"]
[null,null,null,null,null,null,"Reference option: Old energy consumption",null,null,null,null,null,null,null,null,"Reference option: Old energy consumption",null,null,null,null,null,null,null,null,"Reference option: Old energy consumption",null,null,null,null,null,null,null,null,"Reference option: Old energy consumption"]
[null,"Annual emissions (tons)","Tons","Tons","Reduction",null,"Industry emissions in 2025",{"$f":"SUM('BAU projected GHG Balances'!P20:P31)","v":0},"ktCO2",null,"Annual emissions (tons)","Tons","Tons","Reduction",null,"Industry emissions in 2030",{"$f":"SUM('BAU projected GHG Balances'!P90:P101)","v":0},"ktCO2",null,"Annual emissions (tons)","Tons","Tons","Reduction",null,"Industry emissions in 2050",{"$f":"SUM('BAU projected GHG Balances'!P227:P238)","v":0},"ktCO2",null,"Annual emissions (tons)","Tons","Tons","Reduction",null,"Industry emissions in 2050",{"$f":"SUM('BAU projected GHG Balances'!P365:P376)","v":0},"ktCO2"]
[null,"Fuel  CO2-eq. emission",0,{"$f":"+H76*1000","v":0},{"$f":"D80-C80","v":0},null,null,null,null,null,"Fuel  CO2-eq. emission",0,{"$f":"+Q76*1000","v":0},{"$f":"M80-L80","v":0},null,null,null,null,null,"Fuel  CO2-eq. emission",0,{"$f":"+Z76*1000","v":0},{"$f":"V80-U80","v":0},null,null,null,null,null,"Fuel  CO2-eq. emission",0,{"$f":"+AI76*1000","v":0},{"$f":"AE80-AD80","v":0}]
[null,"Other",null,null,null,null,null,null,null,null,"Other",null,null,null,null,null,null,null,null,"Other",null,null,null,null,null,null,null,null,"Other"]
[null,"Total CO2-eq. emission ",{"$f":"C80+C81","v":0},{"$f":"D80+D81","v":0},{"$f":"D82-C82","v":0},null,null,null,null,null,"Total CO2-eq. emission ",{"$f":"L80+L81","v":0},{"$f":"M80+M81","v":0},{"$f":"M82-L82","v":0},null,null,null,null,null,"Total CO2-eq. emission ",{"$f":"U80+U81","v":0},{"$f":"V80+V81","v":0},{"$f":"V82-U82","v":0},null,null,null,null,null,"Total CO2-eq. emission ",{"$f":"AD80+AD81","v":0},{"$f":"AE80+AE81","v":0},{"$f":"AE82-AD82","v":0}]
[]
[null,"US$/ton CO2-eq.",null,null,{"$f":"IF(E82<>0,E77/E82,0)","v":0},null,null,null,null,null,"US$/ton CO2-eq.",null,null,{"$f":"IF(N82<>0,N77/N82,0)","v":0},null,null,null,null,null,"US$/ton CO2-eq.",null,null,{"$f":"IF(W82<>0,W77/W82,0)","v":0},null,null,null,null,null,"US$/ton CO2-eq.",null,null,{"$f":"IF(AF82<>0,AF77/AF82,0)","v":0}]

{"sheet":"EE own generation","index":26,"n_rows":53,"n_cols":9,"rows_kept":53,"cut":false,"hidden":true,"merged":[[1,1,1,3],[3,1,3,3],[4,1,4,3],[49,6,49,8],[8,6,8,8],[12,6,12,8],[20,6,20,8],[38,6,38,8],[41,6,41,8]]}
[]
[null,"Menu for EE Own Generation options"]
[]
[null,"Waste heat recovery at cement plant"]
[null,"Waste heat recovery at steel production plant"]
[]
[]
[null,"Waste heat recovery at cement plant"]
[null,"Costs in","Reduction","Reference","Increase",null,"General inputs:"]
[null,"US$","Option","Option","(Red.-Ref.)",null,"Discount rate ",{"$f":"+DiscountRate","v":0}]
[null,"Total investment",{"$f":"H18*1000000","v":11100000},null,{"$f":"C11-D11","v":11100000},null,"Electricity price",{"$f":"+Assumptions!C35","v":0},"US$/kWh"]
[null,"Project life",20]
[null,"Lev. investment",{"$f":"IF(C12=0,0,PMT($H10,C12,-C11))","v":555000},null,{"$f":"C13-D13","v":555000},null,"Reduction optiom: Heat recovery"]
[null,"Annual O&M",{"$f":"H19*1000000","v":400000},null,{"$f":"C14-D14","v":400000},null,"Activity",1,"plant"]
[null,"Annual fuelcost",null,{"$f":"H23*H11*1000","v":0},{"$f":"C15-D15","v":0},null,"Power extracted",12.27,"MW"]
[null,"Total annual cost",{"$f":"SUM(C13:C15)","v":955000},{"$f":"SUM(D13:D15)","v":0},{"$f":"C16-D16","v":955000},null,"Operating time",6690,"Hours"]
[null,null,null,null,null,null,"Electricity produced",{"$f":"H15*H16","v":82086.3},"MWh"]
[null,"Annual emissions (tons)","Tons","Tons","Reduction",null,"Investment",11.1,"Million US$"]
[null,"Fuel  CO2-eq. emission",null,{"$f":"H23*H22","v":0},{"$f":"D19-C19","v":0},null,"O&M",0.4,"Million US$"]
[null,"Other"]
[null,"Total CO2-eq. emission ",{"$f":"C19+C20","v":0},{"$f":"D19+D20","v":0},{"$f":"D21-C21","v":0},null,"Reference option: No heat recovery"]
[null,null,null,null,null,null,"Combined margin",{"$f":"+Assumptions!C39","v":0},"tCO2/MWh"]
[null,"US$/ton CO2-eq.",null,null,{"$f":"IF(E21<>0,E16/E21,0)","v":0},null,"Electricity bought",{"$f":"+H17","v":82086.3},{"$f":"+I17","v":"MWh"}]
[]
[]
[]
[]
[]
[]
[]
[]
[]
[]
[]
[]
[]
[]
[null,"Waste heat recovery at steel production plant"]
[null,"Costs in","Reduction","Reference","Increase",null,"General inputs:"]
[null,"US$","Option","Option","(Red.-Ref.)",null,"Discount rate ",{"$f":"+DiscountRate","v":0}]
[null,"Total investment",{"$f":"H47*1000000","v":6000000},null,{"$f":"C41-D41","v":6000000}]
[null,"Project life",20,null,null,null,"Reduction optiom: Heat recovery"]
[null,"Lev. investment",{"$f":"IF(C42=0,0,PMT($H40,C42,-C41))","v":300000},null,{"$f":"C43-D43","v":300000},null,"Activity",1,"plant"]
[null,"Annual O&M",{"$f":"H48*1000000","v":210000.00000000003},null,{"$f":"C44-D44","v":210000.00000000003},null,"Power extracted",12,"MW"]
[null,"Annual fuelcost",null,{"$f":"H52*H53*1000","v":0},{"$f":"C45-D45","v":0},null,"Operating time",6300,"Hours"]
[null,"Total annual cost",{"$f":"SUM(C43:C45)","v":510000},{"$f":"SUM(D43:D45)","v":0},{"$f":"C46-D46","v":510000},null,"Electricity produced",{"$f":"H44*H45","v":75600},"MWh"]
[null,null,null,null,null,null,"Investment",6,"Million US$"]
[null,"Annual emissions (tons)","Tons","Tons","Reduction",null,"O & M",{"$f":"H47*0.035","v":0.21000000000000002},"Million US$"]
[null,"Fuel  CO2-eq. emission",null,{"$f":"H52*H51","v":0},{"$f":"D49-C49","v":0}]
[null,"Other",null,null,null,null,"Reference option: No heat recovery"]
[null,"Total CO2-eq. emission ",{"$f":"C49+C50","v":0},{"$f":"D49+D50","v":0},{"$f":"D51-C51","v":0},null,"Combined margin",{"$f":"+Assumptions!C39","v":0},"tCO2/MWh"]
[null,null,null,null,null,null,"Electricity bought",{"$f":"+H46","v":75600},{"$f":"+I46","v":"MWh"}]
[null,"US$/ton CO2-eq.",null,null,{"$f":"IF(E51<>0,E46/E51,0)","v":0},null,"Electricity price",{"$f":"+Assumptions!C35","v":0},"US$/kWh"]

{"sheet":"EE service","index":27,"n_rows":460,"n_cols":36,"rows_kept":460,"cut":false,"hidden":true,"merged":[[74,6,74,8],[208,33,208,35],[208,24,208,26],[359,6,359,8],[394,6,394,8],[233,6,233,8],[424,6,424,8],[1,1,1,6],[262,6,262,8],[294,6,294,8],[326,6,326,8],[3,1,3,3],[4,1,4,3],[7,1,7,3],[14,6,14,8],[108,6,108,8],[114,6,114,8],[42,6,42,8],[6,1,6,3],[173,6,173,8],[144,6,144,8],[8,1,8,3]]}
[]
[null,"Menu for EE Service options (click links below)"]
[]
[null,"Efficient electric motor",null,null,"Efficient Chiller > 300 TR"]
[null,"Efficient office lighting (CFLs)",null,null,"Efficient Chiller < 300 TR"]
[null,"Efficient office lighting (LEDs)",null,null,"Efficient room airconditioner"]
[null,"Efficient street lights",null,null,"Efficient commercial dishwashing machine "]
[null,"Efficient water pumping",null,null,"Efficient hotel refrigerator"]
[null,"New office building with central cooling",null,null,"Efficient hotel washing machine "]
[null,"Energy efficiency in service"]
[null,"HVAC (100,000 m2)"]
[]
[]
[null,"Efficient electric motor"]
[null,"Costs in","Reduction","Reference","Increase",null,"General inputs:"]
[null,"US$","Option","Option","(Red.-Ref.)",null,"Discount rate ",{"$f":"Assumptions!$C$13","v":0}]
[null,"Total investment",{"$f":"H28*H23","v":150},{"$f":"H37*H33","v":30},{"$f":"+C17-D17","v":120},null,"Electricity price",{"$f":"+Assumptions!C35","v":0},"US$/kWh"]
[null,"Project life",{"$f":"H24","v":10},10,null,null,"CO2-eq. emission coefficient",{"$f":"+Assumptions!C39","v":0},"tCO2/MWh"]
[null,"Lev. investment",{"$f":"IF(C18=0,0,PMT($H16,C18,-C17))","v":15},{"$f":"IF(D18=0,0,PMT($H$16,D18,-D17))","v":3},{"$f":"C19-D19","v":12},null,"Grid loss",{"$f":"+Assumptions!C40","v":1}]
[null,"Annual O&M",0,0,{"$f":"C20-D20","v":0}]
[null,"Annual electricity cost",{"$f":"H27*H17","v":0},{"$f":"H36*H17","v":0},{"$f":"C21-D21","v":0},null,"Reduction option: New efficient motors"]
[null,"Total annual cost",{"$f":"SUM(C19:C21)","v":15},{"$f":"SUM(D19:D21)","v":3},{"$f":"C22-D22","v":12},null,"O&M  ",0.01]
[null,null,null,null,null,null,"Activity",1,"kW"]
[null,"Annual emissions (tons)","Tons","Tons","Reduction",null,"Lifetime",10,"Years"]
[null,"Fuel  CO2-eq. emission",{"$f":"H27/1000*H18/(1-H19)","v":{"$error":"#DIV/0!"}},{"$f":"H36/1000*H18/(1-H19)","v":{"$error":"#DIV/0!"}},{"$f":"D25-C25","v":{"$error":"#DIV/0!"}},null,"Utilisation time",{"$f":"16*(365-100-20)","v":3920},"hours"]
[null,"Other",null,null,null,null,"Motor efficiency",0.9]
[null,"Total CO2-eq. emission ",{"$f":"C25+C26","v":{"$error":"#DIV/0!"}},{"$f":"D25+D26","v":{"$error":"#DIV/0!"}},{"$f":"D27-C27","v":{"$error":"#DIV/0!"}},null,"Annual electricity used",{"$f":"H23*H25/H26","v":4355.5555555555557},"kWh"]
[null,null,null,null,null,null,"Investment in eff. motor",150,"US$/kW"]
[null,"US$/ton CO2-eq.",null,null,{"$f":"IF(E27<>0,E22/E27,0)","v":{"$error":"#DIV/0!"}},null,"Annual electricity Saved",{"$f":"+H36-H27","v":1088.8888888888887},"kWh"]
[]
[null,null,null,null,null,null,"Reference option: Old motors"]
[null,null,null,null,null,null,"O&M ",0.01]
[null,null,null,null,null,null,"Activity",1,"kW"]
[null,null,null,null,null,null,"Utilisation time",{"$f":"H25","v":3920},"hours"]
[null,null,null,null,null,null,"Motor efficiency",0.72]
[null,null,null,null,null,null,"Annual electricity used",{"$f":"H33*H34/H35","v":5444.4444444444443},"kWh"]
[null,null,null,null,null,null,"Repair of old motor",30,"US$/kW"]
[]
[]
[]
[]
[null,"Efficient office lighting with CFLs (1000 units)"]
[null,"Costs in","Reduction","Reference","Increase",null,"General inputs:"]
[null,"US$","Option","Option","(Red.-Ref.)",null,"Discount rate ",{"$f":"Assumptions!$C$13","v":0}]
[null,"Total investment",{"$f":"H51*H52","v":10000},{"$f":"H61*H62*(1+1/(1+H66)+1/(1+H66)^2+1/(1+H66)^3+1/(1+H66)^4+1/(1+H66)^5+1/(1+H66)^6+1/(1+H66)^7)","v":4000},{"$f":"+C45-D45","v":6000},null,"Average electricity price",{"$f":"+Assumptions!C35","v":0},"US$/kWh"]
[null,"Project life",{"$f":"H53/H55/365","v":5.4794520547945202},{"$f":"+C46","v":5.4794520547945202},null,null,"CO2-eq. emission coefficient",{"$f":"+Assumptions!C39","v":0},"ton CO2-eq./MWh"]
[null,"Lev. investment",{"$f":"IF(C46=0,0,PMT($H$44,C46,-C45))","v":1825},{"$f":"IF(D46=0,0,PMT($H$44,D46,-D45))","v":730},{"$f":"C47-D47","v":1095},null,"Grid loss",{"$f":"+Assumptions!C40","v":1}]
[null,"Annual O&M",{"$f":"PMT(H44,C46,-(+H50*H51))","v":27.375},{"$f":"PMT(H44,C46,-(+H60*H61*H53/H61))","v":219},{"$f":"C48-D48","v":-191.625}]
[null,"Annual electricity cost",{"$f":"H56*1000*H45","v":0},{"$f":"H69*1000*H45","v":0},{"$f":"C49-D49","v":0},null,"Reduction option: Compact flourescent lanps "]
[null,"Total annual cost",{"$f":"SUM(C47:C49)","v":1852.375},{"$f":"SUM(D47:D49)","v":949},{"$f":"C50-D50","v":903.375},null,"O&M ",0.15,"US$/lamp change"]
[null,null,null,null,null,null,"Activity",1000,"locations"]
[null,"Annual emissions (tons)","Tons","Tons","Reduction",null,"Cost of eff. lamp",10,"US$"]
[null,"Fuel  CO2-eq. emission",{"$f":"H56*H46/(1-H47)","v":{"$error":"#DIV/0!"}},{"$f":"H69*H46/(1-H47)","v":{"$error":"#DIV/0!"}},{"$f":"D53-C53","v":{"$error":"#DIV/0!"}},null,"Lamp lifetime",8000,"hrs"]
[null,"Other",null,null,null,null,"Lamp wattage",15,"W"]
[null,"Total CO2-eq. emission ",{"$f":"C53+C54","v":{"$error":"#DIV/0!"}},{"$f":"D53+D54","v":{"$error":"#DIV/0!"}},{"$f":"D55-C55","v":{"$error":"#DIV/0!"}},null,"Daily usage",4,"hrs"]
[null,null,null,null,null,null,"Annual electricity used",{"$f":"H55*H54*H51*365/1000000","v":21.9},"MWh"]
[null,"US$/ton CO2-eq.",null,null,{"$f":"IF(E55<>0,E50/E55,0)","v":{"$error":"#DIV/0!"}},null,"Annual electricity saved",{"$f":"+H69-H56","v":65.699999999999989},"MWh"]
[]
[null,null,null,null,null,null,"Reference option: Incandescent lamps"]
[null,null,null,null,null,null,"O&M ",0.15,"US$/lamp change"]
[null,null,null,null,null,null,"Activity",{"$f":"+H51","v":1000},{"$f":"+I51","v":"locations"}]
[null,null,null,null,null,null,"Cost of incand. lamp",0.5,"US$"]
[null,null,null,null,null,null,"Lamp lifetime 1",1000,"hours"]
[null,null,null,null,null,null,"Lamp lifetime 2",{"$f":"H63/4","v":250},"days"]
[null,null,null,null,null,null,"Required lamp replacements",{"$f":"H53/H63","v":8},"times"]
[null,null,null,null,null,null,"Lamp discount rate",{"$f":"H44*H64/365","v":0}]
[null,null,null,null,null,null,"Lamp wattage",60,"W"]
[null,null,null,null,null,null,"Daily usage",{"$f":"H55","v":4},"hrs"]
[null,null,null,null,null,null,"Annual electricity used",{"$f":"H67*H68*H61*365/1000000","v":87.6},"MWh"]
[]
[]
[]
[]
[null,"Efficient office lighting with LEDs (1000 units)"]
[null,"Costs in","Reduction","Reference","Increase",null,"General inputs:"]
[null,"US$","Option","Option","(Red.-Ref.)",null,"Discount rate ",{"$f":"Assumptions!$C$13","v":0}]
[null,"Total investment",{"$f":"H83*H84","v":20000},{"$f":"H93*H94*(1+1/(1+H98)+1/(1+H98)^2+1/(1+H98)^3+1/(1+H98)^4+1/(1+H98)^5+1/(1+H98)^6+1/(1+H98)^7)","v":4000},{"$f":"+C77-D77","v":16000},null,"Average electricity price",{"$f":"+Assumptions!C35","v":0},"US$/kWh"]
[null,"Project life",{"$f":"H85/H87/365","v":6.8493150684931505},{"$f":"+C78","v":6.8493150684931505},null,null,"CO2-eq. emission coefficient",{"$f":"+Assumptions!C39","v":0},"ton CO2-eq./MWh"]
[null,"Lev. investment",{"$f":"IF(C78=0,0,PMT($H$76,C78,-C77))","v":2920},{"$f":"IF(D78=0,0,PMT($H$76,D78,-D77))","v":584},{"$f":"C79-D79","v":2336},null,"Grid loss",{"$f":"+Assumptions!C40","v":1}]
[null,"Annual O&M",{"$f":"PMT(H76,C78,-(+H82*H83))","v":21.900000000000002},{"$f":"PMT(H76,C78,-(+H92*H93*H85/H93))","v":219},{"$f":"C80-D80","v":-197.1}]
[null,"Annual electricity cost",{"$f":"H88*1000*H77","v":0},{"$f":"H101*1000*H77","v":0},{"$f":"C81-D81","v":0},null,"Reduction option: LED"]
[null,"Total annual cost",{"$f":"SUM(C79:C81)","v":2941.9},{"$f":"SUM(D79:D81)","v":803},{"$f":"C82-D82","v":2138.9},null,"O&M ",0.15,"US$/lamp change"]
[null,null,null,null,null,null,"Activity",1000,"locations"]
[null,"Annual emissions (tons)","Tons","Tons","Reduction",null,"Cost of eff. lamp",20,"US$"]
[null,"Fuel  CO2-eq. emission",{"$f":"H88*H78/(1-H79)","v":{"$error":"#DIV/0!"}},{"$f":"H101*H78/(1-H79)","v":{"$error":"#DIV/0!"}},{"$f":"D85-C85","v":{"$error":"#DIV/0!"}},null,"Lamp lifetime",10000,"hrs"]
[null,"Other",null,null,null,null,"Lamp wattage",9,"W"]
[null,"Total CO2-eq. emission ",{"$f":"C85+C86","v":{"$error":"#DIV/0!"}},{"$f":"D85+D86","v":{"$error":"#DIV/0!"}},{"$f":"D87-C87","v":{"$error":"#DIV/0!"}},null,"Daily usage",4,"hrs"]
[null,null,null,null,null,null,"Annual electricity used",{"$f":"H87*H86*H83*365/1000000","v":13.14},"MWh"]
[null,"US$/ton CO2-eq.",null,null,{"$f":"IF(E87<>0,E82/E87,0)","v":{"$error":"#DIV/0!"}},null,"Annual electricity saved",{"$f":"+H101-H88","v":74.459999999999994},"MWh"]
[]
[null,null,null,null,null,null,"Reference option: Incandescent lamps"]
[null,null,null,null,null,null,"O&M ",0.15,"US$/lamp change"]
[null,null,null,null,null,null,"Activity",{"$f":"+H83","v":1000},{"$f":"+I83","v":"locations"}]
[null,null,null,null,null,null,"Cost of incand. lamp",0.5,"US$"]
[null,null,null,null,null,null,"Lamp lifetime 1",1000,"hours"]
[null,null,null,null,null,null,"Lamp lifetime 2",{"$f":"H95/4","v":250},"days"]
[null,null,null,null,null,null,"Required lamp replacements",{"$f":"H85/H95","v":10},"times"]
[null,null,null,null,null,null,"Lamp discount rate",{"$f":"H76*H96/365","v":0}]
[null,null,null,null,null,null,"Lamp wattage",60,"W"]
[null,null,null,null,null,null,"Daily usage",{"$f":"H87","v":4},"hrs"]
[null,null,null,null,null,null,"Annual electricity used",{"$f":"H99*H100*H93*365/1000000","v":87.6},"MWh"]
[]
[]
[]
[]
[]
[]
[null,"Efficient street lights - LED tubes (1000 locations)"]
[null,"Costs in","Reduction","Reference","Increase",null,"General inputs:"]
[null,"US$","Option","Option","(Red.-Ref.)",null,"Discount rate ",{"$f":"+DiscountRate","v":0}]
[null,"Total investment",{"$f":"H117*H118*1000/H117","v":162000},{"$f":"(H127*H126 + H127*H126*0.3/(1+H110)^5.5)*1000/H117","v":97500},{"$f":"C111-D111","v":64500},null,"Average electricity price",{"$f":"+Assumptions!C35","v":0},"US$/kWh"]
[null,"Project life",7,7,null,null,"CO2-eq. emission coefficient",{"$f":"+Assumptions!C39","v":0},"ton CO2-eq./MWh"]
[null,"Lev. investment",{"$f":"IF(C112=0,0,PMT($H110,C112,-C111))","v":23142.857142857141},{"$f":"IF(D112=0,0,PMT($H$110,D112,-D111))","v":13928.571428571429},{"$f":"C113-D113","v":9214.2857142857119},null,"Grid loss",{"$f":"+Assumptions!C40","v":1}]
[null,"Annual O&M",null,null,{"$f":"C114-D114","v":0}]
[null,"Annual electricity cost",{"$f":"H123*1000*H111*1000/H117","v":0},{"$f":"H134*1000*H111*1000/H117","v":0},{"$f":"C115-D115","v":0},null,"Reduction option: 100 W LED tubes"]
[null,"Total annual cost",{"$f":"SUM(C113:C115)","v":23142.857142857141},{"$f":"SUM(D113:D115)","v":13928.571428571429},{"$f":"C116-D116","v":9214.2857142857119},null,"O&M ",null,"US$/lamp change"]
[null,null,null,null,null,null,"Activity",2200,"locations"]
[null,"Annual emissions (tons)","Tons","Tons","Reduction",null,"Cost of eff. lamp",162,"US$"]
[null,"Fuel  CO2-eq. emission",{"$f":"H123*H112*1000/H117/(1-H113)","v":{"$error":"#DIV/0!"}},{"$f":"H134*H112*1000/H117/(1-H113)","v":{"$error":"#DIV/0!"}},{"$f":"D119-C119","v":{"$error":"#DIV/0!"}},null,"Lamp lifetime",50000,"hrs"]
[null,"Other",null,null,null,null,"Lamp lifetime in years",{"$f":"H119/H122/365","v":11.415525114155251},"years"]
[null,"Total CO2-eq. emission ",{"$f":"C119+C120","v":{"$error":"#DIV/0!"}},{"$f":"D119+D120","v":{"$error":"#DIV/0!"}},{"$f":"D121-C121","v":{"$error":"#DIV/0!"}},null,"Lamp wattage",100,"W"]
[null,null,null,null,null,null,"Daily usage",12,"hrs"]
[null,"US$/ton CO2-eq.",null,null,{"$f":"IF(E121<>0,E116/E121,0)","v":{"$error":"#DIV/0!"}},null,"Annual electricity used",{"$f":"H122*H121*H117*365/1000000","v":963.6},"MWh"]
[null,null,null,null,null,null,"Reference option: 250 W sodium lamp"]
[null,null,null,null,null,null,"O&M ",null,"US$/lamp change"]
[null,null,null,null,null,null,"Activity",2200,{"$f":"+I117","v":"locations"}]
[null,null,null,null,null,null,"Cost of sodium lamp",75,"US$"]
[null,null,null,null,null,null,"Lamp lifetime in hours",24000,"hours"]
[null,null,null,null,null,null,"Lamp lifetime in years",{"$f":"H128/H133/365","v":5.4794520547945202},"Years"]
[null,null,null,null,null,null,"Required lamp replacements",{"$f":"7/H129","v":1.2775000000000001},"times"]
[null,null,null,null,null,null,"Lamp discount rate",{"$f":"H110*H129/365","v":0}]
[null,null,null,null,null,null,"Sodium lamp wattage",250,"W"]
[null,null,null,null,null,null,"Daily usage",{"$f":"H122","v":12},"hrs"]
[null,null,null,null,null,null,"Annual electricity used",{"$f":"H132*H133*H126*365/1000000","v":2409},"MWh"]
[]
[null,null,null,null,null,null,"Electricity saved in 2200 lights",{"$f":"H134-H123","v":1445.4},"MWh"]
[null,null,null,null,null,null,null,{"$f":"H136/H134","v":0.60000000000000009},"reduced"]
[]
[]
[]
[]
[]
[]
[null,"Efficient water pumping (4 Mm3 water)"]
[null,"Costs in","Reduction","Reference","Increase",null,"General inputs:"]
[null,"US$","Option","Option","(Red.-Ref.)",null,"Discount rate ",{"$f":"Assumptions!$C$13","v":0}]
[null,"Total investment",{"$f":"H152*1000000","v":200000},null,{"$f":"C147-D147","v":200000},null,"Electricity price",{"$f":"+Assumptions!C35","v":0},"US$/kWh"]
[null,"Project life",{"$f":"+H153","v":20},null,null,null,"CO2-eq. emission coefficient",{"$f":"+Assumptions!C39","v":0},"tCO2/MWh"]
[null,"Lev. investment",{"$f":"IF(C148=0,0,PMT($H146,C148,-C147))","v":10000},null,{"$f":"C149-D149","v":10000},null,"Grid loss",{"$f":"+Assumptions!C40","v":1}]
[null,"Annual O&M",0,0,{"$f":"C150-D150","v":0}]
[null,"Annual electricity cost",{"$f":"H157*H147*1000000","v":0},{"$f":"H164*H147*1000000","v":0},{"$f":"C151-D151","v":0},null,"Reduction option: New efficient pumps"]
[null,"Total annual cost",{"$f":"SUM(C149:C151)","v":10000},{"$f":"SUM(D149:D151)","v":0},{"$f":"C152-D152","v":10000},null,"Investment in eff. pumps",0.2,"Million US$"]
[null,null,null,null,null,null,"Lifetime",20,"Years"]
[null,"Annual emissions (tons)","Tons","Tons","Reduction",null,"O&M  ",8.0000000000000002E-3]
[null,"Fuel  CO2-eq. emission",{"$f":"H157*H148*1000/(1-H149)","v":{"$error":"#DIV/0!"}},{"$f":"H164*H148*1000/(1-H149)","v":{"$error":"#DIV/0!"}},{"$f":"D155-C155","v":{"$error":"#DIV/0!"}},null,"Activity",4,"Million m3 water"]
[null,"Other",null,null,null,null,"Pump efficiency",1,"kWh/m3"]
[null,"Total CO2-eq. emission ",{"$f":"C155+C156","v":{"$error":"#DIV/0!"}},{"$f":"D155+D156","v":{"$error":"#DIV/0!"}},{"$f":"D157-C157","v":{"$error":"#DIV/0!"}},null,"Annual electricity used",{"$f":"H155*H156","v":4},"GWh"]
[null,null,null,null,null,null,"Annual electricity saved",{"$f":"H164-H157","v":1.2800000000000002},"GWh"]
[null,"US$/ton CO2-eq.",null,null,{"$f":"IF(E157<>0,E152/E157,0)","v":{"$error":"#DIV/0!"}}]
[null,null,null,null,null,null,"Reference option: Old pumps"]
[null,null,null,null,null,null,"O&M ",0.01]
[null,null,null,null,null,null,"Activity",{"$f":"H155","v":4},{"$f":"I155","v":"Million m3 water"}]
[null,null,null,null,null,null,"Pump efficiency",1.32,"kWh/m3"]
[null,null,null,null,null,null,"Annual electricity used",{"$f":"H162*H163","v":5.28},"GWh"]
[]
[]
[]
[]
[]
[]
[]
[]
[null,"New office building with central cooling - 1000 floor m2"]
[null,"Costs in","Reduction","Reference","Increase",null,"General inputs:"]
[null,"US$","Option","Option","(Red.-Ref.)",null,"Discount rate ",{"$f":"+DiscountRate","v":0}]
[null,"Total investment",{"$f":"+H188/H181*1000","v":38416.967975206608},{"$f":"+H197*112/H181*1000","v":31818.181818181816},{"$f":"+C176-D176","v":6598.7861570247915},null,"Average electricity price",{"$f":"+Assumptions!C35","v":0},"US$/kWh"]
[null,"Project life",7,7,null,null,"CO2-eq. emission coefficient",{"$f":"+Assumptions!C39","v":0},"ton CO2-eq./MWh"]
[null,"Lev. investment",{"$f":"IF(C177=0,0,PMT($H175,C177,-C176))","v":5488.1382821723728},{"$f":"IF(D177=0,0,PMT($H$175,D177,-D176))","v":4545.454545454545},{"$f":"C178-D178","v":942.68373671782774},null,"Grid loss",{"$f":"+Assumptions!C40","v":1}]
[null,"Annual O&M",null,null,{"$f":"C179-D179","v":0},null,"1 TR = 3.5 kW cooling capacity"]
[null,"Annual electricity cost",{"$f":"H186*1000*H176/H181*1000","v":0},{"$f":"H196*1000*H176/H181*1000","v":0},{"$f":"C180-D180","v":0},null,"Reduction option: new office building (centralised system)"]
[null,"Total annual cost",{"$f":"SUM(C178:C180)","v":5488.1382821723728},{"$f":"SUM(D178:D180)","v":4545.454545454545},{"$f":"C181-D181","v":942.68373671782774},null,"Floorarea of MHE building",1936,"m2"]
[null,null,null,null,null,null,"Connected cooling in  MHE",98.25,"TR"]
[null,"Annual emissions (tons)","Tons","Tons","Reduction",null,"Specific power used",0.8,"kW/TR"]
[null,"Fuel  CO2-eq. emission",{"$f":"H186*H177/H181*1000/(1-H178)","v":{"$error":"#DIV/0!"}},{"$f":"H196*H177/H181*1000/(1-H178)","v":{"$error":"#DIV/0!"}},{"$f":"D184-C184","v":{"$error":"#DIV/0!"}},null,"Input power",{"$f":"H182*H183","v":78.600000000000009},"kW"]
[null,"Other",null,null,null,null,"Operating hours",{"$f":"+H195","v":2400},"hours/year"]
[null,"Total CO2-eq. emission ",{"$f":"C184+C185","v":{"$error":"#DIV/0!"}},{"$f":"D184+D185","v":{"$error":"#DIV/0!"}},{"$f":"D186-C186","v":{"$error":"#DIV/0!"}},null,"Electricity used for cooling",{"$f":"H184*H185/1000","v":188.64000000000004},"MWh"]
[null,null,null,null,null,null,"Unit Cost of  a centralised aircon",757,"US$/TR"]
[null,"US$/ton CO2-eq.",null,null,{"$f":"IF(E186<>0,E181/E186,0)","v":{"$error":"#DIV/0!"}},null,"Cost for centralised system",{"$f":"H187*H182","v":74375.25},"US$"]
[null,null,null,null,null,null,"Reference option: Conventional building (decentralised system)"]
[null,null,null,null,null,null,"Floorarea of MHE building",1936,"m2"]
[null,null,null,null,null,null,"Connected cooling in  MHE",98.25,"TR"]
[null,null,null,null,null,null,"Specific power used",1.28,"kW/TR"]
[null,null,null,null,null,null,"Input power",{"$f":"H191*H192","v":125.76},"kW"]
[null,null,null,null,null,null,"Cooling used",{"$f":"H191/H190","v":5.0748966942148761E-2},"TR/m2"]
[null,null,null,null,null,null,"Operating hours",2400,"hours/year"]
[null,null,null,null,null,null,"Electricity used for cooling",{"$f":"H193*H195/1000","v":301.82400000000001},"MWh"]
[null,null,null,null,null,null,"Cost of eff. connected aircon",550,"US$"]
[null,null,null,null,null,null,"Number of connected aircons",112]
[]
[null,null,null,null,null,null,"Electricity saved in building",{"$f":"H196-H186","v":113.18399999999997},"MWh"]
[null,null,null,null,null,null,"Electricity saved per m2",{"$f":"H200/H190","v":5.8462809917355356E-2},"MWh"]
[null,null,null,null,null,null,"Electricity saved 270336 m2",{"$f":"H201*270336","v":15804.602181818178},"MWh"]
[null,null,null,null,null,null,null,{"$f":"(H196-H186)/H196","v":0.37499999999999989},"Saving"]
[]
[]
[]
[]
[null,"Energy efficiency in service (10% reduction of energy demand) in 2025",null,null,null,null,null,null,null,null,"Energy efficiency in service (10% reduction of energy demand) in 2030",null,null,null,null,null,null,null,null,"Energy efficiency in service (10% reduction of energy demand) in 2040",null,null,null,null,null,null,null,null,"Energy efficiency in service (10% reduction of energy demand) in 2050"]
[null,"Costs in","Reduction","Reference","Increase",null,"General inputs:",null,null,null,"Costs in","Reduction","Reference","Increase",null,"General inputs:",null,null,null,"Costs in","Reduction","Reference","Increase",null,"General inputs:",null,null,null,"Costs in","Reduction","Reference","Increase",null,"General inputs:"]
[null,"US$","Option","Option","(Red.-Ref.)",null,"Discount rate ",{"$f":"Assumptions!$C$13","v":0},null,null,"US$","Option","Option","(Red.-Ref.)",null,"Discount rate ",{"$f":"Assumptions!$C$13","v":0},null,null,"US$","Option","Option","(Red.-Ref.)",null,"Discount rate ",{"$f":"Assumptions!$C$13","v":0},null,null,"US$","Option","Option","(Red.-Ref.)",null,"Discount rate ",{"$f":"Assumptions!$C$13","v":0}]
[null,"Total investment",{"$f":"H216*1000","v":0},null,{"$f":"+C211-D211","v":0},null,null,null,null,null,"Total investment",{"$f":"Q216*1000","v":0},null,{"$f":"+L211-M211","v":0},null,null,null,null,null,"Total investment",{"$f":"Z216*1000","v":0},null,{"$f":"+U211-V211","v":0},null,null,null,null,null,"Total investment",{"$f":"AI216*1000","v":0},null,{"$f":"+AD211-AE211","v":0}]
[null,"Project life",20,null,null,null,"Reduction option: Reduced energy consumption",null,null,null,"Project life",20,null,null,null,"Reduction option: Reduced energy consumption",null,null,null,"Project life",20,null,null,null,"Reduction option: Reduced energy consumption",null,null,null,"Project life",20,null,null,null,"Reduction option: Reduced energy consumption"]
[null,"Lev. investment",{"$f":"IF(C212=0,0,PMT($H210,C212,-C211))","v":0},null,null,null,"Investment",10,"US$/tCO2",null,"Lev. investment",{"$f":"IF(L212=0,0,PMT($Q210,L212,-L211))","v":0},null,null,null,"Investment",10,"US$/tCO2",null,"Lev. investment",{"$f":"IF(U212=0,0,PMT($Z210,U212,-U211))","v":0},null,null,null,"Investment",10,"US$/tCO2",null,"Lev. investment",{"$f":"IF(AD212=0,0,PMT($AI210,AD212,-AD211))","v":0},null,null,null,"Investment",10,"US$/tCO2"]
[null,"Annual O&M",0,null,null,null,"Emission reduction",0.1,null,null,"Annual O&M",0,null,null,null,"Emission reduction",0.1,null,null,"Annual O&M",0,null,null,null,"Emission reduction",0.1,null,null,"Annual O&M",0,null,null,null,"Emission reduction",0.1]
[null,"Annual fuel cost",0,null,{"$f":"C215-D215","v":0},null,"Reduced emission",{"$f":"H218*H214","v":0},"ktCO2",null,"Annual fuel cost",0,null,{"$f":"L215-M215","v":0},null,"Reduced emission",{"$f":"Q218*Q214","v":0},"ktCO2",null,"Annual fuel cost",0,null,{"$f":"U215-V215","v":0},null,"Reduced emission",{"$f":"Z218*Z214","v":0},"ktCO2",null,"Annual fuel cost",0,null,{"$f":"AD215-AE215","v":0},null,"Reduced emission",{"$f":"AI218*AI214","v":0},"ktCO2"]
[null,"Total annual cost",{"$f":"SUM(C213:C215)","v":0},{"$f":"SUM(D213:D215)","v":0},{"$f":"C216-D216","v":0},null,"Cost of reduction",{"$f":"H213*H215","v":0},"kUS$",null,"Total annual cost",{"$f":"SUM(L213:L215)","v":0},{"$f":"SUM(M213:M215)","v":0},{"$f":"L216-M216","v":0},null,"Cost of reduction",{"$f":"Q213*Q215","v":0},"kUS$",null,"Total annual cost",{"$f":"SUM(U213:U215)","v":0},{"$f":"SUM(V213:V215)","v":0},{"$f":"U216-V216","v":0},null,"Cost of reduction",{"$f":"Z213*Z215","v":0},"kUS$",null,"Total annual cost",{"$f":"SUM(AD213:AD215)","v":0},{"$f":"SUM(AE213:AE215)","v":0},{"$f":"AD216-AE216","v":0},null,"Cost of reduction",{"$f":"AI213*AI215","v":0},"kUS$"]
[null,null,null,null,null,null,"Reference option: Old energy consumption",null,null,null,null,null,null,null,null,"Reference option: Old energy consumption",null,null,null,null,null,null,null,null,"Reference option: Old energy consumption",null,null,null,null,null,null,null,null,"Reference option: Old energy consumption"]
[null,"Annual emissions (tons)","Tons","Tons","Reduction",null,"Service emissions in 2025",{"$f":"+'BAU projected GHG Balances'!P37","v":0},"ktCO2",null,"Annual emissions (tons)","Tons","Tons","Reduction",null,"Service emissions in 2030",{"$f":"+'BAU projected GHG Balances'!P107","v":0},"ktCO2",null,"Annual emissions (tons)","Tons","Tons","Reduction",null,"Service emissions in 2050",{"$f":"+'BAU projected GHG Balances'!P244","v":0},"ktCO2",null,"Annual emissions (tons)","Tons","Tons","Reduction",null,"Service emissions in 2050",{"$f":"+'BAU projected GHG Balances'!P382","v":0},"ktCO2"]
[null,"Fuel  CO2-eq. emission",0,{"$f":"+H215*1000","v":0},{"$f":"D219-C219","v":0},null,null,null,null,null,"Fuel  CO2-eq. emission",0,{"$f":"+Q215*1000","v":0},{"$f":"M219-L219","v":0},null,null,null,null,null,"Fuel  CO2-eq. emission",0,{"$f":"+Z215*1000","v":0},{"$f":"V219-U219","v":0},null,null,null,null,null,"Fuel  CO2-eq. emission",0,{"$f":"+AI215*1000","v":0},{"$f":"AE219-AD219","v":0}]
[null,"Other",null,null,null,null,null,null,null,null,"Other",null,null,null,null,null,null,null,null,"Other",null,null,null,null,null,null,null,null,"Other"]
[null,"Total CO2-eq. emission ",{"$f":"C219+C220","v":0},{"$f":"D219+D220","v":0},{"$f":"D221-C221","v":0},null,null,null,null,null,"Total CO2-eq. emission ",{"$f":"L219+L220","v":0},{"$f":"M219+M220","v":0},{"$f":"M221-L221","v":0},null,null,null,null,null,"Total CO2-eq. emission ",{"$f":"U219+U220","v":0},{"$f":"V219+V220","v":0},{"$f":"V221-U221","v":0},null,null,null,null,null,"Total CO2-eq. emission ",{"$f":"AD219+AD220","v":0},{"$f":"AE219+AE220","v":0},{"$f":"AE221-AD221","v":0}]
[]
[null,"US$/ton CO2-eq.",null,null,{"$f":"IF(E221<>0,E216/E221,0)","v":0},null,null,null,null,null,"US$/ton CO2-eq.",null,null,{"$f":"IF(N221<>0,N216/N221,0)","v":0},null,null,null,null,null,"US$/ton CO2-eq.",null,null,{"$f":"IF(W221<>0,W216/W221,0)","v":0},null,null,null,null,null,"US$/ton CO2-eq.",null,null,{"$f":"IF(AF221<>0,AF216/AF221,0)","v":0}]
[]
[]
[]
[]
[]
[]
[]
[]
[]
[null,"HVAC (100,000 m2)"]
[null,"Costs in","Reduction","Reference","Increase",null,"General inputs:"]
[null,"US$","Option","Option","(Red.-Ref.)",null,"Discount rate ",{"$f":"+DiscountRate","v":0}]
[null,"Total investment",{"$f":"H244*1000000/H237*100000","v":659132.39263683988},{"$f":"H250*1000000/H237*100000","v":263727.8281912817},{"$f":"+C236-D236","v":395404.56444555818},null,"Average electricity price",{"$f":"+Assumptions!C35","v":0},"US$/kWh"]
[null,"Project life",10,10,null,null,"Total floor area",161715.88,"m2"]
[null,"Lev. investment",{"$f":"IF(C237=0,0,PMT($H235,C237,-C236))","v":65913.239263683994},{"$f":"IF(D237=0,0,PMT($H235,D237,-D236))","v":26372.78281912817},null,null,"CO2-eq. emission coefficient",{"$f":"+Assumptions!C39","v":0},"ton CO2-eq./MWh"]
[null,"Annual O&M",{"$f":"PMT(H235,C237,-(+H240*H241))","v":1.4185923464713012E-2},{"$f":"PMT(H235,C237,-(+H248*H249))","v":2.09870547192162E-3},null,null,"Reduction option: Efficient HVAC system"]
[null,"Annual electricity cost",{"$f":"H245*1000*H236/H237*100000","v":0},{"$f":"H251*1000*H236/H237*100000","v":0},{"$f":"C240-D240","v":0},null,"Water cooled centrifugal chillers",{"$f":"20/45.84","v":0.43630017452006975},"MUS$"]
[null,"Total annual cost",{"$f":"SUM(C238:C240)","v":65913.253449607466},{"$f":"SUM(D238:D240)","v":26372.78491783364},{"$f":"C241-D241","v":39540.468531773826},null,"Efficient glazing",{"$f":"14.95/45.98","v":0.32514136581122227},"MUS$"]
[null,null,null,null,null,null,"Heat recovery wheel",{"$f":"8/45.98","v":0.17398869073510223},"MUS$"]
[null,"Annual emissions (tons)","Tons","Tons","Reduction",null,"Building Management System",{"$f":"6/45.98","v":0.13049151805132667},"MUS$"]
[null,"Fuel  CO2-eq. emission",{"$f":"+H245*H238/H237*100000","v":0},{"$f":"+H251*H238/H237*100000","v":0},{"$f":"D244-C244","v":0},null,"Total investment",{"$f":"SUM(H240:H243)","v":1.0659217491177209},"MUS$"]
[null,"Other",null,null,null,null,"Annual electricity used",5140,"MWh"]
[null,"Total CO2-eq. emission ",{"$f":"C244+C245","v":0},{"$f":"D244+D245","v":0},{"$f":"D246-C246","v":0},null,"Annual electricity/m2",{"$f":"H245/H237*1000","v":31.784138947888113},"kWh/m2"]
[null,null,null,null,null,null,"Reference option: Conventional cooling system"]
[null,"US$/ton CO2-eq.",null,null,{"$f":"IF(E246<>0,E241/E246,0)","v":0},null,"Water cooled reciprocating chillers",{"$f":"17/45.98","v":0.36972596781209222},"MUS$"]
[null,null,null,null,null,null,"Conventional glazing",{"$f":"2.61/45.98","v":5.6763810352327103E-2},"MUS$"]
[null,null,null,null,null,null,"Total investment",{"$f":"SUM(H248:H249)","v":0.4264897781644193},"MUS$"]
[null,null,null,null,null,null,"Annual electricity used",20318,"MWh"]
[null,null,null,null,null,null,"Annual electricity/m2",{"$f":"H251/H237*1000","v":125.64010411346122},"kWh/m2"]
[]
[null,null,null,null,null,null,"Electricity saved",{"$f":"+H251-H245","v":15178},"MWh"]
[null,null,null,null,null,null,null,{"$f":"(H251-H245)/H251","v":0.74702234471896845},"Saving"]
[]
[]
[]
[]
[]
[]
[null,"Efficient chiller (centrifugal > 300 TR) - 1TR"]
[null,"Costs in","Reduction","Reference","Increase",null,"General inputs:"]
[null,"US$","Option","Option","(Red.-Ref.)",null,"Discount rate ",{"$f":"+DiscountRate","v":0}]
[null,"Total investment",{"$f":"+H274+H273","v":350},null,{"$f":"+C265-D265","v":350},null,"Average electricity price",{"$f":"+Assumptions!C35","v":0},"US$/kWh"]
[null,"Project life",15,null,null,null,"Size of chiller",1,"TR"]
[null,"Lev. investment",{"$f":"IF(C266=0,0,PMT($H264,C266,-C265))","v":23.333333333333332},null,null,null,"Equivalent full-load hours",2000,"Hours"]
[null,"Annual O&M",{"$f":"PMT(H264,C266,-(+H270*H271))","v":9.3333333333333339},{"$f":"PMT(H264,C266,-(+H281*H282))","v":0},null,null,"CO2-eq. emission coefficient",{"$f":"+Assumptions!C39","v":0},"ton CO2-eq./MWh"]
[null,"Annual electricity cost",{"$f":"+H275*H265","v":0},{"$f":"+H284*H265","v":0},{"$f":"C269-D269","v":0},null,"Reduction option: Efficient chiller"]
[null,"Total annual cost",{"$f":"SUM(C267:C269)","v":32.666666666666664},{"$f":"SUM(D267:D269)","v":0},{"$f":"C270-D270","v":32.666666666666664},null,"Water cooled centrifugal chillers",{"$f":"200+(500-200)/2","v":350},"US$/TR"]
[null,null,null,null,null,null,"Chiller efficiency (IPLV)",0.4,"kW/TR"]
[null,"Annual emissions (tons)","Tons","Tons","Reduction",null,"Investment in chiller",{"$f":"H270*H266","v":350},"US$"]
[null,"Fuel  CO2-eq. emission",{"$f":"H275*H268/1000","v":0},{"$f":"H284*H268/1000","v":0},{"$f":"D273-C273","v":0},null,"Installation costs",0,"US$"]
[null,"Other",{"$f":"H278*H277","v":3.3E-3},{"$f":"H287*H286","v":1.43},{"$f":"D274-C274","v":1.4266999999999999},null,"Total investment",{"$f":"+H272+H273","v":350},"US$"]
[null,"Total CO2-eq. emission ",{"$f":"C273+C274","v":3.3E-3},{"$f":"D273+D274","v":1.43},{"$f":"D275-C275","v":1.4266999999999999},null,"Annual electricity used",{"$f":"+H271*H266*H267","v":800},"kWh"]
[null,null,null,null,null,null,"Cooling liquid","R290 (Propane)"]
[null,"US$/ton CO2-eq.",null,null,{"$f":"IF(E275<>0,E270/E275,0)","v":22.896661292960445},null,"GWP for cooling liquid",3.3]
[null,null,null,null,null,null,"Amount of cooling liquid",{"$f":"0.001","v":1E-3},"Ton"]
[]
[null,null,null,null,null,null,"Reference option: Existing air cooled chiller"]
[null,null,null,null,null,null,"Air cooled chiller",null,"US$/TR"]
[null,null,null,null,null,null,"Chiller efficiency (IPLV)",0.95,"kW/TR"]
[null,null,null,null,null,null,"Total investment",null,"MUS$"]
[null,null,null,null,null,null,"Annual electricity used",{"$f":"H266*H282*H267","v":1900},"kWh"]
[null,null,null,null,null,null,"Cooling liquid","R134a"]
[null,null,null,null,null,null,"GWP for cooling liquid",1430]
[null,null,null,null,null,null,"Amount of cooling liquid",{"$f":"+H278","v":1E-3},"Ton"]
[null,null,null,null,null,null,"Annual loss of cooling liquid",7.0000000000000007E-2]
[]
[null,null,null,null,null,null,"Electricity saved",{"$f":"+H284-H275","v":1100},"kWh"]
[null,null,null,null,null,null,null,{"$f":"(H284-H275)/H284","v":0.57894736842105265},"Saving"]
[]
[]
[null,"Efficient chiller (Positive displacement < 300 TR) - 1 TR"]
[null,"Costs in","Reduction","Reference","Increase",null,"General inputs:"]
[null,"US$","Option","Option","(Red.-Ref.)",null,"Discount rate ",{"$f":"+DiscountRate","v":0}]
[null,"Total investment",{"$f":"H302*H298","v":300},null,{"$f":"+C297-D297","v":300},null,"Average electricity price",{"$f":"+Assumptions!C35","v":0},"US$/kWh"]
[null,"Project life",15,null,null,null,"Size of chiller",1,"TR"]
[null,"Lev. investment",{"$f":"IF(C298=0,0,PMT($H296,C298,-C297))","v":20},null,null,null,"Equivalent full-load hours",2000,"Hours"]
[null,"Annual O&M",{"$f":"PMT(H296,C298,-(+H302*H303))","v":10},{"$f":"PMT(H296,C298,-(+H312*H313))","v":0},null,null,"CO2-eq. emission coefficient",{"$f":"+Assumptions!C39","v":0},"ton CO2-eq./MWh"]
[null,"Annual electricity cost",{"$f":"+H306*H297","v":0},{"$f":"+H315*H297","v":0},{"$f":"C301-D301","v":0},null,"Reduction option: Efficient chiller"]
[null,"Total annual cost",{"$f":"SUM(C299:C301)","v":30},{"$f":"SUM(D299:D301)","v":0},{"$f":"C302-D302","v":30},null,"Water cooled screw chillers",{"$f":"250+(350-250)/2","v":300},"US$/TR"]
[null,null,null,null,null,null,"Chiller efficiency (IPLV)",0.5,"kW/TR"]
[null,"Annual emissions (tons)","Tons","Tons","Reduction",null,"Total investment",{"$f":"H302*H298","v":300},"US$"]
[null,"Fuel  CO2-eq. emission",{"$f":"H306*H297/1000","v":0},{"$f":"H315*H297/1000","v":0},{"$f":"D305-C305","v":0},null,"Installation costs",0,"US$"]
[null,"Other",{"$f":"+H308*H309","v":1.65E-3},{"$f":"H318*H317","v":0.71499999999999997},{"$f":"D306-C306","v":0.71334999999999993},null,"Annual electricity used",{"$f":"H298*H303*H299","v":1000},"kWh"]
[null,"Total CO2-eq. emission ",{"$f":"C305+C306","v":1.65E-3},{"$f":"D305+D306","v":0.71499999999999997},{"$f":"D307-C307","v":0.71334999999999993},null,"Cooling liquid","R290 (Propane)"]
[null,null,null,null,null,null,"GWP for cooling liquid",3.3]
[null,"US$/ton CO2-eq.",null,null,{"$f":"IF(E307<>0,E302/E307,0)","v":42.055092170743677},null,"Amount of cooling liquid",5.0000000000000001E-4,"Tons"]
[]
[null,null,null,null,null,null,"Reference option: Existing air cooled chiller"]
[null,null,null,null,null,null,"Air cooled chiller",null,"US$/TR"]
[null,null,null,null,null,null,"Chiller efficiency (IPLV)",0.9,"kW/TR"]
[null,null,null,null,null,null,"Total investment",null,"MUS$"]
[null,null,null,null,null,null,"Annual electricity used",{"$f":"H298*H313*H299","v":1800},"kWh"]
[null,null,null,null,null,null,"Cooling liquid","R134a"]
[null,null,null,null,null,null,"GWP for cooling liquid",1430]
[null,null,null,null,null,null,"Amount of cooling liquid",{"$f":"+H309","v":5.0000000000000001E-4},"Tons"]
[null,null,null,null,null,null,"Annual loss of cooling liquid",7.0000000000000007E-2]
[]
[null,null,null,null,null,null,"Electricity saved",{"$f":"+H315-H306","v":800},"kWh"]
[null,null,null,null,null,null,null,{"$f":"(H315-H306)/H315","v":0.44444444444444442},"Saving"]
[]
[]
[]
[null,"Efficient room air conditioner (in hotel or office etc)"]
[null,"Costs in","Reduction","Reference","Increase",null,"General inputs:"]
[null,"US$","Option","Option","(Red.-Ref.)",null,"Discount rate ",{"$f":"+DiscountRate","v":0}]
[null,"Total investment",{"$f":"H336*H334","v":130},null,{"$f":"C329-D329","v":130},null,"Average electricity price",{"$f":"+Assumptions!C35","v":0},"US$/kWh"]
[null,"Project life",{"$f":"+H335","v":5},null,null,null,"CO2-eq. emission coefficient",{"$f":"+Assumptions!C39","v":0},"ton CO2-eq./MWh"]
[null,"Lev. investment",{"$f":"IF(C330=0,0,PMT($H328,C330,-C329))","v":26},0,null,null,"Grid loss",{"$f":"+Assumptions!C40","v":1}]
[null,"Annual O&M",{"$f":"+H333*C329","v":1.3},{"$f":"PMT(H328,C330,-(+H343*H344))","v":0},null,null,"Reduction option: Efficient air conditioner"]
[null,"Annual electricity cost",{"$f":"H341*H329","v":0},{"$f":"H351*H329","v":0},{"$f":"C333-D333","v":0},null,"O&M ",0.01]
[null,"Total annual cost",{"$f":"SUM(C331:C333)","v":27.3},{"$f":"SUM(D331:D333)","v":0},{"$f":"C334-D334","v":27.3},null,"Activity",1,"Air conditioner"]
[null,null,null,null,null,null,"Lifetime",5,"yrs"]
[null,"Annual emissions (tons)","Tons","Tons","Reduction",null,"Extra cost for eff. air conditioner",130,"US$"]
[null,"Fuel  CO2-eq. emission",{"$f":"H341*H330/(1-H331)/1000","v":{"$error":"#DIV/0!"}},{"$f":"H351*H330/(1-H331)/1000","v":{"$error":"#DIV/0!"}},{"$f":"D337-C337","v":{"$error":"#DIV/0!"}},null,"Cooling capacity",{"$f":"H345","v":2.5},"kW"]
[null,"Other",null,null,null,null,"COP for A level",3.6]
[null,"Total CO2-eq. emission ",{"$f":"C337+C338","v":{"$error":"#DIV/0!"}},{"$f":"D337+D338","v":{"$error":"#DIV/0!"}},{"$f":"D339-C339","v":{"$error":"#DIV/0!"}},null,"Input power",{"$f":"H337/H338","v":0.69444444444444442},"kW"]
[null,null,null,null,null,null,"Annual usage",{"$f":"H350","v":5110},"hrs"]
[null,"US$/ton CO2-eq.",null,null,{"$f":"IF(E339<>0,E334/E339,0)","v":{"$error":"#DIV/0!"}},null,"Annual electricity used",{"$f":"H334*H339*H340","v":3548.6111111111109},"kWh"]
[null,null,null,null,null,null,"Reference option: Conventional air conditioner"]
[null,null,null,null,null,null,"O&M ",0,"US$"]
[null,null,null,null,null,null,"Activity",{"$f":"+H334","v":1},{"$f":"+I334","v":"Air conditioner"}]
[null,null,null,null,null,null,"Cooling capacity",2.5,"kW"]
[null,null,null,null,null,null,"COP for F level",2.7]
[null,null,null,null,null,null,"Input power",{"$f":"H345/H346","v":0.92592592592592582},"kW"]
[null,null,null,null,null,null,"Daily usage",14,"Hours/day"]
[null,null,null,null,null,null,"Days used",365,"Days/year"]
[null,null,null,null,null,null,"Annual usage",{"$f":"H349*H348","v":5110},"hrs"]
[null,null,null,null,null,null,"Annual electricity used",{"$f":"H347*H350","v":4731.4814814814808},"kWh"]
[]
[null,null,null,null,null,null,"Electricity saved 1 unit",{"$f":"+H351-H341","v":1182.87037037037},"kWh"]
[null,null,null,null,null,null,null,{"$f":"(H351-H341)/H351","v":0.24999999999999994},"Saving"]
[]
[]
[]
[]
[null,"Efficient commercial dishwashing machine (1000 meals/day)"]
[null,"Costs in","Reduction","Reference","Increase",null,"General inputs:"]
[null,"US$","Option","Option","(Red.-Ref.)",null,"Discount rate ",{"$f":"+DiscountRate","v":0}]
[null,"Total investment",{"$f":"H375","v":10547.2},null,{"$f":"+C362-D362","v":10547.2},null,"Electricity price",{"$f":"+Assumptions!C35","v":0},"US$/kWh"]
[null,"Project life",{"$f":"H374","v":10},null,null,null,"CO2-eq. emission coefficient",{"$f":"+Assumptions!C39","v":0},"tCO2/MWh"]
[null,"Lev. investment",{"$f":"IF(C363=0,0,PMT($H361,C363,-C362))","v":1054.72},null,{"$f":"C364-D364","v":1054.72},null,"Grid loss",0.186]
[null,"Annual O&M",0,null,{"$f":"C365-D365","v":0},null,"1 gallon =",3.7854000000000001,"Liters"]
[null,"Annual electricity cost",{"$f":"H379*H362","v":0},{"$f":"H386*H362","v":0},{"$f":"C366-D366","v":0},null,"1 ft3 =",28.317,"Liters"]
[null,"Total annual cost",{"$f":"SUM(C364:C366)","v":1054.72},{"$f":"SUM(D364:D366)","v":0},{"$f":"C367-D367","v":1054.72},null,"1 rack =",25,"glasses"]
[null,null,null,null,null,null,"1 rack =",18,"Plates"]
[null,"Annual emissions (tons)","Tons","Tons","Reduction",null,"1000 meals =",{"$f":"1000/20","v":50},"Racks"]
[null,"Fuel  CO2-eq. emission",{"$f":"H379/1000*H363/(1-H364)","v":0},{"$f":"H386/1000*H363/(1-H364)","v":0},{"$f":"D370-C370","v":0},null,"Reduction option: New dishwashing machine"]
[null,"Other",null,null,null,null,"O&M  ",0.01]
[null,"Total CO2-eq. emission ",{"$f":"C370+C371","v":0},{"$f":"D370+D371","v":0},{"$f":"D372-C372","v":0},null,"Activity",1000,"Meals/day"]
[null,null,null,null,null,null,"Activity",{"$f":"H372/1000*H369","v":50},"Racks/day"]
[null,"US$/ton CO2-eq.",null,null,{"$f":"IF(E372<>0,E367/E372,0)","v":0},null,"Lifetime",10,"Years"]
[null,null,null,null,null,null,"Investment in machine",{"$f":"65920/6.25","v":10547.2},"US$"]
[null,null,null,null,null,null,"Water Consumption",2.4,"liters/rack"]
[null,null,null,null,null,null,"Water use",{"$f":"+H376*H373*365","v":43800},"liters/year"]
[null,null,null,null,null,null,"Electricity consumption",2,"kWh/rack"]
[null,null,null,null,null,null,"Annual electricity used",{"$f":"H378*H373*365","v":36500},"kWh/year"]
[null,null,null,null,null,null,"Reference option: Old dishwashing machine"]
[null,null,null,null,null,null,"O&M ",0.01]
[null,null,null,null,null,null,"Activity",1,{"$f":"+I372","v":"Meals/day"}]
[null,null,null,null,null,null,"Water Consumption",6,"liters/rack"]
[null,null,null,null,null,null,"Water use",{"$f":"+H383*H373*365","v":109500},"liters/year"]
[null,null,null,null,null,null,"Electricity consumption",3,"kWh/rack"]
[null,null,null,null,null,null,"Annual electricity used",{"$f":"H385*H373*365","v":54750},"kWh/year"]
[]
[null,null,null,null,null,null,"Annual electricity Saved",{"$f":"H386-H379","v":18250},"kWh/year"]
[null,null,null,null,null,null,"Annual water Saved",{"$f":"H384-H377","v":65700},"Liters/year"]
[]
[]
[]
[]
[null,"Efficient hotel refrigerator"]
[null,"Costs in","Reduction","Reference","Increase",null,"General inputs:"]
[null,"US$","Option","Option","(Red.-Ref.)",null,"Discount rate ",{"$f":"+DiscountRate","v":0}]
[null,"Total investment",{"$f":"H403*H405","v":4048.4375},{"$f":"H411*H410","v":0},{"$f":"C397-D397","v":4048.4375},null,"Average electricity price",{"$f":"+Assumptions!C35","v":0},"US$/kWh"]
[null,"Project life",{"$f":"H404","v":12},null,null,null,"CO2-eq. emission coefficient",{"$f":"+Assumptions!C39","v":0},"ton CO2-eq./MWh"]
[null,"Lev. investment",{"$f":"IF(C398=0,0,PMT($H396,C398,-C397))","v":337.36979166666669},null,{"$f":"C399-D399","v":337.36979166666669},null,"Grid loss",{"$f":"+Assumptions!C40","v":1}]
[null,"Annual O&M",{"$f":"H402","v":0},{"$f":"H409","v":0},{"$f":"C400-D400","v":0}]
[null,"Annual electricity cost",{"$f":"H406*H397","v":0},{"$f":"H413*H397","v":0},{"$f":"C401-D401","v":0},null,"Reduction option: Efficient refrigerator"]
[null,"Total annual cost",{"$f":"SUM(C399:C401)","v":337.36979166666669},{"$f":"SUM(D399:D401)","v":0},{"$f":"C402-D402","v":337.36979166666669},null,"O&M ",0,"US$"]
[null,null,null,null,null,null,"Activity",1,"Refrigerator"]
[null,"Annual emissions (tons)","Tons","Tons","Reduction",null,"Lifetime",12,"yrs"]
[null,"Fuel  CO2-eq. emission",{"$f":"H406*H398/(1-H399)/1000","v":{"$error":"#DIV/0!"}},{"$f":"H413*H398/(1-H399)/1000","v":{"$error":"#DIV/0!"}},{"$f":"D405-C405","v":{"$error":"#DIV/0!"}},null,"Cost of eff. refrigerator",{"$f":"25910/6.4","v":4048.4375},"US$"]
[null,"Other",null,null,null,null,"Annual electricity used",328,"kWh"]
[null,"Total CO2-eq. emission ",{"$f":"C405+C406","v":{"$error":"#DIV/0!"}},{"$f":"D405+D406","v":{"$error":"#DIV/0!"}},{"$f":"D407-C407","v":{"$error":"#DIV/0!"}}]
[null,null,null,null,null,null,"Reference option: Non-efficient refrigerator"]
[null,"US$/ton CO2-eq.",null,null,{"$f":"E402/E407","v":{"$error":"#DIV/0!"}},null,"O&M ",0,"US$"]
[null,null,null,null,null,null,"Cost of old refrigerator",0,"US$"]
[null,null,null,null,null,null,"Activity",{"$f":"+H403","v":1},{"$f":"+I403","v":"Refrigerator"}]
[null,null,null,null,null,null,"Electricity savings",0.67]
[null,null,null,null,null,null,"Annual electricity used",{"$f":"+H406/(1-H412)","v":993.93939393939411},"kWh"]
[]
[null,null,null,null,null,null,"Electricity saved",{"$f":"H413-H406","v":665.93939393939411},"kWh"]
[]
[]
[]
[]
[]
[]
[]
[]
[null,"Efficient hotel washing machine (1000 GN)"]
[null,"Costs in","Reduction","Reference","Increase",null,"General inputs:"]
[null,"US$","Option","Option","(Red.-Ref.)",null,"Discount rate ",{"$f":"+DiscountRate","v":0}]
[null,"Total investment",{"$f":"H438","v":20544},null,{"$f":"+C427-D427","v":20544},null,"Electricity price",{"$f":"+Assumptions!C35","v":0},"US$/kWh"]
[null,"Project life",{"$f":"H439","v":15},null,null,null,"CO2-eq. emission coefficient",{"$f":"+Assumptions!C39","v":0},"tCO2/MWh"]
[null,"Lev. investment",{"$f":"IF(C428=0,0,PMT($H426,C428,-C427))","v":1369.6},null,{"$f":"C429-D429","v":1369.6},null,"Grid loss",{"$f":"+Assumptions!C40","v":1}]
[null,"Annual O&M",{"$f":"H435*C427","v":205.44},0,{"$f":"C430-D430","v":205.44},null,"Specific weight of bedlinen",0.25,"kg/m2"]
[null,"Annual electricity cost",{"$f":"H446*H427","v":0},{"$f":"H455*H427","v":0},{"$f":"C431-D431","v":0},null,"Weight of bedlinen for 1 GN",{"$f":"(2*(0.6*0.73+1.4*2)+2.4*1.35)*H430/2","v":1.2145000000000001},"kg"]
[null,"Total annual cost",{"$f":"SUM(C429:C431)","v":1575.04},{"$f":"SUM(D429:D431)","v":0},{"$f":"C432-D432","v":1575.04},null,"Weight of towels for 1 GN",{"$f":"0.4","v":0.4},"kg"]
[null,null,null,null,null,null,"Tablecloth & napkin for 1 GN",{"$f":"0.8/2+0.2","v":0.60000000000000009},"kg"]
[null,"Annual emissions (tons)","Tons","Tons","Reduction",null,"Reduction option: New washing machine"]
[null,"Fuel  CO2-eq. emission",{"$f":"H446/1000*H428/(1-H429)","v":{"$error":"#DIV/0!"}},{"$f":"H455/1000*H428/(1-H429)","v":{"$error":"#DIV/0!"}},{"$f":"D435-C435","v":{"$error":"#DIV/0!"}},null,"O&M  ",0.01]
[null,"Other",null,null,null,null,"Activity",1000,"Guest nights (GN)"]
[null,"Total CO2-eq. emission ",{"$f":"C435+C436","v":{"$error":"#DIV/0!"}},{"$f":"D435+D436","v":{"$error":"#DIV/0!"}},{"$f":"D437-C437","v":{"$error":"#DIV/0!"}},null,"Number of washs",{"$f":"(H431+H432+H433)*H436/H441","v":92.270833333333329}]
[null,null,null,null,null,null,"Investment in machine",{"$f":"128400/6.25","v":20544},"US$"]
[null,"US$/ton CO2-eq.",null,null,{"$f":"IF(E437<>0,E432/E437,0)","v":{"$error":"#DIV/0!"}},null,"Lifetime",15,"Years"]
[null,null,null,null,null,null,"Cylinder volume",240,"liter"]
[null,null,null,null,null,null,"Machine load",24,"kg"]
[null,null,null,null,null,null,"Water Consumption Factor",10.29,"liter/kg"]
[null,null,null,null,null,null,"Water consumption/wash",250,"liter/wash"]
[null,null,null,null,null,null,"Standard consumption",6.1,"kWh/wash"]
[null,null,null,null,null,null,"Energy Efficincy Index (EEI): A++",0.49,"% of standard"]
[null,null,null,null,null,null,"Annual electricity consumption",{"$f":"H444*H445*H437","v":275.79752083333329},"kWh/year"]
[null,null,null,null,null,null,"Energy consumption/wash",{"$f":"H446/220","v":1.2536250946969696},"kWh/wash"]
[null,null,null,null,null,null,"Annual water consumption",{"$f":"+H443*H437/1000","v":23.067708333333332},"m3"]
[]
[null,null,null,null,null,null,"Reference option: Old washing machine"]
[null,null,null,null,null,null,"O&M ",0.01]
[null,null,null,null,null,null,"Water Consumption Factor",12,"liter/kg"]
[null,null,null,null,null,null,"Water consumption/wash",{"$f":"H452*H441","v":288},"liter/wash"]
[null,null,null,null,null,null,"Energy saving",0.32]
[null,null,null,null,null,null,"Annual electricity consumption",{"$f":"H444*(1-H454)*H437","v":382.73941666666661},"kWh/year"]
[null,null,null,null,null,null,"Energy consumption/wash",{"$f":"H455/220","v":1.7397246212121209},"kWh/wash"]
[null,null,null,null,null,null,"Annual water consumption",{"$f":"+H453*H437/1000","v":26.574000000000002},"m3"]
[]
[null,null,null,null,null,null,"Annual electricity Saved",{"$f":"+H455-H446","v":106.94189583333332},"kWh/year"]
[null,null,null,null,null,null,"Annual water saving",{"$f":"+H457-H448","v":3.5062916666666695},"m3"]

{"sheet":"EE supply side","index":28,"n_rows":178,"n_cols":36,"rows_kept":178,"cut":false,"hidden":true,"merged":[[10,33,10,35],[15,33,15,35],[10,24,10,26],[15,24,15,26],[157,6,157,8],[69,6,69,8],[160,6,160,8],[172,6,172,8],[7,1,7,3],[99,6,99,8],[106,6,106,8],[75,6,75,8],[127,6,127,8],[130,6,130,8],[142,6,142,8],[1,1,1,3],[3,1,3,3],[4,1,4,3],[5,1,5,3],[6,1,6,3]]}
[]
[null,"Menu for EE Supply Side options (click links below)"]
[]
[null,"New gas power plant - 1MW"]
[null,"New high efficiency coal power plant - 1MW"]
[null,"Single cycle to combined cycle"]
[null,"Cogeneration in industry (1 MW)"]
[null,"Swith away from fuel oil to diesel (1 MW)"]
[]
[null,"1 MW new natural gas power connected to main grid - 2025",null,null,null,null,null,null,null,null,"1 MW new natural gas power connected to main grid - 2030",null,null,null,null,null,null,null,null,"1 MW new natural gas power connected to main grid - 2040",null,null,null,null,null,null,null,null,"1 MW new natural gas power connected to main grid - 2050"]
[null,"Costs in","Reduction","Reference","Increase",null,"General inputs:",null,null,null,"Costs in","Reduction","Reference","Increase",null,"General inputs:",null,null,null,"Costs in","Reduction","Reference","Increase",null,"General inputs:",null,null,null,"Costs in","Reduction","Reference","Increase",null,"General inputs:"]
[null,"US$","Option","Option","(Red.-Ref.)",null,"Discount rate ",{"$f":"Assumptions!$C$13","v":0},null,null,"US$","Option","Option","(Red.-Ref.)",null,"Discount rate ",{"$f":"Assumptions!$C$13","v":0},null,null,"US$","Option","Option","(Red.-Ref.)",null,"Discount rate ",{"$f":"Assumptions!$C$13","v":0},null,null,"US$","Option","Option","(Red.-Ref.)",null,"Discount rate ",{"$f":"Assumptions!$C$13","v":0}]
[null,"Total investment",{"$f":"H21*1000","v":921140.21346956247},null,{"$f":"C13-D13","v":921140.21346956247},null,"Reference electricity price",{"$f":"+Assumptions!C35","v":0},"US$/kWh",null,"Total investment",{"$f":"Q21*1000","v":921140.21346956247},null,{"$f":"L13-M13","v":921140.21346956247},null,"Reference electricity price",{"$f":"+Assumptions!C35","v":0},"US$/kWh",null,"Total investment",{"$f":"Z21*1000","v":921140.21346956247},null,{"$f":"U13-V13","v":921140.21346956247},null,"Reference electricity price",{"$f":"+Assumptions!C35","v":0},"US$/kWh",null,"Total investment",{"$f":"AI21*1000","v":921140.21346956247},null,{"$f":"AD13-AE13","v":921140.21346956247},null,"Reference electricity price",{"$f":"+Assumptions!C35","v":0},"US$/kWh"]
[null,"Project life",20,null,null,null,"CO2-eq. emission coefficient",{"$f":"+Assumptions!C39","v":0},"tCO2/MWh",null,"Project life",20,null,null,null,"CO2-eq. emission coefficient",{"$f":"+Assumptions!C39","v":0},"tCO2/MWh",null,"Project life",20,null,null,null,"CO2-eq. emission coefficient",{"$f":"+Assumptions!C39","v":0},"tCO2/MWh",null,"Project life",20,null,null,null,"CO2-eq. emission coefficient",{"$f":"+Assumptions!C39","v":0},"tCO2/MWh"]
[null,"Lev. investment",{"$f":"IF(C14=0,0,PMT($H$12,C14,-C13))","v":46057.010673478122},null,{"$f":"C15-D15","v":46057.010673478122},null,null,null,null,null,"Lev. investment",{"$f":"IF(L14=0,0,PMT($Q$12,L14,-L13))","v":46057.010673478122},null,{"$f":"L15-M15","v":46057.010673478122},null,null,null,null,null,"Lev. investment",{"$f":"IF(U14=0,0,PMT($Z$12,U14,-U13))","v":46057.010673478122},null,{"$f":"U15-V15","v":46057.010673478122},null,null,null,null,null,"Lev. investment",{"$f":"IF(AD14=0,0,PMT($AI$12,AD14,-AD13))","v":46057.010673478122},null,{"$f":"AD15-AE15","v":46057.010673478122}]
[null,"Annual O&M",{"$f":"H25*1000","v":25000},null,{"$f":"C16-D16","v":25000},null,"Reduction option: Natural gas power",null,null,null,"Annual O&M",{"$f":"Q25*1000","v":25000},null,{"$f":"L16-M16","v":25000},null,"Reduction option: Natural gas power",null,null,null,"Annual O&M",{"$f":"Z25*1000","v":25000},null,{"$f":"U16-V16","v":25000},null,"Reduction option: Natural gas power",null,null,null,"Annual O&M",{"$f":"AI25*1000","v":25000},null,{"$f":"AD16-AE16","v":25000},null,"Reduction option: Natural gas power"]
[null,"Annual fuelcost",{"$f":"H26*1000*H18/H19","v":151227.91900043085},{"$f":"H30*1000*H13/H19","v":0},{"$f":"C17-D17","v":151227.91900043085},null,"CO2-eq. emission coefficient",{"$f":"+Assumptions!D51","v":56.1},"kgCO2-eq./GJ",null,"Annual fuelcost",{"$f":"Q26*1000*Q18/Q19","v":147867.29857819906},{"$f":"Q30*1000*Q13/Q19","v":0},{"$f":"L17-M17","v":147867.29857819906},null,"CO2-eq. emission coefficient",{"$f":"+Assumptions!D51","v":56.1},"kgCO2-eq./GJ",null,"Annual fuelcost",{"$f":"Z26*1000*Z18/Z19","v":144652.79208736864},{"$f":"Z30*1000*Z13/Z19","v":0},{"$f":"U17-V17","v":144652.79208736864},null,"CO2-eq. emission coefficient",{"$f":"+Assumptions!D51","v":56.1},"kgCO2-eq./GJ",null,"Annual fuelcost",{"$f":"AI26*1000*AI18/AI19","v":144652.79208736864},{"$f":"AI30*1000*AI13/AI19","v":0},{"$f":"AD17-AE17","v":144652.79208736864},null,"CO2-eq. emission coefficient",{"$f":"+Assumptions!D51","v":56.1},"kgCO2-eq./GJ"]
[null,"Total annual cost",{"$f":"SUM(C15:C17)","v":222284.92967390898},{"$f":"SUM(D15:D17)","v":0},{"$f":"C18-D18","v":222284.92967390898},null,"Reference natural gas price",{"$f":"+Assumptions!O29","v":3.080568720379147},"US$/GJ",null,"Total annual cost",{"$f":"SUM(L15:L17)","v":218924.30925167719},{"$f":"SUM(M15:M17)","v":0},{"$f":"L18-M18","v":218924.30925167719},null,"Reference natural gas price",{"$f":"+Assumptions!O29","v":3.080568720379147},"US$/GJ",null,"Total annual cost",{"$f":"SUM(U15:U17)","v":215709.80276084677},{"$f":"SUM(V15:V17)","v":0},{"$f":"U18-V18","v":215709.80276084677},null,"Reference natural gas price",{"$f":"+Assumptions!O29","v":3.080568720379147},"US$/GJ",null,"Total annual cost",{"$f":"SUM(AD15:AD17)","v":215709.80276084677},{"$f":"SUM(AE15:AE17)","v":0},{"$f":"AD18-AE18","v":215709.80276084677},null,"Reference natural gas price",{"$f":"+Assumptions!O29","v":3.080568720379147},"US$/GJ"]
[null,null,null,null,null,null,"Activity",742,"MW",null,null,null,null,null,null,"Activity",742,"MW",null,null,null,null,null,null,"Activity",742,"MW",null,null,null,null,null,null,"Activity",742,"MW"]
[null,"Annual emissions (tons)","Tons","Tons","Reduction",null,"Investment in Activity",{"$f":"31331/45.84","v":683.48603839441535},"MUS$",null,"Annual emissions (tons)","Tons","Tons","Reduction",null,"Investment in Activity",{"$f":"31331/45.84","v":683.48603839441535},"MUS$",null,"Annual emissions (tons)","Tons","Tons","Reduction",null,"Investment in Activity",{"$f":"31331/45.84","v":683.48603839441535},"MUS$",null,"Annual emissions (tons)","Tons","Tons","Reduction",null,"Investment in Activity",{"$f":"31331/45.84","v":683.48603839441535},"MUS$"]
[null,"Fuel  CO2-eq. emission",{"$f":"H26*H17/H19","v":2754},{"$f":"H30*H14/H19","v":0},{"$f":"D21-C21","v":-2754},null,"Specific investment",{"$f":"H20/H19*1000","v":921.14021346956247},"US$/kW",null,"Fuel  CO2-eq. emission",{"$f":"Q26*Q17/Q19","v":2692.8},{"$f":"Q30*Q14/Q19","v":0},{"$f":"M21-L21","v":-2692.8},null,"Specific investment",{"$f":"Q20/Q19*1000","v":921.14021346956247},"US$/kW",null,"Fuel  CO2-eq. emission",{"$f":"Z26*Z17/Z19","v":2634.2608695652175},{"$f":"Z30*Z14/Z19","v":0},{"$f":"V21-U21","v":-2634.2608695652175},null,"Specific investment",{"$f":"Z20/Z19*1000","v":921.14021346956247},"US$/kW",null,"Fuel  CO2-eq. emission",{"$f":"AI26*AI17/AI19","v":2634.2608695652175},{"$f":"AI30*AI14/AI19","v":0},{"$f":"AE21-AD21","v":-2634.2608695652175},null,"Specific investment",{"$f":"AI20/AI19*1000","v":921.14021346956247},"US$/kW"]
[null,"Other",null,null,null,null,"Capacity factor",6000,"Full time hours",null,"Other",null,null,null,null,"Capacity factor",6000,"Full time hours",null,"Other",null,null,null,null,"Capacity factor",6000,"Full time hours",null,"Other",null,null,null,null,"Capacity factor",6000,"Full time hours"]
[null,"Total CO2-eq. emission ",{"$f":"C21+C22","v":2754},{"$f":"D21+D22","v":0},{"$f":"D23-C23","v":-2754},null,"Electricity production",{"$f":"H19*H22","v":4452000},"MWh/ year",null,"Total CO2-eq. emission ",{"$f":"L21+L22","v":2692.8},{"$f":"M21+M22","v":0},{"$f":"M23-L23","v":-2692.8},null,"Electricity production",{"$f":"Q19*Q22","v":4452000},"MWh/ year",null,"Total CO2-eq. emission ",{"$f":"U21+U22","v":2634.2608695652175},{"$f":"V21+V22","v":0},{"$f":"V23-U23","v":-2634.2608695652175},null,"Electricity production",{"$f":"Z19*Z22","v":4452000},"MWh/ year",null,"Total CO2-eq. emission ",{"$f":"AD21+AD22","v":2634.2608695652175},{"$f":"AE21+AE22","v":0},{"$f":"AE23-AD23","v":-2634.2608695652175},null,"Electricity production",{"$f":"AI19*AI22","v":4452000},"MWh/ year"]
[null,null,null,null,null,null,"Power plant efficiency",0.44,null,null,null,null,null,null,null,"Power plant efficiency",0.45,null,null,null,null,null,null,null,"Power plant efficiency",0.46,null,null,null,null,null,null,null,"Power plant efficiency",0.46]
[null,"US$/ton CO2-eq.",null,null,{"$f":"IF(E23<>0,E18/E23,0)","v":-80.713482089291574},null,"O&M",25,"US$/kW",null,"US$/ton CO2-eq.",null,null,{"$f":"IF(N23<>0,N18/N23,0)","v":-81.299877173082734},null,"O&M",25,"US$/kW",null,"US$/ton CO2-eq.",null,null,{"$f":"IF(W23<>0,W18/W23,0)","v":-81.886272256873895},null,"O&M",25,"US$/kW",null,"US$/ton CO2-eq.",null,null,{"$f":"IF(AF23<>0,AF18/AF23,0)","v":-81.886272256873895},null,"O&M",25,"US$/kW"]
[null,null,null,null,null,null,"Natural gas use",{"$f":"H23/H24*3.6/1000","v":36425.454545454544},"TJ/year",null,null,null,null,null,null,"Natural gas use",{"$f":"Q23/Q24*3.6/1000","v":35616},"TJ/year",null,null,null,null,null,null,"Natural gas use",{"$f":"Z23/Z24*3.6/1000","v":34841.739130434784},"TJ/year",null,null,null,null,null,null,"Natural gas use",{"$f":"AI23/AI24*3.6/1000","v":34841.739130434784},"TJ/year"]
[null,null,null,null,null,null,"Cost of electricity production",{"$f":"+C18/H22/1000","v":3.7047488278984832E-2},"US$/kWh",null,null,null,null,null,null,"Cost of electricity production",{"$f":"+L18/Q22/1000","v":3.6487384875279534E-2},"US$/kWh",null,null,null,null,null,null,"Cost of electricity production",{"$f":"+U18/Z22/1000","v":3.5951633793474463E-2},"US$/kWh",null,null,null,null,null,null,"Cost of electricity production",{"$f":"+AD18/AI22/1000","v":3.5951633793474463E-2},"US$/kWh"]
[]
[null,null,null,null,null,null,"Reference option: Grid electricity",null,null,null,null,null,null,null,null,"Reference option: Grid electricity",null,null,null,null,null,null,null,null,"Reference option: Grid electricity",null,null,null,null,null,null,null,null,"Reference option: Grid electricity"]
[null,null,null,null,null,null,"Electricity production",{"$f":"+H23","v":4452000},"MWh/ year",null,null,null,null,null,null,"Electricity production",{"$f":"+Q23","v":4452000},"MWh/ year",null,null,null,null,null,null,"Electricity production",{"$f":"+Z23","v":4452000},"MWh/ year",null,null,null,null,null,null,"Electricity production",{"$f":"+AI23","v":4452000},"MWh/ year"]
[]
[]
[]
[]
[]
[]
[]
[]
[null,"New high efficiency coal power plant - 1MW in 2025",null,null,null,null,null,null,null,null,"New high efficiency coal power plant - 1MW in 2030",null,null,null,null,null,null,null,null,null,null,null,null,null,null,null,null,null,"New high efficiency coal power plant - 1MW in 2050"]
[null,"Costs in","Reduction","Reference","Increase",null,"General inputs:",null,null,null,"Costs in","Reduction","Reference","Increase",null,"General inputs:",null,null,null,null,null,null,null,null,null,null,null,null,"Costs in","Reduction","Reference","Increase",null,"General inputs:"]
[null,"US$","Option","Option","(Red.-Ref.)",null,"Discount rate ",{"$f":"+DiscountRate","v":0},null,null,"US$","Option","Option","(Red.-Ref.)",null,"Discount rate ",{"$f":"+DiscountRate","v":0},null,null,null,null,null,null,null,null,null,null,null,"US$","Option","Option","(Red.-Ref.)",null,"Discount rate ",{"$f":"+DiscountRate","v":0}]
[null,"Total investment",{"$f":"+H46*1000","v":1388000},{"$f":"H56*1000","v":1148000},{"$f":"C42-D42","v":240000},null,"Natural gas price",{"$f":"+Assumptions!K29","v":2.0032051282051282},"US$/GJ",null,"Total investment",{"$f":"+Q46*1000","v":1388000},{"$f":"Q56*1000","v":1148000},{"$f":"L42-M42","v":240000},null,"Natural gas price",{"$f":"+Assumptions!K29","v":2.0032051282051282},"US$/GJ",null,null,null,null,null,null,null,null,null,null,"Total investment",{"$f":"+AI46*1000","v":1388000},{"$f":"AI56*1000","v":1148000},{"$f":"AD42-AE42","v":240000},null,"Natural gas price",{"$f":"+Assumptions!K29","v":2.0032051282051282},"US$/GJ"]
[null,"Project life",20,20,null,null,"CO2-eq. emission coefficient",{"$f":"+Assumptions!D52","v":94.600000000000009},"kgCO2-eq./GJ",null,"Project life",20,20,null,null,"CO2-eq. emission coefficient",{"$f":"+Assumptions!D52","v":94.600000000000009},"kgCO2-eq./GJ",null,null,null,null,null,null,null,null,null,null,"Project life",20,20,null,null,"CO2-eq. emission coefficient",{"$f":"+Assumptions!D52","v":94.600000000000009},"kgCO2-eq./GJ"]
[null,"Lev. investment",{"$f":"IF(C43=0,0,PMT($H41,C43,-C42))","v":69400},{"$f":"IF(C43=0,0,PMT($H41,D43,-D42))","v":57400},null,null,null,null,null,null,"Lev. investment",{"$f":"IF(L43=0,0,PMT($Q41,L43,-L42))","v":69400},{"$f":"IF(L43=0,0,PMT($Q41,M43,-M42))","v":57400},null,null,null,null,null,null,null,null,null,null,null,null,null,null,null,"Lev. investment",{"$f":"IF(AD43=0,0,PMT($AI41,AD43,-AD42))","v":69400},{"$f":"IF(AD43=0,0,PMT($AI41,AE43,-AE42))","v":57400}]
[null,"Annual O&M",{"$f":"H52*1000","v":25000},null,{"$f":"C45-D45","v":25000},null,"Reduction option: Ultra supercritical coal plant",null,null,null,"Annual O&M",{"$f":"Q52*1000","v":25000},null,{"$f":"L45-M45","v":25000},null,"Reduction option: Ultra supercritical coal plant",null,null,null,null,null,null,null,null,null,null,null,null,"Annual O&M",{"$f":"AI52*1000","v":25000},null,{"$f":"AD45-AE45","v":25000},null,"Reduction option: Ultra supercritical coal plant"]
[null,"Annual electricity cost",{"$f":"H51*H42/H47","v":118269.23076923077},{"$f":"H60*H42/H47","v":141923.07692307691},{"$f":"C46-D46","v":-23653.846153846142},null,"Investment",1388,"US$/kW",null,"Annual electricity cost",{"$f":"Q51*Q42/Q47","v":118269.23076923077},{"$f":"Q60*Q42/Q47","v":141923.07692307691},{"$f":"L46-M46","v":-23653.846153846142},null,"Investment",1388,"US$/kW",null,null,null,null,null,null,null,null,null,null,"Annual electricity cost",{"$f":"AI51*AI42/AI47","v":118269.23076923077},{"$f":"AI60*AI42/AI47","v":141923.07692307691},{"$f":"AD46-AE46","v":-23653.846153846142},null,"Investment",1388,"US$/kW"]
[null,"Total annual cost",{"$f":"SUM(C44:C46)","v":212669.23076923075},{"$f":"SUM(D44:D46)","v":199323.07692307691},{"$f":"C47-D47","v":13346.153846153844},null,"Activity",1320,"MW",null,"Total annual cost",{"$f":"SUM(L44:L46)","v":212669.23076923075},{"$f":"SUM(M44:M46)","v":199323.07692307691},{"$f":"L47-M47","v":13346.153846153844},null,"Activity",1320,"MW",null,null,null,null,null,null,null,null,null,null,"Total annual cost",{"$f":"SUM(AD44:AD46)","v":212669.23076923075},{"$f":"SUM(AE44:AE46)","v":199323.07692307691},{"$f":"AD47-AE47","v":13346.153846153844},null,"Activity",1320,"MW"]
[null,null,null,null,null,null,"Utilisation time",6888,"hours",null,null,null,null,null,null,"Utilisation time",6888,"hours",null,null,null,null,null,null,null,null,null,null,null,null,null,null,null,"Utilisation time",6888,"hours"]
[null,"Annual emissions (tons)","Tons","Tons","Reduction",null,"Power plant efficiency",0.42,null,null,"Annual emissions (tons)","Tons","Tons","Reduction",null,"Power plant efficiency",0.42,null,null,null,null,null,null,null,null,null,null,null,"Annual emissions (tons)","Tons","Tons","Reduction",null,"Power plant efficiency",0.42]
[null,"Fuel  CO2-eq. emission",{"$f":"H51*H43/H47/1000","v":5585.1840000000011},{"$f":"H60*H43/H47/1000","v":6702.2208000000001},{"$f":"D50-C50","v":1117.0367999999989},null,"Electricity produced",{"$f":"H47*H48","v":9092160},"MWh",null,"Fuel  CO2-eq. emission",{"$f":"Q51*Q43/Q47/1000","v":5585.1840000000011},{"$f":"Q60*Q43/Q47/1000","v":6702.2208000000001},{"$f":"M50-L50","v":1117.0367999999989},null,"Electricity produced",{"$f":"Q47*Q48","v":9092160},"MWh",null,null,null,null,null,null,null,null,null,null,"Fuel  CO2-eq. emission",{"$f":"AI51*AI43/AI47/1000","v":5585.1840000000011},{"$f":"AI60*AI43/AI47/1000","v":6702.2208000000001},{"$f":"AE50-AD50","v":1117.0367999999989},null,"Electricity produced",{"$f":"AI47*AI48","v":9092160},"MWh"]
[null,"Other",null,null,null,null,"Coal used",{"$f":"H50/H49*3.6","v":77932800},"GJ",null,"Other",null,null,null,null,"Coal used",{"$f":"Q50/Q49*3.6","v":77932800},"GJ",null,null,null,null,null,null,null,null,null,null,"Other",null,null,null,null,"Coal used",{"$f":"AI50/AI49*3.6","v":77932800},"GJ"]
[null,"Total CO2-eq. emission ",{"$f":"C50+C51","v":5585.1840000000011},{"$f":"D50+D51","v":6702.2208000000001},{"$f":"D52-C52","v":1117.0367999999989},null,"O&M",25,"US$/kW",null,"Total CO2-eq. emission ",{"$f":"L50+L51","v":5585.1840000000011},{"$f":"M50+M51","v":6702.2208000000001},{"$f":"M52-L52","v":1117.0367999999989},null,"O&M",25,"US$/kW",null,null,null,null,null,null,null,null,null,null,"Total CO2-eq. emission ",{"$f":"AD50+AD51","v":5585.1840000000011},{"$f":"AE50+AE51","v":6702.2208000000001},{"$f":"AE52-AD52","v":1117.0367999999989},null,"O&M",25,"US$/kW"]
[null,null,null,null,null,null,"Cost of electricity",{"$f":"+C47/H48/1000","v":3.0875323863128738E-2},"US$/kWh",null,null,null,null,null,null,"Cost of electricity",{"$f":"+L47/Q48/1000","v":3.0875323863128738E-2},"US$/kWh",null,null,null,null,null,null,null,null,null,null,null,null,null,null,null,"Cost of electricity",{"$f":"+AD47/AI48/1000","v":3.0875323863128738E-2},"US$/kWh"]
[null,"US$/ton CO2-eq.",null,null,{"$f":"IF(E52<>0,E47/E52,0)","v":11.94781930743361},null,null,null,null,null,"US$/ton CO2-eq.",null,null,{"$f":"IF(N52<>0,N47/N52,0)","v":11.94781930743361},null,null,null,null,null,null,null,null,null,null,null,null,null,null,"US$/ton CO2-eq.",null,null,{"$f":"IF(AF52<>0,AF47/AF52,0)","v":11.94781930743361}]
[null,null,null,null,null,null,"Reference option:  Supercritical coal plant",null,null,null,null,null,null,null,null,"Reference option:  Supercritical coal plant",null,null,null,null,null,null,null,null,null,null,null,null,null,null,null,null,null,"Reference option:  Supercritical coal plant"]
[null,null,null,null,null,null,"Investment",1148,"US$/kW",null,null,null,null,null,null,"Investment",1148,"US$/kW",null,null,null,null,null,null,null,null,null,null,null,null,null,null,null,"Investment",1148,"US$/kW"]
[null,null,null,null,null,null,"Activity",{"$f":"+H47","v":1320},"MW",null,null,null,null,null,null,"Activity",{"$f":"+Q47","v":1320},"MW",null,null,null,null,null,null,null,null,null,null,null,null,null,null,null,"Activity",{"$f":"+AI47","v":1320},"MW"]
[null,null,null,null,null,null,"Utilisation time",{"$f":"H48","v":6888},"hours",null,null,null,null,null,null,"Utilisation time",{"$f":"Q48","v":6888},"hours",null,null,null,null,null,null,null,null,null,null,null,null,null,null,null,"Utilisation time",{"$f":"AI48","v":6888},"hours"]
[null,null,null,null,null,null,"Power plant efficiency",0.35,null,null,null,null,null,null,null,"Power plant efficiency",0.35,null,null,null,null,null,null,null,null,null,null,null,null,null,null,null,null,"Power plant efficiency",0.35]
[null,null,null,null,null,null,"Coal used",{"$f":"H50/H59*3.6","v":93519360},"GJ",null,null,null,null,null,null,"Coal used",{"$f":"Q50/Q59*3.6","v":93519360},"GJ",null,null,null,null,null,null,null,null,null,null,null,null,null,null,null,"Coal used",{"$f":"AI50/AI59*3.6","v":93519360},"GJ"]
[]
[]
[]
[]
[]
[]
[]
[]
[null,"Single cycle to combined cycle (100 MW added)"]
[null,"Costs in","Reduction","Reference","Increase",null,"General inputs:"]
[null,"US$","Option","Option","(Red.-Ref.)",null,"Discount rate ",{"$f":"+DiscountRate","v":0}]
[null,"Total investment",{"$f":"H77*H78*1000*100/H77","v":86989100},{"$f":"H85*H86*1000*100/H85","v":42824500},{"$f":"+C72-D72","v":44164600},null,"Natural gas price",{"$f":"+Assumptions!O29","v":3.080568720379147},"US$/GJ"]
[null,"Project life",20,20,null,null,"Electricity price",{"$f":"+Assumptions!C35","v":0},"US$/kWh"]
[null,"Lev. investment",{"$f":"IF(C73=0,0,PMT($H71,C73,-C72))","v":4349455},{"$f":"IF(D73=0,0,PMT($H71,D73,-D72))","v":2141225},{"$f":"C74-D74","v":2208230},null,"CO2-eq. emission coefficient",{"$f":"+Assumptions!C39","v":0},"tCO2/MWh"]
[null,"Annual fuel cost",null,null,{"$f":"C75-D75","v":0}]
[null,"Total annual cost",{"$f":"SUM(C74:C75)","v":4349455},{"$f":"SUM(D74:D75)","v":2141225},{"$f":"C76-D76","v":2208230},null,"Reduction option: Combined cycle gas power plant"]
[null,null,null,null,null,null,"Increased capacity",180,"MW"]
[null,"Annual emissions (tons)","Tons","Tons","Reduction",null,"Investment",869.89099999999996,"US$/kW"]
[null,"Fuel  CO2-eq. emission",0,{"$f":"+H91*H74","v":0},{"$f":"D79-C79","v":0},null,"Utilisation time",6000,"hours"]
[null,"Other",null,null,null,null,"Power plant efficiency",0.51]
[null,"Total CO2-eq. emission ",{"$f":"C79+C80","v":0},{"$f":"D79+D80","v":0},{"$f":"D81-C81","v":0},null,"Electricity produced",{"$f":"H77*H79*H80","v":550800},"MWh"]
[null,null,null,null,null,null,"Natural gas used",{"$f":"H81/H80*3.6","v":3888000},"GJ/year"]
[null,"US$/ton CO2-eq.",null,null,{"$f":"IF(E81<>0,E76/E81,0)","v":0}]
[null,null,null,null,null,null,"Reference option: New open cycle gas power plant"]
[null,null,null,null,null,null,"New single cycle capacity",180,"MW"]
[null,null,null,null,null,null,"Investment",428.245,"US$/kW"]
[null,null,null,null,null,null,"Utilisation time",{"$f":"+H79","v":6000},"hours"]
[null,null,null,null,null,null,"Power plant efficiency",0.25]
[null,null,null,null,null,null,"Electricity produced",{"$f":"H85*H87*H88","v":270000},"MWh"]
[null,null,null,null,null,null,"Natural gas used",{"$f":"H89/H88*3.6","v":3888000},"GJ/year"]
[null,null,null,null,null,null,"Extra electricity produced to grid",{"$f":"(H81-H89)*100/H77","v":156000},"MWh"]
[]
[]
[]
[]
[]
[]
[]
[null,"Cogeneration in industry (1 MW)"]
[null,"Costs in","Reduction","Reference","Increase",null,"General inputs:"]
[null,"US$","Option","Option","(Red.-Ref.)",null,"Discount rate ",{"$f":"+DiscountRate","v":0}]
[null,"Total investment",{"$f":"H109*1000","v":349000},null,{"$f":"+C102-D102","v":349000},null,"Natural gas price",{"$f":"+Assumptions!O29","v":3.080568720379147},"US$/GJ"]
[null,"Project life",20,null,null,null,"Natural gas emission factor",{"$f":"Assumptions!D51","v":56.1},"kgCO2/GJ"]
[null,"Lev. investment",{"$f":"IF(C103=0,0,PMT($H101,C103,-C102))","v":17450},null,{"$f":"C104-D104","v":17450},null,"Electricity price",{"$f":"+Assumptions!C35","v":0},"US$/kWh"]
[null,"Annual fuel cost",{"$f":"H113*H102","v":364234.9956398104},{"$f":"H112*H104*1000","v":0},{"$f":"C105-D105","v":364234.9956398104},null,"CO2-eq. emission coefficient",{"$f":"+Assumptions!C39","v":0},"tCO2/MWh"]
[null,"Total annual cost",{"$f":"SUM(C104:C105)","v":381684.9956398104},{"$f":"SUM(D104:D105)","v":0},{"$f":"C106-D106","v":381684.9956398104}]
[null,null,null,null,null,null,"Reduction option: Cogeneration installed"]
[null,"Annual emissions (tons)","Tons","Tons","Reduction",null,"Increased capacity",11.843999999999999,"MW"]
[null,"Fuel  CO2-eq. emission",{"$f":"H113*H103/1000","v":6633.0554875199996},{"$f":"H112*H105","v":0},{"$f":"D109-C109","v":-6633.0554875199996},null,"Investment",349,"US$/kW"]
[null,"Other",null,null,null,null,"Utilisation time",2773,"hours"]
[null,"Total CO2-eq. emission ",{"$f":"C109+C110","v":6633.0554875199996},{"$f":"D109+D110","v":0},{"$f":"D111-C111","v":-6633.0554875199996},null,"Power plant efficiency",0.45]
[null,null,null,null,null,null,"Electricity produced",{"$f":"H108*H110*H111","v":14779.535399999999},"MWh"]
[null,"US$/ton CO2-eq.",null,null,{"$f":"IF(E111<>0,E106/E111,0)","v":-57.542861861768735},null,"Natural gas used",{"$f":"H112/H111*3.6","v":118236.28319999999},"GJ/year"]
[]
[null,null,null,null,null,null,"Reference option: Electricity from grid"]
[]
[]
[]
[]
[]
[]
[]
[]
[]
[]
[]
[null,"1 MW switch from fueloil to diesel at power plant"]
[null,"Costs in","Reduction","Reference","Increase",null,"General inputs:"]
[null,"US$","Option","Option","(Red.-Ref.)",null,"Discount rate ",{"$f":"Assumptions!$C$13","v":0}]
[null,"Total investment",{"$f":"H136*10","v":1000},null,{"$f":"C130-D130","v":1000}]
[null,"Project life",20,null,null,null,"Reduction option: Diesel power"]
[null,"Lev. investment",{"$f":"IF(C131=0,0,PMT($H$129,C131,-C130))","v":50},null,{"$f":"C132-D132","v":50},null,"CO2-eq. emission coefficient",{"$f":"+Assumptions!D46","v":74.066666666666663},"kgCO2-eq./GJ"]
[null,"Annual O&M",null,null,{"$f":"C133-D133","v":0},null,"Reference diesel price",{"$f":"+Assumptions!G29","v":10.367789021299378},"US$/GJ"]
[null,"Annual fuelcost",{"$f":"H140*1000*H133/H134","v":478513.33944458666},{"$f":"(H147*1000*H133+H148*1000*H149)/H134","v":328350.88774147531},{"$f":"C134-D134","v":150162.45170311135},null,"Activity",97,"MW"]
[null,"Total annual cost",{"$f":"SUM(C132:C134)","v":478563.33944458666},{"$f":"SUM(D132:D134)","v":328350.88774147531},{"$f":"C135-D135","v":150212.45170311135},null,"Investment in Activity",{"$f":"H136*H134/1000","v":9.6999999999999993},"MUS$"]
[null,null,null,null,null,null,"Specific investment",100,"US$/kW"]
[null,"Annual emissions (tons)","Tons","Tons","Reduction",null,"Capacity factor",5000,"Full time hours"]
[null,"Fuel  CO2-eq. emission",{"$f":"H140*H132/H134","v":3418.4615384615386},{"$f":"(H147*H132+H148*H150)/H134","v":3542.9534740725567},{"$f":"D138-C138","v":124.49193561101811},null,"Electricity production",{"$f":"H134*H137","v":485000},"MWh/ year"]
[null,"Other",null,null,null,null,"Power plant efficiency",0.39]
[null,"Total CO2-eq. emission ",{"$f":"C138+C139","v":3418.4615384615386},{"$f":"D138+D139","v":3542.9534740725567},{"$f":"D140-C140","v":124.49193561101811},null,"Diesel use",{"$f":"H138/H139*3.6/1000","v":4476.9230769230771},"TJ/year"]
[null,null,null,null,null,null,"Diesel fraction",1]
[null,"US$/ton CO2-eq.",null,null,{"$f":"IF(E140<>0,E135/E140,0)","v":1206.6038733019495}]
[null,null,null,null,null,null,"Reference option: Heavy fuel oil power"]
[null,null,null,null,null,null,"Electricity production",{"$f":"+H138","v":485000},"MWh/ year"]
[null,null,null,null,null,null,"Power plant efficiency",0.39]
[null,null,null,null,null,null,"Diesel fraction",{"$f":"19603/(87735+19603)","v":0.18262870558422925}]
[null,null,null,null,null,null,"Diesel use",{"$f":"H144/H145*3.6/1000*H146","v":817.61466653862635},"TJ/year"]
[null,null,null,null,null,null,"Fueloil use",{"$f":"H144/H145*3.6/1000*(1-H146)","v":3659.3084103844508},"TJ/year"]
[null,null,null,null,null,null,"Reference fueloil price",{"$f":"+Assumptions!I29","v":6.387321626458637},"US$/GJ"]
[null,null,null,null,null,null,"CO2-eq. emission coefficient",{"$f":"+Assumptions!D45","v":77.366666666666674},"kgCO2-eq./GJ"]
[]
[]
[]
[]
[]
[]
[null,"1 MW switch from fueloil to natural gas at power plant"]
[null,"Costs in","Reduction","Reference","Increase",null,"General inputs:"]
[null,"US$","Option","Option","(Red.-Ref.)",null,"Discount rate ",{"$f":"Assumptions!$C$13","v":0}]
[null,"Total investment",{"$f":"H166*10","v":358.42320354183221},null,{"$f":"C160-D160","v":358.42320354183221}]
[null,"Project life",20,null,null,null,"Reduction option: Natural gas power"]
[null,"Lev. investment",{"$f":"IF(C161=0,0,PMT($H$159,C161,-C160))","v":17.921160177091611},null,{"$f":"C162-D162","v":17.921160177091611},null,"CO2-eq. emission coefficient",{"$f":"+Assumptions!D51","v":56.1},"kgCO2-eq./GJ"]
[null,"Annual O&M",null,null,{"$f":"C163-D163","v":0},null,"Reference natural gas price",{"$f":"+Assumptions!O29","v":3.080568720379147},"US$/GJ"]
[null,"Annual fuelcost",{"$f":"H170*1000*H163/H164","v":138625.59241706162},{"$f":"H176*1000*H177/H164","v":632444.39759671118},{"$f":"C164-D164","v":-493818.80517964956},null,"Activity",383,"MW"]
[null,"Total annual cost",{"$f":"SUM(C162:C164)","v":138643.51357723871},{"$f":"SUM(D162:D164)","v":632444.39759671118},{"$f":"C165-D165","v":-493800.88401947246},null,"Investment in Activity",{"$f":"631470/46","v":13727.608695652174},"MUS$"]
[null,null,null,null,null,null,"Specific investment",{"$f":"H165/H164","v":35.842320354183222},"US$/kW"]
[null,"Annual emissions (tons)","Tons","Tons","Reduction",null,"Capacity factor",5000,"Full time hours"]
[null,"Fuel  CO2-eq. emission",{"$f":"H170*H162/H164","v":2524.5},{"$f":"H176*H178/H164","v":3978.8571428571436},{"$f":"D168-C168","v":1454.3571428571436},null,"Electricity production",{"$f":"H164*H167","v":1915000},"MWh/ year"]
[null,"Other",null,null,null,null,"Power plant efficiency",0.4]
[null,"Total CO2-eq. emission ",{"$f":"C168+C169","v":2524.5},{"$f":"D168+D169","v":3978.8571428571436},{"$f":"D170-C170","v":1454.3571428571436},null,"Natural gas use",{"$f":"H168/H169*3.6/1000","v":17235},"TJ/year"]
[null,null,null,null,null,null,"Diesel fraction",1]
[null,"US$/ton CO2-eq.",null,null,{"$f":"IF(E170<>0,E165/E170,0)","v":-339.53206503966459}]
[null,null,null,null,null,null,"Reference option: Heavy fuel oil power"]
[null,null,null,null,null,null,"Electricity production",{"$f":"+H168","v":1915000},"MWh/ year"]
[null,null,null,null,null,null,"Power plant efficiency",0.35]
[null,null,null,null,null,null,"Fueloil use",{"$f":"H174/H175*3.6/1000","v":19697.142857142859},"TJ/year"]
[null,null,null,null,null,null,"Reference fueloil price",{"$f":"+Assumptions!J29","v":12.297529953269384},"US$/GJ"]
[null,null,null,null,null,null,"CO2-eq. emission coefficient",{"$f":"+Assumptions!D45","v":77.366666666666674},"kgCO2-eq./GJ"]

{"sheet":"Energy distribution","index":29,"n_rows":171,"n_cols":9,"rows_kept":171,"cut":false,"hidden":true,"merged":[[138,6,138,8],[98,6,98,8],[1,1,1,3],[3,1,3,3],[4,1,4,3],[70,6,70,8],[75,6,75,8],[11,6,11,8],[16,6,16,8],[40,6,40,8],[45,6,45,8]]}
[]
[null,"Menu for Energy Distribution options (click links below)"]
[]
[null,"More efficient grid (loss reduction of 1 GWh)"]
[null,"Connection of isolated grid to central grid (1 GWh consumption)"]
[null,"Increase of power factor (1000 commercial/Industrial buildings)"]
[null,"District heating network rehabilitation"]
[null,"New District cooling network"]
[]
[]
[null,"More efficient grid (loss reduction of 1 GWh)"]
[null,"Costs in","Reduction","Reference","Increase",null,"General inputs:"]
[null,"US$","Option","Option","(Red.-Ref.)",null,"Discount rate ",{"$f":"+DiscountRate","v":0}]
[null,"Total investment",{"$f":"+H21*1000000","v":958906.6114696213},null,{"$f":"C14-D14","v":958906.6114696213},null,"CO2-eq. emission coefficient",{"$f":"+Assumptions!C39","v":0},"tCO2/MWh"]
[null,"Project life",20,null,null,null,"Reference electricity price",{"$f":"+Assumptions!C35","v":0},"US$/kWh"]
[null,"Lev. investment",{"$f":"IF(C15=0,0,PMT($H13,C15,-C14))","v":47945.330573481064}]
[null,"Annual O&M",null,null,{"$f":"C17-D17","v":0},null,"Reduction option: More efficient grid"]
[null,"Annual electricity cost",null,{"$f":"H15*100000","v":0},{"$f":"C18-D18","v":0},null,"Grid loss",0.15]
[null,"Total annual cost",{"$f":"SUM(C16:C18)","v":47945.330573481064},{"$f":"SUM(D16:D18)","v":0},{"$f":"C19-D19","v":47945.330573481064},null,"Electricity consumption in 2025",{"$f":"+'Energy Balance'!D102","v":0},"GWh"]
[null,null,null,null,null,null,"Loss of production",{"$f":"H19*H18/(1-H18)","v":0},"GWh"]
[null,"Annual emissions (tons)","Tons","Tons","Reduction",null,"Investment for 1 GWh loss reduction",{"$f":"1417.59/45.84/32.25","v":0.95890661146962131},"MUS$/GWh"]
[null,"Fuel  CO2-eq. emission",0,{"$f":"H14*1000","v":0},{"$f":"D22-C22","v":0},null,"Loss reduction",{"$f":"H26-H20","v":{"$error":"#DIV/0!"}},"GWh"]
[null,"Other"]
[null,"Total CO2-eq. emission ",{"$f":"C22+C23","v":0},{"$f":"D22+D23","v":0},{"$f":"D24-C24","v":0},null,"Reference option:  Old grid"]
[null,null,null,null,null,null,"Grid loss",{"$f":"Assumptions!C40","v":1}]
[null,"US$/ton CO2-eq.",null,null,{"$f":"IF(E24<>0,E19/E24,0)","v":0},null,"Loss of  production",{"$f":"H19*H25/(1-H25)","v":{"$error":"#DIV/0!"}},"GWh"]
[]
[]
[]
[]
[]
[]
[]
[]
[]
[]
[]
[]
[]
[null,"Connection of isolated grid to central grid (1 GWh consumption)"]
[null,"Costs in","Reduction","Reference","Increase",null,"General inputs:"]
[null,"US$","Option","Option","(Red.-Ref.)",null,"Discount rate ",{"$f":"+DiscountRate","v":0}]
[null,"Total investment",{"$f":"+H47*1000000","v":26870.017800479836},null,{"$f":"C43-D43","v":26870.017800479836},null,"CO2-eq. emission coefficient",{"$f":"+Assumptions!C39","v":0},"tCO2/MWh"]
[null,"Project life",20,null,null,null,"Reference electricity price",{"$f":"+Assumptions!C35","v":0},"US$/kWh"]
[null,"Lev. investment",{"$f":"IF(C44=0,0,PMT($H42,C44,-C43))","v":1343.5008900239918}]
[null,"Annual O&M",null,null,{"$f":"C46-D46","v":0},null,"Reduction option: Isolated grid connected to main grid grid"]
[null,"Annual electricity cost",null,{"$f":"H44*100000","v":0},{"$f":"C47-D47","v":0},null,"Investment for 1 GWh of connection reduction",{"$f":"111.1/4134.72","v":2.6870017800479835E-2},"MUS$/GWh"]
[null,"Total annual cost",{"$f":"SUM(C45:C47)","v":1343.5008900239918},{"$f":"SUM(D45:D47)","v":0},{"$f":"C48-D48","v":1343.5008900239918}]
[null,null,null,null,null,null,"Reference option:  Isolated grid"]
[null,"Annual emissions (tons)","Tons","Tons","Reduction"]
[null,"Fuel  CO2-eq. emission",0,{"$f":"H43*1000","v":0},{"$f":"D51-C51","v":0}]
[null,"Other"]
[null,"Total CO2-eq. emission ",{"$f":"C51+C52","v":0},{"$f":"D51+D52","v":0},{"$f":"D53-C53","v":0}]
[]
[null,"US$/ton CO2-eq.",null,null,{"$f":"IF(E53<>0,E48/E53,0)","v":0}]
[]
[]
[]
[]
[]
[]
[]
[]
[]
[]
[]
[]
[]
[]
[null,"Increase of power factor (1000 commercial/Industrial buildings)"]
[null,"Costs in","Reduction","Reference","Increase",null,"General inputs:"]
[null,"US$","Option","Option","(Red.-Ref.)",null,"Discount rate ",{"$f":"+DiscountRate","v":0}]
[null,"Total investment",{"$f":"H77*H83","v":1149691.4285714289},null,{"$f":"C73-D73","v":1149691.4285714289},null,"CO2-eq. emission coefficient",{"$f":"+Assumptions!C39","v":0},"tCO2/MWh"]
[null,"Project life",10,null,null,null,"Reference electricity price",{"$f":"+Assumptions!C35","v":0},"US$/kWh"]
[null,"Lev. investment",{"$f":"IF(C74=0,0,PMT($H72,C74,-C73))","v":114969.14285714288}]
[null,"Annual O&M",null,null,{"$f":"C76-D76","v":0},null,"Reduction option: capacitors installed in commerce and industry"]
[null,"Annual electricity cost",{"$f":"H74*1000*H84","v":0},{"$f":"H74*1000*H91","v":0},{"$f":"C77-D77","v":0},null,"Number of buildings",1000]
[null,"Total annual cost",{"$f":"SUM(C75:C77)","v":114969.14285714288},{"$f":"SUM(D75:D77)","v":0},{"$f":"C78-D78","v":114969.14285714288},null,"New power factor",0.98]
[null,null,null,null,null,null,"New apparent demand in 1 building",{"$f":"H88/H78","v":365.30612244897958},"kW"]
[null,"Annual emissions (tons)","Tons","Tons","Reduction",null,"Cost of capacitors",11.428571428571429,"US$/kVar"]
[null,"Fuel  CO2-eq. emission",{"$f":"H73*H84*1000","v":0},{"$f":"H73*H91*1000","v":0},{"$f":"D81-C81","v":0},null,"Multipliers to Determine Capacitor Kilovars Required for Power Factor Correction",0.28100000000000003]
[null,"Other",null,null,null,null,"kVAR needed",{"$f":"H81*H88","v":100.59800000000001},"kVAR"]
[null,"Total CO2-eq. emission ",{"$f":"C81+C82","v":0},{"$f":"D81+D82","v":0},{"$f":"D83-C83","v":0},null,"Cost of needed capacitor",{"$f":"H80*H82","v":1149.6914285714288},"$"]
[null,null,null,null,null,null,"Annual electricity consumption",{"$f":"H79*H90/1000","v":2191.8367346938776},"MWh"]
[null,"US$/ton CO2-eq.",null,null,{"$f":"IF(E83<>0,E78/E83,0)","v":0}]
[null,null,null,null,null,null,"Reference option:  Normal grid"]
[null,null,null,null,null,null,"Old power factor",0.9]
[null,null,null,null,null,null,"Old real max. demand in 1 building",358,"kWA"]
[null,null,null,null,null,null,"Old apparent max. demand in 1 building",{"$f":"H88/H87","v":397.77777777777777},"kW"]
[null,null,null,null,null,null,"Annual use",6000,"hours"]
[null,null,null,null,null,null,"Annual electricity consumption",{"$f":"H89*H90/1000","v":2386.6666666666665},"MWh"]
[null,null,null,null,null,null,"Electricity saved ",{"$f":"H91-H84","v":194.82993197278893},"MWh"]
[]
[]
[]
[]
[]
[null,"District heating network rehabilitation (100,000 flats supplied)"]
[null,"Costs in","Reduction","Reference","Increase",null,"General inputs:"]
[null,"US$","Option","Option","(Red.-Ref.)",null,"Discount rate ",{"$f":"+DiscountRate","v":0}]
[null,"Total investment",{"$f":"(H105+H106)*H101","v":3732000},null,{"$f":"C101-D101","v":3732000},null,"Number of flats supplied",120000,"Flats"]
[null,"Project life",20,null,null,null,"Number of people connected",{"$f":"450000*H101/120000","v":450000},"People"]
[null,"Lev. investment",{"$f":"IF(C102=0,0,PMT($H100,C102,-C101))","v":186600},null,null,null,"Length of network",{"$f":"5.505*H101/120000","v":5.5049999999999999},"km"]
[null,"Annual O&M",null,null,{"$f":"C104-D104","v":0},null,"Reduction option: More efficient network using biomass"]
[null,"Annual fuel cost",{"$f":"+H111*H108","v":1469614.4000000001},{"$f":"H125*H122*H123+H131*H128","v":4301844.9065851849},{"$f":"C105-D105","v":-2832230.5065851845},null,"Investment in Biomass boilers",{"$f":"11.6*H101/120000","v":11.6},"MUS$"]
[null,"Increased sales of heat",{"$f":"-H116","v":-2672739.8843930638},null,{"$f":"C106-D106","v":-2672739.8843930638},null,"Grid upgrade",{"$f":"19.5*H101/120000","v":19.5},"MUS$"]
[null,"Total annual cost",{"$f":"SUM(C103:C106)","v":-1016525.4843930637},{"$f":"SUM(D103:D106)","v":4301844.9065851849},{"$f":"C107-D107","v":-5318370.3909782488},null,"Energy content of biomass",16.920000000000002,"GJ/ton"]
[null,null,null,null,null,null,"Cost of biomass",{"$f":"69.4/H107","v":4.1016548463356974},"US$/GJ"]
[null,"Annual emissions (tons)","Tons","Tons","Reduction",null,"Biomass boiler efficiency",0.91]
[null,"Fuel  CO2-eq. emission",0,{"$f":"+(H126*H124+H131*H129)/1000","v":33649.053412333342},{"$f":"D110-C110","v":33649.053412333342},null,"Increased biomass used",{"$f":"(36274-15098)/120000*H101","v":21176},"Ton"]
[null,"Other",null,null,null,null,"Increased biomass used",{"$f":"H110*H107","v":358297.92000000004},"GJ"]
[null,"Total CO2-eq. emission ",{"$f":"C110+C111","v":0},{"$f":"D110+D111","v":33649.053412333342},{"$f":"D112-C112","v":33649.053412333342},null,"Heat sale from increased biomass used",{"$f":"H111/3.6*H109","v":90569.752000000008},"MWh"]
[null,null,null,null,null,null,"Increased sale of heat",{"$f":"(197976-162408)*H101/120000","v":35568},"MWh"]
[null,"US$/ton CO2-eq.",null,null,{"$f":"IF(E112<>0,E107/E112,0)","v":-158.05408627123262},null,"Share of increased sale of heat from renewables",{"$f":"H112/H117","v":0.45747844183133313}]
[null,null,null,null,null,null,"Salesprice for heat",{"$f":"130/1.73","v":75.144508670520239},"US$/MWh"]
[null,null,null,null,null,null,"Income from extra heat sales",{"$f":"H113*H115","v":2672739.8843930638},"US$/year"]
[null,null,null,null,null,null,"Total sale of heat",{"$f":"H118*H119/1000","v":197976},"MWh"]
[null,null,null,null,null,null,"Total heated area",{"$f":"(1423710+418223)*H101/120000","v":1841933},"m2"]
[null,null,null,null,null,null,"Average use of heat",107.48273688565219,"kWh/m2"]
[]
[null,null,null,null,null,null,"Reference option:  Old network using fuel oil"]
[null,null,null,null,null,null,"Energy content of HFO",{"$f":"+Assumptions!I31","v":40.19},"GJ/ton"]
[null,null,null,null,null,null,"Cost of Heavy Fuel Oil (HFO)",{"$f":"+Assumptions!I29","v":6.387321626458637},"US$/GJ"]
[null,null,null,null,null,null,"Emission factor for HFO",{"$f":"+Assumptions!D45","v":77.366666666666674},"KgCO2/GJ"]
[null,null,null,null,null,null,"HFO reduced",{"$f":"(16564-14277)*H101/120000","v":2287},"Ton"]
[null,null,null,null,null,null,"HFO reduced",{"$f":"+H125*H122","v":91914.53},"GJ"]
[null,null,null,null,null,null,"Energy content of diesel",{"$f":"+Assumptions!G31","v":43.33},"GJ/ton"]
[null,null,null,null,null,null,"Cost of  Diesel",{"$f":"+Assumptions!G29","v":10.367789021299378},"US$/GJ"]
[null,null,null,null,null,null,"Emission factor for Diesel",{"$f":"+Assumptions!D46","v":74.066666666666663},"KgCO2/GJ"]
[null,null,null,null,null,null,"Diesel replaced in disconnected houses",{"$f":"+H131/H127","v":8269.049619201478},"Ton"]
[null,null,null,null,null,null,"Diesel replaced in disconnected houses",{"$f":"+H111","v":358297.92000000004},"GJ"]
[null,null,null,null,null,null,"Total sale of heat",{"$f":"H133*H134/1000","v":162408},"MWh"]
[null,null,null,null,null,null,"Total heated area",{"$f":"1423710*H101/120000","v":1423710},"m2"]
[null,null,null,null,null,null,"Average use of heat",114.07379311798049,"kWh/m2"]
[]
[]
[]
[null,"District cooling network (1 million m2 new city area covered)"]
[null,"Costs in","Reduction","Reference","Increase",null,"General inputs:"]
[null,"US$","Option","Option","(Red.-Ref.)",null,"Discount rate ",{"$f":"+DiscountRate","v":0}]
[null,"Total investment",{"$f":"+(H156+H159+H161)*1000000","v":58161120.946261026},{"$f":"+H169*1000000","v":45576899.129940301},{"$f":"C141-D141","v":12584221.816320725},null,"Emission factor",0.97,"tCO2/MWh"]
[null,"Project life",20,20,null,null,"City area covered",{"$f":"H143/4046.9*1000000","v":247.10272060095383},"Acre"]
[null,"Lev. investment",{"$f":"IF(C142=0,0,PMT($H140,C142,-C141))","v":2908056.0473130513},{"$f":"IF(D142=0,0,PMT($H140,D142,-D141))","v":2278844.956497015},{"$f":"C143-D143","v":629211.09081603633},null,"City area covered",1,"Million m2"]
[null,"Annual O&M",null,null,{"$f":"C144-D144","v":0},null,"Share of land for commercial & public use",{"$f":"(16.3+4.7)/100","v":0.21}]
[null,"Annual elctricity cost",{"$f":"+H164*1000","v":6450935.9589080559},{"$f":"+H171*1000","v":9676403.9383620843},{"$f":"C145-D145","v":-3225467.9794540284},null,"Floor Area Ratio (FAR)",2.54]
[null,"Total annual cost",{"$f":"SUM(C143:C145)","v":9358992.0062211081},{"$f":"SUM(D143:D145)","v":11955248.8948591},{"$f":"C146-D146","v":-2596256.8886379916},null,"Built up area cooled",{"$f":"H143*H144*H145","v":0.53339999999999999},"Million m2"]
[null,null,null,null,null,null,"Average cooling demand",{"$f":"H149/H148*1000","v":166.95200000000003},"W/m2"]
[null,"Annual emissions (tons)","Tons","Tons","Reduction",null,"Equivalent Full Load Hours (EFLH)",{"$f":"1950*0.57317","v":1117.6814999999999},"Hours"]
[null,"Fuel  CO2-eq. emission",{"$f":"+H163*H141","v":27451.246264085195},{"$f":"H170*H141","v":41176.86939612779},{"$f":"D149-C149","v":13725.623132042594},null,"Average cooling demand",186.599161788,"kWh/m2"]
[null,"Other",null,null,null,null,"Installed cooling capacity",{"$f":"H146*H147*1000","v":89052.19680000002},"kW"]
[null,"Total CO2-eq. emission ",{"$f":"C149+C150","v":27451.246264085195},{"$f":"D149+D150","v":41176.86939612779},{"$f":"D151-C151","v":13725.623132042594},null,"1 TR =",3.5169999999999999,"kW"]
[null,null,null,null,null,null,"Installed cooling capacity",{"$f":"H150/H151","v":25320.499516633499},"TR"]
[null,"US$/ton CO2-eq.",null,null,{"$f":"IF(E151<>0,E146/E151,0)","v":-189.15402700930974},null,"Electricity price",{"$f":"9920497/43521217","v":0.22794622218399821},"US$/kWh"]
[null,null,null,null,null,null,"Reduction option: District cooling"]
[null,null,null,null,null,null,"Cost of cooling plant unit",2000,"US$/TR"]
[null,null,null,null,null,null,"Investment in cooling plant",{"$f":"H152*H155/1000000","v":50.640999033267001},"MUS$"]
[null,null,null,null,null,null,"Cooling plant area requirement",5786,"m2"]
[null,null,null,null,null,null,"Unit cost of land",512,"US$/m2"]
[null,null,null,null,null,null,"Investment in land",{"$f":"H157*H158/1000000","v":2.9624320000000002},"MUS$"]
[null,null,null,null,null,null,"Specific network cost",180,"US$/TR"]
[null,null,null,null,null,null,"Investment in network",{"$f":"H152*H160/1000000","v":4.5576899129940296},"MUS$"]
[null,null,null,null,null,null,"District cooling COP",1,"kW/TR"]
[null,null,null,null,null,null,"Electricity consumption",{"$f":"H152*H162*H148/1000","v":28300.2538805002},"MWh"]
[null,null,null,null,null,null,"Cost of electricity consumption",{"$f":"H163*H153","v":6450.9359589080559},"kUS$"]
[null,null,null,null,null,null,"Electricity savings",{"$f":"+H170-H163","v":14150.126940250102},"MWh"]
[null,null,null,null,null,null,"Reference option:  Local airconditioning"]
[null,null,null,null,null,null,"Chiller efficiency (COP)",1.5,"kW/TR"]
[null,null,null,null,null,null,"Stand alone cooling system",1800,"US$/TR"]
[null,null,null,null,null,null,"Investment in building airconditioning",{"$f":"H152*H168/1000000","v":45.576899129940301},"MUS$"]
[null,null,null,null,null,null,"Electricity consumption",{"$f":"H152*H167*H148/1000","v":42450.380820750303},"MWh"]
[null,null,null,null,null,null,"Cost of electricity consumption",{"$f":"H170*H153","v":9676.4039383620839},"kUS$"]

{"sheet":"Forestry","index":30,"n_rows":143,"n_cols":9,"rows_kept":143,"cut":false,"hidden":true,"merged":[[41,6,41,8],[69,6,69,8],[97,6,97,8],[127,6,127,8],[1,1,1,3],[3,1,3,3],[5,1,5,3],[6,1,6,3],[7,1,7,3],[12,6,12,8]]}
[]
[null,"Menu for Forestry options (click links below)"]
[]
[null,"Reforestation of 1000 ha"]
[null,"REDD for 1000 ha"]
[null,"Assisted regeneration of forest for 1000 ha"]
[null,"Reforestation of 1000 ha with agroforestry"]
[null,"Reforestation of 1000 ha with Silvopasture"]
[]
[]
[]
[null,"Reforestation of 1000 ha"]
[null,"Costs in","Reduction","Reference","Increase",null,"General inputs:"]
[null,"US$","Option","Option","(Red.-Ref.)",null,"Discount rate ",{"$f":"+DiscountRate","v":0}]
[null,"Total investment",{"$f":"+H17*1000","v":600000},null,{"$f":"C15-D15","v":600000}]
[null,"Benefits (NPV)",{"$f":"-H18*1000","v":0},null,null,null,"Reduction option: Reforestation"]
[null,"Project life",20,null,null,null,"Investment",600,"US$/ha"]
[null,"Lev. investment",{"$f":"IF(C17=0,0,PMT($H14,C17,-(C15+C16)))","v":30000},null,{"$f":"C18-D18","v":30000},null,"Annual benefit",null,"US$/ha"]
[null,"Annual O&M",null,null,null,null,"Forest density",100,"t dry matter/ha"]
[null,"Annual fuelcost",null,null,null,null,"Carbon fraction of dry matter",0.5]
[null,"Total annual cost",{"$f":"SUM(C18:C20)","v":30000},null,{"$f":"C21-D21","v":30000},null,"Time for forest growth",50,"years"]
[]
[null,"Annual emissions (tons)","Tons","Tons","Reduction",null,"Reference option: No reforestation"]
[null,"Fuel  CO2-eq. emission",0,0,{"$f":"D24-C24","v":0}]
[null,"CO2 stored",{"$f":"-H19*H20*1000*44/12/H21","v":-3666.666666666667},null,{"$f":"D25-C25","v":3666.666666666667}]
[null,"Total CO2-eq. emission ",{"$f":"C24+C25","v":-3666.666666666667},{"$f":"D24+D25","v":0},{"$f":"D26-C26","v":3666.666666666667}]
[]
[null,"US$/ton CO2-eq.",null,null,{"$f":"IF(E26<>0,E21/E26,0)","v":8.1818181818181817}]
[]
[]
[]
[]
[]
[]
[]
[]
[]
[]
[]
[]
[null,"REDD for 1000 ha"]
[null,"Costs in","Reduction","Reference","Increase",null,"General inputs:"]
[null,"US$","Option","Option","(Red.-Ref.)",null,"Discount rate ",{"$f":"+DiscountRate","v":0}]
[null,"Total investment",{"$f":"-H51*44/12*H46","v":-403333.33333333337},null,{"$f":"C44-D44","v":-403333.33333333337}]
[null,"Project life",20,null,null,null,"Reduction option: Avoiding deforestation"]
[null,"Lev. investment",{"$f":"IF(C45=0,0,PMT($H43,C45,-C44))","v":-20166.666666666668},null,{"$f":"C46-D46","v":-20166.666666666668},null,"Opportunity cost",2.2000000000000002,"US$/tCO2"]
[null,"Annual O&M",null,null,null,null,"Possible future deforestation",1000,"ha"]
[null,"Annual fuelcost",null,null,null,null,"Forest density",100,"t dry matter/ha"]
[null,"Total annual cost",{"$f":"SUM(C46:C48)","v":-20166.666666666668},null,{"$f":"C49-D49","v":-20166.666666666668},null,"Carbon fraction of dry matter",0.5]
[null,null,null,null,null,null,"Time for forest growth",50,"years"]
[null,"Annual emissions (tons)","Tons","Tons","Reduction",null,"Carbon disappearing",{"$f":"+H47*H48*H49","v":50000},"tC"]
[null,"Fuel  CO2-eq. emission",0,0,{"$f":"D52-C52","v":0}]
[null,"CO2 stored",{"$f":"-H51*44/12/H50","v":-3666.666666666667},null,{"$f":"D53-C53","v":3666.666666666667},null,"Reference option: Deforestation"]
[null,"Total CO2-eq. emission ",{"$f":"C52+C53","v":-3666.666666666667},{"$f":"D52+D53","v":0},{"$f":"D54-C54","v":3666.666666666667}]
[]
[null,"US$/ton CO2-eq.",null,null,{"$f":"IF(E54<>0,E49/E54,0)","v":-5.5}]
[]
[]
[]
[]
[]
[]
[]
[]
[]
[]
[]
[]
[null,"Assisted regeneration of forest for 1000 ha"]
[null,"Costs in","Reduction","Reference","Increase",null,"General inputs:"]
[null,"US$","Option","Option","(Red.-Ref.)",null,"Discount rate ",{"$f":"+DiscountRate","v":0}]
[null,"Total investment",{"$f":"H74*1000","v":600000},null,{"$f":"C72-D72","v":600000}]
[null,"Benefits (NPV)",{"$f":"-H75*1000","v":-750000},null,null,null,"Reduction option: Assisted regeneration"]
[null,"Project life",20,null,null,null,"Investment",600,"US$/ha"]
[null,"Lev. investment",{"$f":"IF(C74=0,0,PMT($H71,C74,-(C72+C73)))","v":-7500},null,{"$f":"C75-D75","v":-7500},null,"Annual benefit",750,"US$/ha"]
[null,"Annual fuelcost",null,null,null,null,"Forest density",100,"t dry matter/ha"]
[null,"Total annual cost",{"$f":"SUM(C75:C76)","v":-7500},null,{"$f":"C77-D77","v":-7500},null,"Carbon fraction of dry matter",0.5]
[null,null,null,null,null,null,"Time for forest growth",50,"years"]
[null,"Annual emissions (tons)","Tons","Tons","Reduction"]
[null,"Fuel  CO2-eq. emission",0,0,{"$f":"D80-C80","v":0},null,"Reference option: No reforestation"]
[null,"CO2 stored",{"$f":"-H76*H77*44/12*1000/H78","v":-3666.666666666667},null,{"$f":"D81-C81","v":3666.666666666667}]
[null,"Total CO2-eq. emission ",{"$f":"C80+C81","v":-3666.666666666667},{"$f":"D80+D81","v":0},{"$f":"D82-C82","v":3666.666666666667}]
[]
[null,"US$/ton CO2-eq.",null,null,{"$f":"IF(E82<>0,E77/E82,0)","v":-2.0454545454545454}]
[]
[]
[]
[]
[]
[]
[]
[]
[]
[]
[]
[]
[null,"Reforestation of 1000 ha with agroforestry"]
[null,"Costs in","Reduction","Reference","Increase",null,"General inputs:"]
[null,"US$","Option","Option","(Red.-Ref.)",null,"Discount rate ",{"$f":"+DiscountRate","v":0}]
[null,"Total investment",{"$f":"+H102*1000","v":1350000},null,{"$f":"C100-D100","v":1350000}]
[null,"Benefits (NPV)",{"$f":"-H103*1000","v":-1380000},null,null,null,"Reduction option: Reforestation with agroforestry"]
[null,"Project life",30,null,null,null,"Investment",1350,"US$/ha"]
[null,"Lev. investment",{"$f":"IF(C102=0,0,PMT($H99,C102,-(C100+C101)))","v":-1000},null,{"$f":"C103-D103","v":-1000},null,"Annual benefit",1380,"US$/ha"]
[null,"Annual OM",null,null,null,null,"Forest density",100,"t dry matter/ha"]
[null,"Annual fuelcost",null,null,null,null,"Carbon fraction of dry matter",0.5]
[null,"Total annual cost",{"$f":"SUM(C103:C105)","v":-1000},null,{"$f":"C106-D106","v":-1000},null,"Time for forest growth",50,"years"]
[]
[null,"Annual emissions (tons)","Tons","Tons","Reduction",null,"Reference option: No reforestation"]
[null,"Fuel  CO2-eq. emission",0,0,{"$f":"D109-C109","v":0}]
[null,"CO2 stored",{"$f":"-H104*H105*44/12*1000/H106","v":-3666.666666666667},null,{"$f":"D110-C110","v":3666.666666666667}]
[null,"Total CO2-eq. emission ",{"$f":"C109+C110","v":-3666.666666666667},{"$f":"D109+D110","v":0},{"$f":"D111-C111","v":3666.666666666667}]
[]
[null,"US$/ton CO2-eq.",null,null,{"$f":"IF(E111<>0,E106/E111,0)","v":-0.27272727272727271}]
[]
[]
[]
[]
[]
[]
[]
[]
[]
[]
[]
[]
[]
[null,"Reforestation of 1000 ha with Silvopasture"]
[null,"Costs in","Reduction","Reference","Increase",null,"General inputs:"]
[null,"US$","Option","Option","(Red.-Ref.)",null,"Discount rate ",{"$f":"+DiscountRate","v":0}]
[null,"Total investment",{"$f":"+H132*1000","v":1350000},null,{"$f":"C130-D130","v":1350000}]
[null,"Benefits (NPV)",{"$f":"-H133*1000","v":-1380000},null,null,null,"Reduction option: Reforestation with silvopasture"]
[null,"Project life",30,null,null,null,"Investment",1350,"US$/ha"]
[null,"Lev. investment",{"$f":"IF(C132=0,0,PMT($H129,C132,-(C130+C131)))","v":-1000},null,{"$f":"C133-D133","v":-1000},null,"Annual benefit",1380,"US$/ha"]
[null,"Annual benefit",null,null,null,null,"Forest density",100,"t dry matter/ha"]
[null,"Annual fuelcost",null,null,null,null,"Carbon fraction of dry matter",0.5]
[null,"Total annual cost",{"$f":"SUM(C133:C135)","v":-1000},null,{"$f":"C136-D136","v":-1000},null,"Time for forest growth",50,"years"]
[]
[null,"Annual emissions (tons)","Tons","Tons","Reduction",null,"Reference option: No reforestation"]
[null,"Fuel  CO2-eq. emission",0,0,{"$f":"D139-C139","v":0}]
[null,"CO2 stored",{"$f":"-H134*H135*44/12*1000/H136","v":-3666.666666666667},null,{"$f":"D140-C140","v":3666.666666666667}]
[null,"Total CO2-eq. emission ",{"$f":"C139+C140","v":-3666.666666666667},{"$f":"D139+D140","v":0},{"$f":"D141-C141","v":3666.666666666667}]
[]
[null,"US$/ton CO2-eq.",null,null,{"$f":"IF(E141<>0,E136/E141,0)","v":-0.27272727272727271}]

{"sheet":"Fossil fuel switch","index":31,"n_rows":53,"n_cols":9,"rows_kept":53,"cut":false,"hidden":true,"merged":[[9,6,9,8],[38,6,38,8],[1,1,1,3],[3,1,3,3],[4,1,4,3]]}
[]
[null,"Menu for Fossil Fuel Switch options (click links below)"]
[]
[null,"Switch from coal to natural gas in industry (100 TJ fuel use)"]
[null,"Switch from fuel oil to natural gas in industry (100 TJ fuel use)"]
[]
[]
[]
[null,"Fossil fuel switch from coal to natural gas in industry (100 TJ fuel use)"]
[null,"Costs in","Reduction","Reference","Increase",null,"General inputs:"]
[null,"US$","Option","Option","(Red.-Ref.)",null,"Discount rate ",{"$f":"+DiscountRate","v":0}]
[null,"Total investment",{"$f":"+H18*1000000*100/H16","v":128196.10020202945},null,{"$f":"C12-D12","v":128196.10020202945}]
[null,"Project life",20,null,null,null,"Reduction option: Natural gas use"]
[null,"Lev. investment",{"$f":"IF(C13=0,0,PMT($H11,C13,-C12))","v":6409.8050101014724},null,{"$f":"C14-D14","v":6409.8050101014724},null,"CO2-eq. emission coefficient",{"$f":"+Assumptions!D51","v":56.1},"kgCO2-eq./GJ"]
[null,"Annual O&M",{"$f":"+H19","v":0},{"$f":"+H25","v":0},{"$f":"C15-D15","v":0},null,"Natural gas price",{"$f":"+Assumptions!O29","v":3.080568720379147},"US$/GJ"]
[null,"Annual fuelcost",{"$f":"+H16*H17*1000*100/H16","v":308056.8720379147},{"$f":"H24*H23*1000*100/H16","v":200320.51282051284},{"$f":"C16-D16","v":107736.35921740186},null,"Annual fuel consumption",229,"TJ"]
[null,"Total annual cost",{"$f":"SUM(C14:C16)","v":314466.67704801616},{"$f":"SUM(D14:D16)","v":200320.51282051284},{"$f":"C17-D17","v":114146.16422750332},null,"Reference natural gas price",{"$f":"+Assumptions!O29","v":3.080568720379147},"US$/GJ"]
[null,null,null,null,null,null,"Investment",{"$f":"2.239932/7.63","v":0.29356906946264744},"Mill. US$"]
[null,"Annual emissions (tons)","Tons","Tons","Reduction",null,"O&M",0,"Mill. US$"]
[null,"Fuel  CO2-eq. emission",{"$f":"H16*H14*100/H16","v":5610},{"$f":"H24*H22*100/H16","v":9460},{"$f":"D20-C20","v":3850}]
[null,"Other",null,null,null,null,"Reference option: Coal use"]
[null,"Total CO2-eq. emission ",{"$f":"C20+C21","v":5610},{"$f":"D20+D21","v":9460},{"$f":"D22-C22","v":3850},null,"CO2-eq. emission coefficient",{"$f":"+Assumptions!D52","v":94.600000000000009},"kgCO2-eq./GJ"]
[null,null,null,null,null,null,"Coal price",{"$f":"+Assumptions!K29","v":2.0032051282051282},"US$/GJ"]
[null,"US$/ton CO2-eq.",null,null,{"$f":"IF(E22<>0,E17/E22,0)","v":29.648354344806059},null,"Annual fuel consumption",{"$f":"+H16","v":229},"TJ"]
[null,null,null,null,null,null,"O&M",0,"Mill. US$"]
[]
[]
[]
[]
[]
[]
[]
[]
[]
[]
[]
[]
[null,"Fossil fuel switch from fuel oil to natural gas in industry (100 TJ fuel use)"]
[null,"Costs in","Reduction","Reference","Increase",null,"General inputs:"]
[null,"US$","Option","Option","(Red.-Ref.)",null,"Discount rate ",{"$f":"+DiscountRate","v":0}]
[null,"Total investment",{"$f":"+H46*1000000*100/H45","v":780941.64082323096},null,{"$f":"C41-D41","v":780941.64082323096}]
[null,"Project life",20,null,null,null,"Reduction option: Natural gas use"]
[null,"Lev. investment",{"$f":"IF(C42=0,0,PMT($H40,C42,-C41))","v":39047.08204116155},null,{"$f":"C43-D43","v":39047.08204116155},null,"CO2-eq. emission coefficient",{"$f":"+Assumptions!D51","v":56.1},"kgCO2-eq./GJ"]
[null,"Annual O&M",null,null,{"$f":"C44-D44","v":0},null,"Reference natural gas price",{"$f":"+Assumptions!O29","v":3.080568720379147},"US$/GJ"]
[null,"Annual fuelcost",{"$f":"+H45*H44*1000*100/H45","v":308056.8720379147},{"$f":"H52*H51*1000*100/71","v":638192.38898728974},{"$f":"C45-D45","v":-330135.51694937504},null,"Annual fuel consumption",70.94,"TJ"]
[null,"Total annual cost",{"$f":"SUM(C43:C45)","v":347103.95407907624},{"$f":"SUM(D43:D45)","v":638192.38898728974},{"$f":"C46-D46","v":-291088.4349082135},null,"Investment",0.55400000000000005,"Mill. US$"]
[null,null,null,null,null,null,"O&M",0,"Mill. US$"]
[null,"Annual emissions (tons)","Tons","Tons","Reduction"]
[null,"Fuel  CO2-eq. emission",{"$f":"H45*H43*100/H45","v":5610},{"$f":"H52*H50*100/H52","v":7736.6666666666679},{"$f":"D49-C49","v":2126.6666666666679},null,"Reference option: Fuel oil use"]
[null,"Other",null,null,null,null,"CO2-eq. emission coefficient",{"$f":"+Assumptions!D45","v":77.366666666666674},"kgCO2-eq./GJ"]
[null,"Total CO2-eq. emission ",{"$f":"C49+C50","v":5610},{"$f":"D49+D50","v":7736.6666666666679},{"$f":"D51-C51","v":2126.6666666666679},null,"Price of fuel oil",{"$f":"+Assumptions!I29","v":6.387321626458637},"US$/GJ"]
[null,null,null,null,null,null,"Annual fuel consumption",{"$f":"+H45","v":70.94},"TJ"]
[null,"US$/ton CO2-eq.",null,null,{"$f":"IF(E51<>0,E46/E51,0)","v":-136.87543961201254},null,"O&M",0,"Mill. US$"]

{"sheet":"Fugitive","index":32,"n_rows":109,"n_cols":9,"rows_kept":109,"cut":false,"hidden":true,"merged":[[10,6,10,8],[39,6,39,8],[94,6,94,8],[66,6,66,8],[1,1,1,3],[3,1,3,3],[4,1,4,3],[5,1,5,3],[6,1,6,3]]}
[]
[null,"Menu for Fugitive options (click links below)"]
[]
[null,"Reduced flaring at oil field (1 MMSCF/day)"]
[null,"Reduced flaring  at oil  refineries (1 MMSCF/day)"]
[null,"Leak reduction in natural gas pipelines (1 million m3 CH4/year leaking)"]
[null,"Efficient charcoal production (100,000 tonnes)"]
[]
[]
[null,"Reduced flaring at oil field (1 MMSCF/day)"]
[null,"Costs in","Reduction","Reference","Increase",null,"General inputs:"]
[null,"US$","Option","Option","(Red.-Ref.)",null,"Discount rate ",{"$f":"+DiscountRate","v":0}]
[null,"Total investment",{"$f":"H18/H20*1000000","v":10866021.949364338},null,{"$f":"C13-D13","v":10866021.949364338},null,"Reference natural gas price",{"$f":"+Assumptions!O29","v":3.080568720379147},"US$/GJ"]
[null,"Project life",20,null,null,null,"Calorific value",39,"MJ/m3"]
[null,"Lev. investment",{"$f":"IF(C14=0,0,PMT($H12,C14,-C13))","v":543301.0974682169},null,{"$f":"C15-D15","v":543301.0974682169},null,"CO2-eq. emission coefficient",{"$f":"+Assumptions!D51","v":56.1},"kgCO2/GJ"]
[null,"Annual O&M",{"$f":"C13*H19","v":434640.87797457352},null,{"$f":"C16-D16","v":434640.87797457352}]
[null,"Annual fuelcost",null,{"$f":"H22*H13*1000/H20","v":1241754.7322274882},{"$f":"C17-D17","v":-1241754.7322274882},null,"Reduction option: Reduced flaring"]
[null,"Total annual cost",{"$f":"SUM(C15:C17)","v":977941.97544279043},{"$f":"SUM(D15:D17)","v":1241754.7322274882},{"$f":"C18-D18","v":-263812.75678469776},null,"Investment in Activity",100,"MUS$"]
[null,null,null,null,null,null,"O&M  ",0.04]
[null,"Annual emissions (tons)","Tons","Tons","Reduction",null,"Amount of gas flared",{"$f":"2.933+2.851+3.419","v":9.2029999999999994},"MMSCF/Day"]
[null,"Fuel  CO2-eq. emission",null,null,{"$f":"D21-C21","v":0},null,"Amount of gas flared",{"$f":"H20*10335710/1000000","v":95.119539129999993},"Mm3/yr"]
[null,"Flaring of CH4",null,{"$f":"H22*H15/H20","v":22613.499908999998},null,null,"Amount of gas flared",{"$f":"H21*H14","v":3709.6620260699997},"TJ/year"]
[null,"Total CO2-eq. emission ",{"$f":"C21+C22","v":0},{"$f":"D21+D22","v":22613.499908999998},{"$f":"D23-C23","v":22613.499908999998}]
[null,null,null,null,null,null,"Reference option: Flaring"]
[null,"US$/ton CO2-eq.",null,null,{"$f":"IF(E23<>0,E18/E23,0)","v":-11.666162152975813}]
[]
[]
[]
[]
[]
[]
[]
[]
[]
[]
[]
[]
[]
[null,"Reduced flaring  at oil  refineries (1 MMSCF/day)"]
[null,"Costs in","Reduction","Reference","Increase",null,"General inputs:"]
[null,"US$","Option","Option","(Red.-Ref.)",null,"Discount rate ",{"$f":"+DiscountRate","v":0}]
[null,"Total investment",{"$f":"H47*1000000","v":26000000},null,{"$f":"C42-D42","v":26000000},null,"Referencenatural gas price",{"$f":"+Assumptions!O29","v":3.080568720379147},"US$/GJ"]
[null,"Project life",25,null,null,null,"Calorific value",39,"MJ/m3"]
[null,"Lev. investment",{"$f":"IF(C43=0,0,PMT($H$41,C43,-C42))","v":1040000},null,{"$f":"C44-D44","v":1040000},null,"CO2-eq. emission coefficient",{"$f":"+Assumptions!D51","v":56.1},"kgCO2/GJ"]
[null,"Annual O&M",{"$f":"+H48*1000000","v":3930000},null,{"$f":"C45-D45","v":3930000}]
[null,"Annual fuelcost",null,{"$f":"H51*H42*1000","v":1642750.2369668246},{"$f":"C46-D46","v":-1642750.2369668246},null,"Reduction option: Reduced flaring"]
[null,"Total annual cost",{"$f":"SUM(C44:C46)","v":4970000},{"$f":"SUM(D44:D46)","v":1642750.2369668246},{"$f":"C47-D47","v":3327249.7630331754},null,"Investment in Activity",{"$f":"15+11","v":26},"MUS$"]
[null,null,null,null,null,null,"O&M  ",{"$f":"2.2+1.73","v":3.93},"MUS$/year"]
[null,"Annual emissions (tons)","Tons","Tons","Reduction"]
[null,"Fuel  CO2-eq. emission",null,null,{"$f":"D50-C50","v":0},null,"Reference option: Flaring"]
[null,"Flaring",null,{"$f":"+H52","v":20797.217999999997},null,null,"Amount of gas flared",533.26199999999994,"TJ/year"]
[null,"Total CO2-eq. emission ",{"$f":"C50+C51","v":0},{"$f":"D50+D51","v":20797.217999999997},{"$f":"D52-C52","v":20797.217999999997},null,"Amount of gas flared",{"$f":"H51*H43","v":20797.217999999997},"tCO2/year"]
[]
[null,"US$/ton CO2-eq.",null,null,{"$f":"IF(E52<>0,E47/E52,0)","v":159.98532895280397}]
[]
[]
[]
[]
[]
[]
[]
[]
[]
[]
[]
[null,"Leak reduction in natural gas pipelines (1 million m3 CH4/year leaking)"]
[null,"Costs in","Reduction","Reference","Increase",null,"General inputs:"]
[null,"US$","Option","Option","(Red.-Ref.)",null,"Discount rate ",{"$f":"+DiscountRate","v":0}]
[null,"Total investment",{"$f":"H76/H81*1000000","v":249686.31266364327},null,{"$f":"C69-D69","v":249686.31266364327},null,"Reference natural gas price",{"$f":"+Assumptions!O29","v":3.080568720379147},"US$/GJ"]
[null,"Project life",20,null,null,null,"Calorific value",{"$f":"+Assumptions!O31","v":39},"MJ/m3"]
[null,"Lev. investment",{"$f":"IF(C70=0,0,PMT($H68,C70,-C69))","v":12484.315633182163},null,{"$f":"C71-D71","v":12484.315633182163},null,"Density of natural gas",7.18E-4,"tCH4/m3 CH4"]
[null,"Annual O&M",{"$f":"C69*H77","v":12484.315633182165},null,{"$f":"C72-D72","v":12484.315633182165},null,"CO2-eq. emission coefficient",{"$f":"+Assumptions!D45","v":77.366666666666674},"kgCO2/GJ"]
[null,"Annual fuelcost",null,{"$f":"+H83*H69*1000/H81","v":120142.18009478675},{"$f":"C73-D73","v":-120142.18009478675},null,"GWP for CH4",{"$f":"+Assumptions!F64","v":28}]
[null,"Total annual cost",{"$f":"SUM(C71:C73)","v":24968.631266364326},{"$f":"SUM(D71:D73)","v":120142.18009478675},{"$f":"C74-D74","v":-95173.548828422412}]
[null,null,null,null,null,null,"Reduction option: No leaks"]
[null,"Annual emissions (tons)","Tons","Tons","Reduction",null,"Investment in Activity",2.8917660000000001,"MUS$"]
[null,"Fuel  CO2-eq. emission",null,null,{"$f":"D77-C77","v":0},null,"O&M  (annual monitoring)",0.05,"of investment"]
[null,"CH4 leaking",null,{"$f":"H82*H73/H81","v":20104.000000000004}]
[null,"Total CO2-eq. emission ",{"$f":"C77+C78","v":0},{"$f":"D77+D78","v":20104.000000000004},{"$f":"D79-C79","v":20104.000000000004},null,"Reference option: Leaks with CH4 emissions"]
[null,null,null,null,null,null,"Natural gas leak",1322.1,"m3 CH4/hour"]
[null,"US$/ton CO2-eq.",null,null,{"$f":"IF(E79<>0,E74/E79,0)","v":-4.7340603277169917},null,"Annual natural gas leak",{"$f":"H80*24*365/1000000","v":11.581595999999999},"Mm3 CH4/year"]
[null,null,null,null,null,null,"Annual natural gas leak",{"$f":"H81*H71*1000000","v":8315.5859280000004},"tCH4/year"]
[null,null,null,null,null,null,"Amount of gas leaking",{"$f":"H81*H70","v":451.68224399999997},"TJ/year"]
[]
[]
[]
[]
[]
[]
[]
[]
[]
[]
[null,"Efficient charcoal production (100,000 tonnes)"]
[null,"Costs in","Reduction","Reference","Increase",null,"General inputs:"]
[null,"US$","Option","Option","(Red.-Ref.)",null,"Discount rate ",{"$f":"+DiscountRate","v":0}]
[null,"Total investment",{"$f":"H103*1000000/H102*100000","v":2400000},null,{"$f":"C97-D97","v":2400000},null,"GWP for CH4",{"$f":"+Assumptions!F64","v":28}]
[null,"Project life",20,null,null,null,"Calorific value",39,"MJ/m3"]
[null,"Lev. investment",{"$f":"IF(C98=0,0,PMT($H96,C98,-C97))","v":120000},null,{"$f":"C99-D99","v":120000},null,"Non-renewable biomass",0.82]
[null,"Annual O&M",null,null,{"$f":"C100-D100","v":0}]
[null,"Total annual cost",{"$f":"SUM(C99:C100)","v":120000},{"$f":"SUM(D99:D100)","v":0},{"$f":"C101-D101","v":120000},null,"Reduction option: New process"]
[null,null,null,null,null,null,"Size of charcoal plant",500000,"t charcoal/year"]
[null,"Annual emissions (tons)","Tons","Tons","Reduction",null,"Investment",12,"MUS$"]
[null,"CO2-eq. emission",{"$f":"1/H105*H99*0.5*44/12*100000","v":406306.30630630627},{"$f":"1/H109*H99*0.5*44/12*100000","v":501111.11111111112},{"$f":"D104-C104","v":94804.804804804851},null,"CH4 emission factor",2.4E-2,"tCH4/t charcoal"]
[null,"CH4 emissions",{"$f":"H104*H97*100000","v":67200},{"$f":"H108*H97*100000","v":128800},{"$f":"D105-C105","v":61600},null,"Gravimetric yield",0.37,"charcoal/dry wood"]
[null,"Total CO2-eq. emission ",{"$f":"C104+C105","v":473506.30630630627},{"$f":"D104+D105","v":629911.11111111112},{"$f":"D106-C106","v":156404.80480480485},null,"O&M  ","neglectable"]
[null,null,null,null,null,null,"Reference option: Old process"]
[null,"US$/ton CO2-eq.",null,null,{"$f":"IF(E106<>0,E101/E106,0)","v":0.76723985653613069},null,"CH4 emission factor",4.5999999999999999E-2,"tCH4/t charcoal"]
[null,null,null,null,null,null,"Gravimetric yield",0.3,"charcoal/dry wood"]

{"sheet":"Geothermal","index":33,"n_rows":56,"n_cols":36,"rows_kept":56,"cut":false,"hidden":true,"merged":[[1,1,1,3],[2,1,2,3],[35,6,35,8],[7,33,7,35],[12,33,12,35],[20,33,20,35],[7,24,7,26],[12,24,12,26],[20,24,20,26]]}
[]
[null,"Menu for Geothermal options (click links below)"]
[null,"1 MW Geothermal power"]
[null,"Geothermal heating (1000 m2) versus coal boilers"]
[]
[]
[null,"1 MW Geothermal power - 2025",null,null,null,null,null,null,null,null,"1 MW Geothermal power - 2030",null,null,null,null,null,null,null,null,"1 MW Geothermal power - 2040",null,null,null,null,null,null,null,null,"1 MW Geothermal power - 2050"]
[null,"Costs in","Reduction","Reference","Increase",null,"General inputs:",null,null,null,"Costs in","Reduction","Reference","Increase",null,"General inputs:",null,null,null,"Costs in","Reduction","Reference","Increase",null,"General inputs:",null,null,null,"Costs in","Reduction","Reference","Increase",null,"General inputs:"]
[null,"US$","Option","Option","(Red.-Ref.)",null,"Discount rate ",{"$f":"+DiscountRate","v":0},null,null,"US$","Option","Option","(Red.-Ref.)",null,"Discount rate ",{"$f":"+DiscountRate","v":0},null,null,"US$","Option","Option","(Red.-Ref.)",null,"Discount rate ",{"$f":"+DiscountRate","v":0},null,null,"US$","Option","Option","(Red.-Ref.)",null,"Discount rate ",{"$f":"+DiscountRate","v":0}]
[null,"Total investment",{"$f":"H16*H15*1000","v":4266071.4285714282},null,{"$f":"C10-D10","v":4266071.4285714282},null,"Reference electricity price",{"$f":"+Assumptions!C35","v":0},"US$/kWh",null,"Total investment",{"$f":"Q16*Q15*1000","v":3763988.0952380956},null,{"$f":"L10-M10","v":3763988.0952380956},null,"Reference electricity price",{"$f":"+Assumptions!C35","v":0},"US$/kWh",null,"Total investment",{"$f":"Z16*Z15*1000","v":3261904.7619047621},null,{"$f":"U10-V10","v":3261904.7619047621},null,"Reference electricity price",{"$f":"+Assumptions!C35","v":0},"US$/kWh",null,"Total investment",{"$f":"AI16*AI15*1000","v":3261904.7619047621},null,{"$f":"AD10-AE10","v":3261904.7619047621},null,"Reference electricity price",{"$f":"+Assumptions!C35","v":0},"US$/kWh"]
[null,"Project life",20,null,null,null,"CO2-eq. emission coefficient",{"$f":"+Assumptions!C39","v":0},"tCO2/MWh",null,"Project life",20,null,null,null,"CO2-eq. emission coefficient",{"$f":"+Assumptions!C39","v":0},"tCO2/MWh",null,"Project life",20,null,null,null,"CO2-eq. emission coefficient",{"$f":"+Assumptions!C39","v":0},"tCO2/MWh",null,"Project life",20,null,null,null,"CO2-eq. emission coefficient",{"$f":"+Assumptions!C39","v":0},"tCO2/MWh"]
[null,"Lev. investment",{"$f":"IF(C11=0,0,PMT($H9,C11,-C10))","v":213303.57142857142},null,{"$f":"C12-D12","v":213303.57142857142},null,null,null,null,null,"Lev. investment",{"$f":"IF(L11=0,0,PMT($Q9,L11,-L10))","v":188199.40476190479},null,{"$f":"L12-M12","v":188199.40476190479},null,null,null,null,null,"Lev. investment",{"$f":"IF(U11=0,0,PMT($Z9,U11,-U10))","v":163095.23809523811},null,{"$f":"U12-V12","v":163095.23809523811},null,null,null,null,null,"Lev. investment",{"$f":"IF(AD11=0,0,PMT($AI9,AD11,-AD10))","v":163095.23809523811},null,{"$f":"AD12-AE12","v":163095.23809523811}]
[null,"Annual O&M",{"$f":"C10*H14","v":127982.14285714284},null,{"$f":"C13-D13","v":127982.14285714284},null,"Reduction option: Geothermal Power",null,null,null,"Annual O&M",{"$f":"L10*Q14","v":112919.64285714287},null,{"$f":"L13-M13","v":112919.64285714287},null,"Reduction option: Geothermal Power",null,null,null,"Annual O&M",{"$f":"U10*Z14","v":97857.142857142855},null,{"$f":"U13-V13","v":97857.142857142855},null,"Reduction option: Geothermal Power",null,null,null,"Annual O&M",{"$f":"AD10*AI14","v":97857.142857142855},null,{"$f":"AD13-AE13","v":97857.142857142855},null,"Reduction option: Geothermal Power"]
[null,"Annual fuelcost",null,{"$f":"H18*H10*1000/H15","v":0},{"$f":"C14-D14","v":0},null,"O&M  ",0.03,null,null,"Annual fuelcost",null,{"$f":"Q18*Q10*1000/Q15","v":0},{"$f":"L14-M14","v":0},null,"O&M  ",0.03,null,null,"Annual fuelcost",null,{"$f":"Z18*Z10*1000/Z15","v":0},{"$f":"U14-V14","v":0},null,"O&M  ",0.03,null,null,"Annual fuelcost",null,{"$f":"AI18*AI10*1000/AI15","v":0},{"$f":"AD14-AE14","v":0},null,"O&M  ",0.03]
[null,"Total annual cost",{"$f":"SUM(C12:C14)","v":341285.71428571426},{"$f":"SUM(D12:D14)","v":0},{"$f":"C15-D15","v":341285.71428571426},null,"Activity",1,"MW",null,"Total annual cost",{"$f":"SUM(L12:L14)","v":301119.04761904769},{"$f":"SUM(M12:M14)","v":0},{"$f":"L15-M15","v":301119.04761904769},null,"Activity",1,"MW",null,"Total annual cost",{"$f":"SUM(U12:U14)","v":260952.38095238095},{"$f":"SUM(V12:V14)","v":0},{"$f":"U15-V15","v":260952.38095238095},null,"Activity",1,"MW",null,"Total annual cost",{"$f":"SUM(AD12:AD14)","v":260952.38095238095},{"$f":"SUM(AE12:AE14)","v":0},{"$f":"AD15-AE15","v":260952.38095238095},null,"Activity",1,"MW"]
[null,null,null,null,null,null,"Investment in Activity",{"$f":"(3775+3392)/2/0.84","v":4266.0714285714284},"US$/kW",null,null,null,null,null,null,"Investment in Activity",{"$f":"(H16+AI16)/2","v":3763.9880952380954},"US$/kW",null,null,null,null,null,null,"Investment in Activity",{"$f":"2740/0.84","v":3261.9047619047619},"US$/kW",null,null,null,null,null,null,"Investment in Activity",{"$f":"2740/0.84","v":3261.9047619047619},"US$/kW"]
[null,"Annual emissions (tons)","Tons","Tons","Reduction",null,"Capacity factor",6315,"Full time hours",null,"Annual emissions (tons)","Tons","Tons","Reduction",null,"Capacity factor",6315,"Full time hours",null,"Annual emissions (tons)","Tons","Tons","Reduction",null,"Capacity factor",6315,"Full time hours",null,"Annual emissions (tons)","Tons","Tons","Reduction",null,"Capacity factor",6315,"Full time hours"]
[null,"Fuel  CO2-eq. emission",0,{"$f":"H18*H11/H15","v":0},{"$f":"D18-C18","v":0},null,"Electricity production",{"$f":"H15*H17","v":6315},"MWh/year",null,"Fuel  CO2-eq. emission",0,{"$f":"Q18*Q11/Q15","v":0},{"$f":"M18-L18","v":0},null,"Electricity production",{"$f":"Q15*Q17","v":6315},"MWh/year",null,"Fuel  CO2-eq. emission",0,{"$f":"Z18*Z11/Z15","v":0},{"$f":"V18-U18","v":0},null,"Electricity production",{"$f":"Z15*Z17","v":6315},"MWh/year",null,"Fuel  CO2-eq. emission",0,{"$f":"AI18*AI11/AI15","v":0},{"$f":"AE18-AD18","v":0},null,"Electricity production",{"$f":"AI15*AI17","v":6315},"MWh/year"]
[null,"Other",null,null,null,null,"Cost of electricity produced",{"$f":"C15/H18/1000","v":5.4043660219432181E-2},"US$/kWh",null,"Other",null,null,null,null,"Cost of electricity produced",{"$f":"L15/Q18/1000","v":4.7683142932549119E-2},"US$/kWh",null,"Other",null,null,null,null,"Cost of electricity produced",{"$f":"U15/Z18/1000","v":4.1322625645666022E-2},"US$/kWh",null,"Other",null,null,null,null,"Cost of electricity produced",{"$f":"AD15/AI18/1000","v":4.1322625645666022E-2},"US$/kWh"]
[null,"Total CO2-eq. emission ",{"$f":"C18+C19","v":0},{"$f":"D18+D19","v":0},{"$f":"D20-C20","v":0},null,null,null,null,null,"Total CO2-eq. emission ",{"$f":"L18+L19","v":0},{"$f":"M18+M19","v":0},{"$f":"M20-L20","v":0},null,null,null,null,null,"Total CO2-eq. emission ",{"$f":"U18+U19","v":0},{"$f":"V18+V19","v":0},{"$f":"V20-U20","v":0},null,null,null,null,null,"Total CO2-eq. emission ",{"$f":"AD18+AD19","v":0},{"$f":"AE18+AE19","v":0},{"$f":"AE20-AD20","v":0}]
[null,null,null,null,null,null,"Reference option: No geothermal plant",null,null,null,null,null,null,null,null,"Reference option: No geothermal plant",null,null,null,null,null,null,null,null,"Reference option: No geothermal plant",null,null,null,null,null,null,null,null,"Reference option: No geothermal plant"]
[null,"US$/ton CO2-eq.",null,null,{"$f":"IF(E20<>0,E15/E20,0)","v":0},null,null,null,null,null,"US$/ton CO2-eq.",null,null,{"$f":"IF(N20<>0,N15/N20,0)","v":0},null,null,null,null,null,"US$/ton CO2-eq.",null,null,{"$f":"IF(W20<>0,W15/W20,0)","v":0},null,null,null,null,null,"US$/ton CO2-eq.",null,null,{"$f":"IF(AF20<>0,AF15/AF20,0)","v":0}]
[]
[]
[]
[]
[]
[]
[]
[]
[]
[]
[]
[]
[null,"Geothermal heating (1000 m2) versus coal boilers"]
[null,"Costs in","Reduction","Reference","Increase",null,"General inputs:"]
[null,"US$","Option","Option","(Red.-Ref.)",null,"Discount rate ",{"$f":"+DiscountRate","v":0}]
[null,"Total investment",{"$f":"(H43+H44)*H42","v":13475.238176980518},null,{"$f":"C38-D38","v":13475.238176980518}]
[null,"Project life",20,20,null,null,"Reduction option: Geothermal heating"]
[null,"Lev. investment",{"$f":"IF(C39=0,0,PMT($H37,C39,-C38))","v":673.76190884902587},{"$f":"IF(D39=0,0,PMT($H37,D39,-D38))","v":0},{"$f":"C40-D40","v":673.76190884902587},null,"Natural gas price",{"$f":"+Assumptions!O29","v":3.080568720379147},"US$/GJ"]
[null,"Annual O&M",{"$f":"H45*H42","v":1087.1742053614855},null,{"$f":"C41-D41","v":1087.1742053614855},null,"CO2-eq. emission coefficient",{"$f":"+Assumptions!D51","v":56.1},"kgCO2/GJ"]
[null,"Annual fuelcost",{"$f":"H46*H42*H47*H40/1000","v":2.4028436018957344},{"$f":"+H56*H40","v":1980.3656059580233},{"$f":"C42-D42","v":-1977.9627623561275},null,"Heated area",1000,"m2"]
[null,"Total annual cost",{"$f":"SUM(C40:C42)","v":1763.338957812407},{"$f":"SUM(D40:D42)","v":1980.3656059580233},{"$f":"C43-D43","v":-217.02664814561626},null,"Heat supply",{"$f":"80/7.64","v":10.471204188481677},"US$/m2"]
[null,null,null,null,null,null,"Reinjection wells",{"$f":"7*6/7.64/1.83","v":3.0040339884988412},"US$/m2"]
[null,"Annual emissions (tons)","Tons","Tons","Reduction",null,"O&M  ",{"$f":"15.2/7.64/1.83","v":1.0871742053614855},"US$/m2"]
[null,"Fuel  CO2-eq. emission",{"$f":"H46*H42*H47*H41/1000","v":43.758000000000003},{"$f":"H56*H51/1000","v":60.814285714285724},{"$f":"D46-C46","v":17.056285714285721},null,"Natural gas consumption",0.02,"M3 gas/m2 area"]
[null,"Other",null,null,null,null,"Energy in natural gas",{"$f":"+Assumptions!O31","v":39},"MJ/m3 N-gas"]
[null,"Total CO2-eq. emission ",{"$f":"C46+C47","v":43.758000000000003},{"$f":"D46+D47","v":60.814285714285724},{"$f":"D48-C48","v":17.056285714285721},null,"Natura gas consumption",{"$f":"H46*H42*H47","v":780},"MJ"]
[null,null,null,null,null,null,"Reference option: Coal fired boilers"]
[null,"US$/ton CO2-eq.",null,null,{"$f":"IF(E48<>0,E43/E48,0)","v":-12.72414473942839},null,"Coal prices",{"$f":"+Assumptions!K29","v":2.0032051282051282},"US$/GJ"]
[null,null,null,null,null,null,"CO2-eq. emission coefficient",{"$f":"+Assumptions!D52","v":94.600000000000009},"kgCO2/GJ"]
[null,null,null,null,null,null,"Heat consumption",100,"kWh/m2"]
[null,null,null,null,null,null,"Boiler efficiency",0.7]
[null,null,null,null,null,null,"District heating loss",0.2]
[null,null,null,null,null,null,"Total heat consumption",{"$f":"H52*3.6*H42/1000","v":360},"GJ"]
[null,null,null,null,null,null,"Coal consumption",{"$f":"H55/(1-H54)/H53","v":642.85714285714289},"GJ"]

{"sheet":"HFCs, PFCs, SF6","index":34,"n_rows":26,"n_cols":9,"rows_kept":26,"cut":false,"hidden":true,"merged":[[7,6,7,8],[1,1,1,3],[2,1,2,3]]}
[]
[null,"Menu for Industrial Gas options (click links below)"]
[null,"Reduced PFCs from aluminum production (100,000 tAl/year)"]
[]
[]
[]
[null,"Reduced PFCs from aluminum production (100,000 tAl/year)"]
[null,"Costs in","Reduction","Reference","Increase",null,"General inputs:"]
[null,"US$","Option","Option","(Red.-Ref.)",null,"Discount rate ",{"$f":"+DiscountRate","v":0}]
[null,"Total investment",{"$f":"+H19/H12*100000","v":19573.792242509011},null,null,null,"1 tonne CF4 = ",6500,"tonnes CO2"]
[null,"Project life",20,null,null,null,"1 tonne C2F6 = ",9200,"tonnes CO2"]
[null,"Lev. investment",{"$f":"IF(C11=0,0,PMT($H9,C11,-C10))","v":978.68961212545059},null,{"$f":"C12-D12","v":978.68961212545059},null,"Aliminium production",306001,"tAl/year"]
[null,"Annual O&M",{"$f":"+H21/H12*100000","v":1226.4665801745746},null,{"$f":"C13-D13","v":1226.4665801745746},null,"Reference electricity price",{"$f":"+Assumptions!C35","v":0},"US$/kWh"]
[null,"Annual fuelcost",{"$f":"H12*H24*1000*H20*H13/(H12/1000)","v":0},null,{"$f":"C14-D14","v":0},null,"CO2-eq. emission coefficient",{"$f":"+Assumptions!C39","v":0},"tCO2/MWh"]
[null,"Total annual cost",{"$f":"SUM(C12:C14)","v":2205.1561923000254},{"$f":"SUM(D12:D14)","v":0},{"$f":"C15-D15","v":2205.1561923000254}]
[null,null,null,null,null,null,"Reduction option: Reduced anode effect"]
[null,"Annual emissions (tons)","Tons","Tons","Reduction",null,"CF4-eq. emission coefficient",1.0999999999999999E-2,"kgCF4/tAl"]
[null,"Fuel  CO2-eq. emission",null,{"$f":"H12*H24*1000*H20*H14/H12*100000","v":0},{"$f":"D18-C18","v":0},null,"C2F6-eq. emission coefficient",1.9E-3,"kgC2F6/tAl"]
[null,"Other",{"$f":"+H12*(H17*H10+H18*H11)/1000/H12*1000000","v":88980},{"$f":"+H12*(H25*H10+H26*H11)/1000/H12*100000","v":24284},{"$f":"D19-C19","v":-64696},null,"Investment",{"$f":"19798+40098","v":59896},"US$"]
[null,"Total CO2-eq. emission ",{"$f":"C18+C19","v":88980},{"$f":"D18+D19","v":24284},{"$f":"D20-C20","v":-64696},null,"Electricity savings",2.5999999999999998E-4]
[null,null,null,null,null,null,"O&M",3753,"US$/year"]
[null,"US$/ton CO2-eq.",null,null,{"$f":"IF(E20<>0,E15/E20,0)","v":-3.4084892300915444E-2}]
[null,null,null,null,null,null,"Reference option: No change"]
[null,null,null,null,null,null,"Electricity consumption",{"$f":"4280678/H12","v":13.989098074842893},"MWh/tAl"]
[null,null,null,null,null,null,"CF4-eq. emission coefficient",0.03,"kgCF4/tAl"]
[null,null,null,null,null,null,"C2F6-eq. emission coefficient",5.1999999999999998E-3,"kgC2F6/tAl"]

{"sheet":"Hydro","index":35,"n_rows":83,"n_cols":36,"rows_kept":83,"cut":false,"hidden":true,"merged":[[10,24,10,26],[15,24,15,26],[10,33,10,35],[15,33,15,35],[1,1,1,3],[3,1,3,3],[4,1,4,3],[5,1,5,3],[10,15,10,17],[15,15,15,17],[39,6,39,8],[44,6,44,8],[68,6,68,8],[71,6,71,8],[78,6,78,8],[51,6,51,8]]}
[]
[null,"Menu for Hydro Power options (click links below)"]
[]
[null,"1 MW Hydro power connected to main grid"]
[null,"1 MW Mini hydro power connected to main grid"]
[null,"1 MW Mini hydro power off-grid"]
[]
[]
[]
[null,"1 MW Hydro power connected to main grid in 2025",null,null,null,null,null,null,null,null,"1 MW Hydro power connected to main grid in 2030",null,null,null,null,null,null,null,null,"1 MW Hydro power connected to main grid in 2040",null,null,null,null,null,null,null,null,"1 MW Hydro power connected to main grid in 2050"]
[null,"Costs in","Reduction","Reference","Increase",null,"General inputs:",null,null,null,"Costs in","Reduction","Reference","Increase",null,"General inputs:",null,null,null,"Costs in","Reduction","Reference","Increase",null,"General inputs:",null,null,null,"Costs in","Reduction","Reference","Increase",null,"General inputs:"]
[null,"US$","Option","Option","(Red.-Ref.)",null,"Discount rate ",{"$f":"Assumptions!$C$13","v":0},null,null,"US$","Option","Option","(Red.-Ref.)",null,"Discount rate ",{"$f":"Assumptions!$C$13","v":0},null,null,"US$","Option","Option","(Red.-Ref.)",null,"Discount rate ",{"$f":"Assumptions!$C$13","v":0},null,null,"US$","Option","Option","(Red.-Ref.)",null,"Discount rate ",{"$f":"Assumptions!$C$13","v":0}]
[null,"Total investment",{"$f":"H19*1000","v":1138100},null,{"$f":"C13-D13","v":1138100},null,"Reference electricity price",{"$f":"+Assumptions!C35","v":0},"US$/kWh",null,"Total investment",{"$f":"Q19*1000","v":1138100},null,{"$f":"L13-M13","v":1138100},null,"Reference electricity price",{"$f":"+Assumptions!C35","v":0},"US$/kWh",null,"Total investment",{"$f":"Z19*1000","v":1138100},null,{"$f":"U13-V13","v":1138100},null,"Reference electricity price",{"$f":"+Assumptions!C35","v":0},"US$/kWh",null,"Total investment",{"$f":"AI19*1000","v":1138100},null,{"$f":"AD13-AE13","v":1138100},null,"Reference electricity price",{"$f":"+Assumptions!C35","v":0},"US$/kWh"]
[null,"Project life",25,null,null,null,"CO2-eq. emission coefficient",{"$f":"+Assumptions!C39","v":0},"tCO2/MWh",null,"Project life",25,null,null,null,"CO2-eq. emission coefficient",{"$f":"+Assumptions!C39","v":0},"tCO2/MWh",null,"Project life",25,null,null,null,"CO2-eq. emission coefficient",{"$f":"+Assumptions!C39","v":0},"tCO2/MWh",null,"Project life",25,null,null,null,"CO2-eq. emission coefficient",{"$f":"+Assumptions!C39","v":0},"tCO2/MWh"]
[null,"Lev. investment",{"$f":"IF(C14=0,0,PMT($H$12,C14,-C13))","v":45524},null,{"$f":"C15-D15","v":45524},null,null,null,null,null,"Lev. investment",{"$f":"IF(L14=0,0,PMT($Q$12,L14,-L13))","v":45524},null,{"$f":"L15-M15","v":45524},null,null,null,null,null,"Lev. investment",{"$f":"IF(U14=0,0,PMT($Z$12,U14,-U13))","v":45524},null,{"$f":"U15-V15","v":45524},null,null,null,null,null,"Lev. investment",{"$f":"IF(AD14=0,0,PMT($AI$12,AD14,-AD13))","v":45524},null,{"$f":"AD15-AE15","v":45524}]
[null,"Annual O&M",{"$f":"C13*H17","v":5690.5},null,{"$f":"C16-D16","v":5690.5},null,"Reduction option: Hydro Power",null,null,null,"Annual O&M",{"$f":"L13*Q17","v":5690.5},null,{"$f":"L16-M16","v":5690.5},null,"Reduction option: Hydro Power",null,null,null,"Annual O&M",{"$f":"U13*Z17","v":5690.5},null,{"$f":"U16-V16","v":5690.5},null,"Reduction option: Hydro Power",null,null,null,"Annual O&M",{"$f":"AD13*AI17","v":5690.5},null,{"$f":"AD16-AE16","v":5690.5},null,"Reduction option: Hydro Power"]
[null,"Annual fuelcost",null,{"$f":"H21*1000*H13/H18","v":0},{"$f":"C17-D17","v":0},null,"O&M  ",5.0000000000000001E-3,null,null,"Annual fuelcost",null,{"$f":"Q21*1000*Q13/Q18","v":0},{"$f":"L17-M17","v":0},null,"O&M  ",5.0000000000000001E-3,null,null,"Annual fuelcost",null,{"$f":"Z21*1000*Z13/Z18","v":0},{"$f":"U17-V17","v":0},null,"O&M  ",5.0000000000000001E-3,null,null,"Annual fuelcost",null,{"$f":"AI21*1000*AI13/AI18","v":0},{"$f":"AD17-AE17","v":0},null,"O&M  ",5.0000000000000001E-3]
[null,"Total annual cost",{"$f":"SUM(C15:C17)","v":51214.5},{"$f":"SUM(D15:D17)","v":0},{"$f":"C18-D18","v":51214.5},null,"Activity",1,"MW",null,"Total annual cost",{"$f":"SUM(L15:L17)","v":51214.5},{"$f":"SUM(M15:M17)","v":0},{"$f":"L18-M18","v":51214.5},null,"Activity",1,"MW",null,"Total annual cost",{"$f":"SUM(U15:U17)","v":51214.5},{"$f":"SUM(V15:V17)","v":0},{"$f":"U18-V18","v":51214.5},null,"Activity",1,"MW",null,"Total annual cost",{"$f":"SUM(AD15:AD17)","v":51214.5},{"$f":"SUM(AE15:AE17)","v":0},{"$f":"AD18-AE18","v":51214.5},null,"Activity",1,"MW"]
[null,null,null,null,null,null,"Investment in Activity",1138.0999999999999,"US$/kW",null,null,null,null,null,null,"Investment in Activity",1138.0999999999999,"US$/kW",null,null,null,null,null,null,"Investment in Activity",1138.0999999999999,"US$/kW",null,null,null,null,null,null,"Investment in Activity",1138.0999999999999,"US$/kW"]
[null,"Annual emissions (tons)","Tons","Tons","Reduction",null,"Capacity factor",3961,"Full time hours",null,"Annual emissions (tons)","Tons","Tons","Reduction",null,"Capacity factor",3961,"Full time hours",null,"Annual emissions (tons)","Tons","Tons","Reduction",null,"Capacity factor",3961,"Full time hours",null,"Annual emissions (tons)","Tons","Tons","Reduction",null,"Capacity factor",3961,"Full time hours"]
[null,"Fuel  CO2-eq. emission",null,{"$f":"H21*H14/H18","v":0},{"$f":"D21-C21","v":0},null,"Electricity production",{"$f":"H18*H20","v":3961},"MWh/ year",null,"Fuel  CO2-eq. emission",null,{"$f":"Q21*Q14/Q18","v":0},{"$f":"M21-L21","v":0},null,"Electricity production",{"$f":"Q18*Q20","v":3961},"MWh/ year",null,"Fuel  CO2-eq. emission",null,{"$f":"Z21*Z14/Z18","v":0},{"$f":"V21-U21","v":0},null,"Electricity production",{"$f":"Z18*Z20","v":3961},"MWh/ year",null,"Fuel  CO2-eq. emission",null,{"$f":"AI21*AI14/AI18","v":0},{"$f":"AE21-AD21","v":0},null,"Electricity production",{"$f":"AI18*AI20","v":3961},"MWh/ year"]
[null,"Other",null,null,null,null,"Cost of electricity produced",{"$f":"+C18/H21/1000","v":1.2929689472355467E-2},"US$/kWh",null,"Other",null,null,null,null,"Cost of electricity produced",{"$f":"+L18/Q21/1000","v":1.2929689472355467E-2},"US$/kWh",null,"Other",null,null,null,null,"Cost of electricity produced",{"$f":"+U18/Z21/1000","v":1.2929689472355467E-2},"US$/kWh",null,"Other",null,null,null,null,"Cost of electricity produced",{"$f":"+AD18/AI21/1000","v":1.2929689472355467E-2},"US$/kWh"]
[null,"Total CO2-eq. emission ",{"$f":"C21+C22","v":0},{"$f":"D21+D22","v":0},{"$f":"D23-C23","v":0},null,null,null,null,null,"Total CO2-eq. emission ",{"$f":"L21+L22","v":0},{"$f":"M21+M22","v":0},{"$f":"M23-L23","v":0},null,null,null,null,null,"Total CO2-eq. emission ",{"$f":"U21+U22","v":0},{"$f":"V21+V22","v":0},{"$f":"V23-U23","v":0},null,null,null,null,null,"Total CO2-eq. emission ",{"$f":"AD21+AD22","v":0},{"$f":"AE21+AE22","v":0},{"$f":"AE23-AD23","v":0}]
[null,null,null,null,null,null,"Reference option: No hydro power plant",null,null,null,null,null,null,null,null,"Reference option: No hydro power plant",null,null,null,null,null,null,null,null,"Reference option: No hydro power plant",null,null,null,null,null,null,null,null,"Reference option: No hydro power plant"]
[null,"US$/ton CO2-eq.",null,null,{"$f":"IF(E23<>0,E18/E23,0)","v":0},null,null,null,null,null,"US$/ton CO2-eq.",null,null,{"$f":"IF(N23<>0,N18/N23,0)","v":0},null,null,null,null,null,"US$/ton CO2-eq.",null,null,{"$f":"IF(W23<>0,W18/W23,0)","v":0},null,null,null,null,null,"US$/ton CO2-eq.",null,null,{"$f":"IF(AF23<>0,AF18/AF23,0)","v":0}]
[]
[]
[]
[]
[]
[]
[]
[]
[]
[]
[]
[]
[]
[null,"1 MW Mini hydro power connected to main grid 2020"]
[null,"Costs in","Reduction","Reference","Increase",null,"General inputs:"]
[null,"US$","Option","Option","(Red.-Ref.)",null,"Discount rate ",{"$f":"Assumptions!$C$13","v":0}]
[null,"Total investment",{"$f":"H48*1000","v":4500000},null,{"$f":"C42-D42","v":4500000},null,"Reference electricity price",{"$f":"+Assumptions!C35","v":0},"US$/kWh"]
[null,"Project life",20,null,null,null,"CO2-eq. emission coefficient",{"$f":"+Assumptions!C39","v":0},"tCO2/MWh"]
[null,"Lev. investment",{"$f":"IF(C43=0,0,PMT($H$41,C43,-C42))","v":225000},null,{"$f":"C44-D44","v":225000}]
[null,"Annual O&M",{"$f":"C42*H46","v":22500},null,{"$f":"C45-D45","v":22500},null,"Reduction option: Hydro Power"]
[null,"Annual fuelcost",null,{"$f":"H50*1000*H42/H47","v":0},{"$f":"C46-D46","v":0},null,"O&M  ",5.0000000000000001E-3,"Of investment"]
[null,"Total annual cost",{"$f":"SUM(C44:C46)","v":247500},{"$f":"SUM(D44:D46)","v":0},{"$f":"C47-D47","v":247500},null,"Activity",1,"MW"]
[null,null,null,null,null,null,"Investment in Activity",4500,"US$/kW"]
[null,"Annual emissions (tons)","Tons","Tons","Reduction",null,"Capacity factor",4000,"Full time hours"]
[null,"Fuel  CO2-eq. emission",null,{"$f":"H50*H43/H47","v":0},{"$f":"D50-C50","v":0},null,"Electricity production",{"$f":"H47*H49","v":4000},"MWh/ year"]
[null,"Other"]
[null,"Total CO2-eq. emission ",{"$f":"C50+C51","v":0},{"$f":"D50+D51","v":0},{"$f":"D52-C52","v":0},null,"Reference option: No hydro power plant"]
[]
[null,"US$/ton CO2-eq.",null,null,{"$f":"IF(E52<>0,E47/E52,0)","v":0}]
[]
[]
[]
[]
[]
[]
[]
[]
[]
[]
[]
[]
[]
[null,"1 MW Mini hydro power off-grid"]
[null,"Costs in","Reduction","Reference","Increase",null,"General inputs:"]
[null,"US$","Option","Option","(Red.-Ref.)",null,"Discount rate ",{"$f":"+Assumptions!C13","v":0}]
[null,"Total investment",{"$f":"H75*1000","v":4000000},null,{"$f":"C71-D71","v":4000000}]
[null,"Project life",20,null,null,null,"Reduction option: Hydro Power"]
[null,"Lev. investment",{"$f":"IF(C72=0,0,PMT($H$70,C72,-C71))","v":200000},null,{"$f":"C73-D73","v":200000},null,"O&M  ",5.0000000000000001E-3,"Of investment"]
[null,"Annual O&M",{"$f":"C71*H73","v":20000},null,{"$f":"C74-D74","v":20000},null,"Activity",1,"MW"]
[null,"Annual fuelcost",null,{"$f":"H82*H83","v":452412.61183851829},{"$f":"C75-D75","v":-452412.61183851829},null,"Investment in Activity",4000,"US$/kW"]
[null,"Total annual cost",{"$f":"SUM(C73:C75)","v":220000},{"$f":"SUM(D73:D75)","v":452412.61183851829},{"$f":"C76-D76","v":-232412.61183851829},null,"Capacity factor",4000,"Full time hours"]
[null,null,null,null,null,null,"Electricity production",{"$f":"H74*H76","v":4000},"MWh/ year"]
[null,"Annual emissions (tons)","Tons","Tons","Reduction"]
[null,"Fuel  CO2-eq. emission",0,{"$f":"H82*H80/1000","v":3231.9999999999995},{"$f":"D79-C79","v":3231.9999999999995},null,"Reference option: Existing diesel generator"]
[null,"Other",null,null,null,null,"CO2-eq. emission coefficient",{"$f":"+Assumptions!D46","v":74.066666666666663},"kgCO2-eq./GJ"]
[null,"Total CO2-eq. emission ",{"$f":"C79+C80","v":0},{"$f":"D79+D80","v":3231.9999999999995},{"$f":"D81-C81","v":3231.9999999999995},null,"Efficiency of diesel",0.33]
[null,null,null,null,null,null,"Diesel consumption",{"$f":"H77*3.6/H81","v":43636.363636363632},"GJ"]
[null,"US$/ton CO2-eq.",null,null,{"$f":"IF(E81<>0,E76/E81,0)","v":-71.909842771818788},null,"Diesel price",{"$f":"+Assumptions!G29","v":10.367789021299378},"US$/GJ"]

{"sheet":"Landfills","index":36,"n_rows":197,"n_cols":9,"rows_kept":197,"cut":false,"hidden":true,"merged":[[181,6,181,8],[156,6,156,8],[131,6,131,8],[1,1,1,3],[3,1,3,3],[4,1,4,3],[6,1,6,3],[103,6,103,8],[12,6,12,8],[47,6,47,8],[76,6,76,8],[94,1,95,4]]}
[]
[null,"Menu for Landfills options (click links below)"]
[]
[null,"Landfill gas plant with power production"]
[null,"Composting of Municipal Solid Waste (1000 ton/day)"]
[null,"Incineration plant"]
[null,"Landfill gas flaring"]
[null,"Biogas from MSW"]
[null,"Refuce Derived Fuel (RDF) from MSW (1000 t MSW/day)"]
[null,"Recycling of plastics"]
[]
[null,"Landfill gas plant with power production - 200 t/day"]
[null,"Costs in","Reduction","Reference","Increase",null,"General inputs:"]
[null,"US$","Option","Option","(Red.-Ref.)",null,"Discount rate ",{"$f":"+DiscountRate","v":0}]
[null,"Total investment",{"$f":"H19+H20","v":4881677},null,{"$f":"C15-D15","v":4881677},null,"Reference electricity price",{"$f":"+Assumptions!C35","v":0},"US$/kWh"]
[null,"Project life (years)",20,null,null,null,"CO2-eq. emission coefficient",{"$f":"+Assumptions!C39","v":0},"tCO2/MWh"]
[null,"Ann. Levelized investment",{"$f":"IF(C16=0,0,PMT(+H14,C16,-C15))","v":244083.85},null,{"$f":"C17-D17","v":244083.85}]
[null,"Ann. O&M",{"$f":"+H21","v":568884.52380952379},null,{"$f":"C18-D18","v":568884.52380952379},null,"The mitigation option: Landfill gas plant"]
[null,"Ann. Fuelcost",null,{"$f":"H36*1000*H15","v":0},{"$f":"C19-D19","v":0},null,"Cost of CH4 collection and flaring system",2481096,"US$"]
[null,"Total annual cost",{"$f":"SUM(C17:C19)","v":812968.37380952376},{"$f":"SUM(D17:D19)","v":0},{"$f":"C20-D20","v":812968.37380952376},null,"Cost of power generation & connection",2400581,"US$"]
[null,null,null,null,null,null,"O&M",{"$f":"11946575/21","v":568884.52380952379},"US$/year"]
[null,"Annual emissions (tons)","Tons","Tons","Reduction",null,"1 tonne CH4 = ",{"$f":"+Assumptions!F64","v":28},"tonnes CO2"]
[null,"Fuel  CO2-eq. emission",null,{"$f":"H36*H41","v":0},{"$f":"D23-C23","v":0},null,"Solid waste",200,"tonnes/day"]
[null,"CH4 emission",null,{"$f":"H30*H22","v":165886.95200000002},null,null,"Annual waste recieved",{"$f":"H23*365","v":73000},"tonnes/yr"]
[null,"Total CO2-eq. emission ",{"$f":"C23+C24","v":0},{"$f":"D23+D24","v":165886.95200000002},{"$f":"D25-C25","v":165886.95200000002},null,"Organic carbon content ",0.17]
[null,null,null,null,null,null,"Degradable organic carbon emitted",0.77]
[null,"US$/ton CO2-eq.",null,null,{"$f":"IF(E25<>0,E20/E25,0)","v":4.9007373033746724},null,"Fraction of CH4 in landfill gas",0.5]
[null,null,null,null,null,null,"Emission factor",{"$f":"1000*H25*H26*H27*16/12","v":87.266666666666666},"kgCH4/ton waste"]
[null,null,null,null,null,null,"Fraction of Waste Disposed to SWDS",0.93]
[null,null,null,null,null,null,"Annual CH4 production",{"$f":"H24*H28*H29/1000","v":5924.5340000000006},"tonnes CH4"]
[null,null,null,null,null,null,"CH4 density",0.67100000000000004,"kg/m3"]
[null,null,null,null,null,null,"Annual CH4 production",{"$f":"H24*H28*H29/H31","v":8829409.8360655755},"m3 CH4"]
[null,null,null,null,null,null,"CH4 calorific value",39,"MJ/m3"]
[null,null,null,null,null,null,"Capacity factor",{"$f":"8000/8760","v":0.91324200913242004}]
[null,null,null,null,null,null,"Size of generator",{"$f":"H32*H33/3.6/1000*H37/(8760*H34)","v":3.9456425204918042},"MW"]
[null,null,null,null,null,null,"Electricity produced",{"$f":"H35*8760*H34","v":31565.140163934433},"MWh"]
[null,null,null,null,null,null,"Generator elec. efficiency",0.33]
[null,null,null,null,null,null,"Annual fuel used",{"$f":"H36*3.6","v":113634.50459016397},"GJ"]
[]
[null,null,null,null,null,null,"Reference option: No landfill gas plant"]
[]
[]
[]
[]
[]
[]
[null,"Composting of Municipal Solid Waste - 1000 t/day"]
[null,"Costs in","Reduction","Reference","Increase",null,"General inputs:"]
[null,"US$","Option","Option","(Red.-Ref.)",null,"Discount rate ",{"$f":"+DiscountRate","v":0}]
[null,"Total investment",{"$f":"+H60*1000000","v":8127776.0625000009},null,{"$f":"C50-D50","v":8127776.0625000009},null,"1 tonne CH4 = ",{"$f":"+Assumptions!F64","v":28},"tonnes CO2"]
[null,"Project life (years)",15]
[null,"Ann. Levelized investment",{"$f":"IF(C51=0,0,PMT(+H49,C51,-C50))","v":541851.73750000005},null,{"$f":"C52-D52","v":541851.73750000005},null,"The mitigation option: Composting plant"]
[null,"Ann. O&M",{"$f":"H61*H56","v":144636.953125},null,{"$f":"C53-D53","v":144636.953125},null,"MSW processed",1000,"tonnes/day"]
[null,"Annual income",null,{"$f":"H56*H57+H58*H59","v":1268140.0497151499},null,null,"Annual waste received",{"$f":"H53*365","v":365000},"tonnes/yr"]
[null,"Ann. Fuelcost",null,null,{"$f":"C55-D55","v":0},null,"Compost production",50,"Tonnes/day"]
[null,"Total annual cost",{"$f":"SUM(C52:C55)","v":686488.69062500005},{"$f":"SUM(D52:D55)","v":1268140.0497151499},{"$f":"C56-D56","v":-581651.35909014987},null,"Compost production",{"$f":"H55*365","v":18250},"Tonnes/year"]
[null,null,null,null,null,null,"Sales price of compost",{"$f":"900000/16000","v":56.25},"US$/ton"]
[null,"Annual emissions (tons)","Tons","Tons","Reduction",null,"Amount of recycled plastic",2000,"Tonnes/year"]
[null,"Fuel  CO2-eq. emission",null,null,{"$f":"D59-C59","v":0},null,"Sales price of plastic",{"$f":"2000000/16557.83","v":120.78877485757492},"US$/ton"]
[null,"CH4 emission",null,{"$f":"H70*H50","v":5515709.472000001},null,null,"Investment",{"$f":"650222.085/16000/5","v":8.1277760625000006},"Million US$"]
[null,"Total CO2-eq. emission ",{"$f":"C59+C60","v":0},{"$f":"D59+D60","v":5515709.472000001},{"$f":"D61-C61","v":5515709.472000001},null,"O&M",{"$f":"126805/16000","v":7.9253125000000004},"US$/ton waste"]
[]
[null,"US$/ton CO2-eq.",null,null,{"$f":"IF(E61<>0,E56/E61,0)","v":-0.10545358888876404},null,"Reference option: No composting plant"]
[null,null,null,null,null,null,"Organic carbon content ",0.9]
[null,null,null,null,null,null,"Degradable organic carbon emitted",0.78]
[null,null,null,null,null,null,"Fraction of CH4 in landfill gas",0.62,"(IPCCC 2006 Guideline)"]
[null,null,null,null,null,null,{"$f":"+G54","v":"Annual waste received"},{"$f":"+H54","v":365000},"tonnes/yr"]
[null,null,null,null,null,null,"Emission factor",{"$f":"H53*H64*H65*H66*16/12","v":580.32000000000005},"kgCH4/ton waste"]
[null,null,null,null,null,null,"Fraction of Waste Disposed to SWDS",0.93]
[null,null,null,null,null,null,"Annual CH4 production",{"$f":"H54*H68*H69/1000","v":196989.62400000004},"tonnes CH4"]
[]
[]
[]
[]
[]
[null,"4 MW Incineration plant (200 tonnes/day)"]
[null,"Costs in","Reduction","Reference","Increase",null,"General inputs:"]
[null,"US$","Option","Option","(Red.-Ref.)",null,"Discount rate ",{"$f":"+DiscountRate","v":0}]
[null,"Total investment",{"$f":"H82","v":57778401},null,{"$f":"C79-D79","v":57778401},null,"Reference electricity price",{"$f":"+Assumptions!C35","v":0},"US$/kWh"]
[null,"Project life (years)",20,null,null,null,"CO2-eq. emission coefficient",{"$f":"+Assumptions!C39","v":0},"tCO2/MWh"]
[null,"Ann. Levelized investment",{"$f":"IF(C80=0,0,PMT(+H78,C80,-C79))","v":2888920.05},null,{"$f":"C81-D81","v":2888920.05},null,"The mitigation option: Incineration plant"]
[null,"Ann. O&M",{"$f":"+H83*H82","v":2888920.0500000003},null,{"$f":"C82-D82","v":2888920.0500000003},null,"Cost of incineration plant",57778401,"US$"]
[null,"Ann. Fuelcost",null,{"$f":"H88*1000*H79","v":0},{"$f":"C83-D83","v":0},null,"Annual O&M",0.05,"Pct of investment"]
[null,"Total annual cost",{"$f":"SUM(C81:C83)","v":5777840.0999999996},{"$f":"SUM(D81:D83)","v":0},{"$f":"C84-D84","v":5777840.0999999996},null,"Solid waste",200,"tonnes/day"]
[null,null,null,null,null,null,"Annual waste recieved",{"$f":"H84*365","v":73000},"tonnes/yr"]
[null,"Annual emissions (tons)","Tons","Tons","Reduction",null,"Size of generator",4,"MW"]
[null,"Fuel  CO2-eq. emission",null,{"$f":"H88*H80","v":0},{"$f":"D87-C87","v":0},null,"Capacity factor",{"$f":"8000/8760","v":0.91324200913242004}]
[null,"Landfill emission",null,{"$f":"+H90*21","v":124415.21400000001},null,null,"Electricity produced",{"$f":"H86*8760*H87","v":32000},"MWh"]
[null,"Total CO2-eq. emission ",{"$f":"C87+C88","v":0},{"$f":"D87+D88","v":124415.21400000001},{"$f":"D89-C89","v":124415.21400000001},null,"Reference option: CH4 emissions from the landfill & fossil fueled power"]
[null,null,null,null,null,null,"Annual CH4 production",{"$f":"+H30","v":5924.5340000000006},"tonnes CH4"]
[null,"US$/ton CO2-eq.",null,null,{"$f":"IF(E89<>0,E84/E89,0)","v":46.439980403039769}]
[]
[null,null,null,null,null,null,"Cost of electricity",{"$f":"+C84/H88","v":180.55750312499998},"US$/kWh"]
[null,"Notes:"]
[null,"Data from the Thilafushi incineration plant in the Maldives"]
[]
[]
[]
[]
[]
[]
[]
[null,"Landfill gas flaring - 1 t/day"]
[null,"Costs in","Reduction","Reference","Increase",null,"General inputs:"]
[null,"US$","Option","Option","(Red.-Ref.)",null,"Discount rate ",{"$f":"+DiscountRate","v":0}]
[null,"Total investment",{"$f":"H109*1000000*200/H111","v":690476190.47619045},null,{"$f":"C106-D106","v":690476190.47619045},null,"1 tonne CH4 = ",{"$f":"+Assumptions!F64","v":28},"tonnes CO2"]
[null,"Project life (years)",20]
[null,"Ann. Levelized investment",{"$f":"IF(C107=0,0,PMT(+H105,C107,-C106))","v":34523809.523809522},null,{"$f":"C108-D108","v":34523809.523809522},null,"The mitigation option: Landfill gas flaring plant"]
[null,"Ann. O&M",{"$f":"H110*1000000*200/H111","v":44523809.52380953},null,{"$f":"C109-D109","v":44523809.52380953},null,"Cost of CH4 collection and flaring system",{"$f":"(1.7+1.2)/0.84","v":3.4523809523809526},"MUS$"]
[null,"Ann. Fuelcost",null,null,{"$f":"C110-D110","v":0},null,"O&M",{"$f":"0.187/0.84","v":0.22261904761904763},"MUS$/year"]
[null,"Total annual cost",{"$f":"SUM(C108:C110)","v":79047619.047619045},{"$f":"SUM(D108:D110)","v":0},{"$f":"C111-D111","v":79047619.047619045},null,"Solid waste",1,"tonnes/day"]
[null,null,null,null,null,null,"Annual waste recieved",{"$f":"H111*365","v":365},"tonnes/yr"]
[null,"Annual emissions (tons)","Tons","Tons","Reduction",null,"Organic carbon content ",0.17]
[null,"Fuel  CO2-eq. emission",null,null,{"$f":"D114-C114","v":0},null,"Degradable organic carbon emitted",0.77]
[null,"CH4 emission",null,{"$f":"+H118*H106*200/H111","v":165886.95200000002},null,null,"Fraction of CH4 in landfill gas",0.5]
[null,"Total CO2-eq. emission ",{"$f":"C114+C115","v":0},{"$f":"D114+D115","v":165886.95200000002},{"$f":"D116-C116","v":165886.95200000002},null,"Emission factor",{"$f":"1000*H113*H114*H115*16/12","v":87.266666666666666},"kgCH4/ton waste"]
[null,null,null,null,null,null,"Fraction of Waste Disposed to SWDS",0.93]
[null,"US$/ton CO2-eq.",null,null,{"$f":"IF(E116<>0,E111/E116,0)","v":476.51498863888366},null,"Annual CH4 production",{"$f":"H112*H116*H117/1000","v":29.622670000000003},"tonnes CH4"]
[null,null,null,null,null,null,"CH4 density",0.67100000000000004,"kg/m3"]
[null,null,null,null,null,null,"Annual CH4 production",{"$f":"H112*H116*H117/H119","v":44147.049180327871},"m3 CH4"]
[null,null,null,null,null,null,"CH4 calorific value",39,"MJ/m3"]
[]
[]
[null,null,null,null,null,null,"Reference option: No landfill gas flaring plant"]
[]
[]
[]
[]
[]
[]
[null,"Biogas from MSW (1000 t MSW/yr)"]
[null,"Costs in","Reduction","Reference","Increase",null,"General inputs:"]
[null,"US$","Option","Option","(Red.-Ref.)",null,"Discount rate ",{"$f":"+DiscountRate","v":0}]
[null,"Total investment",{"$f":"H137*1000","v":20000},null,{"$f":"C134-D134","v":20000},null,"1 tonne CH4 = ",{"$f":"+Assumptions!F64","v":28},"tonnes CO2"]
[null,"Project life (years)",20]
[null,"Ann. Levelized investment",{"$f":"IF(C135=0,0,PMT(+H133,C135,-C134))","v":1000},null,{"$f":"C136-D136","v":1000},null,"The mitigation option: Biogas plant making biogas for kitchen"]
[null,"Ann. O&M",{"$f":"H137*1000*H138","v":800},null,{"$f":"C137-D137","v":800},null,"Cost of biogas plant",20,"kUS$"]
[null,"Ann. Fuelcost",null,null,{"$f":"C138-D138","v":0},null,"O&M",0.04]
[null,"Total annual cost",{"$f":"SUM(C136:C138)","v":1800},{"$f":"SUM(D136:D138)","v":0},{"$f":"C139-D139","v":1800},null,"Annual waste received",1000,"tonnes/yr"]
[null,null,null,null,null,null,"Organic carbon content ",0.9]
[null,"Annual emissions (tons)","Tons","Tons","Reduction",null,"Degradable organic carbon emitted",0.78]
[null,"Fuel  CO2-eq. emission",null,null,{"$f":"D142-C142","v":0},null,"Fraction of CH4 in landfill gas",0.62]
[null,"CH4 emission",null,{"$f":"+H144*H134","v":16248.960000000001},null,null,"Emission factor",{"$f":"1000*H140*H141*H142*16/12","v":580.32000000000005},"kgCH4/ton waste"]
[null,"Total CO2-eq. emission ",{"$f":"C142+C143","v":0},{"$f":"D142+D143","v":16248.960000000001},{"$f":"D144-C144","v":16248.960000000001},null,"Annual CH4 production",{"$f":"H139*H143/1000","v":580.32000000000005},"tonnes CH4"]
[null,null,null,null,null,null,"CH4 density",0.67100000000000004,"kg/m3"]
[null,"US$/ton CO2-eq.",null,null,{"$f":"IF(E144<>0,E139/E144,0)","v":0.11077632045373981},null,"Annual CH4 production",{"$f":"H143/H145*1000","v":864858.42026825645},"m3 CH4"]
[null,null,null,null,null,null,"CH4 calorific value",39,"MJ/m3"]
[]
[]
[null,null,null,null,null,null,"Reference option: MSW landfilled"]
[]
[]
[]
[]
[]
[null,"RDF from MSW (200 t MSW/day)"]
[null,"Costs in","Reduction","Reference","Increase",null,"General inputs:"]
[null,"US$","Option","Option","(Red.-Ref.)",null,"Discount rate ",{"$f":"+DiscountRate","v":0}]
[null,"Total investment",{"$f":"H162*1000*200/700","v":6800000},null,{"$f":"C159-D159","v":6800000},null,"Reference electricity price",{"$f":"+Assumptions!C35","v":0},"US$/kWh"]
[null,"Project life (years)",20,null,null,null,"CO2-eq. emission coefficient",{"$f":"+Assumptions!C39","v":0},"tCO2/MWh"]
[null,"Ann. Levelized investment",{"$f":"IF(C160=0,0,PMT(+H158,C160,-C159))","v":340000},null,{"$f":"C161-D161","v":340000},null,"The mitigation option: MSW turned into compost and RDF for power"]
[null,"Ann. O&M",{"$f":"H162*1000*H163","v":714000},null,{"$f":"C162-D162","v":714000},null,"Cost of plant",23800,"kUS$"]
[null,"Ann. Fuelcost",null,{"$f":"+H170*200/700","v":0},{"$f":"C163-D163","v":0},null,"O&M",0.03]
[null,"Total annual cost",{"$f":"SUM(C161:C163)","v":1054000},{"$f":"SUM(D161:D163)","v":0},{"$f":"C164-D164","v":1054000},null,"Daily waste received",700,"tonnes/day"]
[null,null,null,null,null,null,"Annual waste received",{"$f":"700*365","v":255500},"tonnes/yr"]
[null,"Annual emissions (tons)","Tons","Tons","Reduction",null,"Size of power plant",11,"MW"]
[null,"Fuel  CO2-eq. emission",null,null,{"$f":"D167-C167","v":0},null,"Electicity production",66400,"MWh/yr"]
[null,"CH4 emission"]
[null,"Total CO2-eq. emission ",null,null,{"$f":"71363*200/700","v":20389.428571428572},null,"Reference option: MSW landfilled"]
[null,null,null,null,null,null,"Cost of electricity from the grid",{"$f":"H167*H159*1000","v":0},"US$ "]
[null,"US$/ton CO2-eq.",null,null,{"$f":"IF(E169<>0,E164/E169,0)","v":51.693454591314826}]
[]
[]
[]
[]
[]
[]
[]
[]
[]
[null,"Recycling of plastics  (1000 tons per year)"]
[null,"Costs in","Reduction","Reference","Increase",null,"General inputs:"]
[null,"US$","Option","Option","(Red.-Ref.)",null,"Discount rate ",{"$f":"+DiscountRate","v":0}]
[null,"Total investment",{"$f":"H188/33*1000","v":303030.30303030298},null,{"$f":"C184-D184","v":303030.30303030298},null,"Reference diesel price",{"$f":"+Assumptions!G29","v":10.367789021299378},"US$/GJ"]
[null,"Project life (years)",20,null,null,null,"Reference electricity price",{"$f":"+Assumptions!C35","v":0},"US$/kWh"]
[null,"Ann. Levelized investment",{"$f":"IF(C185=0,0,PMT(+H183,C185,-C184))","v":15151.515151515148},null,{"$f":"C186-D186","v":15151.515151515148},null,"CO2-eq. emission coefficient",{"$f":"+Assumptions!C39","v":0},"tCO2/MWh"]
[null,"Ann. O&M",{"$f":"H188*1000*H189/33","v":9090.9090909090901},null,{"$f":"C187-D187","v":9090.9090909090901},null,"The mitigation option: Recycling of plastic into granules"]
[null,"Ann. Fuelcost",{"$f":"H190*(1-H191)*H192*1000*H185/33","v":0},{"$f":"H190*(1-H191)*H196*H184/33+H195*H190*H185*1000/33","v":116637.62648961801},{"$f":"C188-D188","v":-116637.62648961801},null,"Cost of plant",10000,"kUS$"]
[null,"Cost of plastic flakes",null,{"$f":"H190*H197/33","v":120788.77485757491},{"$f":"C189-D189","v":-120788.77485757491},null,"O&M",0.03]
[null,"Total annual cost",{"$f":"SUM(C186:C189)","v":24242.42424242424},{"$f":"SUM(D186:D189)","v":237426.40134719294},{"$f":"C190-D190","v":-213183.97710476868},null,"Annual plastic waste received",33000,"tonnes/yr"]
[null,null,null,null,null,null,"Material loss in recycling process",0.25,"pct"]
[null,"Annual emissions (tons)","Tons","Tons","Reduction",null,"Electicity consumption for plastic recycling",0.76,"MWh/ton"]
[null,"Fuel  CO2-eq. emission",{"$f":"H192*H190*(1-H191)*H186/33","v":0},{"$f":"+H190*(1-H191)*H196*Assumptions!D46/1000/33+H195*H190*H186/33","v":833.25},{"$f":"D193-C193","v":833.25}]
[null,"CH4 emission",null,null,null,null,"Reference option: Production of plastic granules"]
[null,"Total CO2-eq. emission ",null,null,{"$f":"+E193","v":833.25},null,"Electicity consumption for plastic production",1.1100000000000001,"MWh/ton"]
[null,null,null,null,null,null,"Diesel consumption for plastic production",15,"GJ/ton"]
[null,"US$/ton CO2-eq.",null,null,{"$f":"IF(E195<>0,E190/E195,0)","v":-255.84635716143856},null,"Cost of plastic flakes",{"$f":"+H59","v":120.78877485757492},"US$/ton"]

{"sheet":"Marine","index":37,"n_rows":47,"n_cols":36,"rows_kept":47,"cut":false,"hidden":true,"merged":[[32,24,32,26],[37,24,37,26],[32,33,32,35],[37,33,37,35],[1,1,1,3],[2,1,2,3],[3,1,3,3],[7,33,7,35],[12,33,12,35],[7,24,7,26],[12,24,12,26]]}
[]
[null,"Menu for Wind options (click links below)"]
[null,"1 MW Tidal power"]
[null,"1 MW Wave power"]
[]
[]
[null,"1 MW Tidal power - 2025",null,null,null,null,null,null,null,null,"1 MW Tidal power - 2030",null,null,null,null,null,null,null,null,"1 MW Tidal power - 2040",null,null,null,null,null,null,null,null,"1 MW Tidal power - 2050"]
[null,"Costs in","Reduction","Reference","Increase",null,"General inputs:",null,null,null,"Costs in","Reduction","Reference","Increase",null,"General inputs:",null,null,null,"Costs in","Reduction","Reference","Increase",null,"General inputs:",null,null,null,"Costs in","Reduction","Reference","Increase",null,"General inputs:"]
[null,"US$","Option","Option","(Red.-Ref.)",null,"Discount rate ",{"$f":"DiscountRate","v":0},null,null,"US$","Option","Option","(Red.-Ref.)",null,"Discount rate ",{"$f":"DiscountRate","v":0},null,null,"US$","Option","Option","(Red.-Ref.)",null,"Discount rate ",{"$f":"DiscountRate","v":0},null,null,"US$","Option","Option","(Red.-Ref.)",null,"Discount rate ",{"$f":"DiscountRate","v":0}]
[null,"Total investment",{"$f":"H16*H15*1000","v":9000000},null,{"$f":"C10-D10","v":9000000},null,"Reference electricity price",{"$f":"+Assumptions!$C35","v":0},"US$/kWh",null,"Total investment",{"$f":"Q16*Q15*1000","v":8000000},null,{"$f":"L10-M10","v":8000000},null,"Reference electricity price",{"$f":"+Assumptions!$C35","v":0},"US$/kWh",null,"Total investment",{"$f":"Z16*Z15*1000","v":6000000},null,{"$f":"U10-V10","v":6000000},null,"Reference electricity price",{"$f":"+Assumptions!$C35","v":0},"US$/kWh",null,"Total investment",{"$f":"AI16*AI15*1000","v":6000000},null,{"$f":"AD10-AE10","v":6000000},null,"Reference electricity price",{"$f":"+Assumptions!$C35","v":0},"US$/kWh"]
[null,"Project life",20,null,null,null,"CO2-eq. emission coefficient",{"$f":"+Assumptions!$C38","v":0},"tCO2/MWh",null,"Project life",20,null,null,null,"CO2-eq. emission coefficient",{"$f":"+Assumptions!$C38","v":0},"tCO2/MWh",null,"Project life",20,null,null,null,"CO2-eq. emission coefficient",{"$f":"+Assumptions!$C38","v":0},"tCO2/MWh",null,"Project life",20,null,null,null,"CO2-eq. emission coefficient",{"$f":"+Assumptions!$C38","v":0},"tCO2/MWh"]
[null,"Lev. investment",{"$f":"IF(C11=0,0,PMT($H$9,C11,-C10))","v":450000},null,{"$f":"C12-D12","v":450000},null,null,null,null,null,"Lev. investment",{"$f":"IF(L11=0,0,PMT($Q$9,L11,-L10))","v":400000},null,{"$f":"L12-M12","v":400000},null,null,null,null,null,"Lev. investment",{"$f":"IF(U11=0,0,PMT($Z$9,U11,-U10))","v":300000},null,{"$f":"U12-V12","v":300000},null,null,null,null,null,"Lev. investment",{"$f":"IF(AD11=0,0,PMT($AI$9,AD11,-AD10))","v":300000},null,{"$f":"AD12-AE12","v":300000}]
[null,"Annual O&M",{"$f":"H14*1000","v":140000},null,{"$f":"C13-D13","v":140000},null,"Reduction option: Tidal Power",null,null,null,"Annual O&M",{"$f":"Q14*1000","v":140000},null,{"$f":"L13-M13","v":140000},null,"Reduction option: Tidal Power",null,null,null,"Annual O&M",{"$f":"Z14*1000","v":140000},null,{"$f":"U13-V13","v":140000},null,"Reduction option: Tidal Power",null,null,null,"Annual O&M",{"$f":"AI14*1000","v":140000},null,{"$f":"AD13-AE13","v":140000},null,"Reduction option: Tidal Power"]
[null,"Annual fuelcost",null,{"$f":"H18*1000*H10","v":0},{"$f":"C14-D14","v":0},null,"O&M  ",140,"US$/kW",null,"Annual fuelcost",null,{"$f":"Q18*1000*Q10","v":0},{"$f":"L14-M14","v":0},null,"O&M  ",140,"US$/kW",null,"Annual fuelcost",null,{"$f":"Z18*1000*Z10","v":0},{"$f":"U14-V14","v":0},null,"O&M  ",140,"US$/kW",null,"Annual fuelcost",null,{"$f":"AI18*1000*AI10","v":0},{"$f":"AD14-AE14","v":0},null,"O&M  ",140,"US$/kW"]
[null,"Total annual cost",{"$f":"SUM(C12:C14)","v":590000},{"$f":"SUM(D12:D14)","v":0},{"$f":"C15-D15","v":590000},null,"Activity",1,"MW",null,"Total annual cost",{"$f":"SUM(L12:L14)","v":540000},{"$f":"SUM(M12:M14)","v":0},{"$f":"L15-M15","v":540000},null,"Activity",1,"MW",null,"Total annual cost",{"$f":"SUM(U12:U14)","v":440000},{"$f":"SUM(V12:V14)","v":0},{"$f":"U15-V15","v":440000},null,"Activity",1,"MW",null,"Total annual cost",{"$f":"SUM(AD12:AD14)","v":440000},{"$f":"SUM(AE12:AE14)","v":0},{"$f":"AD15-AE15","v":440000},null,"Activity",1,"MW"]
[null,null,null,null,null,null,"Investment in Activity",9000,"US$/kW",null,null,null,null,null,null,"Investment in Activity",8000,"US$/kW",null,null,null,null,null,null,"Investment in Activity",6000,"US$/kW",null,null,null,null,null,null,"Investment in Activity",6000,"US$/kW"]
[null,"Annual emissions (tons)","Tons","Tons","Reduction",null,"Capacity factor",{"$f":"0.3*8760","v":2628},"Full time hours",null,"Annual emissions (tons)","Tons","Tons","Reduction",null,"Capacity factor",{"$f":"0.3*8760","v":2628},"Full time hours",null,"Annual emissions (tons)","Tons","Tons","Reduction",null,"Capacity factor",{"$f":"0.3*8760","v":2628},"Full time hours",null,"Annual emissions (tons)","Tons","Tons","Reduction",null,"Capacity factor",{"$f":"0.3*8760","v":2628},"Full time hours"]
[null,"Fuel  CO2-eq. emission",null,{"$f":"H18*H11","v":0},{"$f":"D18-C18","v":0},null,"Electricity production",{"$f":"H15*H17","v":2628},"MWh/ year",null,"Fuel  CO2-eq. emission",null,{"$f":"Q18*Q11","v":0},{"$f":"M18-L18","v":0},null,"Electricity production",{"$f":"Q15*Q17","v":2628},"MWh/ year",null,"Fuel  CO2-eq. emission",null,{"$f":"Z18*Z11","v":0},{"$f":"V18-U18","v":0},null,"Electricity production",{"$f":"Z15*Z17","v":2628},"MWh/ year",null,"Fuel  CO2-eq. emission",null,{"$f":"AI18*AI11","v":0},{"$f":"AE18-AD18","v":0},null,"Electricity production",{"$f":"AI15*AI17","v":2628},"MWh/ year"]
[null,"Other",null,null,null,null,"Cost of electricity produced",{"$f":"C15/H18/1000","v":0.22450532724505329},"US$/kWh",null,"Other",null,null,null,null,"Cost of electricity produced",{"$f":"L15/Q18/1000","v":0.20547945205479451},"US$/kWh",null,"Other",null,null,null,null,"Cost of electricity produced",{"$f":"U15/Z18/1000","v":0.16742770167427701},"US$/kWh",null,"Other",null,null,null,null,"Cost of electricity produced",{"$f":"AD15/AI18/1000","v":0.16742770167427701},"US$/kWh"]
[null,"Total CO2-eq. emission ",{"$f":"C18+C19","v":0},{"$f":"D18+D19","v":0},{"$f":"D20-C20","v":0},null,null,null,null,null,"Total CO2-eq. emission ",{"$f":"L18+L19","v":0},{"$f":"M18+M19","v":0},{"$f":"M20-L20","v":0},null,null,null,null,null,"Total CO2-eq. emission ",{"$f":"U18+U19","v":0},{"$f":"V18+V19","v":0},{"$f":"V20-U20","v":0},null,null,null,null,null,"Total CO2-eq. emission ",{"$f":"AD18+AD19","v":0},{"$f":"AE18+AE19","v":0},{"$f":"AE20-AD20","v":0}]
[null,null,null,null,null,null,"Reference option: No tidal turbines",null,null,null,null,null,null,null,null,"Reference option: No tidal turbines",null,null,null,null,null,null,null,null,"Reference option: No tidal turbines",null,null,null,null,null,null,null,null,"Reference option: No tidal turbines"]
[null,"US$/ton CO2-eq.",null,null,{"$f":"IF(E20<>0,E15/E20,0)","v":0},null,null,null,null,null,"US$/ton CO2-eq.",null,null,{"$f":"IF(N20<>0,N15/N20,0)","v":0},null,null,null,null,null,"US$/ton CO2-eq.",null,null,{"$f":"IF(W20<>0,W15/W20,0)","v":0},null,null,null,null,null,"US$/ton CO2-eq.",null,null,{"$f":"IF(AF20<>0,AF15/AF20,0)","v":0}]
[]
[]
[]
[]
[]
[]
[]
[]
[]
[null,"1 MW Wave power - 2025",null,null,null,null,null,null,null,null,"1 MW Wave power - 2030",null,null,null,null,null,null,null,null,"1 MW Wave power - 2040",null,null,null,null,null,null,null,null,"1 MW Wave power - 2050"]
[null,"Costs in","Reduction","Reference","Increase",null,"General inputs:",null,null,null,"Costs in","Reduction","Reference","Increase",null,"General inputs:",null,null,null,"Costs in","Reduction","Reference","Increase",null,"General inputs:",null,null,null,"Costs in","Reduction","Reference","Increase",null,"General inputs:"]
[null,"US$","Option","Option","(Red.-Ref.)",null,"Discount rate ",{"$f":"DiscountRate","v":0},null,null,"US$","Option","Option","(Red.-Ref.)",null,"Discount rate ",{"$f":"DiscountRate","v":0},null,null,"US$","Option","Option","(Red.-Ref.)",null,"Discount rate ",{"$f":"DiscountRate","v":0},null,null,"US$","Option","Option","(Red.-Ref.)",null,"Discount rate ",{"$f":"DiscountRate","v":0}]
[null,"Total investment",{"$f":"H41*H40*1000","v":10000000},null,{"$f":"C35-D35","v":10000000},null,"Reference electricity price",{"$f":"+Assumptions!$C35","v":0},"US$/kWh",null,"Total investment",{"$f":"Q41*Q40*1000","v":9000000},null,{"$f":"L35-M35","v":9000000},null,"Reference electricity price",{"$f":"+Assumptions!$C35","v":0},"US$/kWh",null,"Total investment",{"$f":"Z41*Z40*1000","v":6000000},null,{"$f":"U35-V35","v":6000000},null,"Reference electricity price",{"$f":"+Assumptions!$C35","v":0},"US$/kWh",null,"Total investment",{"$f":"AI41*AI40*1000","v":6000000},null,{"$f":"AD35-AE35","v":6000000},null,"Reference electricity price",{"$f":"+Assumptions!$C35","v":0},"US$/kWh"]
[null,"Project life",20,null,null,null,"CO2-eq. emission coefficient",{"$f":"+Assumptions!$C38","v":0},"tCO2/MWh",null,"Project life",20,null,null,null,"CO2-eq. emission coefficient",{"$f":"+Assumptions!$C38","v":0},"tCO2/MWh",null,"Project life",20,null,null,null,"CO2-eq. emission coefficient",{"$f":"+Assumptions!$C38","v":0},"tCO2/MWh",null,"Project life",20,null,null,null,"CO2-eq. emission coefficient",{"$f":"+Assumptions!$C38","v":0},"tCO2/MWh"]
[null,"Lev. investment",{"$f":"IF(C36=0,0,PMT($H$34,C36,-C35))","v":500000},null,{"$f":"C37-D37","v":500000},null,null,null,null,null,"Lev. investment",{"$f":"IF(L36=0,0,PMT($Q$34,L36,-L35))","v":450000},null,{"$f":"L37-M37","v":450000},null,null,null,null,null,"Lev. investment",{"$f":"IF(U36=0,0,PMT($Z$34,U36,-U35))","v":300000},null,{"$f":"U37-V37","v":300000},null,null,null,null,null,"Lev. investment",{"$f":"IF(AD36=0,0,PMT($AI$34,AD36,-AD35))","v":300000},null,{"$f":"AD37-AE37","v":300000}]
[null,"Annual O&M",{"$f":"H39*1000","v":180000},null,{"$f":"C38-D38","v":180000},null,"Reduction option: Wave Power",null,null,null,"Annual O&M",{"$f":"Q39*1000","v":180000},null,{"$f":"L38-M38","v":180000},null,"Reduction option: Wave Power",null,null,null,"Annual O&M",{"$f":"Z39*1000","v":180000},null,{"$f":"U38-V38","v":180000},null,"Reduction option: Wave Power",null,null,null,"Annual O&M",{"$f":"AI39*1000","v":180000},null,{"$f":"AD38-AE38","v":180000},null,"Reduction option: Wave Power"]
[null,"Annual fuelcost",null,{"$f":"H43*1000*H35","v":0},{"$f":"C39-D39","v":0},null,"O&M  ",180,"US$/kW",null,"Annual fuelcost",null,{"$f":"Q43*1000*Q35","v":0},{"$f":"L39-M39","v":0},null,"O&M  ",180,"US$/kW",null,"Annual fuelcost",null,{"$f":"Z43*1000*Z35","v":0},{"$f":"U39-V39","v":0},null,"O&M  ",180,"US$/kW",null,"Annual fuelcost",null,{"$f":"AI43*1000*AI35","v":0},{"$f":"AD39-AE39","v":0},null,"O&M  ",180,"US$/kW"]
[null,"Total annual cost",{"$f":"SUM(C37:C39)","v":680000},{"$f":"SUM(D37:D39)","v":0},{"$f":"C40-D40","v":680000},null,"Activity",1,"MW",null,"Total annual cost",{"$f":"SUM(L37:L39)","v":630000},{"$f":"SUM(M37:M39)","v":0},{"$f":"L40-M40","v":630000},null,"Activity",1,"MW",null,"Total annual cost",{"$f":"SUM(U37:U39)","v":480000},{"$f":"SUM(V37:V39)","v":0},{"$f":"U40-V40","v":480000},null,"Activity",1,"MW",null,"Total annual cost",{"$f":"SUM(AD37:AD39)","v":480000},{"$f":"SUM(AE37:AE39)","v":0},{"$f":"AD40-AE40","v":480000},null,"Activity",1,"MW"]
[null,null,null,null,null,null,"Investment in Activity",10000,"US$/kW",null,null,null,null,null,null,"Investment in Activity",9000,"US$/kW",null,null,null,null,null,null,"Investment in Activity",6000,"US$/kW",null,null,null,null,null,null,"Investment in Activity",6000,"US$/kW"]
[null,"Annual emissions (tons)","Tons","Tons","Reduction",null,"Capacity factor",{"$f":"0.35*8760","v":3066},"Full time hours",null,"Annual emissions (tons)","Tons","Tons","Reduction",null,"Capacity factor",{"$f":"0.35*8760","v":3066},"Full time hours",null,"Annual emissions (tons)","Tons","Tons","Reduction",null,"Capacity factor",{"$f":"0.35*8760","v":3066},"Full time hours",null,"Annual emissions (tons)","Tons","Tons","Reduction",null,"Capacity factor",{"$f":"0.35*8760","v":3066},"Full time hours"]
[null,"Fuel  CO2-eq. emission",null,{"$f":"H43*H36","v":0},{"$f":"D43-C43","v":0},null,"Electricity production",{"$f":"H40*H42","v":3066},"MWh/ year",null,"Fuel  CO2-eq. emission",null,{"$f":"Q43*Q36","v":0},{"$f":"M43-L43","v":0},null,"Electricity production",{"$f":"Q40*Q42","v":3066},"MWh/ year",null,"Fuel  CO2-eq. emission",null,{"$f":"Z43*Z36","v":0},{"$f":"V43-U43","v":0},null,"Electricity production",{"$f":"Z40*Z42","v":3066},"MWh/ year",null,"Fuel  CO2-eq. emission",null,{"$f":"AI43*AI36","v":0},{"$f":"AE43-AD43","v":0},null,"Electricity production",{"$f":"AI40*AI42","v":3066},"MWh/ year"]
[null,"Other",null,null,null,null,"Cost of electricity produced",{"$f":"C40/H43/1000","v":0.2217873450750163},"US$/kWh",null,"Other",null,null,null,null,"Cost of electricity produced",{"$f":"L40/Q43/1000","v":0.20547945205479451},"US$/kWh",null,"Other",null,null,null,null,"Cost of electricity produced",{"$f":"U40/Z43/1000","v":0.15655577299412918},"US$/kWh",null,"Other",null,null,null,null,"Cost of electricity produced",{"$f":"AD40/AI43/1000","v":0.15655577299412918},"US$/kWh"]
[null,"Total CO2-eq. emission ",{"$f":"C43+C44","v":0},{"$f":"D43+D44","v":0},{"$f":"D45-C45","v":0},null,null,null,null,null,"Total CO2-eq. emission ",{"$f":"L43+L44","v":0},{"$f":"M43+M44","v":0},{"$f":"M45-L45","v":0},null,null,null,null,null,"Total CO2-eq. emission ",{"$f":"U43+U44","v":0},{"$f":"V43+V44","v":0},{"$f":"V45-U45","v":0},null,null,null,null,null,"Total CO2-eq. emission ",{"$f":"AD43+AD44","v":0},{"$f":"AE43+AE44","v":0},{"$f":"AE45-AD45","v":0}]
[null,null,null,null,null,null,"Reference option: No wave power",null,null,null,null,null,null,null,null,"Reference option: No wave power",null,null,null,null,null,null,null,null,"Reference option: No wave power",null,null,null,null,null,null,null,null,"Reference option: No wave power"]
[null,"US$/ton CO2-eq.",null,null,{"$f":"IF(E45<>0,E40/E45,0)","v":0},null,null,null,null,null,"US$/ton CO2-eq.",null,null,{"$f":"IF(N45<>0,N40/N45,0)","v":0},null,null,null,null,null,"US$/ton CO2-eq.",null,null,{"$f":"IF(W45<>0,W40/W45,0)","v":0},null,null,null,null,null,"US$/ton CO2-eq.",null,null,{"$f":"IF(AF45<>0,AF40/AF45,0)","v":0}]

{"sheet":"Methane avoidance","index":38,"n_rows":120,"n_cols":9,"rows_kept":120,"cut":false,"hidden":true,"merged":[[94,6,94,8],[9,6,9,8],[12,6,12,8],[63,6,63,8],[1,1,1,3],[3,1,3,3],[5,1,5,3],[6,1,6,3],[91,6,91,8],[36,6,36,8],[39,6,39,8]]}
[]
[null,"Menu for Methane Avoidance options (click links below)"]
[]
[null,"Biogas at rural farms replacing kerosen"]
[null,"Biogas at rural farms replacing nonrenewable fuelwood"]
[null,"Biogas at big farms"]
[null,"Biogas from industrial waste water "]
[]
[null,"Biogas at rural farms (1000 units) replacing kerosene"]
[null,"Costs in","Reduction","Reference","Increase",null,"General inputs:"]
[null,"US$","Option","Option","(Red.-Ref.)",null,"Discount rate ",{"$f":"+DiscountRate","v":0}]
[null,"Total investment",{"$f":"H14*H15","v":253000},null,{"$f":"C12-D12","v":253000}]
[null,"Project life",20,null,null,null,"Reduction option: Biogas for cooking"]
[null,"Lev. investment",{"$f":"IF(C13=0,0,PMT($H$11,C13,-C12))","v":12650},null,{"$f":"C14-D14","v":12650},null,"Activity",1000,"biogas plant"]
[null,"Annual O&M",null,null,{"$f":"C15-D15","v":0},null,"Cost of digester & stove",{"$f":"273-20","v":253},"US$"]
[null,"Annual fuelcost",null,{"$f":"H26*H28*365*1000","v":210066.40666174761},{"$f":"C16-D16","v":-210066.40666174761},null,"Production of biogas",2,"m3/day"]
[null,"Total annual cost",{"$f":"SUM(C14:C16)","v":12650},{"$f":"SUM(D14:D16)","v":210066.40666174761},{"$f":"C17-D17","v":-197416.40666174761},null,"CH4 content of biogas",0.6]
[null,null,null,null,null,null,"Calorific value of biogas",{"$f":"+Assumptions!O31*H17","v":23.4},"MJ/m3"]
[null,"Annual emissions (tons)","Tons","Tons","Reduction",null,"Combustion efficiency",0.6]
[null,"Fuel  CO2-eq. emission",0,{"$f":"H29*H30*H14/1000","v":1227.6264000000001},{"$f":"D20-C20","v":1227.6264000000001},null,"Available energy for cooking",{"$f":"H16*H18*H19","v":28.08},"MJ/day"]
[null,"Other"]
[null,"Total CO2-eq. emission ",{"$f":"C20+C21","v":0},{"$f":"D20+D21","v":1227.6264000000001},{"$f":"D22-C22","v":1227.6264000000001},null,"Reference option: Kerosene for cooking"]
[null,null,null,null,null,null,"Available energy for cooking",{"$f":"+H20","v":28.08},"MJ/day"]
[null,"US$/ton CO2-eq.",null,null,{"$f":"IF(E22<>0,E17/E22,0)","v":-160.8114705432757},null,"Calorific value of kerosene",{"$f":"+Assumptions!J$31","v":44.75},"MJ/kg"]
[null,null,null,null,null,null,"Efficiency of traditional Stove",0.6]
[null,null,null,null,null,null,"Cost of kerosene",{"$f":"+Assumptions!J$28","v":0.44025157232704398},"US$/l"]
[null,null,null,null,null,null,"Use of kerosene",{"$f":"H23/H24/H25","v":1.0458100558659218},"kg/day"]
[null,null,null,null,null,null,"Use of kerosene",{"$f":"H27/Assumptions!J$30","v":1.3072625698324021},"l/day"]
[null,null,null,null,null,null,"Use of kerosene",{"$f":"H27*365*H24/1000","v":17.082000000000001},"GJ/yr"]
[null,null,null,null,null,null,"CO2-eq. emission coefficient",{"$f":"+Assumptions!D$49","v":71.866666666666674},"kg CO2/GJ"]
[]
[]
[]
[]
[]
[null,"Biogas at rural farms (1000 units) replacing nonrenewable fuelwood"]
[null,"Costs in","Reduction","Reference","Increase",null,"General inputs:"]
[null,"US$","Option","Option","(Red.-Ref.)",null,"Discount rate ",{"$f":"+DiscountRate","v":0}]
[null,"Total investment",{"$f":"H41*H42","v":273000},null,{"$f":"C39-D39","v":273000}]
[null,"Project life",20,null,null,null,"Reduction option: Biogas for cooking"]
[null,"Lev. investment",{"$f":"IF(C40=0,0,PMT($H$38,C40,-C39))","v":13650},null,{"$f":"C41-D41","v":13650},null,"Activity",1000,"biogas plant"]
[null,"Annual O&M",null,null,{"$f":"C42-D42","v":0},null,"Cost of digester & stove",273,"US$"]
[null,"Annual fuelcost",null,{"$f":"H53*H55*1000*1000","v":0},{"$f":"C43-D43","v":0},null,"Production of biogas",2,"m3/day"]
[null,"Total annual cost",{"$f":"SUM(C41:C43)","v":13650},{"$f":"SUM(D41:D43)","v":0},{"$f":"C44-D44","v":13650},null,"CH4 content of biogas",0.6]
[null,null,null,null,null,null,"Calorific value of biogas",{"$f":"+Assumptions!O$31*H44","v":23.4},"MJ/m3"]
[null,"Annual emissions (tons)","Tons","Tons","Reduction",null,"Combustion efficiency",0.6]
[null,"Fuel  CO2-eq. emission",0,{"$f":"+H56*44/12*H57*H41","v":11274.12},{"$f":"D47-C47","v":11274.12},null,"Available energy for cooking",{"$f":"H43*H45*H46","v":28.08},"MJ/day"]
[null,"Other"]
[null,"Total CO2-eq. emission ",{"$f":"C47+C48","v":0},{"$f":"D47+D48","v":11274.12},{"$f":"D49-C49","v":11274.12},null,"Reference option: Nonrenewable fuelwood for cooking"]
[null,null,null,null,null,null,"Available energy for cooking",{"$f":"+H47","v":28.08},"MJ/day"]
[null,"US$/ton CO2-eq.",null,null,{"$f":"IF(E49<>0,E44/E49,0)","v":1.2107375121073751},null,"Calorific value of wood",15,"MJ/kg"]
[null,null,null,null,null,null,"Efficiency of traditional Stove",0.1]
[null,null,null,null,null,null,"Cost of fuelwood",0,"US$/kg"]
[null,null,null,null,null,null,"Use of wood",{"$f":"H50/H51/H52","v":18.72},"kg/day"]
[null,null,null,null,null,null,"Use of wood",{"$f":"H54*365/1000","v":6.8327999999999989},"t wood/yr"]
[null,null,null,null,null,null,"Carbon content of the wood",{"$f":"H55/2","v":3.4163999999999994},"t C/year"]
[null,null,null,null,null,null,"Nonrenewable fraction of wood",0.9]
[]
[]
[]
[]
[]
[null,"Biogas at pig farms (1 unit)"]
[null,"Costs in","Reduction","Reference","Increase",null,"General inputs:"]
[null,"US$","Option","Option","(Red.-Ref.)",null,"Discount rate ",{"$f":"+DiscountRate","v":0}]
[null,"Total investment",{"$f":"H71*H72*1000000","v":2879581.1518324609},null,{"$f":"C66-D66","v":2879581.1518324609},null,"Reference electricity price",{"$f":"+Assumptions!C$35","v":0},"US$/kWh"]
[null,"Project life",15,null,null,null,"CO2-eq. emission coefficient",{"$f":"+Assumptions!C$39","v":0},"tCO2/MWh"]
[null,"Lev. investment",{"$f":"IF(C67=0,0,PMT($H$65,C67,-C66))","v":191972.07678883072},null,{"$f":"C68-D68","v":191972.07678883072},null,"GWP for CH4",{"$f":"+Assumptions!F$64","v":28}]
[null,"Annual O&M",{"$f":"H71*H73*1000000","v":420287.95811518328},null,{"$f":"C69-D69","v":420287.95811518328}]
[null,"Annual fuelcost",null,{"$f":"H71*H80*H66*1000","v":0},{"$f":"C70-D70","v":0},null,"Reduction option: Biogas for electricity production"]
[null,"Total annual cost",{"$f":"SUM(C68:C70)","v":612260.03490401397},{"$f":"SUM(D68:D70)","v":0},{"$f":"C71-D71","v":612260.03490401397},null,"Activity",1,"biogas plant"]
[null,null,null,null,null,null,"Cost of digester & stove",{"$f":"22/7.64","v":2.8795811518324608},"Million US$"]
[null,"Annual emissions (tons)","Tons","Tons","Reduction",null,"O&M",{"$f":"3.211/7.64","v":0.42028795811518327},"Million US$/yr"]
[null,"Fuel  CO2-eq. emission",0,{"$f":"H71*H80*H67","v":0},{"$f":"D74-C74","v":0},null,"Size of generator",1.25,"MW"]
[null,"CH4 from manure",null,{"$f":"H71*H75*H68","v":88480},null,null,"Production of biogas",3160,"tCH4/yr"]
[null,"Total CO2-eq. emission ",{"$f":"C74+C75","v":0},{"$f":"D74+D75","v":88480},{"$f":"D76-C76","v":88480},null,"CH4 density",6.7000000000000002E-4,"t/m3"]
[null,null,null,null,null,null,"Calorific value of CH4",{"$f":"+Assumptions!O31","v":39},"MJ/m3"]
[null,"US$/ton CO2-eq.",null,null,{"$f":"IF(E76<>0,E71/E76,0)","v":6.9197562715191454},null,"Available energy",{"$f":"+H75/H76*H77/1000","v":183940.29850746269},"GJ/year"]
[null,null,null,null,null,null,"Generator efficiency",0.2]
[null,null,null,null,null,null,"Electricity production",{"$f":"H78/3.6*H79","v":10218.905472636818},"MWh/yr"]
[]
[null,null,null,null,null,null,"Reference option: No biogas plant"]
[]
[]
[]
[]
[]
[]
[]
[]
[null,"Biogas from industrial waste water (1 unit)"]
[null,"Costs in","Reduction","Reference","Increase",null,"General inputs:"]
[null,"US$","Option","Option","(Red.-Ref.)",null,"Discount rate ",{"$f":"+DiscountRate","v":0}]
[null,"Total investment",{"$f":"(H98+H99)*H115","v":4968493.1506849313},null,{"$f":"C94-D94","v":4968493.1506849313},null,"GWP for CH4",{"$f":"+Assumptions!F$64","v":28}]
[null,"Project life",20,null,null,null,"Reduction option: Biogas from waste water"]
[null,"Lev. investment",{"$f":"IF(C95=0,0,PMT($H$93,C95,-C94))","v":248424.65753424657},null,{"$f":"C96-D96","v":248424.65753424657},null,"O&M  ",0.04]
[null,"Annual O&M",{"$f":"C94*H96","v":198739.72602739726},null,{"$f":"C97-D97","v":198739.72602739726},null,"Activity",1,"biogas plant"]
[null,"Annual fuelcost",null,{"$f":"H120*H118*1000","v":0},{"$f":"C98-D98","v":0},null,"Investment in digester",700,"US$/kW"]
[null,"Total annual cost",{"$f":"SUM(C96:C98)","v":447164.38356164383},{"$f":"SUM(D96:D98)","v":0},{"$f":"C99-D99","v":447164.38356164383},null,"Investment in power plant",500,"US$/kW"]
[null,null,null,null,null,null,"Food production",12000,"tons/year"]
[null,"Annual emissions (tons)","Tons","Tons","Reduction",null,"Waste water production",62,"m3 wastewater/ton product"]
[null,"Fuel  CO2-eq. emission",0,{"$f":"H120*H119","v":0},{"$f":"D102-C102","v":0},null,"COD production",3,"kg COD/m3 wastewater"]
[null,"CH4 from sewage + manure",null,{"$f":"H104*H107/1000*H94","v":15624},{"$f":"D103-C103","v":15624},null,"CH4 production",0.25,"kg CH4/kg COD"]
[null,"Total CO2-eq. emission ",{"$f":"C102+C103","v":0},{"$f":"D102+D103","v":15624},{"$f":"D104-C104","v":15624},null,"Waste water production",{"$f":"H100*H101","v":744000},"m3/year"]
[null,null,null,null,null,null,"Biogas production factor",20,"m3 biogas/m3-sewage"]
[null,"US$/ton CO2-eq.",null,null,{"$f":"IF(E104<>0,E99/E104,0)","v":28.620352250489237},null,"CH4 content in the biogas",0.6]
[null,null,null,null,null,null,"CH4 production factor",{"$f":"H102*H103","v":0.75},"kg CH4/m3 wastewater"]
[null,null,null,null,null,null,"Annual CH4 production",{"$f":"H104*H105*H106","v":8928000},"m3 CH4"]
[null,null,null,null,null,null,"CH4 density",0.67100000000000004,"kg/m3"]
[null,null,null,null,null,null,"CH4 calorific value",39,"MJ/m3"]
[null,null,null,null,null,null,"Annual gas production",{"$f":"H108*H110/1000","v":348192},"GJ"]
[null,null,null,null,null,null,"Generator elec. efficiency",0.3]
[null,null,null,null,null,null,"Electricity produced",{"$f":"H111*H112/3.6","v":29015.999999999996},"MWh"]
[null,null,null,null,null,null,"Capacity factor",0.8]
[null,null,null,null,null,null,"Size of generator",{"$f":"H113/(8760*H114)*1000","v":4140.4109589041091},"kW"]
[]
[null,null,null,null,null,null,"Reference option: Electricity prodcuced at grid"]
[null,null,null,null,null,null,"Electricity price",{"$f":"+Assumptions!C$35","v":0},"US$/kWh"]
[null,null,null,null,null,null,"CO2-eq. emission coefficient",{"$f":"+Assumptions!C$39","v":0},"tCO2/MWh"]
[null,null,null,null,null,null,"Electricity produced",{"$f":"+H113","v":29015.999999999996},"MWh"]

{"sheet":"N2O","index":39,"n_rows":21,"n_cols":9,"rows_kept":21,"cut":false,"hidden":true,"merged":[[7,6,7,8],[1,1,1,3],[2,1,2,3]]}
[]
[null,"Menu for N2O options (click links below)"]
[null,"Reduced N2O from Nitric Acid production (100 t/day)"]
[]
[]
[]
[null,"Reduced N2O from Nitric Acid production (100 t/day)"]
[null,"Costs in","Reduction","Reference","Increase",null,"General inputs:"]
[null,"US$","Option","Option","(Red.-Ref.)",null,"Discount rate ",{"$f":"+DiscountRate","v":0}]
[null,"Total investment",{"$f":"(H16+H17)*1000000*100/H11","v":705357.14285714284},null,{"$f":"C10-D10","v":705357.14285714284},null,"1 tonne N2O = ",{"$f":"+Assumptions!F65","v":265},"tonnes CO2"]
[null,"Project life",10,null,null,null,"Nitric acid production",400,"t HNO3/day"]
[null,"Lev. investment",{"$f":"IF(C11=0,0,PMT($H9,C11,-C10))","v":70535.71428571429},null,{"$f":"C12-D12","v":70535.71428571429},null,"Operating days",330,"days"]
[null,"Annual O&M",null,null,null,null,"Nitric acid production",{"$f":"H11*365","v":146000},"t HNO3/year"]
[null,"Total annual cost",{"$f":"SUM(C12:C13)","v":70535.71428571429},{"$f":"SUM(D12:D13)","v":0},{"$f":"C14-D14","v":70535.71428571429}]
[null,null,null,null,null,null,"Reduction option: Reduced anode effect"]
[null,"Annual emissions (tons)","Tons","Tons","Reduction",null,"Investment of catalyst technology",{"$f":"2/0.84","v":2.3809523809523809},"MUS$"]
[null,"Fuel  CO2-eq. emission",null,null,null,null,"Investment of monitoring system",{"$f":"0.37/0.84","v":0.44047619047619047},"MUS$"]
[null,"Other",{"$f":"H13*H18*H10*100/H11","v":8705.25},{"$f":"H13*H21*H10*100/H11","v":67707.5},null,null,"N2O emission factor",8.9999999999999998E-4,"tN2O/tHNO3"]
[null,"Total CO2-eq. emission ",{"$f":"C17+C18","v":8705.25},{"$f":"D17+D18","v":67707.5},{"$f":"D19-C19","v":59002.25}]
[null,null,null,null,null,null,"Reference option: No change"]
[null,"US$/ton CO2-eq.",null,null,{"$f":"IF(E19<>0,E14/E19,0)","v":1.1954749909658409},null,"N2O emission factor",{"$f":"(8.4-7*0.2)/1000","v":7.0000000000000001E-3},"tN2O/tHNO3"]

{"sheet":"Solar","index":40,"n_rows":408,"n_cols":36,"rows_kept":408,"cut":false,"hidden":true,"merged":[[3,4,3,6],[14,4,14,6],[4,4,4,6],[5,4,5,6],[6,4,6,6],[10,4,10,6],[11,4,11,6],[12,4,12,6],[13,4,13,6],[238,24,238,26],[246,24,246,26],[260,24,260,26],[265,24,265,26],[273,24,273,26],[75,24,75,26],[80,24,80,26],[99,24,99,26],[104,24,104,26],[233,24,233,26],[14,1,14,3],[288,6,288,8],[295,6,295,8],[18,6,18,8],[45,6,45,8],[55,6,55,8],[204,6,204,8],[176,6,176,8],[151,6,151,8],[156,6,156,8],[124,6,124,8],[129,6,129,8],[13,1,13,3],[11,1,11,3],[1,1,1,3],[3,1,3,3],[4,1,4,3],[5,1,5,3],[10,1,10,3],[12,1,12,3],[6,1,6,3],[75,33,75,35],[80,33,80,35],[233,33,233,35],[238,33,238,35],[260,33,260,35],[99,33,99,35],[104,33,104,35],[346,6,346,8],[374,6,374,8],[265,33,265,35],[246,33,246,35],[273,33,273,35],[315,6,315,8],[321,6,321,8]]}
[]
[null,"Menu for Solar options (click links below)"]
[]
[null,"Solar water heater, residential",null,null,"PV pump replacing electric pump"]
[null,"1 solar water heater, large",null,null,"PV pump replacing diesel pump"]
[null,"Solar PVs, large grid, 1MW"]
[null,"Solar PVs, large grid, 1MW, 24h storage"]
[null,"Solar cottage PVs, 50W"]
[null,"Solar house PVs, 500 W"]
[null,"Solar/diesel mini-grid, 100 kW"]
[null,"Solar PVs, small isolated grid, 2 MW, 100% solar"]
[null,"Parabolic through CSP, no storage, 1 MW"]
[null,"Solar tower CSP, with storage, 1 MW"]
[null,"Solar LED lamps"]
[null,"Solar street lights"]
[]
[]
[null,"Solar water heater, residential (1000 unit)"]
[null,"Costs in","Reduction","Reference","Increase",null,"General inputs:"]
[null,"US$","Option","Option","(Red.-Ref.)",null,"Discount rate ",{"$f":"Assumptions!$C$13","v":0}]
[null,"Total investment",{"$f":"H30*H21","v":473000},null,{"$f":"C21-D21","v":473000},null,"Activity",1000,"location"]
[null,"Project life",15,null,null,null,"Hot water usage",130,"litres/day"]
[null,"Lev. investment",{"$f":"IF(C22=0,0,PMT($H$20,C22,-C21))","v":31533.333333333332},null,{"$f":"C23-D23","v":31533.333333333332},null,"Water supply temp",20,"deg. C"]
[null,"Annual O&M",{"$f":"H21*H31*H30","v":4730},null,{"$f":"C24-D24","v":4730},null,"Thermostat setting",50,"deg. C"]
[null,"Annual electricity cost",{"$f":"H35*H26","v":0},{"$f":"H39*H26","v":0},{"$f":"C25-D25","v":0},null,"Specific heat of water",{"$f":"4.1868*1000","v":4186.8},"Joule/kg/deg. C"]
[null,"Total annual cost",{"$f":"SUM(C23:C25)","v":36263.333333333328},{"$f":"SUM(D23:D25)","v":0},{"$f":"C26-D26","v":36263.333333333328},null,"Average electricity price",{"$f":"+Assumptions!C35","v":0},"US$/kWh"]
[null,null,null,null,null,null,"CO2-eq. emission coefficient",{"$f":"+Assumptions!C39","v":0},"ton CO2-eq./MWh"]
[null,"Annual emissions (tons)","Tons","Tons","Reduction"]
[null,"Fuel  CO2-eq. emission",{"$f":"H35/1000*H27","v":0},{"$f":"H39/1000*H27","v":0},{"$f":"D29-C29","v":0},null,"Reduction option: Solar water heater & electrical backup"]
[null,"Other",null,null,null,null,"Investment",473,"US$"]
[null,"Total CO2-eq. emission ",{"$f":"C29+C30","v":0},{"$f":"D29+D30","v":0},{"$f":"D31-C31","v":0},null,"O&M  ",0.01]
[null,null,null,null,null,null,"Size of Solar Heater",1.6230691176470586,"m2"]
[null,"US$/ton CO2-eq.",null,null,{"$f":"IF(E31<>0,E26/E31,0)","v":0},null,"Input from the sun",{"$f":"600*1.7","v":1020},"kWh/m2"]
[null,null,null,null,null,null,"Production from Solar Heater",{"$f":"H21*H32*H33","v":1655530.4999999998},"kWh"]
[null,null,null,null,null,null,"Annual electricity used",{"$f":"H39-H34","v":0},"kWh"]
[]
[null,null,null,null,null,null,"Reference option: electrical water heater"]
[null,null,null,null,null,null,"Electricity used",{"$f":"H21*H22*H25*(H24-H23)/1000000000","v":16.328520000000001},"GJ/day"]
[null,null,null,null,null,null,"Annually electricity used",{"$f":"H38*365/3.6*1000","v":1655530.5},"kWh"]
[]
[]
[]
[]
[]
[null,"1 solar water heater, large"]
[null,"Costs in","Reduction","Reference","Increase",null,"General inputs:"]
[null,"US$","Option","Option","(Red.-Ref.)",null,"Discount rate ",{"$f":"Assumptions!$C$13","v":0}]
[null,"Total investment",{"$f":"H57*H48*H59","v":15620},null,{"$f":"C48-D48","v":15620},null,"Activity",1,"location"]
[null,"Project life",15,null,null,null,"Water usage",9000,"litres/day"]
[null,"Lev. investment",{"$f":"IF(C49=0,0,PMT($H$47,C49,-C48))","v":1041.3333333333333},null,{"$f":"C50-D50","v":1041.3333333333333},null,"Water supply temp",28,"deg. C"]
[null,"Annual O&M",{"$f":"H58*C48","v":156.20000000000002},null,{"$f":"C51-D51","v":156.20000000000002},null,"Thermostat setting",45,"deg. C"]
[null,"Annual electricity cost",{"$f":"H62*H53","v":0},{"$f":"H68*H53","v":0},{"$f":"C52-D52","v":0},null,"Specific heat of water",{"$f":"4.1868*1000","v":4186.8},"Joule/kg/deg. C"]
[null,"Total annual cost",{"$f":"SUM(C50:C52)","v":1197.5333333333333},{"$f":"SUM(D50:D52)","v":0},{"$f":"C53-D53","v":1197.5333333333333},null,"Average electricity price",{"$f":"+Assumptions!C35","v":0},"US$/kWh"]
[null,null,null,null,null,null,"CO2-eq. emission coefficient",{"$f":"+Assumptions!C39","v":0},"ton CO2-eq./MWh"]
[null,"Annual emissions (tons)","Tons","Tons","Reduction"]
[null,"Fuel  CO2-eq. emission",{"$f":"H62/1000*H54","v":0},{"$f":"H68/1000*H54","v":0},{"$f":"D56-C56","v":0},null,"Reduction option: Solar water heater & electrical backup"]
[null,"Other",null,null,null,null,"Investment",220,"US$/m2"]
[null,"Total CO2-eq. emission ",{"$f":"C56+C57","v":0},{"$f":"D56+D57","v":0},{"$f":"D58-C58","v":0},null,"O&M  ",0.01]
[null,null,null,null,null,null,"Size of Solar Heater",71,"m2"]
[null,"US$/ton CO2-eq.",null,null,{"$f":"IF(E58<>0,E53/E58,0)","v":0},null,"Solar Heater Annual Energy Output",{"$f":"518*1.7","v":880.6},"kWh/m2"]
[null,null,null,null,null,null,"Production from Solar Heater",{"$f":"H59*H60","v":62522.6},"kWh"]
[null,null,null,null,null,null,"Annual electricity used",{"$f":"H68-H61","v":2425.1350000000093},"kWh"]
[null,null,null,null,null,null,"Solar Fraction",{"$f":"H61/H68","v":0.96266020670312813}]
[null,null,null,null,null,null,"Electricity saved",{"$f":"+H68-H62","v":62522.6},"kWh"]
[]
[null,null,null,null,null,null,"Reference option: electrical water heater"]
[null,null,null,null,null,null,"Electricity used",{"$f":"H48*H49*H52*(H51-H50)/1000000000","v":0.64058040000000005},"GJ/day"]
[null,null,null,null,null,null,"Annually electricity used",{"$f":"H67*365/3.6*1000","v":64947.735000000008},"kWh"]
[]
[]
[]
[]
[]
[]
[null,"Solar PVs, large grid, 1 MW - 2025",null,null,null,null,null,null,null,null,"Solar PVs, large grid, 1 MW - 2030",null,null,null,null,null,null,null,null,"Solar PVs, large grid, 1 MW - 2040",null,null,null,null,null,null,null,null,"Solar PVs, large grid, 1 MW - 2050"]
[null,"Costs in","Reduction","Reference","Increase",null,"General inputs:",null,null,null,"Costs in","Reduction","Reference","Increase",null,"General inputs:",null,null,null,"Costs in","Reduction","Reference","Increase",null,"General inputs:",null,null,null,"Costs in","Reduction","Reference","Increase",null,"General inputs:"]
[null,"US$","Option","Option","(Red.-Ref.)",null,"Discount rate ",{"$f":"Assumptions!$C$13","v":0},null,null,"US$","Option","Option","(Red.-Ref.)",null,"Discount rate ",{"$f":"Assumptions!$C$13","v":0},null,null,"US$","Option","Option","(Red.-Ref.)",null,"Discount rate ",{"$f":"Assumptions!$C$13","v":0},null,null,"US$","Option","Option","(Red.-Ref.)",null,"Discount rate ",{"$f":"Assumptions!$C$13","v":0}]
[null,"Total investment",{"$f":"H82*1000*H83","v":1000000},null,{"$f":"C78-D78","v":1000000},null,"Reference electricity price",{"$f":"+Assumptions!C35","v":0},"US$/kWh",null,"Total investment",{"$f":"Q82*1000*Q83","v":800000},null,{"$f":"L78-M78","v":800000},null,"Reference electricity price",{"$f":"+Assumptions!C35","v":0},"US$/kWh",null,"Total investment",{"$f":"Z82*1000*Z83","v":400000},null,{"$f":"U78-V78","v":400000},null,"Reference electricity price",{"$f":"+Assumptions!C35","v":0},"US$/kWh",null,"Total investment",{"$f":"AI82*1000*AI83","v":400000},null,{"$f":"AD78-AE78","v":400000},null,"Reference electricity price",{"$f":"+Assumptions!C35","v":0},"US$/kWh"]
[null,"Project life",20,null,null,null,"CO2-eq. emission coefficient",{"$f":"+Assumptions!C38","v":0},"tCO2/MWh",null,"Project life",20,null,null,null,"CO2-eq. emission coefficient",{"$f":"+Assumptions!C38","v":0},"tCO2/MWh",null,"Project life",20,null,null,null,"CO2-eq. emission coefficient",{"$f":"+Assumptions!C38","v":0},"tCO2/MWh",null,"Project life",20,null,null,null,"CO2-eq. emission coefficient",{"$f":"+Assumptions!C38","v":0},"tCO2/MWh"]
[null,"Lev. investment",{"$f":"IF(C79=0,0,PMT($H$77,C79,-C78))","v":50000},null,{"$f":"C80-D80","v":50000},null,null,null,null,null,"Lev. investment",{"$f":"IF(L79=0,0,PMT($Q$77,L79,-L78))","v":40000},null,{"$f":"L80-M80","v":40000},null,null,null,null,null,"Lev. investment",{"$f":"IF(U79=0,0,PMT($Z$77,U79,-U78))","v":20000},null,{"$f":"U80-V80","v":20000},null,null,null,null,null,"Lev. investment",{"$f":"IF(AD79=0,0,PMT($AI$77,AD79,-AD78))","v":20000},null,{"$f":"AD80-AE80","v":20000}]
[null,"Annual O&M",{"$f":"C78*H87","v":10000},null,{"$f":"C81-D81","v":10000},null,"Activity: Solar PV",null,null,null,"Annual O&M",{"$f":"L78*Q87","v":8000},null,{"$f":"L81-M81","v":8000},null,"Activity: Solar PV",null,null,null,"Annual O&M",{"$f":"U78*Z87","v":4000},null,{"$f":"U81-V81","v":4000},null,"Activity: Solar PV",1,"kW",null,"Annual O&M",{"$f":"AD78*AI87","v":4000},null,{"$f":"AD81-AE81","v":4000},null,"Activity: Solar PV",1,"kW"]
[null,"Annual fuelcost",null,{"$f":"H92*1000*H78","v":0},{"$f":"C82-D82","v":0},null,"Size of solar PV",1,"MW",null,"Annual fuelcost",null,{"$f":"Q92*1000*Q78","v":0},{"$f":"L82-M82","v":0},null,"Size of solar PV",1,"MW",null,"Annual fuelcost",null,{"$f":"Z92*1000*Z78","v":0},{"$f":"U82-V82","v":0},null,"Size of solar PV",1,"MW",null,"Annual fuelcost",null,{"$f":"AI92*1000*AI78","v":0},{"$f":"AD82-AE82","v":0},null,"Size of solar PV",1,"MW"]
[null,"Total annual cost",{"$f":"SUM(C80:C82)","v":60000},{"$f":"SUM(D80:D82)","v":0},{"$f":"C83-D83","v":60000},null,"Investment in Activity",1000,"US$/kW",null,"Total annual cost",{"$f":"SUM(L80:L82)","v":48000},{"$f":"SUM(M80:M82)","v":0},{"$f":"L83-M83","v":48000},null,"Investment in Activity",800,"US$/kW",null,"Total annual cost",{"$f":"SUM(U80:U82)","v":24000},{"$f":"SUM(V80:V82)","v":0},{"$f":"U83-V83","v":24000},null,"Investment in Activity",400,"US$/kW",null,"Total annual cost",{"$f":"SUM(AD80:AD82)","v":24000},{"$f":"SUM(AE80:AE82)","v":0},{"$f":"AD83-AE83","v":24000},null,"Investment in Activity",400,"US$/kW"]
[null,null,null,null,null,null,"Daily insolation",5,"hours",null,null,null,null,null,null,"Daily insolation",5,"hours",null,null,null,null,null,null,"Daily insolation",5,"hours",null,null,null,null,null,null,"Daily insolation",5,"hours"]
[null,"Annual emissions (tons)","Tons","Tons","Reduction",null,"Annual capacity factor",{"$f":"H84*365","v":1825},"Full time hours",null,"Annual emissions (tons)","Tons","Tons","Reduction",null,"Annual capacity factor",{"$f":"Q84*365","v":1825},"Full time hours",null,"Annual emissions (tons)","Tons","Tons","Reduction",null,"Annual capacity factor",{"$f":"Z84*365","v":1825},"Full time hours",null,"Annual emissions (tons)","Tons","Tons","Reduction",null,"Annual capacity factor",{"$f":"AI84*365","v":1825},"Full time hours"]
[null,"Fuel  CO2-eq. emission",null,{"$f":"H92*H79","v":0},{"$f":"D86-C86","v":0},null,"Efficiency factor ",1,null,null,"Fuel  CO2-eq. emission",null,{"$f":"Q92*Q79","v":0},{"$f":"M86-L86","v":0},null,"Efficiency factor ",1,null,null,"Fuel  CO2-eq. emission",null,{"$f":"Z92*Z79","v":0},{"$f":"V86-U86","v":0},null,"Efficiency factor ",1,null,null,"Fuel  CO2-eq. emission",null,{"$f":"AI92*AI79","v":0},{"$f":"AE86-AD86","v":0},null,"Efficiency factor ",1]
[null,"Other",null,null,null,null,"O&M  ",0.01,"Of investment",null,"Other",null,null,null,null,"O&M  ",0.01,"Of investment",null,"Other",null,null,null,null,"O&M  ",0.01,"Of investment",null,"Other",null,null,null,null,"O&M  ",0.01,"Of investment"]
[null,"Total CO2-eq. emission ",{"$f":"C86+C87","v":0},{"$f":"D86+D87","v":0},{"$f":"D88-C88","v":0},null,"Electricity production",{"$f":"H82*H85*H86","v":1825},"MWh",null,"Total CO2-eq. emission ",{"$f":"L86+L87","v":0},{"$f":"M86+M87","v":0},{"$f":"M88-L88","v":0},null,"Electricity production",{"$f":"Q82*Q85*Q86","v":1825},"MWh",null,"Total CO2-eq. emission ",{"$f":"U86+U87","v":0},{"$f":"V86+V87","v":0},{"$f":"V88-U88","v":0},null,"Electricity production",{"$f":"Z82*Z85*Z86","v":1825},"MWh",null,"Total CO2-eq. emission ",{"$f":"AD86+AD87","v":0},{"$f":"AE86+AE87","v":0},{"$f":"AE88-AD88","v":0},null,"Electricity production",{"$f":"AI82*AI85*AI86","v":1825},"MWh"]
[null,null,null,null,null,null,"Cost of electricity produced",{"$f":"C83/H88/1000","v":3.2876712328767127E-2},"US$/kWh",null,null,null,null,null,null,"Cost of electricity produced",{"$f":"L83/Q88/1000","v":2.6301369863013697E-2},"US$/kWh",null,null,null,null,null,null,"Cost of electricity produced",{"$f":"U83/Z88/1000","v":1.3150684931506848E-2},"US$/kWh",null,null,null,null,null,null,"Cost of electricity produced",{"$f":"AD83/AI88/1000","v":1.3150684931506848E-2},"US$/kWh"]
[null,"US$/ton CO2-eq.",null,null,{"$f":"IF(E88<>0,E83/E88,0)","v":0},null,null,null,null,null,"US$/ton CO2-eq.",null,null,{"$f":"IF(N88<>0,N83/N88,0)","v":0},null,null,null,null,null,"US$/ton CO2-eq.",null,null,{"$f":"IF(W88<>0,W83/W88,0)","v":0},null,null,null,null,null,"US$/ton CO2-eq.",null,null,{"$f":"IF(AF88<>0,AF83/AF88,0)","v":0}]
[null,null,null,null,null,null,"Reference option: No solar PVs",null,null,null,null,null,null,null,null,"Reference option: No solar PVs",null,null,null,null,null,null,null,null,"Reference option: No solar PVs",null,null,null,null,null,null,null,null,"Reference option: No solar PVs"]
[null,null,null,null,null,null,"Electricity production",{"$f":"H88","v":1825},"MWh",null,null,null,null,null,null,"Electricity production",{"$f":"Q88","v":1825},"MWh",null,null,null,null,null,null,"Electricity production",{"$f":"Z88","v":1825},"MWh",null,null,null,null,null,null,"Electricity production",{"$f":"AI88","v":1825},"MWh"]
[]
[]
[]
[]
[]
[]
[null,"Solar PVs, large grid, 1 MW - 24h storage - 2025",null,null,null,null,null,null,null,null,"Solar PVs, large grid, 1 MW - 24h storage - 2030",null,null,null,null,null,null,null,null,"Solar PVs, large grid, 1 MW - 24h storage - 2040",null,null,null,null,null,null,null,null,"Solar PVs, large grid, 1 MW - 24h storage - 2050"]
[null,"Costs in","Reduction","Reference","Increase",null,"General inputs:",null,null,null,"Costs in","Reduction","Reference","Increase",null,"General inputs:",null,null,null,"Costs in","Reduction","Reference","Increase",null,"General inputs:",null,null,null,"Costs in","Reduction","Reference","Increase",null,"General inputs:"]
[null,"US$","Option","Option","(Red.-Ref.)",null,"Discount rate ",{"$f":"Assumptions!$C$13","v":0},null,null,"US$","Option","Option","(Red.-Ref.)",null,"Discount rate ",{"$f":"Assumptions!$C$13","v":0},null,null,"US$","Option","Option","(Red.-Ref.)",null,"Discount rate ",{"$f":"Assumptions!$C$13","v":0},null,null,"US$","Option","Option","(Red.-Ref.)",null,"Discount rate ",{"$f":"Assumptions!$C$13","v":0}]
[null,"Total investment",{"$f":"H106*1000*H107+H115","v":2100000},null,{"$f":"C102-D102","v":2100000},null,"Reference electricity price",{"$f":"Assumptions!C35","v":0},"US$/kWh",null,"Total investment",{"$f":"Q106*1000*Q107+Q115","v":1800000},null,{"$f":"L102-M102","v":1800000},null,"Reference electricity price",{"$f":"Assumptions!C35","v":0},"US$/kWh",null,"Total investment",{"$f":"Z106*1000*Z107+Z115","v":1500000},null,{"$f":"U102-V102","v":1500000},null,"Reference electricity price",{"$f":"Assumptions!C35","v":0},"US$/kWh",null,"Total investment",{"$f":"AI106*1000*AI107+AI115","v":1750000},null,{"$f":"AD102-AE102","v":1750000},null,"Reference electricity price",{"$f":"Assumptions!C35","v":0},"US$/kWh"]
[null,"Project life",20,null,null,null,"CO2-eq. emission coefficient",{"$f":"Assumptions!C38","v":0},"tCO2/MWh",null,"Project life",20,null,null,null,"CO2-eq. emission coefficient",{"$f":"Assumptions!C38","v":0},"tCO2/MWh",null,"Project life",20,null,null,null,"CO2-eq. emission coefficient",{"$f":"Assumptions!C38","v":0},"tCO2/MWh",null,"Project life",20,null,null,null,"CO2-eq. emission coefficient",{"$f":"Assumptions!C38","v":0},"tCO2/MWh"]
[null,"Lev. investment",{"$f":"IF(C103=0,0,PMT($H$101,C103,-C102))","v":105000},null,{"$f":"C104-D104","v":105000},null,null,null,null,null,"Lev. investment",{"$f":"IF(L103=0,0,PMT($Q$101,L103,-L102))","v":90000},null,{"$f":"L104-M104","v":90000},null,null,null,null,null,"Lev. investment",{"$f":"IF(U103=0,0,PMT($Z$101,U103,-U102))","v":75000},null,{"$f":"U104-V104","v":75000},null,null,null,null,null,"Lev. investment",{"$f":"IF(AD103=0,0,PMT($AI$101,AD103,-AD102))","v":87500},null,{"$f":"AD104-AE104","v":87500}]
[null,"Annual O&M",{"$f":"C102*H111","v":21000},null,{"$f":"C105-D105","v":21000},null,"Activity: Solar PV",null,null,null,"Annual O&M",{"$f":"L102*Q111","v":18000},null,{"$f":"L105-M105","v":18000},null,"Activity: Solar PV",null,null,null,"Annual O&M",{"$f":"U102*Z111","v":15000},null,{"$f":"U105-V105","v":15000},null,"Activity: Solar PV",1,"kW",null,"Annual O&M",{"$f":"AD102*AI111","v":17500},null,{"$f":"AD105-AE105","v":17500},null,"Activity: Solar PV",1,"kW"]
[null,"Annual fuelcost",null,{"$f":"H119*1000*H102","v":0},{"$f":"C106-D106","v":0},null,"Size of solar PV",1,"MW",null,"Annual fuelcost",null,{"$f":"Q119*1000*Q102","v":0},{"$f":"L106-M106","v":0},null,"Size of solar PV",1,"MW",null,"Annual fuelcost",null,{"$f":"Z119*1000*Z102","v":0},{"$f":"U106-V106","v":0},null,"Size of solar PV",1,"MW",null,"Annual fuelcost",null,{"$f":"AI119*1000*AI102","v":0},{"$f":"AD106-AE106","v":0},null,"Size of solar PV",1,"MW"]
[null,"Total annual cost",{"$f":"SUM(C104:C106)","v":126000},{"$f":"SUM(D104:D106)","v":0},{"$f":"C107-D107","v":126000},null,"Investment in Activity",1500,"US$/kW",null,"Total annual cost",{"$f":"SUM(L104:L106)","v":108000},{"$f":"SUM(M104:M106)","v":0},{"$f":"L107-M107","v":108000},null,"Investment in Activity",1500,"US$/kW",null,"Total annual cost",{"$f":"SUM(U104:U106)","v":90000},{"$f":"SUM(V104:V106)","v":0},{"$f":"U107-V107","v":90000},null,"Investment in Activity",1500,"US$/kW",null,"Total annual cost",{"$f":"SUM(AD104:AD106)","v":105000},{"$f":"SUM(AE104:AE106)","v":0},{"$f":"AD107-AE107","v":105000},null,"Investment in Activity",1500,"US$/kW"]
[null,null,null,null,null,null,"Daily insolation",{"$f":"+H84","v":5},"hours",null,null,null,null,null,null,"Daily insolation",5,"hours",null,null,null,null,null,null,"Daily insolation",{"$f":"+Z84","v":5},"hours",null,null,null,null,null,null,"Daily insolation",{"$f":"+AI84","v":5},"hours"]
[null,"Annual emissions (tons)","Tons","Tons","Reduction",null,"Annual capacity factor",{"$f":"H108*365","v":1825},"Full time hours",null,"Annual emissions (tons)","Tons","Tons","Reduction",null,"Annual capacity factor",{"$f":"Q108*365","v":1825},"Full time hours",null,"Annual emissions (tons)","Tons","Tons","Reduction",null,"Annual capacity factor",{"$f":"Z108*365","v":1825},"Full time hours",null,"Annual emissions (tons)","Tons","Tons","Reduction",null,"Annual capacity factor",{"$f":"AI108*365","v":1825},"Full time hours"]
[null,"Fuel  CO2-eq. emission",null,{"$f":"H119*H103","v":0},{"$f":"D110-C110","v":0},null,"Efficiency factor ",{"$f":"+H86","v":1},null,null,"Fuel  CO2-eq. emission",null,{"$f":"Q119*Q103","v":0},{"$f":"M110-L110","v":0},null,"Efficiency factor ",{"$f":"+Q86","v":1},null,null,"Fuel  CO2-eq. emission",null,{"$f":"Z119*Z103","v":0},{"$f":"V110-U110","v":0},null,"Efficiency factor ",{"$f":"+Z86","v":1},null,null,"Fuel  CO2-eq. emission",null,{"$f":"AI119*AI103","v":0},{"$f":"AE110-AD110","v":0},null,"Efficiency factor ",{"$f":"+AI86","v":1}]
[null,"Other",null,null,null,null,"O&M  ",0.01,"Of investment",null,"Other",null,null,null,null,"O&M  ",0.01,"Of investment",null,"Other",null,null,null,null,"O&M  ",0.01,"Of investment",null,"Other",null,null,null,null,"O&M  ",0.01,"Of investment"]
[null,"Total CO2-eq. emission ",{"$f":"C110+C111","v":0},{"$f":"D110+D111","v":0},{"$f":"D112-C112","v":0},null,"Electricity production",{"$f":"H106*H109*H110","v":1825},"MWh/year",null,"Total CO2-eq. emission ",{"$f":"L110+L111","v":0},{"$f":"M110+M111","v":0},{"$f":"M112-L112","v":0},null,"Electricity production",{"$f":"Q106*Q109*Q110","v":1825},"MWh/year",null,"Total CO2-eq. emission ",{"$f":"U110+U111","v":0},{"$f":"V110+V111","v":0},{"$f":"V112-U112","v":0},null,"Electricity production",{"$f":"Z106*Z109*Z110","v":1825},"MWh/year",null,"Total CO2-eq. emission ",{"$f":"AD110+AD111","v":0},{"$f":"AE110+AE111","v":0},{"$f":"AE112-AD112","v":0},null,"Electricity production",{"$f":"AI106*AI109*AI110","v":1825},"MWh/year"]
[null,null,null,null,null,null,"Electricity production per day",{"$f":"H112/365*1000","v":5000},"kWh/day",null,null,null,null,null,null,"Electricity production per day",{"$f":"Q112/365*1000","v":5000},"kWh/day",null,null,null,null,null,null,"Electricity production per day",{"$f":"Z112/365*1000","v":5000},"kWh/day",null,null,null,null,null,null,"Electricity production per day",{"$f":"AI112/365*1000","v":5000},"kWh/day"]
[null,"US$/ton CO2-eq.",null,null,{"$f":"IF(E112<>0,E107/E112,0)","v":0},null,"Unit cost of batteries",{"$f":"+Storage!H15","v":120},"US$/kWh",null,"US$/ton CO2-eq.",null,null,{"$f":"IF(N112<>0,N107/N112,0)","v":0},null,"Unit cost of batteries",{"$f":"+Storage!Q16","v":60},"US$/kWh",null,"US$/ton CO2-eq.",null,null,{"$f":"IF(W112<>0,W107/W112,0)","v":0},null,"Unit cost of batteries",{"$f":"+Storage!AI15","v":0},"US$/kWh",null,"US$/ton CO2-eq.",null,null,{"$f":"IF(AF112<>0,AF107/AF112,0)","v":0},null,"Unit cost of batteries",{"$f":"+Storage!Z15","v":50},"US$/kWh"]
[null,null,null,null,null,null,"Total cost of batteries",{"$f":"H113*H114","v":600000},"US$",null,null,null,null,null,null,"Total cost of batteries",{"$f":"Q113*Q114","v":300000},"US$",null,null,null,null,null,null,"Total cost of batteries",{"$f":"Z113*Z114","v":0},"US$",null,null,null,null,null,null,"Total cost of batteries",{"$f":"AI113*AI114","v":250000},"US$"]
[null,null,null,null,null,null,"Cost of electricity produced",{"$f":"C107/H112/1000","v":6.9041095890410964E-2},"US$/kWh",null,null,null,null,null,null,"Cost of electricity produced",{"$f":"L107/Q112/1000","v":5.9178082191780827E-2},"US$/kWh",null,null,null,null,null,null,"Cost of electricity produced",{"$f":"U107/Z112/1000","v":4.9315068493150684E-2},"US$/kWh",null,null,null,null,null,null,"Cost of electricity produced",{"$f":"AD107/AI112/1000","v":5.7534246575342465E-2},"US$/kWh"]
[]
[null,null,null,null,null,null,"Reference option: No solar PVs",null,null,null,null,null,null,null,null,"Reference option: No solar PVs",null,null,null,null,null,null,null,null,"Reference option: No solar PVs",null,null,null,null,null,null,null,null,"Reference option: No solar PVs"]
[null,null,null,null,null,null,"Electricity production",{"$f":"H112","v":1825},"MWh",null,null,null,null,null,null,"Electricity production",{"$f":"Q112","v":1825},"MWh",null,null,null,null,null,null,"Electricity production",{"$f":"Z112","v":1825},"MWh",null,null,null,null,null,null,"Electricity production",{"$f":"AI112","v":1825},"MWh"]
[]
[]
[]
[]
[null,"Solar house PVs, 500 W"]
[null,"Costs in","Reduction","Reference","Increase",null,"General inputs:"]
[null,"US$","Option","Option","(Red.-Ref.)",null,"Discount rate ",{"$f":"Assumptions!$C$13","v":0}]
[null,"Total investment",{"$f":"H131*H133","v":750},null,{"$f":"C127-D127","v":750},null,"Reference electricity price",{"$f":"+Assumptions!C35","v":0},"US$/kWh"]
[null,"Project life",20,null,null,null,"CO2-eq. emission coefficient",{"$f":"+Assumptions!C38","v":0},"tCO2/MWh"]
[null,"Lev. investment",{"$f":"IF(C128=0,0,PMT($H$153,C128,-C127))","v":37.5},null,{"$f":"C129-D129","v":37.5}]
[null,"Annual O&M",{"$f":"C127*H137","v":7.5},null,{"$f":"C130-D130","v":7.5},null,"Activity: Solar PV",1,"kW"]
[null,"Annual fuelcost",null,{"$f":"H142*H127*1000","v":0},{"$f":"C131-D131","v":0},null,"Size of solar PV",0.5,"kW"]
[null,"Total annual cost",{"$f":"SUM(C129:C131)","v":45},{"$f":"SUM(D129:D131)","v":0},{"$f":"C132-D132","v":45},null,"Size of PV",{"$f":"H131*9.6/1.3","v":3.6923076923076921},"m2"]
[null,null,null,null,null,null,"Investment in Activity",1500,"US$/kW"]
[null,"Annual emissions (tons)","Tons","Tons","Reduction",null,"Daily insolation",5,"hours"]
[null,"Fuel  CO2-eq. emission",null,{"$f":"H142*H128","v":0},{"$f":"D135-C135","v":0},null,"Annual capacity factor",{"$f":"H134*365","v":1825},"Full time hours"]
[null,"Other",null,null,null,null,"Efficiency factor ",0.9]
[null,"Total CO2-eq. emission ",{"$f":"C135+C136","v":0},{"$f":"D135+D136","v":0},{"$f":"D137-C137","v":0},null,"O&M  ",0.01,"Of investment"]
[null,null,null,null,null,null,"Electricity production",{"$f":"H131*H135*H136/1000","v":0.82125000000000004},"MWh"]
[null,"US$/ton CO2-eq.",null,null,{"$f":"IF(E137<>0,E132/E137,0)","v":0},null,"Cost of electricity produced",{"$f":"C132/H138/1000","v":5.4794520547945202E-2},"US$/kWh"]
[]
[null,null,null,null,null,null,"Reference option: No solar PVs"]
[null,null,null,null,null,null,"Electricity production",{"$f":"H138","v":0.82125000000000004},"MWh"]
[]
[]
[]
[]
[]
[]
[]
[]
[null,"Solar cottage PVs, 50W"]
[null,"Costs in","Reduction","Reference","Increase",null,"General inputs:"]
[null,"US$","Option","Option","(Red.-Ref.)",null,"Discount rate ",{"$f":"Assumptions!$C$13","v":0}]
[null,"Total investment",{"$f":"H158*H160","v":75},null,{"$f":"C154-D154","v":75},null,"Reference electricity price",{"$f":"+Assumptions!C35","v":0},"US$/kWh"]
[null,"Project life",20,null,null,null,"CO2-eq. emission coefficient",{"$f":"+Assumptions!C38","v":0},"tCO2/MWh"]
[null,"Lev. investment",{"$f":"IF(C155=0,0,PMT($H$153,C155,-C154))","v":3.75},null,{"$f":"C156-D156","v":3.75}]
[null,"Annual O&M",{"$f":"C154*H164","v":0.75},null,{"$f":"C157-D157","v":0.75},null,"Activity: Solar PV",1,"kW"]
[null,"Annual fuelcost",null,{"$f":"H169*H154*1000","v":0},{"$f":"C158-D158","v":0},null,"Size of solar PV",0.05,"kW"]
[null,"Total annual cost",{"$f":"SUM(C156:C158)","v":4.5},{"$f":"SUM(D156:D158)","v":0},{"$f":"C159-D159","v":4.5},null,"Size of PV",{"$f":"H158*9.6/1.3","v":0.3692307692307692},"m2"]
[null,null,null,null,null,null,"Investment in Activity",1500,"US$/kW"]
[null,"Annual emissions (tons)","Tons","Tons","Reduction",null,"Daily insolation",5,"hours"]
[null,"Fuel  CO2-eq. emission",null,{"$f":"H169*H155","v":0},{"$f":"D162-C162","v":0},null,"Annual capacity factor",{"$f":"H161*365","v":1825},"Full time hours"]
[null,"Other",null,null,null,null,"Efficiency factor ",0.9]
[null,"Total CO2-eq. emission ",{"$f":"C162+C163","v":0},{"$f":"D162+D163","v":0},{"$f":"D164-C164","v":0},null,"O&M  ",0.01,"Of investment"]
[null,null,null,null,null,null,"Electricity production",{"$f":"H158*H162*H163/1000","v":8.2125000000000004E-2},"MWh"]
[null,"US$/ton CO2-eq.",null,null,{"$f":"IF(E164<>0,E159/E164,0)","v":0},null,"Cost of electricity produced",{"$f":"C159/H165/1000","v":5.4794520547945202E-2},"US$/kWh"]
[]
[null,null,null,null,null,null,"Reference option: No solar PVs"]
[null,null,null,null,null,null,"Electricity production",{"$f":"H165","v":8.2125000000000004E-2},"MWh"]
[]
[]
[]
[]
[]
[]
[null,"Solar/diesel mini-grid, 100 kW load"]
[null,"Costs in","Reduction","Reference","Increase",null,"General inputs:"]
[null,"US$","Option","Option","(Red.-Ref.)",null,"Discount rate ",{"$f":"Assumptions!$C$13","v":0}]
[null,"Total investment",{"$f":"H187*H188","v":60000},null,{"$f":"C179-D179","v":60000},null,"Efficiency of diesel",0.3]
[null,"Project life",20,null,null,null,"Cost of diesel",{"$f":"+Assumptions!G29","v":10.367789021299378},"US$/GJ"]
[null,"Lev. investment",{"$f":"IF(C180=0,0,PMT($H$178,C180,-C179))","v":3000},null,{"$f":"C181-D181","v":3000},null,"CO2-eq. emission coefficient",0.8,"tCO2/MWh"]
[null,"Annual O&M",{"$f":"C179*H191","v":600},null,{"$f":"C182-D182","v":600}]
[null,"Annual fuelcost",null,{"$f":"H197*H180","v":700.78573940264323},{"$f":"C183-D183","v":-700.78573940264323},null,"Activity: Solar/diesel mini-grid PV"]
[null,"Total annual cost",{"$f":"SUM(C181:C183)","v":3600},{"$f":"SUM(D181:D183)","v":700.78573940264323},{"$f":"C184-D184","v":2899.2142605973568},null,"Capacity of plant",100,"kW"]
[null,null,null,null,null,null,"Size of the diesel",150,"kW"]
[null,"Annual emissions (tons)","Tons","Tons","Reduction",null,"Minimum load on diesel",0.4,"kW"]
[null,"Fuel  CO2-eq. emission",null,{"$f":"H196*H181","v":58.400000000000006},{"$f":"D187-C187","v":58.400000000000006},null,"Size of solar PV",{"$f":"H184-H185*H186","v":40},"kW"]
[null,"Other",null,null,null,null,"Investment in Activity",1500,"US$/kW"]
[null,"Total CO2-eq. emission ",{"$f":"C187+C188","v":0},{"$f":"D187+D188","v":58.400000000000006},{"$f":"D189-C189","v":58.400000000000006},null,"Daily insolation",5,"hours"]
[null,null,null,null,null,null,"Annual capacity factor",{"$f":"H189*365","v":1825},"Full time hours"]
[null,"US$/ton CO2-eq.",null,null,{"$f":"IF(E189<>0,E184/E189,0)","v":49.644079804749254},null,"O&M  ",0.01,"Of investment"]
[null,null,null,null,null,null,"Solar production",{"$f":"H187*H190/1000","v":73},"MWh"]
[null,null,null,null,null,null,"Cost of solar electricity produced",{"$f":"C184/H192","v":49.315068493150683},"US$/kWh"]
[]
[null,null,null,null,null,null,"Reference option: No solar PVs - pure diesel"]
[null,null,null,null,null,null,"Electricity production",{"$f":"+H192","v":73},"MWh"]
[null,null,null,null,null,null,"Diesel used",{"$f":"H196/H179/3.6","v":67.592592592592595},"GJ"]
[]
[]
[]
[]
[]
[]
[null,"Solar PVs, small isolated grid, 2 MW, 100% solar"]
[null,"Costs in","Reduction","Reference","Increase",null,"General inputs:"]
[null,"US$","Option","Option","(Red.-Ref.)",null,"Discount rate ",{"$f":"Assumptions!$C$13","v":0}]
[null,"Total investment",{"$f":"(H211+H220)*H221*1000","v":13125000},null,{"$f":"C207-D207","v":13125000},null,"Reference electricity price",{"$f":"+Assumptions!C35","v":0},"US$/kWh"]
[null,"Project life",20,null,null,null,"CO2-eq. emission coefficient",0.8,"tCO2/MWh"]
[null,"Lev. investment",{"$f":"IF(C208=0,0,PMT($H$206,C208,-C207))","v":656250},null,{"$f":"C209-D209","v":656250}]
[null,"Annual O&M",{"$f":"H212","v":35},null,{"$f":"C210-D210","v":35},null,"Activity: Solar PV with battery"]
[null,"Annual fuelcost",null,{"$f":"H214*H207*H221*1000","v":0},{"$f":"C211-D211","v":0},null,"Investment in PV",1500,"US$/kW"]
[null,"Total annual cost",{"$f":"SUM(C209:C211)","v":656285},{"$f":"SUM(D209:D211)","v":0},{"$f":"C212-D212","v":656285},null,"O&M  ",35,"US$/kW"]
[null,null,null,null,null,null,"Capacity factor",{"$f":"4.5*365","v":1642.5},"Full time hours"]
[null,"Annual emissions (tons)","Tons","Tons","Reduction",null,"Electricity production/kW",{"$f":"H213","v":1642.5},"kWh/year"]
[null,"Fuel  CO2-eq. emission",0,{"$f":"H214/1000*H208*H221*1000","v":2628},{"$f":"D215-C215","v":2628},null,"Electricity production/kW",{"$f":"H214/365","v":4.5},"kWh/day"]
[null,"Other",null,null,null,null,"Electricity consumption whitout sun/kW",{"$f":"H215*0.5","v":2.25},"kWh/day"]
[null,"Total CO2-eq. emission ",{"$f":"C215+C216","v":0},{"$f":"D215+D216","v":2628},{"$f":"D217-C217","v":2628},null,"Unit cost of batteries",187,"US$/kWh"]
[null,null,null,null,null,null,"Max.  battery load",0.2]
[null,"US$/ton CO2-eq.",null,null,{"$f":"IF(E217<>0,E212/E217,0)","v":249.72792998477931},null,"Reinvestment in batteries",3,"Times"]
[null,null,null,null,null,null,"Cost of batteries",{"$f":"150*H216/H218*H219","v":5062.5},"US$/kW"]
[null,null,null,null,null,null,"Size of PV",2,"MW"]
[null,null,null,null,null,null,"Electricity produced",{"$f":"+H221*H214","v":3285},"MWh/year"]
[null,null,null,null,null,null,"Cost of electricity produced",{"$f":"C212/H222/1000","v":0.19978234398782346},"US$/kWh"]
[]
[null,null,null,null,null,null,"Reference option: No solar PVs"]
[]
[]
[]
[]
[]
[]
[]
[null,"Parabolic through CSP, no storage, 1 MW - 2025",null,null,null,null,null,null,null,null,"Parabolic through CSP, no storage, 1 MW - 2030",null,null,null,null,null,null,null,null,"Parabolic through CSP, no storage, 1 MW - 2040",null,null,null,null,null,null,null,null,"Parabolic through CSP, no storage, 1 MW - 2050"]
[null,"Costs in","Reduction","Reference","Increase",null,"General inputs:",null,null,null,"Costs in","Reduction","Reference","Increase",null,"General inputs:",null,null,null,"Costs in","Reduction","Reference","Increase",null,"General inputs:",null,null,null,"Costs in","Reduction","Reference","Increase",null,"General inputs:"]
[null,"US$","Option","Option","(Red.-Ref.)",null,"Discount rate ",{"$f":"Assumptions!$C$13","v":0},null,null,"US$","Option","Option","(Red.-Ref.)",null,"Discount rate ",{"$f":"Assumptions!$C$13","v":0},null,null,"US$","Option","Option","(Red.-Ref.)",null,"Discount rate ",{"$f":"Assumptions!$C$13","v":0},null,null,"US$","Option","Option","(Red.-Ref.)",null,"Discount rate ",{"$f":"Assumptions!$C$13","v":0}]
[null,"Total investment",{"$f":"H242*1000*H241","v":4500000},null,{"$f":"C236-D236","v":4500000},null,"Reference electricity price",{"$f":"+Assumptions!C35","v":0},"US$/kWh",null,"Total investment",{"$f":"Q242*1000*Q241","v":4000000},null,{"$f":"L236-M236","v":4000000},null,"Reference electricity price",{"$f":"+Assumptions!C35","v":0},"US$/kWh",null,"Total investment",{"$f":"Z242*1000*Z241","v":2500000},null,{"$f":"U236-V236","v":2500000},null,"Reference electricity price",{"$f":"+Assumptions!C35","v":0},"US$/kWh",null,"Total investment",{"$f":"AI242*1000*AI241","v":2500000},null,{"$f":"AD236-AE236","v":2500000},null,"Reference electricity price",{"$f":"+Assumptions!C35","v":0},"US$/kWh"]
[null,"Project life",20,null,null,null,"CO2-eq. emission coefficient",{"$f":"+Assumptions!C38","v":0},"tCO2/MWh",null,"Project life",20,null,null,null,"CO2-eq. emission coefficient",{"$f":"+Assumptions!C38","v":0},"tCO2/MWh",null,"Project life",20,null,null,null,"CO2-eq. emission coefficient",{"$f":"+Assumptions!C38","v":0},"tCO2/MWh",null,"Project life",20,null,null,null,"CO2-eq. emission coefficient",{"$f":"+Assumptions!C38","v":0},"tCO2/MWh"]
[null,"Lev. investment",{"$f":"IF(C237=0,0,PMT($H$235,C237,-C236))","v":225000},null,{"$f":"C238-D238","v":225000},null,null,null,null,null,"Lev. investment",{"$f":"IF(L237=0,0,PMT($Q$235,L237,-L236))","v":200000},null,{"$f":"L238-M238","v":200000},null,null,null,null,null,"Lev. investment",{"$f":"IF(U237=0,0,PMT($Z$235,U237,-U236))","v":125000},null,{"$f":"U238-V238","v":125000},null,null,null,null,null,"Lev. investment",{"$f":"IF(AD237=0,0,PMT($AI$235,AD237,-AD236))","v":125000},null,{"$f":"AD238-AE238","v":125000}]
[null,"Annual O&M",{"$f":"C236*H240","v":6525},null,{"$f":"C239-D239","v":6525},null,"Reduction option: Solar central parabolic",null,null,null,"Annual O&M",{"$f":"L236*Q240","v":5800},null,{"$f":"L239-M239","v":5800},null,"Reduction option: Solar central parabolic",null,null,null,"Annual O&M",{"$f":"U236*Z240","v":3624.9999999999995},null,{"$f":"U239-V239","v":3624.9999999999995},null,"Reduction option: Solar central parabolic",null,null,null,"Annual O&M",{"$f":"AD236*AI240","v":3624.9999999999995},null,{"$f":"AD239-AE239","v":3624.9999999999995},null,"Reduction option: Solar central parabolic"]
[null,"Annual fuelcost",null,{"$f":"H244*1000*H236","v":0},{"$f":"C240-D240","v":0},null,"O&M  ",1.4499999999999999E-3,"Of investment",null,"Annual fuelcost",null,{"$f":"Q244*1000*Q236","v":0},{"$f":"L240-M240","v":0},null,"O&M  ",1.4499999999999999E-3,"Of investment",null,"Annual fuelcost",null,{"$f":"Z244*1000*Z236","v":0},{"$f":"U240-V240","v":0},null,"O&M  ",1.4499999999999999E-3,"Of investment",null,"Annual fuelcost",null,{"$f":"AI244*1000*AI236","v":0},{"$f":"AD240-AE240","v":0},null,"O&M  ",1.4499999999999999E-3,"Of investment"]
[null,"Total annual cost",{"$f":"SUM(C238:C240)","v":231525},{"$f":"SUM(D238:D240)","v":0},{"$f":"C241-D241","v":231525},null,"Activity",1,"MW",null,"Total annual cost",{"$f":"SUM(L238:L240)","v":205800},{"$f":"SUM(M238:M240)","v":0},{"$f":"L241-M241","v":205800},null,"Activity",1,"MW",null,"Total annual cost",{"$f":"SUM(U238:U240)","v":128625},{"$f":"SUM(V238:V240)","v":0},{"$f":"U241-V241","v":128625},null,"Activity",1,"MW",null,"Total annual cost",{"$f":"SUM(AD238:AD240)","v":128625},{"$f":"SUM(AE238:AE240)","v":0},{"$f":"AD241-AE241","v":128625},null,"Activity",1,"MW"]
[null,null,null,null,null,null,"Investment in Activity",4500,"US$/kW",null,null,null,null,null,null,"Investment in Activity",4000,"US$/kW",null,null,null,null,null,null,"Investment in Activity",2500,"US$/kW",null,null,null,null,null,null,"Investment in Activity",2500,"US$/kW"]
[null,"Annual emissions (tons)","Tons","Tons","Reduction",null,"Capacity factor",1500,"Full time hours",null,"Annual emissions (tons)","Tons","Tons","Reduction",null,"Capacity factor",1500,"Full time hours",null,"Annual emissions (tons)","Tons","Tons","Reduction",null,"Capacity factor",1500,"Full time hours",null,"Annual emissions (tons)","Tons","Tons","Reduction",null,"Capacity factor",1500,"Full time hours"]
[null,"Fuel  CO2-eq. emission",null,{"$f":"H244*H237","v":0},{"$f":"D244-C244","v":0},null,"Electricity production",{"$f":"H241*H243","v":1500},"MWh/year",null,"Fuel  CO2-eq. emission",null,{"$f":"Q244*Q237","v":0},{"$f":"M244-L244","v":0},null,"Electricity production",{"$f":"Q241*Q243","v":1500},"MWh/year",null,"Fuel  CO2-eq. emission",null,{"$f":"Z244*Z237","v":0},{"$f":"V244-U244","v":0},null,"Electricity production",{"$f":"Z241*Z243","v":1500},"MWh/year",null,"Fuel  CO2-eq. emission",null,{"$f":"AI244*AI237","v":0},{"$f":"AE244-AD244","v":0},null,"Electricity production",{"$f":"AI241*AI243","v":1500},"MWh/year"]
[null,"Other",null,null,null,null,"Cost of electricity produced",{"$f":"C241/H244/1000","v":0.15434999999999999},"US$/kWh",null,"Other",null,null,null,null,"Cost of electricity produced",{"$f":"L241/Q244/1000","v":0.13719999999999999},"US$/kWh",null,"Other",null,null,null,null,"Cost of electricity produced",{"$f":"U241/Z244/1000","v":8.5750000000000007E-2},"US$/kWh",null,"Other",null,null,null,null,"Cost of electricity produced",{"$f":"AD241/AI244/1000","v":8.5750000000000007E-2},"US$/kWh"]
[null,"Total CO2-eq. emission ",{"$f":"C244+C245","v":0},{"$f":"D244+D245","v":0},{"$f":"D246-C246","v":0},null,null,null,null,null,"Total CO2-eq. emission ",{"$f":"L244+L245","v":0},{"$f":"M244+M245","v":0},{"$f":"M246-L246","v":0},null,null,null,null,null,"Total CO2-eq. emission ",{"$f":"U244+U245","v":0},{"$f":"V244+V245","v":0},{"$f":"V246-U246","v":0},null,null,null,null,null,"Total CO2-eq. emission ",{"$f":"AD244+AD245","v":0},{"$f":"AE244+AE245","v":0},{"$f":"AE246-AD246","v":0}]
[null,null,null,null,null,null,"Reduction option: No Solar central parabolic",null,null,null,null,null,null,null,null,"Reduction option: No Solar central parabolic",null,null,null,null,null,null,null,null,"Reduction option: No Solar central parabolic",null,null,null,null,null,null,null,null,"Reduction option: No Solar central parabolic"]
[null,"US$/ton CO2-eq.",null,null,{"$f":"IF(E246<>0,E241/E246,0)","v":0},null,null,null,null,null,"US$/ton CO2-eq.",null,null,{"$f":"IF(N246<>0,N241/N246,0)","v":0},null,null,null,null,null,"US$/ton CO2-eq.",null,null,{"$f":"IF(W246<>0,W241/W246,0)","v":0},null,null,null,null,null,"US$/ton CO2-eq.",null,null,{"$f":"IF(AF246<>0,AF241/AF246,0)","v":0}]
[]
[]
[]
[]
[]
[]
[]
[]
[]
[]
[]
[null,"Solar tower CSP, with 24 h storage, 1 MW - 2025",null,null,null,null,null,null,null,null,"Solar tower CSP, with 24 h storage, 1 MW - 2030",null,null,null,null,null,null,null,null,"Solar tower CSP, with 24 h storage, 1 MW - 2040",null,null,null,null,null,null,null,null,"Solar tower CSP, with 24 h storage, 1 MW - 2050"]
[null,"Costs in","Reduction","Reference","Increase",null,"General inputs:",null,null,null,"Costs in","Reduction","Reference","Increase",null,"General inputs:",null,null,null,"Costs in","Reduction","Reference","Increase",null,"General inputs:",null,null,null,"Costs in","Reduction","Reference","Increase",null,"General inputs:"]
[null,"US$","Option","Option","(Red.-Ref.)",null,"Discount rate ",{"$f":"Assumptions!$C$13","v":0},null,null,"US$","Option","Option","(Red.-Ref.)",null,"Discount rate ",{"$f":"Assumptions!$C$13","v":0},null,null,"US$","Option","Option","(Red.-Ref.)",null,"Discount rate ",{"$f":"Assumptions!$C$13","v":0},null,null,"US$","Option","Option","(Red.-Ref.)",null,"Discount rate ",{"$f":"Assumptions!$C$13","v":0}]
[null,"Total investment",{"$f":"H269*1000*H268","v":8000000},null,{"$f":"C263-D263","v":8000000},null,"Reference electricity price",{"$f":"+Assumptions!C35","v":0},"US$/kWh",null,"Total investment",{"$f":"Q269*1000*Q268","v":7000000},null,{"$f":"L263-M263","v":7000000},null,"Reference electricity price",{"$f":"+Assumptions!C35","v":0},"US$/kWh",null,"Total investment",{"$f":"Z269*1000*Z268","v":5000000},null,{"$f":"U263-V263","v":5000000},null,"Reference electricity price",{"$f":"+Assumptions!C35","v":0},"US$/kWh",null,"Total investment",{"$f":"AI269*1000*AI268","v":5000000},null,{"$f":"AD263-AE263","v":5000000},null,"Reference electricity price",{"$f":"+Assumptions!C35","v":0},"US$/kWh"]
[null,"Project life",20,null,null,null,"CO2-eq. emission coefficient",{"$f":"Assumptions!$C38","v":0},"tCO2/MWh",null,"Project life",20,null,null,null,"CO2-eq. emission coefficient",{"$f":"Assumptions!$C38","v":0},"tCO2/MWh",null,"Project life",20,null,null,null,"CO2-eq. emission coefficient",{"$f":"Assumptions!$C38","v":0},"tCO2/MWh",null,"Project life",20,null,null,null,"CO2-eq. emission coefficient",{"$f":"Assumptions!$C38","v":0},"tCO2/MWh"]
[null,"Lev. investment",{"$f":"IF(C264=0,0,PMT($H$262,C264,-C263))","v":400000},null,{"$f":"C265-D265","v":400000},null,null,null,null,null,"Lev. investment",{"$f":"IF(L264=0,0,PMT($Q$262,L264,-L263))","v":350000},null,{"$f":"L265-M265","v":350000},null,null,null,null,null,"Lev. investment",{"$f":"IF(U264=0,0,PMT($Z$262,U264,-U263))","v":250000},null,{"$f":"U265-V265","v":250000},null,null,null,null,null,"Lev. investment",{"$f":"IF(AD264=0,0,PMT($AI$262,AD264,-AD263))","v":250000},null,{"$f":"AD265-AE265","v":250000}]
[null,"Annual O&M",{"$f":"H267*H271*1000","v":45000},null,{"$f":"C266-D266","v":45000},null,"Reduction option: Solar Tower",null,null,null,"Annual O&M",{"$f":"Q267*Q271*1000","v":45000},null,{"$f":"L266-M266","v":45000},null,"Reduction option: Solar Tower",null,null,null,"Annual O&M",{"$f":"Z267*Z271*1000","v":45000},null,{"$f":"U266-V266","v":45000},null,"Reduction option: Solar Tower",null,null,null,"Annual O&M",{"$f":"AI267*AI271*1000","v":45000},null,{"$f":"AD266-AE266","v":45000},null,"Reduction option: Solar Tower"]
[null,"Annual fuelcost",null,{"$f":"H271*1000*H263","v":0},{"$f":"C267-D267","v":0},null,"O&M  ",0.03,"US$/kWh",null,"Annual fuelcost",null,{"$f":"Q271*1000*Q263","v":0},{"$f":"L267-M267","v":0},null,"O&M  ",0.03,"US$/kWh",null,"Annual fuelcost",null,{"$f":"Z271*1000*Z263","v":0},{"$f":"U267-V267","v":0},null,"O&M  ",0.03,"US$/kWh",null,"Annual fuelcost",null,{"$f":"AI271*1000*AI263","v":0},{"$f":"AD267-AE267","v":0},null,"O&M  ",0.03,"US$/kWh"]
[null,"Total annual cost",{"$f":"SUM(C265:C267)","v":445000},{"$f":"SUM(D265:D267)","v":0},{"$f":"C268-D268","v":445000},null,"Activity",1,"MW",null,"Total annual cost",{"$f":"SUM(L265:L267)","v":395000},{"$f":"SUM(M265:M267)","v":0},{"$f":"L268-M268","v":395000},null,"Activity",1,"MW",null,"Total annual cost",{"$f":"SUM(U265:U267)","v":295000},{"$f":"SUM(V265:V267)","v":0},{"$f":"U268-V268","v":295000},null,"Activity",1,"MW",null,"Total annual cost",{"$f":"SUM(AD265:AD267)","v":295000},{"$f":"SUM(AE265:AE267)","v":0},{"$f":"AD268-AE268","v":295000},null,"Activity",1,"MW"]
[null,null,null,null,null,null,"Investment in Activity",8000,"US$/kW",null,null,null,null,null,null,"Investment in Activity",7000,"US$/kW",null,null,null,null,null,null,"Investment in Activity",5000,"US$/kW",null,null,null,null,null,null,"Investment in Activity",5000,"US$/kW"]
[null,"Annual emissions (tons)","Tons","Tons","Reduction",null,"Capacity factor",1500,"Full time hours",null,"Annual emissions (tons)","Tons","Tons","Reduction",null,"Capacity factor",1500,"Full time hours",null,"Annual emissions (tons)","Tons","Tons","Reduction",null,"Capacity factor",1500,"Full time hours",null,"Annual emissions (tons)","Tons","Tons","Reduction",null,"Capacity factor",1500,"Full time hours"]
[null,"Fuel  CO2-eq. emission",null,{"$f":"H271*H264","v":0},{"$f":"D271-C271","v":0},null,"Electricity production",{"$f":"H268*H270","v":1500},"MWh/year",null,"Fuel  CO2-eq. emission",null,{"$f":"Q271*Q264","v":0},{"$f":"M271-L271","v":0},null,"Electricity production",{"$f":"Q268*Q270","v":1500},"MWh/year",null,"Fuel  CO2-eq. emission",null,{"$f":"Z271*Z264","v":0},{"$f":"V271-U271","v":0},null,"Electricity production",{"$f":"Z268*Z270","v":1500},"MWh/year",null,"Fuel  CO2-eq. emission",null,{"$f":"AI271*AI264","v":0},{"$f":"AE271-AD271","v":0},null,"Electricity production",{"$f":"AI268*AI270","v":1500},"MWh/year"]
[null,"Other",null,null,null,null,"Cost of electricity produced",{"$f":"C268/H271/1000","v":0.29666666666666669},"US$/kWh",null,"Other",null,null,null,null,"Cost of electricity produced",{"$f":"L268/Q271/1000","v":0.26333333333333331},"US$/kWh",null,"Other",null,null,null,null,"Cost of electricity produced",{"$f":"U268/Z271/1000","v":0.19666666666666666},"US$/kWh",null,"Other",null,null,null,null,"Cost of electricity produced",{"$f":"AD268/AI271/1000","v":0.19666666666666666},"US$/kWh"]
[null,"Total CO2-eq. emission ",{"$f":"C271+C272","v":0},{"$f":"D271+D272","v":0},{"$f":"D273-C273","v":0},null,null,null,null,null,"Total CO2-eq. emission ",{"$f":"L271+L272","v":0},{"$f":"M271+M272","v":0},{"$f":"M273-L273","v":0},null,null,null,null,null,"Total CO2-eq. emission ",{"$f":"U271+U272","v":0},{"$f":"V271+V272","v":0},{"$f":"V273-U273","v":0},null,null,null,null,null,"Total CO2-eq. emission ",{"$f":"AD271+AD272","v":0},{"$f":"AE271+AE272","v":0},{"$f":"AE273-AD273","v":0}]
[null,null,null,null,null,null,"Reduction option: No Solar Tower",null,null,null,null,null,null,null,null,"Reduction option: No Solar Tower",null,null,null,null,null,null,null,null,"Reduction option: No Solar Tower",null,null,null,null,null,null,null,null,"Reduction option: No Solar Tower"]
[null,"US$/ton CO2-eq.",null,null,{"$f":"IF(E273<>0,E268/E273,0)","v":0},null,null,null,null,null,"US$/ton CO2-eq.",null,null,{"$f":"IF(N273<>0,N268/N273,0)","v":0},null,null,null,null,null,"US$/ton CO2-eq.",null,null,{"$f":"IF(W273<>0,W268/W273,0)","v":0},null,null,null,null,null,"US$/ton CO2-eq.",null,null,{"$f":"IF(AF273<>0,AF268/AF273,0)","v":0}]
[]
[]
[]
[]
[]
[]
[]
[]
[]
[]
[]
[]
[null,"Solar lamps (1000 LED lamps replacing kerosene)"]
[null,"Costs in","Reduction","Reference","Increase",null,"General inputs:"]
[null,"US$","Option","Option","(Red.-Ref.)",null,"Discount rate ",{"$f":"Assumptions!$C$13","v":0}]
[null,"Total investment",{"$f":"H297*H298","v":19148.936170212764},null,{"$f":"C291-D291","v":19148.936170212764},null,"Reference kerosene price",{"$f":"+Assumptions!J28","v":0.44025157232704398},"US$/liter"]
[null,"Project life",{"$f":"+H299","v":5},null,null,null,"Density of kerosene",{"$f":"+Assumptions!J30","v":0.8},"t/1000 liter"]
[null,"Lev. investment",{"$f":"IF(C292=0,0,PMT($H$290,C292,-C291))","v":3829.7872340425529},null,{"$f":"C293-D293","v":3829.7872340425529},null,"Energy content of Kerosene",{"$f":"+Assumptions!J31","v":44.75},"GJ/ton"]
[null,"Annual O&M",0,null,{"$f":"C294-D294","v":0},null,"CO2-eq. emission coefficient",{"$f":"+Assumptions!D49","v":71.866666666666674},"kgCO2/GJ"]
[null,"Annual fuelcost",null,{"$f":"H307*365*H291*H297","v":16069.182389937105},{"$f":"C295-D295","v":-16069.182389937105}]
[null,"Total annual cost",{"$f":"SUM(C293:C295)","v":3829.7872340425529},{"$f":"SUM(D293:D295)","v":16069.182389937105},{"$f":"C296-D296","v":-12239.395155894552},null,"Activity: Solar LED lamps replacing kerosene"]
[null,null,null,null,null,null,"Number of LED lamps",1000]
[null,"Annual emissions (tons)","Tons","Tons","Reduction",null,"The cost of 1 solar LED lamp",{"$f":"90/4.7","v":19.148936170212764},"US$"]
[null,"Fuel  CO2-eq. emission",null,{"$f":"H308*H294/1000","v":93.908173333333366},{"$f":"D299-C299","v":93.908173333333366},null,"Lifetime of solar LED lamp",5,"Years"]
[null,"Other",null,null,null,null,"Daily insolation",5,"hours"]
[null,"Total CO2-eq. emission ",{"$f":"C299+C300","v":0},{"$f":"D299+D300","v":93.908173333333366},{"$f":"D301-C301","v":93.908173333333366},null,"Annual capacity factor",{"$f":"H300*365","v":1825},"Full time hours"]
[]
[null,"US$/ton CO2-eq.",null,null,{"$f":"IF(E301<>0,E296/E301,0)","v":-130.33365170942039},null,"Reference option: Kerosen lamps"]
[null,null,null,null,null,null,"Annual comsumption of kerosene",{"$f":"H307*365*H297","v":36500},"Liters"]
[null,null,null,null,null,null,"Hourly comsumption of kerosene",0.05,"Liters"]
[null,null,null,null,null,null,"Number of hours of lamp use",4,"hours pr day"]
[null,null,null,null,null,null,"Daily comsumption of kerosene",{"$f":"3/30","v":0.1},"Liters"]
[null,null,null,null,null,null,"Annual comsumption of kerosene",{"$f":"H307/1000*365*H292*H293*H297","v":1306.7000000000003},"GJ"]
[]
[]
[]
[]
[]
[]
[null,"Solar street lights - 1000 poles"]
[null,"Costs in","Reduction","Reference","Increase",null,"General inputs:"]
[null,"US$","Option","Option","(Red.-Ref.)",null,"Discount rate ",{"$f":"+DiscountRate","v":0}]
[null,"Total investment",{"$f":"+H324*H323+H323*H325*(1+H317)^(-H327)","v":4662000},{"$f":"H333*(H331+H332)+H333*H334*((1+H317)^(-H336)+(1+H317)^(-H336*2)+(1+H317)^(-H336*3)+(1+H317)^(-H336*4))","v":6150000},{"$f":"C318-D318","v":-1488000},null,"Average electricity price",{"$f":"+Assumptions!C35","v":0},"US$/kWh"]
[null,"Project life",25,25,null,null,"CO2-eq. emission coefficient",{"$f":"+Assumptions!C39","v":0},"ton CO2-eq./MWh"]
[null,"Lev. investment",{"$f":"IF(C319=0,0,PMT($H317,C319,-C318))","v":186480},{"$f":"IF(D319=0,0,PMT($H$317,D319,-D318))","v":246000},{"$f":"C320-D320","v":-59520},null,"Grid loss",{"$f":"+Assumptions!C40","v":1}]
[null,"Annual O&M",null,null,{"$f":"C321-D321","v":0}]
[null,"Annual electricity cost",null,{"$f":"H341*1000*H318*1000/H323","v":0},{"$f":"C322-D322","v":0},null,"Reduction option: Solar street lights"]
[null,"Total annual cost",{"$f":"SUM(C320:C322)","v":186480},{"$f":"SUM(D320:D322)","v":246000},{"$f":"C323-D323","v":-59520},null,"Activity",1000,"locations"]
[null,null,null,null,null,null,"Instalation cost",4500,"US$/pole"]
[null,"Annual emissions (tons)","Tons","Tons","Reduction",null,"Cost of lamp",162,"US$"]
[null,"Fuel  CO2-eq. emission",null,{"$f":"H341*H319/(1+H320)","v":0},{"$f":"D326-C326","v":0},null,"Lamp lifetime",50000,"hrs"]
[null,"Other",null,null,null,null,"Lamp lifetime in years",12.5,"years"]
[null,"Total CO2-eq. emission ",{"$f":"C326+C327","v":0},{"$f":"D326+D327","v":0},{"$f":"D328-C328","v":0},null,"Lamp wattage",50,"W"]
[null,null,null,null,null,null,"Daily usage",12,"hrs"]
[null,"US$/ton CO2-eq.",null,null,{"$f":"IF(E328<>0,E323/E328,0)","v":0},null,"Reference option: 250 W high pressure sodium lamp"]
[null,null,null,null,null,null,"Investment",1350,"US$/pole"]
[null,null,null,null,null,null,"Wiring investment",4500,"US$/pole"]
[null,null,null,null,null,null,"Activity",{"$f":"+H323","v":1000},{"$f":"+I323","v":"locations"}]
[null,null,null,null,null,null,"Cost of sodium lamp",75,"US$"]
[null,null,null,null,null,null,"Lamp lifetime in hours",24000,"hours"]
[null,null,null,null,null,null,"Lamp lifetime in years",{"$f":"H335/H340/365","v":5.4794520547945202},"Years"]
[null,null,null,null,null,null,"Required lamp replacements",{"$f":"7/H336","v":1.2775000000000001},"times"]
[null,null,null,null,null,null,"Lamp discount rate",{"$f":"H317*H336/365","v":0}]
[null,null,null,null,null,null,"Sodium lamp wattage",250,"W"]
[null,null,null,null,null,null,"Daily usage",{"$f":"H329","v":12},"hrs"]
[null,null,null,null,null,null,"Annual electricity used",{"$f":"H339*H340*H333*365/1000000","v":1095},"MWh"]
[]
[]
[]
[]
[null,"PV pump replacing Electric pump (1 pump)"]
[null,"Costs in","Reduction","Reference","Increase",null,"General inputs:"]
[null,"US$","Option","Option","(Red.-Ref.)",null,"Discount rate ",{"$f":"+DiscountRate","v":0}]
[null,"Total investment",{"$f":"(H354+H355)","v":0},{"$f":"(H364+H365)","v":0},{"$f":"C349-D349","v":0},null,"Electricity price",{"$f":"Assumptions!C35","v":0},"US$/kWh"]
[null,"Project life",{"$f":"H356","v":20},20,null,null,"Grid Emission Factor",{"$f":"Assumptions!C39","v":0},"tCO2eq/MWh"]
[null,"Lev. investment",{"$f":"IF(C350=0,0,PMT($H348,C350,-C349))","v":0},{"$f":"IF(D350=0,0,PMT($H348,D350,-D349))","v":0},{"$f":"C351-D351","v":0},null,"Grid loss",{"$f":"Assumptions!C40","v":1},"%"]
[null,"Annual O&M",{"$f":"C349*H357","v":0},{"$f":"D349*H366","v":0},{"$f":"C352-D352","v":0}]
[null,"Annual electricity cost",null,{"$f":"H369*H349","v":0},{"$f":"C353-D353","v":0},null,"Reduction option: PV pumps"]
[null,"Total annual cost",{"$f":"SUM(C351:C353)","v":0},{"$f":"SUM(D351:D353)","v":0},{"$f":"C354-D354","v":0},null,"Investment in pump and motor",{"$f":"H364","v":0},"US$"]
[null,null,null,null,null,null,"Investment in PV panel ",{"$f":"H358*H360","v":0},"US$"]
[null,"Annual emissions (tons)","Tons","Tons","Reduction",null,"Lifetime",20,"Years"]
[null,"Fuel  CO2-eq. emission",null,{"$f":"H369/1000*H350","v":0},{"$f":"D357-C357","v":0},null,"Annual O&M (%)",null,"of investment"]
[null,"Other",null,null,null,null,"Nominal Power",{"$f":"H367","v":3.1360000000000001},"kW"]
[null,"Total CO2-eq. emission ",{"$f":"C357+C358","v":0},{"$f":"D357+D358","v":0},{"$f":"D359-C359","v":0},null,"Number of pumping hours per day",{"$f":"H368","v":5},"h/day"]
[null,null,null,null,null,null,"Cost of PV panel",null,"US$/kW"]
[null,"US$/ton CO2-eq.",null,null,{"$f":"IF(E359<>0,E354/E359,0)","v":0}]
[]
[null,null,null,null,null,null,"Reference option: Electric pumps"]
[null,null,null,null,null,null,"Investment in pump and motor",null,"US$"]
[null,null,null,null,null,null,"Investment in connection to the grid",null,"US$"]
[null,null,null,null,null,null,"Annual O&M (%)",null,"of investment"]
[null,null,null,null,null,null,"Nominal Power",3.1360000000000001,"kW"]
[null,null,null,null,null,null,"Number of pumping hours per day",5,"h/day"]
[null,null,null,null,null,null,"Annual electricity used",{"$f":"H367*H368*365/(1-(H351/100))","v":5781.0101010101007},"kWh/year"]
[]
[]
[]
[]
[null,"PV pump replacing Diesel pump (1 pump)"]
[null,"Costs in","Reduction","Reference","Increase",null,"General inputs:"]
[null,"US$","Option","Option","(Red.-Ref.)",null,"Discount rate ",{"$f":"+DiscountRate","v":0}]
[null,"Total investment",{"$f":"(H382+H383)","v":0},{"$f":"H391*H394","v":0},{"$f":"C377-D377","v":0},null,"Cost of diesel",{"$f":"Assumptions!G29","v":10.367789021299378},"US$/GJ"]
[null,"Project life",{"$f":"H384","v":20},{"$f":"H384","v":20}]
[null,"Lev. investment",{"$f":"IF(C378=0,0,PMT($H376,C378,-C377))","v":0},{"$f":"IF(D378=0,0,PMT($H376,D378,-D377))","v":0},{"$f":"C379-D379","v":0}]
[null,"Annual O&M",{"$f":"C377*H385","v":0},{"$f":"D377*H393","v":0},{"$f":"C380-D380","v":0}]
[null,"Annual fuelcost",null,{"$f":"H377*(H408*1000)","v":1776.9291396870876},{"$f":"C381-D381","v":-1776.9291396870876},null,"Reduction option: PV pumps"]
[null,"Total annual cost",{"$f":"SUM(C379:C381)","v":0},{"$f":"SUM(D379:D381)","v":1776.9291396870876},{"$f":"C382-D382","v":-1776.9291396870876},null,"Investment in PV engine + pump",null,"US$"]
[null,null,null,null,null,null,"Investment in PV panel",{"$f":"H386*H387","v":0},"US$"]
[null,"Annual emissions (tons)","Tons","Tons","Reduction",null,"Lifetime PV equipment system",20,"Years"]
[null,"Fuel  CO2-eq. emission",null,{"$f":"H408*H407","v":12.699954539999998},{"$f":"D385-C385","v":12.699954539999998},null,"Annual O&M (%)",null,"of investment"]
[null,"Other",null,null,null,null,"Size of Solar PV panel",{"$f":"H405/H398*30%","v":7.8260062607999998},"kW"]
[null,"Total CO2-eq. emission ",{"$f":"C385+C386","v":0},{"$f":"D385+D386","v":12.699954539999998},{"$f":"D387-C387","v":12.699954539999998},null,"Cost of PV panel",null,"US$/kW"]
[]
[null,"US$/ton CO2-eq.",null,null,{"$f":"IF(E387<>0,E382/E387,0)","v":-139.91618112414818}]
[null,null,null,null,null,null,"Reference option: Diesel engine + pump"]
[null,null,null,null,null,null,"Investment in Diesel engine + pump",null,"US$"]
[null,null,null,null,null,null,"Lifetime Diesel engine + pump",10,"Years"]
[null,null,null,null,null,null,"Annual O&M (%)",null,"of investment"]
[null,null,null,null,null,null,"Number of Diesel pump replacement",{"$f":"H384/H392","v":2},"times"]
[null,null,null,null,null,null,"Tank capacity",5.2,"liter (L)"]
[null,null,null,null,null,null,"Tank duration",2,"h"]
[null,null,null,null,null,null,"Diesel consumption per hour",{"$f":"H395/H396","v":2.6},"(L/h)"]
[null,null,null,null,null,null,"Number of pumping hours per day",5,"h"]
[null,null,null,null,null,null,"Diesel comsumption per day",{"$f":"H397*H398","v":13},"liter (L)"]
[null,null,null,null,null,null,"Diesel density",0.84,"kg/L"]
[null,null,null,null,null,null,"Diesel comsumption per day ",{"$f":"H399*H400","v":10.92},"kg"]
[null,null,null,null,null,null,"Diesel consumption per day",{"$f":"H401/1000000","v":1.092E-5},"Gg"]
[null,null,null,null,null,null,"Calorific value diesel",43,"TJ/Gg"]
[null,null,null,null,null,null,"Diesel consumption per day",{"$f":"H402*H403","v":4.6956E-4},"TJ"]
[null,null,null,null,null,null,"Equivalent kWh as diesel comsumption per day",{"$f":"H404*277778","v":130.43343768},"kWh"]
[null,null,null,null,null,null,"Emission factor Diesel",74100,"kg/TJ"]
[null,null,null,null,null,null,"Emission factor Diesel",{"$f":"H406/1000","v":74.099999999999994},"tCO2eq/TJ"]
[null,null,null,null,null,null,"Annual Diesel consumption",{"$f":"H404*365","v":0.1713894},"TJ/year"]

{"sheet":"Storage","index":41,"n_rows":23,"n_cols":27,"rows_kept":23,"cut":false,"hidden":true,"merged":[[12,24,12,26],[1,1,1,4],[2,1,2,4],[8,24,8,26]]}
[]
[]
[null,"Battery storage plant"]
[]
[]
[]
[]
[null,"Battery storage plant - 1 MWh in 2025",null,null,null,null,null,null,null,null,"Battery storage plant - 1 MWh in 2030",null,null,null,null,null,null,null,null,"Battery storage plant - 1 MWh in 2050"]
[null,"Costs in","Reduction","Reference","Increase",null,"General inputs:",null,null,null,"Costs in","Reduction","Reference","Increase",null,"General inputs:",null,null,null,"Costs in","Reduction","Reference","Increase",null,"General inputs:"]
[null,"US$","Option","Option","(Red.-Ref.)",null,"Discount rate ",{"$f":"Assumptions!$C$13","v":0},null,null,"US$","Option","Option","(Red.-Ref.)",null,"Discount rate ",{"$f":"Assumptions!$C$13","v":0},null,null,"US$","Option","Option","(Red.-Ref.)",null,"Discount rate ",{"$f":"Assumptions!$C$13","v":0}]
[null,"Total investment",{"$f":"+H16*1000","v":120000},{"$f":"H19*1000","v":0},{"$f":"C11-D11","v":120000},null,"CO2-eq. emission coefficient",null,"tCO2/MWh",null,"Total investment",{"$f":"+Q16*1000","v":60000},{"$f":"Q19*1000","v":0},{"$f":"L11-M11","v":60000},null,"CO2-eq. emission coefficient",null,"tCO2/MWh",null,"Total investment",{"$f":"+Z16*1000","v":50000},{"$f":"Z19*1000","v":0},{"$f":"U11-V11","v":50000},null,"CO2-eq. emission coefficient",null,"tCO2/MWh"]
[null,"Project life",20,20,null,null,null,null,null,null,"Project life",20,20,null,null,null,null,null,null,"Project life",20,20]
[null,"Lev. investment",{"$f":"IF(C12=0,0,PMT($H10,C12,-C11))","v":6000},null,{"$f":"C13-D13","v":6000},null,"Reduction option: Extra Battery storage",null,null,null,"Lev. investment",{"$f":"IF(L12=0,0,PMT($Q10,L12,-L11))","v":3000},null,{"$f":"L13-M13","v":3000},null,"Reduction option: Extra Battery storage",null,null,null,"Lev. investment",{"$f":"IF(U12=0,0,PMT($Z10,U12,-U11))","v":2500},null,{"$f":"U13-V13","v":2500},null,"Reduction option: Extra Battery storage"]
[null,"Annual O&M",0,0,{"$f":"C14-D14","v":0},null,"Activity",1,"MWh/ year",null,"Annual O&M",0,0,{"$f":"L14-M14","v":0},null,"Activity",1,"MWh/ year",null,"Annual O&M",0,0,{"$f":"U14-V14","v":0},null,"Activity",1,"MWh/ year"]
[null,"Annual fuelcost",0,0,{"$f":"C15-D15","v":0},null,"Cost of storage",120,"US$/kWh",null,"Annual fuelcost",0,0,{"$f":"L15-M15","v":0},null,"Cost of storage",60,"US$/kWh",null,"Annual fuelcost",0,0,{"$f":"U15-V15","v":0},null,"Cost of storage",50,"US$/kWh"]
[null,"Total annual cost",{"$f":"SUM(C13:C15)","v":6000},{"$f":"SUM(D13:D15)","v":0},{"$f":"C16-D16","v":6000},null,"Cost of 1 MWh storage",{"$f":"H15","v":120},"kUS$",null,"Total annual cost",{"$f":"SUM(L13:L15)","v":3000},{"$f":"SUM(M13:M15)","v":0},{"$f":"L16-M16","v":3000},null,"Cost of 1 MWh storage",{"$f":"Q15","v":60},"kUS$",null,"Total annual cost",{"$f":"SUM(U13:U15)","v":2500},{"$f":"SUM(V13:V15)","v":0},{"$f":"U16-V16","v":2500},null,"Cost of 1 MWh storage",{"$f":"Z15","v":50},"kUS$"]
[]
[null,"Annual emissions (tons)","Tons","Tons","Reduction",null,"Reference option: No extra battery storage",null,null,null,"Annual emissions (tons)","Tons","Tons","Reduction",null,"Reference option: No extra battery storage",null,null,null,"Annual emissions (tons)","Tons","Tons","Reduction",null,"Reference option: No extra battery storage"]
[null,"Fuel  CO2-eq. emission",null,null,{"$f":"D19-C19","v":0},null,null,null,null,null,"Fuel  CO2-eq. emission",null,null,{"$f":"M19-L19","v":0},null,null,null,null,null,"Fuel  CO2-eq. emission",null,null,{"$f":"V19-U19","v":0}]
[null,"Other",null,null,null,null,null,null,null,null,"Other",null,null,null,null,null,null,null,null,"Other"]
[null,"Total CO2-eq. emission ",{"$f":"C19+C20","v":0},{"$f":"D19+D20","v":0},{"$f":"D21-C21","v":0},null,null,null,null,null,"Total CO2-eq. emission ",{"$f":"L19+L20","v":0},{"$f":"M19+M20","v":0},{"$f":"M21-L21","v":0},null,null,null,null,null,"Total CO2-eq. emission ",{"$f":"U19+U20","v":0},{"$f":"V19+V20","v":0},{"$f":"V21-U21","v":0}]
[]
[null,"US$/ton CO2-eq.",null,null,{"$f":"IF(E21<>0,E16/E21,0)","v":0},null,null,null,null,null,"US$/ton CO2-eq.",null,null,{"$f":"IF(N21<>0,N16/N21,0)","v":0},null,null,null,null,null,"US$/ton CO2-eq.",null,null,{"$f":"IF(W21<>0,W16/W21,0)","v":0}]

{"sheet":"Transport","index":42,"n_rows":573,"n_cols":37,"rows_kept":573,"cut":false,"hidden":true,"merged":[[164,33,164,35],[195,6,195,8],[195,15,195,17],[195,33,195,35],[52,24,52,26],[60,24,60,26],[66,24,66,26],[134,24,134,26],[164,24,164,26],[381,6,381,8],[83,6,83,8],[109,6,109,8],[550,6,550,8],[521,6,521,8],[164,6,164,8],[495,6,495,8],[350,6,350,8],[464,6,464,8],[450,6,450,8],[437,6,437,8],[443,6,443,8],[409,6,409,8],[226,6,226,8],[321,6,321,8],[258,6,258,8],[1,1,1,3],[5,1,5,3],[6,1,6,3],[16,1,16,3],[24,15,24,17],[17,1,17,3],[18,1,18,3],[24,6,24,8],[32,6,32,8],[38,6,38,8],[290,6,290,8],[195,24,195,26],[226,24,226,26],[258,24,258,26],[226,15,226,17],[134,6,134,8],[52,6,52,8],[60,6,60,8],[66,6,66,8],[52,15,52,17],[60,15,60,17],[66,15,66,17],[164,15,164,17],[24,24,24,26],[32,24,32,26],[38,24,38,26],[258,15,258,17],[258,33,258,35],[226,33,226,35],[134,33,134,35],[24,33,24,35],[32,33,32,35],[38,33,38,35],[52,33,52,35],[60,33,60,35],[66,33,66,35],[32,15,32,17],[38,15,38,17],[134,15,134,17]]}
[]
[null,"Menu for Transport options (click links below)"]
[]
[null,"Biodiesel blended in all remaining diesel "]
[null,"Bioethanol blended in all gasoline"]
[null,"More efficient gasoline cars (1000 cars)"]
[null,"More efficient diesel cars (1000 cars)"]
[null,"Electric cars"]
[null,"Electric 18m buses"]
[null,"Electric 12m buses "]
[null,"Electric heavy trucks"]
[null,"Electric light trucks"]
[null,"Electric train replacing diesel train"]
[null,"Shifting passengers from car to rail (1 million personkm/day) "]
[null,"Shifting freight transport from road to rail (1000 tonkm/day)"]
[null,"Taxies using natural gas (1000 taxies)"]
[null,"Restriction on import of used cars (1000 cars)"]
[null,"Better maintenance and use of motor bikes"]
[null,"Bus Rapid Transit (1 km BRT)"]
[null,"New bicycle lanes"]
[null,"Electric three-wheelers"]
[]
[]
[null,"20% Biodiesel blended in all remaining diesel in 2025",null,null,null,null,null,null,null,null,"20% Biodiesel blended in all remaining diesel in 2030",null,null,null,null,null,null,null,null,"20% Biodiesel blended in all remaining diesel in 2040",null,null,null,null,null,null,null,null,"20% Biodiesel blended in all remaining diesel in 2050"]
[null,"Costs in","Reduction","Reference","Increase",null,"General inputs:",null,null,null,"Costs in","Reduction","Reference","Increase",null,"General inputs:",null,null,null,"Costs in","Reduction","Reference","Increase",null,"General inputs:",null,null,null,"Costs in","Reduction","Reference","Increase",null,"General inputs:"]
[null,"US$","Option","Option","(Red.-Ref.)",null,"Discount rate ",{"$f":"+DiscountRate","v":0},null,null,"US$","Option","Option","(Red.-Ref.)",null,"Discount rate ",{"$f":"+DiscountRate","v":0},null,null,"US$","Option","Option","(Red.-Ref.)",null,"Discount rate ",{"$f":"+DiscountRate","v":0},null,null,"US$","Option","Option","(Red.-Ref.)",null,"Discount rate ",{"$f":"+DiscountRate","v":0}]
[null,"Total investment",0,null,{"$f":"C27-D27","v":0},null,"1 toe =",41.868000000000002,"GJ",null,"Total investment",0,null,{"$f":"L27-M27","v":0},null,"1 toe =",41.868000000000002,"GJ",null,"Total investment",0,null,{"$f":"U27-V27","v":0},null,"1 toe =",41.868000000000002,"GJ",null,"Total investment",0,null,{"$f":"AD27-AE27","v":0},null,"1 toe =",41.868000000000002,"GJ"]
[null,"Project life",20,null,null,null,"Diesel price",{"$f":"+Assumptions!G28","v":0.37735849056603771},"US$/liter",null,"Project life",20,null,null,null,"Diesel price",{"$f":"+Assumptions!G28","v":0.37735849056603771},"US$/liter",null,"Project life",20,null,null,null,"Diesel price",{"$f":"+Assumptions!G28","v":0.37735849056603771},"US$/liter",null,"Project life",20,null,null,null,"Diesel price",{"$f":"+Assumptions!G28","v":0.37735849056603771},"US$/liter"]
[null,"Lev. investment",{"$f":"IF(C28=0,0,PMT($H$26,C28,-C27))","v":0},null,{"$f":"C29-D29","v":0},null,"Biodiesel price",{"$f":"+Assumptions!H28","v":1.2},"US$/liter",null,"Lev. investment",{"$f":"IF(L28=0,0,PMT($Q$26,L28,-L27))","v":0},null,{"$f":"L29-M29","v":0},null,"Biodiesel price",{"$f":"+Assumptions!H28","v":1.2},"US$/liter",null,"Lev. investment",{"$f":"IF(U28=0,0,PMT($Z$26,U28,-U27))","v":0},null,{"$f":"U29-V29","v":0},null,"Biodiesel price",{"$f":"+Assumptions!H28","v":1.2},"US$/liter",null,"Lev. investment",{"$f":"IF(AD28=0,0,PMT($H$26,AD28,-AD27))","v":0},null,{"$f":"AD29-AE29","v":0},null,"Biodiesel price",{"$f":"+Assumptions!H28","v":1.2},"US$/liter"]
[null,"Annual O&M",{"$f":"C27*H32","v":0},null,{"$f":"C30-D30","v":0},null,"1 toe of diesel equal",{"$f":"+Assumptions!D78/Assumptions!E78","v":1150.3082654709704},"liter",null,"Annual O&M",{"$f":"L27*Q32","v":0},null,{"$f":"L30-M30","v":0},null,"1 toe of diesel equal",{"$f":"+Assumptions!D78/Assumptions!E78","v":1150.3082654709704},"liter",null,"Annual O&M",{"$f":"U27*Z32","v":0},null,{"$f":"U30-V30","v":0},null,"1 toe of diesel equal",{"$f":"+Assumptions!D78/Assumptions!E78","v":1150.3082654709704},"liter",null,"Annual O&M",{"$f":"AD27*AI32","v":0},null,{"$f":"AD30-AE30","v":0},null,"1 toe of diesel equal",{"$f":"+Assumptions!D78/Assumptions!E78","v":1150.3082654709704},"liter"]
[null,"Annual fuelcost",{"$f":"H38*H29*1000","v":0},{"$f":"H45*H28*1000","v":0},{"$f":"C31-D31","v":0},null,"1 toe of biodiesel equeal",{"$f":"+Assumptions!D77/Assumptions!E77","v":1316.2790697674418},"liter",null,"Annual fuelcost",{"$f":"Q38*Q29*1000","v":0},{"$f":"Q45*Q28*1000","v":0},{"$f":"L31-M31","v":0},null,"1 toe of biodiesel equeal",{"$f":"+Assumptions!D77/Assumptions!E77","v":1316.2790697674418},"liter",null,"Annual fuelcost",{"$f":"Z38*Z29*1000","v":0},{"$f":"Z45*Z28*1000","v":0},{"$f":"U31-V31","v":0},null,"1 toe of biodiesel equeal",{"$f":"+Assumptions!D77/Assumptions!E77","v":1316.2790697674418},"liter",null,"Annual fuelcost",{"$f":"AI38*AI29*1000","v":0},{"$f":"AI45*AI28*1000","v":0},{"$f":"AD31-AE31","v":0},null,"1 toe of biodiesel equeal",{"$f":"+Assumptions!D77/Assumptions!E77","v":1316.2790697674418},"liter"]
[null,"Total annual cost",{"$f":"SUM(C29:C31)","v":0},{"$f":"SUM(D29:D31)","v":0},{"$f":"C32-D32","v":0},null,"Diesel emission factor",{"$f":"+Assumptions!D46","v":74.066666666666663},"kgCO2/GJ",null,"Total annual cost",{"$f":"SUM(L29:L31)","v":0},{"$f":"SUM(M29:M31)","v":0},{"$f":"L32-M32","v":0},null,"Diesel emission factor",{"$f":"+Assumptions!D46","v":74.066666666666663},"kgCO2/GJ",null,"Total annual cost",{"$f":"SUM(U29:U31)","v":0},{"$f":"SUM(V29:V31)","v":0},{"$f":"U32-V32","v":0},null,"Diesel emission factor",{"$f":"+Assumptions!D46","v":74.066666666666663},"kgCO2/GJ",null,"Total annual cost",{"$f":"SUM(AD29:AD31)","v":0},{"$f":"SUM(AE29:AE31)","v":0},{"$f":"AD32-AE32","v":0},null,"Diesel emission factor",{"$f":"+Assumptions!D46","v":74.066666666666663},"kgCO2/GJ"]
[null,null,null,null,null,null,"Reduction option: 10% Biodiesel blend",1,"kW",null,null,null,null,null,null,"Reduction option: 20% Biodiesel blend",1,"kW",null,null,null,null,null,null,"Reduction option: 20% Biodiesel blend",1,"kW",null,null,null,null,null,null,"Reduction option: 20% Biodiesel blend",1,"kW"]
[null,"Annual emissions (tons)","Tons","Tons","Reduction",null,"Investment in Activity",0,"US$/liter",null,"Annual emissions (tons)","Tons","Tons","Reduction",null,"Investment in Activity",0,"US$/liter",null,"Annual emissions (tons)","Tons","Tons","Reduction",null,"Investment in Activity",0,"US$/liter",null,"Annual emissions (tons)","Tons","Tons","Reduction",null,"Investment in Activity",0,"US$/liter"]
[null,"Fuel  CO2-eq. emission",null,{"$f":"H44*H32/1000","v":0},{"$f":"D35-C35","v":0},null,"M&O",0,"US$/liter",null,"Fuel  CO2-eq. emission",null,{"$f":"Q44*Q32/1000","v":0},{"$f":"M35-L35","v":0},null,"M&O",0,"US$/liter",null,"Fuel  CO2-eq. emission",null,{"$f":"Z44*Z32/1000","v":0},{"$f":"V35-U35","v":0},null,"M&O",0,"US$/liter",null,"Fuel  CO2-eq. emission",null,{"$f":"AI44*AI32/1000","v":0},{"$f":"AE35-AD35","v":0},null,"M&O",0,"US$/liter"]
[null,"Other",null,null,null,null,"Amount of diesel replaced",0.2,null,null,"Other",null,null,null,null,"Amount of diesel replaced",0.2,null,null,"Other",null,null,null,null,"Amount of diesel replaced",0.2,null,null,"Other",null,null,null,null,"Amount of diesel replaced",0.2]
[null,"Total CO2-eq. emission ",{"$f":"C35+C36","v":0},{"$f":"D35+D36","v":0},{"$f":"D37-C37","v":0},null,"Amount of biodiesel used",{"$f":"+H43","v":0},"ktoe",null,"Total CO2-eq. emission ",{"$f":"L35+L36","v":0},{"$f":"M35+M36","v":0},{"$f":"M37-L37","v":0},null,"Amount of biodiesel used",{"$f":"+Q43","v":0},"ktoe",null,"Total CO2-eq. emission ",{"$f":"U35+U36","v":0},{"$f":"V35+V36","v":0},{"$f":"V37-U37","v":0},null,"Amount of biodiesel used",{"$f":"+Z43","v":0},"ktoe",null,"Total CO2-eq. emission ",{"$f":"AD35+AD36","v":0},{"$f":"AE35+AE36","v":0},{"$f":"AE37-AD37","v":0},null,"Amount of biodiesel used",{"$f":"+AI43","v":0},"ktoe"]
[null,null,null,null,null,null,"Amount of biodiesel used",{"$f":"H37*H31","v":0},"m3",null,null,null,null,null,null,"Amount of biodiesel used",{"$f":"Q37*Q31","v":0},"m3",null,null,null,null,null,null,"Amount of biodiesel used",{"$f":"Z37*Z31","v":0},"m3",null,null,null,null,null,null,"Amount of biodiesel used",{"$f":"AI37*AI31","v":0},"m3"]
[null,"US$/ton CO2-eq.",null,null,{"$f":"IF(E37<>0,E32/E37,0)","v":0},null,"Reference option: 100% diesel ",null,null,null,"US$/ton CO2-eq.",null,null,{"$f":"IF(N37<>0,N32/N37,0)","v":0},null,"Reference option: 100% diesel ",null,null,null,"US$/ton CO2-eq.",null,null,{"$f":"IF(W37<>0,W32/W37,0)","v":0},null,"Reference option: 100% diesel ",null,null,null,"US$/ton CO2-eq.",null,null,{"$f":"IF(AF37<>0,AF32/AF37,0)","v":0},null,"Reference option: 100% diesel "]
[null,null,null,null,null,null,"Total transport diesel use in 2025",{"$f":"+'BAU projected Energy Balances'!G61+'BAU projected Energy Balances'!G62+'BAU projected Energy Balances'!G64","v":0},"ktoe",null,null,null,null,null,null,"Total transport diesel use in 2030",{"$f":"+'BAU projected Energy Balances'!G147+'BAU projected Energy Balances'!G148+'BAU projected Energy Balances'!G150","v":0},"ktoe",null,null,null,null,null,null,"Total transport diesel use in 2030",{"$f":"+'BAU projected Energy Balances'!G290+'BAU projected Energy Balances'!G291+'BAU projected Energy Balances'!G293","v":0},"ktoe",null,null,null,null,null,null,"Total transport diesel use in 2030",{"$f":"+'BAU projected Energy Balances'!G491+'BAU projected Energy Balances'!G492+'BAU projected Energy Balances'!G494","v":0},"ktoe"]
[null,null,null,null,null,null,"Diesel replaced in transport ",{"$f":"+'Mitigation options'!M117+'Mitigation options'!M119+'Mitigation options'!M120+'Mitigation options'!M122+'Mitigation options'!M123+'Mitigation options'!M124+'Mitigation options'!M125+'Mitigation options'!M126+'Mitigation options'!M127+'Mitigation options'!M128+'Mitigation options'!M129+'Mitigation options'!M130","v":0},"ktoe",null,null,null,null,null,null,"Diesel replaced in transport ",{"$f":"+'Mitigation options'!M273+'Mitigation options'!M275+'Mitigation options'!M276+'Mitigation options'!M278+'Mitigation options'!M279+'Mitigation options'!M280+'Mitigation options'!M281+'Mitigation options'!M282+'Mitigation options'!M283+'Mitigation options'!M284+'Mitigation options'!M285+'Mitigation options'!M286","v":0},"ktoe",null,null,null,null,null,null,"Diesel replaced in transport ",{"$f":"+'Mitigation options'!M741+'Mitigation options'!M743+'Mitigation options'!M744+'Mitigation options'!M746+'Mitigation options'!M747+'Mitigation options'!V748+'Mitigation options'!M749+'Mitigation options'!M750+'Mitigation options'!M751+'Mitigation options'!M752+'Mitigation options'!M753+'Mitigation options'!M754","v":0},"ktoe",null,null,null,null,null,null,"Diesel replaced in transport ",{"$f":"+'Mitigation options'!M585+'Mitigation options'!M587+'Mitigation options'!M588+'Mitigation options'!M590+'Mitigation options'!M591+'Mitigation options'!M592+'Mitigation options'!M593+'Mitigation options'!M594+'Mitigation options'!M595+'Mitigation options'!M596+'Mitigation options'!M597+'Mitigation options'!M598","v":0},"ktoe","=+main30!U104+main30!U106+main30!U109+main30!U110+main30!U111+main30!U107+main30!U116"]
[null,null,null,null,null,null,"Diesel still in use",{"$f":"H40-H41","v":0},"ktoe",null,null,null,null,null,null,"Diesel still in use",{"$f":"Q40-Q41","v":0},"ktoe",null,null,null,null,null,null,"Diesel still in use",{"$f":"Z40-Z41","v":0},"ktoe",null,null,null,null,null,null,"Diesel still in use",{"$f":"AI40-AI41","v":0},"ktoe"]
[null,null,null,null,null,null,"Amount of diesel replaced",{"$f":"H42*H36","v":0},"ktoe",null,null,null,null,null,null,"Amount of diesel replaced",{"$f":"Q42*Q36","v":0},"ktoe",null,null,null,null,null,null,"Amount of diesel replaced",{"$f":"Z42*Z36","v":0},"ktoe",null,null,null,null,null,null,"Amount of diesel replaced",{"$f":"AI42*AI36","v":0},"ktoe"]
[null,null,null,null,null,null,"Amount of diesel replaced",{"$f":"H43*H27*1000","v":0},"GJ",null,null,null,null,null,null,"Amount of diesel replaced",{"$f":"Q43*Q27*1000","v":0},"GJ",null,null,null,null,null,null,"Amount of diesel replaced",{"$f":"Z43*Z27*1000","v":0},"GJ",null,null,null,null,null,null,"Amount of diesel replaced",{"$f":"AI43*AI27*1000","v":0},"GJ"]
[null,null,null,null,null,null,"Amount of diesel replaced",{"$f":"H43*H30","v":0},"m3",null,null,null,null,null,null,"Amount of diesel replaced",{"$f":"Q43*Q30","v":0},"m3",null,null,null,null,null,null,"Amount of diesel replaced",{"$f":"Z43*Z30","v":0},"m3",null,null,null,null,null,null,"Amount of diesel replaced",{"$f":"AI43*AI30","v":0},"m3"]
[null,null,null,null,null,null,null,null,null,null,null,null,null,null,null,null,"fixed FORMULA that DOES NOT MACTH 2025 TABLE AND SO ON FOR 2040 2050."]
[]
[]
[]
[]
[]
[null,"15% Bioethanol blended in all gasoline in 2025",null,null,null,null,null,null,null,null,"15% Bioethanol blended in all gasoline in 2030",null,null,null,null,null,null,null,null,"15% Bioethanol blended in all gasoline in 2040",null,null,null,null,null,null,null,null,"15% Bioethanol blended in all gasoline in 2050"]
[null,"Costs in","Reduction","Reference","Increase",null,"General inputs:",null,null,null,"Costs in","Reduction","Reference","Increase",null,"General inputs:",null,null,null,"Costs in","Reduction","Reference","Increase",null,"General inputs:",null,null,null,"Costs in","Reduction","Reference","Increase",null,"General inputs:"]
[null,"US$","Option","Option","(Red.-Ref.)",null,"Discount rate ",{"$f":"+DiscountRate","v":0},null,null,"US$","Option","Option","(Red.-Ref.)",null,"Discount rate ",{"$f":"+DiscountRate","v":0},null,null,"US$","Option","Option","(Red.-Ref.)",null,"Discount rate ",{"$f":"+DiscountRate","v":0},null,null,"US$","Option","Option","(Red.-Ref.)",null,"Discount rate ",{"$f":"+DiscountRate","v":0}]
[null,"Total investment",{"$f":"H62*H61","v":0},null,{"$f":"C55-D55","v":0},null,"1 toe =",41.868000000000002,"GJ",null,"Total investment",{"$f":"Q62*Q61","v":0},null,{"$f":"L55-M55","v":0},null,"1 toe =",41.868000000000002,"GJ",null,"Total investment",{"$f":"Z62*Z61","v":0},null,{"$f":"U55-V55","v":0},null,"1 toe =",41.868000000000002,"GJ",null,"Total investment",{"$f":"AI62*AI61","v":0},null,{"$f":"AD55-AE55","v":0},null,"1 toe =",41.868000000000002,"GJ"]
[null,"Project life",20,null,null,null,"Gasoline price",{"$f":"+Assumptions!D28","v":0.44025157232704398},"US$/liter",null,"Project life",20,null,null,null,"Gasoline price",{"$f":"+Assumptions!D28","v":0.44025157232704398},"US$/liter",null,"Project life",20,null,null,null,"Gasoline price",{"$f":"+Assumptions!D28","v":0.44025157232704398},"US$/liter",null,"Project life",20,null,null,null,"Gasoline price",{"$f":"+Assumptions!D28","v":0.44025157232704398},"US$/liter"]
[null,"Lev. investment",{"$f":"IF(C56=0,0,PMT(H54,C56,-C55))","v":0},null,{"$f":"C57-D57","v":0},null,"Bioethanol price",{"$f":"+Assumptions!E28","v":0.83},"US$/liter",null,"Lev. investment",{"$f":"IF(L56=0,0,PMT(+Q54,L56,-L55))","v":0},null,{"$f":"L57-M57","v":0},null,"Bioethanol price",{"$f":"+Assumptions!E28","v":0.83},"US$/liter",null,"Lev. investment",{"$f":"IF(U56=0,0,PMT(+Z54,U56,-U55))","v":0},null,{"$f":"U57-V57","v":0},null,"Bioethanol price",{"$f":"+Assumptions!E28","v":0.83},"US$/liter",null,"Lev. investment",{"$f":"IF(AD56=0,0,PMT(+AI54,AD56,-AD55))","v":0},null,{"$f":"AD57-AE57","v":0},null,"Bioethanol price",{"$f":"+Assumptions!E28","v":0.83},"US$/liter"]
[null,"Annual O&M",{"$f":"C55*H60","v":0},null,{"$f":"C58-D58","v":0},null,"1 toe of gasoline equal",{"$f":"+Assumptions!D79/Assumptions!E79","v":1246.0714285714287},"liter",null,"Annual O&M",{"$f":"L55*Q60","v":0},null,{"$f":"L58-M58","v":0},null,"1 toe of gasoline equal",{"$f":"+Assumptions!D79/Assumptions!E79","v":1246.0714285714287},"liter",null,"Annual O&M",{"$f":"U55*Z60","v":0},null,{"$f":"U58-V58","v":0},null,"1 toe of gasoline equal",{"$f":"+Assumptions!D79/Assumptions!E79","v":1246.0714285714287},"liter",null,"Annual O&M",{"$f":"AD55*AI60","v":0},null,{"$f":"AD58-AE58","v":0},null,"1 toe of gasoline equal",{"$f":"+Assumptions!D79/Assumptions!E79","v":1246.0714285714287},"liter"]
[null,"Annual fuelcost",{"$f":"H66*H57*1000","v":0},{"$f":"H73*H56*1000","v":0},{"$f":"C59-D59","v":0},null,"1 toe of bioethanol equeal",{"$f":"Assumptions!D76/Assumptions!E76","v":2068.75},"liter",null,"Annual fuelcost",{"$f":"Q66*Q57*1000","v":0},{"$f":"Q73*Q56*1000","v":0},{"$f":"L59-M59","v":0},null,"1 toe of bioethanol equeal",{"$f":"Assumptions!D76/Assumptions!E76","v":2068.75},"liter",null,"Annual fuelcost",{"$f":"Z66*Z57*1000","v":0},{"$f":"Z73*Z56*1000","v":0},{"$f":"U59-V59","v":0},null,"1 toe of bioethanol equeal",{"$f":"Assumptions!D76/Assumptions!E76","v":2068.75},"liter",null,"Annual fuelcost",{"$f":"AI66*AI57*1000","v":0},{"$f":"AI73*AI56*1000","v":0},{"$f":"AD59-AE59","v":0},null,"1 toe of bioethanol equeal",{"$f":"Assumptions!D76/Assumptions!E76","v":2068.75},"liter"]
[null,"Total annual cost",{"$f":"SUM(C57:C59)","v":0},{"$f":"SUM(D57:D59)","v":0},{"$f":"C60-D60","v":0},null,"Gasoline emissions",{"$f":"+Assumptions!D47","v":69.3},"kgCO2/GJ",null,"Total annual cost",{"$f":"SUM(L57:L59)","v":0},{"$f":"SUM(M57:M59)","v":0},{"$f":"L60-M60","v":0},null,"Gasoline emissions",{"$f":"+Assumptions!D47","v":69.3},"kgCO2/GJ",null,"Total annual cost",{"$f":"SUM(U57:U59)","v":0},{"$f":"SUM(V57:V59)","v":0},{"$f":"U60-V60","v":0},null,"Gasoline emissions",{"$f":"+Assumptions!D47","v":69.3},"kgCO2/GJ",null,"Total annual cost",{"$f":"SUM(AD57:AD59)","v":0},{"$f":"SUM(AE57:AE59)","v":0},{"$f":"AD60-AE60","v":0},null,"Gasoline emissions",{"$f":"+Assumptions!D47","v":69.3},"kgCO2/GJ"]
[null,null,null,null,null,null,"Reduction option: 15 % bioethanol blends in cars and ships",1,"kW",null,null,null,null,null,null,"Reduction option: 15 % bioethanol blends in cars and ships",1,"kW",null,null,null,null,null,null,"Reduction option: 15 % bioethanol blends in cars and ships",1,"kW",null,null,null,null,null,null,"Reduction option: 15 % bioethanol blends in cars and ships",1,"kW"]
[null,"Annual emissions (tons)","Tons","Tons","Reduction",null,"Investment in Activity",0,"US$/liter",null,"Annual emissions (tons)","Tons","Tons","Reduction",null,"Investment in Activity",0,"US$/liter",null,"Annual emissions (tons)","Tons","Tons","Reduction",null,"Investment in Activity",0,"US$/liter",null,"Annual emissions (tons)","Tons","Tons","Reduction",null,"Investment in Activity",0,"US$/liter"]
[null,"Fuel  CO2-eq. emission",null,{"$f":"H72*H60/1000","v":0},{"$f":"D63-C63","v":0},null,"M&O",0,"US$/liter",null,"Fuel  CO2-eq. emission",null,{"$f":"Q72*Q60/1000","v":0},{"$f":"M63-L63","v":0},null,"M&O",0,"US$/liter",null,"Fuel  CO2-eq. emission",null,{"$f":"Z72*Z60/1000","v":0},{"$f":"V63-U63","v":0},null,"M&O",0,"US$/liter",null,"Fuel  CO2-eq. emission",null,{"$f":"AI72*AI60/1000","v":0},{"$f":"AE63-AD63","v":0},null,"M&O",0,"US$/liter"]
[null,null,null,null,null,null,"Amount of gasoline replaced",0.15,null,null,null,null,null,null,null,"Amount of gasoline replaced",0.15,null,null,null,null,null,null,null,"Amount of gasoline replaced",0.15,null,null,null,null,null,null,null,"Amount of gasoline replaced",0.15]
[null,"Other",null,null,null,null,"Amount of bioethanol used",{"$f":"H68*H64","v":0},"ktoe",null,"Other",null,null,null,null,"Amount of bioethanol used",{"$f":"Q68*Q64","v":0},"ktoe",null,"Other",null,null,null,null,"Amount of bioethanol used",{"$f":"Z68*Z64","v":0},"ktoe",null,"Other",null,null,null,null,"Amount of bioethanol used",{"$f":"AI68*AI64","v":0},"ktoe"]
[null,"Total CO2-eq. emission ",{"$f":"C63+C65","v":0},{"$f":"D63+D65","v":0},{"$f":"D66-C66","v":0},null,"Amount of bioethanol used",{"$f":"H65*H59","v":0},"m3",null,"Total CO2-eq. emission ",{"$f":"L63+L65","v":0},{"$f":"M63+M65","v":0},{"$f":"M66-L66","v":0},null,"Amount of bioethanol used",{"$f":"Q65*Q59","v":0},"m3",null,"Total CO2-eq. emission ",{"$f":"U63+U65","v":0},{"$f":"V63+V65","v":0},{"$f":"V66-U66","v":0},null,"Amount of bioethanol used",{"$f":"Z65*Z59","v":0},"m3",null,"Total CO2-eq. emission ",{"$f":"AD63+AD65","v":0},{"$f":"AE63+AE65","v":0},{"$f":"AE66-AD66","v":0},null,"Amount of bioethanol used",{"$f":"AI65*AI59","v":0},"m3"]
[null,null,null,null,null,null,"Reference option: 100% gasoline in vehicles and boats",null,null,null,null,null,null,null,null,"Reference option: 100% gasoline in vehicles and boats",null,null,null,null,null,null,null,null,"Reference option: 100% gasoline in vehicles and boats",null,null,null,null,null,null,null,null,"Reference option: 100% gasoline in vehicles and boats"]
[null,"US$/ton CO2-eq.",null,null,{"$f":"IF(E66<>0,E60/E66,0)","v":0},null,"Gasoline use in transport in 2025",{"$f":"+'BAU projected Energy Balances'!E61","v":0},"ktoe",null,"US$/ton CO2-eq.",null,null,{"$f":"IF(N66<>0,N60/N66,0)","v":0},null,"Gasoline use in transport in 2025",{"$f":"+'BAU projected Energy Balances'!E147","v":0},"ktoe",null,"US$/ton CO2-eq.",null,null,{"$f":"IF(W66<>0,W60/W66,0)","v":0},null,"Gasoline use in transport in 2025",{"$f":"+'BAU projected Energy Balances'!E319","v":0},"ktoe",null,"US$/ton CO2-eq.",null,null,{"$f":"IF(AF66<>0,AF60/AF66,0)","v":0},null,"Gasoline use in transport in 2025",{"$f":"+'BAU projected Energy Balances'!E491","v":0},"ktoe"]
[null,null,null,null,null,null,"Gasoline replaced in other options",{"$f":"+'Mitigation options'!N137","v":0},"ktoe",null,null,null,null,null,null,"Gasoline replaced in other options",{"$f":"+'Mitigation options'!N293","v":0},"ktoe",null,null,null,null,null,null,"Gasoline replaced in other options",{"$f":"+'Mitigation options'!N761","v":0},"ktoe",null,null,null,null,null,null,"Gasoline replaced in other options",{"$f":"+'Mitigation options'!N605","v":0},"ktoe"]
[null,null,null,null,null,null,"Gasoline still in use",{"$f":"H68-H69","v":0},"ktoe",null,null,null,null,null,null,"Gasoline still in use",{"$f":"Q68-Q69","v":0},"ktoe",null,null,null,null,null,null,"Gasoline still in use",{"$f":"Z68-Z69","v":0},"ktoe",null,null,null,null,null,null,"Gasoline still in use",{"$f":"AI68-AI69","v":0},"ktoe"]
[null,null,null,null,null,null,"Amount of gasoline replaced",{"$f":"+H70*H64","v":0},"ktoe",null,null,null,null,null,null,"Amount of gasoline replaced",{"$f":"+Q70*Q64","v":0},"ktoe",null,null,null,null,null,null,"Amount of gasoline replaced",{"$f":"+Z70*Z64","v":0},"ktoe",null,null,null,null,null,null,"Amount of gasoline replaced",{"$f":"+AI70*AI64","v":0},"ktoe"]
[null,null,null,null,null,null,"Amount of gasoline replaced",{"$f":"H71*H55*1000","v":0},"GJ",null,null,null,null,null,null,"Amount of gasoline replaced",{"$f":"Q71*Q55*1000","v":0},"GJ",null,null,null,null,null,null,"Amount of gasoline replaced",{"$f":"Z71*Z55*1000","v":0},"GJ",null,null,null,null,null,null,"Amount of gasoline replaced",{"$f":"AI71*AI55*1000","v":0},"GJ"]
[null,null,null,null,null,null,"Amount of gasoline replaced",{"$f":"H71*H58","v":0},"m3",null,null,null,null,null,null,"Amount of gasoline replaced",{"$f":"Q71*Q58","v":0},"m3",null,null,null,null,null,null,"Amount of gasoline replaced",{"$f":"Z71*Z58","v":0},"m3",null,null,null,null,null,null,"Amount of gasoline replaced",{"$f":"AI71*AI58","v":0},"m3"]
[]
[]
[]
[]
[]
[]
[]
[]
[]
[null,"More efficient gasoline cars (1000 cars)"]
[null,"Costs in","Reduction","Reference","Increase",null,"General inputs:"]
[null,"US$","Option","Option","(Red.-Ref.)",null,"Discount rate ",{"$f":"+DiscountRate","v":0}]
[null,"Total investment",null,null,{"$f":"C86-D86","v":0},null,"Gasoline price",{"$f":"+Assumptions!D28","v":0.44025157232704398},"US$/liter"]
[null,"Project life",null,null,null,null,"1 toe =",41.868000000000002,"GJ"]
[null,"Lev. investment",{"$f":"IF(C87=0,0,PMT($H85,C87,-C86))","v":0},{"$f":"+H85","v":0},{"$f":"C88-D88","v":0},null,"1 toe of gasoline equal",{"$f":"Assumptions!D79/Assumptions!E79","v":1246.0714285714287},"liter"]
[null,"Reduction in subsidy",{"$f":"H89*H95*1000000","v":40000.000000000007},{"$f":"H89*H100*1000000","v":48780.487804878045},{"$f":"C89-D89","v":-8780.4878048780374},null,"State subsidy",0.05,"US$/liter"]
[null,"Annual O&M",0,0,{"$f":"C90-D90","v":0},null,"Gasoline emissions",{"$f":"+Assumptions!D47","v":69.3},"kgCO2/GJ"]
[null,"Annual fuel cost",{"$f":"H95*H86*1000000","v":352201.25786163518},{"$f":"H100*H86*1000000","v":429513.72909955506},{"$f":"C91-D91","v":-77312.471237919875},null,"Reduction option: Better maintenanace"]
[null,"Total annual cost",{"$f":"SUM(C88:C91)","v":392201.25786163518},{"$f":"SUM(D88:D91)","v":478294.21690443309},{"$f":"C92-D92","v":-86092.959042797913},null,"Activity",1000,"Cars"]
[null,null,null,null,null,null,"Energy consumption",15,"km/l"]
[null,"Annual emissions (tons)","Tons","Tons","Reduction",null,"Annual distance ",12000,"km"]
[null,"Fuel  CO2-eq. emission",{"$f":"+H97","v":1862.7839999999999},{"$f":"+H101","v":2271.6878048780482},{"$f":"D95-C95","v":408.90380487804828},null,"Total gasoline consumption",{"$f":"H92*H94/H93/1000000","v":0.8},"Million liters"]
[null,"Other",null,null,null,null,"Total gasoline reduction",{"$f":"(H100-H95)/H88*1000","v":0.14093073002957013},"ktoe"]
[null,"Total CO2-eq. emission ",{"$f":"C95+C96","v":1862.7839999999999},{"$f":"D95+D96","v":2271.6878048780482},{"$f":"D97-C97","v":408.90380487804828},null,"Emission",{"$f":"H95/H88*1000*H87*H90","v":1862.7839999999999},"tCO2"]
[null,null,null,null,null,null,"Reference option: Normal maintenance"]
[null,"US$/ton CO2-eq.",null,null,{"$f":"IF(E97<>0,E92/E97,0)","v":-210.54575187549142},null,"Energy consumption",12.3,"km/l"]
[null,null,null,null,null,null,"Total gasoline consumption",{"$f":"H92*H94/H99/1000000","v":0.97560975609756084},"Million liters"]
[null,null,null,null,null,null,"Emission",{"$f":"H100/H88*1000*H87*H90","v":2271.6878048780482},"tCO2"]
[]
[]
[]
[]
[]
[]
[]
[null,"More efficient diesel cars (1000 cars)"]
[null,"Costs in","Reduction","Reference","Increase",null,"General inputs:"]
[null,"US$","Option","Option","(Red.-Ref.)",null,"Discount rate ",{"$f":"+DiscountRate","v":0}]
[null,"Total investment",null,null,{"$f":"C112-D112","v":0},null,"Diesel price",{"$f":"+Assumptions!G28","v":0.37735849056603771},"US$/liter"]
[null,"Project life",null,null,null,null,"1 toe =",41.868000000000002,"GJ"]
[null,"Lev. investment",{"$f":"IF(C113=0,0,PMT($H111,C113,-C112))","v":0},{"$f":"+H111","v":0},{"$f":"C114-D114","v":0},null,"1 toe of diesel equal",{"$f":"Assumptions!D78/Assumptions!E78","v":1150.3082654709704},"liter"]
[null,"Reduction in subsidy",{"$f":"H115*H121*1000000","v":30000},{"$f":"H115*H126*1000000","v":33333.333333333336},{"$f":"C115-D115","v":-3333.3333333333358},null,"State subsidy",0.05,"US$/liter"]
[null,"Annual O&M",0,0,{"$f":"C116-D116","v":0},null,"Diesel emissions",{"$f":"+Assumptions!D46","v":74.066666666666663},"kgCO2/GJ"]
[null,"Annual fuel cost",{"$f":"H121*H112*1000000","v":226415.09433962262},{"$f":"H126*H112*1000000","v":251572.32704402509},{"$f":"C117-D117","v":-25157.232704402471},null,"Reduction option: Better maintenanace"]
[null,"Total annual cost",{"$f":"SUM(C114:C117)","v":256415.09433962262},{"$f":"SUM(D114:D117)","v":284905.66037735844},{"$f":"C118-D118","v":-28490.566037735814},null,"Activity",1000,"Cars"]
[null,null,null,null,null,null,"Energy consumption",20,"km/l"]
[null,"Annual emissions (tons)","Tons","Tons","Reduction",null,"Annual distance ",12000,"km"]
[null,"Fuel  CO2-eq. emission",{"$f":"+H123","v":1617.4915679999997},{"$f":"+H127","v":1797.212853333333},{"$f":"D121-C121","v":179.7212853333333},null,"Total diesel consumption",{"$f":"H118*H120/H119/1000000","v":0.6},"Million liters"]
[null,"Other",null,null,null,null,"Total diesel reduction",{"$f":"(H126-H121)/H114*1000","v":5.795547912486862E-2},"ktoe"]
[null,"Total CO2-eq. emission ",{"$f":"C121+C122","v":1617.4915679999997},{"$f":"D121+D122","v":1797.212853333333},{"$f":"D123-C123","v":179.7212853333333},null,"Emission",{"$f":"H121/H114*1000*H113*H116","v":1617.4915679999997},"tCO2"]
[null,null,null,null,null,null,"Reference option: Normal maintenance"]
[null,"US$/ton CO2-eq.",null,null,{"$f":"IF(E123<>0,E118/E123,0)","v":-158.52638703809453},null,"Energy consumption",18,"km/l"]
[null,null,null,null,null,null,"Total diesel consumption",{"$f":"H118*H120/H125/1000000","v":0.66666666666666663},"Million liters"]
[null,null,null,null,null,null,"Emission",{"$f":"H126/H114*1000*H113*H116","v":1797.212853333333},"tCO2"]
[]
[]
[]
[]
[]
[]
[null,"Electric cars (1000 cars) in 2025",null,null,null,null,null,null,null,null,"Electric cars (1000 cars) in 2030",null,null,null,null,null,null,null,null,"Electric cars (1000 cars) in 2040",null,null,null,null,null,null,null,null,"Electric cars (1000 cars) in 2050"]
[null,"Costs in","Reduction","Reference","Increase",null,"General inputs:",null,null,null,"Costs in","Reduction","Reference","Increase",null,"General inputs:",null,null,null,"Costs in","Reduction","Reference","Increase",null,"General inputs:",null,null,null,"Costs in","Reduction","Reference","Increase",null,"General inputs:"]
[null,"US$","Option","Option","(Red.-Ref.)",null,"Discount rate ",{"$f":"+DiscountRate","v":0},null,null,"US$","Option","Option","(Red.-Ref.)",null,"Discount rate ",{"$f":"+DiscountRate","v":0},null,null,"US$","Option","Option","(Red.-Ref.)",null,"Discount rate ",{"$f":"+DiscountRate","v":0},null,null,"US$","Option","Option","(Red.-Ref.)",null,"Discount rate ",{"$f":"+DiscountRate","v":0}]
[null,"Total investment",{"$f":"+H138*(H140+H141+H142*H143)","v":45800000},{"$f":"H138*H153","v":20000000},{"$f":"C137-D137","v":25800000},null,"Annual distance ",12000,"km",null,"Total investment",{"$f":"+Q138*(Q140+Q141+Q142*Q143)","v":43400000},{"$f":"Q138*Q153","v":20000000},{"$f":"L137-M137","v":23400000},null,"Annual distance ",12000,"km",null,"Total investment",{"$f":"+Z138*(Z140+Z141+Z142*Z143)","v":41000000},{"$f":"Z138*Z153","v":20000000},{"$f":"U137-V137","v":21000000},null,"Annual distance ",12000,"km",null,"Total investment",{"$f":"+AI138*(AI140+AI141+AI142*AI143)","v":38000000},{"$f":"AI138*AI153","v":20000000},{"$f":"AD137-AE137","v":18000000},null,"Annual distance ",12000,"km"]
[null,"Project life",15,{"$f":"C138","v":15},null,null,"Activity",1000,"Cars",null,"Project life",15,{"$f":"L138","v":15},null,null,"Activity",1000,"Cars",null,"Project life",15,{"$f":"U138","v":15},null,null,"Activity",1000,"Cars",null,"Project life",15,{"$f":"AD138","v":15},null,null,"Activity",1000,"Cars"]
[null,"Lev. investment",{"$f":"IF(C138=0,0,PMT($H136,C138,-C137))","v":3053333.3333333335},{"$f":"IF(D138=0,0,PMT($H$136,D138,-D137))","v":1333333.3333333333},{"$f":"C139-D139","v":1720000.0000000002},null,"Reduction option: Electric cars",null,null,null,"Lev. investment",{"$f":"IF(L138=0,0,PMT($Q136,L138,-L137))","v":2893333.3333333335},{"$f":"IF(M138=0,0,PMT($Q$136,M138,-M137))","v":1333333.3333333333},{"$f":"L139-M139","v":1560000.0000000002},null,"Reduction option: Electric cars",null,null,null,"Lev. investment",{"$f":"IF(U138=0,0,PMT($Z136,U138,-U137))","v":2733333.3333333335},{"$f":"IF(V138=0,0,PMT($Z$136,V138,-V137))","v":1333333.3333333333},{"$f":"U139-V139","v":1400000.0000000002},null,"Reduction option: Electric cars",null,null,null,"Lev. investment",{"$f":"IF(AD138=0,0,PMT($AI136,AD138,-AD137))","v":2533333.3333333335},{"$f":"IF(AE138=0,0,PMT($AI$136,AE138,-AE137))","v":1333333.3333333333},{"$f":"AD139-AE139","v":1200000.0000000002},null,"Reduction option: Electric cars"]
[null,"Annual O&M",{"$f":"C137*H144","v":458000},{"$f":"H154*D137","v":200000},{"$f":"C140-D140","v":258000},null,"Investment in vehicle",40000,"US$",null,"Annual O&M",{"$f":"L137*Q144","v":217000},{"$f":"Q154*M137","v":200000},{"$f":"L140-M140","v":17000},null,"Investment in vehicle",{"$f":"+H140","v":40000},"US$",null,"Annual O&M",{"$f":"U137*Z144","v":205000},{"$f":"Z154*V137","v":200000},{"$f":"U140-V140","v":5000},null,"Investment in vehicle",40000,"US$",null,"Annual O&M",{"$f":"AD137*AI144","v":190000},{"$f":"AI154*AE137","v":200000},{"$f":"AD140-AE140","v":-10000},null,"Investment in vehicle",35000,"US$"]
[null,"Annual fuel cost",{"$f":"H146*1000*H147","v":0},{"$f":"H156*H155*1000000","v":301886.79245283018},{"$f":"C141-D141","v":-301886.79245283018},null,"Investment in charging station",1000,"US$",null,"Annual fuel cost",{"$f":"Q146*1000*Q147","v":0},{"$f":"Q156*Q155*1000000","v":290275.76197387523},{"$f":"L141-M141","v":-290275.76197387523},null,"Investment in charging station",1000,"US$",null,"Annual fuel cost",{"$f":"Z146*1000*Z147","v":0},{"$f":"Z156*Z155*1000000","v":264150.94339622633},{"$f":"U141-V141","v":-264150.94339622633},null,"Investment in charging station",1000,"US$",null,"Annual fuel cost",{"$f":"AI146*1000*AI147","v":0},{"$f":"AI156*AI155*1000000","v":264150.94339622633},{"$f":"AD141-AE141","v":-264150.94339622633},null,"Investment in charging station",1000,"US$"]
[null,"Total annual cost",{"$f":"SUM(C139:C141)","v":3511333.3333333335},{"$f":"SUM(D139:D141)","v":1835220.1257861634},{"$f":"C142-D142","v":1676113.2075471701},null,"Size of battery",40,"kWh",null,"Total annual cost",{"$f":"SUM(L139:L141)","v":3110333.3333333335},{"$f":"SUM(M139:M141)","v":1823609.0953072086},{"$f":"L142-M142","v":1286724.2380261249},null,"Size of battery",40,"kWh",null,"Total annual cost",{"$f":"SUM(U139:U141)","v":2938333.3333333335},{"$f":"SUM(V139:V141)","v":1797484.2767295595},{"$f":"U142-V142","v":1140849.056603774},null,"Size of battery",40,"kWh",null,"Total annual cost",{"$f":"SUM(AD139:AD141)","v":2723333.3333333335},{"$f":"SUM(AE139:AE141)","v":1797484.2767295595},{"$f":"AD142-AE142","v":925849.05660377396},null,"Size of battery",40,"kWh"]
[null,null,null,null,null,null,"Investment in battery",{"$f":"+Storage!H15","v":120},"US$/kWh",null,null,null,null,null,null,"Investment in battery",{"$f":"+Storage!Q15","v":60},"US$/kWh",null,null,null,null,null,null,"Investment in battery",{"$f":"+Storage!AI15","v":0},"US$/kWh",null,null,null,null,null,null,"Investment in battery",{"$f":"+Storage!Z15","v":50},"US$/kWh"]
[null,"Annual emissions (tons)","Tons","Tons","Reduction",null,"Annual O&M",0.01,"of investment",null,"Annual emissions (tons)","Tons","Tons","Reduction",null,"Annual O&M",5.0000000000000001E-3,"of investment",null,"Annual emissions (tons)","Tons","Tons","Reduction",null,"Annual O&M",5.0000000000000001E-3,"of investment",null,"Annual emissions (tons)","Tons","Tons","Reduction",null,"Annual O&M",5.0000000000000001E-3,"of investment"]
[null,"Fuel  CO2-eq. emission",{"$f":"+H149","v":0},{"$f":"+H159","v":1596.6719999999996},{"$f":"D145-C145","v":1596.6719999999996},null,"Electricity consumption",{"$f":"1/0.13/0.85","v":9.0497737556561084},"km/kWh",null,"Fuel  CO2-eq. emission",{"$f":"+Q149","v":0},{"$f":"+Q159","v":1535.2615384615383},{"$f":"M145-L145","v":1535.2615384615383},null,"Electricity consumption",{"$f":"1/0.13/0.85","v":9.0497737556561084},"km/kWh",null,"Fuel  CO2-eq. emission",{"$f":"+Z149","v":0},{"$f":"+Z159","v":1397.0879999999997},{"$f":"V145-U145","v":1397.0879999999997},null,"Electricity consumption",{"$f":"1/0.13/0.7","v":10.989010989010989},"km/kWh",null,"Fuel  CO2-eq. emission",{"$f":"+AI149","v":0},{"$f":"+AI159","v":1397.0879999999997},{"$f":"AE145-AD145","v":1397.0879999999997},null,"Electricity consumption",{"$f":"1/0.13/0.7","v":10.989010989010989},"km/kWh"]
[null,"Other",null,null,null,null,"Total electricity consumption",{"$f":"H138*H137/H145/1000","v":1326},"MWh",null,"Other",null,null,null,null,"Total electricity consumption",{"$f":"Q138*Q137/Q145/1000","v":1326},"MWh",null,"Other",null,null,null,null,"Total electricity consumption",{"$f":"Z138*Z137/Z145/1000","v":1092},"MWh",null,"Other",null,null,null,null,"Total electricity consumption",{"$f":"AI138*AI137/AI145/1000","v":1092},"MWh"]
[null,"Total CO2-eq. emission ",{"$f":"C145+C146","v":0},{"$f":"D145+D146","v":1596.6719999999996},{"$f":"D147-C147","v":1596.6719999999996},null,"Reference electricity price",{"$f":"+Assumptions!C35","v":0},"US$/kWh",null,"Total CO2-eq. emission ",{"$f":"L145+L146","v":0},{"$f":"M145+M146","v":1535.2615384615383},{"$f":"M147-L147","v":1535.2615384615383},null,"Reference electricity price",{"$f":"+Assumptions!C35","v":0},"US$/kWh",null,"Total CO2-eq. emission ",{"$f":"U145+U146","v":0},{"$f":"V145+V146","v":1397.0879999999997},{"$f":"V147-U147","v":1397.0879999999997},null,"Reference electricity price",{"$f":"+Assumptions!C35","v":0},"US$/kWh",null,"Total CO2-eq. emission ",{"$f":"AD145+AD146","v":0},{"$f":"AE145+AE146","v":1397.0879999999997},{"$f":"AE147-AD147","v":1397.0879999999997},null,"Reference electricity price",{"$f":"+Assumptions!C35","v":0},"US$/kWh"]
[null,null,null,null,null,null,"CO2-eq. emission coefficient",{"$f":"+Assumptions!C39","v":0},"tCO2/MWh",null,null,null,null,null,null,"CO2-eq. emission coefficient",{"$f":"+Assumptions!C39","v":0},"tCO2/MWh",null,null,null,null,null,null,"CO2-eq. emission coefficient",{"$f":"+Assumptions!C39","v":0},"tCO2/MWh",null,null,null,null,null,null,"CO2-eq. emission coefficient",{"$f":"+Assumptions!C39","v":0},"tCO2/MWh"]
[null,"US$/ton CO2-eq.",null,null,{"$f":"IF(E147<>0,E142/E147,0)","v":1049.7542435435521},null,"Emissions from electricity",{"$f":"+H146*H148","v":0},"tCO2",null,"US$/ton CO2-eq.",null,null,{"$f":"IF(N147<>0,N142/N147,0)","v":838.11403190334022},null,"Emissions from electricity",{"$f":"+Q146*Q148","v":0},"tCO2",null,"US$/ton CO2-eq.",null,null,{"$f":"IF(W147<>0,W142/W147,0)","v":816.59069192761956},null,"Emissions from electricity",{"$f":"+Z146*Z148","v":0},"tCO2",null,"US$/ton CO2-eq.",null,null,{"$f":"IF(AF147<>0,AF142/AF147,0)","v":662.6991689884776},null,"Emissions from electricity",{"$f":"+AI146*AI148","v":0},"tCO2"]
[null,null,null,null,null,null,"Economic efficiency",{"$f":"+C142/H137/1000","v":0.29261111111111116},"US$/km",null,null,null,null,null,null,"Economic efficiency",{"$f":"+L142/Q137/1000","v":0.25919444444444445},"US$/km",null,null,null,null,null,null,"Economic efficiency",{"$f":"+U142/Z137/1000","v":0.24486111111111111},"US$/km",null,null,null,null,null,null,"Economic efficiency",{"$f":"+AD142/AI137/1000","v":0.22694444444444445},"US$/km"]
[null,null,null,null,null,null,"Reference option: Normal gasoline cars",null,null,null,null,null,null,null,null,"Reference option: Normal gasoline cars",null,null,null,null,null,null,null,null,"Reference option: Normal gasoline cars",null,null,null,null,null,null,null,null,"Reference option: Normal gasoline cars"]
[null,null,null,null,null,null,"Energy consumption",17.5,"km/l",null,null,null,null,null,null,"Energy consumption",18.2,"km/l",null,null,null,null,null,null,"Energy consumption",20,"km/l",null,null,null,null,null,null,"Energy consumption",20,"km/l"]
[null,null,null,null,null,null,"Investment in vehicle",{"$f":"20000","v":20000},"US$",null,null,null,null,null,null,"Investment in vehicle",{"$f":"20000","v":20000},"US$",null,null,null,null,null,null,"Investment in vehicle",{"$f":"20000","v":20000},"US$",null,null,null,null,null,null,"Investment in vehicle",{"$f":"20000","v":20000},"US$"]
[null,null,null,null,null,null,"Annual O&M",0.01,"of investment",null,null,null,null,null,null,"Annual O&M",0.01,"of investment",null,null,null,null,null,null,"Annual O&M",0.01,"of investment",null,null,null,null,null,null,"Annual O&M",0.01,"of investment"]
[null,null,null,null,null,null,"Gasoline  price",{"$f":"+Assumptions!D28","v":0.44025157232704398},"US$/liter",null,null,null,null,null,null,"Gasoline  price",{"$f":"+Assumptions!D28","v":0.44025157232704398},"US$/liter",null,null,null,null,null,null,"Gasoline  price",{"$f":"+Assumptions!D28","v":0.44025157232704398},"US$/liter",null,null,null,null,null,null,"Gasoline  price",{"$f":"+Assumptions!D28","v":0.44025157232704398},"US$/liter"]
[null,null,null,null,null,null,"Total gasoline consumption",{"$f":"H138*H137/H152/1000000","v":0.68571428571428572},"Million liters",null,null,null,null,null,null,"Total gasoline consumption",{"$f":"Q138*Q137/Q152/1000000","v":0.65934065934065944},"Million liters",null,null,null,null,null,null,"Total gasoline consumption",{"$f":"Z138*Z137/Z152/1000000","v":0.6},"Million liters",null,null,null,null,null,null,"Total gasoline consumption",{"$f":"AI138*AI137/AI152/1000000","v":0.6},"Million liters"]
[null,null,null,null,null,null,"1000 l gasoline =",{"$f":"Assumptions!D30*Assumptions!D31","v":33.599999999999994},"GJ",null,null,null,null,null,null,"1000 l gasoline =",{"$f":"Assumptions!D30*Assumptions!D31","v":33.599999999999994},"GJ",null,null,null,null,null,null,"1000 l gasoline =",{"$f":"Assumptions!D30*Assumptions!D31","v":33.599999999999994},"GJ",null,null,null,null,null,null,"1000 l gasoline =",{"$f":"Assumptions!D30*Assumptions!D31","v":33.599999999999994},"GJ"]
[null,null,null,null,null,null,"CO2-eq. emission coefficient",{"$f":"+Assumptions!D47","v":69.3},"kgCO2-eq./GJ",null,null,null,null,null,null,"CO2-eq. emission coefficient",{"$f":"+Assumptions!D47","v":69.3},"kgCO2-eq./GJ",null,null,null,null,null,null,"CO2-eq. emission coefficient",{"$f":"+Assumptions!D47","v":69.3},"kgCO2-eq./GJ",null,null,null,null,null,null,"CO2-eq. emission coefficient",{"$f":"+Assumptions!D47","v":69.3},"kgCO2-eq./GJ"]
[null,null,null,null,null,null,"Emissions from gasoline",{"$f":"+H156*H157*H158","v":1596.6719999999996},"tCO2",null,null,null,null,null,null,"Emissions from gasoline",{"$f":"+Q156*Q157*Q158","v":1535.2615384615383},"tCO2",null,null,null,null,null,null,"Emissions from gasoline",{"$f":"+Z156*Z157*Z158","v":1397.0879999999997},"tCO2",null,null,null,null,null,null,"Emissions from gasoline",{"$f":"+AI156*AI157*AI158","v":1397.0879999999997},"tCO2"]
[null,null,null,null,null,null,"Economic efficiency",{"$f":"+D142/H137/1000","v":0.15293501048218028},"US$/km",null,null,null,null,null,null,"Economic efficiency",{"$f":"+M142/Q137/1000","v":0.15196742460893403},"US$/km",null,null,null,null,null,null,"Economic efficiency",{"$f":"+V142/Z137/1000","v":0.14979035639412996},"US$/km",null,null,null,null,null,null,"Economic efficiency",{"$f":"+AE142/AI137/1000","v":0.14979035639412996},"US$/km"]
[]
[]
[]
[null,"Electric 18m buses articulated (1000 buses) in 2025",null,null,null,null,null,null,null,null,"Electric 18m buses articulated (1000 buses) in 2030",null,null,null,null,null,null,null,null,"Electric 18m buses articulated (1000 buses) in 2040",null,null,null,null,null,null,null,null,"Electric 18m buses articulated (1000 buses) in 2050"]
[null,"Costs in","Reduction","Reference","Increase",null,"General inputs:",null,null,null,"Costs in","Reduction","Reference","Increase",null,"General inputs:",null,null,null,"Costs in","Reduction","Reference","Increase",null,"General inputs:",null,null,null,"Costs in","Reduction","Reference","Increase",null,"General inputs:"]
[null,"US$","Option","Option","(Red.-Ref.)",null,"Discount rate ",{"$f":"+DiscountRate","v":0},null,null,"US$","Option","Option","(Red.-Ref.)",null,"Discount rate ",{"$f":"+DiscountRate","v":0},null,null,"US$","Option","Option","(Red.-Ref.)",null,"Discount rate ",{"$f":"+DiscountRate","v":0},null,null,"US$","Option","Option","(Red.-Ref.)",null,"Discount rate ",{"$f":"+DiscountRate","v":0}]
[null,"Total investment",{"$f":"+H168*(H170+H173*H174)+H171*H172","v":679250000},{"$f":"H168*H183","v":300000000},{"$f":"C167-D167","v":379250000},null,"Annual distance ",100000,"km",null,"Total investment",{"$f":"+Q168*(Q170+Q173*Q174)+Q171*Q172","v":490250000},{"$f":"Q168*Q183","v":300000000},{"$f":"L167-M167","v":190250000},null,"Annual distance ",100000,"km",null,"Total investment",{"$f":"+Z168*(Z170+Z173*Z174)+Z171*Z172","v":351250000},{"$f":"Z168*Z183","v":300000000},{"$f":"U167-V167","v":51250000},null,"Annual distance ",100000,"km",null,"Total investment",{"$f":"+AI168*(AI170+AI173*AI174)+AI171*AI172","v":383750000},{"$f":"AI168*AI183","v":300000000},{"$f":"AD167-AE167","v":83750000},null,"Annual distance ",100000,"km"]
[null,"Project life",12,12,null,null,"Activity",1000,"Buses",null,"Project life",12,12,null,null,"Activity",1000,"Buses",null,"Project life",12,12,null,null,"Activity",1000,"Buses",null,"Project life",12,12,null,null,"Activity",1000,"Buses"]
[null,"Lev. investment",{"$f":"IF(C168=0,0,PMT($H166,C168,-C167))","v":56604166.666666664},{"$f":"IF(D168=0,0,PMT($H$166,D168,-D167))","v":25000000},{"$f":"C169-D169","v":31604166.666666664},null,"Reduction option: Electric buses",null,null,null,"Lev. investment",{"$f":"IF(L168=0,0,PMT($Q166,L168,-L167))","v":40854166.666666664},{"$f":"IF(M168=0,0,PMT($Q$166,M168,-M167))","v":25000000},{"$f":"L169-M169","v":15854166.666666664},null,"Reduction option: Electric buses",null,null,null,"Lev. investment",{"$f":"IF(U168=0,0,PMT($Z166,U168,-U167))","v":29270833.333333332},{"$f":"IF(V168=0,0,PMT($Z$166,V168,-V167))","v":25000000},{"$f":"U169-V169","v":4270833.3333333321},null,"Reduction option: Electric buses",null,null,null,"Lev. investment",{"$f":"IF(AD168=0,0,PMT($AI166,AD168,-AD167))","v":31979166.666666668},{"$f":"IF(AE168=0,0,PMT($AI$166,AE168,-AE167))","v":25000000},{"$f":"AD169-AE169","v":6979166.6666666679},null,"Reduction option: Electric buses"]
[null,"Annual O&M",{"$f":"C167*H175","v":3396250},{"$f":"H184*D167","v":3000000},{"$f":"C170-D170","v":396250},null,"Investment in one vehicle",{"$f":"800000-200000","v":600000},"US$",null,"Annual O&M",{"$f":"L167*Q175","v":2451250},{"$f":"Q184*M167","v":3000000},{"$f":"L170-M170","v":-548750},null,"Investment in one vehicle",450000,"US$",null,"Annual O&M",{"$f":"U167*Z175","v":1756250},{"$f":"Z184*V167","v":3000000},{"$f":"U170-V170","v":-1243750},null,"Investment in one vehicle",350000,"US$",null,"Annual O&M",{"$f":"AD167*AI175","v":1918750},{"$f":"AI184*AE167","v":3000000},{"$f":"AD170-AE170","v":-1081250},null,"Investment in one vehicle",350000,"US$"]
[null,"Annual fuel cost",{"$f":"H177*1000*H178","v":0},{"$f":"H187*H186*1000000","v":10144045.445323598},{"$f":"C171-D171","v":-10144045.445323598},null,"Cost of  1 charging station",50000,"US$",null,"Annual fuel cost",{"$f":"Q177*1000*Q178","v":0},{"$f":"Q187*Q186*1000000","v":9930486.5938430969},{"$f":"L171-M171","v":-9930486.5938430969},null,"Cost of  1 charging station",50000,"US$",null,"Annual fuel cost",{"$f":"Z177*1000*Z178","v":0},{"$f":"Z187*Z186*1000000","v":9433962.2641509417},{"$f":"U171-V171","v":-9433962.2641509417},null,"Cost of  1 charging station",50000,"US$",null,"Annual fuel cost",{"$f":"AI177*1000*AI178","v":0},{"$f":"AI187*AI186*1000000","v":9433962.2641509417},{"$f":"AD171-AE171","v":-9433962.2641509417},null,"Cost of  1 charging station",50000,"US$"]
[null,"Total annual cost",{"$f":"SUM(C169:C171)","v":60000416.666666664},{"$f":"SUM(D169:D171)","v":38144045.445323601},{"$f":"C172-D172","v":21856371.221343063},null,"Number of charging stations",25,"Stations",null,"Total annual cost",{"$f":"SUM(L169:L171)","v":43305416.666666664},{"$f":"SUM(M169:M171)","v":37930486.593843095},{"$f":"L172-M172","v":5374930.0728235692},null,"Number of charging stations",25,"Stations",null,"Total annual cost",{"$f":"SUM(U169:U171)","v":31027083.333333332},{"$f":"SUM(V169:V171)","v":37433962.26415094},{"$f":"U172-V172","v":-6406878.9308176078},null,"Number of charging stations",25,"Stations",null,"Total annual cost",{"$f":"SUM(AD169:AD171)","v":33897916.666666672},{"$f":"SUM(AE169:AE171)","v":37433962.26415094},{"$f":"AD172-AE172","v":-3536045.5974842682},null,"Number of charging stations",25,"Stations"]
[null,null,null,null,null,null,"Size of battery",650,"kWh",null,null,null,null,null,null,"Size of battery",650,"kWh",null,null,null,null,null,null,"Size of battery",650,"kWh",null,null,null,null,null,null,"Size of battery",650,"kWh"]
[null,"Annual emissions (tons)","Tons","Tons","Reduction",null,"Investment in battery",{"$f":"+H143","v":120},"US$/kWh",null,"Annual emissions (tons)","Tons","Tons","Reduction",null,"Investment in battery",{"$f":"+Q143","v":60},"US$/kWh",null,"Annual emissions (tons)","Tons","Tons","Reduction",null,"Investment in battery",{"$f":"+Z143","v":0},"US$/kWh",null,"Annual emissions (tons)","Tons","Tons","Reduction",null,"Investment in battery",{"$f":"+AI143","v":50},"US$/kWh"]
[null,"Fuel  CO2-eq. emission",{"$f":"+H180","v":0},{"$f":"+H190","v":72468.260215053771},{"$f":"D175-C175","v":72468.260215053771},null,"Annual O&M",5.0000000000000001E-3,"of investment",null,"Fuel  CO2-eq. emission",{"$f":"+Q180","v":0},{"$f":"+Q190","v":70942.61263157893},{"$f":"M175-L175","v":70942.61263157893},null,"Annual O&M",5.0000000000000001E-3,"of investment",null,"Fuel  CO2-eq. emission",{"$f":"+Z180","v":0},{"$f":"+Z190","v":67395.481999999989},{"$f":"V175-U175","v":67395.481999999989},null,"Annual O&M",5.0000000000000001E-3,"of investment",null,"Fuel  CO2-eq. emission",{"$f":"+AI180","v":0},{"$f":"+AI190","v":67395.481999999989},{"$f":"AE175-AD175","v":67395.481999999989},null,"Annual O&M",5.0000000000000001E-3,"of investment"]
[null,"Other",null,null,null,null,"Electricity consumption",{"$f":"(1.25+Q176)/2","v":1.3602941176470589},"km/kWh",null,"Other",null,null,null,null,"Electricity consumption",{"$f":"1/0.8/0.85","v":1.4705882352941178},"km/kWh",null,"Other",null,null,null,null,"Electricity consumption",{"$f":"1/0.8/0.7","v":1.7857142857142858},"km/kWh",null,"Other",null,null,null,null,"Electricity consumption",{"$f":"1/0.8/0.7","v":1.7857142857142858},"km/kWh"]
[null,"Total CO2-eq. emission ",{"$f":"C175+C176","v":0},{"$f":"D175+D176","v":72468.260215053771},{"$f":"D177-C177","v":72468.260215053771},null,"Total electricity consumption",{"$f":"H168*H167/H176/1000","v":73513.513513513506},"MWh",null,"Total CO2-eq. emission ",{"$f":"L175+L176","v":0},{"$f":"M175+M176","v":70942.61263157893},{"$f":"M177-L177","v":70942.61263157893},null,"Total electricity consumption",{"$f":"Q168*Q167/Q176/1000","v":68000},"MWh",null,"Total CO2-eq. emission ",{"$f":"U175+U176","v":0},{"$f":"V175+V176","v":67395.481999999989},{"$f":"V177-U177","v":67395.481999999989},null,"Total electricity consumption",{"$f":"Z168*Z167/Z176/1000","v":56000},"MWh",null,"Total CO2-eq. emission ",{"$f":"AD175+AD176","v":0},{"$f":"AE175+AE176","v":67395.481999999989},{"$f":"AE177-AD177","v":67395.481999999989},null,"Total electricity consumption",{"$f":"AI168*AI167/AI176/1000","v":56000},"MWh"]
[null,null,null,null,null,null,"Reference electricity price",{"$f":"+Assumptions!C35","v":0},"US$/kWh",null,null,null,null,null,null,"Reference electricity price",{"$f":"+Assumptions!C35","v":0},"US$/kWh",null,null,null,null,null,null,"Reference electricity price",{"$f":"+Assumptions!C35","v":0},"US$/kWh",null,null,null,null,null,null,"Reference electricity price",{"$f":"+Assumptions!C35","v":0},"US$/kWh"]
[null,"US$/ton CO2-eq.",null,null,{"$f":"IF(E177<>0,E172/E177,0)","v":301.5992264266178},null,"CO2-eq. emission coefficient",{"$f":"+Assumptions!C39","v":0},"tCO2/MWh",null,"US$/ton CO2-eq.",null,null,{"$f":"IF(N177<>0,N172/N177,0)","v":75.764478829343361},null,"CO2-eq. emission coefficient",{"$f":"+Assumptions!C39","v":0},"tCO2/MWh",null,"US$/ton CO2-eq.",null,null,{"$f":"IF(W177<>0,W172/W177,0)","v":-95.063923288175445},null,"CO2-eq. emission coefficient",{"$f":"+Assumptions!C39","v":0},"tCO2/MWh",null,"US$/ton CO2-eq.",null,null,{"$f":"IF(AF177<>0,AF172/AF177,0)","v":-52.4671015407868},null,"CO2-eq. emission coefficient",{"$f":"+Assumptions!C39","v":0},"tCO2/MWh"]
[null,null,null,null,null,null,"Emissions from electricity",{"$f":"+H177*H179","v":0},"tCO2",null,null,null,null,null,null,"Emissions from electricity",{"$f":"+Q177*Q179","v":0},"tCO2",null,null,null,null,null,null,"Emissions from electricity",{"$f":"+Z177*Z179","v":0},"tCO2",null,null,null,null,null,null,"Emissions from electricity",{"$f":"+AI177*AI179","v":0},"tCO2"]
[null,null,null,null,null,null,"Economic efficiency",{"$f":"+C172/H167/1000","v":0.60000416666666656},"US$/km",null,null,null,null,null,null,"Economic efficiency",{"$f":"+L172/Q167/1000","v":0.43305416666666663},"US$/km",null,null,null,null,null,null,"Economic efficiency",{"$f":"+U172/Z167/1000","v":0.31027083333333333},"US$/km",null,null,null,null,null,null,"Economic efficiency",{"$f":"+AD172/AI167/1000","v":0.33897916666666672},"US$/km"]
[null,null,null,null,null,null,"Reference option: Normal diesel buses",null,null,null,null,null,null,null,null,"Reference option: Normal diesel buses",null,null,null,null,null,null,null,null,"Reference option: Normal diesel buses",null,null,null,null,null,null,null,null,"Reference option: Normal diesel buses"]
[null,null,null,null,null,null,"Investment in one bus",300000,"US$",null,null,null,null,null,null,"Investment in one bus",300000,"US$",null,null,null,null,null,null,"Investment in one bus",300000,"US$",null,null,null,null,null,null,"Investment in one bus",300000,"US$"]
[null,null,null,null,null,null,"Annual O&M",0.01,"of investment",null,null,null,null,null,null,"Annual O&M",0.01,"of investment",null,null,null,null,null,null,"Annual O&M",0.01,"of investment",null,null,null,null,null,null,"Annual O&M",0.01,"of investment"]
[null,null,null,null,null,null,"Diesel consumption",{"$f":"(3.64+Q185)/2","v":3.7199999999999998},"km/l",null,null,null,null,null,null,"Diesel consumption",3.8,"km/l",null,null,null,null,null,null,"Diesel consumption",4,"km/l",null,null,null,null,null,null,"Diesel consumption",4,"km/l"]
[null,null,null,null,null,null,"Diesel price",{"$f":"+Assumptions!G28","v":0.37735849056603771},"US$/liter",null,null,null,null,null,null,"Diesel price",{"$f":"+Assumptions!G28","v":0.37735849056603771},"US$/liter",null,null,null,null,null,null,"Diesel price",{"$f":"+Assumptions!G28","v":0.37735849056603771},"US$/liter",null,null,null,null,null,null,"Diesel price",{"$f":"+Assumptions!G28","v":0.37735849056603771},"US$/liter"]
[null,null,null,null,null,null,"Total diesel consumption",{"$f":"H168*H167/H185/1000000","v":26.881720430107531},"Million liters",null,null,null,null,null,null,"Total diesel consumption",{"$f":"Q168*Q167/Q185/1000000","v":26.315789473684209},"Million liters",null,null,null,null,null,null,"Total diesel consumption",{"$f":"Z168*Z167/Z185/1000000","v":25},"Million liters",null,null,null,null,null,null,"Total diesel consumption",{"$f":"AI168*AI167/AI185/1000000","v":25},"Million liters"]
[null,null,null,null,null,null,"1000 l diesel =",{"$f":"+Assumptions!G30*Assumptions!G31","v":36.397199999999998},"GJ",null,null,null,null,null,null,"1000 l diesel =",{"$f":"+Assumptions!G30*Assumptions!G31","v":36.397199999999998},"GJ",null,null,null,null,null,null,"1000 l diesel =",{"$f":"+Assumptions!G30*Assumptions!G31","v":36.397199999999998},"GJ",null,null,null,null,null,null,"1000 l diesel =",{"$f":"+Assumptions!G30*Assumptions!G31","v":36.397199999999998},"GJ"]
[null,null,null,null,null,null,"CO2-eq. emission coefficient",{"$f":"+Assumptions!D46","v":74.066666666666663},"kgCO2-eq./GJ",null,null,null,null,null,null,"CO2-eq. emission coefficient",{"$f":"+Assumptions!D46","v":74.066666666666663},"kgCO2-eq./GJ",null,null,null,null,null,null,"CO2-eq. emission coefficient",{"$f":"+Assumptions!D46","v":74.066666666666663},"kgCO2-eq./GJ",null,null,null,null,null,null,"CO2-eq. emission coefficient",{"$f":"+Assumptions!D46","v":74.066666666666663},"kgCO2-eq./GJ"]
[null,null,null,null,null,null,"Emissions from diesel",{"$f":"+H187*H188*H189","v":72468.260215053771},"tCO2",null,null,null,null,null,null,"Emissions from diesel",{"$f":"+Q187*Q188*Q189","v":70942.61263157893},"tCO2",null,null,null,null,null,null,"Emissions from diesel",{"$f":"+Z187*Z188*Z189","v":67395.481999999989},"tCO2",null,null,null,null,null,null,"Emissions from diesel",{"$f":"+AI187*AI188*AI189","v":67395.481999999989},"tCO2"]
[null,null,null,null,null,null,"Economic efficiency",{"$f":"+D172/H167/1000","v":0.38144045445323599},"US$/km",null,null,null,null,null,null,"Economic efficiency",{"$f":"+M172/Q167/1000","v":0.37930486593843099},"US$/km",null,null,null,null,null,null,"Economic efficiency",{"$f":"+V172/Z167/1000","v":0.37433962264150938},"US$/km",null,null,null,null,null,null,"Economic efficiency",{"$f":"+AE172/AI167/1000","v":0.37433962264150938},"US$/km"]
[]
[]
[]
[null,"Electric 12m buses (1000 buses) in 2025",null,null,null,null,null,null,null,null,"Electric 12m buses (1000 buses) in 2030",null,null,null,null,null,null,null,null,"Electric 12m buses (1000 buses) in 2040",null,null,null,null,null,null,null,null,"Electric 12m buses (1000 buses) in 2050"]
[null,"Costs in","Reduction","Reference","Increase",null,"General inputs:",null,null,null,"Costs in","Reduction","Reference","Increase",null,"General inputs:",null,null,null,"Costs in","Reduction","Reference","Increase",null,"General inputs:",null,null,null,"Costs in","Reduction","Reference","Increase",null,"General inputs:"]
[null,"US$","Option","Option","(Red.-Ref.)",null,"Discount rate ",{"$f":"+DiscountRate","v":0},null,null,"US$","Option","Option","(Red.-Ref.)",null,"Discount rate ",{"$f":"+DiscountRate","v":0},null,null,"US$","Option","Option","(Red.-Ref.)",null,"Discount rate ",{"$f":"+DiscountRate","v":0},null,null,"US$","Option","Option","(Red.-Ref.)",null,"Discount rate ",{"$f":"+DiscountRate","v":0}]
[null,"Total investment",{"$f":"+H199*(H201+H204*H205)+H202*H203","v":299000000},{"$f":"H199*H214","v":100000000},{"$f":"C198-D198","v":199000000},null,"Annual distance ",40000,"km",null,"Total investment",{"$f":"+Q199*(Q201+Q204*Q205)+Q202*Q203","v":225000000},{"$f":"Q199*Q214","v":100000000},{"$f":"L198-M198","v":125000000},null,"Annual distance ",40000,"km",null,"Total investment",{"$f":"+Z199*(Z201+Z204*Z205)+Z202*Z203","v":151000000},{"$f":"Z199*Z214","v":100000000},{"$f":"U198-V198","v":51000000},null,"Annual distance ",40000,"km",null,"Total investment",{"$f":"+AI199*(AI201+AI204*AI205)+AI202*AI203","v":171000000},{"$f":"AI199*AI214","v":100000000},{"$f":"AD198-AE198","v":71000000},null,"Annual distance ",40000,"km"]
[null,"Project life",12,12,null,null,"Activity",1000,"Buses",null,"Project life",12,12,null,null,"Activity",1000,"Buses",null,"Project life",12,12,null,null,"Activity",1000,"Buses",null,"Project life",12,12,null,null,"Activity",1000,"Buses"]
[null,"Lev. investment",{"$f":"IF(C199=0,0,PMT($H197,C199,-C198))","v":24916666.666666668},{"$f":"IF(D199=0,0,PMT($H$197,D199,-D198))","v":8333333.333333333},{"$f":"C200-D200","v":16583333.333333336},null,"Reduction option: Electric buses",null,null,null,"Lev. investment",{"$f":"IF(L199=0,0,PMT($Q197,L199,-L198))","v":18750000},{"$f":"IF(M199=0,0,PMT($Q$197,M199,-M198))","v":8333333.333333333},{"$f":"L200-M200","v":10416666.666666668},null,"Reduction option: Electric buses",null,null,null,"Lev. investment",{"$f":"IF(U199=0,0,PMT($Z197,U199,-U198))","v":12583333.333333334},{"$f":"IF(V199=0,0,PMT($Z$197,V199,-V198))","v":8333333.333333333},{"$f":"U200-V200","v":4250000.0000000009},null,"Reduction option: Electric buses",null,null,null,"Lev. investment",{"$f":"IF(AD199=0,0,PMT($AI197,AD199,-AD198))","v":14250000},{"$f":"IF(AE199=0,0,PMT($AI$197,AE199,-AE198))","v":8333333.333333333},{"$f":"AD200-AE200","v":5916666.666666667},null,"Reduction option: Electric buses"]
[null,"Annual O&M",{"$f":"C198*H206","v":1495000},{"$f":"H215*D198","v":1000000},{"$f":"C201-D201","v":495000},null,"Investment in vehicle",250000,"US$",null,"Annual O&M",{"$f":"L198*Q206","v":1125000},{"$f":"Q215*M198","v":1000000},{"$f":"L201-M201","v":125000},null,"Investment in vehicle",200000,"US$",null,"Annual O&M",{"$f":"U198*Z206","v":755000},{"$f":"Z215*V198","v":1000000},{"$f":"U201-V201","v":-245000},null,"Investment in vehicle",150000,"US$",null,"Annual O&M",{"$f":"AD198*AI206","v":855000},{"$f":"AI215*AE198","v":1000000},{"$f":"AD201-AE201","v":-145000},null,"Investment in vehicle",150000,"US$"]
[null,"Annual fuel cost",{"$f":"H208*1000*H209","v":0},{"$f":"H218*H217*1000000","v":3870343.4929850018},{"$f":"C202-D202","v":-3870343.4929850018},null,"Cost of  1 charging station",50000,"US$",null,"Annual fuel cost",{"$f":"Q208*1000*Q209","v":0},{"$f":"Q218*Q217*1000000","v":3773584.9056603769},{"$f":"L202-M202","v":-3773584.9056603769},null,"Cost of  1 charging station",50000,"US$",null,"Annual fuel cost",{"$f":"Z208*1000*Z209","v":0},{"$f":"Z218*Z217*1000000","v":3593890.3863432161},{"$f":"U202-V202","v":-3593890.3863432161},null,"Cost of  1 charging station",50000,"US$",null,"Annual fuel cost",{"$f":"AI208*1000*AI209","v":0},{"$f":"AI218*AI217*1000000","v":3593890.3863432161},{"$f":"AD202-AE202","v":-3593890.3863432161},null,"Cost of  1 charging station",50000,"US$"]
[null,"Total annual cost",{"$f":"SUM(C200:C202)","v":26411666.666666668},{"$f":"SUM(D200:D202)","v":13203676.826318335},{"$f":"C203-D203","v":13207989.840348333},null,"Number of charging stations",20,"Stations",null,"Total annual cost",{"$f":"SUM(L200:L202)","v":19875000},{"$f":"SUM(M200:M202)","v":13106918.238993708},{"$f":"L203-M203","v":6768081.761006292},null,"Number of charging stations",20,"Stations",null,"Total annual cost",{"$f":"SUM(U200:U202)","v":13338333.333333334},{"$f":"SUM(V200:V202)","v":12927223.719676549},{"$f":"U203-V203","v":411109.61365678534},null,"Number of charging stations",20,"Stations",null,"Total annual cost",{"$f":"SUM(AD200:AD202)","v":15105000},{"$f":"SUM(AE200:AE202)","v":12927223.719676549},{"$f":"AD203-AE203","v":2177776.2803234514},null,"Number of charging stations",20,"Stations"]
[null,null,null,null,null,null,"Size of battery",400,"kWh",null,null,null,null,null,null,"Size of battery",400,"kWh",null,null,null,null,null,null,"Size of battery",400,"kWh",null,null,null,null,null,null,"Size of battery",400,"kWh"]
[null,"Annual emissions (tons)","Tons","Tons","Reduction",null,"Investment in battery",{"$f":"+H174","v":120},"US$/kWh",null,"Annual emissions (tons)","Tons","Tons","Reduction",null,"Investment in battery",{"$f":"+Q174","v":60},"US$/kWh",null,"Annual emissions (tons)","Tons","Tons","Reduction",null,"Investment in battery",{"$f":"+Z174","v":0},"US$/kWh",null,"Annual emissions (tons)","Tons","Tons","Reduction",null,"Investment in battery",{"$f":"+AI174","v":50},"US$/kWh"]
[null,"Fuel  CO2-eq. emission",{"$f":"+H211","v":0},{"$f":"+H221","v":27649.428512820505},{"$f":"D206-C206","v":27649.428512820505},null,"Annual O&M",5.0000000000000001E-3,"of investment",null,"Fuel  CO2-eq. emission",{"$f":"+Q211","v":0},{"$f":"+Q221","v":26958.192799999997},{"$f":"M206-L206","v":26958.192799999997},null,"Annual O&M",5.0000000000000001E-3,"of investment",null,"Fuel  CO2-eq. emission",{"$f":"+Z211","v":0},{"$f":"+Z221","v":25674.469333333331},{"$f":"V206-U206","v":25674.469333333331},null,"Annual O&M",5.0000000000000001E-3,"of investment",null,"Fuel  CO2-eq. emission",{"$f":"+AI211","v":0},{"$f":"+AI221","v":25674.469333333331},{"$f":"AE206-AD206","v":25674.469333333331},null,"Annual O&M",5.0000000000000001E-3,"of investment"]
[null,"Other",null,null,null,null,"Electricity consumption",{"$f":"(1.25+Q207)/2","v":1.3602941176470589},"km/kWh",null,"Other",null,null,null,null,"Electricity consumption",{"$f":"1/0.8/0.85","v":1.4705882352941178},"km/kWh",null,"Other",null,null,null,null,"Electricity consumption",{"$f":"1/0.8/0.8","v":1.5625},"km/kWh",null,"Other",null,null,null,null,"Electricity consumption",{"$f":"1/0.8/0.8","v":1.5625},"km/kWh"]
[null,"Total CO2-eq. emission ",{"$f":"C206+C207","v":0},{"$f":"D206+D207","v":27649.428512820505},{"$f":"D208-C208","v":27649.428512820505},null,"Total electricity consumption",{"$f":"H199*H198/H207/1000","v":29405.405405405407},"MWh",null,"Total CO2-eq. emission ",{"$f":"L206+L207","v":0},{"$f":"M206+M207","v":26958.192799999997},{"$f":"M208-L208","v":26958.192799999997},null,"Total electricity consumption",{"$f":"Q199*Q198/Q207/1000","v":27199.999999999996},"MWh",null,"Total CO2-eq. emission ",{"$f":"U206+U207","v":0},{"$f":"V206+V207","v":25674.469333333331},{"$f":"V208-U208","v":25674.469333333331},null,"Total electricity consumption",{"$f":"Z199*Z198/Z207/1000","v":25600},"MWh",null,"Total CO2-eq. emission ",{"$f":"AD206+AD207","v":0},{"$f":"AE206+AE207","v":25674.469333333331},{"$f":"AE208-AD208","v":25674.469333333331},null,"Total electricity consumption",{"$f":"AI199*AI198/AI207/1000","v":25600},"MWh"]
[null,null,null,null,null,null,"Reference electricity price",{"$f":"+Assumptions!C35","v":0},"US$/kWh",null,null,null,null,null,null,"Reference electricity price",{"$f":"+Assumptions!C35","v":0},"US$/kWh",null,null,null,null,null,null,"Reference electricity price",{"$f":"+Assumptions!C35","v":0},"US$/kWh",null,null,null,null,null,null,"Reference electricity price",{"$f":"+Assumptions!C35","v":0},"US$/kWh"]
[null,"US$/ton CO2-eq.",null,null,{"$f":"IF(E208<>0,E203/E208,0)","v":477.69485847506917},null,"CO2-eq. emission coefficient",{"$f":"+Assumptions!C39","v":0},"tCO2/MWh",null,"US$/ton CO2-eq.",null,null,{"$f":"IF(N208<>0,N203/N208,0)","v":251.05843745602607},null,"CO2-eq. emission coefficient",{"$f":"+Assumptions!C39","v":0},"tCO2/MWh",null,"US$/ton CO2-eq.",null,null,{"$f":"IF(W208<>0,W203/W208,0)","v":16.012389908407535},null,"CO2-eq. emission coefficient",{"$f":"+Assumptions!C39","v":0},"tCO2/MWh",null,"US$/ton CO2-eq.",null,null,{"$f":"IF(AF208<>0,AF203/AF208,0)","v":84.822640423419784},null,"CO2-eq. emission coefficient",{"$f":"+Assumptions!C39","v":0},"tCO2/MWh"]
[null,null,null,null,null,null,"Emissions from electricity",{"$f":"+H208*H210","v":0},"tCO2",null,null,null,null,null,null,"Emissions from electricity",{"$f":"+Q208*Q210","v":0},"tCO2",null,null,null,null,null,null,"Emissions from electricity",{"$f":"+Z208*Z210","v":0},"tCO2",null,null,null,null,null,null,"Emissions from electricity",{"$f":"+AI208*AI210","v":0},"tCO2"]
[null,null,null,null,null,null,"Economic efficiency",{"$f":"+C203/H198/1000","v":0.66029166666666672},"US$/km",null,null,null,null,null,null,"Economic efficiency",{"$f":"+L203/Q198/1000","v":0.49687500000000001},"US$/km",null,null,null,null,null,null,"Economic efficiency",{"$f":"+U203/Z198/1000","v":0.33345833333333336},"US$/km",null,null,null,null,null,null,"Economic efficiency",{"$f":"+AD203/AI198/1000","v":0.37762499999999999},"US$/km"]
[null,null,null,null,null,null,"Reference option: Normal diesel buses",null,null,null,null,null,null,null,null,"Reference option: Normal diesel buses",null,null,null,null,null,null,null,null,"Reference option: Normal diesel buses",null,null,null,null,null,null,null,null,"Reference option: Normal diesel buses"]
[null,null,null,null,null,null,"Investment in one bus",100000,"US$",null,null,null,null,null,null,"Investment in one bus",100000,"US$",null,null,null,null,null,null,"Investment in one bus",100000,"US$",null,null,null,null,null,null,"Investment in one bus",100000,"US$"]
[null,null,null,null,null,null,"Annual O&M",0.01,"of investment",null,null,null,null,null,null,"Annual O&M",0.01,"of investment",null,null,null,null,null,null,"Annual O&M",0.01,"of investment",null,null,null,null,null,null,"Annual O&M",0.01,"of investment"]
[null,null,null,null,null,null,"Diesel consumption",3.9,"km/l",null,null,null,null,null,null,"Diesel consumption",4,"km/l",null,null,null,null,null,null,"Diesel consumption",4.2,"km/l",null,null,null,null,null,null,"Diesel consumption",4.2,"km/l"]
[null,null,null,null,null,null,"Diesel price",{"$f":"+Assumptions!G28","v":0.37735849056603771},"US$/liter",null,null,null,null,null,null,"Diesel price",{"$f":"+Assumptions!G28","v":0.37735849056603771},"US$/liter",null,null,null,null,null,null,"Diesel price",{"$f":"+Assumptions!G28","v":0.37735849056603771},"US$/liter",null,null,null,null,null,null,"Diesel price",{"$f":"+Assumptions!G28","v":0.37735849056603771},"US$/liter"]
[null,null,null,null,null,null,"Total diesel consumption",{"$f":"H199*H198/H216/1000000","v":10.256410256410255},"Million liters",null,null,null,null,null,null,"Total diesel consumption",{"$f":"Q199*Q198/Q216/1000000","v":10},"Million liters",null,null,null,null,null,null,"Total diesel consumption",{"$f":"Z199*Z198/Z216/1000000","v":9.5238095238095237},"Million liters",null,null,null,null,null,null,"Total diesel consumption",{"$f":"AI199*AI198/AI216/1000000","v":9.5238095238095237},"Million liters"]
[null,null,null,null,null,null,"1000 l diesel =",{"$f":"+Assumptions!G30*Assumptions!G31","v":36.397199999999998},"GJ",null,null,null,null,null,null,"1000 l diesel =",{"$f":"+Assumptions!G30*Assumptions!G31","v":36.397199999999998},"GJ",null,null,null,null,null,null,"1000 l diesel =",{"$f":"+Assumptions!G30*Assumptions!G31","v":36.397199999999998},"GJ",null,null,null,null,null,null,"1000 l diesel =",{"$f":"+Assumptions!G30*Assumptions!G31","v":36.397199999999998},"GJ"]
[null,null,null,null,null,null,"CO2-eq. emission coefficient",{"$f":"+Assumptions!D46","v":74.066666666666663},"kgCO2-eq./GJ",null,null,null,null,null,null,"CO2-eq. emission coefficient",{"$f":"+Assumptions!D46","v":74.066666666666663},"kgCO2-eq./GJ",null,null,null,null,null,null,"CO2-eq. emission coefficient",{"$f":"+Assumptions!D46","v":74.066666666666663},"kgCO2-eq./GJ",null,null,null,null,null,null,"CO2-eq. emission coefficient",{"$f":"+Assumptions!D46","v":74.066666666666663},"kgCO2-eq./GJ"]
[null,null,null,null,null,null,"Emissions from diesel",{"$f":"+H218*H219*H220","v":27649.428512820505},"tCO2",null,null,null,null,null,null,"Emissions from diesel",{"$f":"+Q218*Q219*Q220","v":26958.192799999997},"tCO2",null,null,null,null,null,null,"Emissions from diesel",{"$f":"+Z218*Z219*Z220","v":25674.469333333331},"tCO2",null,null,null,null,null,null,"Emissions from diesel",{"$f":"+AI218*AI219*AI220","v":25674.469333333331},"tCO2"]
[null,null,null,null,null,null,"Economic efficiency",{"$f":"+D203/H198/1000","v":0.33009192065795839},"US$/km",null,null,null,null,null,null,"Economic efficiency",{"$f":"+M203/Q198/1000","v":0.32767295597484269},"US$/km",null,null,null,null,null,null,"Economic efficiency",{"$f":"+V203/Z198/1000","v":0.32318059299191371},"US$/km",null,null,null,null,null,null,"Economic efficiency",{"$f":"+AE203/AI198/1000","v":0.32318059299191371},"US$/km"]
[]
[]
[]
[null,"Electric heavy trucks (1000 trucks) in 2025",null,null,null,null,null,null,null,null,"Electric heavy trucks (1000 trucks) in 2030",null,null,null,null,null,null,null,null,"Electric heavy trucks (1000 trucks) in 2040",null,null,null,null,null,null,null,null,"Electric heavy trucks (1000 trucks) in 2050"]
[null,"Costs in","Reduction","Reference","Increase",null,"General inputs:",null,null,null,"Costs in","Reduction","Reference","Increase",null,"General inputs:",null,null,null,"Costs in","Reduction","Reference","Increase",null,"General inputs:",null,null,null,"Costs in","Reduction","Reference","Increase",null,"General inputs:"]
[null,"US$","Option","Option","(Red.-Ref.)",null,"Discount rate ",{"$f":"+DiscountRate","v":0},null,null,"US$","Option","Option","(Red.-Ref.)",null,"Discount rate ",{"$f":"+DiscountRate","v":0},null,null,"US$","Option","Option","(Red.-Ref.)",null,"Discount rate ",{"$f":"+DiscountRate","v":0},null,null,"US$","Option","Option","(Red.-Ref.)",null,"Discount rate ",{"$f":"+DiscountRate","v":0}]
[null,"Total investment",{"$f":"+H230*(H232+H235*H236)+H233*H234","v":600220000},{"$f":"H230*H246","v":180625000},{"$f":"C229-D229","v":419595000},null,"Annual distance ",{"$f":"(50000+25000)/2","v":37500},"km",null,"Total investment",{"$f":"+Q230*(Q232+Q235*Q236)+Q233*Q234","v":539220000},{"$f":"Q230*Q246","v":180625000},{"$f":"L229-M229","v":358595000},null,"Annual distance ",{"$f":"(50000+25000)/2","v":37500},"km",null,"Total investment",{"$f":"+Z230*(Z232+Z235*Z236)+Z233*Z234","v":453220000},{"$f":"Z230*Z246","v":180625000},{"$f":"U229-V229","v":272595000},null,"Annual distance ",{"$f":"(50000+25000)/2","v":37500},"km",null,"Total investment",{"$f":"+AI230*(AI232+AI235*AI236)+AI233*AI234","v":483220000},{"$f":"AI230*AI246","v":180625000},{"$f":"AD229-AE229","v":302595000},null,"Annual distance ",{"$f":"(50000+25000)/2","v":37500},"km"]
[null,"Project life",12,12,null,null,"Activity",1000,"Trucks",null,"Project life",12,12,null,null,"Activity",1000,"Trucks",null,"Project life",12,12,null,null,"Activity",1000,"Trucks",null,"Project life",12,12,null,null,"Activity",1000,"Trucks"]
[null,"Lev. investment",{"$f":"IF(C230=0,0,PMT($H228,C230,-C229))","v":50018333.333333336},{"$f":"IF(D230=0,0,PMT($H$228,D230,-D229))","v":15052083.333333334},{"$f":"C231-D231","v":34966250},null,"Reduction option: Electric trucks",null,null,null,"Lev. investment",{"$f":"IF(L230=0,0,PMT($Q228,L230,-L229))","v":44935000},{"$f":"IF(M230=0,0,PMT($Q$228,M230,-M229))","v":15052083.333333334},{"$f":"L231-M231","v":29882916.666666664},null,"Reduction option: Electric trucks",null,null,null,"Lev. investment",{"$f":"IF(U230=0,0,PMT($Z228,U230,-U229))","v":37768333.333333336},{"$f":"IF(V230=0,0,PMT($Z$228,V230,-V229))","v":15052083.333333334},{"$f":"U231-V231","v":22716250},null,"Reduction option: Electric trucks",null,null,null,"Lev. investment",{"$f":"IF(AD230=0,0,PMT($AI228,AD230,-AD229))","v":40268333.333333336},{"$f":"IF(AE230=0,0,PMT($AI$228,AE230,-AE229))","v":15052083.333333334},{"$f":"AD231-AE231","v":25216250},null,"Reduction option: Electric trucks"]
[null,"Annual O&M",{"$f":"C229*H237","v":3001100},{"$f":"H247*D229","v":1806250},{"$f":"C232-D232","v":1194850},null,"Investment in vehicle",525000,"US$",null,"Annual O&M",{"$f":"L229*Q237","v":2696100},{"$f":"Q247*M229","v":1806250},{"$f":"L232-M232","v":889850},null,"Investment in vehicle",500000,"US$",null,"Annual O&M",{"$f":"U229*Z237","v":2266100},{"$f":"Z247*V229","v":1806250},{"$f":"U232-V232","v":459850},null,"Investment in vehicle",450000,"US$",null,"Annual O&M",{"$f":"AD229*AI237","v":2416100},{"$f":"AI247*AE229","v":1806250},{"$f":"AD232-AE232","v":609850},null,"Investment in vehicle",450000,"US$"]
[null,"Annual fuel cost",{"$f":"H239*1000*H241","v":0},{"$f":"H250*H249*1000000","v":4162042.1753607104},{"$f":"C233-D233","v":-4162042.1753607104},null,"Cost of  1 charging station",{"$f":"322000/2","v":161000},"US$",null,"Annual fuel cost",{"$f":"Q239*1000*Q241","v":0},{"$f":"Q250*Q249*1000000","v":3930817.6100628925},{"$f":"L233-M233","v":-3930817.6100628925},null,"Cost of  1 charging station",{"$f":"322000/2","v":161000},"US$",null,"Annual fuel cost",{"$f":"Z239*1000*Z241","v":0},{"$f":"Z250*Z249*1000000","v":3537735.8490566034},{"$f":"U233-V233","v":-3537735.8490566034},null,"Cost of  1 charging station",{"$f":"322000/2","v":161000},"US$",null,"Annual fuel cost",{"$f":"AI239*1000*AI241","v":0},{"$f":"AI250*AI249*1000000","v":3537735.8490566034},{"$f":"AD233-AE233","v":-3537735.8490566034},null,"Cost of  1 charging station",{"$f":"322000/2","v":161000},"US$"]
[null,"Total annual cost",{"$f":"SUM(C231:C233)","v":53019433.333333336},{"$f":"SUM(D231:D233)","v":21020375.508694045},{"$f":"C234-D234","v":31999057.824639291},null,"Number of charging stations",20,"Stations",null,"Total annual cost",{"$f":"SUM(L231:L233)","v":47631100},{"$f":"SUM(M231:M233)","v":20789150.943396229},{"$f":"L234-M234","v":26841949.056603771},null,"Number of charging stations",20,"Stations",null,"Total annual cost",{"$f":"SUM(U231:U233)","v":40034433.333333336},{"$f":"SUM(V231:V233)","v":20396069.182389937},{"$f":"U234-V234","v":19638364.150943398},null,"Number of charging stations",20,"Stations",null,"Total annual cost",{"$f":"SUM(AD231:AD233)","v":42684433.333333336},{"$f":"SUM(AE231:AE233)","v":20396069.182389937},{"$f":"AD234-AE234","v":22288364.150943398},null,"Number of charging stations",20,"Stations"]
[null,null,null,null,null,null,"Size of battery",600,"kWh",null,null,null,null,null,null,"Size of battery",600,"kWh",null,null,null,null,null,null,"Size of battery",600,"kWh",null,null,null,null,null,null,"Size of battery",600,"kWh"]
[null,"Annual emissions (tons)","Tons","Tons","Reduction",null,"Investment in battery",{"$f":"+H205","v":120},"US$/kWh",null,"Annual emissions (tons)","Tons","Tons","Reduction",null,"Investment in battery",{"$f":"+Q205","v":60},"US$/kWh",null,"Annual emissions (tons)","Tons","Tons","Reduction",null,"Investment in battery",{"$f":"+Z205","v":0},"US$/kWh",null,"Annual emissions (tons)","Tons","Tons","Reduction",null,"Investment in battery",{"$f":"+AI205","v":50},"US$/kWh"]
[null,"Fuel  CO2-eq. emission",{"$f":"+H243","v":0},{"$f":"+H253","v":29733.300882352945},{"$f":"D237-C237","v":29733.300882352945},null,"Annual O&M",5.0000000000000001E-3,"of investment",null,"Fuel  CO2-eq. emission",{"$f":"+Q243","v":0},{"$f":"+Q253","v":28081.450833333325},{"$f":"M237-L237","v":28081.450833333325},null,"Annual O&M",5.0000000000000001E-3,"of investment",null,"Fuel  CO2-eq. emission",{"$f":"+Z243","v":0},{"$f":"+Z253","v":25273.30575},{"$f":"V237-U237","v":25273.30575},null,"Annual O&M",5.0000000000000001E-3,"of investment",null,"Fuel  CO2-eq. emission",{"$f":"+AI243","v":0},{"$f":"+AI253","v":25273.30575},{"$f":"AE237-AD237","v":25273.30575},null,"Annual O&M",5.0000000000000001E-3,"of investment"]
[null,"Other",null,null,null,null,"Electricity consumption",{"$f":"(0.87+Q238)/2","v":0.94650895140664959},"km/kWh",null,"Other",null,null,null,null,"Electricity consumption",{"$f":"1/1.15/0.85","v":1.0230179028132993},"km/kWh",null,"Other",null,null,null,null,"Electricity consumption",{"$f":"1/1.15/0.8","v":1.0869565217391304},"km/kWh",null,"Other",null,null,null,null,"Electricity consumption",{"$f":"1/1.15/0.8","v":1.0869565217391304},"km/kWh"]
[null,"Total CO2-eq. emission ",{"$f":"C237+C238","v":0},{"$f":"D237+D238","v":29733.300882352945},{"$f":"D239-C239","v":29733.300882352945},null,"Total electricity consumption",{"$f":"H230*H229/H238/1000","v":39619.276652660876},"MWh",null,"Total CO2-eq. emission ",{"$f":"L237+L238","v":0},{"$f":"M237+M238","v":28081.450833333325},{"$f":"M239-L239","v":28081.450833333325},null,"Total electricity consumption",{"$f":"Q230*Q229/Q238/1000","v":36656.25},"MWh",null,"Total CO2-eq. emission ",{"$f":"U237+U238","v":0},{"$f":"V237+V238","v":25273.30575},{"$f":"V239-U239","v":25273.30575},null,"Total electricity consumption",{"$f":"Z230*Z229/Z238/1000","v":34500},"MWh",null,"Total CO2-eq. emission ",{"$f":"AD237+AD238","v":0},{"$f":"AE237+AE238","v":25273.30575},{"$f":"AE239-AD239","v":25273.30575},null,"Total electricity consumption",{"$f":"AI230*AI229/AI238/1000","v":34500},"MWh"]
[null,null,null,null,null,null,"Range",{"$f":"H235*H238","v":567.90537084398977},"km",null,null,null,null,null,null,"Range",{"$f":"Q235*Q238","v":613.81074168797954},"km",null,null,null,null,null,null,"Range",{"$f":"Z235*Z238","v":652.17391304347825},"km",null,null,null,null,null,null,"Range",{"$f":"AI235*AI238","v":652.17391304347825},"km"]
[null,"US$/ton CO2-eq.",null,null,{"$f":"IF(E239<>0,E234/E239,0)","v":1076.2026709127038},null,"Reference electricity price",{"$f":"+Assumptions!C35","v":0},"US$/kWh",null,"US$/ton CO2-eq.",null,null,{"$f":"IF(N239<>0,N234/N239,0)","v":955.86047942871107},null,"Reference electricity price",{"$f":"+Assumptions!C35","v":0},"US$/kWh",null,"US$/ton CO2-eq.",null,null,{"$f":"IF(W239<>0,W234/W239,0)","v":777.03978835231715},null,"Reference electricity price",{"$f":"+Assumptions!C35","v":0},"US$/kWh",null,"US$/ton CO2-eq.",null,null,{"$f":"IF(AF239<>0,AF234/AF239,0)","v":881.89350342281193},null,"Reference electricity price",{"$f":"+Assumptions!C35","v":0},"US$/kWh"]
[null,null,null,null,null,null,"CO2-eq. emission coefficient",{"$f":"+Assumptions!C39","v":0},"tCO2/MWh",null,null,null,null,null,null,"CO2-eq. emission coefficient",{"$f":"+Assumptions!C39","v":0},"tCO2/MWh",null,null,null,null,null,null,"CO2-eq. emission coefficient",{"$f":"+Assumptions!C39","v":0},"tCO2/MWh",null,null,null,null,null,null,"CO2-eq. emission coefficient",{"$f":"+Assumptions!C39","v":0},"tCO2/MWh"]
[null,null,null,null,null,null,"Emissions from electricity",{"$f":"+H239*H242","v":0},"tCO2",null,null,null,null,null,null,"Emissions from electricity",{"$f":"+Q239*Q242","v":0},"tCO2",null,null,null,null,null,null,"Emissions from electricity",{"$f":"+Z239*Z242","v":0},"tCO2",null,null,null,null,null,null,"Emissions from electricity",{"$f":"+AI239*AI242","v":0},"tCO2"]
[null,null,null,null,null,null,"Economic efficiency",{"$f":"+C234/H229/1000","v":1.4138515555555558},"US$/km",null,null,null,null,null,null,"Economic efficiency",{"$f":"+L234/Q229/1000","v":1.2701626666666666},"US$/km",null,null,null,null,null,null,"Economic efficiency",{"$f":"+U234/Z229/1000","v":1.067584888888889},"US$/km",null,null,null,null,null,null,"Economic efficiency",{"$f":"+AD234/AI229/1000","v":1.1382515555555555},"US$/km"]
[null,null,null,null,null,null,"Reference option: Normal diesel trucks",null,null,null,null,null,null,null,null,"Reference option: Normal diesel trucks",null,null,null,null,null,null,null,null,"Reference option: Normal diesel trucks",null,null,null,null,null,null,null,null,"Reference option: Normal diesel trucks"]
[null,null,null,null,null,null,"Investment in one truck",{"$f":"(4.2*220000+5.4*150000)/9.6","v":180625},"US$",null,null,null,null,null,null,"Investment in one truck",{"$f":"(4.2*220000+5.4*150000)/9.6","v":180625},"US$",null,null,null,null,null,null,"Investment in one truck",{"$f":"(4.2*220000+5.4*150000)/9.6","v":180625},"US$",null,null,null,null,null,null,"Investment in one truck",{"$f":"(4.2*220000+5.4*150000)/9.6","v":180625},"US$"]
[null,null,null,null,null,null,"Annual O&M",0.01,"of investment",null,null,null,null,null,null,"Annual O&M",0.01,"of investment",null,null,null,null,null,null,"Annual O&M",0.01,"of investment",null,null,null,null,null,null,"Annual O&M",0.01,"of investment"]
[null,null,null,null,null,null,"Diesel consumption",3.4,"km/l",null,null,null,null,null,null,"Diesel consumption",3.6,"km/l",null,null,null,null,null,null,"Diesel consumption",4,"km/l",null,null,null,null,null,null,"Diesel consumption",4,"km/l"]
[null,null,null,null,null,null,"Diesel price",{"$f":"+Assumptions!G28","v":0.37735849056603771},"US$/liter",null,null,null,null,null,null,"Diesel price",{"$f":"+Assumptions!G28","v":0.37735849056603771},"US$/liter",null,null,null,null,null,null,"Diesel price",{"$f":"+Assumptions!G28","v":0.37735849056603771},"US$/liter",null,null,null,null,null,null,"Diesel price",{"$f":"+Assumptions!G28","v":0.37735849056603771},"US$/liter"]
[null,null,null,null,null,null,"Total diesel consumption",{"$f":"H230*H229/H248/1000000","v":11.029411764705884},"Million liters",null,null,null,null,null,null,"Total diesel consumption",{"$f":"Q230*Q229/Q248/1000000","v":10.416666666666666},"Million liters",null,null,null,null,null,null,"Total diesel consumption",{"$f":"Z230*Z229/Z248/1000000","v":9.375},"Million liters",null,null,null,null,null,null,"Total diesel consumption",{"$f":"AI230*AI229/AI248/1000000","v":9.375},"Million liters"]
[null,null,null,null,null,null,"1000 l diesel =",{"$f":"+Assumptions!G30*Assumptions!G31","v":36.397199999999998},"GJ",null,null,null,null,null,null,"1000 l diesel =",{"$f":"+Assumptions!G30*Assumptions!G31","v":36.397199999999998},"GJ",null,null,null,null,null,null,"1000 l diesel =",{"$f":"+Assumptions!G30*Assumptions!G31","v":36.397199999999998},"GJ",null,null,null,null,null,null,"1000 l diesel =",{"$f":"+Assumptions!G30*Assumptions!G31","v":36.397199999999998},"GJ"]
[null,null,null,null,null,null,"CO2-eq. emission coefficient",{"$f":"+Assumptions!D46","v":74.066666666666663},"kgCO2-eq./GJ",null,null,null,null,null,null,"CO2-eq. emission coefficient",{"$f":"+Assumptions!D46","v":74.066666666666663},"kgCO2-eq./GJ",null,null,null,null,null,null,"CO2-eq. emission coefficient",{"$f":"+Assumptions!D46","v":74.066666666666663},"kgCO2-eq./GJ",null,null,null,null,null,null,"CO2-eq. emission coefficient",{"$f":"+Assumptions!D46","v":74.066666666666663},"kgCO2-eq./GJ"]
[null,null,null,null,null,null,"Emissions from diesel",{"$f":"+H250*H251*H252","v":29733.300882352945},"tCO2",null,null,null,null,null,null,"Emissions from diesel",{"$f":"+Q250*Q251*Q252","v":28081.450833333325},"tCO2",null,null,null,null,null,null,"Emissions from diesel",{"$f":"+Z250*Z251*Z252","v":25273.30575},"tCO2",null,null,null,null,null,null,"Emissions from diesel",{"$f":"+AI250*AI251*AI252","v":25273.30575},"tCO2"]
[null,null,null,null,null,null,"Economic efficiency",{"$f":"+D234/H229/1000","v":0.56054334689850782},"US$/km",null,null,null,null,null,null,"Economic efficiency",{"$f":"+M234/Q229/1000","v":0.55437735849056613},"US$/km",null,null,null,null,null,null,"Economic efficiency",{"$f":"+V234/Z229/1000","v":0.54389517819706501},"US$/km",null,null,null,null,null,null,"Economic efficiency",{"$f":"+AE234/AI229/1000","v":0.54389517819706501},"US$/km"]
[]
[]
[]
[null,"Electric light trucks (1000 trucks) in 2025",null,null,null,null,null,null,null,null,"Electric light trucks (1000 trucks) in 2030",null,null,null,null,null,null,null,null,"Electric light trucks (1000 trucks) in 2040",null,null,null,null,null,null,null,null,"Electric light trucks (1000 trucks) in 2050"]
[null,"Costs in","Reduction","Reference","Increase",null,"General inputs:",null,null,null,"Costs in","Reduction","Reference","Increase",null,"General inputs:",null,null,null,"Costs in","Reduction","Reference","Increase",null,"General inputs:",null,null,null,"Costs in","Reduction","Reference","Increase",null,"General inputs:"]
[null,"US$","Option","Option","(Red.-Ref.)",null,"Discount rate ",{"$f":"+DiscountRate","v":0},null,null,"US$","Option","Option","(Red.-Ref.)",null,"Discount rate ",{"$f":"+DiscountRate","v":0},null,null,"US$","Option","Option","(Red.-Ref.)",null,"Discount rate ",{"$f":"+DiscountRate","v":0},null,null,"US$","Option","Option","(Red.-Ref.)",null,"Discount rate ",{"$f":"+DiscountRate","v":0}]
[null,"Total investment",{"$f":"+H262*(H264+H267*H268)+H265*H266","v":158095000},{"$f":"H262*H278","v":75000000},{"$f":"C261-D261","v":83095000},null,"Annual distance ",12000,"km",null,"Total investment",{"$f":"+Q262*(Q264+Q267*Q268)+Q265*Q266","v":107470000},{"$f":"Q262*Q278","v":75000000},{"$f":"L261-M261","v":32470000},null,"Annual distance ",12000,"km",null,"Total investment",{"$f":"+Z262*(Z264+Z267*Z268)+Z265*Z266","v":51970000},{"$f":"Z262*Z278","v":75000000},{"$f":"U261-V261","v":-23030000},null,"Annual distance ",12000,"km",null,"Total investment",{"$f":"+AI262*(AI264+AI267*AI268)+AI265*AI266","v":81970000},{"$f":"AI262*AI278","v":75000000},{"$f":"AD261-AE261","v":6970000},null,"Annual distance ",12000,"km"]
[null,"Project life",12,12,null,null,"Activity",1000,"Trucks",null,"Project life",12,12,null,null,"Activity",1000,"Trucks",null,"Project life",12,12,null,null,"Activity",1000,"Trucks",null,"Project life",12,12,null,null,"Activity",1000,"Trucks"]
[null,"Lev. investment",{"$f":"IF(C262=0,0,PMT($H260,C262,-C261))","v":13174583.333333334},{"$f":"IF(D262=0,0,PMT($H$260,D262,-D261))","v":6250000},{"$f":"C263-D263","v":6924583.333333334},null,"Reduction option: Electric trucks",null,null,null,"Lev. investment",{"$f":"IF(L262=0,0,PMT($Q260,L262,-L261))","v":8955833.333333334},{"$f":"IF(M262=0,0,PMT($Q$260,M262,-M261))","v":6250000},{"$f":"L263-M263","v":2705833.333333334},null,"Reduction option: Electric trucks",null,null,null,"Lev. investment",{"$f":"IF(U262=0,0,PMT($Z260,U262,-U261))","v":4330833.333333333},{"$f":"IF(V262=0,0,PMT($Z$260,V262,-V261))","v":6250000},{"$f":"U263-V263","v":-1919166.666666667},null,"Reduction option: Electric trucks",null,null,null,"Lev. investment",{"$f":"IF(AD262=0,0,PMT($AI260,AD262,-AD261))","v":6830833.333333333},{"$f":"IF(AE262=0,0,PMT($AI$260,AE262,-AE261))","v":6250000},{"$f":"AD263-AE263","v":580833.33333333302},null,"Reduction option: Electric trucks"]
[null,"Annual O&M",{"$f":"C261*H269","v":790475},{"$f":"H279*D261","v":750000},{"$f":"C264-D264","v":40475},null,"Investment in vehicle",{"$f":"+(97500+Q264)/2","v":82875},"US$",null,"Annual O&M",{"$f":"L261*Q269","v":537350},{"$f":"Q279*M261","v":750000},{"$f":"L264-M264","v":-212650},null,"Investment in vehicle",{"$f":"97500*0.7","v":68250},"US$",null,"Annual O&M",{"$f":"U261*Z269","v":259850},{"$f":"Z279*V261","v":750000},{"$f":"U264-V264","v":-490150},null,"Investment in vehicle",{"$f":"97500*0.5","v":48750},"US$",null,"Annual O&M",{"$f":"AD261*AI269","v":409850},{"$f":"AI279*AE261","v":750000},{"$f":"AD264-AE264","v":-340150},null,"Investment in vehicle",{"$f":"97500*0.5","v":48750},"US$"]
[null,"Annual fuel cost",{"$f":"H271*1000*H273","v":0},{"$f":"H282*H281*1000000","v":1223865.3748087708},{"$f":"C265-D265","v":-1223865.3748087708},null,"Cost of  1 charging station",{"$f":"322000/2","v":161000},"US$",null,"Annual fuel cost",{"$f":"Q271*1000*Q273","v":0},{"$f":"Q282*Q281*1000000","v":1191658.3912611718},{"$f":"L265-M265","v":-1191658.3912611718},null,"Cost of  1 charging station",{"$f":"322000/2","v":161000},"US$",null,"Annual fuel cost",{"$f":"Z271*1000*Z273","v":0},{"$f":"Z282*Z281*1000000","v":1078167.1159029647},{"$f":"U265-V265","v":-1078167.1159029647},null,"Cost of  1 charging station",{"$f":"322000/2","v":161000},"US$",null,"Annual fuel cost",{"$f":"AI271*1000*AI273","v":0},{"$f":"AI282*AI281*1000000","v":1078167.1159029647},{"$f":"AD265-AE265","v":-1078167.1159029647},null,"Cost of  1 charging station",{"$f":"322000/2","v":161000},"US$"]
[null,"Total annual cost",{"$f":"SUM(C263:C265)","v":13965058.333333334},{"$f":"SUM(D263:D265)","v":8223865.3748087706},{"$f":"C266-D266","v":5741192.9585245633},null,"Number of charging stations",20,"Stations",null,"Total annual cost",{"$f":"SUM(L263:L265)","v":9493183.333333334},{"$f":"SUM(M263:M265)","v":8191658.3912611715},{"$f":"L266-M266","v":1301524.9420721624},null,"Number of charging stations",20,"Stations",null,"Total annual cost",{"$f":"SUM(U263:U265)","v":4590683.333333333},{"$f":"SUM(V263:V265)","v":8078167.115902965},{"$f":"U266-V266","v":-3487483.7825696319},null,"Number of charging stations",20,"Stations",null,"Total annual cost",{"$f":"SUM(AD263:AD265)","v":7240683.333333333},{"$f":"SUM(AE263:AE265)","v":8078167.115902965},{"$f":"AD266-AE266","v":-837483.78256963193},null,"Number of charging stations",20,"Stations"]
[null,null,null,null,null,null,"Size of battery",600,"kWh",null,null,null,null,null,null,"Size of battery",600,"kWh",null,null,null,null,null,null,"Size of battery",600,"kWh",null,null,null,null,null,null,"Size of battery",600,"kWh"]
[null,"Annual emissions (tons)","Tons","Tons","Reduction",null,"Investment in battery",{"$f":"+H236","v":120},"US$/kWh",null,"Annual emissions (tons)","Tons","Tons","Reduction",null,"Investment in battery",{"$f":"+Q236","v":60},"US$/kWh",null,"Annual emissions (tons)","Tons","Tons","Reduction",null,"Investment in battery",{"$f":"+Z236","v":0},"US$/kWh",null,"Annual emissions (tons)","Tons","Tons","Reduction",null,"Investment in battery",{"$f":"+AI236","v":50},"US$/kWh"]
[null,"Fuel  CO2-eq. emission",{"$f":"+H275","v":0},{"$f":"+H285","v":8743.1976648648633},{"$f":"D269-C269","v":8743.1976648648633},null,"Annual O&M",5.0000000000000001E-3,"of investment",null,"Fuel  CO2-eq. emission",{"$f":"+Q275","v":0},{"$f":"+Q285","v":8513.1135157894751},{"$f":"M269-L269","v":8513.1135157894751},null,"Annual O&M",5.0000000000000001E-3,"of investment",null,"Fuel  CO2-eq. emission",{"$f":"+Z275","v":0},{"$f":"+Z285","v":7702.3407999999981},{"$f":"V269-U269","v":7702.3407999999981},null,"Annual O&M",5.0000000000000001E-3,"of investment",null,"Fuel  CO2-eq. emission",{"$f":"+AI275","v":0},{"$f":"+AI285","v":7702.3407999999981},{"$f":"AE269-AD269","v":7702.3407999999981},null,"Annual O&M",5.0000000000000001E-3,"of investment"]
[null,"Other",null,null,null,null,"Electricity consumption",{"$f":"(2+Q270)/2","v":2.1764705882352944},"km/kWh",null,"Other",null,null,null,null,"Electricity consumption",{"$f":"1/0.5/0.85","v":2.3529411764705883},"km/kWh",null,"Other",null,null,null,null,"Electricity consumption",{"$f":"1/0.5/0.8","v":2.5},"km/kWh",null,"Other",null,null,null,null,"Electricity consumption",{"$f":"1/0.5/0.8","v":2.5},"km/kWh"]
[null,"Total CO2-eq. emission ",{"$f":"C269+C270","v":0},{"$f":"D269+D270","v":8743.1976648648633},{"$f":"D271-C271","v":8743.1976648648633},null,"Total electricity consumption",{"$f":"H262*H261/H270/1000","v":5513.5135135135133},"MWh",null,"Total CO2-eq. emission ",{"$f":"L269+L270","v":0},{"$f":"M269+M270","v":8513.1135157894751},{"$f":"M271-L271","v":8513.1135157894751},null,"Total electricity consumption",{"$f":"Q262*Q261/Q270/1000","v":5100},"MWh",null,"Total CO2-eq. emission ",{"$f":"U269+U270","v":0},{"$f":"V269+V270","v":7702.3407999999981},{"$f":"V271-U271","v":7702.3407999999981},null,"Total electricity consumption",{"$f":"Z262*Z261/Z270/1000","v":4800},"MWh",null,"Total CO2-eq. emission ",{"$f":"AD269+AD270","v":0},{"$f":"AE269+AE270","v":7702.3407999999981},{"$f":"AE271-AD271","v":7702.3407999999981},null,"Total electricity consumption",{"$f":"AI262*AI261/AI270/1000","v":4800},"MWh"]
[null,null,null,null,null,null,"Range",{"$f":"H267*H270","v":1305.8823529411766},"km",null,null,null,null,null,null,"Range",{"$f":"Q267*Q270","v":1411.7647058823529},"km",null,null,null,null,null,null,"Range",{"$f":"Z267*Z270","v":1500},"km",null,null,null,null,null,null,"Range",{"$f":"AI267*AI270","v":1500},"km"]
[null,"US$/ton CO2-eq.",null,null,{"$f":"IF(E271<>0,E266/E271,0)","v":656.64682174531401},null,"Reference electricity price",{"$f":"+Assumptions!C35","v":0},"US$/kWh",null,"US$/ton CO2-eq.",null,null,{"$f":"IF(N271<>0,N266/N271,0)","v":152.88471599235615},null,"Reference electricity price",{"$f":"+Assumptions!C35","v":0},"US$/kWh",null,"US$/ton CO2-eq.",null,null,{"$f":"IF(W271<>0,W266/W271,0)","v":-452.78232593520568},null,"Reference electricity price",{"$f":"+Assumptions!C35","v":0},"US$/kWh",null,"US$/ton CO2-eq.",null,null,{"$f":"IF(AF271<>0,AF266/AF271,0)","v":-108.73107336014425},null,"Reference electricity price",{"$f":"+Assumptions!C35","v":0},"US$/kWh"]
[null,null,null,null,null,null,"CO2-eq. emission coefficient",{"$f":"+Assumptions!C39","v":0},"tCO2/MWh",null,null,null,null,null,null,"CO2-eq. emission coefficient",{"$f":"+Assumptions!C39","v":0},"tCO2/MWh",null,null,null,null,null,null,"CO2-eq. emission coefficient",{"$f":"+Assumptions!C39","v":0},"tCO2/MWh",null,null,null,null,null,null,"CO2-eq. emission coefficient",{"$f":"+Assumptions!C39","v":0},"tCO2/MWh"]
[null,null,null,null,null,null,"Emissions from electricity",{"$f":"+H271*H274","v":0},"tCO2",null,null,null,null,null,null,"Emissions from electricity",{"$f":"+Q271*Q274","v":0},"tCO2",null,null,null,null,null,null,"Emissions from electricity",{"$f":"+Z271*Z274","v":0},"tCO2",null,null,null,null,null,null,"Emissions from electricity",{"$f":"+AI271*AI274","v":0},"tCO2"]
[null,null,null,null,null,null,"Economic efficiency",{"$f":"+C266/H261/1000","v":1.1637548611111113},"US$/km",null,null,null,null,null,null,"Economic efficiency",{"$f":"+L266/Q261/1000","v":0.79109861111111113},"US$/km",null,null,null,null,null,null,"Economic efficiency",{"$f":"+U266/Z261/1000","v":0.38255694444444444},"US$/km",null,null,null,null,null,null,"Economic efficiency",{"$f":"+AD266/AI261/1000","v":0.60339027777777776},"US$/km"]
[null,null,null,null,null,null,"Reference option: Normal diesel trucks",null,null,null,null,null,null,null,null,"Reference option: Normal diesel trucks",null,null,null,null,null,null,null,null,"Reference option: Normal diesel trucks",null,null,null,null,null,null,null,null,"Reference option: Normal diesel trucks"]
[null,null,null,null,null,null,"Investment in one truck",75000,"US$",null,null,null,null,null,null,"Investment in one truck",75000,"US$",null,null,null,null,null,null,"Investment in one truck",75000,"US$",null,null,null,null,null,null,"Investment in one truck",75000,"US$"]
[null,null,null,null,null,null,"Annual O&M",0.01,"of investment",null,null,null,null,null,null,"Annual O&M",0.01,"of investment",null,null,null,null,null,null,"Annual O&M",0.01,"of investment",null,null,null,null,null,null,"Annual O&M",0.01,"of investment"]
[null,null,null,null,null,null,"Diesel consumption",3.7,"km/l",null,null,null,null,null,null,"Diesel consumption",3.8,"km/l",null,null,null,null,null,null,"Diesel consumption",4.2,"km/l",null,null,null,null,null,null,"Diesel consumption",4.2,"km/l"]
[null,null,null,null,null,null,"Diesel price",{"$f":"+Assumptions!G28","v":0.37735849056603771},"US$/liter",null,null,null,null,null,null,"Diesel price",{"$f":"+Assumptions!G28","v":0.37735849056603771},"US$/liter",null,null,null,null,null,null,"Diesel price",{"$f":"+Assumptions!G28","v":0.37735849056603771},"US$/liter",null,null,null,null,null,null,"Diesel price",{"$f":"+Assumptions!G28","v":0.37735849056603771},"US$/liter"]
[null,null,null,null,null,null,"Total diesel consumption",{"$f":"H262*H261/H280/1000000","v":3.243243243243243},"Million liters",null,null,null,null,null,null,"Total diesel consumption",{"$f":"Q262*Q261/Q280/1000000","v":3.1578947368421058},"Million liters",null,null,null,null,null,null,"Total diesel consumption",{"$f":"Z262*Z261/Z280/1000000","v":2.8571428571428568},"Million liters",null,null,null,null,null,null,"Total diesel consumption",{"$f":"AI262*AI261/AI280/1000000","v":2.8571428571428568},"Million liters"]
[null,null,null,null,null,null,"1000 l diesel =",{"$f":"+Assumptions!G30*Assumptions!G31","v":36.397199999999998},"GJ",null,null,null,null,null,null,"1000 l diesel =",{"$f":"+Assumptions!G30*Assumptions!G31","v":36.397199999999998},"GJ",null,null,null,null,null,null,"1000 l diesel =",{"$f":"+Assumptions!G30*Assumptions!G31","v":36.397199999999998},"GJ",null,null,null,null,null,null,"1000 l diesel =",{"$f":"+Assumptions!G30*Assumptions!G31","v":36.397199999999998},"GJ"]
[null,null,null,null,null,null,"CO2-eq. emission coefficient",{"$f":"+Assumptions!D46","v":74.066666666666663},"kgCO2-eq./GJ",null,null,null,null,null,null,"CO2-eq. emission coefficient",{"$f":"+Assumptions!D46","v":74.066666666666663},"kgCO2-eq./GJ",null,null,null,null,null,null,"CO2-eq. emission coefficient",{"$f":"+Assumptions!D46","v":74.066666666666663},"kgCO2-eq./GJ",null,null,null,null,null,null,"CO2-eq. emission coefficient",{"$f":"+Assumptions!D46","v":74.066666666666663},"kgCO2-eq./GJ"]
[null,null,null,null,null,null,"Emissions from diesel",{"$f":"+H282*H283*H284","v":8743.1976648648633},"tCO2",null,null,null,null,null,null,"Emissions from diesel",{"$f":"+Q282*Q283*Q284","v":8513.1135157894751},"tCO2",null,null,null,null,null,null,"Emissions from diesel",{"$f":"+Z282*Z283*Z284","v":7702.3407999999981},"tCO2",null,null,null,null,null,null,"Emissions from diesel",{"$f":"+AI282*AI283*AI284","v":7702.3407999999981},"tCO2"]
[null,null,null,null,null,null,"Economic efficiency",{"$f":"+D266/H261/1000","v":0.68532211456739756},"US$/km",null,null,null,null,null,null,"Economic efficiency",{"$f":"+M266/Q261/1000","v":0.68263819927176428},"US$/km",null,null,null,null,null,null,"Economic efficiency",{"$f":"+V266/Z261/1000","v":0.67318059299191368},"US$/km",null,null,null,null,null,null,"Economic efficiency",{"$f":"+AE266/AI261/1000","v":0.67318059299191368},"US$/km"]
[]
[]
[]
[null,"Electric rail (1Mill. trainkm/day) "]
[null,"Costs in","Reduction","Reference","Increase",null,"General inputs:"]
[null,"US$","Option","Option","(Red.-Ref.)",null,"Discount rate ",{"$f":"+DiscountRate","v":0}]
[null,"Total investment",{"$f":"1000000*(H295+H296)/H293","v":164613246.87355259},0,{"$f":"C293-D293","v":164613246.87355259},null,"Annual activity",1.7,"Million trainkm/year"]
[null,"Project life",40,null,null,null,"Reduction option: New electric  trains"]
[null,"Lev. investment",{"$f":"IF(C294=0,0,PMT($H292,C294,-C293))","v":4115331.1718388149},{"$f":"+H292","v":0},{"$f":"C295-D295","v":4115331.1718388149},null,"Cost of 11 trains",{"$f":"11*53/6.35","v":91.811023622047244},"Million US$"]
[null,"Annual O&M",{"$f":"H297*1000000","v":2422047.2440944882},{"$f":"+H305*1000000","v":2581102.3622047245},{"$f":"C296-D296","v":-159055.11811023625},null,"Cost of rails",{"$f":"1194/6.35","v":188.03149606299215},"Million US$"]
[null,"Annual fuel cost",{"$f":"+H299*H300*1000000/H293","v":0},{"$f":"H307*H308*1000000/H293","v":532075.47169811314},{"$f":"C297-D297","v":-532075.47169811314},null,"Annual O&M",{"$f":"15.38/6.35","v":2.4220472440944882},"US$/trainkm"]
[null,"Total annual cost",{"$f":"SUM(C295:C297)","v":6537378.4159333035},{"$f":"SUM(D295:D297)","v":3113177.8339028377},{"$f":"C298-D298","v":3424200.5820304658},null,"Specific consumption",6.55,"kWh/trainkm"]
[null,null,null,null,null,null,"Electricity consumption",{"$f":"H298*H293","v":11.135},"GWh/year"]
[null,"Annual emissions (tons)","Tons","Tons","Reduction",null,"Reference electricity price",{"$f":"+Assumptions!C35","v":0},"US$/kWh"]
[null,"Fuel  CO2-eq. emission",{"$f":"H299*H301*1000/1.7","v":0},{"$f":"+H312","v":6461.8788141599998},{"$f":"D301-C301","v":6461.8788141599998},null,"CO2-eq. emission coefficient",{"$f":"+Assumptions!C39","v":0},"tCO2/MWh"]
[null,"Other",null,null,null,null,"Emissions ",{"$f":"H299*H301*1000","v":0},"tCO2/year"]
[null,"Total CO2-eq. emission ",{"$f":"C301+C302","v":0},{"$f":"D301+D302","v":6461.8788141599998},{"$f":"D303-C303","v":6461.8788141599998}]
[null,null,null,null,null,null,"Reference option: Normal diesel rail"]
[null,"US$/ton CO2-eq.",null,null,{"$f":"IF(E303<>0,E298/E303,0)","v":529.90789219490932},null,"Annual O&M",{"$f":"16.39/6.35","v":2.5811023622047244},"US$/trainkm"]
[null,null,null,null,null,null,"Specific diesel consumption",1.41,"liter/trainkm"]
[null,null,null,null,null,null,"Diesel consumption",{"$f":"H293*H306","v":2.3969999999999998},"Million liter/year"]
[null,null,null,null,null,null,"Diesel price",{"$f":"+Assumptions!G28","v":0.37735849056603771},"US$/liter"]
[null,null,null,null,null,null,"1000 l diesel=",{"$f":"+Assumptions!G30*Assumptions!G31","v":36.397199999999998},"GJ"]
[null,null,null,null,null,null,"Diesel consumption",{"$f":"H307*1000*H309","v":87244.088399999993},"GJ/year"]
[null,null,null,null,null,null,"CO2-eq. emission coefficient",{"$f":"+Assumptions!D46","v":74.066666666666663},"kgCO2-eq./GJ"]
[null,null,null,null,null,null,"Emissions ",{"$f":"H310*H311/1000","v":6461.8788141599998},"tCO2/year"]
[]
[]
[]
[]
[]
[]
[]
[]
[null,"Shifting passengers from car to rail (1Mill. personkm/day) "]
[null,"Costs in","Reduction","Reference","Increase",null,"General inputs:"]
[null,"US$","Option","Option","(Red.-Ref.)",null,"Discount rate ",{"$f":"+DiscountRate","v":0}]
[null,"Total investment",{"$f":"+H327*1000000/H324","v":927333333.33333337},null,{"$f":"C324-D324","v":927333333.33333337},null,"Daily activity",0.3,"Million pkm/day"]
[null,"Project life",40,null,null,null,"Annual activity",{"$f":"H324*365","v":109.5},"Million pkm/year"]
[null,"Lev. investment",{"$f":"IF(C325=0,0,PMT($H323,C325,-C324))","v":23183333.333333336},{"$f":"+H323","v":0},{"$f":"C326-D326","v":23183333.333333336},null,"Reduction option: New passenger diesel trains"]
[null,"Annual O&M",{"$f":"C324*H328","v":9273.3333333333339},null,null,null,"Cost of rails and trains",278.2,"Million US$"]
[null,"Annual fuel cost",{"$f":"H334/H331*H330*1000/H324","v":491.95158906065558},{"$f":"H344/H331*H330*1000/H324","v":5651.1362025429135},{"$f":"C328-D328","v":-5159.1846134822581},null,"Annual O&M",1.0000000000000001E-5]
[null,"Total annual cost",{"$f":"SUM(C326:C328)","v":23193098.618255727},{"$f":"SUM(D326:D328)","v":5651.1362025429135},{"$f":"C329-D329","v":23187447.482053183},null,"Specific consumption",0.13,"MJ/pkm"]
[null,null,null,null,null,null,"Diesel price",{"$f":"+Assumptions!G28","v":0.37735849056603771},"US$/liter"]
[null,"Annual emissions (tons)","Tons","Tons","Reduction",null,"1000 l diesel =",{"$f":"+Assumptions!G30*Assumptions!G31","v":36.397199999999998},"GJ"]
[null,"Fuel  CO2-eq. emission",{"$f":"+H335/H324","v":3514.4633333333331},{"$f":"+H345/H324","v":38972.266666666663},{"$f":"D332-C332","v":35457.80333333333},null,"CO2-eq. emission coefficient",{"$f":"+Assumptions!D46","v":74.066666666666663},"kgCO2-eq./GJ"]
[null,"Other",null,null,null,null,"Specific CO2 emission",{"$f":"+H329*H332","v":9.6286666666666658},"gCO2/pkm"]
[null,"Total CO2-eq. emission ",{"$f":"C332+C333","v":3514.4633333333331},{"$f":"D332+D333","v":38972.266666666663},{"$f":"D334-C334","v":35457.80333333333},null,"Energy consumption",{"$f":"+H329*H325","v":14.235000000000001},"TJ/year"]
[null,null,null,null,null,null,"Emissions ",{"$f":"H325*H333","v":1054.3389999999999},"tCO2/year"]
[null,"US$/ton CO2-eq.",null,null,{"$f":"IF(E334<>0,E329/E334,0)","v":653.94483871636305}]
[null,null,null,null,null,null,"Reference option: Average cars"]
[null,null,null,null,null,null,"Occupancy",1.5,"people/car"]
[null,null,null,null,null,null,"Gasoline consumption",15,"km/l"]
[null,null,null,null,null,null,"Gasoline price",{"$f":"+Assumptions!D28","v":0.44025157232704398},"US$/liter"]
[null,null,null,null,null,null,"1000 l gasoline=",{"$f":"+Assumptions!D30*Assumptions!D31","v":33.599999999999994},"GJ"]
[null,null,null,null,null,null,"CO2-eq. emission coefficient",{"$f":"+Assumptions!D48","v":71.5},"kgCO2-eq./GJ"]
[null,null,null,null,null,null,"Specific CO2 emission",{"$f":"+H341*H342/(H339*H338)","v":106.77333333333331},"gCO2/pkm"]
[null,null,null,null,null,null,"Gasoline consumption",{"$f":"H341/(H338*H339)*H325","v":163.51999999999998},"TJ/year"]
[null,null,null,null,null,null,"Emissions ",{"$f":"+H325*H343","v":11691.679999999998},"tCO2/year"]
[]
[]
[]
[]
[null,"Shifting freight transport from road to rail (1000 tonkm/day)"]
[null,"Costs in","Reduction","Reference","Increase",null,"General inputs:"]
[null,"US$","Option","Option","(Red.-Ref.)",null,"Discount rate ",{"$f":"+DiscountRate","v":0}]
[null,"Total investment",null,null,{"$f":"C353-D353","v":0},null,"Daily activity",{"$f":"1000","v":1000},"tonkm freight/day"]
[null,"Project life",30,15,null,null,"Annual activity",{"$f":"H353*365","v":365000},"tonkm freight/year"]
[null,"Lev. investment",{"$f":"IF(C354=0,0,PMT($H352,C354,-C353))","v":0},{"$f":"IF(D354=0,0,PMT(+H352,D354,-D353))","v":0},{"$f":"C355-D355","v":0},null,"Reduction option: Efficient train"]
[null,"Annual O&M",{"$f":"H356*H364*1000000","v":30000},{"$f":"H367*H366*H369","v":366666.66666666663},{"$f":"C356-D356","v":-336666.66666666663},null,"Investment in train",3,"MUS$"]
[null,"Annual fuel cost",{"$f":"H362*H372","v":647.94920031673587},{"$f":"H373*H372","v":34433.962264150941},{"$f":"C357-D357","v":-33786.013063834209},null,"1 US gallon",3.7854000000000001,"liter"]
[null,"Total annual cost",{"$f":"SUM(C355:C357)","v":30647.949200316736},{"$f":"SUM(D355:D357)","v":401100.62893081759},{"$f":"C358-D358","v":-370452.67973050085},null,"1 Mile",1.60934,"km"]
[null,null,null,null,null,null,"Specific diesel consumption",{"$f":"1/500","v":2E-3},"Gallon/tonMiles"]
[null,"Annual emissions (tons)","Tons","Tons","Reduction",null,"Specific diesel consumption",{"$f":"H359*H357/H358","v":4.7042887146283565E-3},"l/tonkm"]
[null,"Fuel  CO2-eq. emission",{"$f":"H363","v":4.6288979586872623},{"$f":"+H376","v":245.99350929999997},{"$f":"D361-C361","v":241.3646113413127},null,"Diesel CO2-eq. emission coefficient",{"$f":"+Assumptions!D46","v":74.066666666666663},"kgCO2-eq./GJ"]
[null,"Other",null,null,null,null,"Total diesel consumption",{"$f":"H354*H360","v":1717.0653808393502},"liters/year"]
[null,"Total CO2-eq. emission ",{"$f":"C361+C362","v":4.6288979586872623},{"$f":"D361+D362","v":245.99350929999997},{"$f":"D363-C363","v":241.3646113413127},null,"Emissions from diesel",{"$f":"+H362/1000*H374*H361/1000","v":4.6288979586872623},"tCO2/year"]
[null,null,null,null,null,null,"Annual O&M",0.01,"of investment"]
[null,"US$/ton CO2-eq.",null,null,{"$f":"IF(E363<>0,E358/E363,0)","v":-1534.825994878948},null,"Reference option: Normal diesel trucks"]
[null,null,null,null,null,null,"Investment in one truck",220000,"US$"]
[null,null,null,null,null,null,"Annual O&M",0.01,"of investment"]
[null,null,null,null,null,null,"Occupancy",6,"Tonnes per truck"]
[null,null,null,null,null,null,"Number of trucks",{"$f":"H353/H368","v":166.66666666666666},"Trucks/day"]
[null,null,null,null,null,null,"Truck distance",{"$f":"H353/H369","v":6},"km/day"]
[null,null,null,null,null,null,"Diesel consumption",4,"km/l"]
[null,null,null,null,null,null,"Diesel price",{"$f":"+Assumptions!G28","v":0.37735849056603771},"US$/liter"]
[null,null,null,null,null,null,"Total diesel consumption",{"$f":"H369*H370*365/H371","v":91250},"liters/year"]
[null,null,null,null,null,null,"1000 l diesel =",{"$f":"+Assumptions!G30*Assumptions!G31","v":36.397199999999998},"GJ"]
[null,null,null,null,null,null,"CO2-eq. emission coefficient",{"$f":"+Assumptions!D46","v":74.066666666666663},"kgCO2-eq./GJ"]
[null,null,null,null,null,null,"Emissions from diesel",{"$f":"+H373*H374*H375/1000000","v":245.99350929999997},"tCO2/year"]
[]
[]
[]
[]
[null,"Taxis using natural gas (1000 cars)"]
[null,"Costs in","Reduction","Reference","Increase",null,"General inputs:"]
[null,"US$","Option","Option","(Red.-Ref.)",null,"Discount rate ",{"$f":"+DiscountRate","v":0}]
[null,"Total investment",{"$f":"H387*H386","v":1500000},null,{"$f":"C384-D384","v":1500000}]
[null,"Project life",10,null,null,null,"Reduction option: Change to natural gas"]
[null,"Lev. investment",{"$f":"IF(C385=0,0,PMT($H383,C385,-C384))","v":150000},null,{"$f":"C386-D386","v":150000},null,"Activity",1000,"Cars"]
[null,"Annual O&M",0,0,{"$f":"C387-D387","v":0},null,"Investment in 1 taxi",1500,"US$"]
[null,"Annual fuel cost",{"$f":"H392*H394*1000","v":123603.06594113862},{"$f":"H397*H398*1000000","v":423998.30400678393},{"$f":"C388-D388","v":-300395.23806564533},null,"Energy consumption",9.7200000000000006,"km/m3"]
[null,"Total annual cost",{"$f":"SUM(C386:C388)","v":273603.0659411386},{"$f":"SUM(D386:D388)","v":423998.30400678393},{"$f":"C389-D389","v":-150395.23806564533},null,"Annual distance ",10000,"km"]
[null,null,null,null,null,null,"Total natural gas consumption",{"$f":"H386*H389/H388/1000000","v":1.0288065843621399},"Million m3"]
[null,"Annual emissions (tons)","Tons","Tons","Reduction",null,"Energy content in natural gas",{"$f":"+Assumptions!O31","v":39},"MJ/m3"]
[null,"Fuel  CO2-eq. emission",{"$f":"+H392*H393","v":2250.9259259259261},{"$f":"H401*H402","v":3029.010426966292},{"$f":"D392-C392","v":778.08450104036592},null,"Total natural gas consumption",{"$f":"H390*H391","v":40.123456790123456},"TJ"]
[null,"Other",null,null,null,null,"Natural gas emission factor",{"$f":"+Assumptions!D51","v":56.1},"kgCO2/GJ"]
[null,"Total CO2-eq. emission ",{"$f":"C392+C393","v":2250.9259259259261},{"$f":"D392+D393","v":3029.010426966292},{"$f":"D394-C394","v":778.08450104036592},null,"Natural gas price",{"$f":"+Assumptions!O29","v":3.080568720379147},"US$/GJ"]
[null,null,null,null,null,null,"Reference option: Normal maintenance"]
[null,"US$/ton CO2-eq.",null,null,{"$f":"IF(E394<>0,E389/E394,0)","v":-193.28908089616741},null,"Energy consumption",8.9,"km/l"]
[null,null,null,null,null,null,"Total diesel consumption",{"$f":"H389*H386/H396/1000000","v":1.1235955056179776},"Million liters"]
[null,null,null,null,null,null,"Diesel price",{"$f":"+Assumptions!G28","v":0.37735849056603771},"US$/liter"]
[null,null,null,null,null,null,"Energy density of diesel",{"$f":"+Assumptions!G30","v":0.84},"t/m3"]
[null,null,null,null,null,null,"Energy content of diesel",{"$f":"+Assumptions!G31","v":43.33},"GJ/ton"]
[null,null,null,null,null,null,"Total diesel consumption",{"$f":"+H397*H399*H400","v":40.895730337078653},"TJ"]
[null,null,null,null,null,null,"Diesel emission factor",{"$f":"+Assumptions!D46","v":74.066666666666663},"kgCO2/GJ"]
[]
[]
[]
[]
[]
[]
[null,"Restriction on import of used cars (1000 cars)"]
[null,"Costs in","Reduction","Reference","Increase",null,"General inputs:"]
[null,"US$","Option","Option","(Red.-Ref.)",null,"Discount rate ",{"$f":"+DiscountRate","v":0}]
[null,"Total investment",null,null,{"$f":"C412-D412","v":0},null,"Gasoline price",{"$f":"+Assumptions!D28","v":0.44025157232704398},"US$/liter"]
[null,"Project life",null,null,null,null,"1 toe =",41.868000000000002,"GJ"]
[null,"Lev. investment",{"$f":"IF(C413=0,0,PMT($H411,C413,-C412))","v":0},{"$f":"+H411","v":0},{"$f":"C414-D414","v":0},null,"1 toe of gasoline equal",{"$f":"Assumptions!D79/Assumptions!E79","v":1246.0714285714287},"liter"]
[null,"Reduction in subsidy",{"$f":"H415*H421*1000000","v":40000.000000000007},{"$f":"H415*H426*1000000","v":60000},{"$f":"C415-D415","v":-19999.999999999993},null,"State subsidy",0.05,"US$/liter"]
[null,"Annual O&M",0,0,{"$f":"C416-D416","v":0},null,"Gasoline emissions",{"$f":"+Assumptions!D47","v":69.3},"kgCO2/GJ"]
[null,"Annual fuel cost",{"$f":"H421*H412*1000000","v":352201.25786163518},{"$f":"H426*H412*1000000","v":528301.88679245266},{"$f":"C417-D417","v":-176100.62893081747},null,"Reduction option: No import"]
[null,"Total annual cost",{"$f":"SUM(C414:C417)","v":392201.25786163518},{"$f":"SUM(D414:D417)","v":588301.88679245266},{"$f":"C418-D418","v":-196100.62893081747},null,"Activity",1000,"Cars"]
[null,null,null,null,null,null,"Energy consumption",15,"km/l"]
[null,"Annual emissions (tons)","Tons","Tons","Reduction",null,"Annual distance ",12000,"km"]
[null,"Fuel  CO2-eq. emission",{"$f":"+H423","v":1862.7839999999999},{"$f":"+H427","v":2794.1759999999995},{"$f":"D421-C421","v":931.3919999999996},null,"Total gasoline consumption",{"$f":"H418*H420/H419/1000000","v":0.8},"Million liters"]
[null,"Other",null,null,null,null,"Total gasoline reduction",{"$f":"(H426-H421)/H414*1000","v":0.32100888506735442},"ktoe"]
[null,"Total CO2-eq. emission ",{"$f":"C421+C422","v":1862.7839999999999},{"$f":"D421+D422","v":2794.1759999999995},{"$f":"D423-C423","v":931.3919999999996},null,"Emission",{"$f":"H421/H414*1000*H413*H416","v":1862.7839999999999},"tCO2"]
[null,null,null,null,null,null,"Reference option: Import of used cars"]
[null,"US$/ton CO2-eq.",null,null,{"$f":"IF(E423<>0,E418/E423,0)","v":-210.54575187549128},null,"Energy consumption",10,"km/l"]
[null,null,null,null,null,null,"Total gasoline consumption",{"$f":"H418*H420/H425/1000000","v":1.2},"Million liters"]
[null,null,null,null,null,null,"Emission",{"$f":"H426/H414*1000*H413*H416","v":2794.1759999999995},"tCO2"]
[]
[]
[]
[]
[]
[]
[]
[]
[]
[null,"Better maintenance and use of motor bikes (1000 bikes)"]
[null,"Costs in","Reduction","Reference","Increase",null,"General inputs:"]
[null,"US$","Option","Option","(Red.-Ref.)",null,"Discount rate ",{"$f":"+DiscountRate","v":0}]
[null,"Total investment",null,null,{"$f":"C440-D440","v":0},null,"Gasoline price",{"$f":"+Assumptions!D28","v":0.44025157232704398},"US$/liter"]
[null,"Project life",null,null,null,null,"1 toe =",41.868000000000002,"GJ"]
[null,"Lev. investment",{"$f":"IF(C441=0,0,PMT($H439,C441,-C440))","v":0},{"$f":"+H439","v":0},{"$f":"C442-D442","v":0},null,"1 toe of gasoline equal",{"$f":"Assumptions!D79/Assumptions!E79","v":1246.0714285714287},"liter"]
[null,"Annual O&M",0,0,{"$f":"C443-D443","v":0},null,"Gasoline emissions",{"$f":"+Assumptions!D47","v":69.3},"kgCO2/GJ"]
[null,"Annual fuel cost",{"$f":"H448*H440*1000000","v":88050.314465408796},{"$f":"H453*H440*1000000","v":110062.89308176099},{"$f":"C444-D444","v":-22012.578616352199},null,"Reduction option: Better maintenanace"]
[null,"Total annual cost",{"$f":"SUM(C442:C444)","v":88050.314465408796},{"$f":"SUM(D442:D444)","v":110062.89308176099},{"$f":"C445-D445","v":-22012.578616352199},null,"Activity",1000,"Motor bikes"]
[null,null,null,null,null,null,"Energy consumption",25,"km/l"]
[null,"Annual emissions (tons)","Tons","Tons","Reduction",null,"Annual distance ",5000,"km"]
[null,"Fuel  CO2-eq. emission",{"$f":"+H450","v":465.69599999999997},{"$f":"+H454","v":582.12},{"$f":"D448-C448","v":116.42400000000004},null,"Total gasoline consumption",{"$f":"H445*H447/H446/1000000","v":0.2},"Million liters"]
[null,"Other",null,null,null,null,"Total gasoline reduction",{"$f":"(H453-H448)/H442*1000","v":4.0126110633419303E-2},"ktoe"]
[null,"Total CO2-eq. emission ",{"$f":"C448+C449","v":465.69599999999997},{"$f":"D448+D449","v":582.12},{"$f":"D450-C450","v":116.42400000000004},null,"Emission",{"$f":"H448/H442*1000*H441*H443","v":465.69599999999997},"tCO2"]
[null,null,null,null,null,null,"Reference option: Normal maintenance"]
[null,"US$/ton CO2-eq.",null,null,{"$f":"IF(E450<>0,E445/E450,0)","v":-189.07251611654121},null,"Energy consumption",20,"km/l"]
[null,null,null,null,null,null,"Total gasoline consumption",{"$f":"H445*H447/H452/1000000","v":0.25},"Million liters"]
[null,null,null,null,null,null,"Emission",{"$f":"H453/H442*1000*H441*H443","v":582.12},"tCO2"]
[]
[]
[]
[]
[]
[]
[]
[]
[]
[null,"Bus Rapid transit (1 km BRT)"]
[null,"Costs in","Reduction","Reference","Increase",null,"General inputs:"]
[null,"US$","Option","Option","(Red.-Ref.)",null,"Discount rate ",{"$f":"+DiscountRate","v":0}]
[null,"Total investment",{"$f":"+H475*1000000","v":3227166.8775326833},null,{"$f":"C467-D467","v":3227166.8775326833},null,"Reduction option: BRT line"]
[null,"Project life",10,null,null,null,"Activity",19.600000000000001,"km BRT line"]
[null,"Lev. investment",{"$f":"IF(C468=0,0,PMT($H466,C468,-C467))","v":322716.68775326834},null,{"$f":"C469-D469","v":322716.68775326834},null,"Infrastructure investment",{"$f":"250/11.13/H468","v":1.1460109650329133},"MUS$/km"]
[null,"Annual income",{"$f":"-H474*1000000","v":-1088822.8016916134},null,{"$f":"C470-D470","v":-1088822.8016916134},null,"Buses, system, ticketing invest.",{"$f":"454/11.13/H468","v":2.0811559124997703},"MUS$/km"]
[null,"Annual O&M",{"$f":"+H471*1000000","v":806791.71938317094},null,{"$f":"C471-D471","v":806791.71938317094},null,"O&M",{"$f":"176/11.13/H468","v":0.80679171938317096},"MUS$/km/year"]
[null,"Annual fuel cost",null,null,null,null,"Average fare",{"$f":"3.09/11.63/H468","v":1.3555723235123796E-2},"US$/km"]
[null,"Total annual cost",{"$f":"SUM(C469:C472)","v":40685.605444825836},{"$f":"SUM(D469:D472)","v":0},{"$f":"C473-D473","v":40685.605444825836},null,"Average number of passengers",80.322000000000003,"Million/year"]
[null,null,null,null,null,null,"Average revenues",{"$f":"H472*H473","v":1.0888228016916135},"MUS$/km/year"]
[null,"Annual emissions (tons)","Tons","Tons","Reduction",null,"Total investment",{"$f":"H469+H470","v":3.2271668775326834},"MUS$/km"]
[null,"Fuel  CO2-eq. emission",{"$f":"H476*H473","v":3614.4900000000002},{"$f":"+H483*H473","v":5597.9516326530611},{"$f":"D476-C476","v":1983.4616326530609},null,"Specific emission",45,"gCO2/pkm"]
[null,"Other",null,null,null,null,"Total emission",{"$f":"H476*H468*H473/1000","v":70.844004000000012},"ktCO2/year"]
[null,"Total CO2-eq. emission ",{"$f":"C476+C477","v":3614.4900000000002},{"$f":"D476+D477","v":5597.9516326530611},{"$f":"D478-C478","v":1983.4616326530609},null,"Emission factor for diesel",{"$f":"+Assumptions!D46","v":74.066666666666663},"kgCO2/GJ"]
[null,null,null,null,null,null,"Use of diesel",{"$f":"H476/H478*H473*1000","v":48800.495049504956},"GJ/km"]
[null,"US$/ton CO2-eq.",null,null,{"$f":"IF(E478<>0,E473/E478,0)","v":20.512423721756154},null,"Price of diesel",{"$f":"+Assumptions!G29","v":10.367789021299378},"US$/GJ"]
[]
[null,null,null,null,null,null,"Reference option: Normal transport",null,null,null,{"$f":"483226/19.6/590557607*1000000","v":41.747642334750317},"Total emissions 2012-2019=799977 tCo2"]
[null,null,null,null,null,null,"Specific emission",{"$f":"1366/H468","v":69.693877551020407},"gCO2/pkm",null,{"$f":"799977/19.6/590557607*1000000","v":69.112907153229656},"Total emissions 2012-2019=483226 tCo2"]
[null,null,null,null,null,null,"Total emission",{"$f":"H483*H473*H468/1000","v":109.719852},"ktCO2/year",null,null,"Total passengers 2012-2019=590557607"]
[null,null,null,null,null,null,"Emission factor for dieael",{"$f":"+Assumptions!D46","v":74.066666666666663},"kgCO2/GJ"]
[null,null,null,null,null,null,"Use of diesel",{"$f":"H483/H485*H473*1000","v":75579.90503131946},"GJ/km"]
[null,null,null,null,null,null,"Price of diesel",{"$f":"+Assumptions!G29","v":10.367789021299378},"US$/GJ"]
[]
[]
[]
[]
[]
[]
[]
[null,"New bicycle lanes (1 km)"]
[null,"Costs in","Reduction","Reference","Increase",null,"General inputs:"]
[null,"US$","Option","Option","(Red.-Ref.)",null,"Discount rate ",{"$f":"+DiscountRate","v":0}]
[null,"Total investment",{"$f":"H503*H504","v":50000},null,{"$f":"C498-D498","v":50000},null,"Gasoline price",{"$f":"+Assumptions!D28","v":0.44025157232704398},"US$/liter"]
[null,"Project life",20,null,null,null,"1 toe =",41.868000000000002,"GJ"]
[null,"Lev. investment",{"$f":"IF(C499=0,0,PMT($H497,C499,-C498))","v":2500},{"$f":"IF(D499=0,0,PMT($H$4,D499,-D498))","v":0},{"$f":"C500-D500","v":2500},null,"1 toe of gasoline equal",{"$f":"Assumptions!D79/Assumptions!E79","v":1246.0714285714287},"liter"]
[null,"Annual O&M",0,0,{"$f":"C501-D501","v":0},null,"Gasoline emissions",{"$f":"+Assumptions!D47","v":69.3},"kgCO2/GJ"]
[null,"Annual fuel cost",{"$f":"H506*H498*1000000","v":0},{"$f":"H511*H498*1000000","v":104178.5549930971},{"$f":"C502-D502","v":-104178.5549930971},null,"Reduction option: New bicycle lane"]
[null,"Total annual cost",{"$f":"SUM(C500:C502)","v":2500},{"$f":"SUM(D500:D502)","v":104178.5549930971},{"$f":"C503-D503","v":-101678.5549930971},null,"Activity",1,"km lane"]
[null,null,null,null,null,null,"Investment",50000,"US$/km lane"]
[null,"Annual emissions (tons)","Tons","Tons","Reduction",null,"Annual use of lane",10,"M km/lanekm/yr"]
[null,"Fuel  CO2-eq. emission",0,{"$f":"+H512","v":686.58271182439023},{"$f":"D506-C506","v":686.58271182439023}]
[null,"Other",null,null,null,null,"Reference option: Normal cars"]
[null,"Total CO2-eq. emission ",{"$f":"C506+C507","v":0},{"$f":"D506+D507","v":686.58271182439023},{"$f":"D508-C508","v":686.58271182439023},null,"Energy consumption",12.3,"km/l"]
[null,null,null,null,null,null,"Number of persons in car",2]
[null,"US$/ton CO2-eq.",null,null,{"$f":"IF(E508<>0,E503/E508,0)","v":-148.09367209802946},null,"Share of bikers that used a car",0.25]
[null,null,null,null,null,null,"Total gasoline consumption",{"$f":"(1/H508)/H500*H499*H501*H505*H510/H509","v":0.23663414634146343},"Million liters"]
[null,null,null,null,null,null,"Emission",{"$f":"H511*H499*H501","v":686.58271182439023},"1000tCO2"]
[]
[]
[]
[]
[]
[]
[]
[]
[null,"Replacing normal three-wheelers to electric three-wheelers (1000 units)"]
[null,"Costs in","Reduction","Reference","Increase",null,"General inputs:"]
[null,"US$","Option","Option","(Red.-Ref.)",null,"Discount rate ",{"$f":"+DiscountRate","v":0}]
[null,"Total investment",{"$f":"H525*H527","v":5649717.5141242938},{"$f":"+H537*1000","v":5107909.6045197742},{"$f":"C524-D524","v":541807.90960451961},null,"Annual distance/three-wheeler",{"$f":"20.6*365","v":7519.0000000000009},"km"]
[null,"Project life",10,10,null,null,"Activity",1000,"three-wheelers"]
[null,"Lev. investment",{"$f":"IF(C525=0,0,PMT(H523,C525,-C524))","v":564971.75141242938},{"$f":"IF(D525=0,0,PMT(H523,D525,-D524))","v":510790.96045197744},{"$f":"C526-D526","v":54180.790960451937},null,"Reduction option: Electric three-wheels"]
[null,"Annual O&M",{"$f":"C524*H529","v":28248.587570621468},{"$f":"H537*H525*H538","v":51079.096045197744},{"$f":"C527-D527","v":-22830.508474576276},null,"Investment in vehicle",{"$f":"1000000/177","v":5649.7175141242942},"US$"]
[null,"Annual fuel cost",{"$f":"H531*H533*1000","v":0},{"$f":"+H541*H540*1000","v":94578.61635220125},{"$f":"C528-D528","v":-94578.61635220125},null,"Size of battery",{"$f":"7.37","v":7.37},"kWh"]
[null,"Total annual cost",{"$f":"SUM(C526:C528)","v":593220.3389830509},{"$f":"SUM(D526:D528)","v":656448.67284937645},{"$f":"C529-D529","v":-63228.333866325556},null,"Annual O&M",5.0000000000000001E-3,"of investment"]
[null,null,null,null,null,null,"Electricity consumption",17.64,"km/kWh"]
[null,"Annual emissions (tons)","Tons","Tons","Reduction",null,"Total electricity consumption",{"$f":"H524/H530*H525/1000","v":426.24716553287988},"MWh"]
[null,"Fuel  CO2-eq. emission",{"$f":"H535","v":0},{"$f":"+H544","v":500.22403199999997},{"$f":"D532-C532","v":500.22403199999997},null,"Range",{"$f":"H528*H530","v":130.0068},"km"]
[null,"Other",null,null,null,null,"Reference electricity price",{"$f":"+Assumptions!C35","v":0},"US$/kWh"]
[null,"Total CO2-eq. emission ",{"$f":"C532+C533","v":0},{"$f":"D532+D533","v":500.22403199999997},{"$f":"D534-C534","v":500.22403199999997},null,"CO2-eq. emission coefficient",{"$f":"+Assumptions!C39","v":0},"tCO2/MWh"]
[null,null,null,null,null,null,"Emissions from electricity",{"$f":"+H531*H534","v":0},"tCO2"]
[null,"US$/ton CO2-eq.",null,null,{"$f":"IF(E534<>0,E529/E534,0)","v":-126.40003242852107},null,"Reference option: Normal gasoline three-wheels"]
[null,null,null,null,null,null,"Investment in petrol three-wheeler",{"$f":"904100/177","v":5107.9096045197739},"US$"]
[null,null,null,null,null,null,"Annual O&M",0.01,"of investment"]
[null,null,null,null,null,null,"Petrol consumption",{"$f":"35","v":35},"km/l"]
[null,null,null,null,null,null,"Petrol price",{"$f":"+Assumptions!D28","v":0.44025157232704398},"US$/liter"]
[null,null,null,null,null,null,"Total petrol consumption",{"$f":"H524/H539*H525/1000","v":214.82857142857145},"Thousand liters"]
[null,null,null,null,null,null,"1000 l petrol =",{"$f":"+Assumptions!D30*Assumptions!D31","v":33.599999999999994},"GJ"]
[null,null,null,null,null,null,"CO2-eq. emission coefficient",{"$f":"+Assumptions!D47","v":69.3},"kgCO2-eq./GJ"]
[null,null,null,null,null,null,"Emissions from petrol",{"$f":"H541*H542*H543/1000","v":500.22403199999997},"tCO2"]
[]
[]
[]
[]
[]
[null,"Replacing normal two-wheelers to electric two-wheelers (1000 units)"]
[null,"Costs in","Reduction","Reference","Increase",null,"General inputs:"]
[null,"US$","Option","Option","(Red.-Ref.)",null,"Discount rate ",{"$f":"+DiscountRate","v":0}]
[null,"Total investment",{"$f":"H554*H556","v":3333333.3333333335},{"$f":"+H566*1000","v":1732666.6666666667},{"$f":"C553-D553","v":1600666.6666666667},null,"Annual distance/three-wheeler",5000,"km"]
[null,"Project life",10,10,null,null,"Activity",1000,"two-wheelers"]
[null,"Lev. investment",{"$f":"IF(C554=0,0,PMT($H552,C554,-C553))","v":333333.33333333337},{"$f":"IF(D554=0,0,PMT($H552,D554,-D553))","v":173266.66666666669},{"$f":"C555-D555","v":160066.66666666669},null,"Reduction option: Electric two-wheels scooter"]
[null,"Annual O&M",{"$f":"C553*H558","v":16666.666666666668},{"$f":"H566*H554*H567","v":17326.666666666668},{"$f":"C556-D556","v":-660},null,"Investment in vehicle",{"$f":"25000/7.5","v":3333.3333333333335},"US$"]
[null,"Annual fuel cost",{"$f":"H560*H562*1000","v":0},{"$f":"+H570*H569*1000","v":44025.157232704405},{"$f":"C557-D557","v":-44025.157232704405},null,"Size of battery",1.2,"kWh/module"]
[null,"Total annual cost",{"$f":"SUM(C555:C557)","v":350000.00000000006},{"$f":"SUM(D555:D557)","v":234618.49056603774},{"$f":"C558-D558","v":115381.50943396232},null,"Annual O&M",5.0000000000000001E-3,"of investment"]
[null,null,null,null,null,null,"Electricity consumption",{"$f":"80/1.2","v":66.666666666666671},"km/kWh"]
[null,"Annual emissions (tons)","Tons","Tons","Reduction",null,"Total electricity consumption",{"$f":"H553/H559*H554/1000","v":75},"MWh"]
[null,"Fuel  CO2-eq. emission",{"$f":"H564","v":0},{"$f":"+H573","v":232.84799999999998},{"$f":"D561-C561","v":232.84799999999998},null,"Range",80,"km/module"]
[null,"Other",null,null,null,null,"Reference electricity price",{"$f":"+Assumptions!C35","v":0},"US$/kWh"]
[null,"Total CO2-eq. emission ",{"$f":"C561+C562","v":0},{"$f":"D561+D562","v":232.84799999999998},{"$f":"D563-C563","v":232.84799999999998},null,"CO2-eq. emission coefficient",{"$f":"+Assumptions!C39","v":0},"tCO2/MWh"]
[null,null,null,null,null,null,"Emissions from electricity",{"$f":"+H560*H563","v":0},"tCO2"]
[null,"US$/ton CO2-eq.",null,null,{"$f":"IF(E563<>0,E558/E563,0)","v":495.52287085979833},null,"Reference option: Normal gasoline two-wheels scooter"]
[null,null,null,null,null,null,"Investment in petrol two-wheeler",{"$f":"12995/7.5","v":1732.6666666666667},"US$"]
[null,null,null,null,null,null,"Annual O&M",0.01,"of investment"]
[null,null,null,null,null,null,"Petrol consumption",50,"km/l"]
[null,null,null,null,null,null,"Petrol price",{"$f":"+Assumptions!D28","v":0.44025157232704398},"US$/liter"]
[null,null,null,null,null,null,"Total petrol consumption",{"$f":"H553/H568*H554/1000","v":100},"Thousand liters"]
[null,null,null,null,null,null,"1000 l petrol =",{"$f":"+Assumptions!D30*Assumptions!D31","v":33.599999999999994},"GJ"]
[null,null,null,null,null,null,"CO2-eq. emission coefficient",{"$f":"+Assumptions!D47","v":69.3},"kgCO2-eq./GJ"]
[null,null,null,null,null,null,"Emissions from petrol",{"$f":"H570*H571*H572/1000","v":232.84799999999998},"tCO2"]

{"sheet":"Wind","index":43,"n_rows":72,"n_cols":36,"rows_kept":72,"cut":false,"hidden":true,"merged":[[62,33,62,35],[32,33,32,35],[37,33,37,35],[8,33,8,35],[13,33,13,35],[57,33,57,35],[62,24,62,26],[8,24,8,26],[13,24,13,26],[32,24,32,26],[37,24,37,26],[57,24,57,26]]}
[]
[null,"Menu for Wind options (click links below)"]
[]
[null,"1 MW Wind Turbines connected to main grid (on-shore)"]
[null,"1 MW Wind Turbines connected to main grid (off-shore)"]
[]
[]
[null,"1 MW Wind turbines connected to main grid (on-shore) in 2025",null,null,null,null,null,null,null,null,"1 MW Wind turbines connected to main grid (on-shore) in 2030",null,null,null,null,null,null,null,null,"1 MW Wind turbines connected to main grid (on-shore) in 2040",null,null,null,null,null,null,null,null,"1 MW Wind turbines connected to main grid (on-shore) in 2050"]
[null,"Costs in","Reduction","Reference","Increase",null,"General inputs:",null,null,null,"Costs in","Reduction","Reference","Increase",null,"General inputs:",null,null,null,"Costs in","Reduction","Reference","Increase",null,"General inputs:",null,null,null,"Costs in","Reduction","Reference","Increase",null,"General inputs:"]
[null,"US$","Option","Option","(Red.-Ref.)",null,"Discount rate ",{"$f":"Assumptions!$C$13","v":0},null,null,"US$","Option","Option","(Red.-Ref.)",null,"Discount rate ",{"$f":"Assumptions!$C$13","v":0},null,null,"US$","Option","Option","(Red.-Ref.)",null,"Discount rate ",{"$f":"Assumptions!$C$13","v":0},null,null,"US$","Option","Option","(Red.-Ref.)",null,"Discount rate ",{"$f":"Assumptions!$C$13","v":0}]
[null,"Total investment",{"$f":"H17*H16*1000","v":675000},null,{"$f":"C11-D11","v":675000},null,"Reference electricity price",{"$f":"+Assumptions!C35","v":0},"US$/kWh",null,"Total investment",{"$f":"Q17*Q16*1000","v":650000},null,{"$f":"L11-M11","v":650000},null,"Reference electricity price",{"$f":"+Assumptions!C35","v":0},"US$/kWh",null,"Total investment",{"$f":"Z17*Z16*1000","v":550000},null,{"$f":"U11-V11","v":550000},null,"Reference electricity price",{"$f":"+Assumptions!C35","v":0},"US$/kWh",null,"Total investment",{"$f":"AI17*AI16*1000","v":550000},null,{"$f":"AD11-AE11","v":550000},null,"Reference electricity price",{"$f":"+Assumptions!C35","v":0},"US$/kWh"]
[null,"Project life",20,null,null,null,"CO2-eq. emission coefficient",{"$f":"+Assumptions!C38","v":0},"tCO2/MWh",null,"Project life",20,null,null,null,"CO2-eq. emission coefficient",{"$f":"+Assumptions!C38","v":0},"tCO2/MWh",null,"Project life",20,null,null,null,"CO2-eq. emission coefficient",{"$f":"+Assumptions!C38","v":0},"tCO2/MWh",null,"Project life",20,null,null,null,"CO2-eq. emission coefficient",{"$f":"+Assumptions!C38","v":0},"tCO2/MWh"]
[null,"Lev. investment",{"$f":"IF(C12=0,0,PMT($H$10,C12,-C11))","v":33750},null,{"$f":"C13-D13","v":33750},null,null,null,null,null,"Lev. investment",{"$f":"IF(L12=0,0,PMT($Q$10,L12,-L11))","v":32500},null,{"$f":"L13-M13","v":32500},null,null,null,null,null,"Lev. investment",{"$f":"IF(U12=0,0,PMT($Z$10,U12,-U11))","v":27500},null,{"$f":"U13-V13","v":27500},null,null,null,null,null,"Lev. investment",{"$f":"IF(AD12=0,0,PMT($AI$10,AD12,-AD11))","v":27500},null,{"$f":"AD13-AE13","v":27500}]
[null,"Annual O&M",{"$f":"C11*H15","v":10125},null,{"$f":"C14-D14","v":10125},null,"Reduction option: Wind Power",null,null,null,"Annual O&M",{"$f":"L11*Q15","v":9750},null,{"$f":"L14-M14","v":9750},null,"Reduction option: Wind Power",null,null,null,"Annual O&M",{"$f":"U11*Z15","v":8250},null,{"$f":"U14-V14","v":8250},null,"Reduction option: Wind Power",null,null,null,"Annual O&M",{"$f":"AD11*AI15","v":8250},null,{"$f":"AD14-AE14","v":8250},null,"Reduction option: Wind Power"]
[null,"Annual fuelcost",null,{"$f":"H19*1000*H11","v":0},{"$f":"C15-D15","v":0},null,"O&M  ",1.4999999999999999E-2,null,null,"Annual fuelcost",null,{"$f":"Q19*1000*Q11","v":0},{"$f":"L15-M15","v":0},null,"O&M  ",1.4999999999999999E-2,null,null,"Annual fuelcost",null,{"$f":"Z19*1000*Z11","v":0},{"$f":"U15-V15","v":0},null,"O&M  ",1.4999999999999999E-2,null,null,"Annual fuelcost",null,{"$f":"AI19*1000*AI11","v":0},{"$f":"AD15-AE15","v":0},null,"O&M  ",1.4999999999999999E-2]
[null,"Total annual cost",{"$f":"SUM(C13:C15)","v":43875},{"$f":"SUM(D13:D15)","v":0},{"$f":"C16-D16","v":43875},null,"Activity",1,"MW",null,"Total annual cost",{"$f":"SUM(L13:L15)","v":42250},{"$f":"SUM(M13:M15)","v":0},{"$f":"L16-M16","v":42250},null,"Activity",1,"MW",null,"Total annual cost",{"$f":"SUM(U13:U15)","v":35750},{"$f":"SUM(V13:V15)","v":0},{"$f":"U16-V16","v":35750},null,"Activity",1,"MW",null,"Total annual cost",{"$f":"SUM(AD13:AD15)","v":35750},{"$f":"SUM(AE13:AE15)","v":0},{"$f":"AD16-AE16","v":35750},null,"Activity",1,"MW"]
[null,null,null,null,null,null,"Investment in Activity",675,"US$/kW",null,null,null,null,null,null,"Investment in Activity",650,"US$/kW",null,null,null,null,null,null,"Investment in Activity",550,"US$/kW",null,null,null,null,null,null,"Investment in Activity",550,"US$/kW"]
[null,"Annual emissions (tons)","Tons","Tons","Reduction",null,"Capacity factor",2500,"Full time hours",null,"Annual emissions (tons)","Tons","Tons","Reduction",null,"Capacity factor",2500,"Full time hours",null,"Annual emissions (tons)","Tons","Tons","Reduction",null,"Capacity factor",2500,"Full time hours",null,"Annual emissions (tons)","Tons","Tons","Reduction",null,"Capacity factor",2500,"Full time hours"]
[null,"Fuel  CO2-eq. emission",null,{"$f":"H19*H12","v":0},{"$f":"D19-C19","v":0},null,"Electricity production",{"$f":"H16*H18","v":2500},"MWh/ year",null,"Fuel  CO2-eq. emission",null,{"$f":"Q19*Q12","v":0},{"$f":"M19-L19","v":0},null,"Electricity production",{"$f":"Q16*Q18","v":2500},"MWh/ year",null,"Fuel  CO2-eq. emission",null,{"$f":"Z19*Z12","v":0},{"$f":"V19-U19","v":0},null,"Electricity production",{"$f":"Z16*Z18","v":2500},"MWh/ year",null,"Fuel  CO2-eq. emission",null,{"$f":"AI19*AI12","v":0},{"$f":"AE19-AD19","v":0},null,"Electricity production",{"$f":"AI16*AI18","v":2500},"MWh/ year"]
[null,"Other",null,null,null,null,"Cost of electricity produced",{"$f":"C16/H19/1000","v":1.755E-2},"US$/kWh",null,"Other",null,null,null,null,"Cost of electricity produced",{"$f":"L16/Q19/1000","v":1.6899999999999998E-2},"US$/kWh",null,"Other",null,null,null,null,"Cost of electricity produced",{"$f":"U16/Z19/1000","v":1.43E-2},"US$/kWh",null,"Other",null,null,null,null,"Cost of electricity produced",{"$f":"AD16/AI19/1000","v":1.43E-2},"US$/kWh"]
[null,"Total CO2-eq. emission ",{"$f":"C19+C20","v":0},{"$f":"D19+D20","v":0},{"$f":"D21-C21","v":0},null,null,null,null,null,"Total CO2-eq. emission ",{"$f":"L19+L20","v":0},{"$f":"M19+M20","v":0},{"$f":"M21-L21","v":0},null,null,null,null,null,"Total CO2-eq. emission ",{"$f":"U19+U20","v":0},{"$f":"V19+V20","v":0},{"$f":"V21-U21","v":0},null,null,null,null,null,"Total CO2-eq. emission ",{"$f":"AD19+AD20","v":0},{"$f":"AE19+AE20","v":0},{"$f":"AE21-AD21","v":0}]
[null,null,null,null,null,null,"Reference option: No wind turbines",null,null,null,null,null,null,null,null,"Reference option: No wind turbines",null,null,null,null,null,null,null,null,"Reference option: No wind turbines",null,null,null,null,null,null,null,null,"Reference option: No wind turbines"]
[null,"US$/ton CO2-eq.",null,null,{"$f":"IF(E21<>0,E16/E21,0)","v":0},null,null,null,null,null,"US$/ton CO2-eq.",null,null,{"$f":"IF(N21<>0,N16/N21,0)","v":0},null,null,null,null,null,"US$/ton CO2-eq.",null,null,{"$f":"IF(W21<>0,W16/W21,0)","v":0},null,null,null,null,null,"US$/ton CO2-eq.",null,null,{"$f":"IF(AF21<>0,AF16/AF21,0)","v":0}]
[]
[]
[]
[]
[]
[]
[]
[]
[null,"1 MW Wind turbines connected to main grid (on-shore) - 24h storage in 2025",null,null,null,null,null,null,null,null,"1 MW Wind turbines connected to main grid (on-shore) - 24h storage in 2030",null,null,null,null,null,null,null,null,"1 MW Wind turbines connected to main grid (on-shore) - 24h storage in 2040",null,null,null,null,null,null,null,null,"1 MW Wind turbines connected to main grid (on-shore) - 24h storage in 2050"]
[null,"Costs in","Reduction","Reference","Increase",null,"General inputs:",null,null,null,"Costs in","Reduction","Reference","Increase",null,"General inputs:",null,null,null,"Costs in","Reduction","Reference","Increase",null,"General inputs:",null,null,null,"Costs in","Reduction","Reference","Increase",null,"General inputs:"]
[null,"US$","Option","Option","(Red.-Ref.)",null,"Discount rate ",{"$f":"Assumptions!$C$13","v":0},null,null,"US$","Option","Option","(Red.-Ref.)",null,"Discount rate ",{"$f":"Assumptions!$C$13","v":0},null,null,"US$","Option","Option","(Red.-Ref.)",null,"Discount rate ",{"$f":"Assumptions!$C$13","v":0},null,null,"US$","Option","Option","(Red.-Ref.)",null,"Discount rate ",{"$f":"Assumptions!$C$13","v":0}]
[null,"Total investment",{"$f":"H41*H40*1000+H46","v":1574178.0821917809},null,{"$f":"C35-D35","v":1574178.0821917809},null,"Reference electricity price",{"$f":"Assumptions!$C35","v":0},"US$/kWh",null,"Total investment",{"$f":"Q41*Q40*1000+Q46","v":1099589.0410958906},null,{"$f":"L35-M35","v":1099589.0410958906},null,"Reference electricity price",{"$f":"Assumptions!$C35","v":0},"US$/kWh",null,"Total investment",{"$f":"Z41*Z40*1000+Z46","v":550000},null,{"$f":"U35-V35","v":550000},null,"Reference electricity price",{"$f":"Assumptions!$C35","v":0},"US$/kWh",null,"Total investment",{"$f":"AI41*AI40*1000+AI46","v":924657.53424657532},null,{"$f":"AD35-AE35","v":924657.53424657532},null,"Reference electricity price",{"$f":"Assumptions!$C35","v":0},"US$/kWh"]
[null,"Project life",20,null,null,null,"CO2-eq. emission coefficient",{"$f":"Assumptions!$C38","v":0},"tCO2/MWh",null,"Project life",20,null,null,null,"CO2-eq. emission coefficient",{"$f":"Assumptions!$C38","v":0},"tCO2/MWh",null,"Project life",20,null,null,null,"CO2-eq. emission coefficient",{"$f":"Assumptions!$C38","v":0},"tCO2/MWh",null,"Project life",20,null,null,null,"CO2-eq. emission coefficient",{"$f":"Assumptions!$C38","v":0},"tCO2/MWh"]
[null,"Lev. investment",{"$f":"IF(C36=0,0,PMT($H$34,C36,-C35))","v":78708.904109589042},null,{"$f":"C37-D37","v":78708.904109589042},null,null,null,null,null,"Lev. investment",{"$f":"IF(L36=0,0,PMT($Q$34,L36,-L35))","v":54979.452054794529},null,{"$f":"L37-M37","v":54979.452054794529},null,null,null,null,null,"Lev. investment",{"$f":"IF(U36=0,0,PMT($Z$34,U36,-U35))","v":27500},null,{"$f":"U37-V37","v":27500},null,null,null,null,null,"Lev. investment",{"$f":"IF(AD36=0,0,PMT($AI$34,AD36,-AD35))","v":46232.876712328769},null,{"$f":"AD37-AE37","v":46232.876712328769}]
[null,"Annual O&M",{"$f":"C35*H39","v":23612.671232876713},null,{"$f":"C38-D38","v":23612.671232876713},null,"Reduction option: Wind Power",null,null,null,"Annual O&M",{"$f":"L35*Q39","v":16493.835616438359},null,{"$f":"L38-M38","v":16493.835616438359},null,"Reduction option: Wind Power",null,null,null,"Annual O&M",{"$f":"U35*Z39","v":8250},null,{"$f":"U38-V38","v":8250},null,"Reduction option: Wind Power",null,null,null,"Annual O&M",{"$f":"AD35*AI39","v":13869.863013698628},null,{"$f":"AD38-AE38","v":13869.863013698628},null,"Reduction option: Wind Power"]
[null,"Annual fuelcost",null,{"$f":"H43*1000*H35","v":0},{"$f":"C39-D39","v":0},null,"O&M  ",1.4999999999999999E-2,null,null,"Annual fuelcost",null,{"$f":"Q43*1000*Q35","v":0},{"$f":"L39-M39","v":0},null,"O&M  ",1.4999999999999999E-2,null,null,"Annual fuelcost",null,{"$f":"Z43*1000*Z35","v":0},{"$f":"U39-V39","v":0},null,"O&M  ",1.4999999999999999E-2,null,null,"Annual fuelcost",null,{"$f":"AI43*1000*AI35","v":0},{"$f":"AD39-AE39","v":0},null,"O&M  ",1.4999999999999999E-2]
[null,"Total annual cost",{"$f":"SUM(C37:C39)","v":102321.57534246576},{"$f":"SUM(D37:D39)","v":0},{"$f":"C40-D40","v":102321.57534246576},null,"Activity",1,"MW",null,"Total annual cost",{"$f":"SUM(L37:L39)","v":71473.287671232887},{"$f":"SUM(M37:M39)","v":0},{"$f":"L40-M40","v":71473.287671232887},null,"Activity",1,"MW",null,"Total annual cost",{"$f":"SUM(U37:U39)","v":35750},{"$f":"SUM(V37:V39)","v":0},{"$f":"U40-V40","v":35750},null,"Activity",1,"MW",null,"Total annual cost",{"$f":"SUM(AD37:AD39)","v":60102.739726027401},{"$f":"SUM(AE37:AE39)","v":0},{"$f":"AD40-AE40","v":60102.739726027401},null,"Activity",1,"MW"]
[null,null,null,null,null,null,"Investment in turbine",{"$f":"+H17","v":675},"US$/kW",null,null,null,null,null,null,"Investment in turbine",{"$f":"+Q17","v":650},"US$/kW",null,null,null,null,null,null,"Investment in turbine",{"$f":"+Z17","v":550},"US$/kW",null,null,null,null,null,null,"Investment in turbine",{"$f":"+AI17","v":550},"US$/kW"]
[null,"Annual emissions (tons)","Tons","Tons","Reduction",null,"Capacity factor",2735,"Full time hours",null,"Annual emissions (tons)","Tons","Tons","Reduction",null,"Capacity factor",2735,"Full time hours",null,"Annual emissions (tons)","Tons","Tons","Reduction",null,"Capacity factor",2735,"Full time hours",null,"Annual emissions (tons)","Tons","Tons","Reduction",null,"Capacity factor",2735,"Full time hours"]
[null,"Fuel  CO2-eq. emission",null,{"$f":"H43*H36","v":0},{"$f":"D43-C43","v":0},null,"Electricity production",{"$f":"H40*H42","v":2735},"MWh/ year",null,"Fuel  CO2-eq. emission",null,{"$f":"Q43*Q36","v":0},{"$f":"M43-L43","v":0},null,"Electricity production",{"$f":"Q40*Q42","v":2735},"MWh/ year",null,"Fuel  CO2-eq. emission",null,{"$f":"Z43*Z36","v":0},{"$f":"V43-U43","v":0},null,"Electricity production",{"$f":"Z40*Z42","v":2735},"MWh/ year",null,"Fuel  CO2-eq. emission",null,{"$f":"AI43*AI36","v":0},{"$f":"AE43-AD43","v":0},null,"Electricity production",{"$f":"AI40*AI42","v":2735},"MWh/ year"]
[null,"Other",null,null,null,null,"Electricity production per day",{"$f":"H43/365*1000","v":7493.1506849315074},"kWh/day",null,"Other",null,null,null,null,"Electricity production per day",{"$f":"Q43/365*1000","v":7493.1506849315074},"kWh/day",null,"Other",null,null,null,null,"Electricity production per day",{"$f":"Z43/365*1000","v":7493.1506849315074},"kWh/day",null,"Other",null,null,null,null,"Electricity production per day",{"$f":"AI43/365*1000","v":7493.1506849315074},"kWh/day"]
[null,"Total CO2-eq. emission ",{"$f":"C43+C44","v":0},{"$f":"D43+D44","v":0},{"$f":"D45-C45","v":0},null,"Unit cost of batteries",{"$f":"+Storage!H15","v":120},"US$/kWh",null,"Total CO2-eq. emission ",{"$f":"L43+L44","v":0},{"$f":"M43+M44","v":0},{"$f":"M45-L45","v":0},null,"Unit cost of batteries",{"$f":"+Storage!Q15","v":60},"US$/kWh",null,"Total CO2-eq. emission ",{"$f":"U43+U44","v":0},{"$f":"V43+V44","v":0},{"$f":"V45-U45","v":0},null,"Unit cost of batteries",{"$f":"+Storage!AI15","v":0},"US$/kWh",null,"Total CO2-eq. emission ",{"$f":"AD43+AD44","v":0},{"$f":"AE43+AE44","v":0},{"$f":"AE45-AD45","v":0},null,"Unit cost of batteries",{"$f":"+Storage!Z15","v":50},"US$/kWh"]
[null,null,null,null,null,null,"Total cost of batteries",{"$f":"H44*H45","v":899178.08219178091},"US$",null,null,null,null,null,null,"Total cost of batteries",{"$f":"Q44*Q45","v":449589.04109589045},"US$",null,null,null,null,null,null,"Total cost of batteries",{"$f":"Z44*Z45","v":0},"US$",null,null,null,null,null,null,"Total cost of batteries",{"$f":"AI44*AI45","v":374657.53424657538},"US$"]
[null,"US$/ton CO2-eq.",null,null,{"$f":"IF(E45<>0,E40/E45,0)","v":0},null,"Cost of electricity produced",{"$f":"C40/H43/1000","v":3.7411910545691318E-2},"US$/kWh",null,"US$/ton CO2-eq.",null,null,{"$f":"IF(N45<>0,N40/N45,0)","v":0},null,"Cost of electricity produced",{"$f":"L40/Q43/1000","v":2.6132829130249686E-2},"US$/kWh",null,"US$/ton CO2-eq.",null,null,{"$f":"IF(W45<>0,W40/W45,0)","v":0},null,"Cost of electricity produced",{"$f":"U40/Z43/1000","v":1.3071297989031078E-2},"US$/kWh",null,"US$/ton CO2-eq.",null,null,{"$f":"IF(AF45<>0,AF40/AF45,0)","v":0},null,"Cost of electricity produced",{"$f":"AD40/AI43/1000","v":2.1975407578072176E-2},"US$/kWh"]
[]
[null,null,null,null,null,null,"Reference option: No wind turbines",null,null,null,null,null,null,null,null,"Reference option: No wind turbines",null,null,null,null,null,null,null,null,"Reference option: No wind turbines",null,null,null,null,null,null,null,null,"Reference option: No wind turbines"]
[]
[]
[]
[]
[]
[]
[]
[null,"1 MW Wind turbines connected to main grid (off-shore) in 2025",null,null,null,null,null,null,null,null,"1 MW Wind turbines connected to main grid (off-shore) in 2030",null,null,null,null,null,null,null,null,"1 MW Wind turbines connected to main grid (off-shore) in 2040",null,null,null,null,null,null,null,null,"1 MW Wind turbines connected to main grid (off-shore) in 2050"]
[null,"Costs in","Reduction","Reference","Increase",null,"General inputs:",null,null,null,"Costs in","Reduction","Reference","Increase",null,"General inputs:",null,null,null,"Costs in","Reduction","Reference","Increase",null,"General inputs:",null,null,null,"Costs in","Reduction","Reference","Increase",null,"General inputs:"]
[null,"US$","Option","Option","(Red.-Ref.)",null,"Discount rate ",{"$f":"Assumptions!$C$13","v":0},null,null,"US$","Option","Option","(Red.-Ref.)",null,"Discount rate ",{"$f":"Assumptions!$C$13","v":0},null,null,"US$","Option","Option","(Red.-Ref.)",null,"Discount rate ",{"$f":"Assumptions!$C$13","v":0},null,null,"US$","Option","Option","(Red.-Ref.)",null,"Discount rate ",{"$f":"Assumptions!$C$13","v":0}]
[null,"Total investment",{"$f":"H66*H65*1000","v":2500000},null,{"$f":"C60-D60","v":2500000},null,"Reference electricity price",{"$f":"+Assumptions!C35","v":0},"US$/kWh",null,"Total investment",{"$f":"Q66*Q65*1000","v":2200000},null,{"$f":"L60-M60","v":2200000},null,"Reference electricity price",{"$f":"+Assumptions!C35","v":0},"US$/kWh",null,"Total investment",{"$f":"Z66*Z65*1000","v":1400000},null,{"$f":"U60-V60","v":1400000},null,"Reference electricity price",{"$f":"+Assumptions!C35","v":0},"US$/kWh",null,"Total investment",{"$f":"AI66*AI65*1000","v":1400000},null,{"$f":"AD60-AE60","v":1400000},null,"Reference electricity price",{"$f":"+Assumptions!C35","v":0},"US$/kWh"]
[null,"Project life",20,null,null,null,"CO2-eq. emission coefficient",{"$f":"+Assumptions!C39","v":0},"tCO2/MWh",null,"Project life",20,null,null,null,"CO2-eq. emission coefficient",{"$f":"+Assumptions!C39","v":0},"tCO2/MWh",null,"Project life",20,null,null,null,"CO2-eq. emission coefficient",{"$f":"+Assumptions!C39","v":0},"tCO2/MWh",null,"Project life",20,null,null,null,"CO2-eq. emission coefficient",{"$f":"+Assumptions!C39","v":0},"tCO2/MWh"]
[null,"Lev. investment",{"$f":"IF(C61=0,0,PMT($H$59,C61,-C60))","v":125000},null,{"$f":"C62-D62","v":125000},null,null,null,null,null,"Lev. investment",{"$f":"IF(L61=0,0,PMT($Q$59,L61,-L60))","v":110000},null,{"$f":"L62-M62","v":110000},null,null,null,null,null,"Lev. investment",{"$f":"IF(U61=0,0,PMT($Z$59,U61,-U60))","v":70000},null,{"$f":"U62-V62","v":70000},null,null,null,null,null,"Lev. investment",{"$f":"IF(AD61=0,0,PMT($AI$59,AD61,-AD60))","v":70000},null,{"$f":"AD62-AE62","v":70000}]
[null,"Annual O&M",{"$f":"C60*H64","v":37500},null,{"$f":"C63-D63","v":37500},null,"Reduction option: Wind Power",null,null,null,"Annual O&M",{"$f":"L60*Q64","v":33000},null,{"$f":"L63-M63","v":33000},null,"Reduction option: Wind Power",null,null,null,"Annual O&M",{"$f":"U60*Z64","v":21000},null,{"$f":"U63-V63","v":21000},null,"Reduction option: Wind Power",null,null,null,"Annual O&M",{"$f":"AD60*AI64","v":21000},null,{"$f":"AD63-AE63","v":21000},null,"Reduction option: Wind Power"]
[null,"Annual fuelcost",null,{"$f":"H68*1000*H60","v":0},{"$f":"C64-D64","v":0},null,"O&M  ",1.4999999999999999E-2,null,null,"Annual fuelcost",null,{"$f":"Q68*1000*Q60","v":0},{"$f":"L64-M64","v":0},null,"O&M  ",1.4999999999999999E-2,null,null,"Annual fuelcost",null,{"$f":"Z68*1000*Z60","v":0},{"$f":"U64-V64","v":0},null,"O&M  ",1.4999999999999999E-2,null,null,"Annual fuelcost",null,{"$f":"AI68*1000*AI60","v":0},{"$f":"AD64-AE64","v":0},null,"O&M  ",1.4999999999999999E-2]
[null,"Total annual cost",{"$f":"SUM(C62:C64)","v":162500},{"$f":"SUM(D62:D64)","v":0},{"$f":"C65-D65","v":162500},null,"Activity",1,"MW",null,"Total annual cost",{"$f":"SUM(L62:L64)","v":143000},{"$f":"SUM(M62:M64)","v":0},{"$f":"L65-M65","v":143000},null,"Activity",1,"MW",null,"Total annual cost",{"$f":"SUM(U62:U64)","v":91000},{"$f":"SUM(V62:V64)","v":0},{"$f":"U65-V65","v":91000},null,"Activity",1,"MW",null,"Total annual cost",{"$f":"SUM(AD62:AD64)","v":91000},{"$f":"SUM(AE62:AE64)","v":0},{"$f":"AD65-AE65","v":91000},null,"Activity",1,"MW"]
[null,null,null,null,null,null,"Investment in Activity",{"$f":"(2800+Q66)/2","v":2500},"US$/kW",null,null,null,null,null,null,"Investment in Activity",2200,"US$/kW",null,null,null,null,null,null,"Investment in Activity",1400,"US$/kW",null,null,null,null,null,null,"Investment in Activity",1400,"US$/kW"]
[null,"Annual emissions (tons)","Tons","Tons","Reduction",null,"Capacity factor",3200,"Full time hours",null,"Annual emissions (tons)","Tons","Tons","Reduction",null,"Capacity factor",3200,"Full time hours",null,"Annual emissions (tons)","Tons","Tons","Reduction",null,"Capacity factor",3200,"Full time hours",null,"Annual emissions (tons)","Tons","Tons","Reduction",null,"Capacity factor",3200,"Full time hours"]
[null,"Fuel  CO2-eq. emission",null,{"$f":"H68*H61","v":0},{"$f":"D68-C68","v":0},null,"Electricity production",{"$f":"H65*H67","v":3200},"MWh/ year",null,"Fuel  CO2-eq. emission",null,{"$f":"Q68*Q61","v":0},{"$f":"M68-L68","v":0},null,"Electricity production",{"$f":"Q65*Q67","v":3200},"MWh/ year",null,"Fuel  CO2-eq. emission",null,{"$f":"Z68*Z61","v":0},{"$f":"V68-U68","v":0},null,"Electricity production",{"$f":"Z65*Z67","v":3200},"MWh/ year",null,"Fuel  CO2-eq. emission",null,{"$f":"AI68*AI61","v":0},{"$f":"AE68-AD68","v":0},null,"Electricity production",{"$f":"AI65*AI67","v":3200},"MWh/ year"]
[null,"Other",null,null,null,null,"Cost of electricity produced",{"$f":"C65/H68/1000","v":5.078125E-2},"US$/kWh",null,"Other",null,null,null,null,"Cost of electricity produced",{"$f":"L65/Q68/1000","v":4.4687499999999998E-2},"US$/kWh",null,"Other",null,null,null,null,"Cost of electricity produced",{"$f":"U65/Z68/1000","v":2.8437500000000001E-2},"US$/kWh",null,"Other",null,null,null,null,"Cost of electricity produced",{"$f":"AD65/AI68/1000","v":2.8437500000000001E-2},"US$/kWh"]
[null,"Total CO2-eq. emission ",{"$f":"C68+C69","v":0},{"$f":"D68+D69","v":0},{"$f":"D70-C70","v":0},null,null,null,null,null,"Total CO2-eq. emission ",{"$f":"L68+L69","v":0},{"$f":"M68+M69","v":0},{"$f":"M70-L70","v":0},null,null,null,null,null,"Total CO2-eq. emission ",{"$f":"U68+U69","v":0},{"$f":"V68+V69","v":0},{"$f":"V70-U70","v":0},null,null,null,null,null,"Total CO2-eq. emission ",{"$f":"AD68+AD69","v":0},{"$f":"AE68+AE69","v":0},{"$f":"AE70-AD70","v":0}]
[null,null,null,null,null,null,"Reference option: No wind turbines",null,null,null,null,null,null,null,null,"Reference option: No wind turbines",null,null,null,null,null,null,null,null,"Reference option: No wind turbines",null,null,null,null,null,null,null,null,"Reference option: No wind turbines"]
[null,"US$/ton CO2-eq.",null,null,{"$f":"IF(E70<>0,E65/E70,0)","v":0},null,null,null,null,null,"US$/ton CO2-eq.",null,null,{"$f":"IF(N70<>0,N65/N70,0)","v":0},null,null,null,null,null,"US$/ton CO2-eq.",null,null,{"$f":"IF(W70<>0,W65/W70,0)","v":0},null,null,null,null,null,"US$/ton CO2-eq.",null,null,{"$f":"IF(AF70<>0,AF65/AF70,0)","v":0}]