Workbook
Name Multi_Year_Trajectory: 'Data Fields'!#REF!
Name MYT: '[1]Data Fields'!#REF!
Name ProjectTypes: 'Data Fields'!$A$2:$A$9
Name Scenario: #REF!
Name Single_Year: 'Data Fields'!$M$1:$M$2

Sheet Data Fields
A1: NDC target type: fixed level or trajectory | B1: Reference point | C1: GHG Target | D1: Type of target | E1: Single Year CA Accounting Approach | F1: Multi-year CA Accounting Approach | G1: NDC Type | H1: NDC Target Type | M1: Single year | N1: Multi-year | O1: Trajectory
A2: Single Year | B2: Base Year | C2: Absoulte Level | D2: % Reduction compared to the reference point | E2: Averaging Approach | G2: NDC 1.0 | H2: NDC 1 | M2: Trajectory | N2: Indicative trajectory | O2: Linear
A3: Multi-year trajectory | B3: BAU Scenario | C3: Intensity Target | D3: Absolute level of emission reduction | E3: Trajectory Approach | G3: NDC 2.0 | H3: NDC 2 | M3: Budget | N3: Budget | O3: Exponential
G4: NDC 3.0 | H4: NDC 3 | M4: Average | O4: Own trajectory
H5: NDC 4
H6: NDC 5
H7: NDC 6
H8: NDC 7
H9: NDC 8

Sheet Introduction
B11: Welcome to the NDC Tracking and Corresponding Adjustment Tool (NDC-CAT)
B14: The tool was developed by UNEP and its UNEP Copenhagen Climate Centre. In case of technical questions or feedback, please contact unep-ccc@un.org
B17: What is NDC and Article 6 Tracking Tool?
B18: The objective of the tool is to provide a quantitative, step‑by‑step approach for integrating NDC progress tracking with Article 6-adjusted emissions balances and corresponding adjustment calculations. The tool creates clear linkages between national GHG inventories, NDC implementation and achievement, and ITMO transactions, enabling countries to make informed decisions for NDC implementation and their participation in Article 6 mechanisms. More specifically, the tool helps countries: • Organize and enter all necessary NDC, GHG inventory, and Article 6 data in a structured way • Calculate target‑year emissions, corresponding adjustments, adjusted emissions balances • Assess progress toward NDC achievement over time by comparing adjusted emissions to the base‑year level and target‑year level, it shows whether a country is on track to meet its NDC. • Produce the official reporting table for the Biennial Transparency Report (CTF Table 4). • Monitor NDC implementation progress in both countries that either have not yet engaged in Article 6 transactions or do not currently plan to do so. • To make assessments in two modes: i) Ex ante mode is a forward-looking scenario analysis that uses projected emissions and planned Article 6 transactions to assess future NDC achievement ii) Ex post mode uses historical inventory data and actual Article 6 transactions to track and report progress towards the NDC based on observed results. The final output is a ready‑to‑use structured summary that meets UNFCCC reporting requirements. The document is currently locked for editing. However, if a user would like to access an editable version to make changes or review the underlying formulas in the Excel file, they can unlock it using the password specified in the User Manual (page 20).
B31: What the tool can be used for?
B32: The tool helps countries interpret their emissions trajectory relative to their NDC target levels and assess whether current mitigation actions and Article 6 activities support or hinder progress toward achieving the NDC. By reviewing the calculated results, users can identify whether additional domestic policies or measures are needed to further reduce GHG emissions and determine whether there is potential to engage in Article 6 activities. This includes evaluating whether the country is likely to be an Article 6 seller or buyer based on its emissions pathway and NDC targets. The final output is a fully populated CTF Table 4, which can be directly used for Biennial Transparency Report (BTR) preparation. In addition, the tool can be used to track NDC progress for countries that do not participate in Article 6 (or do not have Article 6 transactions yet). Users may leave all Article 6-related fields blank and still utilize the tool for NDC tracking. In such cases, the Article 6-specific steps will remain empty, and the corresponding Article 6 cells in CTF Table 4 will be automatically marked as "Not Applicable"
B44: How the tool works?
B45: The tool operates through a structured, step‑by‑step workflow that guides users from defining their NDC type to assessment of NDC progress. Users begin by selecting key characteristics of their NDC (such as base‑year vs. BAU targets and single‑year vs. multi‑year target) which determines the methodological pathway the tool will apply. They then enter essential data including base‑year/BAU emissions, historical GHG inventory values, and information on Article 6 activities such as ITMO transfers, authorizations, and use. Based on these inputs, the tool applies the selected corresponding‑adjustment methodology, generates adjusted emissions balances and track progress for NDC achivement. NDC-CAT can operate in either Ex ante or Ex post mode, depending on the purpose of the assessment: • In Ex ante mode, users provide projected emissions data and expected Article 6 transactions (ITMO transfers, acquisitions, or cancellations) to assess future NDC achievement under different assumptions. This forward-looking, "what-if" approach helps users evaluate whether the NDC target can still be achieved under projected emissions trends and planned ITMO use. • In Ex post mode, users provide historical GHG inventory data together with actual Article 6 transactions that have already occurred. This mode is designed to track and report progress towards the NDC using observed data, allowing users to assess whether the country is on track to meet its target based on actual emissions and actual Article 6 transactions.
B57: Scope limitations: When this tool cannot be used
B58: The first version of the tool is designed specifically for countries that have NDCs with quantified GHG emissions reduction targets. The tool only supports NDCs that include: GHG emissions % reduction targets, absolute emission reduction target,(economy‑wide or sector‑specific), base‑year or BAU scenario reference points, single‑year quantified targets. It does not apply in cases where a country’s NDC uses other types of targets: non‑GHG targets (e.g. renewable energy shares, forest cover, or adaptation‑focused targets), GHG intensity targets (e.g., emissions per unit of GDP), policies and measures‑based NDCs. Currently, only averaging method for corresponding adjustments is considered in the tool, trajectory method will be added in the future versions. Future updates of the tool may be designed to cover additional NDC target types. This tool would not suggest what type of Article 6 activities a country should select, for such an analysis the users can use GACMO tool to develop Marginal Abatement Cost Curve (MACC). The tool reflects UNEP-CCC's interpretation of the structured summary reporting requirements set out in Table 4 of Decision 5/CMA.3. Reporting Parties are encouraged to review and validate the resulting information as part of their BTR reporting process.
B65: NDC and Article 6 Tracker Tool COPYRIGHTS
B66: © 2026 United Nations Environment Programme (UNEP) and UNEP Copenhagen Climate Centre (UNEP-CCC). This publication may be reproduced in whole or in part and in any form for educational or non-profit services without special permission from the copyright holders, provided acknowledgement of the source is made. UNEP and UNEP-CCC would appreciate receiving a copy of any publication that uses this publication as a source. No use of this publication may be made for resale or any other commercial purpose whatsoever, without prior permission in writing from UNEP. This publication was developed by the UNEP Copenhagen Climate Centre. UNEP-CCC is supported by UNOPS.

Sheet Instructions
B5: Step by step guidance for using NDC Tracking and Corresponding Adjustment Tool (NDC-CAT):
B6: The tool operates through a structured, step‑by‑step workflow that guides users from defining their NDC type (reference point, target year, etc.), GHG inventory, Article 6 to assessment of NDC progress.
B37: Below is the Step by step guidance for using NDC Tracking and Corresponding Adjustment Tool (NDC-CAT):
B39: Guidance on Color‑Coded Cells
B41: Color Coding The tool uses a color‑coding system to help users understand where they need to take action and which parts of the sheet are protected or automated:
C43: Blue cells indicate fields where users should select an option from a dropdown menu. Do not type directly into these cells; instead, choose from the predefined list.
C45: Yellow cells are fields where users should manually enter their data. This includes information such as NDC type, emissions values, ITMO quantities, or other inputs required for calculations.
C47: Purple cells contain automatically calculated values or data pulled from previous steps. These cells are locked and should not be edited, as manual changes would break the formulas and compromise the accuracy of the results.
B50: Step 0: NDC selection
B51: This step asks users to define the type of NDC their country has submitted by selecting the relevant information from dropdown menus. The fields include the country name, the NDC implementation period, the latest GHG inventory year, the reference point (such as a base year or BAU scenario), whether the target is a single‑year or multi‑year target, etc. The selection of the Ex ante or Ex post model determines further the functionality of the tool (historical or projected assessments), while the reference point and target type influence how NDC targets and progress are assessed.
B63: Step 1: NDC information
B64: Users should enter their base year (or BAU scenario) and the corresponding emissions value (in ktCO₂e) in the base year (or BAU scenario), along with the target type information: percentage reduction target or absolute emission reduction target. The tool will then automatically calculate the target‑year emissions level based on these inputs. (Only one table from this section will appear, depending on the NDC type selected in Step 0, so users should ensure that the information entered in Step 0 correctly reflects their reference point and target type).
B76: Step 2: GHG Data
B77: In the ex-post mode, Step 2 requires users to enter their national GHG inventory data for NDC implementation period, up to the most recent inventory year. For each sector listed, input the emissions values corresponding to the inventory years. Only fill in the sectors and gases that are included in your NDC. If your NDC is not economy‑wide, leave the cells for excluded sectors blank. These entries form the historical emissions trajectory that will be used to assess progress toward the NDC target. In most cases, these data should be sourced from the official national GHG inventory. However, some countries apply accounting approaches in their NDCs that differ from those used in the national GHG inventory. In such cases, the emissions data reported in Step 2 should be consistent with the NDC accounting approach. Users can use CTF Table 6 from your BTR submission or CRT Table 10 from Inventory submission summarizing GHG emissions trends for entering historical emissions data into this section. In the Ex ante mode, Step 2 is used to enter emissions projections (with the scope and coverage as defined in NDC).
B89: Step 3: Article 6 information
B90: Step 3 requires users to report Article 6–related activities, including ITMOs first transferred, mitigation outcomes authorized, and ITMOs used toward achieving the NDC. For each year, enter the quantities of ITMOs exported (first transferred) and imported (used toward the NDC), using information from the AEF: Table 3 for actions, Table 2 for authorizations, and Table 5 for authorized entities. The tool will automatically calculate the net annual quantity of ITMOs and the cumulative corresponding adjustments. If your country authorizes mitigation outcomes for multiple years without specifying annual amounts, apply the allocation rule disclosed in your AEF. Ensure that data are entered consistently per metric (GHG vs. non‑GHG units) and only report values that correspond to your NDC period and authorization scope.
B105: Step 4: Calculating Corresponding Adjustments (CA)
B106: In this step, user can view the calculated corresponding adjustment and resulting adjustment emissions balance. Users do not need to manually enter any information as all the values are either automatically calculated or imported from the previous steps. Of the four CA methodologies approved under the Paris Agreement, only the averaging method is currently operational in tool. An averaging CA methodology is applicable to single-year NDCs, in which the cumulative ITMO volume over the NDC period is averaged across all years. The adjustment is applied once at the end of the NDC period. As per Decision 2/CMA.3, Parties with single-year NDCs participating in cooperative approaches must apply corresponding adjustments using either an averaging approach or an indicative multi-year emissions trajectory or budget, applied consistently throughout the NDC implementation period. If there is no data in the Step 3 i.e., if a country is not participating in Article 6 and there is no information about the use or transfer of ITMOs, Step 4 will not be applicable. Following auto-calculated values will be shown: • Net ITMO transfer for each year; • Cumulative ITMO transfers; • Calculated corresponding adjustments; • Gross GHG emissions by year; •Adjusted emissions balance. Only the table relevant to your NDC type will appear. This step ensures transparent, consistent application of Article 6 rules in line with your selected methodology.
B119: Step 5: Tracking progress
B120: This sheet assesses a Party’s progress toward achieving its NDC by comparing adjusted emissions over time with both the base year level and the NDC target level. The tool then uses the adjusted emissions balance for each year (calculated in Step 4) to evaluate progress. The “Intermediary progress” section compares the most recent adjusted emissions to the base‑year level to show whether emissions have fallen and whether progress aligns with the NDC trajectory. The “Final achievement” section compares the same adjusted emissions to the target‑year emissions level, indicating whether the country is on track to meet its NDC target. The tool automatically determines the percentage reduction achieved, whether emissions are below the base or target level, and whether progress is consistent with the NDC objectives. Users do not need to manually enter any information in this step, as all values are either calculated by the tool or imported from previous steps. Users should review these results to understand whether current mitigation actions and ITMO adjustments support or hinder progress toward the NDC achievement.
... B146: If the tool is used in ex-post mode, Step 6 generates the results required for CTF Table 4 of the Biennial Transparency Report (BTR), titled “Structured summary: Tracking progress made in implementing and achieving the NDC under Article 4 of the Paris Agreement.” Based on all inputs provided in previous steps, the tool will automatically populate CTF Table 4 with the calculated values. This includes the indicators selected to track NDC progress, reference points, annual emissions, ITMO information, adjusted emissions balances as well as intermediary or final NDC progress. When GHG inventory data for target year emissions is not yet available, the tool estimates intermediary NDC progress: "Progress made towards the NDC, as determined by comparing the most recent information for each selected indicator, including for the end year or end of period, with the reference point(s), level(s), baseline(s), base year(s) or starting point(s) (paras. 69–70 of the MPGs)." When GHG inventory data for target year becomes available, the tool estimates "achievement of the Party’s NDC under Article 4 of the Paris Agreement (para. 70 of the MPGs)". Users are not required to manually enter data in this step; instead, review the automatically generated table to ensure completeness and consistency with the country’s NDC and Article 6 reporting requirements.

Sheet Step 0 NDC Selection
B6: Step 0: Information on your NDC Type
B7: Use the dropdown below to describe your NDC
B9: Country
B10: Ex ante or ex post model | D10: This will radically change the purpose and functions of the document - with "Ex ante" you will be able to make projections regarding emissions and ITMO usage, with "Ex Post" you will be using only inventory data and you will be able to see the BTR CTF Table 4 in Step 6
B11: NDC type | D11: This will not affect calculation, it is just for information
B12: Year of NDC submission | D12: This will not affect calculation, it is just for information
B13: NDC Implementation Period (Start year)
B14: NDC Implementation Period (End year)
B15: Latest inventory year
B16: Name of the selected indicator for NDC tracking
B17: Reference Point
B18: Target type: single year or multi-year | C18: Single Year
B19: LULUCF included in NDC
B20: Is the Target Economy Wide

Sheet Step 1 NDC Information
B2: =IF('Step 0 NDC Selection'!C10="Ex ante",_xlfn._LONGTEXT("The document is now in 'projections setting' as you selected 'Ex ante' on Step 0, which allows to explore potential scenarios regarding emissions reduction. To continue the exercise, please fill the blue cells and select the relevant dropdown in 'Target t","ype'. If you want to switch to reporting, please delete current data in steps 0-3 and, on Step 0, select 'Ex post'"),"")
B7: Step 1: NDC Target Information
B8: Please fill in the relevant base year or reference point information and NDC target level
B10: NDC Implementation Period (Start year) | C10: =IF('Step 0 NDC Selection'!C13="","",'Step 0 NDC Selection'!C13) | F10: Note: for this step, please insert emissions data in ktCO2e
B11: NDC Implementation Period (End year) | C11: =IF('Step 0 NDC Selection'!C14="","",'Step 0 NDC Selection'!C14)
B12: Latest Inventory Year | C12: =IF('Step 0 NDC Selection'!C15="","",'Step 0 NDC Selection'!C15)
B13: Target type
B15: Is the table empty (i.e. without any data)? | C15: =IF(COUNTA(C19:C23,C28:C46)=0,"Yes", "No") -> Yes
B17: NDC with Base Year
B18: NDC Information | C18: Input
B19: Base Year
B20: Base Year Value (ktCO2e)
B21: NDC Target: % Reduction compared to base year
B22: NDC Target: Absolute emissions Reduction compared to base year (ktCO2e)
B23: Target year
B24: Target Year Level (ktCO2e) | C24: =IF('Step 0 NDC Selection'!$C$17="Base Year",IF(C13="% Reduction",(C20-(C20*C21)),IF(C13="Absolute emissions reduction",C20-C22,"")),"")
B26: NDC with BAU scenario
B27: NDC Information | C27: Input
B28: NDC Target year
B29: % Reduction compared to BAU scenario in target year
B30: Absolute emissions reduction compared to BAU in target year, ktCO2e
B31: BAU scenario emissions, ktCO2e
B32: 2021
B33: 2022
B34: 2023
B35: 2024
B36: 2025
B37: 2026
B38: 2027
B39: 2028
B40: 2029
B41: 2030
B42: 2031
B43: 2032
... B46: 2035
B47: Target Year Level (ktCO2e) | C47: =_xlfn.IFNA(IF('Step 0 NDC Selection'!$C$17="BAU",IF(C13="% Reduction",INDEX(B32:C46,MATCH(C28,B32:B46,0),2)*(1-C29),IF(C13="Absolute emissions reduction",INDEX(B32:C46,MATCH(C28,B32:B46,0),2)-C30,"")),""),"")

Sheet Step 2 GHG Data
B2: =IF('Step 0 NDC Selection'!C10="Ex ante",_xlfn._LONGTEXT("The document is now in 'projections setting' as the user selected 'Ex ante' on Step 0, which allows to explore potential scenarios regarding emissions reduction. To continue the exercise, please fill the cells with emissions data. Note that the file will ","calculate emissions using the variable 'Total with LULUCF' (row 16) if you have answered 'Yes' to the 'LULUCF included in NDC' question in Step 0, if you answered 'no', the file will take into account the 'Total without LULUCF' (Row 17). If you want to sw","itch to reporting, please delete current data in steps 0-3 and, on Step 0, select 'Ex post'"),"")
B5: =IF('Step 0 NDC Selection'!C10="Ex ante","Step 2: Emissions projections","Step 2: GHG Inventory") -> Step 2: GHG Inventory
B6: =IF('Step 0 NDC Selection'!C10="Ex ante","Please insert your projections in the table below", _xlfn._LONGTEXT("Please insert the values for your GHG inventory, up to your most recent inventory year. If your NDC target is non-economy wide, please leave the relevant sectoral row blank. Where the NDC accounting framework differs from the inventory methodology, the va","lues reported in Step 2 should be consistent with the NDC approach.")) -> Please insert the values for your GHG inventory, up to your most recent inventory year. If your NDC target is non-economy wide, please leave the relevant sectoral row blank. Where the NDC accounting framework differs from the inventory methodology, the values reported in Step 2 should be consistent with the NDC approach.
C8: Unit: kt CO2 eq.
B9: Sectors | C9: 2021 | D9: 2022 | E9: 2023 | F9: 2024 | G9: 2025 | H9: 2026 | I9: 2027 | J9: 2028 | K9: 2029 | L9: 2030 | M9: 2031 | N9: 2032 | O9: 2033 | P9: 2034 | Q9: 2035
B10: 1. Energy
B11: 2. Industrial processes and product use
B12: 3. Agriculture
B13: 4. Land use, land-use change and forestry
B14: 5. Waste
B15: 6. Other
B16: Total (with LULUCF)
B17: Total (without LULUCF)
B21: Is the table empty (i.e. without any data)? | C21: =IF(COUNTA(C10:Q17),"No", "Yes") -> Yes | E21: Note: for this step, please insert emissions data in ktCO2e

Sheet Step 3 Article 6 Information
B2: =IF('Step 0 NDC Selection'!C10="Ex ante",_xlfn._LONGTEXT("The document is now in 'projections setting' as the user selected 'Ex ante' on Step 0, which allows to explore potential scenarios regarding receiving and procuring ITMOs. To continue the exercise, please fill the blue cells. If you want to switch to repo","rting, please delete current data in steps 0-3 and, on Step 0, select 'Ex post'"),"")
B5: Step 3: Article 6 and ITMO use or transfer
B7: Describe Article 6 and ITMO use or transfers
B10: Are you a User Party (importing) from a Host Party? | E10: Note: for this step, please insert emissions data in tCO2e (not ktCO2e)
B11: Are you a First Transferring Party (exporting) to other Parties?
B12: Is the table empty (i.e. without any data)? | C12: =IF(COUNTA(C18:Q20,C23:Q23),"No", "Yes") -> Yes
B15: INSERT DATA HERE DIRECTLY FROM AEF (tCO2)
C17: 2021 | D17: 2022 | E17: 2023 | F17: 2024 | G17: 2025 | H17: 2026 | I17: 2027 | J17: 2028 | K17: 2029 | L17: 2030 | M17: 2031 | N17: 2032 | O17: 2033 | P17: 2034 | Q17: 2035 | R17: Where to find this information | S17: Further Notes
B18: Annual quantitity of ITMOs first transferred | R18: AEF → Table 3: Actions (Action type = First transfer, Metric, Quantity, vintage) | S18: These are the ITMOs your country first transfers to other Parties. Sum by VINTAGE YEAR, per metric. In CA maths: positive (CA+), which raises your adjusted emissions balance.
B19: Annual quantity of mitigation outcomes authorized | R19: AEF → Table 2: Authorizations (Purposes = OIMP / NDC+OIMP, Authorized quantity, Metric, Authorized timeframe) + AEF → Table 5: Authorized entities | S19: CTF Table 4 expects annual authorization totals. Where an authorisation covers several years without a per-year breakdown, decide how to distribute the quantity across years and state the method used in your BTR. List entities from Table 5 as appropriate. This is authorization, not use, and it does not enter the net figure or the corresponding adjustment.
B20: Annual quantity of ITMOs used towards achievement of the NDC | R20: AEF → Table 3: Actions (Action type = Use, "Calendar year for which the ITMOs are used…", Metric, Quantity…) | S20: These are the ITMOs your country uses towards achieving its own NDC. Sum by the CALENDAR YEAR for which the ITMOs are used, not the action date and not the vintage year. In CA maths: negative (CA−), which lowers your adjusted emissions balance.
B21: Net annual quantity of ITMOs | C21: =IF('Step 0 NDC Selection'!C10="Ex post",IF(AND(C20="",C18=""),IF(AND(C20="",C18="",'Step 0 NDC Selection'!$C$14>=C17),0,""),(C18-C20)),(C18-C20)) -> 0 | D21: =IF('Step 0 NDC Selection'!C10="Ex post",IF(AND(D20="",D18=""),IF(AND(D20="",D18="",'Step 0 NDC Selection'!$C$14>='Step 3 Article 6 Information'!D17),0,""),(D18-D20)),(D18-D20)) -> 0 | E21: =IF('Step 0 NDC Selection'!C10="Ex post",IF(AND(E20="",E18=""),IF(AND(E20="",E18="",'Step 0 NDC Selection'!$C$14>='Step 3 Article 6 Information'!E17),0,""),(E18-E20)),(E18-E20)) -> 0 | F21: =IF('Step 0 NDC Selection'!C10="Ex post",IF(AND(F20="",F18=""),IF(AND(F20="",F18="",'Step 0 NDC Selection'!$C$14>='Step 3 Article 6 Information'!F17),0,""),(F18-F20)),(F18-F20)) -> 0 | G21: =IF('Step 0 NDC Selection'!C10="Ex post",IF(AND(G20="",G18=""),IF(AND(G20="",G18="",'Step 0 NDC Selection'!$C$14>='Step 3 Article 6 Information'!G17),0,""),(G18-G20)),(G18-G20)) -> 0 | H21: =IF('Step 0 NDC Selection'!C10="Ex post",IF(AND(H20="",H18=""),IF(AND(H20="",H18="",'Step 0 NDC Selection'!$C$14>='Step 3 Article 6 Information'!H17),0,""),(H18-H20)),(H18-H20)) -> 0 | I21: =IF('Step 0 NDC Selection'!C10="Ex post",IF(AND(I20="",I18=""),IF(AND(I20="",I18="",'Step 0 NDC Selection'!$C$14>='Step 3 Article 6 Information'!I17),0,""),(I18-I20)),(I18-I20)) -> 0 | J21: =IF('Step 0 NDC Selection'!C10="Ex post",IF(AND(J20="",J18=""),IF(AND(J20="",J18="",'Step 0 NDC Selection'!$C$14>='Step 3 Article 6 Information'!J17),0,""),(J18-J20)),(J18-J20)) -> 0 | K21: =IF('Step 0 NDC Selection'!C10="Ex post",IF(AND(K20="",K18=""),IF(AND(K20="",K18="",'Step 0 NDC Selection'!$C$14>='Step 3 Article 6 Information'!K17),0,""),(K18-K20)),(K18-K20)) -> 0 | L21: =IF('Step 0 NDC Selection'!C10="Ex post",IF(AND(L20="",L18=""),IF(AND(L20="",L18="",'Step 0 NDC Selection'!$C$14>='Step 3 Article 6 Information'!L17),0,""),(L18-L20)),(L18-L20)) -> 0 | M21: =IF('Step 0 NDC Selection'!C10="Ex post",IF(AND(M20="",M18=""),IF(AND(M20="",M18="",'Step 0 NDC Selection'!$C$14>='Step 3 Article 6 Information'!M17),0,""),(M18-M20)),(M18-M20)) -> 0 | N21: =IF('Step 0 NDC Selection'!C10="Ex post",IF(AND(N20="",N18=""),IF(AND(N20="",N18="",'Step 0 NDC Selection'!$C$14>='Step 3 Article 6 Information'!N17),0,""),(N18-N20)),(N18-N20)) -> 0 | O21: =IF('Step 0 NDC Selection'!C10="Ex post",IF(AND(O20="",O18=""),IF(AND(O20="",O18="",'Step 0 NDC Selection'!$C$14>='Step 3 Article 6 Information'!O17),0,""),(O18-O20)),(O18-O20)) -> 0 | P21: =IF('Step 0 NDC Selection'!C10="Ex post",IF(AND(P20="",P18=""),IF(AND(P20="",P18="",'Step 0 NDC Selection'!$C$14>='Step 3 Article 6 Information'!P17),0,""),(P18-P20)),(P18-P20)) -> 0 | Q21: =IF('Step 0 NDC Selection'!C10="Ex post",IF(AND(Q20="",Q18=""),IF(AND(Q20="",Q18="",'Step 0 NDC Selection'!$C$14>='Step 3 Article 6 Information'!Q17),0,""),(Q18-Q20)),(Q18-Q20)) -> 0 | R21: Derived: Annual quantity of ITMOs first transferred − Annual quantity of ITMOs used towards achievement of the NDC | S21: Do not mix GHG and non-GHG. A positive figure means your country transferred out more than it used in that year.
B22: Total quantitative corresponding adjustments used | C22: =IF('Step 0 NDC Selection'!C10="Ex post",IF(C17>'Step 0 NDC Selection'!$C$14,"",SUM($C$21:C21)),SUM($C$21:C21)) -> 0 | D22: =IF('Step 0 NDC Selection'!C10="Ex post",IF(D17>'Step 0 NDC Selection'!$C$14,"",SUM($C$21:D21)),SUM($C$21:D21)) -> 0 | E22: =IF('Step 0 NDC Selection'!C10="Ex post",IF(E17>'Step 0 NDC Selection'!$C$14,"",SUM($C$21:E21)),SUM($C$21:E21)) -> 0 | F22: =IF('Step 0 NDC Selection'!C10="Ex post",IF(F17>'Step 0 NDC Selection'!$C$14,"",SUM($C$21:F21)),SUM($C$21:F21)) -> 0 | G22: =IF('Step 0 NDC Selection'!C10="Ex post",IF(G17>'Step 0 NDC Selection'!$C$14,"",SUM($C$21:G21)),SUM($C$21:G21)) -> 0 | H22: =IF('Step 0 NDC Selection'!C10="Ex post",IF(H17>'Step 0 NDC Selection'!$C$14,"",SUM($C$21:H21)),SUM($C$21:H21)) -> 0 | I22: =IF('Step 0 NDC Selection'!C10="Ex post",IF(I17>'Step 0 NDC Selection'!$C$14,"",SUM($C$21:I21)),SUM($C$21:I21)) -> 0 | J22: =IF('Step 0 NDC Selection'!C10="Ex post",IF(J17>'Step 0 NDC Selection'!$C$14,"",SUM($C$21:J21)),SUM($C$21:J21)) -> 0 | K22: =IF('Step 0 NDC Selection'!C10="Ex post",IF(K17>'Step 0 NDC Selection'!$C$14,"",SUM($C$21:K21)),SUM($C$21:K21)) -> 0 | L22: =IF('Step 0 NDC Selection'!C10="Ex post",IF(L17>'Step 0 NDC Selection'!$C$14,"",SUM($C$21:L21)),SUM($C$21:L21)) -> 0 | M22: =IF('Step 0 NDC Selection'!C10="Ex post",IF(M17>'Step 0 NDC Selection'!$C$14,"",SUM($C$21:M21)),SUM($C$21:M21)) -> 0 | N22: =IF('Step 0 NDC Selection'!C10="Ex post",IF(N17>'Step 0 NDC Selection'!$C$14,"",SUM($C$21:N21)),SUM($C$21:N21)) -> 0 | O22: =IF('Step 0 NDC Selection'!C10="Ex post",IF(O17>'Step 0 NDC Selection'!$C$14,"",SUM($C$21:O21)),SUM($C$21:O21)) -> 0 | P22: =IF('Step 0 NDC Selection'!C10="Ex post",IF(P17>'Step 0 NDC Selection'!$C$14,"",SUM($C$21:P21)),SUM($C$21:P21)) -> 0 | Q22: =IF('Step 0 NDC Selection'!C10="Ex post",IF(Q17>'Step 0 NDC Selection'!$C$14,"",SUM($C$21:Q21)),SUM($C$21:Q21)) -> 0 | R22: Derived: Net annual quantity of ITMOs, overall [cumulative, includes current year and previous years] | S22: Quantity for year n equals the quantity for year n-1 plus the net annual quantity of ITMOs in year n. Authorisations for other international mitigation purposes are not included.
B23: Annual quantity of mitigation outcomes authorized for use for other international mitigation purposes and entities authorized to use such mitigation outcomes
B26: Notes:
B27: 1. Note that the AEF tables use t CO2 eq. so this file makes an automatic conversion to kt CO2 eq to match the rest of the calculations. For the table above, please insert data in tCO2
C30: Unit: kt CO2 eq.
C32: 2021 | D32: 2022 | E32: 2023 | F32: 2024 | G32: 2025 | H32: 2026 | I32: 2027 | J32: 2028 | K32: 2029 | L32: 2030 | M32: 2031 | N32: 2032 | O32: 2033 | P32: 2034 | Q32: 2035
B33: Annual quantity of ITMOs first transferred | C33: =IF('Step 0 NDC Selection'!$C$10="Ex post", IF(AND('Step 0 NDC Selection'!$C$13<=C17,'Step 0 NDC Selection'!$C$15>=C17),IF(C18="",0,C18/1000),""),IF(C18="",0,C18/1000)) -> 0 | D33: =IF('Step 0 NDC Selection'!$C$10="Ex post", IF(AND('Step 0 NDC Selection'!$C$13<=D17,'Step 0 NDC Selection'!$C$15>=D17),IF(D18="",0,D18/1000),""),IF(D18="",0,D18/1000)) -> 0 | E33: =IF('Step 0 NDC Selection'!$C$10="Ex post", IF(AND('Step 0 NDC Selection'!$C$13<=E17,'Step 0 NDC Selection'!$C$15>=E17),IF(E18="",0,E18/1000),""),IF(E18="",0,E18/1000)) -> 0 | F33: =IF('Step 0 NDC Selection'!$C$10="Ex post", IF(AND('Step 0 NDC Selection'!$C$13<=F17,'Step 0 NDC Selection'!$C$15>=F17),IF(F18="",0,F18/1000),""),IF(F18="",0,F18/1000)) -> 0 | G33: =IF('Step 0 NDC Selection'!$C$10="Ex post", IF(AND('Step 0 NDC Selection'!$C$13<=G17,'Step 0 NDC Selection'!$C$15>=G17),IF(G18="",0,G18/1000),""),IF(G18="",0,G18/1000)) -> 0 | H33: =IF('Step 0 NDC Selection'!$C$10="Ex post", IF(AND('Step 0 NDC Selection'!$C$13<=H17,'Step 0 NDC Selection'!$C$15>=H17),IF(H18="",0,H18/1000),""),IF(H18="",0,H18/1000)) -> 0 | I33: =IF('Step 0 NDC Selection'!$C$10="Ex post", IF(AND('Step 0 NDC Selection'!$C$13<=I17,'Step 0 NDC Selection'!$C$15>=I17),IF(I18="",0,I18/1000),""),IF(I18="",0,I18/1000)) -> 0 | J33: =IF('Step 0 NDC Selection'!$C$10="Ex post", IF(AND('Step 0 NDC Selection'!$C$13<=J17,'Step 0 NDC Selection'!$C$15>=J17),IF(J18="",0,J18/1000),""),IF(J18="",0,J18/1000)) -> 0 | ... Q33: =IF('Step 0 NDC Selection'!$C$10="Ex post", IF(AND('Step 0 NDC Selection'!$C$13<=Q17,'Step 0 NDC Selection'!$C$15>=Q17),IF(Q18="",0,Q18/1000),""),IF(Q18="",0,Q18/1000)) -> 0
B34: Annual quantity of mitigation outcomes authorized | C34: =IF('Step 0 NDC Selection'!$C$10="Ex post", IF(AND('Step 0 NDC Selection'!$C$13<=C17,'Step 0 NDC Selection'!$C$15>=C17),IF(C19="",0,C19/1000),""),IF(C19="",0,C19/1000)) -> 0 | D34: =IF('Step 0 NDC Selection'!$C$10="Ex post", IF(AND('Step 0 NDC Selection'!$C$13<=D17,'Step 0 NDC Selection'!$C$15>=D17),IF(D19="",0,D19/1000),""),IF(D19="",0,D19/1000)) -> 0 | E34: =IF('Step 0 NDC Selection'!$C$10="Ex post", IF(AND('Step 0 NDC Selection'!$C$13<=E17,'Step 0 NDC Selection'!$C$15>=E17),IF(E19="",0,E19/1000),""),IF(E19="",0,E19/1000)) -> 0 | F34: =IF('Step 0 NDC Selection'!$C$10="Ex post", IF(AND('Step 0 NDC Selection'!$C$13<=F17,'Step 0 NDC Selection'!$C$15>=F17),IF(F19="",0,F19/1000),""),IF(F19="",0,F19/1000)) -> 0 | G34: =IF('Step 0 NDC Selection'!$C$10="Ex post", IF(AND('Step 0 NDC Selection'!$C$13<=G17,'Step 0 NDC Selection'!$C$15>=G17),IF(G19="",0,G19/1000),""),IF(G19="",0,G19/1000)) -> 0 | H34: =IF('Step 0 NDC Selection'!$C$10="Ex post", IF(AND('Step 0 NDC Selection'!$C$13<=H17,'Step 0 NDC Selection'!$C$15>=H17),IF(H19="",0,H19/1000),""),IF(H19="",0,H19/1000)) -> 0 | I34: =IF('Step 0 NDC Selection'!$C$10="Ex post", IF(AND('Step 0 NDC Selection'!$C$13<=I17,'Step 0 NDC Selection'!$C$15>=I17),IF(I19="",0,I19/1000),""),IF(I19="",0,I19/1000)) -> 0 | J34: =IF('Step 0 NDC Selection'!$C$10="Ex post", IF(AND('Step 0 NDC Selection'!$C$13<=J17,'Step 0 NDC Selection'!$C$15>=J17),IF(J19="",0,J19/1000),""),IF(J19="",0,J19/1000)) -> 0 | ... Q34: =IF('Step 0 NDC Selection'!$C$10="Ex post", IF(AND('Step 0 NDC Selection'!$C$13<=Q17,'Step 0 NDC Selection'!$C$15>=Q17),IF(Q19="",0,Q19/1000),""),IF(Q19="",0,Q19/1000)) -> 0
B35: Annual quantity of ITMOs used towards achievement of own NDC | C35: =IF('Step 0 NDC Selection'!$C$10="Ex post", IF(AND('Step 0 NDC Selection'!$C$13<=C17,'Step 0 NDC Selection'!$C$15>=C17),IF(C20="",0,C20/1000),""),IF(C20="",0,C20/1000)) -> 0 | D35: =IF('Step 0 NDC Selection'!$C$10="Ex post", IF(AND('Step 0 NDC Selection'!$C$13<=D17,'Step 0 NDC Selection'!$C$15>=D17),IF(D20="",0,D20/1000),""),IF(D20="",0,D20/1000)) -> 0 | E35: =IF('Step 0 NDC Selection'!$C$10="Ex post", IF(AND('Step 0 NDC Selection'!$C$13<=E17,'Step 0 NDC Selection'!$C$15>=E17),IF(E20="",0,E20/1000),""),IF(E20="",0,E20/1000)) -> 0 | F35: =IF('Step 0 NDC Selection'!$C$10="Ex post", IF(AND('Step 0 NDC Selection'!$C$13<=F17,'Step 0 NDC Selection'!$C$15>=F17),IF(F20="",0,F20/1000),""),IF(F20="",0,F20/1000)) -> 0 | G35: =IF('Step 0 NDC Selection'!$C$10="Ex post", IF(AND('Step 0 NDC Selection'!$C$13<=G17,'Step 0 NDC Selection'!$C$15>=G17),IF(G20="",0,G20/1000),""),IF(G20="",0,G20/1000)) -> 0 | H35: =IF('Step 0 NDC Selection'!$C$10="Ex post", IF(AND('Step 0 NDC Selection'!$C$13<=H17,'Step 0 NDC Selection'!$C$15>=H17),IF(H20="",0,H20/1000),""),IF(H20="",0,H20/1000)) -> 0 | I35: =IF('Step 0 NDC Selection'!$C$10="Ex post", IF(AND('Step 0 NDC Selection'!$C$13<=I17,'Step 0 NDC Selection'!$C$15>=I17),IF(I20="",0,I20/1000),""),IF(I20="",0,I20/1000)) -> 0 | J35: =IF('Step 0 NDC Selection'!$C$10="Ex post", IF(AND('Step 0 NDC Selection'!$C$13<=J17,'Step 0 NDC Selection'!$C$15>=J17),IF(J20="",0,J20/1000),""),IF(J20="",0,J20/1000)) -> 0 | ... Q35: =IF('Step 0 NDC Selection'!$C$10="Ex post", IF(AND('Step 0 NDC Selection'!$C$13<=Q17,'Step 0 NDC Selection'!$C$15>=Q17),IF(Q20="",0,Q20/1000),""),IF(Q20="",0,Q20/1000)) -> 0
B36: Net annual quantity of ITMOs | C36: =IF('Step 0 NDC Selection'!$C$10="Ex post", IF(AND('Step 0 NDC Selection'!$C$13<=C17,'Step 0 NDC Selection'!$C$15>=C17),IF(C21="",0,C21/1000),""),IF(C21="",0,C21/1000)) -> 0 | D36: =IF('Step 0 NDC Selection'!$C$10="Ex post", IF(AND('Step 0 NDC Selection'!$C$13<=D17,'Step 0 NDC Selection'!$C$15>=D17),IF(D21="",0,D21/1000),""),IF(D21="",0,D21/1000)) -> 0 | E36: =IF('Step 0 NDC Selection'!$C$10="Ex post", IF(AND('Step 0 NDC Selection'!$C$13<=E17,'Step 0 NDC Selection'!$C$15>=E17),IF(E21="",0,E21/1000),""),IF(E21="",0,E21/1000)) -> 0 | F36: =IF('Step 0 NDC Selection'!$C$10="Ex post", IF(AND('Step 0 NDC Selection'!$C$13<=F17,'Step 0 NDC Selection'!$C$15>=F17),IF(F21="",0,F21/1000),""),IF(F21="",0,F21/1000)) -> 0 | G36: =IF('Step 0 NDC Selection'!$C$10="Ex post", IF(AND('Step 0 NDC Selection'!$C$13<=G17,'Step 0 NDC Selection'!$C$15>=G17),IF(G21="",0,G21/1000),""),IF(G21="",0,G21/1000)) -> 0 | H36: =IF('Step 0 NDC Selection'!$C$10="Ex post", IF(AND('Step 0 NDC Selection'!$C$13<=H17,'Step 0 NDC Selection'!$C$15>=H17),IF(H21="",0,H21/1000),""),IF(H21="",0,H21/1000)) -> 0 | I36: =IF('Step 0 NDC Selection'!$C$10="Ex post", IF(AND('Step 0 NDC Selection'!$C$13<=I17,'Step 0 NDC Selection'!$C$15>=I17),IF(I21="",0,I21/1000),""),IF(I21="",0,I21/1000)) -> 0 | J36: =IF('Step 0 NDC Selection'!$C$10="Ex post", IF(AND('Step 0 NDC Selection'!$C$13<=J17,'Step 0 NDC Selection'!$C$15>=J17),IF(J21="",0,J21/1000),""),IF(J21="",0,J21/1000)) -> 0 | ... Q36: =IF('Step 0 NDC Selection'!$C$10="Ex post", IF(AND('Step 0 NDC Selection'!$C$13<=Q17,'Step 0 NDC Selection'!$C$15>=Q17),IF(Q21="",0,Q21/1000),""),IF(Q21="",0,Q21/1000)) -> 0
B37: Total quantitative corresponding adjustments used | C37: =IF('Step 0 NDC Selection'!$C$10="Ex post", IF(AND('Step 0 NDC Selection'!$C$13<=C17,'Step 0 NDC Selection'!$C$15>=C17),IF(C22="",0,C22/1000),""),IF(C22="",0,C22/1000)) -> 0 | D37: =IF('Step 0 NDC Selection'!$C$10="Ex post", IF(AND('Step 0 NDC Selection'!$C$13<=D17,'Step 0 NDC Selection'!$C$15>=D17),IF(D22="",0,D22/1000),""),IF(D22="",0,D22/1000)) -> 0 | E37: =IF('Step 0 NDC Selection'!$C$10="Ex post", IF(AND('Step 0 NDC Selection'!$C$13<=E17,'Step 0 NDC Selection'!$C$15>=E17),IF(E22="",0,E22/1000),""),IF(E22="",0,E22/1000)) -> 0 | F37: =IF('Step 0 NDC Selection'!$C$10="Ex post", IF(AND('Step 0 NDC Selection'!$C$13<=F17,'Step 0 NDC Selection'!$C$15>=F17),IF(F22="",0,F22/1000),""),IF(F22="",0,F22/1000)) -> 0 | G37: =IF('Step 0 NDC Selection'!$C$10="Ex post", IF(AND('Step 0 NDC Selection'!$C$13<=G17,'Step 0 NDC Selection'!$C$15>=G17),IF(G22="",0,G22/1000),""),IF(G22="",0,G22/1000)) -> 0 | H37: =IF('Step 0 NDC Selection'!$C$10="Ex post", IF(AND('Step 0 NDC Selection'!$C$13<=H17,'Step 0 NDC Selection'!$C$15>=H17),IF(H22="",0,H22/1000),""),IF(H22="",0,H22/1000)) -> 0 | I37: =IF('Step 0 NDC Selection'!$C$10="Ex post", IF(AND('Step 0 NDC Selection'!$C$13<=I17,'Step 0 NDC Selection'!$C$15>=I17),IF(I22="",0,I22/1000),""),IF(I22="",0,I22/1000)) -> 0 | J37: =IF('Step 0 NDC Selection'!$C$10="Ex post", IF(AND('Step 0 NDC Selection'!$C$13<=J17,'Step 0 NDC Selection'!$C$15>=J17),IF(J22="",0,J22/1000),""),IF(J22="",0,J22/1000)) -> 0 | ... Q37: =IF('Step 0 NDC Selection'!$C$10="Ex post", IF(AND('Step 0 NDC Selection'!$C$13<=Q17,'Step 0 NDC Selection'!$C$15>=Q17),IF(Q22="",0,Q22/1000),""),IF(Q22="",0,Q22/1000)) -> 0
B38: Annual quantity of mitigation outcomes authorized for use for other international mitigation purposes and entities authorized to use such mitigation outcomes | C38: =IF('Step 0 NDC Selection'!$C$10="Ex post", IF(AND('Step 0 NDC Selection'!$C$13<=C17,'Step 0 NDC Selection'!$C$15>=C17),IF(C23="",0,C23/1000),""),IF(C23="",0,C23/1000)) -> 0 | D38: =IF('Step 0 NDC Selection'!$C$10="Ex post", IF(AND('Step 0 NDC Selection'!$C$13<=D17,'Step 0 NDC Selection'!$C$15>=D17),IF(D23="",0,D23/1000),""),IF(D23="",0,D23/1000)) -> 0 | E38: =IF('Step 0 NDC Selection'!$C$10="Ex post", IF(AND('Step 0 NDC Selection'!$C$13<=E17,'Step 0 NDC Selection'!$C$15>=E17),IF(E23="",0,E23/1000),""),IF(E23="",0,E23/1000)) -> 0 | F38: =IF('Step 0 NDC Selection'!$C$10="Ex post", IF(AND('Step 0 NDC Selection'!$C$13<=F17,'Step 0 NDC Selection'!$C$15>=F17),IF(F23="",0,F23/1000),""),IF(F23="",0,F23/1000)) -> 0 | G38: =IF('Step 0 NDC Selection'!$C$10="Ex post", IF(AND('Step 0 NDC Selection'!$C$13<=G17,'Step 0 NDC Selection'!$C$15>=G17),IF(G23="",0,G23/1000),""),IF(G23="",0,G23/1000)) -> 0 | H38: =IF('Step 0 NDC Selection'!$C$10="Ex post", IF(AND('Step 0 NDC Selection'!$C$13<=H17,'Step 0 NDC Selection'!$C$15>=H17),IF(H23="",0,H23/1000),""),IF(H23="",0,H23/1000)) -> 0 | I38: =IF('Step 0 NDC Selection'!$C$10="Ex post", IF(AND('Step 0 NDC Selection'!$C$13<=I17,'Step 0 NDC Selection'!$C$15>=I17),IF(I23="",0,I23/1000),""),IF(I23="",0,I23/1000)) -> 0 | J38: =IF('Step 0 NDC Selection'!$C$10="Ex post", IF(AND('Step 0 NDC Selection'!$C$13<=J17,'Step 0 NDC Selection'!$C$15>=J17),IF(J23="",0,J23/1000),""),IF(J23="",0,J23/1000)) -> 0 | ... Q38: =IF('Step 0 NDC Selection'!$C$10="Ex post", IF(AND('Step 0 NDC Selection'!$C$13<=Q17,'Step 0 NDC Selection'!$C$15>=Q17),IF(Q23="",0,Q23/1000),""),IF(Q23="",0,Q23/1000)) -> 0

Sheet Step 4 Calculating CA 
B2: =IF(COUNT('Step 3 Article 6 Information'!$C$18:$Q$20,'Step 3 Article 6 Information'!$C$23:$Q$23)=0,"Not applicable as there is no Article 6 information in Step 3","") -> Not applicable as there is no Article 6 information in Step 3
B4: Step 4: Calculating Corresponding Adjustments (CA)
J5: =IF('Step 0 NDC Selection'!C10="Ex ante",_xlfn._LONGTEXT("The document is now in 'Projection mode' as the user selected 'Ex ante' on Step 0, hence this Corresponding Adjustment calculation is the result of the planning exercise, which allows the user to look at possible scenarios. For reporting purposes, please ","delete current data in steps 0-3 and, on Step 0, select 'Ex post'"),"")
B7: In this step, user can view the calculated corresponding adjustments and the resulting adjusted emissions balance. Users do not need to manually enter any information in this step, as all values are either automatically calculated by the tool or imported from previous steps.
B9: Note: all values are in ktCO2e
B10: Unit: kt CO2 eq.
B11: Calculating CA for NDC with Base Year (Method for CA: Averaging Approach)
B13: Year | C13: 2021 | D13: 2022 | E13: 2023 | F13: 2024 | G13: 2025 | H13: 2026 | I13: 2027 | J13: 2028 | K13: 2029 | L13: 2030 | M13: 2031 | N13: 2032 | O13: 2033 | P13: 2034 | Q13: 2035
B14: A. Year Count | C14: =IF(C18="","",COUNTA(C18)) | D14: =IF(D18="","",COUNTA(D18)) | E14: =IF(E18="","",COUNTA(E18)) | F14: =IF(F18="","",COUNTA(F18)) | G14: =IF(G18="","",COUNTA(G18)) | H14: =IF(H18="","",COUNTA(H18)) | I14: =IF(I18="","",COUNTA(I18)) | J14: =IF(J18="","",COUNTA(J18)) | ... Q14: =IF(Q18="","",COUNTA(Q18))
B15: B. Net ITMO Transfers for each year | C15: =IF(AND('Step 0 NDC Selection'!$C$10="Ex post",OR(C13>'Step 0 NDC Selection'!$C$15,C13>'Step 0 NDC Selection'!$C$14,C13<'Step 0 NDC Selection'!$C$13)),"",IF('Step 0 NDC Selection'!$C$17="Base Year",IF('Step 0 NDC Selection'!C19="Yes",IF('Step 2 GHG Data'!C16="","",'Step 3 Article 6 Information'!C36),IF('Step 0 NDC Selection'!C19="No",IF('Step 2 GHG Data'!C17="","",'Step 3 Article 6 Information'!C36),"")),"")) | D15: =IF(AND('Step 0 NDC Selection'!$C$10="Ex post",OR(D13>'Step 0 NDC Selection'!$C$15,D13>'Step 0 NDC Selection'!$C$14,D13<'Step 0 NDC Selection'!$C$13)),"",IF('Step 0 NDC Selection'!$C$17="Base Year",IF('Step 0 NDC Selection'!C19="Yes",IF('Step 2 GHG Data'!D16="","",'Step 3 Article 6 Information'!D36),IF('Step 0 NDC Selection'!C19="No",IF('Step 2 GHG Data'!D17="","",'Step 3 Article 6 Information'!D36),"")),"")) | E15: =IF(AND('Step 0 NDC Selection'!$C$10="Ex post",OR(E13>'Step 0 NDC Selection'!$C$15,E13>'Step 0 NDC Selection'!$C$14,E13<'Step 0 NDC Selection'!$C$13)),"",IF('Step 0 NDC Selection'!$C$17="Base Year", IF('Step 0 NDC Selection'!C19="Yes",IF('Step 2 GHG Data'!E16="","",'Step 3 Article 6 Information'!E36),IF('Step 0 NDC Selection'!C19="No",IF('Step 2 GHG Data'!E17="","",'Step 3 Article 6 Information'!E36),"")),"")) | F15: =IF(AND('Step 0 NDC Selection'!$C$10="Ex post",OR(F13>'Step 0 NDC Selection'!$C$15,F13>'Step 0 NDC Selection'!$C$14,F13<'Step 0 NDC Selection'!$C$13)),"",IF('Step 0 NDC Selection'!$C$17="Base Year", IF('Step 0 NDC Selection'!C19="Yes",IF('Step 2 GHG Data'!F16="","",'Step 3 Article 6 Information'!F36),IF('Step 0 NDC Selection'!C19="No",IF('Step 2 GHG Data'!F17="","",'Step 3 Article 6 Information'!F36),"")),"")) | G15: =IF(AND('Step 0 NDC Selection'!$C$10="Ex post",OR(G13>'Step 0 NDC Selection'!$C$15,G13>'Step 0 NDC Selection'!$C$14,G13<'Step 0 NDC Selection'!$C$13)),"",IF('Step 0 NDC Selection'!$C$17="Base Year",IF('Step 0 NDC Selection'!C19="Yes",IF('Step 2 GHG Data'!G16="","",'Step 3 Article 6 Information'!G36),IF('Step 0 NDC Selection'!C19="No",IF('Step 2 GHG Data'!G17="","",'Step 3 Article 6 Information'!G36),"")),"")) | H15: =IF(AND('Step 0 NDC Selection'!$C$10="Ex post",OR(H13>'Step 0 NDC Selection'!$C$15,H13>'Step 0 NDC Selection'!$C$14,H13<'Step 0 NDC Selection'!$C$13)),"",IF('Step 0 NDC Selection'!$C$17="Base Year", IF('Step 0 NDC Selection'!C19="Yes",IF('Step 2 GHG Data'!H16="","",'Step 3 Article 6 Information'!H36),IF('Step 0 NDC Selection'!C19="No",IF('Step 2 GHG Data'!H17="","",'Step 3 Article 6 Information'!H36),"")),"")) | I15: =IF(AND('Step 0 NDC Selection'!$C$10="Ex post",OR(I13>'Step 0 NDC Selection'!$C$15,I13>'Step 0 NDC Selection'!$C$14,I13<'Step 0 NDC Selection'!$C$13)),"",IF('Step 0 NDC Selection'!$C$17="Base Year", IF('Step 0 NDC Selection'!C19="Yes",IF('Step 2 GHG Data'!I16="","",'Step 3 Article 6 Information'!I36),IF('Step 0 NDC Selection'!C19="No",IF('Step 2 GHG Data'!I17="","",'Step 3 Article 6 Information'!I36),"")),"")) | J15: =IF(AND('Step 0 NDC Selection'!$C$10="Ex post",OR(J13>'Step 0 NDC Selection'!$C$15,J13>'Step 0 NDC Selection'!$C$14,J13<'Step 0 NDC Selection'!$C$13)),"",IF('Step 0 NDC Selection'!$C$17="Base Year",IF('Step 0 NDC Selection'!C19="Yes",IF('Step 2 GHG Data'!J16="","",'Step 3 Article 6 Information'!J36),IF('Step 0 NDC Selection'!C19="No",IF('Step 2 GHG Data'!J17="","",'Step 3 Article 6 Information'!J36),"")),"")) | K15: =IF(AND('Step 0 NDC Selection'!$C$10="Ex post",OR(K13>'Step 0 NDC Selection'!$C$15,K13>'Step 0 NDC Selection'!$C$14,K13<'Step 0 NDC Selection'!$C$13)),"",IF('Step 0 NDC Selection'!$C$17="Base Year",IF('Step 0 NDC Selection'!C19="Yes",IF('Step 2 GHG Data'!K16="","",'Step 3 Article 6 Information'!K36),IF('Step 0 NDC Selection'!C19="No",IF('Step 2 GHG Data'!K17="","",'Step 3 Article 6 Information'!K36),"")),"")) | L15: =IF(AND('Step 0 NDC Selection'!$C$10="Ex post",OR(L13>'Step 0 NDC Selection'!$C$15,L13>'Step 0 NDC Selection'!$C$14,L13<'Step 0 NDC Selection'!$C$13)),"",IF('Step 0 NDC Selection'!$C$17="Base Year",IF('Step 0 NDC Selection'!C19="Yes",IF('Step 2 GHG Data'!L16="","",'Step 3 Article 6 Information'!L36),IF('Step 0 NDC Selection'!C19="No",IF('Step 2 GHG Data'!L17="","",'Step 3 Article 6 Information'!L36),"")),"")) | M15: =IF(AND('Step 0 NDC Selection'!$C$10="Ex post",OR(M13>'Step 0 NDC Selection'!$C$15,M13>'Step 0 NDC Selection'!$C$14,M13<'Step 0 NDC Selection'!$C$13)),"",IF('Step 0 NDC Selection'!$C$17="Base Year",IF('Step 0 NDC Selection'!C19="Yes",IF('Step 2 GHG Data'!M16="","",'Step 3 Article 6 Information'!M36),IF('Step 0 NDC Selection'!C19="No",IF('Step 2 GHG Data'!M17="","",'Step 3 Article 6 Information'!M36),"")),"")) | N15: =IF(AND('Step 0 NDC Selection'!$C$10="Ex post",OR(N13>'Step 0 NDC Selection'!$C$15,N13>'Step 0 NDC Selection'!$C$14,N13<'Step 0 NDC Selection'!$C$13)),"",IF('Step 0 NDC Selection'!$C$17="Base Year",IF('Step 0 NDC Selection'!C19="Yes",IF('Step 2 GHG Data'!N16="","",'Step 3 Article 6 Information'!N36),IF('Step 0 NDC Selection'!C19="No",IF('Step 2 GHG Data'!N17="","",'Step 3 Article 6 Information'!N36),"")),"")) | O15: =IF(AND('Step 0 NDC Selection'!$C$10="Ex post",OR(O13>'Step 0 NDC Selection'!$C$15,O13>'Step 0 NDC Selection'!$C$14,O13<'Step 0 NDC Selection'!$C$13)),"",IF('Step 0 NDC Selection'!$C$17="Base Year",IF('Step 0 NDC Selection'!C19="Yes",IF('Step 2 GHG Data'!O16="","",'Step 3 Article 6 Information'!O36),IF('Step 0 NDC Selection'!C19="No",IF('Step 2 GHG Data'!O17="","",'Step 3 Article 6 Information'!O36),"")),"")) | P15: =IF(AND('Step 0 NDC Selection'!$C$10="Ex post",OR(P13>'Step 0 NDC Selection'!$C$15,P13>'Step 0 NDC Selection'!$C$14,P13<'Step 0 NDC Selection'!$C$13)),"",IF('Step 0 NDC Selection'!$C$17="Base Year",IF('Step 0 NDC Selection'!C19="Yes",IF('Step 2 GHG Data'!P16="","",'Step 3 Article 6 Information'!P36),IF('Step 0 NDC Selection'!C19="No",IF('Step 2 GHG Data'!P17="","",'Step 3 Article 6 Information'!P36),"")),"")) | Q15: =IF(AND('Step 0 NDC Selection'!$C$10="Ex post",OR(Q13>'Step 0 NDC Selection'!$C$15,Q13>'Step 0 NDC Selection'!$C$14,Q13<'Step 0 NDC Selection'!$C$13)),"",IF('Step 0 NDC Selection'!$C$17="Base Year",IF('Step 0 NDC Selection'!C19="Yes",IF('Step 2 GHG Data'!Q16="","",'Step 3 Article 6 Information'!Q36),IF('Step 0 NDC Selection'!C19="No",IF('Step 2 GHG Data'!Q17="","",'Step 3 Article 6 Information'!Q36),"")),""))
B16: C. Cumulated ITMO Transferred | C16: =C15 | D16: =IF(D15="","",IF(C16="",D15,C16+D15)) | E16: =IF(E15="","",IF(D16="",E15,D16+E15)) | F16: =IF(F15="","",IF(E16="",F15,E16+F15)) | G16: =IF(G15="","",IF(F16="",G15,F16+G15)) | H16: =IF(H15="","",IF(G16="",H15,G16+H15)) | I16: =IF(I15="","",IF(H16="",I15,H16+I15)) | J16: =IF(J15="","",IF(I16="",J15,I16+J15)) | K16: =IF(K15="","",IF(J16="",K15,J16+K15)) | ... Q16: =IF(Q15="","",IF(P16="",Q15,P16+Q15))
B17: D. Corresponding Adjustment Made | C17: =IF(C16="","",SUM($C$15:$Q$15)/SUM($C$14:Q14)) | D17: =IF(D16="","",SUM($C$15:$Q$15)/SUM($C$14:Q14)) | E17: =IF(E16="","",SUM($C$15:$Q$15)/SUM($C$14:Q14)) | F17: =IF(F16="","",SUM($C$15:$Q$15)/SUM($C$14:Q14)) | G17: =IF(G16="","",SUM($C$15:$Q$15)/SUM($C$14:Q14)) | H17: =IF(H16="","",SUM($C$15:$Q$15)/SUM($C$14:Q14)) | I17: =IF(I16="","",SUM($C$15:$Q$15)/SUM($C$14:Q14)) | J17: =IF(J16="","",SUM($C$15:$Q$15)/SUM($C$14:Q14)) | K17: =IF(K16="","",SUM($C$15:$Q$15)/SUM($C$14:Q14)) | L17: =IF(L16="","",SUM($C$15:$Q$15)/SUM($C$14:Q14)) | M17: =IF(M16="","",SUM($C$15:$Q$15)/SUM($C$14:Q14)) | N17: =IF(N16="","",SUM($C$15:$Q$15)/SUM($C$14:Q14)) | O17: =IF(O16="","",SUM($C$15:$Q$15)/SUM($C$14:Q14)) | P17: =IF(P16="","",SUM($C$15:$Q$15)/SUM($C$14:Q14)) | Q17: =IF(Q16="","",SUM($C$15:$Q$15)/SUM($C$14:Q14))
B18: E. Gross Emissions | C18: =IF(AND('Step 0 NDC Selection'!$C$10="Ex post",OR(C13>'Step 0 NDC Selection'!$C$15,C13>'Step 0 NDC Selection'!$C$14,C13<'Step 0 NDC Selection'!$C$13)),"",IF('Step 0 NDC Selection'!$C$17="Base Year",IF('Step 0 NDC Selection'!$C$19="No",IF('Step 2 GHG Data'!C17="","",'Step 2 GHG Data'!C17),IF('Step 0 NDC Selection'!$C$19="Yes",IF('Step 2 GHG Data'!C16="","",'Step 2 GHG Data'!C16),"")),"")) | D18: =IF(AND('Step 0 NDC Selection'!$C$10="Ex post",OR(D13>'Step 0 NDC Selection'!$C$15,D13>'Step 0 NDC Selection'!$C$14,D13<'Step 0 NDC Selection'!$C$13)),"",IF('Step 0 NDC Selection'!$C$17="Base Year",IF('Step 0 NDC Selection'!$C$19="No",IF('Step 2 GHG Data'!D17="","",'Step 2 GHG Data'!D17),IF('Step 0 NDC Selection'!$C$19="Yes",IF('Step 2 GHG Data'!D16="","",'Step 2 GHG Data'!D16),"")),"")) | E18: =IF(AND('Step 0 NDC Selection'!$C$10="Ex post",OR(E13>'Step 0 NDC Selection'!$C$15,E13>'Step 0 NDC Selection'!$C$14,E13<'Step 0 NDC Selection'!$C$13)),"",IF('Step 0 NDC Selection'!$C$17="Base Year",IF('Step 0 NDC Selection'!$C$19="No",IF('Step 2 GHG Data'!E17="","",'Step 2 GHG Data'!E17),IF('Step 0 NDC Selection'!$C$19="Yes",IF('Step 2 GHG Data'!E16="","",'Step 2 GHG Data'!E16),"")),"")) | F18: =IF(AND('Step 0 NDC Selection'!$C$10="Ex post",OR(F13>'Step 0 NDC Selection'!$C$15,F13>'Step 0 NDC Selection'!$C$14,F13<'Step 0 NDC Selection'!$C$13)),"",IF('Step 0 NDC Selection'!$C$17="Base Year",IF('Step 0 NDC Selection'!$C$19="No",IF('Step 2 GHG Data'!F17="","",'Step 2 GHG Data'!F17),IF('Step 0 NDC Selection'!$C$19="Yes",IF('Step 2 GHG Data'!F16="","",'Step 2 GHG Data'!F16),"")),"")) | G18: =IF(AND('Step 0 NDC Selection'!$C$10="Ex post",OR(G13>'Step 0 NDC Selection'!$C$15,G13>'Step 0 NDC Selection'!$C$14,G13<'Step 0 NDC Selection'!$C$13)),"",IF('Step 0 NDC Selection'!$C$17="Base Year",IF('Step 0 NDC Selection'!$C$19="No",IF('Step 2 GHG Data'!G17="","",'Step 2 GHG Data'!G17),IF('Step 0 NDC Selection'!$C$19="Yes",IF('Step 2 GHG Data'!G16="","",'Step 2 GHG Data'!G16),"")),"")) | H18: =IF(AND('Step 0 NDC Selection'!$C$10="Ex post",OR(H13>'Step 0 NDC Selection'!$C$15,H13>'Step 0 NDC Selection'!$C$14,H13<'Step 0 NDC Selection'!$C$13)),"",IF('Step 0 NDC Selection'!$C$17="Base Year",IF('Step 0 NDC Selection'!$C$19="No",IF('Step 2 GHG Data'!H17="","",'Step 2 GHG Data'!H17),IF('Step 0 NDC Selection'!$C$19="Yes",IF('Step 2 GHG Data'!H16="","",'Step 2 GHG Data'!H16),"")),"")) | I18: =IF(AND('Step 0 NDC Selection'!$C$10="Ex post",OR(I13>'Step 0 NDC Selection'!$C$15,I13>'Step 0 NDC Selection'!$C$14,I13<'Step 0 NDC Selection'!$C$13)),"",IF('Step 0 NDC Selection'!$C$17="Base Year",IF('Step 0 NDC Selection'!$C$19="No",IF('Step 2 GHG Data'!I17="","",'Step 2 GHG Data'!I17),IF('Step 0 NDC Selection'!$C$19="Yes",IF('Step 2 GHG Data'!I16="","",'Step 2 GHG Data'!I16),"")),"")) | J18: =IF(AND('Step 0 NDC Selection'!$C$10="Ex post",OR(J13>'Step 0 NDC Selection'!$C$15,J13>'Step 0 NDC Selection'!$C$14,J13<'Step 0 NDC Selection'!$C$13)),"",IF('Step 0 NDC Selection'!$C$17="Base Year",IF('Step 0 NDC Selection'!$C$19="No",IF('Step 2 GHG Data'!J17="","",'Step 2 GHG Data'!J17),IF('Step 0 NDC Selection'!$C$19="Yes",IF('Step 2 GHG Data'!J16="","",'Step 2 GHG Data'!J16),"")),"")) | ... Q18: =IF(AND('Step 0 NDC Selection'!$C$10="Ex post",OR(Q13>'Step 0 NDC Selection'!$C$15,Q13>'Step 0 NDC Selection'!$C$14,Q13<'Step 0 NDC Selection'!$C$13)),"",IF('Step 0 NDC Selection'!$C$17="Base Year",IF('Step 0 NDC Selection'!$C$19="No",IF('Step 2 GHG Data'!Q17="","",'Step 2 GHG Data'!Q17),IF('Step 0 NDC Selection'!$C$19="Yes",IF('Step 2 GHG Data'!Q16="","",'Step 2 GHG Data'!Q16),"")),""))
B19: F. Adjusted emission balance | C19: =IF(C18="","",C18+C17) | D19: =IF(D18="","",D18+D17) | E19: =IF(E18="","",E18+E17) | F19: =IF(F18="","",F18+F17) | G19: =IF(G18="","",G18+G17) | H19: =IF(H18="","",H18+H17) | I19: =IF(I18="","",I18+I17) | J19: =IF(J18="","",J18+J17) | ... Q19: =IF(Q18="","",Q18+Q17)
B22: Unit: kt CO2 eq.
B23: Calculating CA for NDC with BAU Scenario (Method for CA: Averaging Approach)
B25: Year | C25: 2021 | D25: 2022 | E25: 2023 | F25: 2024 | G25: 2025 | H25: 2026 | I25: 2027 | J25: 2028 | K25: 2029 | L25: 2030 | M25: 2031 | N25: 2032 | O25: 2033 | P25: 2034 | Q25: 2035
B26: A. Year Count | C26: =IF(C30="","",COUNTA(C30)) | D26: =IF(D30="","",COUNTA(D30)) | E26: =IF(E30="","",COUNTA(E30)) | F26: =IF(F30="","",COUNTA(F30)) | G26: =IF(G30="","",COUNTA(G30)) | H26: =IF(H30="","",COUNTA(H30)) | I26: =IF(I30="","",COUNTA(I30)) | J26: =IF(J30="","",COUNTA(J30)) | ... Q26: =IF(Q30="","",COUNTA(Q30))
